{"text_format":"1","workbook":"xlsx","n_sheets":26,"sheets":["Entries","Singles","RBM","RBF","RIM","RIF","RAM","RAF","BBM","BBF","BAM","BAF","CM","CF","Tables","Rec' List","Bare' List","Com' List","Mixed List","Rec' Team","Bare' Team","Com' Team","Mixed Team","Printable","Target List","Setup"],"not_rendered":{"charts":0,"images":38,"macros":1,"external_links":1,"defined_names":40,"comments":0,"pivot_tables":80},"unopened":[],"bounds":{"document_bytes":16777216,"sheet_cells":100000,"rows_first":2000,"rows_last":500,"rows_between":2000,"halvings":0,"cell_chars":16384,"cell_head_chars":4096},"cells_cut":0,"cells_raw":0,"read":"whole","date_system":"1900"}

{"sheet":"Entries","index":0,"n_rows":1000,"n_cols":11,"rows_kept":1000,"cut":false,"hidden":false,"merged":[]}
["Name","College","Gender","Bow","Level","Face","Points","IV",null,null,"List of IVs"]
[null,null,"F","Barebow","Intermediate","60cm"]
[null,null,"M","Compound","Guest","40cm"]
[null,null,null,"Recurve","Advanced","3 spot"]
[null,null,null,null,"Beginner"]
["Aaron Downes","GMIT","M","Recurve","Intermediate",null,392,"DkIT",null,null,"UL IV"]
["Aaron Downes","GMIT","M","Recurve","Intermediate",null,391,"GMIT",null,null,"DkIT IV"]
["Aaron Downes","GMIT","M","Recurve","Intermediate",null,388,"DCU",null,null,"GMIT IV"]
["Aaron Downes","GMIT","M","Recurve","Intermediate",null,330,"NUIG",null,null,"DCU IV"]
["Aaron Wong Siu Zhen","DKIT","M","Recurve","Beginner",null,393,"UL",null,null,"NUIG IV"]
["Aaron Wong Siu Zhen","DKIT","M","Recurve","Beginner",null,423,"DkIT"]
["Aaron Wong Siu Zhen","DKIT","M","Recurve","Beginner",null,279,"GMIT"]
["Aaron Wong Siu Zhen","DKIT","M","Recurve","Beginner",null,294,"NUIG",null,null,"Completed Ivs"]
["Ahmad Nasree M Khairuddin Lim","RCSI","M","Recurve","Beginner",null,372,"UL",null,null,"UL"]
["Aidan Darcy","IT Tallaght","M","Recurve","Advanced",null,401,"UL",null,null,"DkIT"]
["Aidan Darcy","IT Tallaght","M","Recurve","Advanced",null,488,"DkIT",null,null,"GMIT"]
["Aidan Darcy","IT Tallaght","M","Recurve","Advanced",null,525,"GMIT",null,null,"DCU"]
["Aidan Darcy","IT Tallaght","M","Recurve","Advanced",null,473,"DCU",null,null,"NUIG"]
["Aidan Darcy","IT Tallaght","M","Recurve","Advanced",null,503,"NUIG"]
["Aishling Dignam","DCU","F","Recurve","Intermediate",null,346,"DkIT",null,null,{"$f":"COUNTA(K14:K19)","v":5}]
["Aishling Dignam","DCU","F","Recurve","Intermediate",null,314,"GMIT"]
["Aishling Dignam","DCU","F","Recurve","Intermediate",null,359,"DCU"]
["Aishling Dignam","DCU","F","Recurve","Intermediate",null,398,"NUIG"]
["Alessandra Pennesi","NUIG","F","Barebow","Beginner",null,211,"GMIT"]
["Amy Garde","UCC","F","Barebow","Beginner",null,289,"NUIG"]
["Andrew Fahey","GMIT","M","Barebow","Beginner",null,391,"DkIT"]
["Andrew Fahey","GMIT","M","Barebow","Beginner",null,439,"GMIT"]
["Andrew Fahey","GMIT","M","Barebow","Beginner",null,307,"DCU"]
["Andrew Fahey","GMIT","M","Barebow","Beginner",null,360,"NUIG"]
["Andrew Fahey","GMIT","M","Barebow","Beginner",null,393,"UL"]
["Andrew Fairbrother","UCD","M","Barebow","Beginner",null,121,"UL"]
["Andrew Neville","UU","M","Recurve","Beginner",null,380,"GMIT"]
["Andrew Neville","UU","M","Recurve","Beginner",null,365,"DCU"]
["Andrew Warrington","GMITC","M","Barebow","Advanced",null,306,"UL"]
["Andrew Warrington","GMITC","M","Barebow","Advanced",null,274,"GMIT"]
["Andrew Warrington","GMITC","M","Barebow","Advanced",null,321,"NUIG"]
["Andy Canavan","DCU","M","Recurve","Intermediate",null,429,"UL"]
["Andy Canavan","DCU","M","Recurve","Intermediate",null,400,"DkIT"]
["Anke Jaeger","NUIG","F","Barebow","Beginner",null,250,"DkIT"]
["Anna Bergert","DKIT","F","Recurve","Beginner",null,383,"DkIT"]
["Aoife Monaghan","GMIT","F","Barebow","Advanced",null,156,"DCU"]
["Aoife Monaghan","GMIT","F","Barebow","Advanced",null,307,"NUIG"]
["Aonghus Condren","UCD","M","Recurve","Beginner",null,387,"DkIT"]
["Apoorva Kashyap","UU","F","Recurve","Beginner",null,200,"DCU"]
["Artem Semenov","UL","M","Recurve","Beginner",null,405,"NUIG"]
["Asia Tayyab","GMIT","F","Recurve","Beginner",null,330,"UL"]
["Asia Tayyab","GMIT","F","Recurve","Beginner",null,283,"DkIT"]
["Asia Tayyab","GMIT","F","Recurve","Beginner",null,376,"GMIT"]
["Asia Tayyab","GMIT","F","Recurve","Beginner",null,407,"DCU"]
["Asia Tayyab","GMIT","F","Recurve","Beginner",null,278,"NUIG"]
["Azeem Mohd Elias","UCD","M","Recurve","Beginner",null,335,"UL"]
["Bernard O'Connor","DCU","M","Barebow","Advanced",null,411,"DkIT"]
["Bernard O'Connor","DCU","M","Barebow","Advanced",null,326,"UL"]
["Bernard O'Connor","DCU","M","Barebow","Advanced",null,403,"GMIT"]
["Bernard O'Connor","DCU","M","Barebow","Advanced",null,379,"DCU"]
["Bernard O'Connor","DCU","M","Barebow","Advanced",null,404,"NUIG"]
["Beth Freeman","DCU","F","Compound","Advanced",null,494,"UL"]
["Beth Freeman","DCU","F","Compound","Advanced",null,517,"DkIT"]
["Beth Freeman","DCU","F","Compound","Advanced",null,526,"DCU"]
["Beth Freeman","DCU","F","Compound","Advanced",null,517,"NUIG"]
["Blair Flinn","UCD","M","Barebow","Beginner",null,267,"UL"]
["Brendan Browne","GMIT","M","Compound","Advanced",null,532,"UL"]
["Brendan Browne","GMIT","M","Compound","Advanced",null,548,"GMIT"]
["Brendan Browne","GMIT","M","Compound","Advanced",null,545,"DCU"]
["Brendan Browne","GMIT","M","Compound","Advanced",null,547,"NUIG"]
["Brendan Forde","DIT","M","Recurve","Advanced",null,509,"UL"]
["Brendan Forde","DIT","M","Recurve","Advanced",null,506,"DkIT"]
["Brendan Forde","DIT","M","Recurve","Advanced",null,515,"GMIT"]
["Brendan Forde","DIT","M","Recurve","Advanced",null,513,"DCU"]
["Brendan Forde","DIT","M","Recurve","Advanced",null,512,"NUIG"]
["Brendan McManus","DCU","M","Recurve","Intermediate",null,471,"UL"]
["Brendan McManus","DCU","M","Recurve","Intermediate",null,443,"DkIT"]
["Brendan McManus","DCU","M","Recurve","Intermediate",null,402,"DCU"]
["Brendan McManus","DCU","M","Recurve","Intermediate",null,496,"NUIG"]
["Brendan O'Sullivan","UCC","M","Recurve","Beginner",null,483,"UL"]
["Brendan O'Sullivan","UCC","M","Recurve","Beginner",null,447,"DCU"]
["Brendan O'Sullivan","UCC","M","Recurve","Beginner",null,413,"NUIG"]
["Brian Conroy","UCC","M","Recurve","Intermediate",null,293,"GMIT"]
["Brian Conroy","UCC","M","Recurve","Intermediate",null,366,"NUIG"]
["Brian McDonagh ITT","IT Tallaght","M","Barebow","Beginner",null,205,"UL"]
["Brian McDonagh ITT","IT Tallaght","M","Barebow","Beginner",null,308,"GMIT"]
["Brian McDonagh ITT","IT Tallaght","M","Barebow","Beginner",null,283,"DCU"]
["Brian McDonagh ITT","IT Tallaght","M","Barebow","Beginner",null,313,"NUIG"]
["Brian McDonagh MU","MU","M","Barebow","Beginner",null,430,"DCU"]
["Brian Swayne","UCC","M","Recurve","Beginner",null,378,"UL"]
["Brian Swayne","UCC","M","Recurve","Beginner",null,448,"GMIT"]
["Brian Swayne","UCC","M","Recurve","Beginner",null,455,"DCU"]
["Bronwyn Berkeley","DUAC","F","Recurve","Beginner",null,121,"DkIT"]
["Bruna Duarte","DIT","F","Recurve","Beginner",null,303,"DCU"]
["Bruna Duarte","DIT","F","Recurve","Beginner",null,421,"NUIG"]
["Bruna Mota","UCD","F","Recurve","Beginner",null,424,"GMIT"]
["Bruna Mota","UCD","F","Recurve","Beginner",null,327,"DCU"]
["Bruna Mota","UCD","F","Recurve","Beginner",null,395,"NUIG"]
["Caoimhe Lalor","UCD","M","Recurve","Beginner",null,168,"DCU"]
["Carl Byrne","NUIG","M","Compound","Advanced",null,560,"GMIT"]
["Carl McCaffery","UCD","M","Recurve","Advanced",null,522,"UL"]
["Carl McCaffery","UCD","M","Recurve","Advanced",null,517,"DkIT"]
["Carl McCaffery","UCD","M","Recurve","Advanced",null,529,"GMIT"]
["Carl McCaffery","UCD","M","Recurve","Advanced",null,528,"DCU"]
["Carl McCaffery","UCD","M","Recurve","Advanced",null,503,"NUIG"]
["Carla Reinhardt","UCC","F","Recurve","Beginner",null,266,"UL"]
["Carla Reinhardt","UCC","F","Recurve","Beginner",null,424,"GMIT"]
["Carla Reinhardt","UCC","F","Recurve","Beginner",null,399,"DCU"]
["Carla Reinhardt","UCC","F","Recurve","Beginner",null,392,"NUIG"]
["Caroline Clarke","GMITC","F","Barebow","Beginner",null,283,"UL"]
["Caroline Clarke","GMITC","F","Barebow","Beginner",null,167,"GMIT"]
["Caroline Clarke","GMITC","F","Barebow","Beginner",null,181,"DCU"]
["Caroline Clarke","GMITC","F","Barebow","Beginner",null,260,"NUIG"]
["Casey Patmore","UCD","M","Recurve","Beginner",null,261,"DkIT"]
["Charles O'Dowd","UCD","M","Recurve","Intermediate",null,423,"UL"]
["Charles O'Dowd","UCD","M","Recurve","Intermediate",null,414,"DkIT"]
["Charles O'Dowd","UCD","M","Recurve","Intermediate",null,482,"GMIT"]
["Charles O'Dowd","UCD","M","Recurve","Intermediate",null,435,"DCU"]
["Charles O'Dowd","UCD","M","Recurve","Intermediate",null,465,"NUIG"]
["Charlotte Lokko","MU","F","Barebow","Beginner",null,206,"UL"]
["Charlotte Lokko","MU","F","Barebow","Beginner",null,275,"DkIT"]
["Charlotte Lokko","MU","F","Barebow","Beginner",null,306,"GMIT"]
["Charlotte Lokko","MU","F","Barebow","Beginner",null,267,"DCU"]
["Chris O'Leary","UCC","M","Recurve","Intermediate",null,390,"DCU"]
["Chris O'Leary","UCC","M","Recurve","Intermediate",null,411,"NUIG"]
["Chris Riddell","NUIG","M","Recurve","Beginner",null,386,"DkIT"]
["Chris Riddell","NUIG","M","Recurve","Beginner",null,434,"DCU"]
["Chris Riddell","NUIG","M","Recurve","Beginner",null,314,"NUIG"]
["Christopher Ryan","NUIG","M","Compound","Advanced",null,549,"DkIT"]
["Christopher Ryan","NUIG","M","Compound","Advanced",null,561,"NUIG"]
["Christo Pretorious","DUAC","M","Recurve","Advanced",null,290,"DkIT"]
["Christopher Balfe","IT Tallaght","M","Barebow","Beginner",null,439,"GMIT"]
["Christopher Balfe","IT Tallaght","M","Barebow","Beginner",null,395,"DCU"]
["Christopher Balfe","IT Tallaght","M","Barebow","Beginner",null,369,"NUIG"]
["Chris Riddell","NUIG","M","Recurve","Beginner",null,342,"UL"]
["Chris Riddell","NUIG","M","Recurve","Beginner",null,328,"GMIT"]
["Christopher Ryan","NUIG","M","Compound","Advanced",null,565,"UL"]
["Charlotte Lokko","MU","F","Barebow","Beginner",null,307,"NUIG"]
["Chua Wei Kwan","DKIT","M","Recurve","Beginner",null,405,"GMIT"]
["Chua Wei Kwan","DKIT","M","Recurve","Beginner",null,439,"UL"]
["Cian Butler","DCU","M","Recurve","Intermediate",null,224,"UL"]
["Ciara Fergus","UL","F","Recurve","Intermediate",null,335,"UL"]
["Ciara Fergus","UL","F","Recurve","Intermediate",null,352,"DkIT"]
["Ciara Fergus","UL","F","Recurve","Intermediate",null,277,"GMIT"]
["Ciara Fergus","UL","F","Recurve","Intermediate",null,306,"DCU"]
["Ciara O'Sullivan","DCU","F","Recurve","Intermediate",null,443,"DkIT"]
["Ciara O'Sullivan","DCU","F","Recurve","Intermediate",null,472,"GMIT"]
["Ciara O'Sullivan","DCU","F","Recurve","Intermediate",null,411,"DCU"]
["Ciara O'Sullivan","DCU","F","Recurve","Intermediate",null,469,"NUIG"]
["Ciarán Martin","MU","M","Barebow","Beginner",null,298,"GMIT"]
["Ciarán Martin","MU","M","Barebow","Beginner",null,327,"DCU"]
["Ciarán Martin","MU","M","Barebow","Beginner",null,296,"NUIG"]
["Ciarán Martin","MU","M","Barebow","Beginner",null,380,"UL"]
["Ciarán Martin ","MU","M","Barebow","Beginner",null,413,"DkIT"]
["Cillian Byrne","DCU","M","Compound","Advanced",null,539,"GMIT"]
["Cillian Byrne","DCU","M","Compound","Advanced",null,544,"UL"]
["Cillian Byrne","DCU","M","Compound","Advanced",null,547,"DkIT"]
["Cillian Byrne","DCU","M","Compound","Advanced",null,540,"DCU"]
["Cillian Byrne","DCU","M","Compound","Advanced",null,535,"NUIG"]
["Clarke-Ng Choy-Ping","DUAC","F","Recurve","Intermediate",null,407,"DCU"]
["Conn De Barra","DUAC","M","Barebow","Beginner",null,152,"DCU"]
["Conn De Barra","DUAC","M","Barebow","Beginner",null,201,"NUIG"]
["Connor Newman","MU","M","Barebow","Beginner",null,359,"UL"]
["Connor Newman","MU","M","Recurve","Beginner",null,398,"DkIT"]
["Connor Newman","MU","M","Recurve","Beginner",null,440,"GMIT"]
["Connor Newman","MU","M","Recurve","Beginner",null,424,"DCU"]
["Connor Newman","MU","M","Recurve","Beginner",null,451,"NUIG"]
["Conor Winters","DKIT","M","Recurve","Beginner",null,455,"UL"]
["Conor McCann","GMIT","M","Recurve","Intermediate",null,435,"UL"]
["Conor McCann","GMIT","M","Recurve","Intermediate",null,256,"DkIT"]
["Conor McCann","GMIT","M","Recurve","Intermediate",null,401,"GMIT"]
["Conor McCann","GMIT","M","Recurve","Intermediate",null,398,"DCU"]
["Conor McCann","GMIT","M","Recurve","Intermediate",null,324,"NUIG"]
["Conor Moran","UL","M","Recurve","Intermediate",null,257,"DkIT"]
["Conor Ó Beoláin","NUIG","M","Barebow","Advanced",null,471,"UL"]
["Conor Ó Beoláin","NUIG","M","Barebow","Advanced",null,393,"DkIT"]
["Conor Ó Beoláin","NUIG","M","Barebow","Advanced",null,340,"DCU"]
["Conor O'Brien","UL","M","Recurve","Beginner",null,310,"UL"]
["Conor O'Brien","UL","M","Recurve","Beginner",null,287,"DkIT"]
["Conor O'Brien","UL","M","Recurve","Beginner",null,405,"GMIT"]
["Conor O'Brien","UL","M","Recurve","Beginner",null,294,"DCU"]
["Conor O'Brien","UL","M","Recurve","Beginner",null,300,"NUIG"]
["Conor Sheridan","UCD","M","Barebow","Beginner",null,299,"DCU"]
["Conor Winters","DKIT","M","Recurve","Beginner",null,488,"GMIT"]
["Conor Winters","DKIT","M","Recurve","Beginner",null,486,"DCU"]
["Conor Winters","DKIT","M","Recurve","Beginner",null,508,"NUIG"]
["Cormac Begley","DUAC","M","Barebow","Beginner",null,282,"DkIT"]
["Cormac Begley","DUAC","M","Barebow","Beginner",null,253,"GMIT"]
["Cormac Begley","DUAC","M","Barebow","Beginner",null,267,"NUIG"]
["Cormac O'Callaghan","UCC","M","Recurve","Beginner",null,397,"UL"]
["Cormac O'Callaghan","UCC","M","Recurve","Beginner",null,453,"GMIT"]
["Cormac O'Callaghan","UCC","M","Recurve","Beginner",null,452,"DCU"]
["Cormac O'Callaghan","UCC","M","Recurve","Beginner",null,466,"NUIG"]
["Dáire Healy","DUAC","M","Recurve","Advanced",null,379,"DCU"]
["Dáire Healy","DUAC","M","Recurve","Advanced",null,410,"NUIG"]
["Dáire Healy","DUAC","M","Recurve","Advanced",null,389,"DkIT"]
["Dale Burke","GMIT","M","Recurve","Advanced",null,524,"UL"]
["Dale Burke","GMIT","M","Recurve","Advanced",null,488,"DkIT"]
["Dale Burke","GMIT","M","Recurve","Advanced",null,517,"GMIT"]
["Dale Burke","GMIT","M","Recurve","Advanced",null,501,"NUIG"]
["Daniel Kelly","NUIG","M","Barebow","Advanced",null,293,"DkIT"]
["Daniel Kelly","NUIG","M","Barebow","Advanced",null,383,"GMIT"]
["Darragh Kellegher","UL","M","Recurve","Beginner",null,331,"DkIT"]
["Darragh Kellegher","UL","M","Recurve","Beginner",null,400,"UL"]
["Darragh Kellegher","UL","M","Recurve","Beginner",null,308,"DCU"]
["Darren Martyn","GMIT","M","Barebow","Beginner",null,291,"GMIT"]
["Darren Martyn","GMIT","M","Barebow","Beginner",null,440,"NUIG"]
["Darren Wallace","NUIG","M","Recurve","Advanced",null,569,"GMIT"]
["Darren Watkin","MU","M","Barebow","Beginner",null,380,"DCU"]
["Darren Watkin","MU","M","Barebow","Beginner",null,287,"DkIT"]
["David Melcher","IT Tallaght","M","Barebow","Beginner",null,285,"DkIT"]
["David Price","ITC","M","Barebow","Advanced",null,391,"UL"]
["David Price","ITC","M","Barebow","Advanced",null,403,"DkIT"]
["David Price","ITC","M","Barebow","Advanced",null,370,"GMIT"]
["Dean Lalor","DCU","M","Barebow","Advanced",null,394,"DkIT"]
["Dean Lalor","DCU","M","Barebow","Advanced",null,446,"GMIT"]
["Dean Lalor","DCU","M","Barebow","Advanced",null,469,"DCU"]
["Dean Lalor","DCU","M","Barebow","Advanced",null,437,"NUIG"]
["Dean Lalor","DCU","M","Barebow","Advanced",null,413,"UL"]
["Devon Long","UL","M","Recurve","Beginner",null,473,"UL"]
["Devon Long","UL","M","Compound","Advanced",null,520,"GMIT"]
["Devon Long","UL","M","Compound","Advanced",null,520,"DCU"]
["Diego Coyle Diez","MU","M","Recurve","Advanced",null,523,"UL"]
["Diego Coyle Diez","MU","M","Recurve","Advanced",null,486,"DkIT"]
["Diego Coyle Diez","MU","M","Recurve","Advanced",null,530,"GMIT"]
["Diego Coyle Diez","MU","M","Recurve","Advanced",null,512,"DCU"]
["Diego Coyle Diez","MU","M","Recurve","Advanced",null,524,"NUIG"]
["DJ Roche","MU","M","Recurve","Intermediate",null,306,"DkIT"]
["Domagoj Kos","UCD","M","Barebow","Beginner",null,398,"NUIG"]
["Domhnall Ò Póil","MU","M","Recurve","Beginner",null,460,"DkIT"]
["Domhnall Ò Póil","MU","M","Recurve","Beginner",null,489,"UL"]
["Domhnall Ò Póil","MU","M","Recurve","Beginner",null,511,"GMIT"]
["Domhnall Ò Póil","MU","M","Recurve","Beginner",null,468,"DCU"]
["Domhnall Ò Póil","MU","M","Recurve","Beginner",null,486,"NUIG"]
["Dylan Do Couto","DCU","M","Barebow","Beginner",null,339,"DkIT"]
["Dylan Do Couto","DCU","M","Barebow","Beginner",null,344,"DCU"]
["Eimhin Gaynor","GMIT","M","Compound","Advanced",null,559,"DCU"]
["Eimhin Gaynor","GMIT","M","Compound","Advanced",null,566,"NUIG"]
["Elliot Barry","MU","M","Barebow","Beginner",null,348,"GMIT"]
["Elliot Barry","MU","M","Barebow","Beginner",null,380,"DCU"]
["Elliot Barry","MU","M","Barebow","Beginner",null,322,"NUIG"]
["Elliot Barry","MU","M","Barebow","Beginner",null,241,"UL"]
["Elliot Barry","MU","M","Barebow","Beginner",null,337,"DkIT"]
["Ellis O'Sulliven","UCD","F","Barebow","Advanced",null,157,"DCU"]
["Emily Flanagan","NUIG","F","Barebow","Advanced",null,286,"UL"]
["Emma Goodwin","DCU","F","Recurve","Intermediate",null,375,"DkIT"]
["Emma Goodwin","DCU","F","Recurve","Intermediate",null,290,"GMIT"]
["Emma Goodwin","DCU","F","Recurve","Intermediate",null,311,"DCU"]
["Emma-Jane Doyle","IT Tallaght","F","Barebow","Beginner",null,184,"UL"]
["Emma-Jane Doyle","IT Tallaght","F","Barebow","Beginner",null,223,"GMIT"]
["Emma-Jane Doyle","IT Tallaght","F","Barebow","Beginner",null,278,"DCU"]
["Emma-Jane Doyle","IT Tallaght","F","Barebow","Beginner",null,291,"NUIG"]
["Eoin De Brit","MU","M","Barebow","Beginner",null,422,"DCU"]
["Eoin De Brit","MU","M","Barebow","Beginner",null,336,"NUIG"]
["Eoin Dwyer","GMITC","M","Barebow","Beginner",null,243,"UL"]
["Eoin Dwyer","GMITC","M","Barebow","Beginner",null,353,"DCU"]
["Eoin Dwyer","GMITC","M","Barebow","Beginner",null,188,"NUIG"]
["Eoin Hartigan","UL","M","Recurve","Intermediate",null,98,"DkIT"]
["Eric Moore","NUIG","M","Recurve","Advanced",null,399,"UL"]
["Eric Moore","NUIG","M","Recurve","Advanced",null,380,"DkIT"]
["Eric Moore","NUIG","M","Recurve","Advanced",null,322,"DCU"]
["Eric Moore","NUIG","M","Recurve","Advanced",null,384,"NUIG"]
["Eunice Kiew Ying Sing","DKIT","F","Recurve","Beginner",null,501,"UL"]
["Eunice Kiew Ying Sing","DKIT","F","Recurve","Beginner",null,486,"GMIT"]
["Eunice Kiew Ying Sing","DKIT","F","Recurve","Beginner",null,509,"DCU"]
["Eunice Kiew Ying Sing","DKIT","F","Recurve","Beginner",null,463,"NUIG"]
["Eve Kearney","DUAC","F","Recurve","Intermediate",null,273,"DkIT"]
["Eve Kearney","DUAC","F","Recurve","Intermediate",null,380,"NUIG"]
["Fiona Maguire","UCD","F","Recurve","Beginner",null,246,"GMIT"]
["Fiona Maguire","UCD","F","Recurve","Beginner",null,281,"DCU"]
["Fiona Maguire","UCD","F","Recurve","Beginner",null,371,"NUIG"]
["Frank Stafford","UL","M","Recurve","Intermediate",null,440,"UL"]
["Frank Stafford","UL","M","Recurve","Intermediate",null,432,"DkIT"]
["Frank Stafford","UL","M","Recurve","Intermediate",null,448,"GMIT"]
["Frank Stafford","UL","M","Recurve","Intermediate",null,432,"DCU"]
["Frank Stafford","UL","M","Recurve","Intermediate",null,433,"NUIG"]
["Gabrielle Zeman","NUIG","F","Barebow","Beginner",null,193,"GMIT"]
["Gabrielle Zeman","NUIG","F","Barebow","Beginner",null,429,"NUIG"]
["Gary Kelly","DCU","M","Recurve","Advanced",null,484,"UL"]
["Gary Kelly","DCU","M","Recurve","Advanced",null,480,"DkIT"]
["Gavin Munnelly","DCU","M","Barebow","Beginner",null,417,"DCU"]
["Glen Conway","IT Tallaght","M","Compound","Advanced",null,568,"UL"]
["Glen Conway","IT Tallaght","M","Compound","Advanced",null,564,"DkIT"]
["Glen Conway","IT Tallaght","M","Compound","Advanced",null,537,"GMIT"]
["Glen Conway","IT Tallaght","M","Compound","Advanced",null,565,"DCU"]
["Glen Conway","IT Tallaght","M","Compound","Advanced",null,567,"NUIG"]
["Gordon Cowpar","UCD","M","Recurve","Beginner",null,398,"DkIT"]
["Hannah Cunniffe","GMIT","F","Barebow","Beginner",null,170,"UL"]
["Hannah Cunniffe","GMIT","F","Barebow","Beginner",null,320,"DkIT"]
["Hannah Cunniffe","GMIT","F","Barebow","Beginner",null,329,"GMIT"]
["Hannah Cunniffe","GMIT","F","Barebow","Beginner",null,402,"DCU"]
["Hannah Cunniffe","GMIT","F","Barebow","Beginner",null,365,"NUIG"]
["Heather Kelly","IT Tallaght","F","Barebow","Beginner",null,118,"UL"]
["Heather Kelly","IT Tallaght","F","Barebow","Beginner",null,187,"DkIT"]
["Helen Lacey","NUIG","F","Recurve","Beginner",null,325,"UL"]
["Helen Lacey","NUIG","F","Recurve","Beginner",null,380,"DkIT"]
["Helen Lacey","NUIG","F","Recurve","Beginner",null,424,"GMIT"]
["Helen Lacey","NUIG","F","Recurve","Beginner",null,355,"DCU"]
["Helen Lacey","NUIG","F","Recurve","Beginner",null,404,"NUIG"]
["Hugh Carrol","DIT","M","Recurve","Beginner",null,285,"NUIG"]
["Hugh Farrell","MU","M","Recurve","Advanced",null,495,"UL"]
["Hugh Farrell","MU","M","Recurve","Advanced",null,495,"DkIT"]
["Hugh Farrell","MU","M","Recurve","Advanced",null,509,"GMIT"]
["Hugh Farrell","MU","M","Recurve","Advanced",null,482,"DCU"]
["Hugh Farrell","MU","M","Recurve","Advanced",null,502,"NUIG"]
["Ian Nora","UL","M","Recurve","Beginner",null,249,"UL"]
["Ines Rauch","UCD","F","Recurve","Advanced",null,481,"DkIT"]
["Ines Rauch","UCD","F","Recurve","Advanced",null,473,"GMIT"]
["Ines Rauch","UCD","F","Recurve","Advanced",null,517,"DCU"]
["Ines Rauch","UCD","F","Recurve","Advanced",null,516,"NUIG"]
["Issabele Mayumi","DCU","M","Recurve","Intermediate",null,343,"UL"]
["Issabele Mayumi","DCU","M","Recurve","Intermediate",null,338,"DCU"]
["Jack Buttery","DUAC","M","Barebow","Beginner",null,308,"GMIT"]
["Jack Buttery","DUAC","M","Barebow","Beginner",null,144,"DkIT"]
["Jack Buttery","DUAC","M","Barebow","Beginner",null,319,"NUIG"]
["Jack Deane","NUIG","M","Recurve","Beginner",null,379,"UL"]
["Jack Deane","NUIG","M","Recurve","Beginner",null,306,"DkIT"]
["Jacob Byrne","DIT","M","Recurve","Beginner",null,225,"DCU"]
["James Burke","NUIG","M","Recurve","Intermediate",null,438,"UL"]
["James Burke","NUIG","M","Recurve","Intermediate",null,465,"DkIT"]
["James Burke","NUIG","M","Recurve","Intermediate",null,459,"NUIG"]
["James Byrne ","DIT","M","Recurve","Advanced",null,479,"GMIT"]
["James Byrne ","DIT","M","Recurve","Advanced",null,481,"DCU"]
["James Byrne ","DIT","M","Recurve","Advanced",null,510,"NUIG"]
["James Byrne ","DIT","M","Recurve","Advanced",null,477,"UL"]
["James Byrne ","DIT","M","Recurve","Advanced",null,497,"DkIT"]
["James Floyd","MU","M","Compound","Advanced",null,507,"GMIT"]
["James Floyd","MU","M","Compound","Advanced",null,510,"NUIG"]
["James Greer","UCD","M","Recurve","Intermediate",null,376,"DkIT"]
["James Greer","UCD","M","Recurve","Intermediate",null,423,"NUIG"]
["Jamie McMahon","IT Tallaght","M","Barebow","Beginner",null,380,"UL"]
["Jamie McMahon","IT Tallaght","M","Barebow","Beginner",null,383,"DkIT"]
["Jamie McMahon","IT Tallaght","M","Barebow","Beginner",null,431,"GMIT"]
["Jamie McMahon","IT Tallaght","M","Barebow","Beginner",null,331,"DCU"]
["Jamie McMahon","IT Tallaght","M","Barebow","Beginner",null,271,"NUIG"]
["Jane Meehan","DKIT","F","Recurve","Beginner",null,467,"UL"]
["Jane Meehan","DKIT","F","Recurve","Beginner",null,393,"GMIT"]
["Jane Meehan","DKIT","F","Recurve","Beginner",null,424,"DCU"]
["Jane Meehan","DKIT","F","Recurve","Beginner",null,376,"NUIG"]
["Jay McCarron","GMIT","M","Barebow","Advanced",null,62,"GMIT"]
["Jen Daly","DIT","F","Recurve","Advanced",null,482,"GMIT"]
["Jen Daly","DIT","F","Recurve","Advanced",null,498,"DCU"]
["Jen Daly","DIT","F","Recurve","Advanced",null,481,"NUIG"]
["Jen Daly","DIT","F","Recurve","Advanced",null,409,"UL"]
["Jericho Siababa","DCU","M","Barebow","Advanced",null,437,"DkIT"]
["Jericho Siababa","DCU","M","Barebow","Advanced",null,465,"GMIT"]
["Jericho Siababa","DCU","M","Barebow","Advanced",null,457,"DCU"]
["Jericho Siababa","DCU","M","Barebow","Advanced",null,486,"NUIG"]
["Joao Vitor","NUIG","M","Compound","Advanced",null,380,"UL"]
["Joao Vitor","NUIG","M","Compound","Advanced",null,430,"DCU"]
["Jocelyn Yee","DKIT","F","Recurve","Advanced",null,438,"DkIT"]
["Jocelyn Yee","DKIT","F","Recurve","Advanced",null,453,"DCU"]
["Jocelyn Yee","DKIT","F","Recurve","Advanced",null,456,"NUIG"]
["John Hally","UL","M","Recurve","Advanced",null,436,"DkIT"]
["John Hally","UL","M","Recurve","Advanced",null,429,"GMIT"]
["Jonas Seesing","NUIG","M","Recurve","Beginner",null,470,"UL"]
["Jonnie Swain","UU","M","Barebow","Beginner",null,279,"NUIG"]
["Jordan McCord","UU","M","Recurve","Advanced",null,418,"DkIT"]
["Jordan McCord","UU","M","Recurve","Advanced",null,505,"GMIT"]
["Jordan McCord","UU","M","Recurve","Advanced",null,478,"DCU"]
["Jordan McCord","UU","M","Recurve","Advanced",null,496,"NUIG"]
["Jordan McMullan","UU","M","Recurve","Beginner",null,349,"DCU"]
["Joshua Tracey","DIT","M","Recurve","Intermediate",null,411,"DCU"]
["Joshua Tracey","DIT","M","Recurve","Intermediate",null,385,"NUIG"]
["Joshua Tracey","DIT","M","Recurve","Intermediate",null,427,"GMIT"]
["Joshua Tracey","DIT","M","Recurve","Intermediate",null,409,"UL"]
["Joshua Tracey","DIT","M","Recurve","Intermediate",null,378,"DkIT"]
["Judith Bell","UU","F","Recurve","Beginner",null,239,"DkIT"]
["Judith Bell","UU","F","Recurve","Beginner",null,378,"GMIT"]
["Judith Bell","UU","F","Recurve","Beginner",null,376,"DCU"]
["Judith Bell","UU","F","Recurve","Beginner",null,134,"NUIG"]
["Julia Obara","NUIG","F","Recurve","Intermediate",null,354,"UL"]
["Julia Obara","NUIG","F","Recurve","Intermediate",null,357,"GMIT"]
["Julia Obara","NUIG","F","Recurve","Intermediate",null,91,"DCU"]
["Julie Saes","NUIG","F","Barebow","Beginner",null,307,"GMIT"]
["Julie Saes","NUIG","F","Barebow","Beginner",null,451,"NUIG"]
["Katie Doyle","UCD","F","Recurve","Intermediate",null,435,"UL"]
["Katie Doyle","UCD","F","Recurve","Intermediate",null,436,"DCU"]
["Katie Doyle","UCD","F","Recurve","Intermediate",null,464,"NUIG"]
["Katie Kruse","NUIG","F","Barebow","Beginner",null,303,"GMIT"]
["Katie Kruse","NUIG","F","Barebow","Beginner",null,262,"DCU"]
["Katie Kruse","NUIG","F","Barebow","Beginner",null,421,"NUIG"]
["Kelvin Yee","DKIT","M","Recurve","Intermediate",null,412,"DkIT"]
["Kelvin Yee","DKIT","M","Recurve","Intermediate",null,428,"DCU"]
["Kerrie Leonard","MU","F","Compound","Advanced",null,537,"UL"]
["Kevin Kok Zhi Hao","DKIT","M","Recurve","Advanced",null,499,"UL"]
["Kevin Kok Zhi Hao","DKIT","M","Recurve","Advanced",null,510,"DkIT"]
["Kevin Kok Zhi Hao","DKIT","M","Recurve","Advanced",null,458,"GMIT"]
["Kevin Kok Zhi Hao","DKIT","M","Recurve","Advanced",null,495,"DCU"]
["Kevin Kok Zhi Hao","DKIT","M","Recurve","Advanced",null,496,"NUIG"]
["Kieran Cullinane","NUIG","M","Recurve","Intermediate",null,482,"UL"]
["Kristian Bongo","DIT","M","Recurve","Intermediate",null,381,"UL"]
["Kristian Bongo","DIT","M","Recurve","Intermediate",null,412,"DkIT"]
["Kristian Bongo","DIT","M","Recurve","Intermediate",null,440,"GMIT"]
["Kristian Bongo","DIT","M","Recurve","Intermediate",null,405,"DCU"]
["Kristian Bongo","DIT","M","Recurve","Intermediate",null,457,"NUIG"]
["Kyle Rosso","UCD","M","Recurve","Beginner",null,374,"GMIT"]
["Kyle Rosso","UCD","M","Recurve","Beginner",null,349,"NUIG"]
["Laura Ciesa","UL","F","Recurve","Beginner",null,453,"NUIG"]
["Laury Despres","MU","F","Barebow","Beginner",null,310,"UL"]
["Laury Despres","MU","F","Recurve","Beginner",null,355,"GMIT"]
["Laury Despres","MU","F","Recurve","Beginner",null,394,"DCU"]
["Laury Despres","MU","F","Recurve","Beginner",null,452,"NUIG"]
["Laury Despres","MU","F","Recurve","Beginner",null,386,"DkIT"]
["Lee Nolan","GMITC","M","Barebow","Beginner",null,211,"DCU"]
["Lee Nolan","GMITC","M","Barebow","Beginner",null,291,"NUIG"]
["Leo Byrne","ITC","M","Recurve","Intermediate",null,332,"UL"]
["Leo Byrne","ITC","M","Recurve","Intermediate",null,306,"DkIT"]
["Leo Byrne","ITC","M","Recurve","Intermediate",null,275,"GMIT"]
["Leo Byrne","ITC","M","Recurve","Intermediate",null,281,"DCU"]
["Leo Byrne","ITC","M","Recurve","Intermediate",null,233,"NUIG"]
["Liam Doyle","UL","M","Recurve","Beginner",null,358,"DkIT"]
["Liam Higgins","UL","M","Recurve","Beginner",null,317,"DkIT"]
["Liam Higgins","UL","M","Recurve","Beginner",null,340,"GMIT"]
["Liam Higgins","UL","M","Recurve","Beginner",null,375,"DCU"]
["Liam Higgins","UL","M","Recurve","Beginner",null,353,"NUIG"]
["Lim Cheng Bin","DKIT","M","Recurve","Beginner",null,443,"UL"]
["Lim Cheng Bin","DKIT","M","Recurve","Beginner",null,154,"GMIT"]
["Lim Cheng Bin","DKIT","M","Recurve","Beginner",null,249,"DCU"]
["Lim Cheng Bin","DKIT","M","Recurve","Beginner",null,296,"NUIG"]
["Lorenzo Diago","DCU","M","Recurve","Beginner",null,480,"DkIT"]
["Lorenzo Diago","DCU","M","Recurve","Beginner",null,371,"GMIT"]
["Lorenzo Diago","DCU","M","Recurve","Beginner",null,420,"DCU"]
["Luke Blake","UL","M","Recurve","Intermediate",null,282,"UL"]
["Luke Blake","UL","M","Recurve","Intermediate",null,324,"DkIT"]
["Luke Blake","UL","M","Recurve","Intermediate",null,332,"GMIT"]
["Luke Blake","UL","M","Recurve","Intermediate",null,331,"DCU"]
["Luke Oonan","DCU","M","Compound","Advanced",null,265,"UL"]
["Luke Oonan","DCU","M","Compound","Advanced",null,394,"DkIT"]
["Luke Oonan","DCU","M","Compound","Advanced",null,497,"GMIT"]
["Luke Oonan","DCU","M","Compound","Advanced",null,520,"DCU"]
["Luke Oonan","DCU","M","Compound","Advanced",null,506,"NUIG"]
["Lynda Miller","GMIT","F","Recurve","Beginner",null,114,"DkIT"]
["Lynda Miller","GMIT","F","Recurve","Beginner",null,459,"GMIT"]
["Lynda Miller","GMIT","F","Recurve","Beginner",null,253,"DCU"]
["Lynda Miller","GMIT","F","Recurve","Beginner",null,444,"NUIG"]
["Maeve Ruan","UCD","F","Recurve","Beginner",null,70,"DCU"]
["Maorgain Siede","UCC","F","Barebow","Beginner",null,232,"GMIT"]
["Maria Borck","UL","F","Recurve","Beginner",null,239,"UL"]
["Maria Borck","UL","F","Recurve","Beginner",null,231,"GMIT"]
["Maria Borck","UL","F","Recurve","Beginner",null,232,"NUIG"]
["Maria Jacob","UCD","F","Recurve","Intermediate",null,439,"UL"]
["Maria Jacob","UCD","F","Recurve","Intermediate",null,438,"DkIT"]
["Maria Jacob","UCD","F","Recurve","Intermediate",null,425,"GMIT"]
["Maria Jacob","UCD","F","Recurve","Intermediate",null,427,"DCU"]
["Maria Jacob","UCD","F","Recurve","Intermediate",null,404,"NUIG"]
["Mark Harrington","NUIG","M","Barebow","Beginner",null,341,"GMIT"]
["Mark Harrington","NUIG","M","Barebow","Beginner",null,441,"NUIG"]
["Mark Sherlock","GMIT","M","Recurve","Intermediate",null,393,"UL"]
["Mark Sherlock","GMIT","M","Recurve","Intermediate",null,371,"DkIT"]
["Mark Sherlock","GMIT","M","Recurve","Intermediate",null,311,"GMIT"]
["Mark Sherlock","GMIT","M","Recurve","Intermediate",null,358,"DCU"]
["Mark Sherlock","GMIT","M","Recurve","Intermediate",null,338,"NUIG"]
["Mark Walsh","NUIG","M","Recurve","Advanced",null,441,"NUIG"]
["Marko Kovacevic","GMIT","M","Compound","Advanced",null,539,"UL"]
["Marko Kovacevic","GMIT","M","Compound","Advanced",null,548,"DkIT"]
["Marko Kovacevic","GMIT","M","Compound","Advanced",null,547,"DCU"]
["Marko Kovacevic","GMIT","M","Compound","Advanced",null,542,"NUIG"]
["Marta Jurczak","DUAC","F","Recurve","Beginner",null,284,"NUIG"]
["Martha Chege","UU","F","Recurve","Beginner",null,201,"DCU"]
["Mary Aherne","NUIG","F","Recurve","Beginner",null,420,"NUIG"]
["Mary Aherne","NUIG","F","Recurve","Beginner",null,413,"UL"]
["Mary Aherne","NUIG","F","Recurve","Beginner",null,343,"DkIT"]
["Mary Aherne","NUIG","F","Recurve","Beginner",null,464,"GMIT"]
["Mary Aherne","NUIG","F","Recurve","Beginner",null,400,"DCU"]
["Matthew O'Connor","MU","M","Barebow","Beginner",null,465,"DkIT"]
["Max Fursman","DUAC","M","Barebow","Beginner",null,106,"DkIT"]
["Melissa Gueey","ITC","F","Barebow","Beginner",null,317,"NUIG"]
["Michaela Ní Mhurchú","GMITC","F","Barebow","Beginner",null,77,"GMIT"]
["Michaela Ní Mhurchú","GMITC","F","Barebow","Beginner",null,200,"NUIG"]
["Minni Hiltunen","DIT","F","Recurve","Beginner",null,432,"DCU"]
["Minni Hiltunen","DIT","F","Recurve","Beginner",null,389,"NUIG"]
["Maorgain Siede","UCC","F","Barebow","Beginner",null,202,"NUIG"]
["Morgan Russell-Cowan","UU","F","Compound","Advanced",null,523,"DCU"]
["Muhammad Hakim Mohd Nasir","RCSI","M","Recurve","Intermediate",null,311,"GMIT"]
["Nada Khaled-Abdo","NUIG","F","Barebow","Advanced",null,367,"UL"]
["Nadia Rodgers","UU","F","Recurve","Beginner",null,187,"DCU"]
["Nathan Tracey","DIT","M","Recurve","Beginner",null,515,"DCU"]
["Nathan Tracey","DIT","M","Recurve","Beginner",null,414,"NUIG"]
["Niall O'Hanlon","DCU","M","Barebow","Advanced",null,422,"UL"]
["Niall O'Hanlon","DCU","M","Barebow","Advanced",null,331,"DkIT"]
["Niall O'Hanlon","DCU","M","Barebow","Advanced",null,407,"GMIT"]
["Niall O'Hanlon","DCU","M","Barebow","Advanced",null,362,"DCU"]
["Niall O'Hanlon","DCU","M","Barebow","Advanced",null,353,"NUIG"]
["Niamh Kenny","NUIG","F","Compound","Advanced",null,529,"UL"]
["Niamh Kenny","NUIG","F","Compound","Advanced",null,541,"DkIT"]
["Niamh Kenny","NUIG","F","Compound","Advanced",null,538,"GMIT"]
["Niamh Kenny","NUIG","F","Compound","Advanced",null,543,"DCU"]
["Niamh Kenny","NUIG","F","Compound","Advanced",null,517,"NUIG"]
["Niamh Merry","DCU","F","Compound","Advanced",null,361,"UL"]
["Niamh Merry","DCU","F","Compound","Advanced",null,516,"DkIT"]
["Niamh Merry","DCU","F","Compound","Advanced",null,523,"GMIT"]
["Niamh Merry","DCU","F","Compound","Advanced",null,513,"DCU"]
["Niamh Merry","DCU","F","Compound","Advanced",null,386,"NUIG"]
["Niamh Meyler","NUIG","F","Barebow","Beginner",null,348,"DCU"]
["Nicole Maoirano","DUAC","F","Barebow","Beginner",null,42,"GMIT"]
["Nicole Maoirano","DUAC","F","Barebow","Beginner",null,155,"NUIG"]
["Nik Idlan Faiq","RCSI","M","Barebow","Beginner",null,166,"GMIT"]
["Nor Fatin Farhani","RCSI","F","Recurve","Beginner",null,267,"GMIT"]
["Oskar Ronan","DUAC","M","Recurve","Advanced",null,464,"DkIT"]
["Oskar Ronan","DUAC","M","Recurve","Advanced",null,403,"DCU"]
["Ozeane Zeis","UL","F","Recurve","Beginner",null,288,"NUIG"]
["Patrick Molloy","NUIG","M","Recurve","Advanced",null,410,"UL"]
["Patrick Molloy","NUIG","M","Recurve","Advanced",null,430,"DkIT"]
["Patrick Molloy","NUIG","M","Recurve","Advanced",null,507,"GMIT"]
["Patrick Molloy","NUIG","M","Recurve","Advanced",null,483,"DCU"]
["Patrick Molloy","NUIG","M","Recurve","Advanced",null,516,"NUIG"]
["Paul Beirne","UCD","M","Recurve","Intermediate",null,454,"UL"]
["Paul Beirne","UCD","M","Recurve","Intermediate",null,426,"DkIT"]
["Paul Beirne","UCD","M","Recurve","Intermediate",null,440,"GMIT"]
["Paul Beirne","UCD","M","Recurve","Intermediate",null,500,"NUIG"]
["Pawel Nalecz-Nieniewski","ITC","M","Barebow","Advanced",null,353,"UL"]
["Pawel Nalecz-Nieniewski","ITC","M","Barebow","Advanced",null,364,"DkIT"]
["Pawel Nalecz-Nieniewski","ITC","M","Barebow","Advanced",null,359,"GMIT"]
["Pawel Nalecz-Nieniewski","ITC","M","Barebow","Advanced",null,357,"DCU"]
["Pawel Nalecz-Nieniewski","ITC","M","Barebow","Advanced",null,395,"NUIG"]
["Philip Early","DCU","M","Recurve","Intermediate",null,360,"UL"]
["Philip Early","DCU","M","Recurve","Intermediate",null,373,"DkIT"]
["Philip Early","DCU","M","Recurve","Intermediate",null,372,"DCU"]
["Philip Early","DCU","M","Recurve","Intermediate",null,344,"NUIG"]
["Clarke-Ng Choy-Ping","DUAC","F","Recurve","Intermediate",null,367,"DkIT"]
["Rachael Foley","NCAD","F","Recurve","Advanced",null,515,"GMIT"]
["Rachael Foley","NCAD","F","Recurve","Advanced",null,522,"NUIG"]
["Raizel Burstein-Frame","NUIG","F","Barebow","Advanced",null,159,"UL"]
["Raizel Burstein-Frame","NUIG","F","Barebow","Advanced",null,159,"DkIT"]
["Raizel Burstein-Frame","NUIG","F","Barebow","Advanced",null,174,"GMIT"]
["Raja Nur Iyliani","RCSI","F","Recurve","Beginner",null,190,"GMIT"]
["Rashed Alfuzaie","RCSI","M","Barebow","Beginner",null,326,"GMIT"]
["Raymond Conlin","NUIG","M","Barebow","Beginner",null,326,"DkIT"]
["Raymond Conlin","NUIG","M","Barebow","Beginner",null,313,"GMIT"]
["Raymond Onwunali","MU","M","Barebow","Beginner",null,334,"NUIG"]
["Richard Morrell","ITC","M","Barebow","Beginner",null,313,"UL"]
["Richard Morrell","ITC","M","Barebow","Beginner",null,238,"DkIT"]
["Richard Morrell","ITC","M","Barebow","Beginner",null,292,"DCU"]
["Ross McQuade","UU","M","Compound","Advanced",null,261,"DCU"]
["Ryan Claffey","GMIT","M","Barebow","Beginner",null,371,"NUIG"]
["Ines Rauch","UCD","F","Recurve","Advanced",null,439,"UL"]
["Sam Gibson","MU","M","Recurve","Beginner",null,430,"NUIG"]
["Sam Gibson","MU","M","Recurve","Beginner",null,360,"DkIT"]
["Sam Gibson","MU","M","Recurve","Beginner",null,466,"GMIT"]
["Sam Gibson","MU","M","Recurve","Beginner",null,395,"DCU"]
["Sam Gibson ","MU","M","Barebow","Beginner",null,224,"UL"]
["Sarah Howard","DCU","F","Barebow","Advanced",null,296,"UL"]
["Sarah Howard","DCU","F","Barebow","Advanced",null,357,"DkIT"]
["Sarah Howard","DCU","F","Barebow","Advanced",null,296,"DCU"]
["Sarah Howard","DCU","F","Barebow","Advanced",null,342,"NUIG"]
["Sean Flynn","IT Tallaght","M","Barebow","Beginner",null,276,"DCU"]
["Sean Flynn","IT Tallaght","M","Barebow","Beginner",null,245,"NUIG"]
["Sean Potts","MU","M","Barebow","Beginner",null,327,"DkIT"]
["Sean Potts","MU","M","Barebow","Beginner",null,406,"GMIT"]
["Sean Potts","MU","M","Barebow","Beginner",null,325,"DCU"]
["Sean Potts","MU","M","Barebow","Beginner",null,365,"NUIG"]
["Sean Sinnott","UL","M","Recurve","Intermediate",null,385,"DkIT"]
["See Qui Ren","DKIT","M","Recurve","Intermediate",null,427,"UL"]
["See Qui Ren","DKIT","M","Recurve","Intermediate",null,470,"DkIT"]
["See Qui Ren","DKIT","M","Recurve","Intermediate",null,448,"GMIT"]
["See Qui Ren","DKIT","M","Recurve","Intermediate",null,433,"DCU"]
["See Qui Ren","DKIT","M","Recurve","Intermediate",null,453,"NUIG"]
["Shane Fitzgerald","UCC","M","Recurve","Beginner",null,325,"GMIT"]
["Shane Fitzgerald","UCC","M","Recurve","Beginner",null,400,"NUIG"]
["Shane McGloin","GMIT","M","Compound","Advanced",null,538,"GMIT"]
["Shane McGloin","GMIT","M","Compound","Advanced",null,548,"DCU"]
["Shane O'Sulliven","UCC","M","Recurve","Intermediate",null,303,"DCU"]
["Shannon Birch","IT Tallaght","M","Barebow","Beginner",null,261,"UL"]
["Shannon Birch","IT Tallaght","M","Barebow","Beginner",null,387,"DkIT"]
["Shannon Birch","IT Tallaght","M","Barebow","Beginner",null,351,"GMIT"]
["Shannon Birch","IT Tallaght","M","Barebow","Beginner",null,384,"NUIG"]
["Sim Jia Cheng","DKIT","M","Recurve","Beginner",null,427,"DCU"]
["Sim Jia Cheng","DKIT","M","Recurve","Beginner",null,349,"NUIG"]
["Sim Jia Cheng","DKIT","M","Recurve","Beginner",null,450,"UL"]
["Sim Jia Cheng","DKIT","M","Recurve","Beginner",null,437,"GMIT"]
["Simon Bluett","DUAC","M","Barebow","Beginner",null,248,"NUIG"]
["Simon Henleywillis","UCC","M","Recurve","Advanced",null,471,"UL"]
["Sinead Naughton","GMITC","F","Recurve","Intermediate",null,387,"UL"]
["Sinead Naughton","GMITC","F","Recurve","Intermediate",null,397,"GMIT"]
["Sinead Naughton","GMITC","F","Recurve","Intermediate",null,372,"DCU"]
["Sinead Naughton","GMITC","F","Recurve","Intermediate",null,436,"NUIG"]
["Siobhan Flynn","DUAC","F","Barebow","Beginner",null,284,"DkIT"]
["Siobhán Tuffy","GMIT","F","Barebow","Beginner",null,388,"DkIT"]
["Siobhán Tuffy","GMIT","F","Barebow","Beginner",null,234,"DCU"]
["Siobhán Tuffy","GMIT","F","Barebow","Beginner",null,201,"NUIG"]
["Siobhán Tuffy","GMIT","F","Barebow","Beginner",null,365,"UL"]
["Siobhán Tuffy","GMIT","F","Barebow","Beginner",null,420,"GMIT"]
["Siun Collins","DIT","F","Recurve","Beginner",null,423,"UL"]
["Siun Collins","DIT","F","Recurve","Beginner",null,341,"GMIT"]
["Sophie Hunt","GMITC","F","Barebow","Beginner",null,318,"NUIG"]
["Sorcha Griffin","MU","F","Barebow","Beginner",null,337,"DkIT"]
["Sorcha Griffin","MU","F","Barebow","Beginner",null,338,"GMIT"]
["Sorcha Griffin","MU","F","Barebow","Beginner",null,354,"DCU"]
["Sorcha Griffin","MU","F","Barebow","Beginner",null,327,"NUIG"]
["Siun Collins","DIT","F","Recurve","Beginner",null,346,"DCU"]
["Siun Collins","DIT","F","Recurve","Beginner",null,374,"NUIG"]
["Sven Radatz","DKIT","M","Recurve","Beginner",null,479,"DkIT"]
["Theo De Groot","UU","M","Barebow","Beginner",null,351,"DCU"]
["Thijs Siebt","NUIG","M","Recurve","Beginner",null,371,"DkIT"]
["Thomas Ganley","GMITC","M","Barebow","Beginner",null,255,"UL"]
["Thomas Ganley","GMITC","M","Barebow","Beginner",null,267,"DCU"]
["Thomas Joyce","UCD","M","Recurve","Beginner",null,339,"DkIT"]
["Vanessa Flood","DIT","F","Recurve","Beginner",null,444,"DCU"]
["Victor Agular","GMITC","M","Barebow","Beginner",null,93,"DCU"]
["Joao Vitor","NUIG","M","Compound","Advanced",null,405,"GMIT"]
["Victor Stoian","MU","M","Barebow","Beginner",null,377,"DkIT"]
["Victoria Shen Fen Tan","DKIT","F","Recurve","Intermediate",null,380,"UL"]
["Victoria Shen Fen Tan","DKIT","F","Recurve","Intermediate",null,319,"DkIT"]
["Victoria Shen Fen Tan","DKIT","F","Recurve","Intermediate",null,375,"GMIT"]
["Victoria Shen Fen Tan","DKIT","F","Recurve","Intermediate",null,460,"DCU"]
["Victoria Shen Fen Tan","DKIT","F","Recurve","Intermediate",null,486,"NUIG"]
["Joao Vitor","NUIG","M","Compound","Advanced",null,495,"NUIG"]
["Vojtěch Halama","NUIG","M","Barebow","Beginner",null,271,"DkIT"]
["Wai Hong Keet","DKIT","M","Recurve","Intermediate",null,455,"GMIT"]
["Wai Hong Keet","DKIT","M","Recurve","Intermediate",null,416,"UL"]
["Wai Hong Keet","DKIT","M","Recurve","Intermediate",null,460,"DkIT"]
["Wai Hong Keet","DKIT","M","Recurve","Intermediate",null,423,"DCU"]
["Wai Hong Keet","DKIT","M","Recurve","Intermediate",null,410,"NUIG"]
["Wai Jian Keet","DKIT","M","Recurve","Beginner",null,441,"DkIT"]
["Wai Jian Keet","DKIT","M","Recurve","Beginner",null,360,"DCU"]
["Wai Jian Keet","DKIT","M","Recurve","Beginner",null,464,"NUIG"]
["Chua Wei Kwan","DKIT","M","Recurve","Beginner",null,464,"DCU"]
["Chua Wei Kwan","DKIT","M","Recurve","Beginner",null,454,"NUIG"]
["Yeo Eng Jet","DKIT","M","Recurve","Advanced",null,514,"UL"]
["Yeo Eng Jet","DKIT","M","Recurve","Advanced",null,527,"DkIT"]
["Yeo Eng Jet","DKIT","M","Recurve","Advanced",null,507,"GMIT"]
["Yeo Eng Jet","DKIT","M","Recurve","Advanced",null,520,"DCU"]
["Yeo Eng Jet","DKIT","M","Recurve","Advanced",null,540,"NUIG"]
["Yingbo Li","ITC","F","Barebow","Beginner",null,154,"UL"]
["Yingbo Li","ITC","F","Barebow","Beginner",null,239,"DkIT"]
["Yingbo Li","ITC","F","Barebow","Beginner",null,378,"GMIT"]
["Yingbo Li","ITC","F","Barebow","Beginner",null,395,"DCU"]
["Yingbo Li","ITC","F","Barebow","Beginner",null,396,"NUIG"]
["Yuji Okubo","DCU","M","Recurve","Intermediate",null,458,"UL"]
["Yuji Okubo","DCU","M","Recurve","Intermediate",null,432,"DkIT"]
["Yusuf Fauzi","UCC","M","Recurve","Beginner",null,194,"GMIT"]
["Yusuf Fauzi","UCC","M","Recurve","Beginner",null,339,"NUIG"]
["Zahratulfatin Mohd Mahfoz","RCSI","F","Recurve","Beginner",null,382,"UL"]
["Zoe Nicholson","DKIT","F","Recurve","Beginner",null,442,"UL"]
["Zoe Nicholson","DKIT","F","Recurve","Beginner",null,353,"GMIT"]
["Zoe Nicholson","DKIT","F","Recurve","Beginner",null,341,"DCU"]
["Zoe Nicholson","DKIT","F","Recurve","Beginner",null,372,"NUIG"]
["Blair Flinn","UCD","M","Barebow","Beginner",null,267,"UL"]
["Andrew Fairbrother","UCD","M","Barebow","Beginner",null,121,"UL"]
[]
[]
[]
[]
[]
[]
[]
[]
[]
[]
[]
[]
[]
[]
[]
[]
[]
[]
[]
[]
[]
[]
[]
[]
[]
[]
[]
[]
[]
[]
[]
[]
[]
[]
[]
[]
[]
[]
[]
[]
[]
[]
[]
[]
[]
[]
[]
[]
[]
[]
[]
[]
[]
[]
[]
[]
[]
[]
[]
[]
[]
[]
[]
[]
[]
[]
[]
[]
[]
[]
[]
[]
[]
[]
[]
[]
[]
[]
[]
[]
[]
[]
[]
[]
[]
[]
[]
[]
[]
[]
[]
[]
[]
[]
[]
[]
[]
[]
[]
[]
[]
[]
[]
[]
[]
[]
[]
[]
[]
[]
[]
[]
[]
[]
[]
[]
[]
[]
[]
[]
[]
[]
[]
[]
[]
[]
[]
[]
[]
[]
[]
[]
[]
[]
[]
[]
[]
[]
[]
[]
[]
[]
[]
[]
[]
[]
[]
[]
[]
[]
[]
[]
[]
[]
[]
[]
[]
[]
[]
[]
[]
[]
[]
[]
[]
[]
[]
[]
[]
[]
[]
[]
[]
[]
[]
[]
[]
[]
[]
[]
[]
[]
[]
[]
[]
[]
[]
[]
[]
[]
[]
[]
[]
[]
[]
[]
[]
[]
[]
[]
[]
[]
[]
[]
[]
[]
[]
[]
[]
[]
[]
[]
[]
[]
[]
[]
[]
[]
[]
[]
[]
[]
[]
[]
[]
[]
[]
[]
[]
[]
[]
[]
[]
[]
[]
[]
[]
[]
[]
[]
[]
[]
[]
[]
[]
[]
[]
[]
[]
[]
[]
[]
[]
[]
[]
[]
[]
[]
[]
[]
[]
[]
[]
[]
[]
[]
[]
[]
[]
[]
[]
[]
[]
[]
[]
[]
[]
[]
[]
[]
[]
[]
[]
[]
[]
[]
[]
[]
[]
[]
[]
[]
[]
[]
[]
[]
[]
[]
[]
[]
[]
[]
[]
[]
[]
[]
[]
[]
[]
[]
[]
[]
[]
[]
[]
[]
[]
[]
[]
[]
[]
[]
[]
[]
[]
[]
[]
[]
[]
[]
[]
[]
[]
[]
[]
[]
[]
[]
[]
[]
[]
[]
[]
[null,"DCU"]
[null,"DIT"]
[null,"DKIT"]
[null,"DUAC"]
[null,"GMIT"]
[null,"GMITC"]
[null,"ITC"]
[null,"IT Tallaght"]
[null,"MU"]
[null,"NCAD"]
[null,"NUIG"]
[null,"RCSI"]
[null,"UCC"]
[null,"UCD"]
[null,"UL"]
[null,"UU"]
[null,"AAA"]
[null,"AAA",null,null,null,null,null,"UL"]
[null,"BBB",null,null,null,null,null,"DkIT"]
[null,"CCC",null,null,null,null,null,"GMIT"]
[null,"DDD",null,null,null,null,null,"DCU"]
[null,"EEE",null,null,null,null,null,"NUIG"]

{"sheet":"Singles","index":1,"n_rows":375,"n_cols":76,"rows_kept":375,"cut":false,"hidden":false,"merged":[[1,69,3,75],[5,73,6,73],[5,74,6,74],[5,75,6,75],[1,56,3,62],[5,60,6,60],[86,4,88,10],[90,8,91,8],[90,9,91,9],[90,10,91,10],[86,17,88,23],[90,21,91,21],[90,22,91,22],[90,23,91,23],[90,11,91,11],[90,74,91,74],[90,75,91,75],[86,30,88,36],[90,34,91,34],[90,35,91,35],[90,36,91,36],[86,43,88,49],[90,47,91,47],[90,48,91,48],[90,49,91,49],[86,56,88,62],[90,60,91,60],[90,61,91,61],[90,62,91,62],[90,50,91,50],[90,37,91,37],[1,43,3,49],[5,47,6,47],[5,48,6,48],[5,49,6,49],[1,4,3,10],[5,8,6,8],[5,9,6,9],[5,11,6,11],[1,30,3,36],[5,34,6,34],[5,35,6,35],[5,36,6,36],[5,22,6,22],[5,23,6,23],[1,17,3,23],[5,10,6,10],[90,76,91,76],[90,77,91,77],[5,25,6,25],[90,25,91,25],[90,51,91,51],[5,51,6,51],[5,63,6,63],[5,64,6,64],[5,38,6,38],[5,50,6,50],[5,76,6,76],[5,77,6,77],[5,61,6,61],[5,62,6,62],[86,69,88,75],[90,73,91,73],[5,37,6,37],[90,12,91,12],[90,38,91,38],[90,63,91,63],[90,64,91,64],[5,12,6,12],[5,21,6,21],[5,24,6,24],[90,24,91,24]]}
[]
[null,"Gender","M",null,"Male Beginner Recurve",null,null,null,null,null,null,null,null,null,"Gender","F",null,"Female Beginner Recurve",null,null,null,null,null,null,null,null,null,"Gender","M",null,"Male Intermediate Recurve",null,null,null,null,null,null,null,null,null,"Gender","F",null,"Female Intermediate Recurve",null,null,null,null,null,null,null,null,null,"Gender","M",null,"Male Advanced Recurve",null,null,null,null,null,null,null,null,null,"Gender","F",null,"Female Advanced Recurve"]
[null,"Bow","Recurve",null,null,null,null,null,null,null,null,null,null,null,"Bow","Recurve",null,null,null,null,null,null,null,null,null,null,null,"Bow","Recurve",null,null,null,null,null,null,null,null,null,null,null,"Bow","Recurve",null,null,null,null,null,null,null,null,null,null,null,"Bow","Recurve",null,null,null,null,null,null,null,null,null,null,null,"Bow","Recurve"]
[null,"Level","Beginner",null,null,null,null,null,null,null,null,null,null,null,"Level","Beginner",null,null,null,null,null,null,null,null,null,null,null,"Level","Intermediate",null,null,null,null,null,null,null,null,null,null,null,"Level","Intermediate",null,null,null,null,null,null,null,null,null,null,null,"Level","Advanced",null,null,null,null,null,null,null,null,null,null,null,"Level","Advanced"]
[]
[null,"Sum of Points",null,"IV",null,null,null,null," Grand Total","Lowest","League total",null,null,null,"Sum of Points",null,"IV",null,null,null,null," Grand Total","Lowest","League total",null,null,null,"Sum of Points",null,"IV",null,null,null,null," Grand Total","Lowest","League total",null,null,null,"Sum of Points",null,"IV",null,null,null,null," Grand Total","Lowest","League total",null,null,null,"Sum of Points",null,"IV",null,null,null,null," Grand Total","Lowest","League total",null,null,null,"Sum of Points",null,"IV",null,null,null,null," Grand Total","Lowest","League total"]
[null,"Name","College","UL","DkIT","GMIT","DCU","NUIG",null,null,null,null,null,null,"Name","College","UL","DkIT","GMIT","DCU","NUIG",null,null,null,null,null,null,"Name","College","UL","DkIT","GMIT","DCU","NUIG",null,null,null,null,null,null,"Name","College","UL","DkIT","GMIT","DCU","NUIG",null,null,null,null,null,null,"Name","College","UL","DkIT","GMIT","DCU","NUIG",null,null,null,null,null,null,"Name","College","UL","DkIT","GMIT","DCU","NUIG"]
["A8","Domhnall Ò Póil","MU",489,460,511,468,486,{"$f":"SUM(D8:H8)","v":2414},{"$f":"MIN(D8:H8)","v":460},{"$f":"IF(C8=\"TBC\",0,(I8-J8)+(LARGE(D8:H8,1)/10000)+(LARGE(D8:H8,2)/10000000))","v":1954.0511488999998},null,null,"N8","Mary Aherne","NUIG",413,343,464,400,420,{"$f":"SUM(Q8:U8)","v":2040},{"$f":"MIN(Q8:U8)","v":343},{"$f":"IF(P8=\"TBC\",0,(V8-W8)+(LARGE(Q8:U8,1)/10000)+(LARGE(Q8:U8,2)/10000000))","v":1697.0464419999998},null,null,"AA8","See Qui Ren","DKIT",427,470,448,433,453,{"$f":"SUM(AD8:AH8)","v":2231},{"$f":"MIN(AD8:AH8)","v":427},{"$f":"IF(AC8=\"TBC\",0,(AI8-AJ8)+(LARGE(AD8:AH8,1)/10000)+(LARGE(AD8:AH8,2)/10000000))","v":1804.0470453},null,null,"AN8","Maria Jacob","UCD",439,438,425,427,404,{"$f":"SUM(AQ8:AU8)","v":2133},{"$f":"MIN(AQ8:AU8)","v":404},{"$f":"IF(AP8=\"TBC\",0,(AV8-AW8)+(LARGE(AQ8:AU8,1)/10000)+(LARGE(AQ8:AU8,2)/10000000))","v":1729.0439437999999},null,null,"BA8","Yeo Eng Jet","DKIT",514,527,507,520,540,{"$f":"SUM(BD8:BH8)","v":2608},{"$f":"MIN(BD8:BH8)","v":507},{"$f":"IF(BC8=\"TBC\",0,(BI8-BJ8)+(LARGE(BD8:BH8,1)/10000)+(LARGE(BD8:BH8,2)/10000000))","v":2101.0540527000003},null,null,"BN8","Ines Rauch","UCD",439,481,473,517,516,{"$f":"SUM(BQ8:BU8)","v":2426},{"$f":"MIN(BQ8:BU8)","v":439},{"$f":"IF(BP8=\"TBC\",0,(BV8-BW8)+(LARGE(BQ8:BU8,1)/10000)+(LARGE(BQ8:BU8,2)/10000000))","v":1987.0517516}]
["A9","Conor Winters","DKIT",455,0,488,486,508,{"$f":"SUM(D9:H9)","v":1937},{"$f":"MIN(D9:H9)","v":0},{"$f":"IF(C9=\"TBC\",0,(I9-J9)+(LARGE(D9:H9,1)/10000)+(LARGE(D9:H9,2)/10000000))","v":1937.0508488},null,null,"N9","Eunice Kiew Ying Sing","DKIT",501,0,486,509,463,{"$f":"SUM(Q9:U9)","v":1959},{"$f":"MIN(Q9:U9)","v":0},1959.0509500999999,null,null,"AA9","Charles O'Dowd","UCD",423,414,482,435,465,{"$f":"SUM(AD9:AH9)","v":2219},{"$f":"MIN(AD9:AH9)","v":414},1805.0482465,null,null,"AN9","Victoria Shen Fen Tan","DKIT",380,319,375,460,486,{"$f":"SUM(AQ9:AU9)","v":2020},{"$f":"MIN(AQ9:AU9)","v":319},1701.0486460000002,null,null,"BA9","Carl McCaffery","UCD",522,517,529,528,503,{"$f":"SUM(BD9:BH9)","v":2599},{"$f":"MIN(BD9:BH9)","v":503},2096.0529528000002,null,null,"BN9","Jen Daly","DIT",409,0,482,498,481,{"$f":"SUM(BQ9:BU9)","v":1870},{"$f":"MIN(BQ9:BU9)","v":0},1870.0498482]
["A10","Chris Riddell","NUIG",342,386,328,434,314,1804,314,1490.0434385999999,null,null,"N10","Helen Lacey","NUIG",325,380,424,355,404,1888,325,1563.0424404,null,null,"AA10","Frank Stafford","UL",440,432,448,432,433,2185,432,1753.0448439999998,null,null,"AN10","Ciara O'Sullivan","DCU",0,443,472,411,469,1795,0,1795.0472468999999,null,null,"BA10","Diego Coyle Diez","MU",523,486,530,512,524,2575,486,2089.0530524000001,null,null,"BN10","Jocelyn Yee","DKIT",0,438,0,453,456,1347,0,1347.0456452999999]
["A11","Cormac O'Callaghan","UCC",397,0,453,452,466,1768,0,1768.0466452999999,null,null,"N11","Asia Tayyab","GMIT",330,283,376,407,278,1674,278,1396.0407376000001,null,null,"AA11","Wai Hong Keet","DKIT",416,460,455,423,410,2164,410,1754.0460455,null,null,"AN11","Sinead Naughton","GMITC",387,0,397,372,436,1592,0,1592.0436396999999,null,null,"BA11","Brendan Forde","DIT",509,506,515,513,512,2555,506,2049.0515513,null,null,"BN11","Rachael Foley","NCAD",0,0,515,0,522,1037,0,1037.0522515]
["A12","Chua Wei Kwan","DKIT",439,0,405,464,454,1762,0,1762.0464454,null,null,"N12","Jane Meehan","DKIT",467,0,393,424,376,1660,0,1660.0467424000001,null,null,"AA12","Kristian Bongo","DIT",381,412,440,405,457,2095,381,1714.0457439999998,null,null,"AN12","Aishling Dignam","DCU",0,346,314,359,398,1417,0,1417.0398359000001,null,null,"BA12","Hugh Farrell","MU",495,495,509,482,502,2483,482,2001.0509502,null,null,"BN12",null,"TBC","TBC","TBC","TBC","TBC","TBC",0,0,0]
["A13","Connor Newman","MU",0,398,440,424,451,1713,0,1713.0451439999999,null,null,"N13","Laury Despres","MU",0,386,355,394,452,1587,0,1587.0452394000001,null,null,"AA13","Joshua Tracey","DIT",409,378,427,411,385,2010,378,1632.0427411000001,null,null,"AN13","Katie Doyle","UCD",435,0,0,436,464,1335,0,1335.0464436,null,null,"BA13","Kevin Kok Zhi Hao","DKIT",499,510,458,495,496,2458,458,2000.0510499,null,null,"BN13",null,"TBC","TBC","TBC","TBC","TBC","TBC",0,0,0]
["A14","Sim Jia Cheng","DKIT",450,0,437,427,349,1663,0,1663.0450437000002,null,null,"N14","Zoe Nicholson","DKIT",442,0,353,341,372,1508,0,1508.0442372,null,null,"AA14","Paul Beirne","UCD",454,426,440,0,500,1820,0,1820.0500454,null,null,"AN14","Ciara Fergus","UL",335,352,277,306,0,1270,0,1270.0352335,null,null,"BA14","James Byrne ","DIT",477,497,479,481,510,2444,477,1967.0510497,null,null,"BN14",null,"TBC","TBC","TBC","TBC","TBC","TBC",0,0,0]
["A15","Sam Gibson","MU",0,360,466,395,430,1651,0,1651.0466429999999,null,null,"N15","Siun Collins","DIT",423,0,341,346,374,1484,0,1484.0423374000002,null,null,"AA15","Conor McCann","GMIT",435,256,401,398,324,1814,256,1558.0435401,null,null,"AN15","Emma Goodwin","DCU",0,375,290,311,0,976,0,976.03753110000002,null,null,"BA15","Aidan Darcy","IT Tallaght",401,488,525,473,503,2390,401,1989.0525503000001,null,null,"BN15",null,"TBC","TBC","TBC","TBC","TBC","TBC",0,0,0]
["A16","Conor O'Brien","UL",310,287,405,294,300,1596,287,1309.0405310000001,null,null,"N16","Carla Reinhardt","UCC",266,0,424,399,392,1481,0,1481.0424399000001,null,null,"AA16","Brendan McManus","DCU",471,443,0,402,496,1812,0,1812.0496471000001,null,null,"AN16","Julia Obara","NUIG",354,0,357,91,0,802,0,802.03573540000002,null,null,"BA16","Patrick Molloy","NUIG",410,430,507,483,516,2346,410,1936.0516507,null,null,"BN16",null,"TBC","TBC","TBC","TBC","TBC","TBC",0,0,0]
["A17","Aaron Wong Siu Zhen","DKIT",393,423,279,0,294,1389,0,1389.0423393000001,null,null,"N17","Lynda Miller","GMIT",0,114,459,253,444,1270,0,1270.0459444000001,null,null,"AA17","Mark Sherlock","GMIT",393,371,311,358,338,1771,311,1460.0393371,null,null,"AN17","Clarke-Ng Choy-Ping","DUAC",0,367,0,407,0,774,0,774.04073670000002,null,null,"BA17","Dale Burke","GMIT",524,488,517,0,501,2030,0,2030.0524517000001,null,null,"BN17",null,"TBC","TBC","TBC","TBC","TBC","TBC",0,0,0]
["A18","Liam Higgins","UL",0,317,340,375,353,1385,0,1385.0375352999999,null,null,"N18","Bruna Mota","UCD",0,0,424,327,395,1146,0,1146.0424395,null,null,"AA18","Aaron Downes","GMIT",0,392,391,388,330,1501,0,1501.0392391,null,null,"AN18","Eve Kearney","DUAC",0,273,0,0,380,653,0,653.03802730000007,null,null,"BA18","Jordan McCord","UU",0,418,505,478,496,1897,0,1897.0505496000001,null,null,"BN18",null,"TBC","TBC","TBC","TBC","TBC","TBC",0,0,0]
["A19","Brendan O'Sullivan","UCC",483,0,0,447,413,1343,0,1343.0483446999999,null,null,"N19","Judith Bell","UU",0,239,378,376,134,1127,0,1127.0378376000001,null,null,"AA19","Philip Early","DCU",360,373,0,372,344,1449,0,1449.0373371999999,null,null,"AN19",null,"TBC","TBC","TBC","TBC","TBC","TBC",0,0,0,null,null,"BA19","Eric Moore","NUIG",399,380,0,322,384,1485,0,1485.0399384,null,null,"BN19",null,"TBC","TBC","TBC","TBC","TBC","TBC",0,0,0]
["A20","Brian Swayne","UCC",378,0,448,455,0,1281,0,1281.0455448,null,null,"N20","Fiona Maguire","UCD",0,0,246,281,371,898,0,898.03712810000002,null,null,"AA20","Leo Byrne","ITC",332,306,275,281,233,1427,233,1194.0332306,null,null,"AN20",null,"TBC","TBC","TBC","TBC","TBC","TBC",0,0,0,null,null,"BA20","Dáire Healy","DUAC",0,389,0,379,410,1178,0,1178.0410388999999,null,null,"BN20",null,"TBC","TBC","TBC","TBC","TBC","TBC",0,0,0]
["A21","Lorenzo Diago","DCU",0,480,371,420,0,1271,0,1271.0480419999999,null,null,"N21","Minni Hiltunen","DIT",0,0,0,432,389,821,0,821.04323890000001,null,null,"AA21","James Burke","NUIG",438,465,0,0,459,1362,0,1362.0465459,null,null,"AN21",null,"TBC","TBC","TBC","TBC","TBC","TBC",0,0,0,null,null,"BA21","Gary Kelly","DCU",484,480,0,0,0,964,0,964.04844800000001,null,null,"BN21",null,"TBC","TBC","TBC","TBC","TBC","TBC",0,0,0]
["A22","Wai Jian Keet","DKIT",0,441,0,360,464,1265,0,1265.0464440999999,null,null,"N22","Bruna Duarte","DIT",0,0,0,303,421,724,0,724.04213030000005,null,null,"AA22","Luke Blake","UL",282,324,332,331,0,1269,0,1269.0332331000002,null,null,"AN22",null,"TBC","TBC","TBC","TBC","TBC","TBC",0,0,0,null,null,"BA22","Oskar Ronan","DUAC",0,464,0,403,0,867,0,867.04644029999997,null,null,"BN22",null,"TBC","TBC","TBC","TBC","TBC","TBC",0,0,0]
["A23","Lim Cheng Bin","DKIT",443,0,154,249,296,1142,0,1142.0443296000001,null,null,"N23","Maria Borck","UL",239,0,231,0,232,702,0,702.02392320000001,null,null,"AA23","Yuji Okubo","DCU",458,432,0,0,0,890,0,890.04584320000004,null,null,"AN23",null,"TBC","TBC","TBC","TBC","TBC","TBC",0,0,0,null,null,"BA23","John Hally","UL",0,436,429,0,0,865,0,865.04364290000001,null,null,"BN23",null,"TBC","TBC","TBC","TBC","TBC","TBC",0,0,0]
["A24","Darragh Kellegher","UL",400,331,0,308,0,1039,0,1039.0400331000001,null,null,"N24","Laura Ciesa","UL",0,0,0,0,453,453,0,453.0453,null,null,"AA24","Kelvin Yee","DKIT",0,412,0,428,0,840,0,840.04284120000011,null,null,"AN24",null,"TBC","TBC","TBC","TBC","TBC","TBC",0,0,0,null,null,"BA24","Darren Wallace","NUIG",0,0,569,0,0,569,0,569.05690000000004,null,null,"BN24",null,"TBC","TBC","TBC","TBC","TBC","TBC",0,0,0]
["A25","Nathan Tracey","DIT",0,0,0,515,414,929,0,929.05154140000002,null,null,"N25","Vanessa Flood","DIT",0,0,0,444,0,444,0,444.0444,null,null,"AA25","Andy Canavan","DCU",429,400,0,0,0,829,0,829.04294000000004,null,null,"AN25",null,"TBC","TBC","TBC","TBC","TBC","TBC",0,0,0,null,null,"BA25","Simon Henleywillis","UCC",471,0,0,0,0,471,0,471.0471,null,null,"BN25",null,"TBC","TBC","TBC","TBC","TBC","TBC",0,0,0]
["A26","Andrew Neville","UU",0,0,380,365,0,745,0,745.03803649999998,null,null,"N26","Anna Bergert","DKIT",0,383,0,0,0,383,0,383.03829999999999,null,null,"AA26","Chris O'Leary","UCC",0,0,0,390,411,801,0,801.04113900000004,null,null,"AN26",null,"TBC","TBC","TBC","TBC","TBC","TBC",0,0,0,null,null,"BA26","Mark Walsh","NUIG",0,0,0,0,441,441,0,441.04410000000001,null,null,"BN26",null,"TBC","TBC","TBC","TBC","TBC","TBC",0,0,0]
["A27","Shane Fitzgerald","UCC",0,0,325,0,400,725,0,725.04003249999994,null,null,"N27","Zahratulfatin Mohd Mahfoz","RCSI",382,0,0,0,0,382,0,382.03820000000002,null,null,"AA27","James Greer","UCD",0,376,0,0,423,799,0,799.0423376,null,null,"AN27",null,"TBC","TBC","TBC","TBC","TBC","TBC",0,0,0,null,null,"BA27","Christo Pretorious","DUAC",0,290,0,0,0,290,0,290.029,null,null,"BN27",null,"TBC","TBC","TBC","TBC","TBC","TBC",0,0,0]
["A28","Kyle Rosso","UCD",0,0,374,0,349,723,0,723.03743489999999,null,null,"N28","Ozeane Zeis","UL",0,0,0,0,288,288,0,288.02879999999999,null,null,"AA28","Issabele Mayumi","DCU",343,0,0,338,0,681,0,681.03433380000001,null,null,"AN28",null,"TBC","TBC","TBC","TBC","TBC","TBC",0,0,0,null,null,"BA28",null,"TBC","TBC","TBC","TBC","TBC","TBC",0,0,0,null,null,"BN28",null,"TBC","TBC","TBC","TBC","TBC","TBC",0,0,0]
["A29","Jack Deane","NUIG",379,306,0,0,0,685,0,685.03793059999998,null,null,"N29","Marta Jurczak","DUAC",0,0,0,0,284,284,0,284.02839999999998,null,null,"AA29","Brian Conroy","UCC",0,0,293,0,366,659,0,659.03662930000007,null,null,"AN29",null,"TBC","TBC","TBC","TBC","TBC","TBC",0,0,0,null,null,"BA29",null,"TBC","TBC","TBC","TBC","TBC","TBC",0,0,0,null,null,"BN29",null,"TBC","TBC","TBC","TBC","TBC","TBC",0,0,0]
["A30","Yusuf Fauzi","UCC",0,0,194,0,339,533,0,533.03391940000006,null,null,"N30","Nor Fatin Farhani","RCSI",0,0,267,0,0,267,0,267.02670000000001,null,null,"AA30","Kieran Cullinane","NUIG",482,0,0,0,0,482,0,482.04820000000001,null,null,"AN30",null,"TBC","TBC","TBC","TBC","TBC","TBC",0,0,0,null,null,"BA30",null,"TBC","TBC","TBC","TBC","TBC","TBC",0,0,0,null,null,"BN30",null,"TBC","TBC","TBC","TBC","TBC","TBC",0,0,0]
["A31","Sven Radatz","DKIT",0,479,0,0,0,479,0,479.04790000000003,null,null,"N31","Martha Chege","UU",0,0,0,201,0,201,0,201.02010000000001,null,null,"AA31","Sean Sinnott","UL",0,385,0,0,0,385,0,385.0385,null,null,"AN31",null,"TBC","TBC","TBC","TBC","TBC","TBC",0,0,0,null,null,"BA31",null,"TBC","TBC","TBC","TBC","TBC","TBC",0,0,0,null,null,"BN31",null,"TBC","TBC","TBC","TBC","TBC","TBC",0,0,0]
["A32","Devon Long","UL",473,0,0,0,0,473,0,473.04730000000001,null,null,"N32","Apoorva Kashyap","UU",0,0,0,200,0,200,0,200.02,null,null,"AA32","Muhammad Hakim Mohd Nasir","RCSI",0,0,311,0,0,311,0,311.03109999999998,null,null,"AN32",null,"TBC","TBC","TBC","TBC","TBC","TBC",0,0,0,null,null,"BA32",null,"TBC","TBC","TBC","TBC","TBC","TBC",0,0,0,null,null,"BN32",null,"TBC","TBC","TBC","TBC","TBC","TBC",0,0,0]
["A33","Jonas Seesing","NUIG",470,0,0,0,0,470,0,470.04700000000003,null,null,"N33","Raja Nur Iyliani","RCSI",0,0,190,0,0,190,0,190.01900000000001,null,null,"AA33","DJ Roche","MU",0,306,0,0,0,306,0,306.03059999999999,null,null,"AN33",null,"TBC","TBC","TBC","TBC","TBC","TBC",0,0,0,null,null,"BA33",null,"TBC","TBC","TBC","TBC","TBC","TBC",0,0,0,null,null,"BN33",null,"TBC","TBC","TBC","TBC","TBC","TBC",0,0,0]
["A34","Artem Semenov","UL",0,0,0,0,405,405,0,405.04050000000001,null,null,"N34","Nadia Rodgers","UU",0,0,0,187,0,187,0,187.0187,null,null,"AA34","Shane O'Sulliven","UCC",0,0,0,303,0,303,0,303.03030000000001,null,null,"AN34",null,"TBC","TBC","TBC","TBC","TBC","TBC",0,0,0,null,null,"BA34",null,"TBC","TBC","TBC","TBC","TBC","TBC",0,0,0,null,null,"BN34",null,"TBC","TBC","TBC","TBC","TBC","TBC",0,0,0]
["A35","Gordon Cowpar","UCD",0,398,0,0,0,398,0,398.03980000000001,null,null,"N35","Bronwyn Berkeley","DUAC",0,121,0,0,0,121,0,121.0121,null,null,"AA35","Conor Moran","UL",0,257,0,0,0,257,0,257.02569999999997,null,null,"AN35",null,"TBC","TBC","TBC","TBC","TBC","TBC",0,0,0,null,null,"BA35",null,"TBC","TBC","TBC","TBC","TBC","TBC",0,0,0,null,null,"BN35",null,"TBC","TBC","TBC","TBC","TBC","TBC",0,0,0]
["A36","Aonghus Condren","UCD",0,387,0,0,0,387,0,387.03870000000001,null,null,"N36","Maeve Ruan","UCD",0,0,0,70,0,70,0,70.007000000000005,null,null,"AA36","Cian Butler","DCU",224,0,0,0,0,224,0,224.0224,null,null,"AN36",null,"TBC","TBC","TBC","TBC","TBC","TBC",0,0,0,null,null,"BA36",null,"TBC","TBC","TBC","TBC","TBC","TBC",0,0,0,null,null,"BN36",null,"TBC","TBC","TBC","TBC","TBC","TBC",0,0,0]
["A37","Ahmad Nasree M Khairuddin Lim","RCSI",372,0,0,0,0,372,0,372.03719999999998,null,null,"N37",null,"TBC","TBC","TBC","TBC","TBC","TBC",0,0,0,null,null,"AA37","Eoin Hartigan","UL",0,98,0,0,0,98,0,98.009799999999998,null,null,"AN37",null,"TBC","TBC","TBC","TBC","TBC","TBC",0,0,0,null,null,"BA37",null,"TBC","TBC","TBC","TBC","TBC","TBC",0,0,0,null,null,"BN37",null,"TBC","TBC","TBC","TBC","TBC","TBC",0,0,0]
["A38","Thijs Siebt","NUIG",0,371,0,0,0,371,0,371.03710000000001,null,null,"N38",null,"TBC","TBC","TBC","TBC","TBC","TBC",0,0,0,null,null,"AA38",null,"TBC","TBC","TBC","TBC","TBC","TBC",0,0,0,null,null,"AN38",null,"TBC","TBC","TBC","TBC","TBC","TBC",0,0,0,null,null,"BA38",null,"TBC","TBC","TBC","TBC","TBC","TBC",0,0,0,null,null,"BN38",null,"TBC","TBC","TBC","TBC","TBC","TBC",0,0,0]
["A39","Liam Doyle","UL",0,358,0,0,0,358,0,358.03579999999999,null,null,"N39",null,"TBC","TBC","TBC","TBC","TBC","TBC",0,0,0,null,null,"AA39",null,"TBC","TBC","TBC","TBC","TBC","TBC",0,0,0,null,null,"AN39",null,"TBC","TBC","TBC","TBC","TBC","TBC",0,0,0,null,null,"BA39",null,"TBC","TBC","TBC","TBC","TBC","TBC",0,0,0,null,null,"BN39",null,"TBC","TBC","TBC","TBC","TBC","TBC",0,0,0]
["A40","Jordan McMullan","UU",0,0,0,349,0,349,0,349.03489999999999,null,null,"N40",null,"TBC","TBC","TBC","TBC","TBC","TBC",0,0,0,null,null,"AA40",null,"TBC","TBC","TBC","TBC","TBC","TBC",0,0,0,null,null,"AN40",null,"TBC","TBC","TBC","TBC","TBC","TBC",0,0,0,null,null,"BA40",null,"TBC","TBC","TBC","TBC","TBC","TBC",0,0,0,null,null,"BN40",null,"TBC","TBC","TBC","TBC","TBC","TBC",0,0,0]
["A41","Thomas Joyce","UCD",0,339,0,0,0,339,0,339.03390000000002,null,null,"N41",null,"TBC","TBC","TBC","TBC","TBC","TBC",0,0,0,null,null,"AA41",null,"TBC","TBC","TBC","TBC","TBC","TBC",0,0,0,null,null,"AN41",null,"TBC","TBC","TBC","TBC","TBC","TBC",0,0,0,null,null,"BA41",null,"TBC","TBC","TBC","TBC","TBC","TBC",0,0,0,null,null,"BN41",null,"TBC","TBC","TBC","TBC","TBC","TBC",0,0,0]
["A42","Azeem Mohd Elias","UCD",335,0,0,0,0,335,0,335.0335,null,null,"N42",null,"TBC","TBC","TBC","TBC","TBC","TBC",0,0,0,null,null,"AA42",null,"TBC","TBC","TBC","TBC","TBC","TBC",0,0,0,null,null,"AN42",null,"TBC","TBC","TBC","TBC","TBC","TBC",0,0,0,null,null,"BA42",null,"TBC","TBC","TBC","TBC","TBC","TBC",0,0,0,null,null,"BN42",null,"TBC","TBC","TBC","TBC","TBC","TBC",0,0,0]
["A43","Hugh Carrol","DIT",0,0,0,0,285,285,0,285.02850000000001,null,null,"N43",null,"TBC","TBC","TBC","TBC","TBC","TBC",0,0,0,null,null,"AA43",null,"TBC","TBC","TBC","TBC","TBC","TBC",0,0,0,null,null,"AN43",null,"TBC","TBC","TBC","TBC","TBC","TBC",0,0,0,null,null,"BA43",null,"TBC","TBC","TBC","TBC","TBC","TBC",0,0,0,null,null,"BN43",null,"TBC","TBC","TBC","TBC","TBC","TBC",0,0,0]
["A44","Casey Patmore","UCD",0,261,0,0,0,261,0,261.02609999999999,null,null,"N44",null,"TBC","TBC","TBC","TBC","TBC","TBC",0,0,0,null,null,"AA44",null,"TBC","TBC","TBC","TBC","TBC","TBC",0,0,0,null,null,"AN44",null,"TBC","TBC","TBC","TBC","TBC","TBC",0,0,0,null,null,"BA44",null,"TBC","TBC","TBC","TBC","TBC","TBC",0,0,0,null,null,"BN44",null,"TBC","TBC","TBC","TBC","TBC","TBC",0,0,0]
["A45","Ian Nora","UL",249,0,0,0,0,249,0,249.0249,null,null,"N45",null,"TBC","TBC","TBC","TBC","TBC","TBC",0,0,0,null,null,"AA45",null,"TBC","TBC","TBC","TBC","TBC","TBC",0,0,0,null,null,"AN45",null,"TBC","TBC","TBC","TBC","TBC","TBC",0,0,0,null,null,"BA45",null,"TBC","TBC","TBC","TBC","TBC","TBC",0,0,0,null,null,"BN45",null,"TBC","TBC","TBC","TBC","TBC","TBC",0,0,0]
["A46","Jacob Byrne","DIT",0,0,0,225,0,225,0,225.02250000000001,null,null,"N46",null,"TBC","TBC","TBC","TBC","TBC","TBC",0,0,0,null,null,"AA46",null,"TBC","TBC","TBC","TBC","TBC","TBC",0,0,0,null,null,"AN46",null,"TBC","TBC","TBC","TBC","TBC","TBC",0,0,0,null,null,"BA46",null,"TBC","TBC","TBC","TBC","TBC","TBC",0,0,0,null,null,"BN46",null,"TBC","TBC","TBC","TBC","TBC","TBC",0,0,0]
["A47","Caoimhe Lalor","UCD",0,0,0,168,0,168,0,168.01679999999999,null,null,"N47",null,"TBC","TBC","TBC","TBC","TBC","TBC",0,0,0,null,null,"AA47",null,"TBC","TBC","TBC","TBC","TBC","TBC",0,0,0,null,null,"AN47",null,"TBC","TBC","TBC","TBC","TBC","TBC",0,0,0,null,null,"BA47",null,"TBC","TBC","TBC","TBC","TBC","TBC",0,0,0,null,null,"BN47",null,"TBC","TBC","TBC","TBC","TBC","TBC",0,0,0]
["A48",null,"TBC","TBC","TBC","TBC","TBC","TBC",0,0,0,null,null,"N48",null,"TBC","TBC","TBC","TBC","TBC","TBC",0,0,0,null,null,"AA48",null,"TBC","TBC","TBC","TBC","TBC","TBC",0,0,0,null,null,"AN48",null,"TBC","TBC","TBC","TBC","TBC","TBC",0,0,0,null,null,"BA48",null,"TBC","TBC","TBC","TBC","TBC","TBC",0,0,0,null,null,"BN48",null,"TBC","TBC","TBC","TBC","TBC","TBC",0,0,0]
["A49",null,"TBC","TBC","TBC","TBC","TBC","TBC",0,0,0,null,null,"N49",null,"TBC","TBC","TBC","TBC","TBC","TBC",0,0,0,null,null,"AA49",null,"TBC","TBC","TBC","TBC","TBC","TBC",0,0,0,null,null,"AN49",null,"TBC","TBC","TBC","TBC","TBC","TBC",0,0,0,null,null,"BA49",null,"TBC","TBC","TBC","TBC","TBC","TBC",0,0,0,null,null,"BN49",null,"TBC","TBC","TBC","TBC","TBC","TBC",0,0,0]
["A50",null,"TBC","TBC","TBC","TBC","TBC","TBC",0,0,0,null,null,"N50",null,"TBC","TBC","TBC","TBC","TBC","TBC",0,0,0,null,null,"AA50",null,"TBC","TBC","TBC","TBC","TBC","TBC",0,0,0,null,null,"AN50",null,"TBC","TBC","TBC","TBC","TBC","TBC",0,0,0,null,null,"BA50",null,"TBC","TBC","TBC","TBC","TBC","TBC",0,0,0,null,null,"BN50",null,"TBC","TBC","TBC","TBC","TBC","TBC",0,0,0]
["A51",null,"TBC","TBC","TBC","TBC","TBC","TBC",0,0,0,null,null,"N51",null,"TBC","TBC","TBC","TBC","TBC","TBC",0,0,0,null,null,"AA51",null,"TBC","TBC","TBC","TBC","TBC","TBC",0,0,0,null,null,"AN51",null,"TBC","TBC","TBC","TBC","TBC","TBC",0,0,0,null,null,"BA51",null,"TBC","TBC","TBC","TBC","TBC","TBC",0,0,0,null,null,"BN51",null,"TBC","TBC","TBC","TBC","TBC","TBC",0,0,0]
["A52",null,"TBC","TBC","TBC","TBC","TBC","TBC",0,0,0,null,null,"N52",null,"TBC","TBC","TBC","TBC","TBC","TBC",0,0,0,null,null,"AA52",null,"TBC","TBC","TBC","TBC","TBC","TBC",0,0,0,null,null,"AN52",null,"TBC","TBC","TBC","TBC","TBC","TBC",0,0,0,null,null,"BA52",null,"TBC","TBC","TBC","TBC","TBC","TBC",0,0,0,null,null,"BN52",null,"TBC","TBC","TBC","TBC","TBC","TBC",0,0,0]
["A53",null,"TBC","TBC","TBC","TBC","TBC","TBC",0,0,0,null,null,"N53",null,"TBC","TBC","TBC","TBC","TBC","TBC",0,0,0,null,null,"AA53",null,"TBC","TBC","TBC","TBC","TBC","TBC",0,0,0,null,null,"AN53",null,"TBC","TBC","TBC","TBC","TBC","TBC",0,0,0,null,null,"BA53",null,"TBC","TBC","TBC","TBC","TBC","TBC",0,0,0,null,null,"BN53",null,"TBC","TBC","TBC","TBC","TBC","TBC",0,0,0]
["A54",null,"TBC","TBC","TBC","TBC","TBC","TBC",0,0,0,null,null,"N54",null,"TBC","TBC","TBC","TBC","TBC","TBC",0,0,0,null,null,"AA54",null,"TBC","TBC","TBC","TBC","TBC","TBC",0,0,0,null,null,"AN54",null,"TBC","TBC","TBC","TBC","TBC","TBC",0,0,0,null,null,"BA54",null,"TBC","TBC","TBC","TBC","TBC","TBC",0,0,0,null,null,"BN54",null,"TBC","TBC","TBC","TBC","TBC","TBC",0,0,0]
["A55",null,"TBC","TBC","TBC","TBC","TBC","TBC",0,0,0,null,null,"N55",null,"TBC","TBC","TBC","TBC","TBC","TBC",0,0,0,null,null,"AA55",null,"TBC","TBC","TBC","TBC","TBC","TBC",0,0,0,null,null,"AN55",null,"TBC","TBC","TBC","TBC","TBC","TBC",0,0,0,null,null,"BA55",null,"TBC","TBC","TBC","TBC","TBC","TBC",0,0,0,null,null,"BN55",null,"TBC","TBC","TBC","TBC","TBC","TBC",0,0,0]
["A56",null,"TBC","TBC","TBC","TBC","TBC","TBC",0,0,0,null,null,"N56",null,"TBC","TBC","TBC","TBC","TBC","TBC",0,0,0,null,null,"AA56",null,"TBC","TBC","TBC","TBC","TBC","TBC",0,0,0,null,null,"AN56",null,"TBC","TBC","TBC","TBC","TBC","TBC",0,0,0,null,null,"BA56",null,"TBC","TBC","TBC","TBC","TBC","TBC",0,0,0,null,null,"BN56",null,"TBC","TBC","TBC","TBC","TBC","TBC",0,0,0]
["A57",null,"TBC","TBC","TBC","TBC","TBC","TBC",0,0,0,null,null,"N57",null,"TBC","TBC","TBC","TBC","TBC","TBC",0,0,0,null,null,"AA57",null,"TBC","TBC","TBC","TBC","TBC","TBC",0,0,0,null,null,"AN57",null,"TBC","TBC","TBC","TBC","TBC","TBC",0,0,0,null,null,"BA57",null,"TBC","TBC","TBC","TBC","TBC","TBC",0,0,0,null,null,"BN57",null,"TBC","TBC","TBC","TBC","TBC","TBC",0,0,0]
["A58",null,"TBC","TBC","TBC","TBC","TBC","TBC",0,0,0,null,null,"N58",null,"TBC","TBC","TBC","TBC","TBC","TBC",0,0,0,null,null,"AA58",null,"TBC","TBC","TBC","TBC","TBC","TBC",0,0,0,null,null,"AN58",null,"TBC","TBC","TBC","TBC","TBC","TBC",0,0,0,null,null,"BA58",null,"TBC","TBC","TBC","TBC","TBC","TBC",0,0,0,null,null,"BN58",null,"TBC","TBC","TBC","TBC","TBC","TBC",0,0,0]
["A59",null,"TBC","TBC","TBC","TBC","TBC","TBC",0,0,0,null,null,"N59",null,"TBC","TBC","TBC","TBC","TBC","TBC",0,0,0,null,null,"AA59",null,"TBC","TBC","TBC","TBC","TBC","TBC",0,0,0,null,null,"AN59",null,"TBC","TBC","TBC","TBC","TBC","TBC",0,0,0,null,null,"BA59",null,"TBC","TBC","TBC","TBC","TBC","TBC",0,0,0,null,null,"BN59",null,"TBC","TBC","TBC","TBC","TBC","TBC",0,0,0]
["A60",null,"TBC","TBC","TBC","TBC","TBC","TBC",0,0,0,null,null,"N60",null,"TBC","TBC","TBC","TBC","TBC","TBC",0,0,0,null,null,"AA60",null,"TBC","TBC","TBC","TBC","TBC","TBC",0,0,0,null,null,"AN60",null,"TBC","TBC","TBC","TBC","TBC","TBC",0,0,0,null,null,"BA60",null,"TBC","TBC","TBC","TBC","TBC","TBC",0,0,0,null,null,"BN60",null,"TBC","TBC","TBC","TBC","TBC","TBC",0,0,0]
["A61",null,"TBC","TBC","TBC","TBC","TBC","TBC",0,0,0,null,null,"N61",null,"TBC","TBC","TBC","TBC","TBC","TBC",0,0,0,null,null,"AA61",null,"TBC","TBC","TBC","TBC","TBC","TBC",0,0,0,null,null,"AN61",null,"TBC","TBC","TBC","TBC","TBC","TBC",0,0,0,null,null,"BA61",null,"TBC","TBC","TBC","TBC","TBC","TBC",0,0,0,null,null,"BN61",null,"TBC","TBC","TBC","TBC","TBC","TBC",0,0,0]
["A62",null,"TBC","TBC","TBC","TBC","TBC","TBC",0,0,0,null,null,"N62",null,"TBC","TBC","TBC","TBC","TBC","TBC",0,0,0,null,null,"AA62",null,"TBC","TBC","TBC","TBC","TBC","TBC",0,0,0,null,null,"AN62",null,"TBC","TBC","TBC","TBC","TBC","TBC",0,0,0,null,null,"BA62",null,"TBC","TBC","TBC","TBC","TBC","TBC",0,0,0,null,null,"BN62",null,"TBC","TBC","TBC","TBC","TBC","TBC",0,0,0]
["A63",null,"TBC","TBC","TBC","TBC","TBC","TBC",0,0,0,null,null,"N63",null,"TBC","TBC","TBC","TBC","TBC","TBC",0,0,0,null,null,"AA63",null,"TBC","TBC","TBC","TBC","TBC","TBC",0,0,0,null,null,"AN63",null,"TBC","TBC","TBC","TBC","TBC","TBC",0,0,0,null,null,"BA63",null,"TBC","TBC","TBC","TBC","TBC","TBC",0,0,0,null,null,"BN63",null,"TBC","TBC","TBC","TBC","TBC","TBC",0,0,0]
["A64",null,"TBC","TBC","TBC","TBC","TBC","TBC",0,0,0,null,null,"N64",null,"TBC","TBC","TBC","TBC","TBC","TBC",0,0,0,null,null,"AA64",null,"TBC","TBC","TBC","TBC","TBC","TBC",0,0,0,null,null,"AN64",null,"TBC","TBC","TBC","TBC","TBC","TBC",0,0,0,null,null,"BA64",null,"TBC","TBC","TBC","TBC","TBC","TBC",0,0,0,null,null,"BN64",null,"TBC","TBC","TBC","TBC","TBC","TBC",0,0,0]
["A65",null,"TBC","TBC","TBC","TBC","TBC","TBC",0,0,0,null,null,"N65",null,"TBC","TBC","TBC","TBC","TBC","TBC",0,0,0,null,null,"AA65",null,"TBC","TBC","TBC","TBC","TBC","TBC",0,0,0,null,null,"AN65",null,"TBC","TBC","TBC","TBC","TBC","TBC",0,0,0,null,null,"BA65",null,"TBC","TBC","TBC","TBC","TBC","TBC",0,0,0,null,null,"BN65",null,"TBC","TBC","TBC","TBC","TBC","TBC",0,0,0]
["A66",null,"TBC","TBC","TBC","TBC","TBC","TBC",0,0,0,null,null,"N66",null,"TBC","TBC","TBC","TBC","TBC","TBC",0,0,0,null,null,"AA66",null,"TBC","TBC","TBC","TBC","TBC","TBC",0,0,0,null,null,"AN66",null,"TBC","TBC","TBC","TBC","TBC","TBC",0,0,0,null,null,"BA66",null,"TBC","TBC","TBC","TBC","TBC","TBC",0,0,0,null,null,"BN66",null,"TBC","TBC","TBC","TBC","TBC","TBC",0,0,0]
["A67",null,"TBC","TBC","TBC","TBC","TBC","TBC",0,0,0,null,null,"N67",null,"TBC","TBC","TBC","TBC","TBC","TBC",0,0,0,null,null,"AA67",null,"TBC","TBC","TBC","TBC","TBC","TBC",0,0,0,null,null,"AN67",null,"TBC","TBC","TBC","TBC","TBC","TBC",0,0,0,null,null,"BA67",null,"TBC","TBC","TBC","TBC","TBC","TBC",0,0,0,null,null,"BN67",null,"TBC","TBC","TBC","TBC","TBC","TBC",0,0,0]
["A68",null,"TBC","TBC","TBC","TBC","TBC","TBC",0,0,0,null,null,"N68",null,"TBC","TBC","TBC","TBC","TBC","TBC",0,0,0,null,null,"AA68",null,"TBC","TBC","TBC","TBC","TBC","TBC",0,0,0,null,null,"AN68",null,"TBC","TBC","TBC","TBC","TBC","TBC",0,0,0,null,null,"BA68",null,"TBC","TBC","TBC","TBC","TBC","TBC",0,0,0,null,null,"BN68",null,"TBC","TBC","TBC","TBC","TBC","TBC",0,0,0]
["A69",null,"TBC","TBC","TBC","TBC","TBC","TBC",0,0,0,null,null,"N69",null,"TBC","TBC","TBC","TBC","TBC","TBC",0,0,0,null,null,"AA69",null,"TBC","TBC","TBC","TBC","TBC","TBC",0,0,0,null,null,"AN69",null,"TBC","TBC","TBC","TBC","TBC","TBC",0,0,0,null,null,"BA69",null,"TBC","TBC","TBC","TBC","TBC","TBC",0,0,0,null,null,"BN69",null,"TBC","TBC","TBC","TBC","TBC","TBC",0,0,0]
["A70",null,"TBC","TBC","TBC","TBC","TBC","TBC",0,0,0,null,null,"N70",null,"TBC","TBC","TBC","TBC","TBC","TBC",0,0,0,null,null,"AA70",null,"TBC","TBC","TBC","TBC","TBC","TBC",0,0,0,null,null,"AN70",null,"TBC","TBC","TBC","TBC","TBC","TBC",0,0,0,null,null,"BA70",null,"TBC","TBC","TBC","TBC","TBC","TBC",0,0,0,null,null,"BN70",null,"TBC","TBC","TBC","TBC","TBC","TBC",0,0,0]
["A71",null,"TBC","TBC","TBC","TBC","TBC","TBC",{"$f":"SUM(D71:H71)","v":0},{"$f":"MIN(D71:H71)","v":0},0,null,null,"N71",null,"TBC","TBC","TBC","TBC","TBC","TBC",{"$f":"SUM(Q71:U71)","v":0},0,0,null,null,"AA71",null,"TBC","TBC","TBC","TBC","TBC","TBC",{"$f":"SUM(AD71:AH71)","v":0},0,0,null,null,"AN71",null,"TBC","TBC","TBC","TBC","TBC","TBC",{"$f":"SUM(AQ71:AU71)","v":0},0,0,null,null,"BA71",null,"TBC","TBC","TBC","TBC","TBC","TBC",{"$f":"SUM(BD71:BH71)","v":0},0,0,null,null,"BN71",null,"TBC","TBC","TBC","TBC","TBC","TBC",{"$f":"SUM(BQ71:BU71)","v":0},0,0]
["A72",null,"TBC","TBC","TBC","TBC","TBC","TBC",0,0,{"$f":"IF(C72=\"TBC\",0,(I72-J72)+(LARGE(D72:H72,1)/10000)+(LARGE(D72:H72,2)/10000000))","v":0},null,null,"N72",null,"TBC","TBC","TBC","TBC","TBC","TBC",0,0,{"$f":"IF(P72=\"TBC\",0,(V72-W72)+(LARGE(Q72:U72,1)/10000)+(LARGE(Q72:U72,2)/10000000))","v":0},null,null,"AA72",null,"TBC","TBC","TBC","TBC","TBC","TBC",0,0,{"$f":"IF(AC72=\"TBC\",0,(AI72-AJ72)+(LARGE(AD72:AH72,1)/10000)+(LARGE(AD72:AH72,2)/10000000))","v":0},null,null,"AN72",null,"TBC","TBC","TBC","TBC","TBC","TBC",0,0,{"$f":"IF(AP72=\"TBC\",0,(AV72-AW72)+(LARGE(AQ72:AU72,1)/10000)+(LARGE(AQ72:AU72,2)/10000000))","v":0},null,null,"BA72",null,"TBC","TBC","TBC","TBC","TBC","TBC",0,0,{"$f":"IF(BC72=\"TBC\",0,(BI72-BJ72)+(LARGE(BD72:BH72,1)/10000)+(LARGE(BD72:BH72,2)/10000000))","v":0},null,null,"BN72",null,"TBC","TBC","TBC","TBC","TBC","TBC",0,0,{"$f":"IF(BP72=\"TBC\",0,(BV72-BW72)+(LARGE(BQ72:BU72,1)/10000)+(LARGE(BQ72:BU72,2)/10000000))","v":0}]
["A73",null,"TBC","TBC","TBC","TBC","TBC","TBC",0,0,0,null,null,"N73",null,"TBC","TBC","TBC","TBC","TBC","TBC",0,{"$f":"MIN(Q73:U73)","v":0},0,null,null,"AA73",null,"TBC","TBC","TBC","TBC","TBC","TBC",0,{"$f":"MIN(AD73:AH73)","v":0},0,null,null,"AN73",null,"TBC","TBC","TBC","TBC","TBC","TBC",0,{"$f":"MIN(AQ73:AU73)","v":0},0,null,null,"BA73",null,"TBC","TBC","TBC","TBC","TBC","TBC",0,{"$f":"MIN(BD73:BH73)","v":0},0,null,null,"BN73",null,"TBC","TBC","TBC","TBC","TBC","TBC",0,{"$f":"MIN(BQ73:BU73)","v":0},0]
["A74",null,"TBC","TBC","TBC","TBC","TBC","TBC",0,0,0,null,null,"N74",null,"TBC","TBC","TBC","TBC","TBC","TBC",0,0,0,null,null,"AA74",null,"TBC","TBC","TBC","TBC","TBC","TBC",0,0,0,null,null,"AN74",null,"TBC","TBC","TBC","TBC","TBC","TBC",0,0,0,null,null,"BA74",null,"TBC","TBC","TBC","TBC","TBC","TBC",0,0,0,null,null,"BN74",null,"TBC","TBC","TBC","TBC","TBC","TBC",0,0,0]
["A75",null,"TBC","TBC","TBC","TBC","TBC","TBC",0,0,0,null,null,"N75",null,"TBC","TBC","TBC","TBC","TBC","TBC",0,0,0,null,null,"AA75",null,"TBC","TBC","TBC","TBC","TBC","TBC",0,0,0,null,null,"AN75",null,"TBC","TBC","TBC","TBC","TBC","TBC",0,0,0,null,null,"BA75",null,"TBC","TBC","TBC","TBC","TBC","TBC",0,0,0,null,null,"BN75",null,"TBC","TBC","TBC","TBC","TBC","TBC",0,0,0]
["A76",null,"TBC","TBC","TBC","TBC","TBC","TBC",0,0,0,null,null,"N76",null,"TBC","TBC","TBC","TBC","TBC","TBC",0,0,0,null,null,"AA76",null,"TBC","TBC","TBC","TBC","TBC","TBC",0,0,0,null,null,"AN76",null,"TBC","TBC","TBC","TBC","TBC","TBC",0,0,0,null,null,"BA76",null,"TBC","TBC","TBC","TBC","TBC","TBC",0,0,0,null,null,"BN76",null,"TBC","TBC","TBC","TBC","TBC","TBC",0,0,0]
["A77",null,"TBC","TBC","TBC","TBC","TBC","TBC",0,0,0,null,null,"N77",null,"TBC","TBC","TBC","TBC","TBC","TBC",0,0,0,null,null,"AA77",null,"TBC","TBC","TBC","TBC","TBC","TBC",0,0,0,null,null,"AN77",null,"TBC","TBC","TBC","TBC","TBC","TBC",0,0,0,null,null,"BA77",null,"TBC","TBC","TBC","TBC","TBC","TBC",0,0,0,null,null,"BN77",null,"TBC","TBC","TBC","TBC","TBC","TBC",0,0,0]
["A78",null,"TBC","TBC","TBC","TBC","TBC","TBC",{"$f":"SUM(D78:H78)","v":0},{"$f":"MIN(D78:H78)","v":0},0,null,null,"N78",null,"TBC","TBC","TBC","TBC","TBC","TBC",0,0,0,null,null,"AA78",null,"TBC","TBC","TBC","TBC","TBC","TBC",0,0,0,null,null,"AN78",null,"TBC","TBC","TBC","TBC","TBC","TBC",0,0,0,null,null,"BA78",null,"TBC","TBC","TBC","TBC","TBC","TBC",0,0,0,null,null,"BN78",null,"TBC","TBC","TBC","TBC","TBC","TBC",0,0,0]
["A79",null,"TBC","TBC","TBC","TBC","TBC","TBC",0,0,0,null,null,"N79",null,"TBC","TBC","TBC","TBC","TBC","TBC",0,0,0,null,null,"AA79",null,"TBC","TBC","TBC","TBC","TBC","TBC",0,0,0,null,null,"AN79",null,"TBC","TBC","TBC","TBC","TBC","TBC",0,0,0,null,null,"BA79",null,"TBC","TBC","TBC","TBC","TBC","TBC",0,0,0,null,null,"BN79",null,"TBC","TBC","TBC","TBC","TBC","TBC",0,0,0]
["A80",null,"TBC","TBC","TBC","TBC","TBC","TBC",0,0,0,null,null,"N80",null,"TBC","TBC","TBC","TBC","TBC","TBC",0,0,0,null,null,"AA80",null,"TBC","TBC","TBC","TBC","TBC","TBC",0,0,0,null,null,"AN80",null,"TBC","TBC","TBC","TBC","TBC","TBC",0,0,0,null,null,"BA80",null,"TBC","TBC","TBC","TBC","TBC","TBC",0,0,0,null,null,"BN80",null,"TBC","TBC","TBC","TBC","TBC","TBC",0,0,0]
["A81",null,"TBC","TBC","TBC","TBC","TBC","TBC",0,0,0,null,null,"N81",null,"TBC","TBC","TBC","TBC","TBC","TBC",0,0,0,null,null,"AA81",null,"TBC","TBC","TBC","TBC","TBC","TBC",0,0,0,null,null,"AN81",null,"TBC","TBC","TBC","TBC","TBC","TBC",0,0,0,null,null,"BA81",null,"TBC","TBC","TBC","TBC","TBC","TBC",0,0,0,null,null,"BN81",null,"TBC","TBC","TBC","TBC","TBC","TBC",0,0,0]
["A82",0,"TBC","TBC","TBC","TBC","TBC","TBC",0,0,0,null,null,"N82",0,"TBC","TBC","TBC","TBC","TBC","TBC",0,0,0,null,null,"AA82",0,"TBC","TBC","TBC","TBC","TBC","TBC",0,0,0,null,null,"AN82",0,"TBC","TBC","TBC","TBC","TBC","TBC",0,0,0,null,null,"BA82",0,"TBC","TBC","TBC","TBC","TBC","TBC",0,0,0,null,null,"BN82",0,"TBC","TBC","TBC","TBC","TBC","TBC",0,0,0]
[]
[]
[]
[]
[null,"Gender","M",null,"Male Beginner Barebow",null,null,null,null,null,null,null,null,null,"Gender","F",null,"Female Beginner Barebow",null,null,null,null,null,null,null,null,null,"Gender","M",null,"Male Advanced Barebow",null,null,null,null,null,null,null,null,null,"Gender","F",null,"Female Advanced Barebow",null,null,null,null,null,null,null,null,null,"Gender","M",null,"Male Compound",null,null,null,null,null,null,null,null,null,"Gender","F",null,"Female Compound"]
[null,"Bow","Barebow",null,null,null,null,null,null,null,null,null,null,null,"Bow","Barebow",null,null,null,null,null,null,null,null,null,null,null,"Bow","Barebow",null,null,null,null,null,null,null,null,null,null,null,"Bow","Barebow",null,null,null,null,null,null,null,null,null,null,null,"Bow","Compound",null,null,null,null,null,null,null,null,null,null,null,"Bow","Compound"]
[null,"Level","Beginner",null,null,null,null,null,null,null,null,null,null,null,"Level","Beginner",null,null,null,null,null,null,null,null,null,null,null,"Level","Advanced",null,null,null,null,null,null,null,null,null,null,null,"Level","Advanced",null,null,null,null,null,null,null,null,null,null,null,"Level","(Multiple Items)",null,null,null,null,null,null,null,null,null,null,null,"Level","(Multiple Items)"]
[]
[null,"Sum of Points",null,"IV",null,null,null,null," Grand Total","Lowest","League total",null,null,null,"Sum of Points",null,"IV",null,null,null,null," Grand Total","Lowest","League total",null,null,null,"Sum of Points",null,"IV",null,null,null,null," Grand Total","Lowest","League total",null,null,null,"Sum of Points",null,"IV",null,null,null,null," Grand Total","Lowest","League total",null,null,null,"Sum of Points",null,"IV",null,null,null,null,"Total","Minimum","League total",null,null,null,"Sum of Points",null,"IV",null,null,null,null," Grand Total","Lowest","League total"]
[null,"Name","College","UL","DkIT","GMIT","DCU","NUIG",null,null,null,null,null,null,"Name","College","UL","DkIT","GMIT","DCU","NUIG",null,null,null,null,null,null,"Name","College","UL","DkIT","GMIT","DCU","NUIG",null,null,null,null,null,null,"Name","College","UL","DkIT","GMIT","DCU","NUIG",null,null,null,null,null,null,"Name","College","UL","DkIT","GMIT","DCU","NUIG",null,null,null,null,null,null,"Name","College","UL","DkIT","GMIT","DCU","NUIG"]
["A93","Andrew Fahey","GMIT",393,391,439,307,360,{"$f":"SUM(D93:H93)","v":1890},{"$f":"MIN(D93:H93)","v":307},{"$f":"IF(C93=\"TBC\",0,(I93-J93)+(LARGE(D93:H93,1)/10000)+(LARGE(D93:H93,2)/10000000))","v":1583.0439392999999},null,null,"N93","Siobhán Tuffy","GMIT",365,388,420,234,201,{"$f":"SUM(Q93:U93)","v":1608},{"$f":"MIN(Q93:U93)","v":201},{"$f":"IF(P93=\"TBC\",0,(V93-W93)+(LARGE(Q93:U93,1)/10000)+(LARGE(Q93:U93,2)/10000000))","v":1407.0420388},null,null,"AA93","Dean Lalor","DCU",413,394,446,469,437,{"$f":"SUM(AD93:AH93)","v":2159},{"$f":"MIN(AD93:AH93)","v":394},{"$f":"IF(AC93=\"TBC\",0,(AI93-AJ93)+(LARGE(AD93:AH93,1)/10000)+(LARGE(AD93:AH93,2)/10000000))","v":1765.0469446},null,null,"AN93","Sarah Howard","DCU",296,357,0,296,342,{"$f":"SUM(AQ93:AU93)","v":1291},{"$f":"MIN(AQ93:AU93)","v":0},{"$f":"IF(AP93=\"TBC\",0,(AV93-AW93)+(LARGE(AQ93:AU93,1)/10000)+(LARGE(AQ93:AU93,2)/10000000))","v":1291.0357342},null,null,"BA93","Glen Conway","IT Tallaght",568,564,537,565,567,{"$f":"SUM(BD93:BH93)","v":2801},{"$f":"MIN(BD93:BH93)","v":537},{"$f":"IF(BC93=\"TBC\",0,(BI93-BJ93)+(LARGE(BD93:BH93,1)/10000)+(LARGE(BD93:BH93,2)/10000000))","v":2264.0568567},null,null,"BN93","Niamh Kenny","NUIG",529,541,538,543,517,{"$f":"SUM(BQ93:BU93)","v":2668},{"$f":"MIN(BQ93:BU93)","v":517},{"$f":"IF(BP93=\"TBC\",0,(BV93-BW93)+(LARGE(BQ93:BU93,1)/10000)+(LARGE(BQ93:BU93,2)/10000000))","v":2151.0543540999997}]
["A94","Jamie McMahon","IT Tallaght",380,383,431,331,271,{"$f":"SUM(D94:H94)","v":1796},{"$f":"MIN(D94:H94)","v":271},1525.0431383,null,null,"N94","Hannah Cunniffe","GMIT",170,320,329,402,365,{"$f":"SUM(Q94:U94)","v":1586},{"$f":"MIN(Q94:U94)","v":170},1416.0402365,null,null,"AA94","Bernard O'Connor","DCU",326,411,403,379,404,{"$f":"SUM(AD94:AH94)","v":1923},{"$f":"MIN(AD94:AH94)","v":326},1597.0411403999999,null,null,"AN94","Raizel Burstein-Frame","NUIG",159,159,174,0,0,{"$f":"SUM(AQ94:AU94)","v":492},{"$f":"MIN(AQ94:AU94)","v":0},492.0174159,null,null,"BA94","Cillian Byrne","DCU",544,547,539,540,535,{"$f":"SUM(BD94:BH94)","v":2705},{"$f":"MIN(BD94:BH94)","v":535},2170.0547544000001,null,null,"BN94","Niamh Merry","DCU",361,516,523,513,386,{"$f":"SUM(BQ94:BU94)","v":2299},{"$f":"MIN(BQ94:BU94)","v":361},1938.0523516000001]
["A95","Elliot Barry","MU",241,337,348,380,322,1628,241,1387.0380348000001,null,null,"N95","Yingbo Li","ITC",154,239,378,395,396,1562,154,1408.0396395,null,null,"AA95","Niall O'Hanlon","DCU",422,331,407,362,353,1875,331,1544.0422407000001,null,null,"AN95","Aoife Monaghan","GMIT",0,0,0,156,307,463,0,463.03071560000001,null,null,"BA95","Luke Oonan","DCU",265,394,497,520,506,2182,265,1917.0520505999998,null,null,"BN95","Beth Freeman","DCU",494,517,0,526,517,2054,0,2054.0526516999998]
["A96","Sean Potts","MU",0,327,406,325,365,1423,0,1423.0406365000001,null,null,"N96","Charlotte Lokko","MU",206,275,306,267,307,1361,206,1155.0307306,null,null,"AA96","Jericho Siababa","DCU",0,437,465,457,486,1845,0,1845.0486465000001,null,null,"AN96","Nada Khaled-Abdo","NUIG",367,0,0,0,0,367,0,367.0367,null,null,"BA96","Marko Kovacevic","GMIT",539,548,0,547,542,2176,0,2176.0548546999999,null,null,"BN96","Kerrie Leonard","MU",537,0,0,0,0,537,0,537.05370000000005]
["A97","Shannon Birch","IT Tallaght",261,387,351,0,384,1383,0,1383.0387384000001,null,null,"N97","Sorcha Griffin","MU",0,337,338,354,327,1356,0,1356.0354338,null,null,"AA97","Pawel Nalecz-Nieniewski","ITC",353,364,359,357,395,1828,353,1475.0395364000001,null,null,"AN97","Emily Flanagan","NUIG",286,0,0,0,0,286,0,286.02859999999998,null,null,"BA97","Brendan Browne","GMIT",532,0,548,545,547,2172,0,2172.0548546999999,null,null,"BN97","Morgan Russell-Cowan","UU",0,0,0,523,0,523,0,523.05229999999995]
["A98","Ciarán Martin","MU",380,0,298,327,296,1301,0,1301.0380327,null,null,"N98","Katie Kruse","NUIG",0,0,303,262,421,986,0,986.04213030000005,null,null,"AA98","Conor Ó Beoláin","NUIG",471,393,0,340,0,1204,0,1204.0471393,null,null,"AN98","Ellis O'Sulliven","UCD",0,0,0,157,0,157,0,157.01570000000001,null,null,"BA98","Joao Vitor","NUIG",380,0,405,430,495,1710,0,1710.0495430000001,null,null,"BN98",null,"TBC","TBC","TBC","TBC","TBC","TBC",0,0,0]
["A99","Christopher Balfe","IT Tallaght",0,0,439,395,369,1203,0,1203.0439394999999,null,null,"N99","Emma-Jane Doyle","IT Tallaght",184,0,223,278,291,976,0,976.02912779999997,null,null,"AA99","David Price","ITC",391,403,370,0,0,1164,0,1164.0403391,null,null,"AN99",null,"TBC","TBC","TBC","TBC","TBC","TBC",0,0,0,null,null,"BA99","Christopher Ryan","NUIG",565,549,0,0,561,1675,0,1675.0565560999999,null,null,"BN99",null,"TBC","TBC","TBC","TBC","TBC","TBC",0,0,0]
["A100","Brian McDonagh ITT","IT Tallaght",205,0,308,283,313,1109,0,1109.0313308000002,null,null,"N100","Caroline Clarke","GMITC",283,0,167,181,260,891,0,891.02832599999999,null,null,"AA100","Andrew Warrington","GMITC",306,0,274,0,321,901,0,901.03213059999996,null,null,"AN100",null,"TBC","TBC","TBC","TBC","TBC","TBC",0,0,0,null,null,"BA100","Eimhin Gaynor","GMIT",0,0,0,559,566,1125,0,1125.0566558999999,null,null,"BN100",null,"TBC","TBC","TBC","TBC","TBC","TBC",0,0,0]
["A101","Richard Morrell","ITC",313,238,0,292,0,843,0,843.03132919999996,null,null,"N101","Julie Saes","NUIG",0,0,307,0,451,758,0,758.04513070000007,null,null,"AA101","Daniel Kelly","NUIG",0,293,383,0,0,676,0,676.0383293000001,null,null,"AN101",null,"TBC","TBC","TBC","TBC","TBC","TBC",0,0,0,null,null,"BA101","Shane McGloin","GMIT",0,0,538,548,0,1086,0,1086.0548537999998,null,null,"BN101",null,"TBC","TBC","TBC","TBC","TBC","TBC",0,0,0]
["A102","Cormac Begley","DUAC",0,282,253,0,267,802,0,802.0282267,null,null,"N102","Gabrielle Zeman","NUIG",0,0,193,0,429,622,0,622.04291929999999,null,null,"AA102","Jay McCarron","GMIT",0,0,62,0,0,62,0,62.0062,null,null,"AN102",null,"TBC","TBC","TBC","TBC","TBC","TBC",0,0,0,null,null,"BA102","Devon Long","UL",0,0,520,520,0,1040,0,1040.052052,null,null,"BN102",null,"TBC","TBC","TBC","TBC","TBC","TBC",0,0,0]
["A103","Eoin Dwyer","GMITC",243,0,0,353,188,784,0,784.03532429999996,null,null,"N103","Maorgain Siede","UCC",0,0,232,0,202,434,0,434.02322019999997,null,null,"AA103",null,"TBC","TBC","TBC","TBC","TBC","TBC",0,0,0,null,null,"AN103",null,"TBC","TBC","TBC","TBC","TBC","TBC",0,0,0,null,null,"BA103","James Floyd","MU",0,0,507,0,510,1017,0,1017.0510507,null,null,"BN103",null,"TBC","TBC","TBC","TBC","TBC","TBC",0,0,0]
["A104","Mark Harrington","NUIG",0,0,341,0,441,782,0,782.04413409999995,null,null,"N104","Niamh Meyler","NUIG",0,0,0,348,0,348,0,348.03480000000002,null,null,"AA104",null,"TBC","TBC","TBC","TBC","TBC","TBC",0,0,0,null,null,"AN104",null,"TBC","TBC","TBC","TBC","TBC","TBC",0,0,0,null,null,"BA104","Carl Byrne","NUIG",0,0,560,0,0,560,0,560.05600000000004,null,null,"BN104",null,"TBC","TBC","TBC","TBC","TBC","TBC",0,0,0]
["A105","Jack Buttery","DUAC",0,144,308,0,319,771,0,771.03193079999994,null,null,"N105","Sophie Hunt","GMITC",0,0,0,0,318,318,0,318.03179999999998,null,null,"AA105",null,"TBC","TBC","TBC","TBC","TBC","TBC",0,0,0,null,null,"AN105",null,"TBC","TBC","TBC","TBC","TBC","TBC",0,0,0,null,null,"BA105","Ross McQuade","UU",0,0,0,261,0,261,0,261.02609999999999,null,null,"BN105",null,"TBC","TBC","TBC","TBC","TBC","TBC",0,0,0]
["A106","Eoin De Brit","MU",0,0,0,422,336,758,0,758.04223360000003,null,null,"N106","Melissa Gueey","ITC",0,0,0,0,317,317,0,317.0317,null,null,"AA106",null,"TBC","TBC","TBC","TBC","TBC","TBC",0,0,0,null,null,"AN106",null,"TBC","TBC","TBC","TBC","TBC","TBC",0,0,0,null,null,"BA106",null,"TBC","TBC","TBC","TBC","TBC","TBC",0,0,0,null,null,"BN106",null,"TBC","TBC","TBC","TBC","TBC","TBC",0,0,0]
["A107","Darren Martyn","GMIT",0,0,291,0,440,731,0,731.04402909999999,null,null,"N107","Laury Despres","MU",310,0,0,0,0,310,0,310.03100000000001,null,null,"AA107",null,"TBC","TBC","TBC","TBC","TBC","TBC",0,0,0,null,null,"AN107",null,"TBC","TBC","TBC","TBC","TBC","TBC",0,0,0,null,null,"BA107",null,"TBC","TBC","TBC","TBC","TBC","TBC",0,0,0,null,null,"BN107",null,"TBC","TBC","TBC","TBC","TBC","TBC",0,0,0]
["A108","Dylan Do Couto","DCU",0,339,0,344,0,683,0,683.03443389999995,null,null,"N108","Heather Kelly","IT Tallaght",118,187,0,0,0,305,0,305.01871180000001,null,null,"AA108",null,"TBC","TBC","TBC","TBC","TBC","TBC",0,0,0,null,null,"AN108",null,"TBC","TBC","TBC","TBC","TBC","TBC",0,0,0,null,null,"BA108",null,"TBC","TBC","TBC","TBC","TBC","TBC",0,0,0,null,null,"BN108",null,"TBC","TBC","TBC","TBC","TBC","TBC",0,0,0]
["A109","Darren Watkin","MU",0,287,0,380,0,667,0,667.03802870000004,null,null,"N109","Amy Garde","UCC",0,0,0,0,289,289,0,289.02890000000002,null,null,"AA109",null,"TBC","TBC","TBC","TBC","TBC","TBC",0,0,0,null,null,"AN109",null,"TBC","TBC","TBC","TBC","TBC","TBC",0,0,0,null,null,"BA109",null,"TBC","TBC","TBC","TBC","TBC","TBC",0,0,0,null,null,"BN109",null,"TBC","TBC","TBC","TBC","TBC","TBC",0,0,0]
["A110","Raymond Conlin","NUIG",0,326,313,0,0,639,0,639.03263130000005,null,null,"N110","Siobhan Flynn","DUAC",0,284,0,0,0,284,0,284.02839999999998,null,null,"AA110",null,"TBC","TBC","TBC","TBC","TBC","TBC",0,0,0,null,null,"AN110",null,"TBC","TBC","TBC","TBC","TBC","TBC",0,0,0,null,null,"BA110",null,"TBC","TBC","TBC","TBC","TBC","TBC",0,0,0,null,null,"BN110",null,"TBC","TBC","TBC","TBC","TBC","TBC",0,0,0]
["A111","Blair Flinn","UCD",534,0,0,0,0,534,0,534.05340000000001,null,null,"N111","Michaela Ní Mhurchú","GMITC",0,0,77,0,200,277,0,277.02000770000001,null,null,"AA111",null,"TBC","TBC","TBC","TBC","TBC","TBC",0,0,0,null,null,"AN111",null,"TBC","TBC","TBC","TBC","TBC","TBC",0,0,0,null,null,"BA111",null,"TBC","TBC","TBC","TBC","TBC","TBC",0,0,0,null,null,"BN111",null,"TBC","TBC","TBC","TBC","TBC","TBC",0,0,0]
["A112","Thomas Ganley","GMITC",255,0,0,267,0,522,0,522.0267255,null,null,"N112","Anke Jaeger","NUIG",0,250,0,0,0,250,0,250.02500000000001,null,null,"AA112",null,"TBC","TBC","TBC","TBC","TBC","TBC",0,0,0,null,null,"AN112",null,"TBC","TBC","TBC","TBC","TBC","TBC",0,0,0,null,null,"BA112",null,"TBC","TBC","TBC","TBC","TBC","TBC",0,0,0,null,null,"BN112",null,"TBC","TBC","TBC","TBC","TBC","TBC",0,0,0]
["A113","Sean Flynn","IT Tallaght",0,0,0,276,245,521,0,521.0276245,null,null,"N113","Alessandra Pennesi","NUIG",0,0,211,0,0,211,0,211.02109999999999,null,null,"AA113",null,"TBC","TBC","TBC","TBC","TBC","TBC",0,0,0,null,null,"AN113",null,"TBC","TBC","TBC","TBC","TBC","TBC",0,0,0,null,null,"BA113",null,"TBC","TBC","TBC","TBC","TBC","TBC",0,0,0,null,null,"BN113",null,"TBC","TBC","TBC","TBC","TBC","TBC",0,0,0]
["A114","Lee Nolan","GMITC",0,0,0,211,291,502,0,502.02912110000005,null,null,"N114","Nicole Maoirano","DUAC",0,0,42,0,155,197,0,197.01550420000001,null,null,"AA114",null,"TBC","TBC","TBC","TBC","TBC","TBC",0,0,0,null,null,"AN114",null,"TBC","TBC","TBC","TBC","TBC","TBC",0,0,0,null,null,"BA114",null,"TBC","TBC","TBC","TBC","TBC","TBC",0,0,0,null,null,"BN114",null,"TBC","TBC","TBC","TBC","TBC","TBC",0,0,0]
["A115","Matthew O'Connor","MU",0,465,0,0,0,465,0,465.04649999999998,null,null,"N115",null,"TBC","TBC","TBC","TBC","TBC","TBC",0,0,0,null,null,"AA115",null,"TBC","TBC","TBC","TBC","TBC","TBC",0,0,0,null,null,"AN115",null,"TBC","TBC","TBC","TBC","TBC","TBC",0,0,0,null,null,"BA115",null,"TBC","TBC","TBC","TBC","TBC","TBC",0,0,0,null,null,"BN115",null,"TBC","TBC","TBC","TBC","TBC","TBC",0,0,0]
["A116","Brian McDonagh MU","MU",0,0,0,430,0,430,0,430.04300000000001,null,null,"N116",null,"TBC","TBC","TBC","TBC","TBC","TBC",0,0,0,null,null,"AA116",null,"TBC","TBC","TBC","TBC","TBC","TBC",0,0,0,null,null,"AN116",null,"TBC","TBC","TBC","TBC","TBC","TBC",0,0,0,null,null,"BA116",null,"TBC","TBC","TBC","TBC","TBC","TBC",0,0,0,null,null,"BN116",null,"TBC","TBC","TBC","TBC","TBC","TBC",0,0,0]
["A117","Gavin Munnelly","DCU",0,0,0,417,0,417,0,417.04169999999999,null,null,"N117",null,"TBC","TBC","TBC","TBC","TBC","TBC",0,0,0,null,null,"AA117",null,"TBC","TBC","TBC","TBC","TBC","TBC",0,0,0,null,null,"AN117",null,"TBC","TBC","TBC","TBC","TBC","TBC",0,0,0,null,null,"BA117",null,"TBC","TBC","TBC","TBC","TBC","TBC",0,0,0,null,null,"BN117",null,"TBC","TBC","TBC","TBC","TBC","TBC",0,0,0]
["A118","Ciarán Martin ","MU",0,413,0,0,0,413,0,413.04129999999998,null,null,"N118",null,"TBC","TBC","TBC","TBC","TBC","TBC",0,0,0,null,null,"AA118",null,"TBC","TBC","TBC","TBC","TBC","TBC",0,0,0,null,null,"AN118",null,"TBC","TBC","TBC","TBC","TBC","TBC",0,0,0,null,null,"BA118",null,"TBC","TBC","TBC","TBC","TBC","TBC",0,0,0,null,null,"BN118",null,"TBC","TBC","TBC","TBC","TBC","TBC",0,0,0]
["A119","Domagoj Kos","UCD",0,0,0,0,398,398,0,398.03980000000001,null,null,"N119",null,"TBC","TBC","TBC","TBC","TBC","TBC",0,0,0,null,null,"AA119",null,"TBC","TBC","TBC","TBC","TBC","TBC",0,0,0,null,null,"AN119",null,"TBC","TBC","TBC","TBC","TBC","TBC",0,0,0,null,null,"BA119",null,"TBC","TBC","TBC","TBC","TBC","TBC",0,0,0,null,null,"BN119",null,"TBC","TBC","TBC","TBC","TBC","TBC",0,0,0]
["A120","Victor Stoian","MU",0,377,0,0,0,377,0,377.03769999999997,null,null,"N120",null,"TBC","TBC","TBC","TBC","TBC","TBC",0,0,0,null,null,"AA120",null,"TBC","TBC","TBC","TBC","TBC","TBC",0,0,0,null,null,"AN120",null,"TBC","TBC","TBC","TBC","TBC","TBC",0,0,0,null,null,"BA120",null,"TBC","TBC","TBC","TBC","TBC","TBC",0,0,0,null,null,"BN120",null,"TBC","TBC","TBC","TBC","TBC","TBC",0,0,0]
["A121","Ryan Claffey","GMIT",0,0,0,0,371,371,0,371.03710000000001,null,null,"N121",null,"TBC","TBC","TBC","TBC","TBC","TBC",0,0,0,null,null,"AA121",null,"TBC","TBC","TBC","TBC","TBC","TBC",0,0,0,null,null,"AN121",null,"TBC","TBC","TBC","TBC","TBC","TBC",0,0,0,null,null,"BA121",null,"TBC","TBC","TBC","TBC","TBC","TBC",0,0,0,null,null,"BN121",null,"TBC","TBC","TBC","TBC","TBC","TBC",0,0,0]
["A122","Connor Newman","MU",359,0,0,0,0,359,0,359.03590000000003,null,null,"N122",null,"TBC","TBC","TBC","TBC","TBC","TBC",0,0,0,null,null,"AA122",null,"TBC","TBC","TBC","TBC","TBC","TBC",0,0,0,null,null,"AN122",null,"TBC","TBC","TBC","TBC","TBC","TBC",0,0,0,null,null,"BA122",null,"TBC","TBC","TBC","TBC","TBC","TBC",0,0,0,null,null,"BN122",null,"TBC","TBC","TBC","TBC","TBC","TBC",0,0,0]
["A123","Conn De Barra","DUAC",0,0,0,152,201,353,0,353.02011520000002,null,null,"N123",null,"TBC","TBC","TBC","TBC","TBC","TBC",0,0,0,null,null,"AA123",null,"TBC","TBC","TBC","TBC","TBC","TBC",0,0,0,null,null,"AN123",null,"TBC","TBC","TBC","TBC","TBC","TBC",0,0,0,null,null,"BA123",null,"TBC","TBC","TBC","TBC","TBC","TBC",0,0,0,null,null,"BN123",null,"TBC","TBC","TBC","TBC","TBC","TBC",0,0,0]
["A124","Theo De Groot","UU",0,0,0,351,0,351,0,351.0351,null,null,"N124",null,"TBC","TBC","TBC","TBC","TBC","TBC",0,0,0,null,null,"AA124",null,"TBC","TBC","TBC","TBC","TBC","TBC",0,0,0,null,null,"AN124",null,"TBC","TBC","TBC","TBC","TBC","TBC",0,0,0,null,null,"BA124",null,"TBC","TBC","TBC","TBC","TBC","TBC",0,0,0,null,null,"BN124",null,"TBC","TBC","TBC","TBC","TBC","TBC",0,0,0]
["A125","Raymond Onwunali","MU",0,0,0,0,334,334,0,334.03339999999997,null,null,"N125",null,"TBC","TBC","TBC","TBC","TBC","TBC",0,0,0,null,null,"AA125",null,"TBC","TBC","TBC","TBC","TBC","TBC",0,0,0,null,null,"AN125",null,"TBC","TBC","TBC","TBC","TBC","TBC",0,0,0,null,null,"BA125",null,"TBC","TBC","TBC","TBC","TBC","TBC",0,0,0,null,null,"BN125",null,"TBC","TBC","TBC","TBC","TBC","TBC",0,0,0]
["A126","Rashed Alfuzaie","RCSI",0,0,326,0,0,326,0,326.0326,null,null,"N126",null,"TBC","TBC","TBC","TBC","TBC","TBC",0,0,0,null,null,"AA126",null,"TBC","TBC","TBC","TBC","TBC","TBC",0,0,0,null,null,"AN126",null,"TBC","TBC","TBC","TBC","TBC","TBC",0,0,0,null,null,"BA126",null,"TBC","TBC","TBC","TBC","TBC","TBC",0,0,0,null,null,"BN126",null,"TBC","TBC","TBC","TBC","TBC","TBC",0,0,0]
["A127","Conor Sheridan","UCD",0,0,0,299,0,299,0,299.0299,null,null,"N127",null,"TBC","TBC","TBC","TBC","TBC","TBC",0,0,0,null,null,"AA127",null,"TBC","TBC","TBC","TBC","TBC","TBC",0,0,0,null,null,"AN127",null,"TBC","TBC","TBC","TBC","TBC","TBC",0,0,0,null,null,"BA127",null,"TBC","TBC","TBC","TBC","TBC","TBC",0,0,0,null,null,"BN127",null,"TBC","TBC","TBC","TBC","TBC","TBC",0,0,0]
["A128","David Melcher","IT Tallaght",0,285,0,0,0,285,0,285.02850000000001,null,null,"N128",null,"TBC","TBC","TBC","TBC","TBC","TBC",0,0,0,null,null,"AA128",null,"TBC","TBC","TBC","TBC","TBC","TBC",0,0,0,null,null,"AN128",null,"TBC","TBC","TBC","TBC","TBC","TBC",0,0,0,null,null,"BA128",null,"TBC","TBC","TBC","TBC","TBC","TBC",0,0,0,null,null,"BN128",null,"TBC","TBC","TBC","TBC","TBC","TBC",0,0,0]
["A129","Jonnie Swain","UU",0,0,0,0,279,279,0,279.02789999999999,null,null,"N129",null,"TBC","TBC","TBC","TBC","TBC","TBC",0,0,0,null,null,"AA129",null,"TBC","TBC","TBC","TBC","TBC","TBC",0,0,0,null,null,"AN129",null,"TBC","TBC","TBC","TBC","TBC","TBC",0,0,0,null,null,"BA129",null,"TBC","TBC","TBC","TBC","TBC","TBC",0,0,0,null,null,"BN129",null,"TBC","TBC","TBC","TBC","TBC","TBC",0,0,0]
["A130","Vojtěch Halama","NUIG",0,271,0,0,0,271,0,271.02710000000002,null,null,"N130",null,"TBC","TBC","TBC","TBC","TBC","TBC",0,0,0,null,null,"AA130",null,"TBC","TBC","TBC","TBC","TBC","TBC",0,0,0,null,null,"AN130",null,"TBC","TBC","TBC","TBC","TBC","TBC",0,0,0,null,null,"BA130",null,"TBC","TBC","TBC","TBC","TBC","TBC",0,0,0,null,null,"BN130",null,"TBC","TBC","TBC","TBC","TBC","TBC",0,0,0]
["A131","Simon Bluett","DUAC",0,0,0,0,248,248,0,248.0248,null,null,"N131",null,"TBC","TBC","TBC","TBC","TBC","TBC",0,0,0,null,null,"AA131",null,"TBC","TBC","TBC","TBC","TBC","TBC",0,0,0,null,null,"AN131",null,"TBC","TBC","TBC","TBC","TBC","TBC",0,0,0,null,null,"BA131",null,"TBC","TBC","TBC","TBC","TBC","TBC",0,0,0,null,null,"BN131",null,"TBC","TBC","TBC","TBC","TBC","TBC",0,0,0]
["A132","Andrew Fairbrother","UCD",242,0,0,0,0,242,0,242.02420000000001,null,null,"N132",null,"TBC","TBC","TBC","TBC","TBC","TBC",0,0,0,null,null,"AA132",null,"TBC","TBC","TBC","TBC","TBC","TBC",0,0,0,null,null,"AN132",null,"TBC","TBC","TBC","TBC","TBC","TBC",0,0,0,null,null,"BA132",null,"TBC","TBC","TBC","TBC","TBC","TBC",0,0,0,null,null,"BN132",null,"TBC","TBC","TBC","TBC","TBC","TBC",0,0,0]
["A133","Sam Gibson ","MU",224,0,0,0,0,224,0,224.0224,null,null,"N133",null,"TBC","TBC","TBC","TBC","TBC","TBC",0,0,0,null,null,"AA133",null,"TBC","TBC","TBC","TBC","TBC","TBC",0,0,0,null,null,"AN133",null,"TBC","TBC","TBC","TBC","TBC","TBC",0,0,0,null,null,"BA133",null,"TBC","TBC","TBC","TBC","TBC","TBC",0,0,0,null,null,"BN133",null,"TBC","TBC","TBC","TBC","TBC","TBC",0,0,0]
["A134","Nik Idlan Faiq","RCSI",0,0,166,0,0,166,0,166.01660000000001,null,null,"N134",null,"TBC","TBC","TBC","TBC","TBC","TBC",0,0,0,null,null,"AA134",null,"TBC","TBC","TBC","TBC","TBC","TBC",0,0,0,null,null,"AN134",null,"TBC","TBC","TBC","TBC","TBC","TBC",0,0,0,null,null,"BA134",null,"TBC","TBC","TBC","TBC","TBC","TBC",0,0,0,null,null,"BN134",null,"TBC","TBC","TBC","TBC","TBC","TBC",0,0,0]
["A135","Max Fursman","DUAC",0,106,0,0,0,106,0,106.0106,null,null,"N135",null,"TBC","TBC","TBC","TBC","TBC","TBC",0,0,0,null,null,"AA135",null,"TBC","TBC","TBC","TBC","TBC","TBC",0,0,0,null,null,"AN135",null,"TBC","TBC","TBC","TBC","TBC","TBC",0,0,0,null,null,"BA135",null,"TBC","TBC","TBC","TBC","TBC","TBC",0,0,0,null,null,"BN135",null,"TBC","TBC","TBC","TBC","TBC","TBC",0,0,0]
["A136","Victor Agular","GMITC",0,0,0,93,0,93,0,93.009299999999996,null,null,"N136",null,"TBC","TBC","TBC","TBC","TBC","TBC",0,0,0,null,null,"AA136",null,"TBC","TBC","TBC","TBC","TBC","TBC",0,0,0,null,null,"AN136",null,"TBC","TBC","TBC","TBC","TBC","TBC",0,0,0,null,null,"BA136",null,"TBC","TBC","TBC","TBC","TBC","TBC",0,0,0,null,null,"BN136",null,"TBC","TBC","TBC","TBC","TBC","TBC",0,0,0]
["A137",null,"TBC","TBC","TBC","TBC","TBC","TBC",0,0,0,null,null,"N137",null,"TBC","TBC","TBC","TBC","TBC","TBC",0,0,0,null,null,"AA137",null,"TBC","TBC","TBC","TBC","TBC","TBC",0,0,0,null,null,"AN137",null,"TBC","TBC","TBC","TBC","TBC","TBC",0,0,0,null,null,"BA137",null,"TBC","TBC","TBC","TBC","TBC","TBC",0,0,0,null,null,"BN137",null,"TBC","TBC","TBC","TBC","TBC","TBC",0,0,0]
["A138",null,"TBC","TBC","TBC","TBC","TBC","TBC",0,0,0,null,null,"N138",null,"TBC","TBC","TBC","TBC","TBC","TBC",0,0,0,null,null,"AA138",null,"TBC","TBC","TBC","TBC","TBC","TBC",0,0,0,null,null,"AN138",null,"TBC","TBC","TBC","TBC","TBC","TBC",0,0,0,null,null,"BA138",null,"TBC","TBC","TBC","TBC","TBC","TBC",0,0,0,null,null,"BN138",null,"TBC","TBC","TBC","TBC","TBC","TBC",0,0,0]
["A139",null,"TBC","TBC","TBC","TBC","TBC","TBC",0,0,0,null,null,"N139",null,"TBC","TBC","TBC","TBC","TBC","TBC",0,0,0,null,null,"AA139",null,"TBC","TBC","TBC","TBC","TBC","TBC",0,0,0,null,null,"AN139",null,"TBC","TBC","TBC","TBC","TBC","TBC",0,0,0,null,null,"BA139",null,"TBC","TBC","TBC","TBC","TBC","TBC",0,0,0,null,null,"BN139",null,"TBC","TBC","TBC","TBC","TBC","TBC",0,0,0]
["A140",null,"TBC","TBC","TBC","TBC","TBC","TBC",0,0,0,null,null,"N140",null,"TBC","TBC","TBC","TBC","TBC","TBC",0,0,0,null,null,"AA140",null,"TBC","TBC","TBC","TBC","TBC","TBC",0,0,0,null,null,"AN140",null,"TBC","TBC","TBC","TBC","TBC","TBC",0,0,0,null,null,"BA140",null,"TBC","TBC","TBC","TBC","TBC","TBC",0,0,0,null,null,"BN140",null,"TBC","TBC","TBC","TBC","TBC","TBC",0,0,0]
["A141",null,"TBC","TBC","TBC","TBC","TBC","TBC",0,0,0,null,null,"N141",null,"TBC","TBC","TBC","TBC","TBC","TBC",0,0,0,null,null,"AA141",null,"TBC","TBC","TBC","TBC","TBC","TBC",0,0,0,null,null,"AN141",null,"TBC","TBC","TBC","TBC","TBC","TBC",0,0,0,null,null,"BA141",null,"TBC","TBC","TBC","TBC","TBC","TBC",0,0,0,null,null,"BN141",null,"TBC","TBC","TBC","TBC","TBC","TBC",0,0,0]
["A142",null,"TBC","TBC","TBC","TBC","TBC","TBC",0,0,0,null,null,"N142",null,"TBC","TBC","TBC","TBC","TBC","TBC",0,0,0,null,null,"AA142",null,"TBC","TBC","TBC","TBC","TBC","TBC",0,0,0,null,null,"AN142",null,"TBC","TBC","TBC","TBC","TBC","TBC",0,0,0,null,null,"BA142",null,"TBC","TBC","TBC","TBC","TBC","TBC",0,0,0,null,null,"BN142",null,"TBC","TBC","TBC","TBC","TBC","TBC",0,0,0]
["A143",null,"TBC","TBC","TBC","TBC","TBC","TBC",0,0,0,null,null,"N143",null,"TBC","TBC","TBC","TBC","TBC","TBC",0,0,0,null,null,"AA143",null,"TBC","TBC","TBC","TBC","TBC","TBC",0,0,0,null,null,"AN143",null,"TBC","TBC","TBC","TBC","TBC","TBC",0,0,0,null,null,"BA143",null,"TBC","TBC","TBC","TBC","TBC","TBC",0,0,0,null,null,"BN143",null,"TBC","TBC","TBC","TBC","TBC","TBC",0,0,0]
["A144",null,"TBC","TBC","TBC","TBC","TBC","TBC",0,0,0,null,null,"N144",null,"TBC","TBC","TBC","TBC","TBC","TBC",0,0,0,null,null,"AA144",null,"TBC","TBC","TBC","TBC","TBC","TBC",0,0,0,null,null,"AN144",null,"TBC","TBC","TBC","TBC","TBC","TBC",0,0,0,null,null,"BA144",null,"TBC","TBC","TBC","TBC","TBC","TBC",0,0,0,null,null,"BN144",null,"TBC","TBC","TBC","TBC","TBC","TBC",0,0,0]
["A145",null,"TBC","TBC","TBC","TBC","TBC","TBC",0,0,0,null,null,"N145",null,"TBC","TBC","TBC","TBC","TBC","TBC",0,0,0,null,null,"AA145",null,"TBC","TBC","TBC","TBC","TBC","TBC",0,0,0,null,null,"AN145",null,"TBC","TBC","TBC","TBC","TBC","TBC",0,0,0,null,null,"BA145",null,"TBC","TBC","TBC","TBC","TBC","TBC",0,0,0,null,null,"BN145",null,"TBC","TBC","TBC","TBC","TBC","TBC",0,0,0]
["A146",null,"TBC","TBC","TBC","TBC","TBC","TBC",0,0,0,null,null,"N146",null,"TBC","TBC","TBC","TBC","TBC","TBC",0,0,0,null,null,"AA146",null,"TBC","TBC","TBC","TBC","TBC","TBC",0,0,0,null,null,"AN146",null,"TBC","TBC","TBC","TBC","TBC","TBC",0,0,0,null,null,"BA146",null,"TBC","TBC","TBC","TBC","TBC","TBC",0,0,0,null,null,"BN146",null,"TBC","TBC","TBC","TBC","TBC","TBC",0,0,0]
["A147",null,"TBC","TBC","TBC","TBC","TBC","TBC",0,0,0,null,null,"N147",null,"TBC","TBC","TBC","TBC","TBC","TBC",0,0,0,null,null,"AA147",null,"TBC","TBC","TBC","TBC","TBC","TBC",0,0,0,null,null,"AN147",null,"TBC","TBC","TBC","TBC","TBC","TBC",0,0,0,null,null,"BA147",null,"TBC","TBC","TBC","TBC","TBC","TBC",0,0,0,null,null,"BN147",null,"TBC","TBC","TBC","TBC","TBC","TBC",0,0,0]
["A148",null,"TBC","TBC","TBC","TBC","TBC","TBC",0,0,0,null,null,"N148",null,"TBC","TBC","TBC","TBC","TBC","TBC",0,0,0,null,null,"AA148",null,"TBC","TBC","TBC","TBC","TBC","TBC",0,0,0,null,null,"AN148",null,"TBC","TBC","TBC","TBC","TBC","TBC",0,0,0,null,null,"BA148",null,"TBC","TBC","TBC","TBC","TBC","TBC",0,0,0,null,null,"BN148",null,"TBC","TBC","TBC","TBC","TBC","TBC",0,0,0]
["A149",null,"TBC","TBC","TBC","TBC","TBC","TBC",0,0,0,null,null,"N149",null,"TBC","TBC","TBC","TBC","TBC","TBC",0,0,0,null,null,"AA149",null,"TBC","TBC","TBC","TBC","TBC","TBC",0,0,0,null,null,"AN149",null,"TBC","TBC","TBC","TBC","TBC","TBC",0,0,0,null,null,"BA149",null,"TBC","TBC","TBC","TBC","TBC","TBC",0,0,0,null,null,"BN149",null,"TBC","TBC","TBC","TBC","TBC","TBC",0,0,0]
["A150",null,"TBC","TBC","TBC","TBC","TBC","TBC",0,0,0,null,null,"N150",null,"TBC","TBC","TBC","TBC","TBC","TBC",0,0,0,null,null,"AA150",null,"TBC","TBC","TBC","TBC","TBC","TBC",0,0,0,null,null,"AN150",null,"TBC","TBC","TBC","TBC","TBC","TBC",0,0,0,null,null,"BA150",null,"TBC","TBC","TBC","TBC","TBC","TBC",0,0,0,null,null,"BN150",null,"TBC","TBC","TBC","TBC","TBC","TBC",0,0,0]
["A151",null,"TBC","TBC","TBC","TBC","TBC","TBC",0,0,0,null,null,"N151",null,"TBC","TBC","TBC","TBC","TBC","TBC",0,0,0,null,null,"AA151",null,"TBC","TBC","TBC","TBC","TBC","TBC",0,0,0,null,null,"AN151",null,"TBC","TBC","TBC","TBC","TBC","TBC",0,0,0,null,null,"BA151",null,"TBC","TBC","TBC","TBC","TBC","TBC",0,0,0,null,null,"BN151",null,"TBC","TBC","TBC","TBC","TBC","TBC",0,0,0]
["A152",null,"TBC","TBC","TBC","TBC","TBC","TBC",0,0,0,null,null,"N152",null,"TBC","TBC","TBC","TBC","TBC","TBC",0,0,0,null,null,"AA152",null,"TBC","TBC","TBC","TBC","TBC","TBC",0,0,0,null,null,"AN152",null,"TBC","TBC","TBC","TBC","TBC","TBC",0,0,0,null,null,"BA152",null,"TBC","TBC","TBC","TBC","TBC","TBC",0,0,0,null,null,"BN152",null,"TBC","TBC","TBC","TBC","TBC","TBC",0,0,0]
["A153",null,"TBC","TBC","TBC","TBC","TBC","TBC",0,0,0,null,null,"N153",null,"TBC","TBC","TBC","TBC","TBC","TBC",0,0,0,null,null,"AA153",null,"TBC","TBC","TBC","TBC","TBC","TBC",0,0,0,null,null,"AN153",null,"TBC","TBC","TBC","TBC","TBC","TBC",0,0,0,null,null,"BA153",null,"TBC","TBC","TBC","TBC","TBC","TBC",0,0,0,null,null,"BN153",null,"TBC","TBC","TBC","TBC","TBC","TBC",0,0,0]
["A154",null,"TBC","TBC","TBC","TBC","TBC","TBC",0,0,0,null,null,"N154",null,"TBC","TBC","TBC","TBC","TBC","TBC",0,0,0,null,null,"AA154",null,"TBC","TBC","TBC","TBC","TBC","TBC",0,0,0,null,null,"AN154",null,"TBC","TBC","TBC","TBC","TBC","TBC",0,0,0,null,null,"BA154",null,"TBC","TBC","TBC","TBC","TBC","TBC",0,0,0,null,null,"BN154",null,"TBC","TBC","TBC","TBC","TBC","TBC",0,0,0]
["A155",null,"TBC","TBC","TBC","TBC","TBC","TBC",0,0,0,null,null,"N155",null,"TBC","TBC","TBC","TBC","TBC","TBC",0,0,0,null,null,"AA155",null,"TBC","TBC","TBC","TBC","TBC","TBC",0,0,0,null,null,"AN155",null,"TBC","TBC","TBC","TBC","TBC","TBC",0,0,0,null,null,"BA155",null,"TBC","TBC","TBC","TBC","TBC","TBC",0,0,0,null,null,"BN155",null,"TBC","TBC","TBC","TBC","TBC","TBC",0,0,0]
["A156",null,"TBC","TBC","TBC","TBC","TBC","TBC",{"$f":"SUM(D156:H156)","v":0},0,0,null,null,"N156",null,"TBC","TBC","TBC","TBC","TBC","TBC",{"$f":"SUM(Q156:U156)","v":0},0,0,null,null,"AA156",null,"TBC","TBC","TBC","TBC","TBC","TBC",{"$f":"SUM(AD156:AH156)","v":0},0,0,null,null,"AN156",null,"TBC","TBC","TBC","TBC","TBC","TBC",{"$f":"SUM(AQ156:AU156)","v":0},0,0,null,null,"BA156",null,"TBC","TBC","TBC","TBC","TBC","TBC",{"$f":"SUM(BD156:BH156)","v":0},0,0,null,null,"BN156",null,"TBC","TBC","TBC","TBC","TBC","TBC",{"$f":"SUM(BQ156:BU156)","v":0},0,0]
["A157",null,"TBC","TBC","TBC","TBC","TBC","TBC",0,0,{"$f":"IF(C157=\"TBC\",0,(I157-J157)+(LARGE(D157:H157,1)/10000)+(LARGE(D157:H157,2)/10000000))","v":0},null,null,"N157",null,"TBC","TBC","TBC","TBC","TBC","TBC",0,0,{"$f":"IF(P157=\"TBC\",0,(V157-W157)+(LARGE(Q157:U157,1)/10000)+(LARGE(Q157:U157,2)/10000000))","v":0},null,null,"AA157",null,"TBC","TBC","TBC","TBC","TBC","TBC",0,0,{"$f":"IF(AC157=\"TBC\",0,(AI157-AJ157)+(LARGE(AD157:AH157,1)/10000)+(LARGE(AD157:AH157,2)/10000000))","v":0},null,null,"AN157",null,"TBC","TBC","TBC","TBC","TBC","TBC",0,0,{"$f":"IF(AP157=\"TBC\",0,(AV157-AW157)+(LARGE(AQ157:AU157,1)/10000)+(LARGE(AQ157:AU157,2)/10000000))","v":0},null,null,"BA157",null,"TBC","TBC","TBC","TBC","TBC","TBC",0,0,{"$f":"IF(BC157=\"TBC\",0,(BI157-BJ157)+(LARGE(BD157:BH157,1)/10000)+(LARGE(BD157:BH157,2)/10000000))","v":0},null,null,"BN157",null,"TBC","TBC","TBC","TBC","TBC","TBC",0,0,{"$f":"IF(BP157=\"TBC\",0,(BV157-BW157)+(LARGE(BQ157:BU157,1)/10000)+(LARGE(BQ157:BU157,2)/10000000))","v":0}]
["A158",null,"TBC","TBC","TBC","TBC","TBC","TBC",0,{"$f":"MIN(D158:H158)","v":0},0,null,null,"N158",null,"TBC","TBC","TBC","TBC","TBC","TBC",0,{"$f":"MIN(Q158:U158)","v":0},0,null,null,"AA158",null,"TBC","TBC","TBC","TBC","TBC","TBC",0,{"$f":"MIN(AD158:AH158)","v":0},0,null,null,"AN158",null,"TBC","TBC","TBC","TBC","TBC","TBC",0,{"$f":"MIN(AQ158:AU158)","v":0},0,null,null,"BA158",null,"TBC","TBC","TBC","TBC","TBC","TBC",0,{"$f":"MIN(BD158:BH158)","v":0},0,null,null,"BN158",null,"TBC","TBC","TBC","TBC","TBC","TBC",0,{"$f":"MIN(BQ158:BU158)","v":0},0]
["A159",null,"TBC","TBC","TBC","TBC","TBC","TBC",0,0,0,null,null,"N159",null,"TBC","TBC","TBC","TBC","TBC","TBC",0,0,0,null,null,"AA159",null,"TBC","TBC","TBC","TBC","TBC","TBC",0,0,0,null,null,"AN159",null,"TBC","TBC","TBC","TBC","TBC","TBC",0,0,0,null,null,"BA159",null,"TBC","TBC","TBC","TBC","TBC","TBC",0,0,0,null,null,"BN159",null,"TBC","TBC","TBC","TBC","TBC","TBC",0,0,0]
["A160",null,"TBC","TBC","TBC","TBC","TBC","TBC",0,0,0,null,null,"N160",null,"TBC","TBC","TBC","TBC","TBC","TBC",0,0,0,null,null,"AA160",null,"TBC","TBC","TBC","TBC","TBC","TBC",0,0,0,null,null,"AN160",null,"TBC","TBC","TBC","TBC","TBC","TBC",0,0,0,null,null,"BA160",null,"TBC","TBC","TBC","TBC","TBC","TBC",0,0,0,null,null,"BN160",null,"TBC","TBC","TBC","TBC","TBC","TBC",0,0,0]
["A161",null,"TBC","TBC","TBC","TBC","TBC","TBC",0,0,0,null,null,"N161",null,"TBC","TBC","TBC","TBC","TBC","TBC",0,0,0,null,null,"AA161",null,"TBC","TBC","TBC","TBC","TBC","TBC",0,0,0,null,null,"AN161",null,"TBC","TBC","TBC","TBC","TBC","TBC",0,0,0,null,null,"BA161",null,"TBC","TBC","TBC","TBC","TBC","TBC",0,0,0,null,null,"BN161",null,"TBC","TBC","TBC","TBC","TBC","TBC",0,0,0]
["A162",null,"TBC","TBC","TBC","TBC","TBC","TBC",0,0,0,null,null,"N162",null,"TBC","TBC","TBC","TBC","TBC","TBC",0,0,0,null,null,"AA162",null,"TBC","TBC","TBC","TBC","TBC","TBC",0,0,0,null,null,"AN162",null,"TBC","TBC","TBC","TBC","TBC","TBC",0,0,0,null,null,"BA162",null,"TBC","TBC","TBC","TBC","TBC","TBC",0,0,0,null,null,"BN162",null,"TBC","TBC","TBC","TBC","TBC","TBC",0,0,0]
["A163",null,"TBC","TBC","TBC","TBC","TBC","TBC",0,0,0,null,null,"N163",null,"TBC","TBC","TBC","TBC","TBC","TBC",0,0,0,null,null,"AA163",null,"TBC","TBC","TBC","TBC","TBC","TBC",0,0,0,null,null,"AN163",null,"TBC","TBC","TBC","TBC","TBC","TBC",0,0,0,null,null,"BA163",null,"TBC","TBC","TBC","TBC","TBC","TBC",0,0,0,null,null,"BN163",null,"TBC","TBC","TBC","TBC","TBC","TBC",0,0,0]
["A164",null,"TBC","TBC","TBC","TBC","TBC","TBC",0,0,0,null,null,"N164",null,"TBC","TBC","TBC","TBC","TBC","TBC",0,0,0,null,null,"AA164",null,"TBC","TBC","TBC","TBC","TBC","TBC",0,0,0,null,null,"AN164",null,"TBC","TBC","TBC","TBC","TBC","TBC",0,0,0,null,null,"BA164",null,"TBC","TBC","TBC","TBC","TBC","TBC",0,0,0,null,null,"BN164",null,"TBC","TBC","TBC","TBC","TBC","TBC",0,0,0]
["A165",null,"TBC","TBC","TBC","TBC","TBC","TBC",0,0,0,null,null,"N165",null,"TBC","TBC","TBC","TBC","TBC","TBC",0,0,0,null,null,"AA165",null,"TBC","TBC","TBC","TBC","TBC","TBC",0,0,0,null,null,"AN165",null,"TBC","TBC","TBC","TBC","TBC","TBC",0,0,0,null,null,"BA165",null,"TBC","TBC","TBC","TBC","TBC","TBC",0,0,0,null,null,"BN165",null,"TBC","TBC","TBC","TBC","TBC","TBC",0,0,0]
["A166",null,"TBC","TBC","TBC","TBC","TBC","TBC",0,0,0,null,null,"N166",null,"TBC","TBC","TBC","TBC","TBC","TBC",0,0,0,null,null,"AA166",null,"TBC","TBC","TBC","TBC","TBC","TBC",0,0,0,null,null,"AN166",null,"TBC","TBC","TBC","TBC","TBC","TBC",0,0,0,null,null,"BA166",null,"TBC","TBC","TBC","TBC","TBC","TBC",0,0,0,null,null,"BN166",null,"TBC","TBC","TBC","TBC","TBC","TBC",0,0,0]
["A167",0,"TBC","TBC","TBC","TBC","TBC","TBC",0,0,0,null,null,"N167",0,"TBC","TBC","TBC","TBC","TBC","TBC",0,0,0,null,null,"AA167",0,"TBC","TBC","TBC","TBC","TBC","TBC",0,0,0,null,null,"AN167",0,"TBC","TBC","TBC","TBC","TBC","TBC",0,0,0,null,null,"BA167",0,"TBC","TBC","TBC","TBC","TBC","TBC",0,0,0,null,null,"BN167",0,"TBC","TBC","TBC","TBC","TBC","TBC",0,0,0]
[]
[]
[]
[]
[]
[]
[]
[]
[]
[]
[]
[]
[]
[]
[]
[]
[]
[]
[]
[]
[]
[]
[]
[]
[]
[]
[]
[]
[]
[]
[]
[null,"RBM Sort",null,null,null,null,null,null,null,null,null,null,null,null,"RBF Sort",null,null,null,null,null,null,null,null,null,null,null,null,"RIM Sort",null,null,null,null,null,null,null,null,null,null,null,null,"RIF Sort",null,null,null,null,null,null,null,null,null,null,null,null,"RAM Sort",null,null,null,null,null,null,null,null,null,null,null,null,"RAF Sort"]
["Tag","Name","College","IV 1","IV 2","IV3","IV4","IV5","Total","Lowest","LEAGUE",null,null,"Tag","Name","College","IV 1","IV 2","IV3","IV4","IV5","Total","Lowest","LEAGUE",null,null,"Tag","Name","College","IV 1","IV 2","IV3","IV4","IV5","Total","Lowest","LEAGUE",null,null,"Tag","Name","College","IV 1","IV 2","IV3","IV4","IV5","Total","Lowest","LEAGUE",null,null,"Tag","Name","College","IV 1","IV 2","IV3","IV4","IV5","Total","Lowest","LEAGUE",null,null,"Tag","Name","College","IV 1","IV 2","IV3","IV4","IV5","Total","Lowest","LEAGUE"]
["A8",{"$f":"VLOOKUP($A201,$A$8:$K$82,2,0)","v":"Domhnall Ò Póil"},{"$f":"VLOOKUP($A201,$A$8:$K$82,3,0)","v":"MU"},{"$f":"VLOOKUP($A201,$A$8:$K$82,4,0)","v":489},{"$f":"VLOOKUP($A201,$A$8:$K$82,5,0)","v":460},{"$f":"VLOOKUP($A201,$A$8:$K$82,6,0)","v":511},{"$f":"VLOOKUP($A201,$A$8:$K$82,7,0)","v":468},{"$f":"VLOOKUP($A201,$A$8:$K$82,8,0)","v":486},{"$f":"VLOOKUP($A201,$A$8:$K$82,9,0)","v":2414},{"$f":"VLOOKUP($A201,$A$8:$K$82,10,0)","v":460},{"$f":"VLOOKUP($A201,$A$8:$K$82,11,0)","v":1954.0511488999998},null,null,"N8",{"$f":"VLOOKUP($N201,$N$8:$X$82,2,0)","v":"Mary Aherne"},{"$f":"VLOOKUP($N201,$N$8:$X$82,3,0)","v":"NUIG"},{"$f":"VLOOKUP($N201,$N$8:$X$82,4,0)","v":413},{"$f":"VLOOKUP($N201,$N$8:$X$82,5,0)","v":343},{"$f":"VLOOKUP($N201,$N$8:$X$82,6,0)","v":464},{"$f":"VLOOKUP($N201,$N$8:$X$82,7,0)","v":400},{"$f":"VLOOKUP($N201,$N$8:$X$82,8,0)","v":420},{"$f":"VLOOKUP($N201,$N$8:$X$82,9,0)","v":2040},{"$f":"VLOOKUP($N201,$N$8:$X$82,10,0)","v":343},{"$f":"VLOOKUP($N201,$N$8:$X$82,11,0)","v":1697.0464419999998},null,null,"AA8",{"$f":"VLOOKUP($AA201,$AA$8:$AK$82,2,0)","v":"See Qui Ren"},{"$f":"VLOOKUP($AA201,$AA$8:$AK$82,3,0)","v":"DKIT"},{"$f":"VLOOKUP($AA201,$AA$8:$AK$82,4,0)","v":427},{"$f":"VLOOKUP($AA201,$AA$8:$AK$82,5,0)","v":470},{"$f":"VLOOKUP($AA201,$AA$8:$AK$82,6,0)","v":448},{"$f":"VLOOKUP($AA201,$AA$8:$AK$82,7,0)","v":433},{"$f":"VLOOKUP($AA201,$AA$8:$AK$82,8,0)","v":453},{"$f":"VLOOKUP($AA201,$AA$8:$AK$82,9,0)","v":2231},{"$f":"VLOOKUP($AA201,$AA$8:$AK$82,10,0)","v":427},{"$f":"VLOOKUP($AA201,$AA$8:$AK$82,11,0)","v":1804.0470453},null,null,"AN8",{"$f":"VLOOKUP($AN201,$AN$8:$AX$82,2,0)","v":"Maria Jacob"},{"$f":"VLOOKUP($AN201,$AN$8:$AX$82,3,0)","v":"UCD"},{"$f":"VLOOKUP($AN201,$AN$8:$AX$82,4,0)","v":439},{"$f":"VLOOKUP($AN201,$AN$8:$AX$82,5,0)","v":438},{"$f":"VLOOKUP($AN201,$AN$8:$AX$82,6,0)","v":425},{"$f":"VLOOKUP($AN201,$AN$8:$AX$82,7,0)","v":427},{"$f":"VLOOKUP($AN201,$AN$8:$AX$82,8,0)","v":404},{"$f":"VLOOKUP($AN201,$AN$8:$AX$82,9,0)","v":2133},{"$f":"VLOOKUP($AN201,$AN$8:$AX$82,10,0)","v":404},{"$f":"VLOOKUP($AN201,$AN$8:$AX$82,11,0)","v":1729.0439437999999},null,null,"BA8",{"$f":"VLOOKUP($BA201,$BA$8:$BK$82,2,0)","v":"Yeo Eng Jet"},{"$f":"VLOOKUP($BA201,$BA$8:$BK$82,3,0)","v":"DKIT"},{"$f":"VLOOKUP($BA201,$BA$8:$BK$82,4,0)","v":514},{"$f":"VLOOKUP($BA201,$BA$8:$BK$82,5,0)","v":527},{"$f":"VLOOKUP($BA201,$BA$8:$BK$82,6,0)","v":507},{"$f":"VLOOKUP($BA201,$BA$8:$BK$82,7,0)","v":520},{"$f":"VLOOKUP($BA201,$BA$8:$BK$82,8,0)","v":540},{"$f":"VLOOKUP($BA201,$BA$8:$BK$82,9,0)","v":2608},{"$f":"VLOOKUP($BA201,$BA$8:$BK$82,10,0)","v":507},{"$f":"VLOOKUP($BA201,$BA$8:$BK$82,11,0)","v":2101.0540527000003},null,null,"BN8",{"$f":"VLOOKUP($BN201,$BN$8:$BX$82,2,0)","v":"Ines Rauch"},{"$f":"VLOOKUP($BN201,$BN$8:$BX$82,3,0)","v":"UCD"},{"$f":"VLOOKUP($BN201,$BN$8:$BX$82,4,0)","v":439},{"$f":"VLOOKUP($BN201,$BN$8:$BX$82,5,0)","v":481},{"$f":"VLOOKUP($BN201,$BN$8:$BX$82,6,0)","v":473},{"$f":"VLOOKUP($BN201,$BN$8:$BX$82,7,0)","v":517},{"$f":"VLOOKUP($BN201,$BN$8:$BX$82,8,0)","v":516},{"$f":"VLOOKUP($BN201,$BN$8:$BX$82,9,0)","v":2426},{"$f":"VLOOKUP($BN201,$BN$8:$BX$82,10,0)","v":439},{"$f":"VLOOKUP($BN201,$BN$8:$BX$82,11,0)","v":1987.0517516}]
["A9",{"$f":"VLOOKUP($A202,$A$8:$K$82,2,0)","v":"Conor Winters"},{"$f":"VLOOKUP($A202,$A$8:$K$82,3,0)","v":"DKIT"},{"$f":"VLOOKUP($A202,$A$8:$K$82,4,0)","v":455},{"$f":"VLOOKUP($A202,$A$8:$K$82,5,0)","v":0},{"$f":"VLOOKUP($A202,$A$8:$K$82,6,0)","v":488},{"$f":"VLOOKUP($A202,$A$8:$K$82,7,0)","v":486},{"$f":"VLOOKUP($A202,$A$8:$K$82,8,0)","v":508},{"$f":"VLOOKUP($A202,$A$8:$K$82,9,0)","v":1937},{"$f":"VLOOKUP($A202,$A$8:$K$82,10,0)","v":0},{"$f":"VLOOKUP($A202,$A$8:$K$82,11,0)","v":1937.0508488},null,null,"N9","Eunice Kiew Ying Sing","DKIT",501,0,486,509,463,1959,0,1959.0509500999999,null,null,"AA9",{"$f":"VLOOKUP($AA202,$AA$8:$AK$82,2,0)","v":"Charles O'Dowd"},{"$f":"VLOOKUP($AA202,$AA$8:$AK$82,3,0)","v":"UCD"},{"$f":"VLOOKUP($AA202,$AA$8:$AK$82,4,0)","v":423},{"$f":"VLOOKUP($AA202,$AA$8:$AK$82,5,0)","v":414},{"$f":"VLOOKUP($AA202,$AA$8:$AK$82,6,0)","v":482},{"$f":"VLOOKUP($AA202,$AA$8:$AK$82,7,0)","v":435},{"$f":"VLOOKUP($AA202,$AA$8:$AK$82,8,0)","v":465},{"$f":"VLOOKUP($AA202,$AA$8:$AK$82,9,0)","v":2219},{"$f":"VLOOKUP($AA202,$AA$8:$AK$82,10,0)","v":414},{"$f":"VLOOKUP($AA202,$AA$8:$AK$82,11,0)","v":1805.0482465},null,null,"AN9",{"$f":"VLOOKUP($AN202,$AN$8:$AX$82,2,0)","v":"Victoria Shen Fen Tan"},{"$f":"VLOOKUP($AN202,$AN$8:$AX$82,3,0)","v":"DKIT"},{"$f":"VLOOKUP($AN202,$AN$8:$AX$82,4,0)","v":380},{"$f":"VLOOKUP($AN202,$AN$8:$AX$82,5,0)","v":319},{"$f":"VLOOKUP($AN202,$AN$8:$AX$82,6,0)","v":375},{"$f":"VLOOKUP($AN202,$AN$8:$AX$82,7,0)","v":460},{"$f":"VLOOKUP($AN202,$AN$8:$AX$82,8,0)","v":486},{"$f":"VLOOKUP($AN202,$AN$8:$AX$82,9,0)","v":2020},{"$f":"VLOOKUP($AN202,$AN$8:$AX$82,10,0)","v":319},{"$f":"VLOOKUP($AN202,$AN$8:$AX$82,11,0)","v":1701.0486460000002},null,null,"BA9",{"$f":"VLOOKUP($BA202,$BA$8:$BK$82,2,0)","v":"Carl McCaffery"},{"$f":"VLOOKUP($BA202,$BA$8:$BK$82,3,0)","v":"UCD"},{"$f":"VLOOKUP($BA202,$BA$8:$BK$82,4,0)","v":522},{"$f":"VLOOKUP($BA202,$BA$8:$BK$82,5,0)","v":517},{"$f":"VLOOKUP($BA202,$BA$8:$BK$82,6,0)","v":529},{"$f":"VLOOKUP($BA202,$BA$8:$BK$82,7,0)","v":528},{"$f":"VLOOKUP($BA202,$BA$8:$BK$82,8,0)","v":503},{"$f":"VLOOKUP($BA202,$BA$8:$BK$82,9,0)","v":2599},{"$f":"VLOOKUP($BA202,$BA$8:$BK$82,10,0)","v":503},{"$f":"VLOOKUP($BA202,$BA$8:$BK$82,11,0)","v":2096.0529528000002},null,null,"BN9",{"$f":"VLOOKUP($BN202,$BN$8:$BX$82,2,0)","v":"Jen Daly"},{"$f":"VLOOKUP($BN202,$BN$8:$BX$82,3,0)","v":"DIT"},{"$f":"VLOOKUP($BN202,$BN$8:$BX$82,4,0)","v":409},{"$f":"VLOOKUP($BN202,$BN$8:$BX$82,5,0)","v":0},{"$f":"VLOOKUP($BN202,$BN$8:$BX$82,6,0)","v":482},{"$f":"VLOOKUP($BN202,$BN$8:$BX$82,7,0)","v":498},{"$f":"VLOOKUP($BN202,$BN$8:$BX$82,8,0)","v":481},{"$f":"VLOOKUP($BN202,$BN$8:$BX$82,9,0)","v":1870},{"$f":"VLOOKUP($BN202,$BN$8:$BX$82,10,0)","v":0},{"$f":"VLOOKUP($BN202,$BN$8:$BX$82,11,0)","v":1870.0498482}]
["A10","Chris Riddell","NUIG",342,386,328,434,314,1804,314,1490.0434385999999,null,null,"N10","Helen Lacey","NUIG",325,380,424,355,404,1888,325,1563.0424404,null,null,"AA10","Frank Stafford","UL",440,432,448,432,433,2185,432,1753.0448439999998,null,null,"AN10","Ciara O'Sullivan","DCU",0,443,472,411,469,1795,0,1795.0472468999999,null,null,"BA10","Diego Coyle Diez","MU",523,486,530,512,524,2575,486,2089.0530524000001,null,null,"BN10","Jocelyn Yee","DKIT",0,438,0,453,456,1347,0,1347.0456452999999]
["A11","Cormac O'Callaghan","UCC",397,0,453,452,466,1768,0,1768.0466452999999,null,null,"N11","Asia Tayyab","GMIT",330,283,376,407,278,1674,278,1396.0407376000001,null,null,"AA11","Wai Hong Keet","DKIT",416,460,455,423,410,2164,410,1754.0460455,null,null,"AN11","Sinead Naughton","GMITC",387,0,397,372,436,1592,0,1592.0436396999999,null,null,"BA11","Brendan Forde","DIT",509,506,515,513,512,2555,506,2049.0515513,null,null,"BN11","Rachael Foley","NCAD",0,0,515,0,522,1037,0,1037.0522515]
["A12","Chua Wei Kwan","DKIT",439,0,405,464,454,1762,0,1762.0464454,null,null,"N12","Jane Meehan","DKIT",467,0,393,424,376,1660,0,1660.0467424000001,null,null,"AA12","Kristian Bongo","DIT",381,412,440,405,457,2095,381,1714.0457439999998,null,null,"AN12","Aishling Dignam","DCU",0,346,314,359,398,1417,0,1417.0398359000001,null,null,"BA12","Hugh Farrell","MU",495,495,509,482,502,2483,482,2001.0509502,null,null,"BN12",0,"TBC","TBC","TBC","TBC","TBC","TBC",0,0,0]
["A13","Connor Newman","MU",0,398,440,424,451,1713,0,1713.0451439999999,null,null,"N13","Laury Despres","MU",0,386,355,394,452,1587,0,1587.0452394000001,null,null,"AA13","Joshua Tracey","DIT",409,378,427,411,385,2010,378,1632.0427411000001,null,null,"AN13","Katie Doyle","UCD",435,0,0,436,464,1335,0,1335.0464436,null,null,"BA13","Kevin Kok Zhi Hao","DKIT",499,510,458,495,496,2458,458,2000.0510499,null,null,"BN13",0,"TBC","TBC","TBC","TBC","TBC","TBC",0,0,0]
["A14","Sim Jia Cheng","DKIT",450,0,437,427,349,1663,0,1663.0450437000002,null,null,"N14","Zoe Nicholson","DKIT",442,0,353,341,372,1508,0,1508.0442372,null,null,"AA14","Paul Beirne","UCD",454,426,440,0,500,1820,0,1820.0500454,null,null,"AN14","Ciara Fergus","UL",335,352,277,306,0,1270,0,1270.0352335,null,null,"BA14","James Byrne ","DIT",477,497,479,481,510,2444,477,1967.0510497,null,null,"BN14",0,"TBC","TBC","TBC","TBC","TBC","TBC",0,0,0]
["A15","Sam Gibson","MU",0,360,466,395,430,1651,0,1651.0466429999999,null,null,"N15","Siun Collins","DIT",423,0,341,346,374,1484,0,1484.0423374000002,null,null,"AA15","Conor McCann","GMIT",435,256,401,398,324,1814,256,1558.0435401,null,null,"AN15","Emma Goodwin","DCU",0,375,290,311,0,976,0,976.03753110000002,null,null,"BA15","Aidan Darcy","IT Tallaght",401,488,525,473,503,2390,401,1989.0525503000001,null,null,"BN15",0,"TBC","TBC","TBC","TBC","TBC","TBC",0,0,0]
["A16","Conor O'Brien","UL",310,287,405,294,300,1596,287,1309.0405310000001,null,null,"N16","Carla Reinhardt","UCC",266,0,424,399,392,1481,0,1481.0424399000001,null,null,"AA16","Brendan McManus","DCU",471,443,0,402,496,1812,0,1812.0496471000001,null,null,"AN16","Julia Obara","NUIG",354,0,357,91,0,802,0,802.03573540000002,null,null,"BA16","Patrick Molloy","NUIG",410,430,507,483,516,2346,410,1936.0516507,null,null,"BN16",0,"TBC","TBC","TBC","TBC","TBC","TBC",0,0,0]
["A17","Aaron Wong Siu Zhen","DKIT",393,423,279,0,294,1389,0,1389.0423393000001,null,null,"N17",{"$f":"VLOOKUP($N210,$N$8:$X$82,2,0)","v":"Lynda Miller"},{"$f":"VLOOKUP($N210,$N$8:$X$82,3,0)","v":"GMIT"},{"$f":"VLOOKUP($N210,$N$8:$X$82,4,0)","v":0},{"$f":"VLOOKUP($N210,$N$8:$X$82,5,0)","v":114},{"$f":"VLOOKUP($N210,$N$8:$X$82,6,0)","v":459},{"$f":"VLOOKUP($N210,$N$8:$X$82,7,0)","v":253},{"$f":"VLOOKUP($N210,$N$8:$X$82,8,0)","v":444},{"$f":"VLOOKUP($N210,$N$8:$X$82,9,0)","v":1270},{"$f":"VLOOKUP($N210,$N$8:$X$82,10,0)","v":0},{"$f":"VLOOKUP($N210,$N$8:$X$82,11,0)","v":1270.0459444000001},null,null,"AA17","Mark Sherlock","GMIT",393,371,311,358,338,1771,311,1460.0393371,null,null,"AN17","Clarke-Ng Choy-Ping","DUAC",0,367,0,407,0,774,0,774.04073670000002,null,null,"BA17","Dale Burke","GMIT",524,488,517,0,501,2030,0,2030.0524517000001,null,null,"BN17",0,"TBC","TBC","TBC","TBC","TBC","TBC",0,0,0]
["A18","Liam Higgins","UL",0,317,340,375,353,1385,0,1385.0375352999999,null,null,"N18","Bruna Mota","UCD",0,0,424,327,395,1146,0,1146.0424395,null,null,"AA18","Aaron Downes","GMIT",0,392,391,388,330,1501,0,1501.0392391,null,null,"AN18","Eve Kearney","DUAC",0,273,0,0,380,653,0,653.03802730000007,null,null,"BA18","Jordan McCord","UU",0,418,505,478,496,1897,0,1897.0505496000001,null,null,"BN18",0,"TBC","TBC","TBC","TBC","TBC","TBC",0,0,0]
["A19","Brendan O'Sullivan","UCC",483,0,0,447,413,1343,0,1343.0483446999999,null,null,"N19","Judith Bell","UU",0,239,378,376,134,1127,0,1127.0378376000001,null,null,"AA19","Philip Early","DCU",360,373,0,372,344,1449,0,1449.0373371999999,null,null,"AN19",0,"TBC","TBC","TBC","TBC","TBC","TBC",0,0,0,null,null,"BA19","Eric Moore","NUIG",399,380,0,322,384,1485,0,1485.0399384,null,null,"BN19",0,"TBC","TBC","TBC","TBC","TBC","TBC",0,0,0]
["A20","Brian Swayne","UCC",378,0,448,455,0,1281,0,1281.0455448,null,null,"N20","Fiona Maguire","UCD",0,0,246,281,371,898,0,898.03712810000002,null,null,"AA20","Leo Byrne","ITC",332,306,275,281,233,1427,233,1194.0332306,null,null,"AN20",0,"TBC","TBC","TBC","TBC","TBC","TBC",0,0,0,null,null,"BA20","Dáire Healy","DUAC",0,389,0,379,410,1178,0,1178.0410388999999,null,null,"BN20",0,"TBC","TBC","TBC","TBC","TBC","TBC",0,0,0]
["A21","Lorenzo Diago","DCU",0,480,371,420,0,1271,0,1271.0480419999999,null,null,"N21","Minni Hiltunen","DIT",0,0,0,432,389,821,0,821.04323890000001,null,null,"AA21","James Burke","NUIG",438,465,0,0,459,1362,0,1362.0465459,null,null,"AN21",0,"TBC","TBC","TBC","TBC","TBC","TBC",0,0,0,null,null,"BA21","Gary Kelly","DCU",484,480,0,0,0,964,0,964.04844800000001,null,null,"BN21",0,"TBC","TBC","TBC","TBC","TBC","TBC",0,0,0]
["A22","Wai Jian Keet","DKIT",0,441,0,360,464,1265,0,1265.0464440999999,null,null,"N22","Bruna Duarte","DIT",0,0,0,303,421,724,0,724.04213030000005,null,null,"AA22","Luke Blake","UL",282,324,332,331,0,1269,0,1269.0332331000002,null,null,"AN22",0,"TBC","TBC","TBC","TBC","TBC","TBC",0,0,0,null,null,"BA22","Oskar Ronan","DUAC",0,464,0,403,0,867,0,867.04644029999997,null,null,"BN22",0,"TBC","TBC","TBC","TBC","TBC","TBC",0,0,0]
["A23","Lim Cheng Bin","DKIT",443,0,154,249,296,1142,0,1142.0443296000001,null,null,"N23","Maria Borck","UL",239,0,231,0,232,702,0,702.02392320000001,null,null,"AA23","Yuji Okubo","DCU",458,432,0,0,0,890,0,890.04584320000004,null,null,"AN23",0,"TBC","TBC","TBC","TBC","TBC","TBC",0,0,0,null,null,"BA23","John Hally","UL",0,436,429,0,0,865,0,865.04364290000001,null,null,"BN23",0,"TBC","TBC","TBC","TBC","TBC","TBC",0,0,0]
["A24","Darragh Kellegher","UL",400,331,0,308,0,1039,0,1039.0400331000001,null,null,"N24","Laura Ciesa","UL",0,0,0,0,453,453,0,453.0453,null,null,"AA24","Kelvin Yee","DKIT",0,412,0,428,0,840,0,840.04284120000011,null,null,"AN24",0,"TBC","TBC","TBC","TBC","TBC","TBC",0,0,0,null,null,"BA24","Darren Wallace","NUIG",0,0,569,0,0,569,0,569.05690000000004,null,null,"BN24",0,"TBC","TBC","TBC","TBC","TBC","TBC",0,0,0]
["A25","Nathan Tracey","DIT",0,0,0,515,414,929,0,929.05154140000002,null,null,"N25","Vanessa Flood","DIT",0,0,0,444,0,444,0,444.0444,null,null,"AA25","Andy Canavan","DCU",429,400,0,0,0,829,0,829.04294000000004,null,null,"AN25",0,"TBC","TBC","TBC","TBC","TBC","TBC",0,0,0,null,null,"BA25","Simon Henleywillis","UCC",471,0,0,0,0,471,0,471.0471,null,null,"BN25",0,"TBC","TBC","TBC","TBC","TBC","TBC",0,0,0]
["A26","Andrew Neville","UU",0,0,380,365,0,745,0,745.03803649999998,null,null,"N26","Anna Bergert","DKIT",0,383,0,0,0,383,0,383.03829999999999,null,null,"AA26","Chris O'Leary","UCC",0,0,0,390,411,801,0,801.04113900000004,null,null,"AN26",0,"TBC","TBC","TBC","TBC","TBC","TBC",0,0,0,null,null,"BA26","Mark Walsh","NUIG",0,0,0,0,441,441,0,441.04410000000001,null,null,"BN26",0,"TBC","TBC","TBC","TBC","TBC","TBC",0,0,0]
["A27","Shane Fitzgerald","UCC",0,0,325,0,400,725,0,725.04003249999994,null,null,"N27","Zahratulfatin Mohd Mahfoz","RCSI",382,0,0,0,0,382,0,382.03820000000002,null,null,"AA27","James Greer","UCD",0,376,0,0,423,799,0,799.0423376,null,null,"AN27",0,"TBC","TBC","TBC","TBC","TBC","TBC",0,0,0,null,null,"BA27","Christo Pretorious","DUAC",0,290,0,0,0,290,0,290.029,null,null,"BN27",0,"TBC","TBC","TBC","TBC","TBC","TBC",0,0,0]
["A28","Kyle Rosso","UCD",0,0,374,0,349,723,0,723.03743489999999,null,null,"N28","Ozeane Zeis","UL",0,0,0,0,288,288,0,288.02879999999999,null,null,"AA28","Issabele Mayumi","DCU",343,0,0,338,0,681,0,681.03433380000001,null,null,"AN28",0,"TBC","TBC","TBC","TBC","TBC","TBC",0,0,0,null,null,"BA28",0,"TBC","TBC","TBC","TBC","TBC","TBC",0,0,0,null,null,"BN28",0,"TBC","TBC","TBC","TBC","TBC","TBC",0,0,0]
["A29","Jack Deane","NUIG",379,306,0,0,0,685,0,685.03793059999998,null,null,"N29","Marta Jurczak","DUAC",0,0,0,0,284,284,0,284.02839999999998,null,null,"AA29","Brian Conroy","UCC",0,0,293,0,366,659,0,659.03662930000007,null,null,"AN29",0,"TBC","TBC","TBC","TBC","TBC","TBC",0,0,0,null,null,"BA29",0,"TBC","TBC","TBC","TBC","TBC","TBC",0,0,0,null,null,"BN29",0,"TBC","TBC","TBC","TBC","TBC","TBC",0,0,0]
["A30","Yusuf Fauzi","UCC",0,0,194,0,339,533,0,533.03391940000006,null,null,"N30","Nor Fatin Farhani","RCSI",0,0,267,0,0,267,0,267.02670000000001,null,null,"AA30","Kieran Cullinane","NUIG",482,0,0,0,0,482,0,482.04820000000001,null,null,"AN30",0,"TBC","TBC","TBC","TBC","TBC","TBC",0,0,0,null,null,"BA30",0,"TBC","TBC","TBC","TBC","TBC","TBC",0,0,0,null,null,"BN30",0,"TBC","TBC","TBC","TBC","TBC","TBC",0,0,0]
["A31","Sven Radatz","DKIT",0,479,0,0,0,479,0,479.04790000000003,null,null,"N31","Martha Chege","UU",0,0,0,201,0,201,0,201.02010000000001,null,null,"AA31","Sean Sinnott","UL",0,385,0,0,0,385,0,385.0385,null,null,"AN31",0,"TBC","TBC","TBC","TBC","TBC","TBC",0,0,0,null,null,"BA31",0,"TBC","TBC","TBC","TBC","TBC","TBC",0,0,0,null,null,"BN31",0,"TBC","TBC","TBC","TBC","TBC","TBC",0,0,0]
["A32","Devon Long","UL",473,0,0,0,0,473,0,473.04730000000001,null,null,"N32","Apoorva Kashyap","UU",0,0,0,200,0,200,0,200.02,null,null,"AA32","Muhammad Hakim Mohd Nasir","RCSI",0,0,311,0,0,311,0,311.03109999999998,null,null,"AN32",0,"TBC","TBC","TBC","TBC","TBC","TBC",0,0,0,null,null,"BA32",0,"TBC","TBC","TBC","TBC","TBC","TBC",0,0,0,null,null,"BN32",0,"TBC","TBC","TBC","TBC","TBC","TBC",0,0,0]
["A33","Jonas Seesing","NUIG",470,0,0,0,0,470,0,470.04700000000003,null,null,"N33","Raja Nur Iyliani","RCSI",0,0,190,0,0,190,0,190.01900000000001,null,null,"AA33","DJ Roche","MU",0,306,0,0,0,306,0,306.03059999999999,null,null,"AN33",0,"TBC","TBC","TBC","TBC","TBC","TBC",0,0,0,null,null,"BA33",0,"TBC","TBC","TBC","TBC","TBC","TBC",0,0,0,null,null,"BN33",0,"TBC","TBC","TBC","TBC","TBC","TBC",0,0,0]
["A34","Artem Semenov","UL",0,0,0,0,405,405,0,405.04050000000001,null,null,"N34","Nadia Rodgers","UU",0,0,0,187,0,187,0,187.0187,null,null,"AA34","Shane O'Sulliven","UCC",0,0,0,303,0,303,0,303.03030000000001,null,null,"AN34",0,"TBC","TBC","TBC","TBC","TBC","TBC",0,0,0,null,null,"BA34",0,"TBC","TBC","TBC","TBC","TBC","TBC",0,0,0,null,null,"BN34",0,"TBC","TBC","TBC","TBC","TBC","TBC",0,0,0]
["A35","Gordon Cowpar","UCD",0,398,0,0,0,398,0,398.03980000000001,null,null,"N35","Bronwyn Berkeley","DUAC",0,121,0,0,0,121,0,121.0121,null,null,"AA35","Conor Moran","UL",0,257,0,0,0,257,0,257.02569999999997,null,null,"AN35",0,"TBC","TBC","TBC","TBC","TBC","TBC",0,0,0,null,null,"BA35",0,"TBC","TBC","TBC","TBC","TBC","TBC",0,0,0,null,null,"BN35",0,"TBC","TBC","TBC","TBC","TBC","TBC",0,0,0]
["A36","Aonghus Condren","UCD",0,387,0,0,0,387,0,387.03870000000001,null,null,"N36","Maeve Ruan","UCD",0,0,0,70,0,70,0,70.007000000000005,null,null,"AA36","Cian Butler","DCU",224,0,0,0,0,224,0,224.0224,null,null,"AN36",0,"TBC","TBC","TBC","TBC","TBC","TBC",0,0,0,null,null,"BA36",0,"TBC","TBC","TBC","TBC","TBC","TBC",0,0,0,null,null,"BN36",0,"TBC","TBC","TBC","TBC","TBC","TBC",0,0,0]
["A37","Ahmad Nasree M Khairuddin Lim","RCSI",372,0,0,0,0,372,0,372.03719999999998,null,null,"N37",0,"TBC","TBC","TBC","TBC","TBC","TBC",0,0,0,null,null,"AA37","Eoin Hartigan","UL",0,98,0,0,0,98,0,98.009799999999998,null,null,"AN37",0,"TBC","TBC","TBC","TBC","TBC","TBC",0,0,0,null,null,"BA37",0,"TBC","TBC","TBC","TBC","TBC","TBC",0,0,0,null,null,"BN37",0,"TBC","TBC","TBC","TBC","TBC","TBC",0,0,0]
["A38","Thijs Siebt","NUIG",0,371,0,0,0,371,0,371.03710000000001,null,null,"N38",0,"TBC","TBC","TBC","TBC","TBC","TBC",0,0,0,null,null,"AA38",0,"TBC","TBC","TBC","TBC","TBC","TBC",0,0,0,null,null,"AN38",0,"TBC","TBC","TBC","TBC","TBC","TBC",0,0,0,null,null,"BA38",0,"TBC","TBC","TBC","TBC","TBC","TBC",0,0,0,null,null,"BN38",0,"TBC","TBC","TBC","TBC","TBC","TBC",0,0,0]
["A39","Liam Doyle","UL",0,358,0,0,0,358,0,358.03579999999999,null,null,"N39",0,"TBC","TBC","TBC","TBC","TBC","TBC",0,0,0,null,null,"AA39",0,"TBC","TBC","TBC","TBC","TBC","TBC",0,0,0,null,null,"AN39",0,"TBC","TBC","TBC","TBC","TBC","TBC",0,0,0,null,null,"BA39",0,"TBC","TBC","TBC","TBC","TBC","TBC",0,0,0,null,null,"BN39",0,"TBC","TBC","TBC","TBC","TBC","TBC",0,0,0]
["A40",{"$f":"VLOOKUP($A233,$A$8:$K$82,2,0)","v":"Jordan McMullan"},{"$f":"VLOOKUP($A233,$A$8:$K$82,3,0)","v":"UU"},{"$f":"VLOOKUP($A233,$A$8:$K$82,4,0)","v":0},{"$f":"VLOOKUP($A233,$A$8:$K$82,5,0)","v":0},{"$f":"VLOOKUP($A233,$A$8:$K$82,6,0)","v":0},{"$f":"VLOOKUP($A233,$A$8:$K$82,7,0)","v":349},{"$f":"VLOOKUP($A233,$A$8:$K$82,8,0)","v":0},{"$f":"VLOOKUP($A233,$A$8:$K$82,9,0)","v":349},{"$f":"VLOOKUP($A233,$A$8:$K$82,10,0)","v":0},{"$f":"VLOOKUP($A233,$A$8:$K$82,11,0)","v":349.03489999999999},null,null,"N40",0,"TBC","TBC","TBC","TBC","TBC","TBC",0,0,0,null,null,"AA40",0,"TBC","TBC","TBC","TBC","TBC","TBC",0,0,0,null,null,"AN40",0,"TBC","TBC","TBC","TBC","TBC","TBC",0,0,0,null,null,"BA40",0,"TBC","TBC","TBC","TBC","TBC","TBC",0,0,0,null,null,"BN40",0,"TBC","TBC","TBC","TBC","TBC","TBC",0,0,0]
["A41","Thomas Joyce","UCD",0,339,0,0,0,339,0,339.03390000000002,null,null,"N41",0,"TBC","TBC","TBC","TBC","TBC","TBC",0,0,0,null,null,"AA41",0,"TBC","TBC","TBC","TBC","TBC","TBC",0,0,0,null,null,"AN41",0,"TBC","TBC","TBC","TBC","TBC","TBC",0,0,0,null,null,"BA41",0,"TBC","TBC","TBC","TBC","TBC","TBC",0,0,0,null,null,"BN41",0,"TBC","TBC","TBC","TBC","TBC","TBC",0,0,0]
["A42","Azeem Mohd Elias","UCD",335,0,0,0,0,335,0,335.0335,null,null,"N42",0,"TBC","TBC","TBC","TBC","TBC","TBC",0,0,0,null,null,"AA42",0,"TBC","TBC","TBC","TBC","TBC","TBC",0,0,0,null,null,"AN42",0,"TBC","TBC","TBC","TBC","TBC","TBC",0,0,0,null,null,"BA42",0,"TBC","TBC","TBC","TBC","TBC","TBC",0,0,0,null,null,"BN42",0,"TBC","TBC","TBC","TBC","TBC","TBC",0,0,0]
["A43","Hugh Carrol","DIT",0,0,0,0,285,285,0,285.02850000000001,null,null,"N43",0,"TBC","TBC","TBC","TBC","TBC","TBC",0,0,0,null,null,"AA43",0,"TBC","TBC","TBC","TBC","TBC","TBC",0,0,0,null,null,"AN43",0,"TBC","TBC","TBC","TBC","TBC","TBC",0,0,0,null,null,"BA43",0,"TBC","TBC","TBC","TBC","TBC","TBC",0,0,0,null,null,"BN43",0,"TBC","TBC","TBC","TBC","TBC","TBC",0,0,0]
["A44","Casey Patmore","UCD",0,261,0,0,0,261,0,261.02609999999999,null,null,"N44",0,"TBC","TBC","TBC","TBC","TBC","TBC",0,0,0,null,null,"AA44",0,"TBC","TBC","TBC","TBC","TBC","TBC",0,0,0,null,null,"AN44",0,"TBC","TBC","TBC","TBC","TBC","TBC",0,0,0,null,null,"BA44",0,"TBC","TBC","TBC","TBC","TBC","TBC",0,0,0,null,null,"BN44",0,"TBC","TBC","TBC","TBC","TBC","TBC",0,0,0]
["A45","Ian Nora","UL",249,0,0,0,0,249,0,249.0249,null,null,"N45",0,"TBC","TBC","TBC","TBC","TBC","TBC",0,0,0,null,null,"AA45",0,"TBC","TBC","TBC","TBC","TBC","TBC",0,0,0,null,null,"AN45",0,"TBC","TBC","TBC","TBC","TBC","TBC",0,0,0,null,null,"BA45",0,"TBC","TBC","TBC","TBC","TBC","TBC",0,0,0,null,null,"BN45",0,"TBC","TBC","TBC","TBC","TBC","TBC",0,0,0]
["A46","Jacob Byrne","DIT",0,0,0,225,0,225,0,225.02250000000001,null,null,"N46",0,"TBC","TBC","TBC","TBC","TBC","TBC",0,0,0,null,null,"AA46",0,"TBC","TBC","TBC","TBC","TBC","TBC",0,0,0,null,null,"AN46",0,"TBC","TBC","TBC","TBC","TBC","TBC",0,0,0,null,null,"BA46",0,"TBC","TBC","TBC","TBC","TBC","TBC",0,0,0,null,null,"BN46",0,"TBC","TBC","TBC","TBC","TBC","TBC",0,0,0]
["A47","Caoimhe Lalor","UCD",0,0,0,168,0,168,0,168.01679999999999,null,null,"N47",0,"TBC","TBC","TBC","TBC","TBC","TBC",0,0,0,null,null,"AA47",0,"TBC","TBC","TBC","TBC","TBC","TBC",0,0,0,null,null,"AN47",0,"TBC","TBC","TBC","TBC","TBC","TBC",0,0,0,null,null,"BA47",0,"TBC","TBC","TBC","TBC","TBC","TBC",0,0,0,null,null,"BN47",0,"TBC","TBC","TBC","TBC","TBC","TBC",0,0,0]
["A48",0,"TBC","TBC","TBC","TBC","TBC","TBC",0,0,0,null,null,"N48",0,"TBC","TBC","TBC","TBC","TBC","TBC",0,0,0,null,null,"AA48",0,"TBC","TBC","TBC","TBC","TBC","TBC",0,0,0,null,null,"AN48",0,"TBC","TBC","TBC","TBC","TBC","TBC",0,0,0,null,null,"BA48",0,"TBC","TBC","TBC","TBC","TBC","TBC",0,0,0,null,null,"BN48",0,"TBC","TBC","TBC","TBC","TBC","TBC",0,0,0]
["A49",0,"TBC","TBC","TBC","TBC","TBC","TBC",0,0,0,null,null,"N49",0,"TBC","TBC","TBC","TBC","TBC","TBC",0,0,0,null,null,"AA49",0,"TBC","TBC","TBC","TBC","TBC","TBC",0,0,0,null,null,"AN49",0,"TBC","TBC","TBC","TBC","TBC","TBC",0,0,0,null,null,"BA49",0,"TBC","TBC","TBC","TBC","TBC","TBC",0,0,0,null,null,"BN49",0,"TBC","TBC","TBC","TBC","TBC","TBC",0,0,0]
["A50",0,"TBC","TBC","TBC","TBC","TBC","TBC",0,0,0,null,null,"N50",0,"TBC","TBC","TBC","TBC","TBC","TBC",0,0,0,null,null,"AA50",0,"TBC","TBC","TBC","TBC","TBC","TBC",0,0,0,null,null,"AN50",0,"TBC","TBC","TBC","TBC","TBC","TBC",0,0,0,null,null,"BA50",0,"TBC","TBC","TBC","TBC","TBC","TBC",0,0,0,null,null,"BN50",0,"TBC","TBC","TBC","TBC","TBC","TBC",0,0,0]
["A51",0,"TBC","TBC","TBC","TBC","TBC","TBC",0,0,0,null,null,"N51",0,"TBC","TBC","TBC","TBC","TBC","TBC",0,0,0,null,null,"AA51",0,"TBC","TBC","TBC","TBC","TBC","TBC",0,0,0,null,null,"AN51",0,"TBC","TBC","TBC","TBC","TBC","TBC",0,0,0,null,null,"BA51",0,"TBC","TBC","TBC","TBC","TBC","TBC",0,0,0,null,null,"BN51",0,"TBC","TBC","TBC","TBC","TBC","TBC",0,0,0]
["A52",0,"TBC","TBC","TBC","TBC","TBC","TBC",0,0,0,null,null,"N52",0,"TBC","TBC","TBC","TBC","TBC","TBC",0,0,0,null,null,"AA52",0,"TBC","TBC","TBC","TBC","TBC","TBC",0,0,0,null,null,"AN52",0,"TBC","TBC","TBC","TBC","TBC","TBC",0,0,0,null,null,"BA52",0,"TBC","TBC","TBC","TBC","TBC","TBC",0,0,0,null,null,"BN52",0,"TBC","TBC","TBC","TBC","TBC","TBC",0,0,0]
["A53",0,"TBC","TBC","TBC","TBC","TBC","TBC",0,0,0,null,null,"N53",0,"TBC","TBC","TBC","TBC","TBC","TBC",0,0,0,null,null,"AA53",0,"TBC","TBC","TBC","TBC","TBC","TBC",0,0,0,null,null,"AN53",0,"TBC","TBC","TBC","TBC","TBC","TBC",0,0,0,null,null,"BA53",0,"TBC","TBC","TBC","TBC","TBC","TBC",0,0,0,null,null,"BN53",0,"TBC","TBC","TBC","TBC","TBC","TBC",0,0,0]
["A54",0,"TBC","TBC","TBC","TBC","TBC","TBC",0,0,0,null,null,"N54",0,"TBC","TBC","TBC","TBC","TBC","TBC",0,0,0,null,null,"AA54",0,"TBC","TBC","TBC","TBC","TBC","TBC",0,0,0,null,null,"AN54",0,"TBC","TBC","TBC","TBC","TBC","TBC",0,0,0,null,null,"BA54",0,"TBC","TBC","TBC","TBC","TBC","TBC",0,0,0,null,null,"BN54",0,"TBC","TBC","TBC","TBC","TBC","TBC",0,0,0]
["A55",0,"TBC","TBC","TBC","TBC","TBC","TBC",0,0,0,null,null,"N55",0,"TBC","TBC","TBC","TBC","TBC","TBC",0,0,0,null,null,"AA55",0,"TBC","TBC","TBC","TBC","TBC","TBC",0,0,0,null,null,"AN55",0,"TBC","TBC","TBC","TBC","TBC","TBC",0,0,0,null,null,"BA55",0,"TBC","TBC","TBC","TBC","TBC","TBC",0,0,0,null,null,"BN55",0,"TBC","TBC","TBC","TBC","TBC","TBC",0,0,0]
["A56",0,"TBC","TBC","TBC","TBC","TBC","TBC",0,0,0,null,null,"N56",0,"TBC","TBC","TBC","TBC","TBC","TBC",0,0,0,null,null,"AA56",0,"TBC","TBC","TBC","TBC","TBC","TBC",0,0,0,null,null,"AN56",0,"TBC","TBC","TBC","TBC","TBC","TBC",0,0,0,null,null,"BA56",0,"TBC","TBC","TBC","TBC","TBC","TBC",0,0,0,null,null,"BN56",0,"TBC","TBC","TBC","TBC","TBC","TBC",0,0,0]
["A57",0,"TBC","TBC","TBC","TBC","TBC","TBC",0,0,0,null,null,"N57",0,"TBC","TBC","TBC","TBC","TBC","TBC",0,0,0,null,null,"AA57",0,"TBC","TBC","TBC","TBC","TBC","TBC",0,0,0,null,null,"AN57",0,"TBC","TBC","TBC","TBC","TBC","TBC",0,0,0,null,null,"BA57",0,"TBC","TBC","TBC","TBC","TBC","TBC",0,0,0,null,null,"BN57",0,"TBC","TBC","TBC","TBC","TBC","TBC",0,0,0]
["A58",0,"TBC","TBC","TBC","TBC","TBC","TBC",0,0,0,null,null,"N58",0,"TBC","TBC","TBC","TBC","TBC","TBC",0,0,0,null,null,"AA58",0,"TBC","TBC","TBC","TBC","TBC","TBC",0,0,0,null,null,"AN58",0,"TBC","TBC","TBC","TBC","TBC","TBC",0,0,0,null,null,"BA58",0,"TBC","TBC","TBC","TBC","TBC","TBC",0,0,0,null,null,"BN58",0,"TBC","TBC","TBC","TBC","TBC","TBC",0,0,0]
["A59",0,"TBC","TBC","TBC","TBC","TBC","TBC",0,0,0,null,null,"N59",0,"TBC","TBC","TBC","TBC","TBC","TBC",0,0,0,null,null,"AA59",0,"TBC","TBC","TBC","TBC","TBC","TBC",0,0,0,null,null,"AN59",0,"TBC","TBC","TBC","TBC","TBC","TBC",0,0,0,null,null,"BA59",0,"TBC","TBC","TBC","TBC","TBC","TBC",0,0,0,null,null,"BN59",0,"TBC","TBC","TBC","TBC","TBC","TBC",0,0,0]
["A60",0,"TBC","TBC","TBC","TBC","TBC","TBC",0,0,0,null,null,"N60",0,"TBC","TBC","TBC","TBC","TBC","TBC",0,0,0,null,null,"AA60",0,"TBC","TBC","TBC","TBC","TBC","TBC",0,0,0,null,null,"AN60",0,"TBC","TBC","TBC","TBC","TBC","TBC",0,0,0,null,null,"BA60",0,"TBC","TBC","TBC","TBC","TBC","TBC",0,0,0,null,null,"BN60",0,"TBC","TBC","TBC","TBC","TBC","TBC",0,0,0]
["A61",0,"TBC","TBC","TBC","TBC","TBC","TBC",0,0,0,null,null,"N61",0,"TBC","TBC","TBC","TBC","TBC","TBC",0,0,0,null,null,"AA61",0,"TBC","TBC","TBC","TBC","TBC","TBC",0,0,0,null,null,"AN61",0,"TBC","TBC","TBC","TBC","TBC","TBC",0,0,0,null,null,"BA61",0,"TBC","TBC","TBC","TBC","TBC","TBC",0,0,0,null,null,"BN61",0,"TBC","TBC","TBC","TBC","TBC","TBC",0,0,0]
["A62",0,"TBC","TBC","TBC","TBC","TBC","TBC",0,0,0,null,null,"N62",0,"TBC","TBC","TBC","TBC","TBC","TBC",0,0,0,null,null,"AA62",0,"TBC","TBC","TBC","TBC","TBC","TBC",0,0,0,null,null,"AN62",0,"TBC","TBC","TBC","TBC","TBC","TBC",0,0,0,null,null,"BA62",0,"TBC","TBC","TBC","TBC","TBC","TBC",0,0,0,null,null,"BN62",0,"TBC","TBC","TBC","TBC","TBC","TBC",0,0,0]
["A63",0,"TBC","TBC","TBC","TBC","TBC","TBC",0,0,0,null,null,"N63",0,"TBC","TBC","TBC","TBC","TBC","TBC",0,0,0,null,null,"AA63",0,"TBC","TBC","TBC","TBC","TBC","TBC",0,0,0,null,null,"AN63",0,"TBC","TBC","TBC","TBC","TBC","TBC",0,0,0,null,null,"BA63",0,"TBC","TBC","TBC","TBC","TBC","TBC",0,0,0,null,null,"BN63",0,"TBC","TBC","TBC","TBC","TBC","TBC",0,0,0]
["A64",0,"TBC","TBC","TBC","TBC","TBC","TBC",0,0,0,null,null,"N64",0,"TBC","TBC","TBC","TBC","TBC","TBC",0,0,0,null,null,"AA64",0,"TBC","TBC","TBC","TBC","TBC","TBC",0,0,0,null,null,"AN64",0,"TBC","TBC","TBC","TBC","TBC","TBC",0,0,0,null,null,"BA64",0,"TBC","TBC","TBC","TBC","TBC","TBC",0,0,0,null,null,"BN64",0,"TBC","TBC","TBC","TBC","TBC","TBC",0,0,0]
["A65",0,"TBC","TBC","TBC","TBC","TBC","TBC",0,0,0,null,null,"N65",0,"TBC","TBC","TBC","TBC","TBC","TBC",0,0,0,null,null,"AA65",0,"TBC","TBC","TBC","TBC","TBC","TBC",0,0,0,null,null,"AN65",0,"TBC","TBC","TBC","TBC","TBC","TBC",0,0,0,null,null,"BA65",0,"TBC","TBC","TBC","TBC","TBC","TBC",0,0,0,null,null,"BN65",0,"TBC","TBC","TBC","TBC","TBC","TBC",0,0,0]
["A66",0,"TBC","TBC","TBC","TBC","TBC","TBC",0,0,0,null,null,"N66",0,"TBC","TBC","TBC","TBC","TBC","TBC",0,0,0,null,null,"AA66",0,"TBC","TBC","TBC","TBC","TBC","TBC",0,0,0,null,null,"AN66",0,"TBC","TBC","TBC","TBC","TBC","TBC",0,0,0,null,null,"BA66",0,"TBC","TBC","TBC","TBC","TBC","TBC",0,0,0,null,null,"BN66",0,"TBC","TBC","TBC","TBC","TBC","TBC",0,0,0]
["A67",0,"TBC","TBC","TBC","TBC","TBC","TBC",0,0,0,null,null,"N67",0,"TBC","TBC","TBC","TBC","TBC","TBC",0,0,0,null,null,"AA67",0,"TBC","TBC","TBC","TBC","TBC","TBC",0,0,0,null,null,"AN67",0,"TBC","TBC","TBC","TBC","TBC","TBC",0,0,0,null,null,"BA67",0,"TBC","TBC","TBC","TBC","TBC","TBC",0,0,0,null,null,"BN67",0,"TBC","TBC","TBC","TBC","TBC","TBC",0,0,0]
["A68",0,"TBC","TBC","TBC","TBC","TBC","TBC",0,0,0,null,null,"N68",0,"TBC","TBC","TBC","TBC","TBC","TBC",0,0,0,null,null,"AA68",0,"TBC","TBC","TBC","TBC","TBC","TBC",0,0,0,null,null,"AN68",0,"TBC","TBC","TBC","TBC","TBC","TBC",0,0,0,null,null,"BA68",0,"TBC","TBC","TBC","TBC","TBC","TBC",0,0,0,null,null,"BN68",0,"TBC","TBC","TBC","TBC","TBC","TBC",0,0,0]
["A69",0,"TBC","TBC","TBC","TBC","TBC","TBC",0,0,0,null,null,"N69",0,"TBC","TBC","TBC","TBC","TBC","TBC",0,0,0,null,null,"AA69",0,"TBC","TBC","TBC","TBC","TBC","TBC",0,0,0,null,null,"AN69",0,"TBC","TBC","TBC","TBC","TBC","TBC",0,0,0,null,null,"BA69",0,"TBC","TBC","TBC","TBC","TBC","TBC",0,0,0,null,null,"BN69",0,"TBC","TBC","TBC","TBC","TBC","TBC",0,0,0]
["A70",0,"TBC","TBC","TBC","TBC","TBC","TBC",0,0,0,null,null,"N70",0,"TBC","TBC","TBC","TBC","TBC","TBC",0,0,0,null,null,"AA70",0,"TBC","TBC","TBC","TBC","TBC","TBC",0,0,0,null,null,"AN70",0,"TBC","TBC","TBC","TBC","TBC","TBC",0,0,0,null,null,"BA70",0,"TBC","TBC","TBC","TBC","TBC","TBC",0,0,0,null,null,"BN70",0,"TBC","TBC","TBC","TBC","TBC","TBC",0,0,0]
["A71",0,"TBC","TBC","TBC","TBC","TBC","TBC",0,0,0,null,null,"N71",0,"TBC","TBC","TBC","TBC","TBC","TBC",0,0,0,null,null,"AA71",0,"TBC","TBC","TBC","TBC","TBC","TBC",0,0,0,null,null,"AN71",0,"TBC","TBC","TBC","TBC","TBC","TBC",0,0,0,null,null,"BA71",0,"TBC","TBC","TBC","TBC","TBC","TBC",0,0,0,null,null,"BN71",0,"TBC","TBC","TBC","TBC","TBC","TBC",0,0,0]
["A72",{"$f":"VLOOKUP($A265,$A$8:$K$82,2,0)","v":0},{"$f":"VLOOKUP($A265,$A$8:$K$82,3,0)","v":"TBC"},{"$f":"VLOOKUP($A265,$A$8:$K$82,4,0)","v":"TBC"},{"$f":"VLOOKUP($A265,$A$8:$K$82,5,0)","v":"TBC"},{"$f":"VLOOKUP($A265,$A$8:$K$82,6,0)","v":"TBC"},{"$f":"VLOOKUP($A265,$A$8:$K$82,7,0)","v":"TBC"},{"$f":"VLOOKUP($A265,$A$8:$K$82,8,0)","v":"TBC"},{"$f":"VLOOKUP($A265,$A$8:$K$82,9,0)","v":0},{"$f":"VLOOKUP($A265,$A$8:$K$82,10,0)","v":0},{"$f":"VLOOKUP($A265,$A$8:$K$82,11,0)","v":0},null,null,"N72",0,"TBC","TBC","TBC","TBC","TBC","TBC",0,0,0,null,null,"AA72",0,"TBC","TBC","TBC","TBC","TBC","TBC",0,0,0,null,null,"AN72",0,"TBC","TBC","TBC","TBC","TBC","TBC",0,0,0,null,null,"BA72",0,"TBC","TBC","TBC","TBC","TBC","TBC",0,0,0,null,null,"BN72",0,"TBC","TBC","TBC","TBC","TBC","TBC",0,0,0]
["A73",0,"TBC","TBC","TBC","TBC","TBC","TBC",0,0,0,null,null,"N73",{"$f":"VLOOKUP($N266,$N$8:$X$82,2,0)","v":0},{"$f":"VLOOKUP($N266,$N$8:$X$82,3,0)","v":"TBC"},{"$f":"VLOOKUP($N266,$N$8:$X$82,4,0)","v":"TBC"},{"$f":"VLOOKUP($N266,$N$8:$X$82,5,0)","v":"TBC"},{"$f":"VLOOKUP($N266,$N$8:$X$82,6,0)","v":"TBC"},{"$f":"VLOOKUP($N266,$N$8:$X$82,7,0)","v":"TBC"},{"$f":"VLOOKUP($N266,$N$8:$X$82,8,0)","v":"TBC"},{"$f":"VLOOKUP($N266,$N$8:$X$82,9,0)","v":0},{"$f":"VLOOKUP($N266,$N$8:$X$82,10,0)","v":0},{"$f":"VLOOKUP($N266,$N$8:$X$82,11,0)","v":0},null,null,"AA73",{"$f":"VLOOKUP($AA266,$AA$8:$AK$82,2,0)","v":0},{"$f":"VLOOKUP($AA266,$AA$8:$AK$82,3,0)","v":"TBC"},{"$f":"VLOOKUP($AA266,$AA$8:$AK$82,4,0)","v":"TBC"},{"$f":"VLOOKUP($AA266,$AA$8:$AK$82,5,0)","v":"TBC"},{"$f":"VLOOKUP($AA266,$AA$8:$AK$82,6,0)","v":"TBC"},{"$f":"VLOOKUP($AA266,$AA$8:$AK$82,7,0)","v":"TBC"},{"$f":"VLOOKUP($AA266,$AA$8:$AK$82,8,0)","v":"TBC"},{"$f":"VLOOKUP($AA266,$AA$8:$AK$82,9,0)","v":0},{"$f":"VLOOKUP($AA266,$AA$8:$AK$82,10,0)","v":0},{"$f":"VLOOKUP($AA266,$AA$8:$AK$82,11,0)","v":0},null,null,"AN73",{"$f":"VLOOKUP($AN266,$AN$8:$AX$82,2,0)","v":0},{"$f":"VLOOKUP($AN266,$AN$8:$AX$82,3,0)","v":"TBC"},{"$f":"VLOOKUP($AN266,$AN$8:$AX$82,4,0)","v":"TBC"},{"$f":"VLOOKUP($AN266,$AN$8:$AX$82,5,0)","v":"TBC"},{"$f":"VLOOKUP($AN266,$AN$8:$AX$82,6,0)","v":"TBC"},{"$f":"VLOOKUP($AN266,$AN$8:$AX$82,7,0)","v":"TBC"},{"$f":"VLOOKUP($AN266,$AN$8:$AX$82,8,0)","v":"TBC"},{"$f":"VLOOKUP($AN266,$AN$8:$AX$82,9,0)","v":0},{"$f":"VLOOKUP($AN266,$AN$8:$AX$82,10,0)","v":0},{"$f":"VLOOKUP($AN266,$AN$8:$AX$82,11,0)","v":0},null,null,"BA73",{"$f":"VLOOKUP($BA266,$BA$8:$BK$82,2,0)","v":0},{"$f":"VLOOKUP($BA266,$BA$8:$BK$82,3,0)","v":"TBC"},{"$f":"VLOOKUP($BA266,$BA$8:$BK$82,4,0)","v":"TBC"},{"$f":"VLOOKUP($BA266,$BA$8:$BK$82,5,0)","v":"TBC"},{"$f":"VLOOKUP($BA266,$BA$8:$BK$82,6,0)","v":"TBC"},{"$f":"VLOOKUP($BA266,$BA$8:$BK$82,7,0)","v":"TBC"},{"$f":"VLOOKUP($BA266,$BA$8:$BK$82,8,0)","v":"TBC"},{"$f":"VLOOKUP($BA266,$BA$8:$BK$82,9,0)","v":0},{"$f":"VLOOKUP($BA266,$BA$8:$BK$82,10,0)","v":0},{"$f":"VLOOKUP($BA266,$BA$8:$BK$82,11,0)","v":0},null,null,"BN73",{"$f":"VLOOKUP($BN266,$BN$8:$BX$82,2,0)","v":0},{"$f":"VLOOKUP($BN266,$BN$8:$BX$82,3,0)","v":"TBC"},{"$f":"VLOOKUP($BN266,$BN$8:$BX$82,4,0)","v":"TBC"},{"$f":"VLOOKUP($BN266,$BN$8:$BX$82,5,0)","v":"TBC"},{"$f":"VLOOKUP($BN266,$BN$8:$BX$82,6,0)","v":"TBC"},{"$f":"VLOOKUP($BN266,$BN$8:$BX$82,7,0)","v":"TBC"},{"$f":"VLOOKUP($BN266,$BN$8:$BX$82,8,0)","v":"TBC"},{"$f":"VLOOKUP($BN266,$BN$8:$BX$82,9,0)","v":0},{"$f":"VLOOKUP($BN266,$BN$8:$BX$82,10,0)","v":0},{"$f":"VLOOKUP($BN266,$BN$8:$BX$82,11,0)","v":0}]
["A74",0,"TBC","TBC","TBC","TBC","TBC","TBC",0,0,0,null,null,"N74",0,"TBC","TBC","TBC","TBC","TBC","TBC",0,0,0,null,null,"AA74",0,"TBC","TBC","TBC","TBC","TBC","TBC",0,0,0,null,null,"AN74",0,"TBC","TBC","TBC","TBC","TBC","TBC",0,0,0,null,null,"BA74",0,"TBC","TBC","TBC","TBC","TBC","TBC",0,0,0,null,null,"BN74",0,"TBC","TBC","TBC","TBC","TBC","TBC",0,0,0]
["A75",0,"TBC","TBC","TBC","TBC","TBC","TBC",0,0,0,null,null,"N75",0,"TBC","TBC","TBC","TBC","TBC","TBC",0,0,0,null,null,"AA75",0,"TBC","TBC","TBC","TBC","TBC","TBC",0,0,0,null,null,"AN75",0,"TBC","TBC","TBC","TBC","TBC","TBC",0,0,0,null,null,"BA75",0,"TBC","TBC","TBC","TBC","TBC","TBC",0,0,0,null,null,"BN75",0,"TBC","TBC","TBC","TBC","TBC","TBC",0,0,0]
["A76",0,"TBC","TBC","TBC","TBC","TBC","TBC",0,0,0,null,null,"N76",0,"TBC","TBC","TBC","TBC","TBC","TBC",0,0,0,null,null,"AA76",0,"TBC","TBC","TBC","TBC","TBC","TBC",0,0,0,null,null,"AN76",0,"TBC","TBC","TBC","TBC","TBC","TBC",0,0,0,null,null,"BA76",0,"TBC","TBC","TBC","TBC","TBC","TBC",0,0,0,null,null,"BN76",0,"TBC","TBC","TBC","TBC","TBC","TBC",0,0,0]
["A77",0,"TBC","TBC","TBC","TBC","TBC","TBC",0,0,0,null,null,"N77",0,"TBC","TBC","TBC","TBC","TBC","TBC",0,0,0,null,null,"AA77",0,"TBC","TBC","TBC","TBC","TBC","TBC",0,0,0,null,null,"AN77",0,"TBC","TBC","TBC","TBC","TBC","TBC",0,0,0,null,null,"BA77",0,"TBC","TBC","TBC","TBC","TBC","TBC",0,0,0,null,null,"BN77",0,"TBC","TBC","TBC","TBC","TBC","TBC",0,0,0]
["A78",0,"TBC","TBC","TBC","TBC","TBC","TBC",0,0,0,null,null,"N78",0,"TBC","TBC","TBC","TBC","TBC","TBC",0,0,0,null,null,"AA78",0,"TBC","TBC","TBC","TBC","TBC","TBC",0,0,0,null,null,"AN78",0,"TBC","TBC","TBC","TBC","TBC","TBC",0,0,0,null,null,"BA78",0,"TBC","TBC","TBC","TBC","TBC","TBC",0,0,0,null,null,"BN78",0,"TBC","TBC","TBC","TBC","TBC","TBC",0,0,0]
["A79",0,"TBC","TBC","TBC","TBC","TBC","TBC",0,0,0,null,null,"N79",0,"TBC","TBC","TBC","TBC","TBC","TBC",0,0,0,null,null,"AA79",0,"TBC","TBC","TBC","TBC","TBC","TBC",0,0,0,null,null,"AN79",0,"TBC","TBC","TBC","TBC","TBC","TBC",0,0,0,null,null,"BA79",0,"TBC","TBC","TBC","TBC","TBC","TBC",0,0,0,null,null,"BN79",0,"TBC","TBC","TBC","TBC","TBC","TBC",0,0,0]
["A80",0,"TBC","TBC","TBC","TBC","TBC","TBC",0,0,0,null,null,"N80",0,"TBC","TBC","TBC","TBC","TBC","TBC",0,0,0,null,null,"AA80",0,"TBC","TBC","TBC","TBC","TBC","TBC",0,0,0,null,null,"AN80",0,"TBC","TBC","TBC","TBC","TBC","TBC",0,0,0,null,null,"BA80",0,"TBC","TBC","TBC","TBC","TBC","TBC",0,0,0,null,null,"BN80",0,"TBC","TBC","TBC","TBC","TBC","TBC",0,0,0]
["A81",0,"TBC","TBC","TBC","TBC","TBC","TBC",0,0,0,null,null,"N81",0,"TBC","TBC","TBC","TBC","TBC","TBC",0,0,0,null,null,"AA81",0,"TBC","TBC","TBC","TBC","TBC","TBC",0,0,0,null,null,"AN81",0,"TBC","TBC","TBC","TBC","TBC","TBC",0,0,0,null,null,"BA81",0,"TBC","TBC","TBC","TBC","TBC","TBC",0,0,0,null,null,"BN81",0,"TBC","TBC","TBC","TBC","TBC","TBC",0,0,0]
["A82",0,"TBC","TBC","TBC","TBC","TBC","TBC",0,0,0,null,null,"N82",0,"TBC","TBC","TBC","TBC","TBC","TBC",0,0,0,null,null,"AA82",0,"TBC","TBC","TBC","TBC","TBC","TBC",0,0,0,null,null,"AN82",0,"TBC","TBC","TBC","TBC","TBC","TBC",0,0,0,null,null,"BA82",0,"TBC","TBC","TBC","TBC","TBC","TBC",0,0,0,null,null,"BN82",0,"TBC","TBC","TBC","TBC","TBC","TBC",0,0,0]
[]
[]
[]
[]
[]
[]
[]
[]
[]
[]
[]
[]
[]
[]
[]
[]
[]
[]
[]
[]
[]
[]
[]
[null,"BBM Sort",null,null,null,null,null,null,null,null,null,null,null,null,"BBF Sort",null,null,null,null,null,null,null,null,null,null,null,null,"BAM Sort",null,null,null,null,null,null,null,null,null,null,null,null,"BAF Sort",null,null,null,null,null,null,null,null,null,null,null,null,"CM Sort",null,null,null,null,null,null,null,null,null,null,null,null,"CF Sort"]
["Tag","Name","College","IV 1","IV 2","IV3","IV4","IV5","Total","Lowest","LEAGUE",null,null,"Tag","Name","College","IV 1","IV 2","IV3","IV4","IV5","Total","Lowest","LEAGUE",null,null,"Tag","Name","College","IV 1","IV 2","IV3","IV4","IV5","Total","Lowest","LEAGUE",null,null,"Tag","Name","College","IV 1","IV 2","IV3","IV4","IV5","Total","Lowest","LEAGUE",null,null,"Tag","Name","College","IV 1","IV 2","IV3","IV4","IV5","Total","Lowest","LEAGUE",null,null,"Tag","Name","College","IV 1","IV 2","IV3","IV4","IV5","Total","Lowest","LEAGUE"]
["A93",{"$f":"VLOOKUP($A301,$A$93:$K$167,2,0)","v":"Andrew Fahey"},{"$f":"VLOOKUP($A301,$A$93:$K$167,3,0)","v":"GMIT"},{"$f":"VLOOKUP($A301,$A$93:$K$167,4,0)","v":393},{"$f":"VLOOKUP($A301,$A$93:$K$167,5,0)","v":391},{"$f":"VLOOKUP($A301,$A$93:$K$167,6,0)","v":439},{"$f":"VLOOKUP($A301,$A$93:$K$167,7,0)","v":307},{"$f":"VLOOKUP($A301,$A$93:$K$167,8,0)","v":360},{"$f":"VLOOKUP($A301,$A$93:$K$167,9,0)","v":1890},{"$f":"VLOOKUP($A301,$A$93:$K$167,10,0)","v":307},{"$f":"VLOOKUP($A301,$A$93:$K$167,11,0)","v":1583.0439392999999},null,null,"N93",{"$f":"VLOOKUP($N301,$N$93:$X$167,2,0)","v":"Siobhán Tuffy"},{"$f":"VLOOKUP($N301,$N$93:$X$167,3,0)","v":"GMIT"},{"$f":"VLOOKUP($N301,$N$93:$X$167,4,0)","v":365},{"$f":"VLOOKUP($N301,$N$93:$X$167,5,0)","v":388},{"$f":"VLOOKUP($N301,$N$93:$X$167,6,0)","v":420},{"$f":"VLOOKUP($N301,$N$93:$X$167,7,0)","v":234},{"$f":"VLOOKUP($N301,$N$93:$X$167,8,0)","v":201},{"$f":"VLOOKUP($N301,$N$93:$X$167,9,0)","v":1608},{"$f":"VLOOKUP($N301,$N$93:$X$167,10,0)","v":201},{"$f":"VLOOKUP($N301,$N$93:$X$167,11,0)","v":1407.0420388},null,null,"AA93",{"$f":"VLOOKUP($AA301,$AA$93:$AK$167,2,0)","v":"Dean Lalor"},{"$f":"VLOOKUP($AA301,$AA$93:$AK$167,3,0)","v":"DCU"},{"$f":"VLOOKUP($AA301,$AA$93:$AK$167,4,0)","v":413},{"$f":"VLOOKUP($AA301,$AA$93:$AK$167,5,0)","v":394},{"$f":"VLOOKUP($AA301,$AA$93:$AK$167,6,0)","v":446},{"$f":"VLOOKUP($AA301,$AA$93:$AK$167,7,0)","v":469},{"$f":"VLOOKUP($AA301,$AA$93:$AK$167,8,0)","v":437},{"$f":"VLOOKUP($AA301,$AA$93:$AK$167,9,0)","v":2159},{"$f":"VLOOKUP($AA301,$AA$93:$AK$167,10,0)","v":394},{"$f":"VLOOKUP($AA301,$AA$93:$AK$167,11,0)","v":1765.0469446},null,null,"AN93",{"$f":"VLOOKUP($AN301,$AN$93:$AX$167,2,0)","v":"Sarah Howard"},{"$f":"VLOOKUP($AN301,$AN$93:$AX$167,3,0)","v":"DCU"},{"$f":"VLOOKUP($AN301,$AN$93:$AX$167,4,0)","v":296},{"$f":"VLOOKUP($AN301,$AN$93:$AX$167,5,0)","v":357},{"$f":"VLOOKUP($AN301,$AN$93:$AX$167,6,0)","v":0},{"$f":"VLOOKUP($AN301,$AN$93:$AX$167,7,0)","v":296},{"$f":"VLOOKUP($AN301,$AN$93:$AX$167,8,0)","v":342},{"$f":"VLOOKUP($AN301,$AN$93:$AX$167,9,0)","v":1291},{"$f":"VLOOKUP($AN301,$AN$93:$AX$167,10,0)","v":0},{"$f":"VLOOKUP($AN301,$AN$93:$AX$167,11,0)","v":1291.0357342},null,null,"BA93",{"$f":"VLOOKUP($BA301,$BA$93:$BK$167,2,0)","v":"Glen Conway"},{"$f":"VLOOKUP($BA301,$BA$93:$BK$167,3,0)","v":"IT Tallaght"},{"$f":"VLOOKUP($BA301,$BA$93:$BK$167,4,0)","v":568},{"$f":"VLOOKUP($BA301,$BA$93:$BK$167,5,0)","v":564},{"$f":"VLOOKUP($BA301,$BA$93:$BK$167,6,0)","v":537},{"$f":"VLOOKUP($BA301,$BA$93:$BK$167,7,0)","v":565},{"$f":"VLOOKUP($BA301,$BA$93:$BK$167,8,0)","v":567},{"$f":"VLOOKUP($BA301,$BA$93:$BK$167,9,0)","v":2801},{"$f":"VLOOKUP($BA301,$BA$93:$BK$167,10,0)","v":537},{"$f":"VLOOKUP($BA301,$BA$93:$BK$167,11,0)","v":2264.0568567},null,null,"BN93",{"$f":"VLOOKUP($BN301,$BN$93:$BX$167,2,0)","v":"Niamh Kenny"},{"$f":"VLOOKUP($BN301,$BN$93:$BX$167,3,0)","v":"NUIG"},{"$f":"VLOOKUP($BN301,$BN$93:$BX$167,4,0)","v":529},{"$f":"VLOOKUP($BN301,$BN$93:$BX$167,5,0)","v":541},{"$f":"VLOOKUP($BN301,$BN$93:$BX$167,6,0)","v":538},{"$f":"VLOOKUP($BN301,$BN$93:$BX$167,7,0)","v":543},{"$f":"VLOOKUP($BN301,$BN$93:$BX$167,8,0)","v":517},{"$f":"VLOOKUP($BN301,$BN$93:$BX$167,9,0)","v":2668},{"$f":"VLOOKUP($BN301,$BN$93:$BX$167,10,0)","v":517},{"$f":"VLOOKUP($BN301,$BN$93:$BX$167,11,0)","v":2151.0543540999997}]
["A94",{"$f":"VLOOKUP($A302,$A$93:$K$167,2,0)","v":"Jamie McMahon"},{"$f":"VLOOKUP($A302,$A$93:$K$167,3,0)","v":"IT Tallaght"},{"$f":"VLOOKUP($A302,$A$93:$K$167,4,0)","v":380},{"$f":"VLOOKUP($A302,$A$93:$K$167,5,0)","v":383},{"$f":"VLOOKUP($A302,$A$93:$K$167,6,0)","v":431},{"$f":"VLOOKUP($A302,$A$93:$K$167,7,0)","v":331},{"$f":"VLOOKUP($A302,$A$93:$K$167,8,0)","v":271},{"$f":"VLOOKUP($A302,$A$93:$K$167,9,0)","v":1796},{"$f":"VLOOKUP($A302,$A$93:$K$167,10,0)","v":271},{"$f":"VLOOKUP($A302,$A$93:$K$167,11,0)","v":1525.0431383},null,null,"N94",{"$f":"VLOOKUP($N302,$N$93:$X$167,2,0)","v":"Hannah Cunniffe"},{"$f":"VLOOKUP($N302,$N$93:$X$167,3,0)","v":"GMIT"},{"$f":"VLOOKUP($N302,$N$93:$X$167,4,0)","v":170},{"$f":"VLOOKUP($N302,$N$93:$X$167,5,0)","v":320},{"$f":"VLOOKUP($N302,$N$93:$X$167,6,0)","v":329},{"$f":"VLOOKUP($N302,$N$93:$X$167,7,0)","v":402},{"$f":"VLOOKUP($N302,$N$93:$X$167,8,0)","v":365},{"$f":"VLOOKUP($N302,$N$93:$X$167,9,0)","v":1586},{"$f":"VLOOKUP($N302,$N$93:$X$167,10,0)","v":170},{"$f":"VLOOKUP($N302,$N$93:$X$167,11,0)","v":1416.0402365},null,null,"AA94",{"$f":"VLOOKUP($AA302,$AA$93:$AK$167,2,0)","v":"Bernard O'Connor"},{"$f":"VLOOKUP($AA302,$AA$93:$AK$167,3,0)","v":"DCU"},{"$f":"VLOOKUP($AA302,$AA$93:$AK$167,4,0)","v":326},{"$f":"VLOOKUP($AA302,$AA$93:$AK$167,5,0)","v":411},{"$f":"VLOOKUP($AA302,$AA$93:$AK$167,6,0)","v":403},{"$f":"VLOOKUP($AA302,$AA$93:$AK$167,7,0)","v":379},{"$f":"VLOOKUP($AA302,$AA$93:$AK$167,8,0)","v":404},{"$f":"VLOOKUP($AA302,$AA$93:$AK$167,9,0)","v":1923},{"$f":"VLOOKUP($AA302,$AA$93:$AK$167,10,0)","v":326},{"$f":"VLOOKUP($AA302,$AA$93:$AK$167,11,0)","v":1597.0411403999999},null,null,"AN94",{"$f":"VLOOKUP($AN302,$AN$93:$AX$167,2,0)","v":"Raizel Burstein-Frame"},{"$f":"VLOOKUP($AN302,$AN$93:$AX$167,3,0)","v":"NUIG"},{"$f":"VLOOKUP($AN302,$AN$93:$AX$167,4,0)","v":159},{"$f":"VLOOKUP($AN302,$AN$93:$AX$167,5,0)","v":159},{"$f":"VLOOKUP($AN302,$AN$93:$AX$167,6,0)","v":174},{"$f":"VLOOKUP($AN302,$AN$93:$AX$167,7,0)","v":0},{"$f":"VLOOKUP($AN302,$AN$93:$AX$167,8,0)","v":0},{"$f":"VLOOKUP($AN302,$AN$93:$AX$167,9,0)","v":492},{"$f":"VLOOKUP($AN302,$AN$93:$AX$167,10,0)","v":0},{"$f":"VLOOKUP($AN302,$AN$93:$AX$167,11,0)","v":492.0174159},null,null,"BA94",{"$f":"VLOOKUP($BA302,$BA$93:$BK$167,2,0)","v":"Cillian Byrne"},{"$f":"VLOOKUP($BA302,$BA$93:$BK$167,3,0)","v":"DCU"},{"$f":"VLOOKUP($BA302,$BA$93:$BK$167,4,0)","v":544},{"$f":"VLOOKUP($BA302,$BA$93:$BK$167,5,0)","v":547},{"$f":"VLOOKUP($BA302,$BA$93:$BK$167,6,0)","v":539},{"$f":"VLOOKUP($BA302,$BA$93:$BK$167,7,0)","v":540},{"$f":"VLOOKUP($BA302,$BA$93:$BK$167,8,0)","v":535},{"$f":"VLOOKUP($BA302,$BA$93:$BK$167,9,0)","v":2705},{"$f":"VLOOKUP($BA302,$BA$93:$BK$167,10,0)","v":535},{"$f":"VLOOKUP($BA302,$BA$93:$BK$167,11,0)","v":2170.0547544000001},null,null,"BN94",{"$f":"VLOOKUP($BN302,$BN$93:$BX$167,2,0)","v":"Niamh Merry"},{"$f":"VLOOKUP($BN302,$BN$93:$BX$167,3,0)","v":"DCU"},{"$f":"VLOOKUP($BN302,$BN$93:$BX$167,4,0)","v":361},{"$f":"VLOOKUP($BN302,$BN$93:$BX$167,5,0)","v":516},{"$f":"VLOOKUP($BN302,$BN$93:$BX$167,6,0)","v":523},{"$f":"VLOOKUP($BN302,$BN$93:$BX$167,7,0)","v":513},{"$f":"VLOOKUP($BN302,$BN$93:$BX$167,8,0)","v":386},{"$f":"VLOOKUP($BN302,$BN$93:$BX$167,9,0)","v":2299},{"$f":"VLOOKUP($BN302,$BN$93:$BX$167,10,0)","v":361},{"$f":"VLOOKUP($BN302,$BN$93:$BX$167,11,0)","v":1938.0523516000001}]
["A95","Elliot Barry","MU",241,337,348,380,322,1628,241,1387.0380348000001,null,null,"N95","Yingbo Li","ITC",154,239,378,395,396,1562,154,1408.0396395,null,null,"AA95","Niall O'Hanlon","DCU",422,331,407,362,353,1875,331,1544.0422407000001,null,null,"AN95","Aoife Monaghan","GMIT",0,0,0,156,307,463,0,463.03071560000001,null,null,"BA95","Luke Oonan","DCU",265,394,497,520,506,2182,265,1917.0520505999998,null,null,"BN95","Beth Freeman","DCU",494,517,0,526,517,2054,0,2054.0526516999998]
["A96","Sean Potts","MU",0,327,406,325,365,1423,0,1423.0406365000001,null,null,"N96","Charlotte Lokko","MU",206,275,306,267,307,1361,206,1155.0307306,null,null,"AA96","Jericho Siababa","DCU",0,437,465,457,486,1845,0,1845.0486465000001,null,null,"AN96","Nada Khaled-Abdo","NUIG",367,0,0,0,0,367,0,367.0367,null,null,"BA96","Marko Kovacevic","GMIT",539,548,0,547,542,2176,0,2176.0548546999999,null,null,"BN96","Kerrie Leonard","MU",537,0,0,0,0,537,0,537.05370000000005]
["A97","Shannon Birch","IT Tallaght",261,387,351,0,384,1383,0,1383.0387384000001,null,null,"N97","Sorcha Griffin","MU",0,337,338,354,327,1356,0,1356.0354338,null,null,"AA97","Pawel Nalecz-Nieniewski","ITC",353,364,359,357,395,1828,353,1475.0395364000001,null,null,"AN97","Emily Flanagan","NUIG",286,0,0,0,0,286,0,286.02859999999998,null,null,"BA97","Brendan Browne","GMIT",532,0,548,545,547,2172,0,2172.0548546999999,null,null,"BN97","Morgan Russell-Cowan","UU",0,0,0,523,0,523,0,523.05229999999995]
["A98","Ciarán Martin","MU",380,0,298,327,296,1301,0,1301.0380327,null,null,"N98","Katie Kruse","NUIG",0,0,303,262,421,986,0,986.04213030000005,null,null,"AA98","Conor Ó Beoláin","NUIG",471,393,0,340,0,1204,0,1204.0471393,null,null,"AN98","Ellis O'Sulliven","UCD",0,0,0,157,0,157,0,157.01570000000001,null,null,"BA98","Joao Vitor","NUIG",380,0,405,430,495,1710,0,1710.0495430000001,null,null,"BN98",0,"TBC","TBC","TBC","TBC","TBC","TBC",0,0,0]
["A99","Christopher Balfe","IT Tallaght",0,0,439,395,369,1203,0,1203.0439394999999,null,null,"N99","Emma-Jane Doyle","IT Tallaght",184,0,223,278,291,976,0,976.02912779999997,null,null,"AA99","David Price","ITC",391,403,370,0,0,1164,0,1164.0403391,null,null,"AN99",0,"TBC","TBC","TBC","TBC","TBC","TBC",0,0,0,null,null,"BA99","Christopher Ryan","NUIG",565,549,0,0,561,1675,0,1675.0565560999999,null,null,"BN99",0,"TBC","TBC","TBC","TBC","TBC","TBC",0,0,0]
["A100","Brian McDonagh ITT","IT Tallaght",205,0,308,283,313,1109,0,1109.0313308000002,null,null,"N100","Caroline Clarke","GMITC",283,0,167,181,260,891,0,891.02832599999999,null,null,"AA100","Andrew Warrington","GMITC",306,0,274,0,321,901,0,901.03213059999996,null,null,"AN100",0,"TBC","TBC","TBC","TBC","TBC","TBC",0,0,0,null,null,"BA100","Eimhin Gaynor","GMIT",0,0,0,559,566,1125,0,1125.0566558999999,null,null,"BN100",0,"TBC","TBC","TBC","TBC","TBC","TBC",0,0,0]
["A101","Richard Morrell","ITC",313,238,0,292,0,843,0,843.03132919999996,null,null,"N101","Julie Saes","NUIG",0,0,307,0,451,758,0,758.04513070000007,null,null,"AA101","Daniel Kelly","NUIG",0,293,383,0,0,676,0,676.0383293000001,null,null,"AN101",0,"TBC","TBC","TBC","TBC","TBC","TBC",0,0,0,null,null,"BA101","Shane McGloin","GMIT",0,0,538,548,0,1086,0,1086.0548537999998,null,null,"BN101",0,"TBC","TBC","TBC","TBC","TBC","TBC",0,0,0]
["A102","Cormac Begley","DUAC",0,282,253,0,267,802,0,802.0282267,null,null,"N102","Gabrielle Zeman","NUIG",0,0,193,0,429,622,0,622.04291929999999,null,null,"AA102","Jay McCarron","GMIT",0,0,62,0,0,62,0,62.0062,null,null,"AN102",0,"TBC","TBC","TBC","TBC","TBC","TBC",0,0,0,null,null,"BA102","Devon Long","UL",0,0,520,520,0,1040,0,1040.052052,null,null,"BN102",0,"TBC","TBC","TBC","TBC","TBC","TBC",0,0,0]
["A103","Eoin Dwyer","GMITC",243,0,0,353,188,784,0,784.03532429999996,null,null,"N103","Maorgain Siede","UCC",0,0,232,0,202,434,0,434.02322019999997,null,null,"AA103",0,"TBC","TBC","TBC","TBC","TBC","TBC",0,0,0,null,null,"AN103",0,"TBC","TBC","TBC","TBC","TBC","TBC",0,0,0,null,null,"BA103","James Floyd","MU",0,0,507,0,510,1017,0,1017.0510507,null,null,"BN103",0,"TBC","TBC","TBC","TBC","TBC","TBC",0,0,0]
["A104","Mark Harrington","NUIG",0,0,341,0,441,782,0,782.04413409999995,null,null,"N104","Niamh Meyler","NUIG",0,0,0,348,0,348,0,348.03480000000002,null,null,"AA104",0,"TBC","TBC","TBC","TBC","TBC","TBC",0,0,0,null,null,"AN104",0,"TBC","TBC","TBC","TBC","TBC","TBC",0,0,0,null,null,"BA104","Carl Byrne","NUIG",0,0,560,0,0,560,0,560.05600000000004,null,null,"BN104",0,"TBC","TBC","TBC","TBC","TBC","TBC",0,0,0]
["A105","Jack Buttery","DUAC",0,144,308,0,319,771,0,771.03193079999994,null,null,"N105","Sophie Hunt","GMITC",0,0,0,0,318,318,0,318.03179999999998,null,null,"AA105",0,"TBC","TBC","TBC","TBC","TBC","TBC",0,0,0,null,null,"AN105",0,"TBC","TBC","TBC","TBC","TBC","TBC",0,0,0,null,null,"BA105","Ross McQuade","UU",0,0,0,261,0,261,0,261.02609999999999,null,null,"BN105",0,"TBC","TBC","TBC","TBC","TBC","TBC",0,0,0]
["A106","Eoin De Brit","MU",0,0,0,422,336,758,0,758.04223360000003,null,null,"N106","Melissa Gueey","ITC",0,0,0,0,317,317,0,317.0317,null,null,"AA106",0,"TBC","TBC","TBC","TBC","TBC","TBC",0,0,0,null,null,"AN106",0,"TBC","TBC","TBC","TBC","TBC","TBC",0,0,0,null,null,"BA106",0,"TBC","TBC","TBC","TBC","TBC","TBC",0,0,0,null,null,"BN106",0,"TBC","TBC","TBC","TBC","TBC","TBC",0,0,0]
["A107","Darren Martyn","GMIT",0,0,291,0,440,731,0,731.04402909999999,null,null,"N107","Laury Despres","MU",310,0,0,0,0,310,0,310.03100000000001,null,null,"AA107",0,"TBC","TBC","TBC","TBC","TBC","TBC",0,0,0,null,null,"AN107",0,"TBC","TBC","TBC","TBC","TBC","TBC",0,0,0,null,null,"BA107",0,"TBC","TBC","TBC","TBC","TBC","TBC",0,0,0,null,null,"BN107",0,"TBC","TBC","TBC","TBC","TBC","TBC",0,0,0]
["A108","Dylan Do Couto","DCU",0,339,0,344,0,683,0,683.03443389999995,null,null,"N108","Heather Kelly","IT Tallaght",118,187,0,0,0,305,0,305.01871180000001,null,null,"AA108",0,"TBC","TBC","TBC","TBC","TBC","TBC",0,0,0,null,null,"AN108",0,"TBC","TBC","TBC","TBC","TBC","TBC",0,0,0,null,null,"BA108",0,"TBC","TBC","TBC","TBC","TBC","TBC",0,0,0,null,null,"BN108",0,"TBC","TBC","TBC","TBC","TBC","TBC",0,0,0]
["A109","Darren Watkin","MU",0,287,0,380,0,667,0,667.03802870000004,null,null,"N109","Amy Garde","UCC",0,0,0,0,289,289,0,289.02890000000002,null,null,"AA109",0,"TBC","TBC","TBC","TBC","TBC","TBC",0,0,0,null,null,"AN109",0,"TBC","TBC","TBC","TBC","TBC","TBC",0,0,0,null,null,"BA109",0,"TBC","TBC","TBC","TBC","TBC","TBC",0,0,0,null,null,"BN109",0,"TBC","TBC","TBC","TBC","TBC","TBC",0,0,0]
["A110","Raymond Conlin","NUIG",0,326,313,0,0,639,0,639.03263130000005,null,null,"N110","Siobhan Flynn","DUAC",0,284,0,0,0,284,0,284.02839999999998,null,null,"AA110",0,"TBC","TBC","TBC","TBC","TBC","TBC",0,0,0,null,null,"AN110",0,"TBC","TBC","TBC","TBC","TBC","TBC",0,0,0,null,null,"BA110",0,"TBC","TBC","TBC","TBC","TBC","TBC",0,0,0,null,null,"BN110",0,"TBC","TBC","TBC","TBC","TBC","TBC",0,0,0]
["A111","Blair Flinn","UCD",534,0,0,0,0,534,0,534.05340000000001,null,null,"N111","Michaela Ní Mhurchú","GMITC",0,0,77,0,200,277,0,277.02000770000001,null,null,"AA111",0,"TBC","TBC","TBC","TBC","TBC","TBC",0,0,0,null,null,"AN111",0,"TBC","TBC","TBC","TBC","TBC","TBC",0,0,0,null,null,"BA111",0,"TBC","TBC","TBC","TBC","TBC","TBC",0,0,0,null,null,"BN111",0,"TBC","TBC","TBC","TBC","TBC","TBC",0,0,0]
["A112","Thomas Ganley","GMITC",255,0,0,267,0,522,0,522.0267255,null,null,"N112","Anke Jaeger","NUIG",0,250,0,0,0,250,0,250.02500000000001,null,null,"AA112",0,"TBC","TBC","TBC","TBC","TBC","TBC",0,0,0,null,null,"AN112",0,"TBC","TBC","TBC","TBC","TBC","TBC",0,0,0,null,null,"BA112",0,"TBC","TBC","TBC","TBC","TBC","TBC",0,0,0,null,null,"BN112",0,"TBC","TBC","TBC","TBC","TBC","TBC",0,0,0]
["A113","Sean Flynn","IT Tallaght",0,0,0,276,245,521,0,521.0276245,null,null,"N113","Alessandra Pennesi","NUIG",0,0,211,0,0,211,0,211.02109999999999,null,null,"AA113",0,"TBC","TBC","TBC","TBC","TBC","TBC",0,0,0,null,null,"AN113",0,"TBC","TBC","TBC","TBC","TBC","TBC",0,0,0,null,null,"BA113",0,"TBC","TBC","TBC","TBC","TBC","TBC",0,0,0,null,null,"BN113",0,"TBC","TBC","TBC","TBC","TBC","TBC",0,0,0]
["A114","Lee Nolan","GMITC",0,0,0,211,291,502,0,502.02912110000005,null,null,"N114","Nicole Maoirano","DUAC",0,0,42,0,155,197,0,197.01550420000001,null,null,"AA114",0,"TBC","TBC","TBC","TBC","TBC","TBC",0,0,0,null,null,"AN114",0,"TBC","TBC","TBC","TBC","TBC","TBC",0,0,0,null,null,"BA114",0,"TBC","TBC","TBC","TBC","TBC","TBC",0,0,0,null,null,"BN114",0,"TBC","TBC","TBC","TBC","TBC","TBC",0,0,0]
["A115","Matthew O'Connor","MU",0,465,0,0,0,465,0,465.04649999999998,null,null,"N115",0,"TBC","TBC","TBC","TBC","TBC","TBC",0,0,0,null,null,"AA115",0,"TBC","TBC","TBC","TBC","TBC","TBC",0,0,0,null,null,"AN115",0,"TBC","TBC","TBC","TBC","TBC","TBC",0,0,0,null,null,"BA115",0,"TBC","TBC","TBC","TBC","TBC","TBC",0,0,0,null,null,"BN115",0,"TBC","TBC","TBC","TBC","TBC","TBC",0,0,0]
["A116","Brian McDonagh MU","MU",0,0,0,430,0,430,0,430.04300000000001,null,null,"N116",0,"TBC","TBC","TBC","TBC","TBC","TBC",0,0,0,null,null,"AA116",0,"TBC","TBC","TBC","TBC","TBC","TBC",0,0,0,null,null,"AN116",0,"TBC","TBC","TBC","TBC","TBC","TBC",0,0,0,null,null,"BA116",0,"TBC","TBC","TBC","TBC","TBC","TBC",0,0,0,null,null,"BN116",0,"TBC","TBC","TBC","TBC","TBC","TBC",0,0,0]
["A117","Gavin Munnelly","DCU",0,0,0,417,0,417,0,417.04169999999999,null,null,"N117",0,"TBC","TBC","TBC","TBC","TBC","TBC",0,0,0,null,null,"AA117",0,"TBC","TBC","TBC","TBC","TBC","TBC",0,0,0,null,null,"AN117",0,"TBC","TBC","TBC","TBC","TBC","TBC",0,0,0,null,null,"BA117",0,"TBC","TBC","TBC","TBC","TBC","TBC",0,0,0,null,null,"BN117",0,"TBC","TBC","TBC","TBC","TBC","TBC",0,0,0]
["A118","Ciarán Martin ","MU",0,413,0,0,0,413,0,413.04129999999998,null,null,"N118",0,"TBC","TBC","TBC","TBC","TBC","TBC",0,0,0,null,null,"AA118",0,"TBC","TBC","TBC","TBC","TBC","TBC",0,0,0,null,null,"AN118",0,"TBC","TBC","TBC","TBC","TBC","TBC",0,0,0,null,null,"BA118",0,"TBC","TBC","TBC","TBC","TBC","TBC",0,0,0,null,null,"BN118",0,"TBC","TBC","TBC","TBC","TBC","TBC",0,0,0]
["A119","Domagoj Kos","UCD",0,0,0,0,398,398,0,398.03980000000001,null,null,"N119",0,"TBC","TBC","TBC","TBC","TBC","TBC",0,0,0,null,null,"AA119",0,"TBC","TBC","TBC","TBC","TBC","TBC",0,0,0,null,null,"AN119",0,"TBC","TBC","TBC","TBC","TBC","TBC",0,0,0,null,null,"BA119",0,"TBC","TBC","TBC","TBC","TBC","TBC",0,0,0,null,null,"BN119",0,"TBC","TBC","TBC","TBC","TBC","TBC",0,0,0]
["A120","Victor Stoian","MU",0,377,0,0,0,377,0,377.03769999999997,null,null,"N120",0,"TBC","TBC","TBC","TBC","TBC","TBC",0,0,0,null,null,"AA120",0,"TBC","TBC","TBC","TBC","TBC","TBC",0,0,0,null,null,"AN120",0,"TBC","TBC","TBC","TBC","TBC","TBC",0,0,0,null,null,"BA120",0,"TBC","TBC","TBC","TBC","TBC","TBC",0,0,0,null,null,"BN120",0,"TBC","TBC","TBC","TBC","TBC","TBC",0,0,0]
["A121","Ryan Claffey","GMIT",0,0,0,0,371,371,0,371.03710000000001,null,null,"N121",0,"TBC","TBC","TBC","TBC","TBC","TBC",0,0,0,null,null,"AA121",0,"TBC","TBC","TBC","TBC","TBC","TBC",0,0,0,null,null,"AN121",0,"TBC","TBC","TBC","TBC","TBC","TBC",0,0,0,null,null,"BA121",0,"TBC","TBC","TBC","TBC","TBC","TBC",0,0,0,null,null,"BN121",0,"TBC","TBC","TBC","TBC","TBC","TBC",0,0,0]
["A122","Connor Newman","MU",359,0,0,0,0,359,0,359.03590000000003,null,null,"N122",0,"TBC","TBC","TBC","TBC","TBC","TBC",0,0,0,null,null,"AA122",0,"TBC","TBC","TBC","TBC","TBC","TBC",0,0,0,null,null,"AN122",0,"TBC","TBC","TBC","TBC","TBC","TBC",0,0,0,null,null,"BA122",0,"TBC","TBC","TBC","TBC","TBC","TBC",0,0,0,null,null,"BN122",0,"TBC","TBC","TBC","TBC","TBC","TBC",0,0,0]
["A123","Conn De Barra","DUAC",0,0,0,152,201,353,0,353.02011520000002,null,null,"N123",0,"TBC","TBC","TBC","TBC","TBC","TBC",0,0,0,null,null,"AA123",0,"TBC","TBC","TBC","TBC","TBC","TBC",0,0,0,null,null,"AN123",0,"TBC","TBC","TBC","TBC","TBC","TBC",0,0,0,null,null,"BA123",0,"TBC","TBC","TBC","TBC","TBC","TBC",0,0,0,null,null,"BN123",0,"TBC","TBC","TBC","TBC","TBC","TBC",0,0,0]
["A124","Theo De Groot","UU",0,0,0,351,0,351,0,351.0351,null,null,"N124",0,"TBC","TBC","TBC","TBC","TBC","TBC",0,0,0,null,null,"AA124",0,"TBC","TBC","TBC","TBC","TBC","TBC",0,0,0,null,null,"AN124",0,"TBC","TBC","TBC","TBC","TBC","TBC",0,0,0,null,null,"BA124",0,"TBC","TBC","TBC","TBC","TBC","TBC",0,0,0,null,null,"BN124",0,"TBC","TBC","TBC","TBC","TBC","TBC",0,0,0]
["A125","Raymond Onwunali","MU",0,0,0,0,334,334,0,334.03339999999997,null,null,"N125",0,"TBC","TBC","TBC","TBC","TBC","TBC",0,0,0,null,null,"AA125",0,"TBC","TBC","TBC","TBC","TBC","TBC",0,0,0,null,null,"AN125",0,"TBC","TBC","TBC","TBC","TBC","TBC",0,0,0,null,null,"BA125",0,"TBC","TBC","TBC","TBC","TBC","TBC",0,0,0,null,null,"BN125",0,"TBC","TBC","TBC","TBC","TBC","TBC",0,0,0]
["A126","Rashed Alfuzaie","RCSI",0,0,326,0,0,326,0,326.0326,null,null,"N126",0,"TBC","TBC","TBC","TBC","TBC","TBC",0,0,0,null,null,"AA126",0,"TBC","TBC","TBC","TBC","TBC","TBC",0,0,0,null,null,"AN126",0,"TBC","TBC","TBC","TBC","TBC","TBC",0,0,0,null,null,"BA126",0,"TBC","TBC","TBC","TBC","TBC","TBC",0,0,0,null,null,"BN126",0,"TBC","TBC","TBC","TBC","TBC","TBC",0,0,0]
["A127","Conor Sheridan","UCD",0,0,0,299,0,299,0,299.0299,null,null,"N127",0,"TBC","TBC","TBC","TBC","TBC","TBC",0,0,0,null,null,"AA127",0,"TBC","TBC","TBC","TBC","TBC","TBC",0,0,0,null,null,"AN127",0,"TBC","TBC","TBC","TBC","TBC","TBC",0,0,0,null,null,"BA127",0,"TBC","TBC","TBC","TBC","TBC","TBC",0,0,0,null,null,"BN127",0,"TBC","TBC","TBC","TBC","TBC","TBC",0,0,0]
["A128","David Melcher","IT Tallaght",0,285,0,0,0,285,0,285.02850000000001,null,null,"N128",0,"TBC","TBC","TBC","TBC","TBC","TBC",0,0,0,null,null,"AA128",0,"TBC","TBC","TBC","TBC","TBC","TBC",0,0,0,null,null,"AN128",0,"TBC","TBC","TBC","TBC","TBC","TBC",0,0,0,null,null,"BA128",0,"TBC","TBC","TBC","TBC","TBC","TBC",0,0,0,null,null,"BN128",0,"TBC","TBC","TBC","TBC","TBC","TBC",0,0,0]
["A129","Jonnie Swain","UU",0,0,0,0,279,279,0,279.02789999999999,null,null,"N129",0,"TBC","TBC","TBC","TBC","TBC","TBC",0,0,0,null,null,"AA129",0,"TBC","TBC","TBC","TBC","TBC","TBC",0,0,0,null,null,"AN129",0,"TBC","TBC","TBC","TBC","TBC","TBC",0,0,0,null,null,"BA129",0,"TBC","TBC","TBC","TBC","TBC","TBC",0,0,0,null,null,"BN129",0,"TBC","TBC","TBC","TBC","TBC","TBC",0,0,0]
["A130","Vojtěch Halama","NUIG",0,271,0,0,0,271,0,271.02710000000002,null,null,"N130",0,"TBC","TBC","TBC","TBC","TBC","TBC",0,0,0,null,null,"AA130",0,"TBC","TBC","TBC","TBC","TBC","TBC",0,0,0,null,null,"AN130",0,"TBC","TBC","TBC","TBC","TBC","TBC",0,0,0,null,null,"BA130",0,"TBC","TBC","TBC","TBC","TBC","TBC",0,0,0,null,null,"BN130",0,"TBC","TBC","TBC","TBC","TBC","TBC",0,0,0]
["A131","Simon Bluett","DUAC",0,0,0,0,248,248,0,248.0248,null,null,"N131",0,"TBC","TBC","TBC","TBC","TBC","TBC",0,0,0,null,null,"AA131",0,"TBC","TBC","TBC","TBC","TBC","TBC",0,0,0,null,null,"AN131",0,"TBC","TBC","TBC","TBC","TBC","TBC",0,0,0,null,null,"BA131",0,"TBC","TBC","TBC","TBC","TBC","TBC",0,0,0,null,null,"BN131",0,"TBC","TBC","TBC","TBC","TBC","TBC",0,0,0]
["A132","Andrew Fairbrother","UCD",242,0,0,0,0,242,0,242.02420000000001,null,null,"N132",0,"TBC","TBC","TBC","TBC","TBC","TBC",0,0,0,null,null,"AA132",0,"TBC","TBC","TBC","TBC","TBC","TBC",0,0,0,null,null,"AN132",0,"TBC","TBC","TBC","TBC","TBC","TBC",0,0,0,null,null,"BA132",0,"TBC","TBC","TBC","TBC","TBC","TBC",0,0,0,null,null,"BN132",0,"TBC","TBC","TBC","TBC","TBC","TBC",0,0,0]
["A133","Sam Gibson ","MU",224,0,0,0,0,224,0,224.0224,null,null,"N133",0,"TBC","TBC","TBC","TBC","TBC","TBC",0,0,0,null,null,"AA133",0,"TBC","TBC","TBC","TBC","TBC","TBC",0,0,0,null,null,"AN133",0,"TBC","TBC","TBC","TBC","TBC","TBC",0,0,0,null,null,"BA133",0,"TBC","TBC","TBC","TBC","TBC","TBC",0,0,0,null,null,"BN133",0,"TBC","TBC","TBC","TBC","TBC","TBC",0,0,0]
["A134","Nik Idlan Faiq","RCSI",0,0,166,0,0,166,0,166.01660000000001,null,null,"N134",0,"TBC","TBC","TBC","TBC","TBC","TBC",0,0,0,null,null,"AA134",0,"TBC","TBC","TBC","TBC","TBC","TBC",0,0,0,null,null,"AN134",0,"TBC","TBC","TBC","TBC","TBC","TBC",0,0,0,null,null,"BA134",0,"TBC","TBC","TBC","TBC","TBC","TBC",0,0,0,null,null,"BN134",0,"TBC","TBC","TBC","TBC","TBC","TBC",0,0,0]
["A135","Max Fursman","DUAC",0,106,0,0,0,106,0,106.0106,null,null,"N135",0,"TBC","TBC","TBC","TBC","TBC","TBC",0,0,0,null,null,"AA135",0,"TBC","TBC","TBC","TBC","TBC","TBC",0,0,0,null,null,"AN135",0,"TBC","TBC","TBC","TBC","TBC","TBC",0,0,0,null,null,"BA135",0,"TBC","TBC","TBC","TBC","TBC","TBC",0,0,0,null,null,"BN135",0,"TBC","TBC","TBC","TBC","TBC","TBC",0,0,0]
["A136","Victor Agular","GMITC",0,0,0,93,0,93,0,93.009299999999996,null,null,"N136",0,"TBC","TBC","TBC","TBC","TBC","TBC",0,0,0,null,null,"AA136",0,"TBC","TBC","TBC","TBC","TBC","TBC",0,0,0,null,null,"AN136",0,"TBC","TBC","TBC","TBC","TBC","TBC",0,0,0,null,null,"BA136",0,"TBC","TBC","TBC","TBC","TBC","TBC",0,0,0,null,null,"BN136",0,"TBC","TBC","TBC","TBC","TBC","TBC",0,0,0]
["A137",0,"TBC","TBC","TBC","TBC","TBC","TBC",0,0,0,null,null,"N137",0,"TBC","TBC","TBC","TBC","TBC","TBC",0,0,0,null,null,"AA137",0,"TBC","TBC","TBC","TBC","TBC","TBC",0,0,0,null,null,"AN137",0,"TBC","TBC","TBC","TBC","TBC","TBC",0,0,0,null,null,"BA137",0,"TBC","TBC","TBC","TBC","TBC","TBC",0,0,0,null,null,"BN137",0,"TBC","TBC","TBC","TBC","TBC","TBC",0,0,0]
["A138",0,"TBC","TBC","TBC","TBC","TBC","TBC",0,0,0,null,null,"N138",0,"TBC","TBC","TBC","TBC","TBC","TBC",0,0,0,null,null,"AA138",0,"TBC","TBC","TBC","TBC","TBC","TBC",0,0,0,null,null,"AN138",0,"TBC","TBC","TBC","TBC","TBC","TBC",0,0,0,null,null,"BA138",0,"TBC","TBC","TBC","TBC","TBC","TBC",0,0,0,null,null,"BN138",0,"TBC","TBC","TBC","TBC","TBC","TBC",0,0,0]
["A139",0,"TBC","TBC","TBC","TBC","TBC","TBC",0,0,0,null,null,"N139",0,"TBC","TBC","TBC","TBC","TBC","TBC",0,0,0,null,null,"AA139",0,"TBC","TBC","TBC","TBC","TBC","TBC",0,0,0,null,null,"AN139",0,"TBC","TBC","TBC","TBC","TBC","TBC",0,0,0,null,null,"BA139",0,"TBC","TBC","TBC","TBC","TBC","TBC",0,0,0,null,null,"BN139",0,"TBC","TBC","TBC","TBC","TBC","TBC",0,0,0]
["A140",0,"TBC","TBC","TBC","TBC","TBC","TBC",0,0,0,null,null,"N140",0,"TBC","TBC","TBC","TBC","TBC","TBC",0,0,0,null,null,"AA140",0,"TBC","TBC","TBC","TBC","TBC","TBC",0,0,0,null,null,"AN140",0,"TBC","TBC","TBC","TBC","TBC","TBC",0,0,0,null,null,"BA140",0,"TBC","TBC","TBC","TBC","TBC","TBC",0,0,0,null,null,"BN140",0,"TBC","TBC","TBC","TBC","TBC","TBC",0,0,0]
["A141",0,"TBC","TBC","TBC","TBC","TBC","TBC",0,0,0,null,null,"N141",0,"TBC","TBC","TBC","TBC","TBC","TBC",0,0,0,null,null,"AA141",0,"TBC","TBC","TBC","TBC","TBC","TBC",0,0,0,null,null,"AN141",0,"TBC","TBC","TBC","TBC","TBC","TBC",0,0,0,null,null,"BA141",0,"TBC","TBC","TBC","TBC","TBC","TBC",0,0,0,null,null,"BN141",0,"TBC","TBC","TBC","TBC","TBC","TBC",0,0,0]
["A142",0,"TBC","TBC","TBC","TBC","TBC","TBC",0,0,0,null,null,"N142",0,"TBC","TBC","TBC","TBC","TBC","TBC",0,0,0,null,null,"AA142",0,"TBC","TBC","TBC","TBC","TBC","TBC",0,0,0,null,null,"AN142",0,"TBC","TBC","TBC","TBC","TBC","TBC",0,0,0,null,null,"BA142",0,"TBC","TBC","TBC","TBC","TBC","TBC",0,0,0,null,null,"BN142",0,"TBC","TBC","TBC","TBC","TBC","TBC",0,0,0]
["A143",0,"TBC","TBC","TBC","TBC","TBC","TBC",0,0,0,null,null,"N143",0,"TBC","TBC","TBC","TBC","TBC","TBC",0,0,0,null,null,"AA143",0,"TBC","TBC","TBC","TBC","TBC","TBC",0,0,0,null,null,"AN143",0,"TBC","TBC","TBC","TBC","TBC","TBC",0,0,0,null,null,"BA143",0,"TBC","TBC","TBC","TBC","TBC","TBC",0,0,0,null,null,"BN143",0,"TBC","TBC","TBC","TBC","TBC","TBC",0,0,0]
["A144",0,"TBC","TBC","TBC","TBC","TBC","TBC",0,0,0,null,null,"N144",0,"TBC","TBC","TBC","TBC","TBC","TBC",0,0,0,null,null,"AA144",0,"TBC","TBC","TBC","TBC","TBC","TBC",0,0,0,null,null,"AN144",0,"TBC","TBC","TBC","TBC","TBC","TBC",0,0,0,null,null,"BA144",0,"TBC","TBC","TBC","TBC","TBC","TBC",0,0,0,null,null,"BN144",0,"TBC","TBC","TBC","TBC","TBC","TBC",0,0,0]
["A145",0,"TBC","TBC","TBC","TBC","TBC","TBC",0,0,0,null,null,"N145",0,"TBC","TBC","TBC","TBC","TBC","TBC",0,0,0,null,null,"AA145",0,"TBC","TBC","TBC","TBC","TBC","TBC",0,0,0,null,null,"AN145",0,"TBC","TBC","TBC","TBC","TBC","TBC",0,0,0,null,null,"BA145",0,"TBC","TBC","TBC","TBC","TBC","TBC",0,0,0,null,null,"BN145",0,"TBC","TBC","TBC","TBC","TBC","TBC",0,0,0]
["A146",0,"TBC","TBC","TBC","TBC","TBC","TBC",0,0,0,null,null,"N146",0,"TBC","TBC","TBC","TBC","TBC","TBC",0,0,0,null,null,"AA146",0,"TBC","TBC","TBC","TBC","TBC","TBC",0,0,0,null,null,"AN146",0,"TBC","TBC","TBC","TBC","TBC","TBC",0,0,0,null,null,"BA146",0,"TBC","TBC","TBC","TBC","TBC","TBC",0,0,0,null,null,"BN146",0,"TBC","TBC","TBC","TBC","TBC","TBC",0,0,0]
["A147",0,"TBC","TBC","TBC","TBC","TBC","TBC",0,0,0,null,null,"N147",0,"TBC","TBC","TBC","TBC","TBC","TBC",0,0,0,null,null,"AA147",0,"TBC","TBC","TBC","TBC","TBC","TBC",0,0,0,null,null,"AN147",0,"TBC","TBC","TBC","TBC","TBC","TBC",0,0,0,null,null,"BA147",0,"TBC","TBC","TBC","TBC","TBC","TBC",0,0,0,null,null,"BN147",0,"TBC","TBC","TBC","TBC","TBC","TBC",0,0,0]
["A148",0,"TBC","TBC","TBC","TBC","TBC","TBC",0,0,0,null,null,"N148",0,"TBC","TBC","TBC","TBC","TBC","TBC",0,0,0,null,null,"AA148",0,"TBC","TBC","TBC","TBC","TBC","TBC",0,0,0,null,null,"AN148",0,"TBC","TBC","TBC","TBC","TBC","TBC",0,0,0,null,null,"BA148",0,"TBC","TBC","TBC","TBC","TBC","TBC",0,0,0,null,null,"BN148",0,"TBC","TBC","TBC","TBC","TBC","TBC",0,0,0]
["A149",0,"TBC","TBC","TBC","TBC","TBC","TBC",0,0,0,null,null,"N149",0,"TBC","TBC","TBC","TBC","TBC","TBC",0,0,0,null,null,"AA149",0,"TBC","TBC","TBC","TBC","TBC","TBC",0,0,0,null,null,"AN149",0,"TBC","TBC","TBC","TBC","TBC","TBC",0,0,0,null,null,"BA149",0,"TBC","TBC","TBC","TBC","TBC","TBC",0,0,0,null,null,"BN149",0,"TBC","TBC","TBC","TBC","TBC","TBC",0,0,0]
["A150",0,"TBC","TBC","TBC","TBC","TBC","TBC",0,0,0,null,null,"N150",0,"TBC","TBC","TBC","TBC","TBC","TBC",0,0,0,null,null,"AA150",0,"TBC","TBC","TBC","TBC","TBC","TBC",0,0,0,null,null,"AN150",0,"TBC","TBC","TBC","TBC","TBC","TBC",0,0,0,null,null,"BA150",0,"TBC","TBC","TBC","TBC","TBC","TBC",0,0,0,null,null,"BN150",0,"TBC","TBC","TBC","TBC","TBC","TBC",0,0,0]
["A151",0,"TBC","TBC","TBC","TBC","TBC","TBC",0,0,0,null,null,"N151",0,"TBC","TBC","TBC","TBC","TBC","TBC",0,0,0,null,null,"AA151",0,"TBC","TBC","TBC","TBC","TBC","TBC",0,0,0,null,null,"AN151",0,"TBC","TBC","TBC","TBC","TBC","TBC",0,0,0,null,null,"BA151",0,"TBC","TBC","TBC","TBC","TBC","TBC",0,0,0,null,null,"BN151",0,"TBC","TBC","TBC","TBC","TBC","TBC",0,0,0]
["A152",0,"TBC","TBC","TBC","TBC","TBC","TBC",0,0,0,null,null,"N152",0,"TBC","TBC","TBC","TBC","TBC","TBC",0,0,0,null,null,"AA152",0,"TBC","TBC","TBC","TBC","TBC","TBC",0,0,0,null,null,"AN152",0,"TBC","TBC","TBC","TBC","TBC","TBC",0,0,0,null,null,"BA152",0,"TBC","TBC","TBC","TBC","TBC","TBC",0,0,0,null,null,"BN152",0,"TBC","TBC","TBC","TBC","TBC","TBC",0,0,0]
["A153",0,"TBC","TBC","TBC","TBC","TBC","TBC",0,0,0,null,null,"N153",0,"TBC","TBC","TBC","TBC","TBC","TBC",0,0,0,null,null,"AA153",0,"TBC","TBC","TBC","TBC","TBC","TBC",0,0,0,null,null,"AN153",0,"TBC","TBC","TBC","TBC","TBC","TBC",0,0,0,null,null,"BA153",0,"TBC","TBC","TBC","TBC","TBC","TBC",0,0,0,null,null,"BN153",0,"TBC","TBC","TBC","TBC","TBC","TBC",0,0,0]
["A154",0,"TBC","TBC","TBC","TBC","TBC","TBC",0,0,0,null,null,"N154",0,"TBC","TBC","TBC","TBC","TBC","TBC",0,0,0,null,null,"AA154",0,"TBC","TBC","TBC","TBC","TBC","TBC",0,0,0,null,null,"AN154",0,"TBC","TBC","TBC","TBC","TBC","TBC",0,0,0,null,null,"BA154",0,"TBC","TBC","TBC","TBC","TBC","TBC",0,0,0,null,null,"BN154",0,"TBC","TBC","TBC","TBC","TBC","TBC",0,0,0]
["A155",0,"TBC","TBC","TBC","TBC","TBC","TBC",0,0,0,null,null,"N155",0,"TBC","TBC","TBC","TBC","TBC","TBC",0,0,0,null,null,"AA155",0,"TBC","TBC","TBC","TBC","TBC","TBC",0,0,0,null,null,"AN155",0,"TBC","TBC","TBC","TBC","TBC","TBC",0,0,0,null,null,"BA155",0,"TBC","TBC","TBC","TBC","TBC","TBC",0,0,0,null,null,"BN155",0,"TBC","TBC","TBC","TBC","TBC","TBC",0,0,0]
["A156",0,"TBC","TBC","TBC","TBC","TBC","TBC",0,0,0,null,null,"N156",0,"TBC","TBC","TBC","TBC","TBC","TBC",0,0,0,null,null,"AA156",0,"TBC","TBC","TBC","TBC","TBC","TBC",0,0,0,null,null,"AN156",0,"TBC","TBC","TBC","TBC","TBC","TBC",0,0,0,null,null,"BA156",0,"TBC","TBC","TBC","TBC","TBC","TBC",0,0,0,null,null,"BN156",0,"TBC","TBC","TBC","TBC","TBC","TBC",0,0,0]
["A157",0,"TBC","TBC","TBC","TBC","TBC","TBC",0,0,0,null,null,"N157",0,"TBC","TBC","TBC","TBC","TBC","TBC",0,0,0,null,null,"AA157",0,"TBC","TBC","TBC","TBC","TBC","TBC",0,0,0,null,null,"AN157",0,"TBC","TBC","TBC","TBC","TBC","TBC",0,0,0,null,null,"BA157",0,"TBC","TBC","TBC","TBC","TBC","TBC",0,0,0,null,null,"BN157",0,"TBC","TBC","TBC","TBC","TBC","TBC",0,0,0]
["A158",{"$f":"VLOOKUP($A366,$A$93:$K$167,2,0)","v":0},{"$f":"VLOOKUP($A366,$A$93:$K$167,3,0)","v":"TBC"},{"$f":"VLOOKUP($A366,$A$93:$K$167,4,0)","v":"TBC"},{"$f":"VLOOKUP($A366,$A$93:$K$167,5,0)","v":"TBC"},{"$f":"VLOOKUP($A366,$A$93:$K$167,6,0)","v":"TBC"},{"$f":"VLOOKUP($A366,$A$93:$K$167,7,0)","v":"TBC"},{"$f":"VLOOKUP($A366,$A$93:$K$167,8,0)","v":"TBC"},{"$f":"VLOOKUP($A366,$A$93:$K$167,9,0)","v":0},{"$f":"VLOOKUP($A366,$A$93:$K$167,10,0)","v":0},{"$f":"VLOOKUP($A366,$A$93:$K$167,11,0)","v":0},null,null,"N158",{"$f":"VLOOKUP($N366,$N$93:$X$167,2,0)","v":0},{"$f":"VLOOKUP($N366,$N$93:$X$167,3,0)","v":"TBC"},{"$f":"VLOOKUP($N366,$N$93:$X$167,4,0)","v":"TBC"},{"$f":"VLOOKUP($N366,$N$93:$X$167,5,0)","v":"TBC"},{"$f":"VLOOKUP($N366,$N$93:$X$167,6,0)","v":"TBC"},{"$f":"VLOOKUP($N366,$N$93:$X$167,7,0)","v":"TBC"},{"$f":"VLOOKUP($N366,$N$93:$X$167,8,0)","v":"TBC"},{"$f":"VLOOKUP($N366,$N$93:$X$167,9,0)","v":0},{"$f":"VLOOKUP($N366,$N$93:$X$167,10,0)","v":0},{"$f":"VLOOKUP($N366,$N$93:$X$167,11,0)","v":0},null,null,"AA158",{"$f":"VLOOKUP($AA366,$AA$93:$AK$167,2,0)","v":0},{"$f":"VLOOKUP($AA366,$AA$93:$AK$167,3,0)","v":"TBC"},{"$f":"VLOOKUP($AA366,$AA$93:$AK$167,4,0)","v":"TBC"},{"$f":"VLOOKUP($AA366,$AA$93:$AK$167,5,0)","v":"TBC"},{"$f":"VLOOKUP($AA366,$AA$93:$AK$167,6,0)","v":"TBC"},{"$f":"VLOOKUP($AA366,$AA$93:$AK$167,7,0)","v":"TBC"},{"$f":"VLOOKUP($AA366,$AA$93:$AK$167,8,0)","v":"TBC"},{"$f":"VLOOKUP($AA366,$AA$93:$AK$167,9,0)","v":0},{"$f":"VLOOKUP($AA366,$AA$93:$AK$167,10,0)","v":0},{"$f":"VLOOKUP($AA366,$AA$93:$AK$167,11,0)","v":0},null,null,"AN158",{"$f":"VLOOKUP($AN366,$AN$93:$AX$167,2,0)","v":0},{"$f":"VLOOKUP($AN366,$AN$93:$AX$167,3,0)","v":"TBC"},{"$f":"VLOOKUP($AN366,$AN$93:$AX$167,4,0)","v":"TBC"},{"$f":"VLOOKUP($AN366,$AN$93:$AX$167,5,0)","v":"TBC"},{"$f":"VLOOKUP($AN366,$AN$93:$AX$167,6,0)","v":"TBC"},{"$f":"VLOOKUP($AN366,$AN$93:$AX$167,7,0)","v":"TBC"},{"$f":"VLOOKUP($AN366,$AN$93:$AX$167,8,0)","v":"TBC"},{"$f":"VLOOKUP($AN366,$AN$93:$AX$167,9,0)","v":0},{"$f":"VLOOKUP($AN366,$AN$93:$AX$167,10,0)","v":0},{"$f":"VLOOKUP($AN366,$AN$93:$AX$167,11,0)","v":0},null,null,"BA158",{"$f":"VLOOKUP($BA366,$BA$93:$BK$167,2,0)","v":0},{"$f":"VLOOKUP($BA366,$BA$93:$BK$167,3,0)","v":"TBC"},{"$f":"VLOOKUP($BA366,$BA$93:$BK$167,4,0)","v":"TBC"},{"$f":"VLOOKUP($BA366,$BA$93:$BK$167,5,0)","v":"TBC"},{"$f":"VLOOKUP($BA366,$BA$93:$BK$167,6,0)","v":"TBC"},{"$f":"VLOOKUP($BA366,$BA$93:$BK$167,7,0)","v":"TBC"},{"$f":"VLOOKUP($BA366,$BA$93:$BK$167,8,0)","v":"TBC"},{"$f":"VLOOKUP($BA366,$BA$93:$BK$167,9,0)","v":0},{"$f":"VLOOKUP($BA366,$BA$93:$BK$167,10,0)","v":0},{"$f":"VLOOKUP($BA366,$BA$93:$BK$167,11,0)","v":0},null,null,"BN158",{"$f":"VLOOKUP($BN366,$BN$93:$BX$167,2,0)","v":0},{"$f":"VLOOKUP($BN366,$BN$93:$BX$167,3,0)","v":"TBC"},{"$f":"VLOOKUP($BN366,$BN$93:$BX$167,4,0)","v":"TBC"},{"$f":"VLOOKUP($BN366,$BN$93:$BX$167,5,0)","v":"TBC"},{"$f":"VLOOKUP($BN366,$BN$93:$BX$167,6,0)","v":"TBC"},{"$f":"VLOOKUP($BN366,$BN$93:$BX$167,7,0)","v":"TBC"},{"$f":"VLOOKUP($BN366,$BN$93:$BX$167,8,0)","v":"TBC"},{"$f":"VLOOKUP($BN366,$BN$93:$BX$167,9,0)","v":0},{"$f":"VLOOKUP($BN366,$BN$93:$BX$167,10,0)","v":0},{"$f":"VLOOKUP($BN366,$BN$93:$BX$167,11,0)","v":0}]
["A159",0,"TBC","TBC","TBC","TBC","TBC","TBC",0,0,0,null,null,"N159",0,"TBC","TBC","TBC","TBC","TBC","TBC",0,0,0,null,null,"AA159",0,"TBC","TBC","TBC","TBC","TBC","TBC",0,0,0,null,null,"AN159",0,"TBC","TBC","TBC","TBC","TBC","TBC",0,0,0,null,null,"BA159",0,"TBC","TBC","TBC","TBC","TBC","TBC",0,0,0,null,null,"BN159",0,"TBC","TBC","TBC","TBC","TBC","TBC",0,0,0]
["A160",0,"TBC","TBC","TBC","TBC","TBC","TBC",0,0,0,null,null,"N160",0,"TBC","TBC","TBC","TBC","TBC","TBC",0,0,0,null,null,"AA160",0,"TBC","TBC","TBC","TBC","TBC","TBC",0,0,0,null,null,"AN160",0,"TBC","TBC","TBC","TBC","TBC","TBC",0,0,0,null,null,"BA160",0,"TBC","TBC","TBC","TBC","TBC","TBC",0,0,0,null,null,"BN160",0,"TBC","TBC","TBC","TBC","TBC","TBC",0,0,0]
["A161",0,"TBC","TBC","TBC","TBC","TBC","TBC",0,0,0,null,null,"N161",0,"TBC","TBC","TBC","TBC","TBC","TBC",0,0,0,null,null,"AA161",0,"TBC","TBC","TBC","TBC","TBC","TBC",0,0,0,null,null,"AN161",0,"TBC","TBC","TBC","TBC","TBC","TBC",0,0,0,null,null,"BA161",0,"TBC","TBC","TBC","TBC","TBC","TBC",0,0,0,null,null,"BN161",0,"TBC","TBC","TBC","TBC","TBC","TBC",0,0,0]
["A162",0,"TBC","TBC","TBC","TBC","TBC","TBC",0,0,0,null,null,"N162",0,"TBC","TBC","TBC","TBC","TBC","TBC",0,0,0,null,null,"AA162",0,"TBC","TBC","TBC","TBC","TBC","TBC",0,0,0,null,null,"AN162",0,"TBC","TBC","TBC","TBC","TBC","TBC",0,0,0,null,null,"BA162",0,"TBC","TBC","TBC","TBC","TBC","TBC",0,0,0,null,null,"BN162",0,"TBC","TBC","TBC","TBC","TBC","TBC",0,0,0]
["A163",0,"TBC","TBC","TBC","TBC","TBC","TBC",0,0,0,null,null,"N163",0,"TBC","TBC","TBC","TBC","TBC","TBC",0,0,0,null,null,"AA163",0,"TBC","TBC","TBC","TBC","TBC","TBC",0,0,0,null,null,"AN163",0,"TBC","TBC","TBC","TBC","TBC","TBC",0,0,0,null,null,"BA163",0,"TBC","TBC","TBC","TBC","TBC","TBC",0,0,0,null,null,"BN163",0,"TBC","TBC","TBC","TBC","TBC","TBC",0,0,0]
["A164",0,"TBC","TBC","TBC","TBC","TBC","TBC",0,0,0,null,null,"N164",0,"TBC","TBC","TBC","TBC","TBC","TBC",0,0,0,null,null,"AA164",0,"TBC","TBC","TBC","TBC","TBC","TBC",0,0,0,null,null,"AN164",0,"TBC","TBC","TBC","TBC","TBC","TBC",0,0,0,null,null,"BA164",0,"TBC","TBC","TBC","TBC","TBC","TBC",0,0,0,null,null,"BN164",0,"TBC","TBC","TBC","TBC","TBC","TBC",0,0,0]
["A165",0,"TBC","TBC","TBC","TBC","TBC","TBC",0,0,0,null,null,"N165",0,"TBC","TBC","TBC","TBC","TBC","TBC",0,0,0,null,null,"AA165",0,"TBC","TBC","TBC","TBC","TBC","TBC",0,0,0,null,null,"AN165",0,"TBC","TBC","TBC","TBC","TBC","TBC",0,0,0,null,null,"BA165",0,"TBC","TBC","TBC","TBC","TBC","TBC",0,0,0,null,null,"BN165",0,"TBC","TBC","TBC","TBC","TBC","TBC",0,0,0]
["A166",0,"TBC","TBC","TBC","TBC","TBC","TBC",0,0,0,null,null,"N166",0,"TBC","TBC","TBC","TBC","TBC","TBC",0,0,0,null,null,"AA166",0,"TBC","TBC","TBC","TBC","TBC","TBC",0,0,0,null,null,"AN166",0,"TBC","TBC","TBC","TBC","TBC","TBC",0,0,0,null,null,"BA166",0,"TBC","TBC","TBC","TBC","TBC","TBC",0,0,0,null,null,"BN166",0,"TBC","TBC","TBC","TBC","TBC","TBC",0,0,0]
["A167",0,"TBC","TBC","TBC","TBC","TBC","TBC",0,0,0,null,null,"N167",0,"TBC","TBC","TBC","TBC","TBC","TBC",0,0,0,null,null,"AA167",0,"TBC","TBC","TBC","TBC","TBC","TBC",0,0,0,null,null,"AN167",0,"TBC","TBC","TBC","TBC","TBC","TBC",0,0,0,null,null,"BA167",0,"TBC","TBC","TBC","TBC","TBC","TBC",0,0,0,null,null,"BN167",0,"TBC","TBC","TBC","TBC","TBC","TBC",0,0,0]

{"sheet":"RBM","index":2,"n_rows":121,"n_cols":47,"rows_kept":121,"cut":false,"hidden":false,"merged":[[0,0,0,13],[1,0,80,0],[1,13,80,13],[81,0,81,13],[4,1,4,8],[4,10,4,12],[1,10,1,12],[1,4,1,8],[1,1,3,3],[2,10,3,10],[2,11,3,11],[2,12,3,12],[1,9,80,9]]}
[{"$f":"$D$7","v":"MU"}]
["MU","Male Beginner Recurve",null,null,"Host Club",null,null,null,null,{"$f":"$D$7","v":"MU"},"Scores",null,null,{"$f":"$D$7","v":"MU"},null,null,null,null,null,null,null,null,null,null,null,null,null,null,null,null,null,null,null,{"$f":"AH7","v":"Domhnall Ò Póil"},null,null,null,null,null,null,null,null,null,null,null,"A1,A2,J2,N2,B5,K5,A82"]
[null,null,null,null,{"$f":"Entries!K6","v":"UL IV"},{"$f":"Entries!K7","v":"DkIT IV"},{"$f":"Entries!K8","v":"GMIT IV"},{"$f":"Entries!K9","v":"DCU IV"},{"$f":"Entries!K10","v":"NUIG IV"},null,"Total","Lowest","League"]
[]
[null,{"$f":"$D$7","v":"MU"},null,null,null,null,null,null,null,null,"MU"]
[null,null,"Name","College",{"$f":"Entries!K6","v":"UL IV"},{"$f":"Entries!K7","v":"DkIT IV"},{"$f":"Entries!K8","v":"GMIT IV"},{"$f":"Entries!K9","v":"DCU IV"},{"$f":"Entries!K10","v":"NUIG IV"},null,"Total","Lowest","League total",null,null,null,null,null,null,null,null,null,null,null,null,null,null,null,null,null,null,null,null,null,null,null,null,null,null,null,null,null,null,null,null,"$K$7:$M$7,$B$7:$I$7,$B$2"]
[null,1,{"$f":"Singles!B201","v":"Domhnall Ò Póil"},{"$f":"Singles!C201","v":"MU"},{"$f":"Singles!D201","v":489},{"$f":"Singles!E201","v":460},{"$f":"Singles!F201","v":511},{"$f":"Singles!G201","v":468},{"$f":"Singles!H201","v":486},null,{"$f":"Singles!I201","v":2414},{"$f":"Singles!J201","v":460},{"$f":"Singles!K201","v":1954.0511488999998},null,null,null,null,null,null,null,null,null,null,null,null,null,null,null,null,null,null,null,null,{"$f":"C7","v":"Domhnall Ò Póil"}]
[null,2,{"$f":"Singles!B202","v":"Conor Winters"},{"$f":"Singles!C202","v":"DKIT"},{"$f":"Singles!D202","v":455},{"$f":"Singles!E202","v":0},{"$f":"Singles!F202","v":488},{"$f":"Singles!G202","v":486},{"$f":"Singles!H202","v":508},null,{"$f":"Singles!I202","v":1937},{"$f":"Singles!J202","v":0},{"$f":"Singles!K202","v":1937.0508488},null,null,null,null,null,null,null,null,null,null,null,null,null,null,null,null,null,null,null,null,null,null,null,null,null,null,null,null,null,null,null,null,"DCU CONDITIONAL FORMATTING FORMULA >","OR($AH7=Tables!$B$131,$AH7=Tables!$B$132,$AH7=Tables!$B$133,$AH7=Tables!$B$134,$AH7=Tables!$B$135,$AH7=Tables!$B$136,$AH7=Tables!$B$137,$AH7=Tables!$B$138,$AH7=Tables!$B$139,$AH7=Tables!$B$140,$AH7=Tables!$B$141,$AH7=Tables!$B$142,$AH7=Tables!$B$143,$AH7=Tables!$B$144,$AH7=Tables!$B$145,$AH7=Tables!$B$146,$AH7=Tables!$B$147,$AH7=Tables!$B$148,$AH7=Tables!$B$149,$AH7=Tables!$B$150,$AH7=Tables!$B$151)"]
[null,3,{"$f":"Singles!B204","v":"Cormac O'Callaghan"},{"$f":"Singles!C204","v":"UCC"},{"$f":"Singles!D204","v":397},{"$f":"Singles!E204","v":0},{"$f":"Singles!F204","v":453},{"$f":"Singles!G204","v":452},{"$f":"Singles!H204","v":466},null,{"$f":"Singles!I204","v":1768},{"$f":"Singles!J204","v":0},{"$f":"Singles!K204","v":1768.0466452999999},null,null,null,null,null,null,null,null,null,null,null,null,null,null,null,null,null,null,null,null,null,null,null,null,null,null,null,null,null,null,null,null,"DIT CONDITIONAL FORMATTING FORMULA >","OR($AH7=Tables!$B$156,$AH7=Tables!$B$157,$AH7=Tables!$B$158,$AH7=Tables!$B$159,$AH7=Tables!$B$160,$AH7=Tables!$B$161,$AH7=Tables!$B$162,$AH7=Tables!$B$163,$AH7=Tables!$B$164,$AH7=Tables!$B$165,$AH7=Tables!$B$166,$AH7=Tables!$B$167,$AH7=Tables!$B$168,$AH7=Tables!$B$169,$AH7=Tables!$B$170,$AH7=Tables!$B$171,$AH7=Tables!$B$172,$AH7=Tables!$B$173,$AH7=Tables!$B$174,$AH7=Tables!$B$175,$AH7=Tables!$B$176)"]
[null,4,{"$f":"Singles!B205","v":"Chua Wei Kwan"},{"$f":"Singles!C205","v":"DKIT"},{"$f":"Singles!D205","v":439},{"$f":"Singles!E205","v":0},{"$f":"Singles!F205","v":405},{"$f":"Singles!G205","v":464},{"$f":"Singles!H205","v":454},null,{"$f":"Singles!I205","v":1762},{"$f":"Singles!J205","v":0},{"$f":"Singles!K205","v":1762.0464454},null,null,null,null,null,null,null,null,null,null,null,null,null,null,null,null,null,null,null,null,null,null,null,null,null,null,null,null,null,null,null,null,"DKIT CONDITIONAL FORMATTING FORMULA >","OR($AH7=Tables!$B$181,$AH7=Tables!$B$182,$AH7=Tables!$B$183,$AH7=Tables!$B$184,$AH7=Tables!$B$185,$AH7=Tables!$B$186,$AH7=Tables!$B$187,$AH7=Tables!$B$188,$AH7=Tables!$B$189,$AH7=Tables!$B$190,$AH7=Tables!$B$191,$AH7=Tables!$B$192,$AH7=Tables!$B$193,$AH7=Tables!$B$194,$AH7=Tables!$B$195,$AH7=Tables!$B$196,$AH7=Tables!$B$197,$AH7=Tables!$B$198,$AH7=Tables!$B$199,$AH7=Tables!$B$200,$AH7=Tables!$B$201)"]
[null,5,{"$f":"Singles!B206","v":"Connor Newman"},{"$f":"Singles!C206","v":"MU"},{"$f":"Singles!D206","v":0},{"$f":"Singles!E206","v":398},{"$f":"Singles!F206","v":440},{"$f":"Singles!G206","v":424},{"$f":"Singles!H206","v":451},null,{"$f":"Singles!I206","v":1713},{"$f":"Singles!J206","v":0},{"$f":"Singles!K206","v":1713.0451439999999},null,null,null,null,null,null,null,null,null,null,null,null,null,null,null,null,null,null,null,null,null,null,null,null,null,null,null,null,null,null,null,null,"DUAC CONDITIONAL FORMATTING FORMULA >","OR($AH7=Tables!$B$206,$AH7=Tables!$B$207,$AH7=Tables!$B$208,$AH7=Tables!$B$209,$AH7=Tables!$B$210,$AH7=Tables!$B$211,$AH7=Tables!$B$212,$AH7=Tables!$B$213,$AH7=Tables!$B$214,$AH7=Tables!$B$215,$AH7=Tables!$B$216,$AH7=Tables!$B$217,$AH7=Tables!$B$218,$AH7=Tables!$B$219,$AH7=Tables!$B$220,$AH7=Tables!$B$221,$AH7=Tables!$B$222,$AH7=Tables!$B$223,$AH7=Tables!$B$224,$AH7=Tables!$B$225,$AH7=Tables!$B$226)"]
[null,6,{"$f":"Singles!B207","v":"Sim Jia Cheng"},{"$f":"Singles!C207","v":"DKIT"},{"$f":"Singles!D207","v":450},{"$f":"Singles!E207","v":0},{"$f":"Singles!F207","v":437},{"$f":"Singles!G207","v":427},{"$f":"Singles!H207","v":349},null,{"$f":"Singles!I207","v":1663},{"$f":"Singles!J207","v":0},{"$f":"Singles!K207","v":1663.0450437000002},null,null,null,null,null,null,null,null,null,null,null,null,null,null,null,null,null,null,null,null,null,null,null,null,null,null,null,null,null,null,null,null,"GMIT CONDITIONAL FORMATTING FORMULA >","OR($AH7=Tables!$B$231,$AH7=Tables!$B$232,$AH7=Tables!$B$233,$AH7=Tables!$B$234,$AH7=Tables!$B$235,$AH7=Tables!$B$236,$AH7=Tables!$B$237,$AH7=Tables!$B$238,$AH7=Tables!$B$239,$AH7=Tables!$B$240,$AH7=Tables!$B$241,$AH7=Tables!$B$242,$AH7=Tables!$B$243,$AH7=Tables!$B$244,$AH7=Tables!$B$245,$AH7=Tables!$B$246,$AH7=Tables!$B$247,$AH7=Tables!$B$248,$AH7=Tables!$B$249,$AH7=Tables!$B$250,$AH7=Tables!$B$251)"]
[null,7,{"$f":"Singles!B208","v":"Sam Gibson"},{"$f":"Singles!C208","v":"MU"},{"$f":"Singles!D208","v":0},{"$f":"Singles!E208","v":360},{"$f":"Singles!F208","v":466},{"$f":"Singles!G208","v":395},{"$f":"Singles!H208","v":430},null,{"$f":"Singles!I208","v":1651},{"$f":"Singles!J208","v":0},{"$f":"Singles!K208","v":1651.0466429999999},null,null,null,null,null,null,null,null,null,null,null,null,null,null,null,null,null,null,null,null,null,null,null,null,null,null,null,null,null,null,null,null,"GMITC CONDITIONAL FORMATTING FORMULA >","OR($AH7=Tables!$B$256,$AH7=Tables!$B$257,$AH7=Tables!$B$258,$AH7=Tables!$B$259,$AH7=Tables!$B$260,$AH7=Tables!$B$261,$AH7=Tables!$B$262,$AH7=Tables!$B$263,$AH7=Tables!$B$264,$AH7=Tables!$B$265,$AH7=Tables!$B$266,$AH7=Tables!$B$267,$AH7=Tables!$B$268,$AH7=Tables!$B$269,$AH7=Tables!$B$270,$AH7=Tables!$B$271,$AH7=Tables!$B$272,$AH7=Tables!$B$273,$AH7=Tables!$B$274,$AH7=Tables!$B$275,$AH7=Tables!$B$276)"]
[null,8,{"$f":"Singles!B203","v":"Chris Riddell"},{"$f":"Singles!C203","v":"NUIG"},{"$f":"Singles!D203","v":342},{"$f":"Singles!E203","v":386},{"$f":"Singles!F203","v":328},{"$f":"Singles!G203","v":434},{"$f":"Singles!H203","v":314},null,{"$f":"Singles!I203","v":1804},{"$f":"Singles!J203","v":314},{"$f":"Singles!K203","v":1490.0434385999999},null,null,null,null,null,null,null,null,null,null,null,null,null,null,null,null,null,null,null,null,null,null,null,null,null,null,null,null,null,null,null,null,"ITC CONDITIONAL FORMATTING FORMULA >","OR($AH7=Tables!$B$281,$AH7=Tables!$B$282,$AH7=Tables!$B$283,$AH7=Tables!$B$284,$AH7=Tables!$B$285,$AH7=Tables!$B$286,$AH7=Tables!$B$287,$AH7=Tables!$B$288,$AH7=Tables!$B$289,$AH7=Tables!$B$290,$AH7=Tables!$B$291,$AH7=Tables!$B$292,$AH7=Tables!$B$293,$AH7=Tables!$B$294,$AH7=Tables!$B$295,$AH7=Tables!$B$296,$AH7=Tables!$B$297,$AH7=Tables!$B$298,$AH7=Tables!$B$299,$AH7=Tables!$B$300,$AH7=Tables!$B$301)"]
[null,9,{"$f":"Singles!B210","v":"Aaron Wong Siu Zhen"},{"$f":"Singles!C210","v":"DKIT"},{"$f":"Singles!D210","v":393},{"$f":"Singles!E210","v":423},{"$f":"Singles!F210","v":279},{"$f":"Singles!G210","v":0},{"$f":"Singles!H210","v":294},null,{"$f":"Singles!I210","v":1389},{"$f":"Singles!J210","v":0},{"$f":"Singles!K210","v":1389.0423393000001},null,null,null,null,null,null,null,null,null,null,null,null,null,null,null,null,null,null,null,null,null,null,null,null,null,null,null,null,null,null,null,null,"ITT CONDITIONAL FORMATTING FORMULA >","OR($AH7=Tables!$B$306,$AH7=Tables!$B$307,$AH7=Tables!$B$308,$AH7=Tables!$B$309,$AH7=Tables!$B$310,$AH7=Tables!$B$311,$AH7=Tables!$B$312,$AH7=Tables!$B$313,$AH7=Tables!$B$314,$AH7=Tables!$B$315,$AH7=Tables!$B$316,$AH7=Tables!$B$317,$AH7=Tables!$B$318,$AH7=Tables!$B$319,$AH7=Tables!$B$320,$AH7=Tables!$B$321,$AH7=Tables!$B$322,$AH7=Tables!$B$323,$AH7=Tables!$B$324,$AH7=Tables!$B$325,$AH7=Tables!$B$326)"]
[null,10,{"$f":"Singles!B211","v":"Liam Higgins"},{"$f":"Singles!C211","v":"UL"},{"$f":"Singles!D211","v":0},{"$f":"Singles!E211","v":317},{"$f":"Singles!F211","v":340},{"$f":"Singles!G211","v":375},{"$f":"Singles!H211","v":353},null,{"$f":"Singles!I211","v":1385},{"$f":"Singles!J211","v":0},{"$f":"Singles!K211","v":1385.0375352999999},null,null,null,null,null,null,null,null,null,null,null,null,null,null,null,null,null,null,null,null,null,null,null,null,null,null,null,null,null,null,null,null,"MU CONDITIONAL FORMATTING FORMULA >","OR($AH7=Tables!$B$331,$AH7=Tables!$B$332,$AH7=Tables!$B$333,$AH7=Tables!$B$334,$AH7=Tables!$B$335,$AH7=Tables!$B$336,$AH7=Tables!$B$337,$AH7=Tables!$B$338,$AH7=Tables!$B$339,$AH7=Tables!$B$340,$AH7=Tables!$B$341,$AH7=Tables!$B$342,$AH7=Tables!$B$343,$AH7=Tables!$B$344,$AH7=Tables!$B$345,$AH7=Tables!$B$346,$AH7=Tables!$B$347,$AH7=Tables!$B$348,$AH7=Tables!$B$349,$AH7=Tables!$B$350,$AH7=Tables!$B$351)"]
[null,11,{"$f":"Singles!B212","v":"Brendan O'Sullivan"},{"$f":"Singles!C212","v":"UCC"},{"$f":"Singles!D212","v":483},{"$f":"Singles!E212","v":0},{"$f":"Singles!F212","v":0},{"$f":"Singles!G212","v":447},{"$f":"Singles!H212","v":413},null,{"$f":"Singles!I212","v":1343},{"$f":"Singles!J212","v":0},{"$f":"Singles!K212","v":1343.0483446999999},null,null,null,null,null,null,null,null,null,null,null,null,null,null,null,null,null,null,null,null,null,null,null,null,null,null,null,null,null,null,null,null,"NCAD CONDITIONAL FORMATTING FORMULA >","OR($AH7=Tables!$B$356,$AH7=Tables!$B$357,$AH7=Tables!$B$358,$AH7=Tables!$B$359,$AH7=Tables!$B$360,$AH7=Tables!$B$361,$AH7=Tables!$B$362,$AH7=Tables!$B$363,$AH7=Tables!$B$364,$AH7=Tables!$B$365,$AH7=Tables!$B$366,$AH7=Tables!$B$367,$AH7=Tables!$B$368,$AH7=Tables!$B$369,$AH7=Tables!$B$370,$AH7=Tables!$B$371,$AH7=Tables!$B$372,$AH7=Tables!$B$373,$AH7=Tables!$B$374,$AH7=Tables!$B$375,$AH7=Tables!$B$376)"]
[null,12,{"$f":"Singles!B209","v":"Conor O'Brien"},{"$f":"Singles!C209","v":"UL"},{"$f":"Singles!D209","v":310},{"$f":"Singles!E209","v":287},{"$f":"Singles!F209","v":405},{"$f":"Singles!G209","v":294},{"$f":"Singles!H209","v":300},null,{"$f":"Singles!I209","v":1596},{"$f":"Singles!J209","v":287},{"$f":"Singles!K209","v":1309.0405310000001},null,null,null,null,null,null,null,null,null,null,null,null,null,null,null,null,null,null,null,null,null,null,null,null,null,null,null,null,null,null,null,null,"NUIG CONDITIONAL FORMATTING FORMULA >","OR($AH7=Tables!$B$381,$AH7=Tables!$B$382,$AH7=Tables!$B$383,$AH7=Tables!$B$384,$AH7=Tables!$B$385,$AH7=Tables!$B$386,$AH7=Tables!$B$387,$AH7=Tables!$B$388,$AH7=Tables!$B$389,$AH7=Tables!$B$390,$AH7=Tables!$B$391,$AH7=Tables!$B$392,$AH7=Tables!$B$393,$AH7=Tables!$B$394,$AH7=Tables!$B$395,$AH7=Tables!$B$396,$AH7=Tables!$B$397,$AH7=Tables!$B$398,$AH7=Tables!$B$399,$AH7=Tables!$B$400,$AH7=Tables!$B$401)"]
[null,13,{"$f":"Singles!B213","v":"Brian Swayne"},{"$f":"Singles!C213","v":"UCC"},{"$f":"Singles!D213","v":378},{"$f":"Singles!E213","v":0},{"$f":"Singles!F213","v":448},{"$f":"Singles!G213","v":455},{"$f":"Singles!H213","v":0},null,{"$f":"Singles!I213","v":1281},{"$f":"Singles!J213","v":0},{"$f":"Singles!K213","v":1281.0455448},null,null,null,null,null,null,null,null,null,null,null,null,null,null,null,null,null,null,null,null,null,null,null,null,null,null,null,null,null,null,null,null,"RCSI CONDITIONAL FORMATTING FORMULA >","OR($AH7=Tables!$B$406,$AH7=Tables!$B$407,$AH7=Tables!$B$408,$AH7=Tables!$B$409,$AH7=Tables!$B$410,$AH7=Tables!$B$411,$AH7=Tables!$B$412,$AH7=Tables!$B$413,$AH7=Tables!$B$414,$AH7=Tables!$B$415,$AH7=Tables!$B$416,$AH7=Tables!$B$417,$AH7=Tables!$B$418,$AH7=Tables!$B$419,$AH7=Tables!$B$420,$AH7=Tables!$B$421,$AH7=Tables!$B$422,$AH7=Tables!$B$423,$AH7=Tables!$B$424,$AH7=Tables!$B$425,$AH7=Tables!$B$426)"]
[null,14,{"$f":"Singles!B214","v":"Lorenzo Diago"},{"$f":"Singles!C214","v":"DCU"},{"$f":"Singles!D214","v":0},{"$f":"Singles!E214","v":480},{"$f":"Singles!F214","v":371},{"$f":"Singles!G214","v":420},{"$f":"Singles!H214","v":0},null,{"$f":"Singles!I214","v":1271},{"$f":"Singles!J214","v":0},{"$f":"Singles!K214","v":1271.0480419999999},null,null,null,null,null,null,null,null,null,null,null,null,null,null,null,null,null,null,null,null,null,null,null,null,null,null,null,null,null,null,null,null,"UCC CONDITIONAL FORMATTING FORMULA >","OR($AH7=Tables!$B$431,$AH7=Tables!$B$432,$AH7=Tables!$B$433,$AH7=Tables!$B$434,$AH7=Tables!$B$435,$AH7=Tables!$B$436,$AH7=Tables!$B$437,$AH7=Tables!$B$438,$AH7=Tables!$B$439,$AH7=Tables!$B$440,$AH7=Tables!$B$441,$AH7=Tables!$B$442,$AH7=Tables!$B$443,$AH7=Tables!$B$444,$AH7=Tables!$B$445,$AH7=Tables!$B$446,$AH7=Tables!$B$447,$AH7=Tables!$B$448,$AH7=Tables!$B$449,$AH7=Tables!$B$450,$AH7=Tables!$B$451)"]
[null,15,{"$f":"Singles!B215","v":"Wai Jian Keet"},{"$f":"Singles!C215","v":"DKIT"},{"$f":"Singles!D215","v":0},{"$f":"Singles!E215","v":441},{"$f":"Singles!F215","v":0},{"$f":"Singles!G215","v":360},{"$f":"Singles!H215","v":464},null,{"$f":"Singles!I215","v":1265},{"$f":"Singles!J215","v":0},{"$f":"Singles!K215","v":1265.0464440999999},null,null,null,null,null,null,null,null,null,null,null,null,null,null,null,null,null,null,null,null,"Wai Jian Keet",null,null,null,null,null,null,null,null,null,null,null,"UCD CONDITIONAL FORMATTING FORMULA >","OR($AH7=Tables!$B$456,$AH7=Tables!$B$457,$AH7=Tables!$B$458,$AH7=Tables!$B$459,$AH7=Tables!$B$460,$AH7=Tables!$B$461,$AH7=Tables!$B$462,$AH7=Tables!$B$463,$AH7=Tables!$B$464,$AH7=Tables!$B$465,$AH7=Tables!$B$466,$AH7=Tables!$B$467,$AH7=Tables!$B$468,$AH7=Tables!$B$469,$AH7=Tables!$B$470,$AH7=Tables!$B$471,$AH7=Tables!$B$472,$AH7=Tables!$B$473,$AH7=Tables!$B$474,$AH7=Tables!$B$475,$AH7=Tables!$B$476)"]
[null,16,{"$f":"Singles!B216","v":"Lim Cheng Bin"},{"$f":"Singles!C216","v":"DKIT"},{"$f":"Singles!D216","v":443},{"$f":"Singles!E216","v":0},{"$f":"Singles!F216","v":154},{"$f":"Singles!G216","v":249},{"$f":"Singles!H216","v":296},null,{"$f":"Singles!I216","v":1142},{"$f":"Singles!J216","v":0},{"$f":"Singles!K216","v":1142.0443296000001},null,null,null,null,null,null,null,null,null,null,null,null,null,null,null,null,null,null,null,null,"Lim Cheng Bin",null,null,null,null,null,null,null,null,null,null,null,"UL CONDITIONAL FORMATTING FORMULA >","OR($AH7=Tables!$B$481,$AH7=Tables!$B$482,$AH7=Tables!$B$483,$AH7=Tables!$B$484,$AH7=Tables!$B$485,$AH7=Tables!$B$486,$AH7=Tables!$B$487,$AH7=Tables!$B$488,$AH7=Tables!$B$489,$AH7=Tables!$B$490,$AH7=Tables!$B$491,$AH7=Tables!$B$492,$AH7=Tables!$B$493,$AH7=Tables!$B$494,$AH7=Tables!$B$495,$AH7=Tables!$B$496,$AH7=Tables!$B$497,$AH7=Tables!$B$498,$AH7=Tables!$B$499,$AH7=Tables!$B$500,$AH7=Tables!$B$501)"]
[null,17,{"$f":"Singles!B217","v":"Darragh Kellegher"},{"$f":"Singles!C217","v":"UL"},{"$f":"Singles!D217","v":400},{"$f":"Singles!E217","v":331},{"$f":"Singles!F217","v":0},{"$f":"Singles!G217","v":308},{"$f":"Singles!H217","v":0},null,{"$f":"Singles!I217","v":1039},{"$f":"Singles!J217","v":0},{"$f":"Singles!K217","v":1039.0400331000001},null,null,null,null,null,null,null,null,null,null,null,null,null,null,null,null,null,null,null,null,"Darragh Kellegher",null,null,null,null,null,null,null,null,null,null,null,"UU CONDITIONAL FORMATTING FORMULA >","OR($AH7=Tables!$B$506,$AH7=Tables!$B$507,$AH7=Tables!$B$508,$AH7=Tables!$B$509,$AH7=Tables!$B$510,$AH7=Tables!$B$511,$AH7=Tables!$B$512,$AH7=Tables!$B$513,$AH7=Tables!$B$514,$AH7=Tables!$B$515,$AH7=Tables!$B$516,$AH7=Tables!$B$517,$AH7=Tables!$B$518,$AH7=Tables!$B$519,$AH7=Tables!$B$520,$AH7=Tables!$B$521,$AH7=Tables!$B$522,$AH7=Tables!$B$523,$AH7=Tables!$B$524,$AH7=Tables!$B$525,$AH7=Tables!$B$526)"]
[null,18,{"$f":"Singles!B218","v":"Nathan Tracey"},{"$f":"Singles!C218","v":"DIT"},{"$f":"Singles!D218","v":0},{"$f":"Singles!E218","v":0},{"$f":"Singles!F218","v":0},{"$f":"Singles!G218","v":515},{"$f":"Singles!H218","v":414},null,{"$f":"Singles!I218","v":929},{"$f":"Singles!J218","v":0},{"$f":"Singles!K218","v":929.05154140000002},null,null,null,null,null,null,null,null,null,null,null,null,null,null,null,null,null,null,null,null,"Nathan Tracey",null,null,null,null,null,null,null,null,null,null,null,"WIT CONDITIONAL FORMATTING FORMULA >","OR($AH7=Tables!$B$531,$AH7=Tables!$B$532,$AH7=Tables!$B$533,$AH7=Tables!$B$534,$AH7=Tables!$B$535,$AH7=Tables!$B$536,$AH7=Tables!$B$537,$AH7=Tables!$B$538,$AH7=Tables!$B$539,$AH7=Tables!$B$540,$AH7=Tables!$B$541,$AH7=Tables!$B$542,$AH7=Tables!$B$543,$AH7=Tables!$B$544,$AH7=Tables!$B$545,$AH7=Tables!$B$546,$AH7=Tables!$B$547,$AH7=Tables!$B$548,$AH7=Tables!$B$549,$AH7=Tables!$B$550,$AH7=Tables!$B$551)"]
[null,19,{"$f":"Singles!B219","v":"Andrew Neville"},{"$f":"Singles!C219","v":"UU"},{"$f":"Singles!D219","v":0},{"$f":"Singles!E219","v":0},{"$f":"Singles!F219","v":380},{"$f":"Singles!G219","v":365},{"$f":"Singles!H219","v":0},null,{"$f":"Singles!I219","v":745},{"$f":"Singles!J219","v":0},{"$f":"Singles!K219","v":745.03803649999998},null,null,null,null,null,null,null,null,null,null,null,null,null,null,null,null,null,null,null,null,"Andrew Neville",null,null,null,null,null,null,null,null,null,null,null,"AAA CONDITIONAL FORMATTING FORMULA >","OR($AH7=Tables!$B$1151,$AH7=Tables!$B$1152,$AH7=Tables!$B$1153,$AH7=Tables!$B$1154,$AH7=Tables!$B$1155,$AH7=Tables!$B$1156,$AH7=Tables!$B$1157,$AH7=Tables!$B$1158,$AH7=Tables!$B$1159,$AH7=Tables!$B$1160,$AH7=Tables!$B$1161,$AH7=Tables!$B$1162,$AH7=Tables!$B$1163,$AH7=Tables!$B$1164,$AH7=Tables!$B$1165,$AH7=Tables!$B$1166,$AH7=Tables!$B$1167,$AH7=Tables!$B$1168,$AH7=Tables!$B$1169,$AH7=Tables!$B$1170,$AH7=Tables!$B$1171)"]
[null,20,{"$f":"Singles!B220","v":"Shane Fitzgerald"},{"$f":"Singles!C220","v":"UCC"},{"$f":"Singles!D220","v":0},{"$f":"Singles!E220","v":0},{"$f":"Singles!F220","v":325},{"$f":"Singles!G220","v":0},{"$f":"Singles!H220","v":400},null,{"$f":"Singles!I220","v":725},{"$f":"Singles!J220","v":0},{"$f":"Singles!K220","v":725.04003249999994},null,null,null,null,null,null,null,null,null,null,null,null,null,null,null,null,null,null,null,null,"Shane Fitzgerald",null,null,null,null,null,null,null,null,null,null,null,"BBB CONDITIONAL FORMATTING FORMULA >","OR($AH7=Tables!$B$1176,$AH7=Tables!$B$1177,$AH7=Tables!$B$1178,$AH7=Tables!$B$1179,$AH7=Tables!$B$1180,$AH7=Tables!$B$1181,$AH7=Tables!$B$1182,$AH7=Tables!$B$1183,$AH7=Tables!$B$1184,$AH7=Tables!$B$1185,$AH7=Tables!$B$1186,$AH7=Tables!$B$1187,$AH7=Tables!$B$1188,$AH7=Tables!$B$1189,$AH7=Tables!$B$1190,$AH7=Tables!$B$1191,$AH7=Tables!$B$1192,$AH7=Tables!$B$1193,$AH7=Tables!$B$1194,$AH7=Tables!$B$1195,$AH7=Tables!$B$1196)"]
[null,21,{"$f":"Singles!B221","v":"Kyle Rosso"},{"$f":"Singles!C221","v":"UCD"},{"$f":"Singles!D221","v":0},{"$f":"Singles!E221","v":0},{"$f":"Singles!F221","v":374},{"$f":"Singles!G221","v":0},{"$f":"Singles!H221","v":349},null,{"$f":"Singles!I221","v":723},{"$f":"Singles!J221","v":0},{"$f":"Singles!K221","v":723.03743489999999},null,null,null,null,null,null,null,null,null,null,null,null,null,null,null,null,null,null,null,null,"Kyle Rosso",null,null,null,null,null,null,null,null,null,null,null,"CCC CONDITIONAL FORMATTING FORMULA >","OR($AH7=Tables!$B$1201,$AH7=Tables!$B$1202,$AH7=Tables!$B$1203,$AH7=Tables!$B$1204,$AH7=Tables!$B$1205,$AH7=Tables!$B$1206,$AH7=Tables!$B$1207,$AH7=Tables!$B$1208,$AH7=Tables!$B$1209,$AH7=Tables!$B$1210,$AH7=Tables!$B$1211,$AH7=Tables!$B$1212,$AH7=Tables!$B$1213,$AH7=Tables!$B$1214,$AH7=Tables!$B$1215,$AH7=Tables!$B$1216,$AH7=Tables!$B$1217,$AH7=Tables!$B$1218,$AH7=Tables!$B$1219,$AH7=Tables!$B$1220,$AH7=Tables!$B$1221)"]
[null,22,{"$f":"Singles!B222","v":"Jack Deane"},{"$f":"Singles!C222","v":"NUIG"},{"$f":"Singles!D222","v":379},{"$f":"Singles!E222","v":306},{"$f":"Singles!F222","v":0},{"$f":"Singles!G222","v":0},{"$f":"Singles!H222","v":0},null,{"$f":"Singles!I222","v":685},{"$f":"Singles!J222","v":0},{"$f":"Singles!K222","v":685.03793059999998},null,null,null,null,null,null,null,null,null,null,null,null,null,null,null,null,null,null,null,null,"Jack Deane",null,null,null,null,null,null,null,null,null,null,null,"DDD CONDITIONAL FORMATTING FORMULA >","OR($AH7=Tables!$B$1226,$AH7=Tables!$B$1227,$AH7=Tables!$B$1228,$AH7=Tables!$B$1229,$AH7=Tables!$B$1230,$AH7=Tables!$B$1231,$AH7=Tables!$B$1232,$AH7=Tables!$B$1233,$AH7=Tables!$B$1234,$AH7=Tables!$B$1235,$AH7=Tables!$B$1236,$AH7=Tables!$B$1237,$AH7=Tables!$B$1238,$AH7=Tables!$B$1239,$AH7=Tables!$B$1240,$AH7=Tables!$B$1241,$AH7=Tables!$B$1242,$AH7=Tables!$B$1243,$AH7=Tables!$B$1244,$AH7=Tables!$B$1245,$AH7=Tables!$B$1246)"]
[null,23,{"$f":"Singles!B223","v":"Yusuf Fauzi"},{"$f":"Singles!C223","v":"UCC"},{"$f":"Singles!D223","v":0},{"$f":"Singles!E223","v":0},{"$f":"Singles!F223","v":194},{"$f":"Singles!G223","v":0},{"$f":"Singles!H223","v":339},null,{"$f":"Singles!I223","v":533},{"$f":"Singles!J223","v":0},{"$f":"Singles!K223","v":533.03391940000006},null,null,null,null,null,null,null,null,null,null,null,null,null,null,null,null,null,null,null,null,"Yusuf Fauzi",null,null,null,null,null,null,null,null,null,null,null,"EEE CONDITIONAL FORMATTING FORMULA >","OR($AH7=Tables!$B$1251,$AH7=Tables!$B$1252,$AH7=Tables!$B$1253,$AH7=Tables!$B$1254,$AH7=Tables!$B$1255,$AH7=Tables!$B$1256,$AH7=Tables!$B$1257,$AH7=Tables!$B$1258,$AH7=Tables!$B$1259,$AH7=Tables!$B$1260,$AH7=Tables!$B$1261,$AH7=Tables!$B$1262,$AH7=Tables!$B$1263,$AH7=Tables!$B$1264,$AH7=Tables!$B$1265,$AH7=Tables!$B$1266,$AH7=Tables!$B$1267,$AH7=Tables!$B$1268,$AH7=Tables!$B$1269,$AH7=Tables!$B$1270,$AH7=Tables!$B$1271)"]
[null,24,{"$f":"Singles!B224","v":"Sven Radatz"},{"$f":"Singles!C224","v":"DKIT"},{"$f":"Singles!D224","v":0},{"$f":"Singles!E224","v":479},{"$f":"Singles!F224","v":0},{"$f":"Singles!G224","v":0},{"$f":"Singles!H224","v":0},null,{"$f":"Singles!I224","v":479},{"$f":"Singles!J224","v":0},{"$f":"Singles!K224","v":479.04790000000003},null,null,null,null,null,null,null,null,null,null,null,null,null,null,null,null,null,null,null,null,"Sven Radatz"]
[null,25,{"$f":"Singles!B225","v":"Devon Long"},{"$f":"Singles!C225","v":"UL"},{"$f":"Singles!D225","v":473},{"$f":"Singles!E225","v":0},{"$f":"Singles!F225","v":0},{"$f":"Singles!G225","v":0},{"$f":"Singles!H225","v":0},null,{"$f":"Singles!I225","v":473},{"$f":"Singles!J225","v":0},{"$f":"Singles!K225","v":473.04730000000001},null,null,null,null,null,null,null,null,null,null,null,null,null,null,null,null,null,null,null,null,"Devon Long"]
[null,26,{"$f":"Singles!B226","v":"Jonas Seesing"},{"$f":"Singles!C226","v":"NUIG"},{"$f":"Singles!D226","v":470},{"$f":"Singles!E226","v":0},{"$f":"Singles!F226","v":0},{"$f":"Singles!G226","v":0},{"$f":"Singles!H226","v":0},null,{"$f":"Singles!I226","v":470},{"$f":"Singles!J226","v":0},{"$f":"Singles!K226","v":470.04700000000003},null,null,null,null,null,null,null,null,null,null,null,null,null,null,null,null,null,null,null,null,"Jonas Seesing"]
[null,27,{"$f":"Singles!B227","v":"Artem Semenov"},{"$f":"Singles!C227","v":"UL"},{"$f":"Singles!D227","v":0},{"$f":"Singles!E227","v":0},{"$f":"Singles!F227","v":0},{"$f":"Singles!G227","v":0},{"$f":"Singles!H227","v":405},null,{"$f":"Singles!I227","v":405},{"$f":"Singles!J227","v":0},{"$f":"Singles!K227","v":405.04050000000001},null,null,null,null,null,null,null,null,null,null,null,null,null,null,null,null,null,null,null,null,"Artem Semenov"]
[null,28,{"$f":"Singles!B228","v":"Gordon Cowpar"},{"$f":"Singles!C228","v":"UCD"},{"$f":"Singles!D228","v":0},{"$f":"Singles!E228","v":398},{"$f":"Singles!F228","v":0},{"$f":"Singles!G228","v":0},{"$f":"Singles!H228","v":0},null,{"$f":"Singles!I228","v":398},{"$f":"Singles!J228","v":0},{"$f":"Singles!K228","v":398.03980000000001},null,null,null,null,null,null,null,null,null,null,null,null,null,null,null,null,null,null,null,null,"Gordon Cowpar"]
[null,29,{"$f":"Singles!B229","v":"Aonghus Condren"},{"$f":"Singles!C229","v":"UCD"},{"$f":"Singles!D229","v":0},{"$f":"Singles!E229","v":387},{"$f":"Singles!F229","v":0},{"$f":"Singles!G229","v":0},{"$f":"Singles!H229","v":0},null,{"$f":"Singles!I229","v":387},{"$f":"Singles!J229","v":0},{"$f":"Singles!K229","v":387.03870000000001},null,null,null,null,null,null,null,null,null,null,null,null,null,null,null,null,null,null,null,null,"Aonghus Condren"]
[null,30,{"$f":"Singles!B230","v":"Ahmad Nasree M Khairuddin Lim"},{"$f":"Singles!C230","v":"RCSI"},{"$f":"Singles!D230","v":372},{"$f":"Singles!E230","v":0},{"$f":"Singles!F230","v":0},{"$f":"Singles!G230","v":0},{"$f":"Singles!H230","v":0},null,{"$f":"Singles!I230","v":372},{"$f":"Singles!J230","v":0},{"$f":"Singles!K230","v":372.03719999999998},null,null,null,null,null,null,null,null,null,null,null,null,null,null,null,null,null,null,null,null,"Ahmad Nasree M Khairuddin Lim"]
[null,31,{"$f":"Singles!B231","v":"Thijs Siebt"},{"$f":"Singles!C231","v":"NUIG"},{"$f":"Singles!D231","v":0},{"$f":"Singles!E231","v":371},{"$f":"Singles!F231","v":0},{"$f":"Singles!G231","v":0},{"$f":"Singles!H231","v":0},null,{"$f":"Singles!I231","v":371},{"$f":"Singles!J231","v":0},{"$f":"Singles!K231","v":371.03710000000001},null,null,null,null,null,null,null,null,null,null,null,null,null,null,null,null,null,null,null,null,"Thijs Siebt"]
[null,32,{"$f":"Singles!B232","v":"Liam Doyle"},{"$f":"Singles!C232","v":"UL"},{"$f":"Singles!D232","v":0},{"$f":"Singles!E232","v":358},{"$f":"Singles!F232","v":0},{"$f":"Singles!G232","v":0},{"$f":"Singles!H232","v":0},null,{"$f":"Singles!I232","v":358},{"$f":"Singles!J232","v":0},{"$f":"Singles!K232","v":358.03579999999999},null,null,null,null,null,null,null,null,null,null,null,null,null,null,null,null,null,null,null,null,"Liam Doyle"]
[null,33,{"$f":"Singles!B233","v":"Jordan McMullan"},{"$f":"Singles!C233","v":"UU"},{"$f":"Singles!D233","v":0},{"$f":"Singles!E233","v":0},{"$f":"Singles!F233","v":0},{"$f":"Singles!G233","v":349},{"$f":"Singles!H233","v":0},null,{"$f":"Singles!I233","v":349},{"$f":"Singles!J233","v":0},{"$f":"Singles!K233","v":349.03489999999999},null,null,null,null,null,null,null,null,null,null,null,null,null,null,null,null,null,null,null,null,{"$f":"C39","v":"Jordan McMullan"}]
[null,34,{"$f":"Singles!B234","v":"Thomas Joyce"},{"$f":"Singles!C234","v":"UCD"},{"$f":"Singles!D234","v":0},{"$f":"Singles!E234","v":339},{"$f":"Singles!F234","v":0},{"$f":"Singles!G234","v":0},{"$f":"Singles!H234","v":0},null,{"$f":"Singles!I234","v":339},{"$f":"Singles!J234","v":0},{"$f":"Singles!K234","v":339.03390000000002},null,null,null,null,null,null,null,null,null,null,null,null,null,null,null,null,null,null,null,null,"Thomas Joyce"]
[null,35,{"$f":"Singles!B235","v":"Azeem Mohd Elias"},{"$f":"Singles!C235","v":"UCD"},{"$f":"Singles!D235","v":335},{"$f":"Singles!E235","v":0},{"$f":"Singles!F235","v":0},{"$f":"Singles!G235","v":0},{"$f":"Singles!H235","v":0},null,{"$f":"Singles!I235","v":335},{"$f":"Singles!J235","v":0},{"$f":"Singles!K235","v":335.0335},null,null,null,null,null,null,null,null,null,null,null,null,null,null,null,null,null,null,null,null,"Azeem Mohd Elias"]
[null,36,{"$f":"Singles!B236","v":"Hugh Carrol"},{"$f":"Singles!C236","v":"DIT"},{"$f":"Singles!D236","v":0},{"$f":"Singles!E236","v":0},{"$f":"Singles!F236","v":0},{"$f":"Singles!G236","v":0},{"$f":"Singles!H236","v":285},null,{"$f":"Singles!I236","v":285},{"$f":"Singles!J236","v":0},{"$f":"Singles!K236","v":285.02850000000001},null,null,null,null,null,null,null,null,null,null,null,null,null,null,null,null,null,null,null,null,"Hugh Carrol"]
[null,37,{"$f":"Singles!B237","v":"Casey Patmore"},{"$f":"Singles!C237","v":"UCD"},{"$f":"Singles!D237","v":0},{"$f":"Singles!E237","v":261},{"$f":"Singles!F237","v":0},{"$f":"Singles!G237","v":0},{"$f":"Singles!H237","v":0},null,{"$f":"Singles!I237","v":261},{"$f":"Singles!J237","v":0},{"$f":"Singles!K237","v":261.02609999999999},null,null,null,null,null,null,null,null,null,null,null,null,null,null,null,null,null,null,null,null,"Casey Patmore"]
[null,38,{"$f":"Singles!B238","v":"Ian Nora"},{"$f":"Singles!C238","v":"UL"},{"$f":"Singles!D238","v":249},{"$f":"Singles!E238","v":0},{"$f":"Singles!F238","v":0},{"$f":"Singles!G238","v":0},{"$f":"Singles!H238","v":0},null,{"$f":"Singles!I238","v":249},{"$f":"Singles!J238","v":0},{"$f":"Singles!K238","v":249.0249},null,null,null,null,null,null,null,null,null,null,null,null,null,null,null,null,null,null,null,null,"Ian Nora"]
[null,39,{"$f":"Singles!B239","v":"Jacob Byrne"},{"$f":"Singles!C239","v":"DIT"},{"$f":"Singles!D239","v":0},{"$f":"Singles!E239","v":0},{"$f":"Singles!F239","v":0},{"$f":"Singles!G239","v":225},{"$f":"Singles!H239","v":0},null,{"$f":"Singles!I239","v":225},{"$f":"Singles!J239","v":0},{"$f":"Singles!K239","v":225.02250000000001},null,null,null,null,null,null,null,null,null,null,null,null,null,null,null,null,null,null,null,null,"Jacob Byrne"]
[null,40,{"$f":"Singles!B240","v":"Caoimhe Lalor"},{"$f":"Singles!C240","v":"UCD"},{"$f":"Singles!D240","v":0},{"$f":"Singles!E240","v":0},{"$f":"Singles!F240","v":0},{"$f":"Singles!G240","v":168},{"$f":"Singles!H240","v":0},null,{"$f":"Singles!I240","v":168},{"$f":"Singles!J240","v":0},{"$f":"Singles!K240","v":168.01679999999999},null,null,null,null,null,null,null,null,null,null,null,null,null,null,null,null,null,null,null,null,"Caoimhe Lalor"]
[null,41,{"$f":"Singles!B241","v":0},{"$f":"Singles!C241","v":"TBC"},{"$f":"Singles!D241","v":"TBC"},{"$f":"Singles!E241","v":"TBC"},{"$f":"Singles!F241","v":"TBC"},{"$f":"Singles!G241","v":"TBC"},{"$f":"Singles!H241","v":"TBC"},null,{"$f":"Singles!I241","v":0},{"$f":"Singles!J241","v":0},{"$f":"Singles!K241","v":0},null,null,null,null,null,null,null,null,null,null,null,null,null,null,null,null,null,null,null,null,0]
[null,42,{"$f":"Singles!B242","v":0},{"$f":"Singles!C242","v":"TBC"},{"$f":"Singles!D242","v":"TBC"},{"$f":"Singles!E242","v":"TBC"},{"$f":"Singles!F242","v":"TBC"},{"$f":"Singles!G242","v":"TBC"},{"$f":"Singles!H242","v":"TBC"},null,{"$f":"Singles!I242","v":0},{"$f":"Singles!J242","v":0},{"$f":"Singles!K242","v":0},null,null,null,null,null,null,null,null,null,null,null,null,null,null,null,null,null,null,null,null,0]
[null,43,{"$f":"Singles!B243","v":0},{"$f":"Singles!C243","v":"TBC"},{"$f":"Singles!D243","v":"TBC"},{"$f":"Singles!E243","v":"TBC"},{"$f":"Singles!F243","v":"TBC"},{"$f":"Singles!G243","v":"TBC"},{"$f":"Singles!H243","v":"TBC"},null,{"$f":"Singles!I243","v":0},{"$f":"Singles!J243","v":0},{"$f":"Singles!K243","v":0},null,null,null,null,null,null,null,null,null,null,null,null,null,null,null,null,null,null,null,null,0]
[null,44,{"$f":"Singles!B244","v":0},{"$f":"Singles!C244","v":"TBC"},{"$f":"Singles!D244","v":"TBC"},{"$f":"Singles!E244","v":"TBC"},{"$f":"Singles!F244","v":"TBC"},{"$f":"Singles!G244","v":"TBC"},{"$f":"Singles!H244","v":"TBC"},null,{"$f":"Singles!I244","v":0},{"$f":"Singles!J244","v":0},{"$f":"Singles!K244","v":0},null,null,null,null,null,null,null,null,null,null,null,null,null,null,null,null,null,null,null,null,0]
[null,45,{"$f":"Singles!B245","v":0},{"$f":"Singles!C245","v":"TBC"},{"$f":"Singles!D245","v":"TBC"},{"$f":"Singles!E245","v":"TBC"},{"$f":"Singles!F245","v":"TBC"},{"$f":"Singles!G245","v":"TBC"},{"$f":"Singles!H245","v":"TBC"},null,{"$f":"Singles!I245","v":0},{"$f":"Singles!J245","v":0},{"$f":"Singles!K245","v":0},null,null,null,null,null,null,null,null,null,null,null,null,null,null,null,null,null,null,null,null,0]
[null,46,{"$f":"Singles!B246","v":0},{"$f":"Singles!C246","v":"TBC"},{"$f":"Singles!D246","v":"TBC"},{"$f":"Singles!E246","v":"TBC"},{"$f":"Singles!F246","v":"TBC"},{"$f":"Singles!G246","v":"TBC"},{"$f":"Singles!H246","v":"TBC"},null,{"$f":"Singles!I246","v":0},{"$f":"Singles!J246","v":0},{"$f":"Singles!K246","v":0},null,null,null,null,null,null,null,null,null,null,null,null,null,null,null,null,null,null,null,null,0]
[null,47,{"$f":"Singles!B247","v":0},{"$f":"Singles!C247","v":"TBC"},{"$f":"Singles!D247","v":"TBC"},{"$f":"Singles!E247","v":"TBC"},{"$f":"Singles!F247","v":"TBC"},{"$f":"Singles!G247","v":"TBC"},{"$f":"Singles!H247","v":"TBC"},null,{"$f":"Singles!I247","v":0},{"$f":"Singles!J247","v":0},{"$f":"Singles!K247","v":0},null,null,null,null,null,null,null,null,null,null,null,null,null,null,null,null,null,null,null,null,0]
[null,48,{"$f":"Singles!B248","v":0},{"$f":"Singles!C248","v":"TBC"},{"$f":"Singles!D248","v":"TBC"},{"$f":"Singles!E248","v":"TBC"},{"$f":"Singles!F248","v":"TBC"},{"$f":"Singles!G248","v":"TBC"},{"$f":"Singles!H248","v":"TBC"},null,{"$f":"Singles!I248","v":0},{"$f":"Singles!J248","v":0},{"$f":"Singles!K248","v":0},null,null,null,null,null,null,null,null,null,null,null,null,null,null,null,null,null,null,null,null,0]
[null,49,{"$f":"Singles!B249","v":0},{"$f":"Singles!C249","v":"TBC"},{"$f":"Singles!D249","v":"TBC"},{"$f":"Singles!E249","v":"TBC"},{"$f":"Singles!F249","v":"TBC"},{"$f":"Singles!G249","v":"TBC"},{"$f":"Singles!H249","v":"TBC"},null,{"$f":"Singles!I249","v":0},{"$f":"Singles!J249","v":0},{"$f":"Singles!K249","v":0},null,null,null,null,null,null,null,null,null,null,null,null,null,null,null,null,null,null,null,null,0]
[null,50,{"$f":"Singles!B250","v":0},{"$f":"Singles!C250","v":"TBC"},{"$f":"Singles!D250","v":"TBC"},{"$f":"Singles!E250","v":"TBC"},{"$f":"Singles!F250","v":"TBC"},{"$f":"Singles!G250","v":"TBC"},{"$f":"Singles!H250","v":"TBC"},null,{"$f":"Singles!I250","v":0},{"$f":"Singles!J250","v":0},{"$f":"Singles!K250","v":0},null,null,null,null,null,null,null,null,null,null,null,null,null,null,null,null,null,null,null,null,0]
[null,51,{"$f":"Singles!B251","v":0},{"$f":"Singles!C251","v":"TBC"},{"$f":"Singles!D251","v":"TBC"},{"$f":"Singles!E251","v":"TBC"},{"$f":"Singles!F251","v":"TBC"},{"$f":"Singles!G251","v":"TBC"},{"$f":"Singles!H251","v":"TBC"},null,{"$f":"Singles!I251","v":0},{"$f":"Singles!J251","v":0},{"$f":"Singles!K251","v":0},null,null,null,null,null,null,null,null,null,null,null,null,null,null,null,null,null,null,null,null,0]
[null,52,{"$f":"Singles!B252","v":0},{"$f":"Singles!C252","v":"TBC"},{"$f":"Singles!D252","v":"TBC"},{"$f":"Singles!E252","v":"TBC"},{"$f":"Singles!F252","v":"TBC"},{"$f":"Singles!G252","v":"TBC"},{"$f":"Singles!H252","v":"TBC"},null,{"$f":"Singles!I252","v":0},{"$f":"Singles!J252","v":0},{"$f":"Singles!K252","v":0},null,null,null,null,null,null,null,null,null,null,null,null,null,null,null,null,null,null,null,null,0]
[null,53,{"$f":"Singles!B253","v":0},{"$f":"Singles!C253","v":"TBC"},{"$f":"Singles!D253","v":"TBC"},{"$f":"Singles!E253","v":"TBC"},{"$f":"Singles!F253","v":"TBC"},{"$f":"Singles!G253","v":"TBC"},{"$f":"Singles!H253","v":"TBC"},null,{"$f":"Singles!I253","v":0},{"$f":"Singles!J253","v":0},{"$f":"Singles!K253","v":0},null,null,null,null,null,null,null,null,null,null,null,null,null,null,null,null,null,null,null,null,0]
[null,54,{"$f":"Singles!B254","v":0},{"$f":"Singles!C254","v":"TBC"},{"$f":"Singles!D254","v":"TBC"},{"$f":"Singles!E254","v":"TBC"},{"$f":"Singles!F254","v":"TBC"},{"$f":"Singles!G254","v":"TBC"},{"$f":"Singles!H254","v":"TBC"},null,{"$f":"Singles!I254","v":0},{"$f":"Singles!J254","v":0},{"$f":"Singles!K254","v":0},null,null,null,null,null,null,null,null,null,null,null,null,null,null,null,null,null,null,null,null,0]
[null,55,{"$f":"Singles!B255","v":0},{"$f":"Singles!C255","v":"TBC"},{"$f":"Singles!D255","v":"TBC"},{"$f":"Singles!E255","v":"TBC"},{"$f":"Singles!F255","v":"TBC"},{"$f":"Singles!G255","v":"TBC"},{"$f":"Singles!H255","v":"TBC"},null,{"$f":"Singles!I255","v":0},{"$f":"Singles!J255","v":0},{"$f":"Singles!K255","v":0},null,null,null,null,null,null,null,null,null,null,null,null,null,null,null,null,null,null,null,null,0]
[null,56,{"$f":"Singles!B256","v":0},{"$f":"Singles!C256","v":"TBC"},{"$f":"Singles!D256","v":"TBC"},{"$f":"Singles!E256","v":"TBC"},{"$f":"Singles!F256","v":"TBC"},{"$f":"Singles!G256","v":"TBC"},{"$f":"Singles!H256","v":"TBC"},null,{"$f":"Singles!I256","v":0},{"$f":"Singles!J256","v":0},{"$f":"Singles!K256","v":0},null,null,null,null,null,null,null,null,null,null,null,null,null,null,null,null,null,null,null,null,0]
[null,57,{"$f":"Singles!B257","v":0},{"$f":"Singles!C257","v":"TBC"},{"$f":"Singles!D257","v":"TBC"},{"$f":"Singles!E257","v":"TBC"},{"$f":"Singles!F257","v":"TBC"},{"$f":"Singles!G257","v":"TBC"},{"$f":"Singles!H257","v":"TBC"},null,{"$f":"Singles!I257","v":0},{"$f":"Singles!J257","v":0},{"$f":"Singles!K257","v":0},null,null,null,null,null,null,null,null,null,null,null,null,null,null,null,null,null,null,null,null,0]
[null,58,{"$f":"Singles!B258","v":0},{"$f":"Singles!C258","v":"TBC"},{"$f":"Singles!D258","v":"TBC"},{"$f":"Singles!E258","v":"TBC"},{"$f":"Singles!F258","v":"TBC"},{"$f":"Singles!G258","v":"TBC"},{"$f":"Singles!H258","v":"TBC"},null,{"$f":"Singles!I258","v":0},{"$f":"Singles!J258","v":0},{"$f":"Singles!K258","v":0},null,null,null,null,null,null,null,null,null,null,null,null,null,null,null,null,null,null,null,null,0]
[null,59,{"$f":"Singles!B259","v":0},{"$f":"Singles!C259","v":"TBC"},{"$f":"Singles!D259","v":"TBC"},{"$f":"Singles!E259","v":"TBC"},{"$f":"Singles!F259","v":"TBC"},{"$f":"Singles!G259","v":"TBC"},{"$f":"Singles!H259","v":"TBC"},null,{"$f":"Singles!I259","v":0},{"$f":"Singles!J259","v":0},{"$f":"Singles!K259","v":0},null,null,null,null,null,null,null,null,null,null,null,null,null,null,null,null,null,null,null,null,0]
[null,60,{"$f":"Singles!B260","v":0},{"$f":"Singles!C260","v":"TBC"},{"$f":"Singles!D260","v":"TBC"},{"$f":"Singles!E260","v":"TBC"},{"$f":"Singles!F260","v":"TBC"},{"$f":"Singles!G260","v":"TBC"},{"$f":"Singles!H260","v":"TBC"},null,{"$f":"Singles!I260","v":0},{"$f":"Singles!J260","v":0},{"$f":"Singles!K260","v":0},null,null,null,null,null,null,null,null,null,null,null,null,null,null,null,null,null,null,null,null,0]
[null,61,{"$f":"Singles!B261","v":0},{"$f":"Singles!C261","v":"TBC"},{"$f":"Singles!D261","v":"TBC"},{"$f":"Singles!E261","v":"TBC"},{"$f":"Singles!F261","v":"TBC"},{"$f":"Singles!G261","v":"TBC"},{"$f":"Singles!H261","v":"TBC"},null,{"$f":"Singles!I261","v":0},{"$f":"Singles!J261","v":0},{"$f":"Singles!K261","v":0},null,null,null,null,null,null,null,null,null,null,null,null,null,null,null,null,null,null,null,null,0]
[null,62,{"$f":"Singles!B262","v":0},{"$f":"Singles!C262","v":"TBC"},{"$f":"Singles!D262","v":"TBC"},{"$f":"Singles!E262","v":"TBC"},{"$f":"Singles!F262","v":"TBC"},{"$f":"Singles!G262","v":"TBC"},{"$f":"Singles!H262","v":"TBC"},null,{"$f":"Singles!I262","v":0},{"$f":"Singles!J262","v":0},{"$f":"Singles!K262","v":0},null,null,null,null,null,null,null,null,null,null,null,null,null,null,null,null,null,null,null,null,0]
[null,63,{"$f":"Singles!B263","v":0},{"$f":"Singles!C263","v":"TBC"},{"$f":"Singles!D263","v":"TBC"},{"$f":"Singles!E263","v":"TBC"},{"$f":"Singles!F263","v":"TBC"},{"$f":"Singles!G263","v":"TBC"},{"$f":"Singles!H263","v":"TBC"},null,{"$f":"Singles!I263","v":0},{"$f":"Singles!J263","v":0},{"$f":"Singles!K263","v":0},null,null,null,null,null,null,null,null,null,null,null,null,null,null,null,null,null,null,null,null,0]
[null,64,{"$f":"Singles!B264","v":0},{"$f":"Singles!C264","v":"TBC"},{"$f":"Singles!D264","v":"TBC"},{"$f":"Singles!E264","v":"TBC"},{"$f":"Singles!F264","v":"TBC"},{"$f":"Singles!G264","v":"TBC"},{"$f":"Singles!H264","v":"TBC"},null,{"$f":"Singles!I264","v":0},{"$f":"Singles!J264","v":0},{"$f":"Singles!K264","v":0},null,null,null,null,null,null,null,null,null,null,null,null,null,null,null,null,null,null,null,null,0]
[null,65,{"$f":"Singles!B265","v":0},{"$f":"Singles!C265","v":"TBC"},{"$f":"Singles!D265","v":"TBC"},{"$f":"Singles!E265","v":"TBC"},{"$f":"Singles!F265","v":"TBC"},{"$f":"Singles!G265","v":"TBC"},{"$f":"Singles!H265","v":"TBC"},null,{"$f":"Singles!I265","v":0},{"$f":"Singles!J265","v":0},{"$f":"Singles!K265","v":0},null,null,null,null,null,null,null,null,null,null,null,null,null,null,null,null,null,null,null,null,0]
[null,66,{"$f":"Singles!B266","v":0},{"$f":"Singles!C266","v":"TBC"},{"$f":"Singles!D266","v":"TBC"},{"$f":"Singles!E266","v":"TBC"},{"$f":"Singles!F266","v":"TBC"},{"$f":"Singles!G266","v":"TBC"},{"$f":"Singles!H266","v":"TBC"},null,{"$f":"Singles!I266","v":0},{"$f":"Singles!J266","v":0},{"$f":"Singles!K266","v":0},null,null,null,null,null,null,null,null,null,null,null,null,null,null,null,null,null,null,null,null,0]
[null,67,{"$f":"Singles!B267","v":0},{"$f":"Singles!C267","v":"TBC"},{"$f":"Singles!D267","v":"TBC"},{"$f":"Singles!E267","v":"TBC"},{"$f":"Singles!F267","v":"TBC"},{"$f":"Singles!G267","v":"TBC"},{"$f":"Singles!H267","v":"TBC"},null,{"$f":"Singles!I267","v":0},{"$f":"Singles!J267","v":0},{"$f":"Singles!K267","v":0},null,null,null,null,null,null,null,null,null,null,null,null,null,null,null,null,null,null,null,null,0]
[null,68,{"$f":"Singles!B268","v":0},{"$f":"Singles!C268","v":"TBC"},{"$f":"Singles!D268","v":"TBC"},{"$f":"Singles!E268","v":"TBC"},{"$f":"Singles!F268","v":"TBC"},{"$f":"Singles!G268","v":"TBC"},{"$f":"Singles!H268","v":"TBC"},null,{"$f":"Singles!I268","v":0},{"$f":"Singles!J268","v":0},{"$f":"Singles!K268","v":0},null,null,null,null,null,null,null,null,null,null,null,null,null,null,null,null,null,null,null,null,0]
[null,69,{"$f":"Singles!B269","v":0},{"$f":"Singles!C269","v":"TBC"},{"$f":"Singles!D269","v":"TBC"},{"$f":"Singles!E269","v":"TBC"},{"$f":"Singles!F269","v":"TBC"},{"$f":"Singles!G269","v":"TBC"},{"$f":"Singles!H269","v":"TBC"},null,{"$f":"Singles!I269","v":0},{"$f":"Singles!J269","v":0},{"$f":"Singles!K269","v":0},null,null,null,null,null,null,null,null,null,null,null,null,null,null,null,null,null,null,null,null,0]
[null,70,{"$f":"Singles!B270","v":0},{"$f":"Singles!C270","v":"TBC"},{"$f":"Singles!D270","v":"TBC"},{"$f":"Singles!E270","v":"TBC"},{"$f":"Singles!F270","v":"TBC"},{"$f":"Singles!G270","v":"TBC"},{"$f":"Singles!H270","v":"TBC"},null,{"$f":"Singles!I270","v":0},{"$f":"Singles!J270","v":0},{"$f":"Singles!K270","v":0},null,null,null,null,null,null,null,null,null,null,null,null,null,null,null,null,null,null,null,null,0]
[null,71,{"$f":"Singles!B271","v":0},{"$f":"Singles!C271","v":"TBC"},{"$f":"Singles!D271","v":"TBC"},{"$f":"Singles!E271","v":"TBC"},{"$f":"Singles!F271","v":"TBC"},{"$f":"Singles!G271","v":"TBC"},{"$f":"Singles!H271","v":"TBC"},null,{"$f":"Singles!I271","v":0},{"$f":"Singles!J271","v":0},{"$f":"Singles!K271","v":0},null,null,null,null,null,null,null,null,null,null,null,null,null,null,null,null,null,null,null,null,0]
[null,72,{"$f":"Singles!B272","v":0},{"$f":"Singles!C272","v":"TBC"},{"$f":"Singles!D272","v":"TBC"},{"$f":"Singles!E272","v":"TBC"},{"$f":"Singles!F272","v":"TBC"},{"$f":"Singles!G272","v":"TBC"},{"$f":"Singles!H272","v":"TBC"},null,{"$f":"Singles!I272","v":0},{"$f":"Singles!J272","v":0},{"$f":"Singles!K272","v":0},null,null,null,null,null,null,null,null,null,null,null,null,null,null,null,null,null,null,null,null,0]
[null,73,{"$f":"Singles!B273","v":0},{"$f":"Singles!C273","v":"TBC"},{"$f":"Singles!D273","v":"TBC"},{"$f":"Singles!E273","v":"TBC"},{"$f":"Singles!F273","v":"TBC"},{"$f":"Singles!G273","v":"TBC"},{"$f":"Singles!H273","v":"TBC"},null,{"$f":"Singles!I273","v":0},{"$f":"Singles!J273","v":0},{"$f":"Singles!K273","v":0},null,null,null,null,null,null,null,null,null,null,null,null,null,null,null,null,null,null,null,null,0]
[null,74,{"$f":"Singles!B274","v":0},{"$f":"Singles!C274","v":"TBC"},{"$f":"Singles!D274","v":"TBC"},{"$f":"Singles!E274","v":"TBC"},{"$f":"Singles!F274","v":"TBC"},{"$f":"Singles!G274","v":"TBC"},{"$f":"Singles!H274","v":"TBC"},null,{"$f":"Singles!I274","v":0},{"$f":"Singles!J274","v":0},{"$f":"Singles!K274","v":0},null,null,null,null,null,null,null,null,null,null,null,null,null,null,null,null,null,null,null,null,0]
[null,75,{"$f":"Singles!B275","v":0},{"$f":"Singles!C275","v":"TBC"},{"$f":"Singles!D275","v":"TBC"},{"$f":"Singles!E275","v":"TBC"},{"$f":"Singles!F275","v":"TBC"},{"$f":"Singles!G275","v":"TBC"},{"$f":"Singles!H275","v":"TBC"},null,{"$f":"Singles!I275","v":0},{"$f":"Singles!J275","v":0},{"$f":"Singles!K275","v":0},null,null,null,null,null,null,null,null,null,null,null,null,null,null,null,null,null,null,null,null,0]
[{"$f":"$D$7","v":"MU"}]
[]
[]
[]
[]
[]
[]
[]
[]
[]
[]
[]
[]
[]
[]
[]
[]
[]
["DCU",-1]
["DIT",-2]
["DKIT",-3]
["DUAC",-4]
["GMIT",-5]
["GMITC",-6]
["ITC",-7]
["IT Tallaght",-8]
["MU",-9]
["NCAD",-10]
["NUIG",-11]
["RCSI",-12]
["UCC",-13]
["UCD",-14]
["UL",-15]
["UU",-16]
["WIT",-17]
["AAA",-18]
["BBB",-19]
["CCC",-20]
["DDD",-21]
["EEE",-22]

{"sheet":"RBF","index":3,"n_rows":82,"n_cols":34,"rows_kept":82,"cut":false,"hidden":false,"merged":[[0,0,0,13],[1,0,80,0],[1,13,80,13],[81,0,81,13],[4,10,4,12],[4,1,4,8],[1,4,1,8],[1,10,1,12],[1,1,3,3],[2,10,3,10],[2,11,3,11],[2,12,3,12],[1,9,80,9]]}
[{"$f":"$D$7","v":"DKIT"}]
[{"$f":"$D$7","v":"DKIT"},"Female Beginner Recurve",null,null,"Host Club",null,null,null,null,"DKIT","Scores",null,null,{"$f":"$D$7","v":"DKIT"},null,null,null,null,null,null,null,null,null,null,null,null,null,null,null,null,null,null,null,{"$f":"AH7","v":"Eunice Kiew Ying Sing"}]
[null,null,null,null,{"$f":"Entries!K6","v":"UL IV"},{"$f":"Entries!K7","v":"DkIT IV"},{"$f":"Entries!K8","v":"GMIT IV"},{"$f":"Entries!K9","v":"DCU IV"},{"$f":"Entries!K10","v":"NUIG IV"},null,"Total","Lowest","League"]
[]
[null,{"$f":"$D$7","v":"DKIT"},null,null,null,null,null,null,null,null,{"$f":"$D$7","v":"DKIT"}]
[null,null,"Name","College",{"$f":"Entries!K6","v":"UL IV"},{"$f":"Entries!K7","v":"DkIT IV"},{"$f":"Entries!K8","v":"GMIT IV"},{"$f":"Entries!K9","v":"DCU IV"},{"$f":"Entries!K10","v":"NUIG IV"},null,"Total","Lowest","League total"]
[null,1,{"$f":"Singles!O202","v":"Eunice Kiew Ying Sing"},{"$f":"Singles!P202","v":"DKIT"},{"$f":"Singles!Q202","v":501},{"$f":"Singles!R202","v":0},{"$f":"Singles!S202","v":486},{"$f":"Singles!T202","v":509},{"$f":"Singles!U202","v":463},null,{"$f":"Singles!V202","v":1959},{"$f":"Singles!W202","v":0},{"$f":"Singles!X202","v":1959.0509500999999},null,null,null,null,null,null,null,null,null,null,null,null,null,null,null,null,null,null,null,null,{"$f":"C7","v":"Eunice Kiew Ying Sing"}]
[null,2,{"$f":"Singles!O201","v":"Mary Aherne"},{"$f":"Singles!P201","v":"NUIG"},{"$f":"Singles!Q201","v":413},{"$f":"Singles!R201","v":343},{"$f":"Singles!S201","v":464},{"$f":"Singles!T201","v":400},{"$f":"Singles!U201","v":420},null,{"$f":"Singles!V201","v":2040},{"$f":"Singles!W201","v":343},{"$f":"Singles!X201","v":1697.0464419999998},null,null,null,null,null,null,null,null,null,null,null,null,null,null,null,null,null,null,null,null,"Mary Aherne"]
[null,3,{"$f":"Singles!O205","v":"Jane Meehan"},{"$f":"Singles!P205","v":"DKIT"},{"$f":"Singles!Q205","v":467},{"$f":"Singles!R205","v":0},{"$f":"Singles!S205","v":393},{"$f":"Singles!T205","v":424},{"$f":"Singles!U205","v":376},null,{"$f":"Singles!V205","v":1660},{"$f":"Singles!W205","v":0},{"$f":"Singles!X205","v":1660.0467424000001},null,null,null,null,null,null,null,null,null,null,null,null,null,null,null,null,null,null,null,null,"Jane Meehan"]
[null,4,{"$f":"Singles!O206","v":"Laury Despres"},{"$f":"Singles!P206","v":"MU"},{"$f":"Singles!Q206","v":0},{"$f":"Singles!R206","v":386},{"$f":"Singles!S206","v":355},{"$f":"Singles!T206","v":394},{"$f":"Singles!U206","v":452},null,{"$f":"Singles!V206","v":1587},{"$f":"Singles!W206","v":0},{"$f":"Singles!X206","v":1587.0452394000001},null,null,null,null,null,null,null,null,null,null,null,null,null,null,null,null,null,null,null,null,"Laury Despres"]
[null,5,{"$f":"Singles!O203","v":"Helen Lacey"},{"$f":"Singles!P203","v":"NUIG"},{"$f":"Singles!Q203","v":325},{"$f":"Singles!R203","v":380},{"$f":"Singles!S203","v":424},{"$f":"Singles!T203","v":355},{"$f":"Singles!U203","v":404},null,{"$f":"Singles!V203","v":1888},{"$f":"Singles!W203","v":325},{"$f":"Singles!X203","v":1563.0424404},null,null,null,null,null,null,null,null,null,null,null,null,null,null,null,null,null,null,null,null,"Helen Lacey"]
[null,6,{"$f":"Singles!O207","v":"Zoe Nicholson"},{"$f":"Singles!P207","v":"DKIT"},{"$f":"Singles!Q207","v":442},{"$f":"Singles!R207","v":0},{"$f":"Singles!S207","v":353},{"$f":"Singles!T207","v":341},{"$f":"Singles!U207","v":372},null,{"$f":"Singles!V207","v":1508},{"$f":"Singles!W207","v":0},{"$f":"Singles!X207","v":1508.0442372},null,null,null,null,null,null,null,null,null,null,null,null,null,null,null,null,null,null,null,null,"Zoe Nicholson"]
[null,7,{"$f":"Singles!O208","v":"Siun Collins"},{"$f":"Singles!P208","v":"DIT"},{"$f":"Singles!Q208","v":423},{"$f":"Singles!R208","v":0},{"$f":"Singles!S208","v":341},{"$f":"Singles!T208","v":346},{"$f":"Singles!U208","v":374},null,{"$f":"Singles!V208","v":1484},{"$f":"Singles!W208","v":0},{"$f":"Singles!X208","v":1484.0423374000002},null,null,null,null,null,null,null,null,null,null,null,null,null,null,null,null,null,null,null,null,"Siun Collins"]
[null,8,{"$f":"Singles!O209","v":"Carla Reinhardt"},{"$f":"Singles!P209","v":"UCC"},{"$f":"Singles!Q209","v":266},{"$f":"Singles!R209","v":0},{"$f":"Singles!S209","v":424},{"$f":"Singles!T209","v":399},{"$f":"Singles!U209","v":392},null,{"$f":"Singles!V209","v":1481},{"$f":"Singles!W209","v":0},{"$f":"Singles!X209","v":1481.0424399000001},null,null,null,null,null,null,null,null,null,null,null,null,null,null,null,null,null,null,null,null,"Carla Reinhardt"]
[null,9,{"$f":"Singles!O204","v":"Asia Tayyab"},{"$f":"Singles!P204","v":"GMIT"},{"$f":"Singles!Q204","v":330},{"$f":"Singles!R204","v":283},{"$f":"Singles!S204","v":376},{"$f":"Singles!T204","v":407},{"$f":"Singles!U204","v":278},null,{"$f":"Singles!V204","v":1674},{"$f":"Singles!W204","v":278},{"$f":"Singles!X204","v":1396.0407376000001},null,null,null,null,null,null,null,null,null,null,null,null,null,null,null,null,null,null,null,null,"Asia Tayyab"]
[null,10,{"$f":"Singles!O210","v":"Lynda Miller"},{"$f":"Singles!P210","v":"GMIT"},{"$f":"Singles!Q210","v":0},{"$f":"Singles!R210","v":114},{"$f":"Singles!S210","v":459},{"$f":"Singles!T210","v":253},{"$f":"Singles!U210","v":444},null,{"$f":"Singles!V210","v":1270},{"$f":"Singles!W210","v":0},{"$f":"Singles!X210","v":1270.0459444000001},null,null,null,null,null,null,null,null,null,null,null,null,null,null,null,null,null,null,null,null,"Lynda Miller"]
[null,11,{"$f":"Singles!O211","v":"Bruna Mota"},{"$f":"Singles!P211","v":"UCD"},{"$f":"Singles!Q211","v":0},{"$f":"Singles!R211","v":0},{"$f":"Singles!S211","v":424},{"$f":"Singles!T211","v":327},{"$f":"Singles!U211","v":395},null,{"$f":"Singles!V211","v":1146},{"$f":"Singles!W211","v":0},{"$f":"Singles!X211","v":1146.0424395},null,null,null,null,null,null,null,null,null,null,null,null,null,null,null,null,null,null,null,null,"Bruna Mota"]
[null,12,{"$f":"Singles!O212","v":"Judith Bell"},{"$f":"Singles!P212","v":"UU"},{"$f":"Singles!Q212","v":0},{"$f":"Singles!R212","v":239},{"$f":"Singles!S212","v":378},{"$f":"Singles!T212","v":376},{"$f":"Singles!U212","v":134},null,{"$f":"Singles!V212","v":1127},{"$f":"Singles!W212","v":0},{"$f":"Singles!X212","v":1127.0378376000001},null,null,null,null,null,null,null,null,null,null,null,null,null,null,null,null,null,null,null,null,"Judith Bell"]
[null,13,{"$f":"Singles!O213","v":"Fiona Maguire"},{"$f":"Singles!P213","v":"UCD"},{"$f":"Singles!Q213","v":0},{"$f":"Singles!R213","v":0},{"$f":"Singles!S213","v":246},{"$f":"Singles!T213","v":281},{"$f":"Singles!U213","v":371},null,{"$f":"Singles!V213","v":898},{"$f":"Singles!W213","v":0},{"$f":"Singles!X213","v":898.03712810000002},null,null,null,null,null,null,null,null,null,null,null,null,null,null,null,null,null,null,null,null,"Fiona Maguire"]
[null,14,{"$f":"Singles!O214","v":"Minni Hiltunen"},{"$f":"Singles!P214","v":"DIT"},{"$f":"Singles!Q214","v":0},{"$f":"Singles!R214","v":0},{"$f":"Singles!S214","v":0},{"$f":"Singles!T214","v":432},{"$f":"Singles!U214","v":389},null,{"$f":"Singles!V214","v":821},{"$f":"Singles!W214","v":0},{"$f":"Singles!X214","v":821.04323890000001},null,null,null,null,null,null,null,null,null,null,null,null,null,null,null,null,null,null,null,null,"Minni Hiltunen"]
[null,15,{"$f":"Singles!O215","v":"Bruna Duarte"},{"$f":"Singles!P215","v":"DIT"},{"$f":"Singles!Q215","v":0},{"$f":"Singles!R215","v":0},{"$f":"Singles!S215","v":0},{"$f":"Singles!T215","v":303},{"$f":"Singles!U215","v":421},null,{"$f":"Singles!V215","v":724},{"$f":"Singles!W215","v":0},{"$f":"Singles!X215","v":724.04213030000005},null,null,null,null,null,null,null,null,null,null,null,null,null,null,null,null,null,null,null,null,"Bruna Duarte"]
[null,16,{"$f":"Singles!O216","v":"Maria Borck"},{"$f":"Singles!P216","v":"UL"},{"$f":"Singles!Q216","v":239},{"$f":"Singles!R216","v":0},{"$f":"Singles!S216","v":231},{"$f":"Singles!T216","v":0},{"$f":"Singles!U216","v":232},null,{"$f":"Singles!V216","v":702},{"$f":"Singles!W216","v":0},{"$f":"Singles!X216","v":702.02392320000001},null,null,null,null,null,null,null,null,null,null,null,null,null,null,null,null,null,null,null,null,"Maria Borck"]
[null,17,{"$f":"Singles!O217","v":"Laura Ciesa"},{"$f":"Singles!P217","v":"UL"},{"$f":"Singles!Q217","v":0},{"$f":"Singles!R217","v":0},{"$f":"Singles!S217","v":0},{"$f":"Singles!T217","v":0},{"$f":"Singles!U217","v":453},null,{"$f":"Singles!V217","v":453},{"$f":"Singles!W217","v":0},{"$f":"Singles!X217","v":453.0453},null,null,null,null,null,null,null,null,null,null,null,null,null,null,null,null,null,null,null,null,"Laura Ciesa"]
[null,18,{"$f":"Singles!O218","v":"Vanessa Flood"},{"$f":"Singles!P218","v":"DIT"},{"$f":"Singles!Q218","v":0},{"$f":"Singles!R218","v":0},{"$f":"Singles!S218","v":0},{"$f":"Singles!T218","v":444},{"$f":"Singles!U218","v":0},null,{"$f":"Singles!V218","v":444},{"$f":"Singles!W218","v":0},{"$f":"Singles!X218","v":444.0444},null,null,null,null,null,null,null,null,null,null,null,null,null,null,null,null,null,null,null,null,"Vanessa Flood"]
[null,19,{"$f":"Singles!O219","v":"Anna Bergert"},{"$f":"Singles!P219","v":"DKIT"},{"$f":"Singles!Q219","v":0},{"$f":"Singles!R219","v":383},{"$f":"Singles!S219","v":0},{"$f":"Singles!T219","v":0},{"$f":"Singles!U219","v":0},null,{"$f":"Singles!V219","v":383},{"$f":"Singles!W219","v":0},{"$f":"Singles!X219","v":383.03829999999999},null,null,null,null,null,null,null,null,null,null,null,null,null,null,null,null,null,null,null,null,"Anna Bergert"]
[null,20,{"$f":"Singles!O220","v":"Zahratulfatin Mohd Mahfoz"},{"$f":"Singles!P220","v":"RCSI"},{"$f":"Singles!Q220","v":382},{"$f":"Singles!R220","v":0},{"$f":"Singles!S220","v":0},{"$f":"Singles!T220","v":0},{"$f":"Singles!U220","v":0},null,{"$f":"Singles!V220","v":382},{"$f":"Singles!W220","v":0},{"$f":"Singles!X220","v":382.03820000000002},null,null,null,null,null,null,null,null,null,null,null,null,null,null,null,null,null,null,null,null,"Zahratulfatin Mohd Mahfoz"]
[null,21,{"$f":"Singles!O221","v":"Ozeane Zeis"},{"$f":"Singles!P221","v":"UL"},{"$f":"Singles!Q221","v":0},{"$f":"Singles!R221","v":0},{"$f":"Singles!S221","v":0},{"$f":"Singles!T221","v":0},{"$f":"Singles!U221","v":288},null,{"$f":"Singles!V221","v":288},{"$f":"Singles!W221","v":0},{"$f":"Singles!X221","v":288.02879999999999},null,null,null,null,null,null,null,null,null,null,null,null,null,null,null,null,null,null,null,null,"Ozeane Zeis"]
[null,22,{"$f":"Singles!O222","v":"Marta Jurczak"},{"$f":"Singles!P222","v":"DUAC"},{"$f":"Singles!Q222","v":0},{"$f":"Singles!R222","v":0},{"$f":"Singles!S222","v":0},{"$f":"Singles!T222","v":0},{"$f":"Singles!U222","v":284},null,{"$f":"Singles!V222","v":284},{"$f":"Singles!W222","v":0},{"$f":"Singles!X222","v":284.02839999999998},null,null,null,null,null,null,null,null,null,null,null,null,null,null,null,null,null,null,null,null,"Marta Jurczak"]
[null,23,{"$f":"Singles!O223","v":"Nor Fatin Farhani"},{"$f":"Singles!P223","v":"RCSI"},{"$f":"Singles!Q223","v":0},{"$f":"Singles!R223","v":0},{"$f":"Singles!S223","v":267},{"$f":"Singles!T223","v":0},{"$f":"Singles!U223","v":0},null,{"$f":"Singles!V223","v":267},{"$f":"Singles!W223","v":0},{"$f":"Singles!X223","v":267.02670000000001},null,null,null,null,null,null,null,null,null,null,null,null,null,null,null,null,null,null,null,null,"Nor Fatin Farhani"]
[null,24,{"$f":"Singles!O224","v":"Martha Chege"},{"$f":"Singles!P224","v":"UU"},{"$f":"Singles!Q224","v":0},{"$f":"Singles!R224","v":0},{"$f":"Singles!S224","v":0},{"$f":"Singles!T224","v":201},{"$f":"Singles!U224","v":0},null,{"$f":"Singles!V224","v":201},{"$f":"Singles!W224","v":0},{"$f":"Singles!X224","v":201.02010000000001},null,null,null,null,null,null,null,null,null,null,null,null,null,null,null,null,null,null,null,null,"Martha Chege"]
[null,25,{"$f":"Singles!O225","v":"Apoorva Kashyap"},{"$f":"Singles!P225","v":"UU"},{"$f":"Singles!Q225","v":0},{"$f":"Singles!R225","v":0},{"$f":"Singles!S225","v":0},{"$f":"Singles!T225","v":200},{"$f":"Singles!U225","v":0},null,{"$f":"Singles!V225","v":200},{"$f":"Singles!W225","v":0},{"$f":"Singles!X225","v":200.02},null,null,null,null,null,null,null,null,null,null,null,null,null,null,null,null,null,null,null,null,"Apoorva Kashyap"]
[null,26,{"$f":"Singles!O226","v":"Raja Nur Iyliani"},{"$f":"Singles!P226","v":"RCSI"},{"$f":"Singles!Q226","v":0},{"$f":"Singles!R226","v":0},{"$f":"Singles!S226","v":190},{"$f":"Singles!T226","v":0},{"$f":"Singles!U226","v":0},null,{"$f":"Singles!V226","v":190},{"$f":"Singles!W226","v":0},{"$f":"Singles!X226","v":190.01900000000001},null,null,null,null,null,null,null,null,null,null,null,null,null,null,null,null,null,null,null,null,"Raja Nur Iyliani"]
[null,27,{"$f":"Singles!O227","v":"Nadia Rodgers"},{"$f":"Singles!P227","v":"UU"},{"$f":"Singles!Q227","v":0},{"$f":"Singles!R227","v":0},{"$f":"Singles!S227","v":0},{"$f":"Singles!T227","v":187},{"$f":"Singles!U227","v":0},null,{"$f":"Singles!V227","v":187},{"$f":"Singles!W227","v":0},{"$f":"Singles!X227","v":187.0187},null,null,null,null,null,null,null,null,null,null,null,null,null,null,null,null,null,null,null,null,"Nadia Rodgers"]
[null,28,{"$f":"Singles!O228","v":"Bronwyn Berkeley"},{"$f":"Singles!P228","v":"DUAC"},{"$f":"Singles!Q228","v":0},{"$f":"Singles!R228","v":121},{"$f":"Singles!S228","v":0},{"$f":"Singles!T228","v":0},{"$f":"Singles!U228","v":0},null,{"$f":"Singles!V228","v":121},{"$f":"Singles!W228","v":0},{"$f":"Singles!X228","v":121.0121},null,null,null,null,null,null,null,null,null,null,null,null,null,null,null,null,null,null,null,null,"Bronwyn Berkeley"]
[null,29,{"$f":"Singles!O229","v":"Maeve Ruan"},{"$f":"Singles!P229","v":"UCD"},{"$f":"Singles!Q229","v":0},{"$f":"Singles!R229","v":0},{"$f":"Singles!S229","v":0},{"$f":"Singles!T229","v":70},{"$f":"Singles!U229","v":0},null,{"$f":"Singles!V229","v":70},{"$f":"Singles!W229","v":0},{"$f":"Singles!X229","v":70.007000000000005},null,null,null,null,null,null,null,null,null,null,null,null,null,null,null,null,null,null,null,null,"Maeve Ruan"]
[null,30,{"$f":"Singles!O230","v":0},{"$f":"Singles!P230","v":"TBC"},{"$f":"Singles!Q230","v":"TBC"},{"$f":"Singles!R230","v":"TBC"},{"$f":"Singles!S230","v":"TBC"},{"$f":"Singles!T230","v":"TBC"},{"$f":"Singles!U230","v":"TBC"},null,{"$f":"Singles!V230","v":0},{"$f":"Singles!W230","v":0},{"$f":"Singles!X230","v":0},null,null,null,null,null,null,null,null,null,null,null,null,null,null,null,null,null,null,null,null,0]
[null,31,{"$f":"Singles!O231","v":0},{"$f":"Singles!P231","v":"TBC"},{"$f":"Singles!Q231","v":"TBC"},{"$f":"Singles!R231","v":"TBC"},{"$f":"Singles!S231","v":"TBC"},{"$f":"Singles!T231","v":"TBC"},{"$f":"Singles!U231","v":"TBC"},null,{"$f":"Singles!V231","v":0},{"$f":"Singles!W231","v":0},{"$f":"Singles!X231","v":0},null,null,null,null,null,null,null,null,null,null,null,null,null,null,null,null,null,null,null,null,0]
[null,32,{"$f":"Singles!O232","v":0},{"$f":"Singles!P232","v":"TBC"},{"$f":"Singles!Q232","v":"TBC"},{"$f":"Singles!R232","v":"TBC"},{"$f":"Singles!S232","v":"TBC"},{"$f":"Singles!T232","v":"TBC"},{"$f":"Singles!U232","v":"TBC"},null,{"$f":"Singles!V232","v":0},{"$f":"Singles!W232","v":0},{"$f":"Singles!X232","v":0},null,null,null,null,null,null,null,null,null,null,null,null,null,null,null,null,null,null,null,null,0]
[null,33,{"$f":"Singles!O233","v":0},{"$f":"Singles!P233","v":"TBC"},{"$f":"Singles!Q233","v":"TBC"},{"$f":"Singles!R233","v":"TBC"},{"$f":"Singles!S233","v":"TBC"},{"$f":"Singles!T233","v":"TBC"},{"$f":"Singles!U233","v":"TBC"},null,{"$f":"Singles!V233","v":0},{"$f":"Singles!W233","v":0},{"$f":"Singles!X233","v":0},null,null,null,null,null,null,null,null,null,null,null,null,null,null,null,null,null,null,null,null,{"$f":"C39","v":0}]
[null,34,{"$f":"Singles!O234","v":0},{"$f":"Singles!P234","v":"TBC"},{"$f":"Singles!Q234","v":"TBC"},{"$f":"Singles!R234","v":"TBC"},{"$f":"Singles!S234","v":"TBC"},{"$f":"Singles!T234","v":"TBC"},{"$f":"Singles!U234","v":"TBC"},null,{"$f":"Singles!V234","v":0},{"$f":"Singles!W234","v":0},{"$f":"Singles!X234","v":0},null,null,null,null,null,null,null,null,null,null,null,null,null,null,null,null,null,null,null,null,0]
[null,35,{"$f":"Singles!O235","v":0},{"$f":"Singles!P235","v":"TBC"},{"$f":"Singles!Q235","v":"TBC"},{"$f":"Singles!R235","v":"TBC"},{"$f":"Singles!S235","v":"TBC"},{"$f":"Singles!T235","v":"TBC"},{"$f":"Singles!U235","v":"TBC"},null,{"$f":"Singles!V235","v":0},{"$f":"Singles!W235","v":0},{"$f":"Singles!X235","v":0},null,null,null,null,null,null,null,null,null,null,null,null,null,null,null,null,null,null,null,null,0]
[null,36,{"$f":"Singles!O236","v":0},{"$f":"Singles!P236","v":"TBC"},{"$f":"Singles!Q236","v":"TBC"},{"$f":"Singles!R236","v":"TBC"},{"$f":"Singles!S236","v":"TBC"},{"$f":"Singles!T236","v":"TBC"},{"$f":"Singles!U236","v":"TBC"},null,{"$f":"Singles!V236","v":0},{"$f":"Singles!W236","v":0},{"$f":"Singles!X236","v":0},null,null,null,null,null,null,null,null,null,null,null,null,null,null,null,null,null,null,null,null,0]
[null,37,{"$f":"Singles!O237","v":0},{"$f":"Singles!P237","v":"TBC"},{"$f":"Singles!Q237","v":"TBC"},{"$f":"Singles!R237","v":"TBC"},{"$f":"Singles!S237","v":"TBC"},{"$f":"Singles!T237","v":"TBC"},{"$f":"Singles!U237","v":"TBC"},null,{"$f":"Singles!V237","v":0},{"$f":"Singles!W237","v":0},{"$f":"Singles!X237","v":0},null,null,null,null,null,null,null,null,null,null,null,null,null,null,null,null,null,null,null,null,0]
[null,38,{"$f":"Singles!O238","v":0},{"$f":"Singles!P238","v":"TBC"},{"$f":"Singles!Q238","v":"TBC"},{"$f":"Singles!R238","v":"TBC"},{"$f":"Singles!S238","v":"TBC"},{"$f":"Singles!T238","v":"TBC"},{"$f":"Singles!U238","v":"TBC"},null,{"$f":"Singles!V238","v":0},{"$f":"Singles!W238","v":0},{"$f":"Singles!X238","v":0},null,null,null,null,null,null,null,null,null,null,null,null,null,null,null,null,null,null,null,null,0]
[null,39,{"$f":"Singles!O239","v":0},{"$f":"Singles!P239","v":"TBC"},{"$f":"Singles!Q239","v":"TBC"},{"$f":"Singles!R239","v":"TBC"},{"$f":"Singles!S239","v":"TBC"},{"$f":"Singles!T239","v":"TBC"},{"$f":"Singles!U239","v":"TBC"},null,{"$f":"Singles!V239","v":0},{"$f":"Singles!W239","v":0},{"$f":"Singles!X239","v":0},null,null,null,null,null,null,null,null,null,null,null,null,null,null,null,null,null,null,null,null,0]
[null,40,{"$f":"Singles!O240","v":0},{"$f":"Singles!P240","v":"TBC"},{"$f":"Singles!Q240","v":"TBC"},{"$f":"Singles!R240","v":"TBC"},{"$f":"Singles!S240","v":"TBC"},{"$f":"Singles!T240","v":"TBC"},{"$f":"Singles!U240","v":"TBC"},null,{"$f":"Singles!V240","v":0},{"$f":"Singles!W240","v":0},{"$f":"Singles!X240","v":0},null,null,null,null,null,null,null,null,null,null,null,null,null,null,null,null,null,null,null,null,0]
[null,41,{"$f":"Singles!O241","v":0},{"$f":"Singles!P241","v":"TBC"},{"$f":"Singles!Q241","v":"TBC"},{"$f":"Singles!R241","v":"TBC"},{"$f":"Singles!S241","v":"TBC"},{"$f":"Singles!T241","v":"TBC"},{"$f":"Singles!U241","v":"TBC"},null,{"$f":"Singles!V241","v":0},{"$f":"Singles!W241","v":0},{"$f":"Singles!X241","v":0},null,null,null,null,null,null,null,null,null,null,null,null,null,null,null,null,null,null,null,null,0]
[null,42,{"$f":"Singles!O242","v":0},{"$f":"Singles!P242","v":"TBC"},{"$f":"Singles!Q242","v":"TBC"},{"$f":"Singles!R242","v":"TBC"},{"$f":"Singles!S242","v":"TBC"},{"$f":"Singles!T242","v":"TBC"},{"$f":"Singles!U242","v":"TBC"},null,{"$f":"Singles!V242","v":0},{"$f":"Singles!W242","v":0},{"$f":"Singles!X242","v":0},null,null,null,null,null,null,null,null,null,null,null,null,null,null,null,null,null,null,null,null,0]
[null,43,{"$f":"Singles!O243","v":0},{"$f":"Singles!P243","v":"TBC"},{"$f":"Singles!Q243","v":"TBC"},{"$f":"Singles!R243","v":"TBC"},{"$f":"Singles!S243","v":"TBC"},{"$f":"Singles!T243","v":"TBC"},{"$f":"Singles!U243","v":"TBC"},null,{"$f":"Singles!V243","v":0},{"$f":"Singles!W243","v":0},{"$f":"Singles!X243","v":0},null,null,null,null,null,null,null,null,null,null,null,null,null,null,null,null,null,null,null,null,0]
[null,44,{"$f":"Singles!O244","v":0},{"$f":"Singles!P244","v":"TBC"},{"$f":"Singles!Q244","v":"TBC"},{"$f":"Singles!R244","v":"TBC"},{"$f":"Singles!S244","v":"TBC"},{"$f":"Singles!T244","v":"TBC"},{"$f":"Singles!U244","v":"TBC"},null,{"$f":"Singles!V244","v":0},{"$f":"Singles!W244","v":0},{"$f":"Singles!X244","v":0},null,null,null,null,null,null,null,null,null,null,null,null,null,null,null,null,null,null,null,null,0]
[null,45,{"$f":"Singles!O245","v":0},{"$f":"Singles!P245","v":"TBC"},{"$f":"Singles!Q245","v":"TBC"},{"$f":"Singles!R245","v":"TBC"},{"$f":"Singles!S245","v":"TBC"},{"$f":"Singles!T245","v":"TBC"},{"$f":"Singles!U245","v":"TBC"},null,{"$f":"Singles!V245","v":0},{"$f":"Singles!W245","v":0},{"$f":"Singles!X245","v":0},null,null,null,null,null,null,null,null,null,null,null,null,null,null,null,null,null,null,null,null,0]
[null,46,{"$f":"Singles!O246","v":0},{"$f":"Singles!P246","v":"TBC"},{"$f":"Singles!Q246","v":"TBC"},{"$f":"Singles!R246","v":"TBC"},{"$f":"Singles!S246","v":"TBC"},{"$f":"Singles!T246","v":"TBC"},{"$f":"Singles!U246","v":"TBC"},null,{"$f":"Singles!V246","v":0},{"$f":"Singles!W246","v":0},{"$f":"Singles!X246","v":0},null,null,null,null,null,null,null,null,null,null,null,null,null,null,null,null,null,null,null,null,0]
[null,47,{"$f":"Singles!O247","v":0},{"$f":"Singles!P247","v":"TBC"},{"$f":"Singles!Q247","v":"TBC"},{"$f":"Singles!R247","v":"TBC"},{"$f":"Singles!S247","v":"TBC"},{"$f":"Singles!T247","v":"TBC"},{"$f":"Singles!U247","v":"TBC"},null,{"$f":"Singles!V247","v":0},{"$f":"Singles!W247","v":0},{"$f":"Singles!X247","v":0},null,null,null,null,null,null,null,null,null,null,null,null,null,null,null,null,null,null,null,null,0]
[null,48,{"$f":"Singles!O248","v":0},{"$f":"Singles!P248","v":"TBC"},{"$f":"Singles!Q248","v":"TBC"},{"$f":"Singles!R248","v":"TBC"},{"$f":"Singles!S248","v":"TBC"},{"$f":"Singles!T248","v":"TBC"},{"$f":"Singles!U248","v":"TBC"},null,{"$f":"Singles!V248","v":0},{"$f":"Singles!W248","v":0},{"$f":"Singles!X248","v":0},null,null,null,null,null,null,null,null,null,null,null,null,null,null,null,null,null,null,null,null,0]
[null,49,{"$f":"Singles!O249","v":0},{"$f":"Singles!P249","v":"TBC"},{"$f":"Singles!Q249","v":"TBC"},{"$f":"Singles!R249","v":"TBC"},{"$f":"Singles!S249","v":"TBC"},{"$f":"Singles!T249","v":"TBC"},{"$f":"Singles!U249","v":"TBC"},null,{"$f":"Singles!V249","v":0},{"$f":"Singles!W249","v":0},{"$f":"Singles!X249","v":0},null,null,null,null,null,null,null,null,null,null,null,null,null,null,null,null,null,null,null,null,0]
[null,50,{"$f":"Singles!O250","v":0},{"$f":"Singles!P250","v":"TBC"},{"$f":"Singles!Q250","v":"TBC"},{"$f":"Singles!R250","v":"TBC"},{"$f":"Singles!S250","v":"TBC"},{"$f":"Singles!T250","v":"TBC"},{"$f":"Singles!U250","v":"TBC"},null,{"$f":"Singles!V250","v":0},{"$f":"Singles!W250","v":0},{"$f":"Singles!X250","v":0},null,null,null,null,null,null,null,null,null,null,null,null,null,null,null,null,null,null,null,null,0]
[null,51,{"$f":"Singles!O251","v":0},{"$f":"Singles!P251","v":"TBC"},{"$f":"Singles!Q251","v":"TBC"},{"$f":"Singles!R251","v":"TBC"},{"$f":"Singles!S251","v":"TBC"},{"$f":"Singles!T251","v":"TBC"},{"$f":"Singles!U251","v":"TBC"},null,{"$f":"Singles!V251","v":0},{"$f":"Singles!W251","v":0},{"$f":"Singles!X251","v":0},null,null,null,null,null,null,null,null,null,null,null,null,null,null,null,null,null,null,null,null,0]
[null,52,{"$f":"Singles!O252","v":0},{"$f":"Singles!P252","v":"TBC"},{"$f":"Singles!Q252","v":"TBC"},{"$f":"Singles!R252","v":"TBC"},{"$f":"Singles!S252","v":"TBC"},{"$f":"Singles!T252","v":"TBC"},{"$f":"Singles!U252","v":"TBC"},null,{"$f":"Singles!V252","v":0},{"$f":"Singles!W252","v":0},{"$f":"Singles!X252","v":0},null,null,null,null,null,null,null,null,null,null,null,null,null,null,null,null,null,null,null,null,0]
[null,53,{"$f":"Singles!O253","v":0},{"$f":"Singles!P253","v":"TBC"},{"$f":"Singles!Q253","v":"TBC"},{"$f":"Singles!R253","v":"TBC"},{"$f":"Singles!S253","v":"TBC"},{"$f":"Singles!T253","v":"TBC"},{"$f":"Singles!U253","v":"TBC"},null,{"$f":"Singles!V253","v":0},{"$f":"Singles!W253","v":0},{"$f":"Singles!X253","v":0},null,null,null,null,null,null,null,null,null,null,null,null,null,null,null,null,null,null,null,null,0]
[null,54,{"$f":"Singles!O254","v":0},{"$f":"Singles!P254","v":"TBC"},{"$f":"Singles!Q254","v":"TBC"},{"$f":"Singles!R254","v":"TBC"},{"$f":"Singles!S254","v":"TBC"},{"$f":"Singles!T254","v":"TBC"},{"$f":"Singles!U254","v":"TBC"},null,{"$f":"Singles!V254","v":0},{"$f":"Singles!W254","v":0},{"$f":"Singles!X254","v":0},null,null,null,null,null,null,null,null,null,null,null,null,null,null,null,null,null,null,null,null,0]
[null,55,{"$f":"Singles!O255","v":0},{"$f":"Singles!P255","v":"TBC"},{"$f":"Singles!Q255","v":"TBC"},{"$f":"Singles!R255","v":"TBC"},{"$f":"Singles!S255","v":"TBC"},{"$f":"Singles!T255","v":"TBC"},{"$f":"Singles!U255","v":"TBC"},null,{"$f":"Singles!V255","v":0},{"$f":"Singles!W255","v":0},{"$f":"Singles!X255","v":0},null,null,null,null,null,null,null,null,null,null,null,null,null,null,null,null,null,null,null,null,0]
[null,56,{"$f":"Singles!O256","v":0},{"$f":"Singles!P256","v":"TBC"},{"$f":"Singles!Q256","v":"TBC"},{"$f":"Singles!R256","v":"TBC"},{"$f":"Singles!S256","v":"TBC"},{"$f":"Singles!T256","v":"TBC"},{"$f":"Singles!U256","v":"TBC"},null,{"$f":"Singles!V256","v":0},{"$f":"Singles!W256","v":0},{"$f":"Singles!X256","v":0},null,null,null,null,null,null,null,null,null,null,null,null,null,null,null,null,null,null,null,null,0]
[null,57,{"$f":"Singles!O257","v":0},{"$f":"Singles!P257","v":"TBC"},{"$f":"Singles!Q257","v":"TBC"},{"$f":"Singles!R257","v":"TBC"},{"$f":"Singles!S257","v":"TBC"},{"$f":"Singles!T257","v":"TBC"},{"$f":"Singles!U257","v":"TBC"},null,{"$f":"Singles!V257","v":0},{"$f":"Singles!W257","v":0},{"$f":"Singles!X257","v":0},null,null,null,null,null,null,null,null,null,null,null,null,null,null,null,null,null,null,null,null,0]
[null,58,{"$f":"Singles!O258","v":0},{"$f":"Singles!P258","v":"TBC"},{"$f":"Singles!Q258","v":"TBC"},{"$f":"Singles!R258","v":"TBC"},{"$f":"Singles!S258","v":"TBC"},{"$f":"Singles!T258","v":"TBC"},{"$f":"Singles!U258","v":"TBC"},null,{"$f":"Singles!V258","v":0},{"$f":"Singles!W258","v":0},{"$f":"Singles!X258","v":0},null,null,null,null,null,null,null,null,null,null,null,null,null,null,null,null,null,null,null,null,0]
[null,59,{"$f":"Singles!O259","v":0},{"$f":"Singles!P259","v":"TBC"},{"$f":"Singles!Q259","v":"TBC"},{"$f":"Singles!R259","v":"TBC"},{"$f":"Singles!S259","v":"TBC"},{"$f":"Singles!T259","v":"TBC"},{"$f":"Singles!U259","v":"TBC"},null,{"$f":"Singles!V259","v":0},{"$f":"Singles!W259","v":0},{"$f":"Singles!X259","v":0},null,null,null,null,null,null,null,null,null,null,null,null,null,null,null,null,null,null,null,null,0]
[null,60,{"$f":"Singles!O260","v":0},{"$f":"Singles!P260","v":"TBC"},{"$f":"Singles!Q260","v":"TBC"},{"$f":"Singles!R260","v":"TBC"},{"$f":"Singles!S260","v":"TBC"},{"$f":"Singles!T260","v":"TBC"},{"$f":"Singles!U260","v":"TBC"},null,{"$f":"Singles!V260","v":0},{"$f":"Singles!W260","v":0},{"$f":"Singles!X260","v":0},null,null,null,null,null,null,null,null,null,null,null,null,null,null,null,null,null,null,null,null,0]
[null,61,{"$f":"Singles!O261","v":0},{"$f":"Singles!P261","v":"TBC"},{"$f":"Singles!Q261","v":"TBC"},{"$f":"Singles!R261","v":"TBC"},{"$f":"Singles!S261","v":"TBC"},{"$f":"Singles!T261","v":"TBC"},{"$f":"Singles!U261","v":"TBC"},null,{"$f":"Singles!V261","v":0},{"$f":"Singles!W261","v":0},{"$f":"Singles!X261","v":0},null,null,null,null,null,null,null,null,null,null,null,null,null,null,null,null,null,null,null,null,0]
[null,62,{"$f":"Singles!O262","v":0},{"$f":"Singles!P262","v":"TBC"},{"$f":"Singles!Q262","v":"TBC"},{"$f":"Singles!R262","v":"TBC"},{"$f":"Singles!S262","v":"TBC"},{"$f":"Singles!T262","v":"TBC"},{"$f":"Singles!U262","v":"TBC"},null,{"$f":"Singles!V262","v":0},{"$f":"Singles!W262","v":0},{"$f":"Singles!X262","v":0},null,null,null,null,null,null,null,null,null,null,null,null,null,null,null,null,null,null,null,null,0]
[null,63,{"$f":"Singles!O263","v":0},{"$f":"Singles!P263","v":"TBC"},{"$f":"Singles!Q263","v":"TBC"},{"$f":"Singles!R263","v":"TBC"},{"$f":"Singles!S263","v":"TBC"},{"$f":"Singles!T263","v":"TBC"},{"$f":"Singles!U263","v":"TBC"},null,{"$f":"Singles!V263","v":0},{"$f":"Singles!W263","v":0},{"$f":"Singles!X263","v":0},null,null,null,null,null,null,null,null,null,null,null,null,null,null,null,null,null,null,null,null,0]
[null,64,{"$f":"Singles!O264","v":0},{"$f":"Singles!P264","v":"TBC"},{"$f":"Singles!Q264","v":"TBC"},{"$f":"Singles!R264","v":"TBC"},{"$f":"Singles!S264","v":"TBC"},{"$f":"Singles!T264","v":"TBC"},{"$f":"Singles!U264","v":"TBC"},null,{"$f":"Singles!V264","v":0},{"$f":"Singles!W264","v":0},{"$f":"Singles!X264","v":0},null,null,null,null,null,null,null,null,null,null,null,null,null,null,null,null,null,null,null,null,0]
[null,65,{"$f":"Singles!O265","v":0},{"$f":"Singles!P265","v":"TBC"},{"$f":"Singles!Q265","v":"TBC"},{"$f":"Singles!R265","v":"TBC"},{"$f":"Singles!S265","v":"TBC"},{"$f":"Singles!T265","v":"TBC"},{"$f":"Singles!U265","v":"TBC"},null,{"$f":"Singles!V265","v":0},{"$f":"Singles!W265","v":0},{"$f":"Singles!X265","v":0},null,null,null,null,null,null,null,null,null,null,null,null,null,null,null,null,null,null,null,null,0]
[null,66,{"$f":"Singles!O266","v":0},{"$f":"Singles!P266","v":"TBC"},{"$f":"Singles!Q266","v":"TBC"},{"$f":"Singles!R266","v":"TBC"},{"$f":"Singles!S266","v":"TBC"},{"$f":"Singles!T266","v":"TBC"},{"$f":"Singles!U266","v":"TBC"},null,{"$f":"Singles!V266","v":0},{"$f":"Singles!W266","v":0},{"$f":"Singles!X266","v":0},null,null,null,null,null,null,null,null,null,null,null,null,null,null,null,null,null,null,null,null,0]
[null,67,{"$f":"Singles!O267","v":0},{"$f":"Singles!P267","v":"TBC"},{"$f":"Singles!Q267","v":"TBC"},{"$f":"Singles!R267","v":"TBC"},{"$f":"Singles!S267","v":"TBC"},{"$f":"Singles!T267","v":"TBC"},{"$f":"Singles!U267","v":"TBC"},null,{"$f":"Singles!V267","v":0},{"$f":"Singles!W267","v":0},{"$f":"Singles!X267","v":0},null,null,null,null,null,null,null,null,null,null,null,null,null,null,null,null,null,null,null,null,0]
[null,68,{"$f":"Singles!O268","v":0},{"$f":"Singles!P268","v":"TBC"},{"$f":"Singles!Q268","v":"TBC"},{"$f":"Singles!R268","v":"TBC"},{"$f":"Singles!S268","v":"TBC"},{"$f":"Singles!T268","v":"TBC"},{"$f":"Singles!U268","v":"TBC"},null,{"$f":"Singles!V268","v":0},{"$f":"Singles!W268","v":0},{"$f":"Singles!X268","v":0},null,null,null,null,null,null,null,null,null,null,null,null,null,null,null,null,null,null,null,null,0]
[null,69,{"$f":"Singles!O269","v":0},{"$f":"Singles!P269","v":"TBC"},{"$f":"Singles!Q269","v":"TBC"},{"$f":"Singles!R269","v":"TBC"},{"$f":"Singles!S269","v":"TBC"},{"$f":"Singles!T269","v":"TBC"},{"$f":"Singles!U269","v":"TBC"},null,{"$f":"Singles!V269","v":0},{"$f":"Singles!W269","v":0},{"$f":"Singles!X269","v":0},null,null,null,null,null,null,null,null,null,null,null,null,null,null,null,null,null,null,null,null,0]
[null,70,{"$f":"Singles!O270","v":0},{"$f":"Singles!P270","v":"TBC"},{"$f":"Singles!Q270","v":"TBC"},{"$f":"Singles!R270","v":"TBC"},{"$f":"Singles!S270","v":"TBC"},{"$f":"Singles!T270","v":"TBC"},{"$f":"Singles!U270","v":"TBC"},null,{"$f":"Singles!V270","v":0},{"$f":"Singles!W270","v":0},{"$f":"Singles!X270","v":0},null,null,null,null,null,null,null,null,null,null,null,null,null,null,null,null,null,null,null,null,0]
[null,71,{"$f":"Singles!O271","v":0},{"$f":"Singles!P271","v":"TBC"},{"$f":"Singles!Q271","v":"TBC"},{"$f":"Singles!R271","v":"TBC"},{"$f":"Singles!S271","v":"TBC"},{"$f":"Singles!T271","v":"TBC"},{"$f":"Singles!U271","v":"TBC"},null,{"$f":"Singles!V271","v":0},{"$f":"Singles!W271","v":0},{"$f":"Singles!X271","v":0},null,null,null,null,null,null,null,null,null,null,null,null,null,null,null,null,null,null,null,null,0]
[null,72,{"$f":"Singles!O272","v":0},{"$f":"Singles!P272","v":"TBC"},{"$f":"Singles!Q272","v":"TBC"},{"$f":"Singles!R272","v":"TBC"},{"$f":"Singles!S272","v":"TBC"},{"$f":"Singles!T272","v":"TBC"},{"$f":"Singles!U272","v":"TBC"},null,{"$f":"Singles!V272","v":0},{"$f":"Singles!W272","v":0},{"$f":"Singles!X272","v":0},null,null,null,null,null,null,null,null,null,null,null,null,null,null,null,null,null,null,null,null,0]
[null,73,{"$f":"Singles!O273","v":0},{"$f":"Singles!P273","v":"TBC"},{"$f":"Singles!Q273","v":"TBC"},{"$f":"Singles!R273","v":"TBC"},{"$f":"Singles!S273","v":"TBC"},{"$f":"Singles!T273","v":"TBC"},{"$f":"Singles!U273","v":"TBC"},null,{"$f":"Singles!V273","v":0},{"$f":"Singles!W273","v":0},{"$f":"Singles!X273","v":0},null,null,null,null,null,null,null,null,null,null,null,null,null,null,null,null,null,null,null,null,0]
[null,74,{"$f":"Singles!O274","v":0},{"$f":"Singles!P274","v":"TBC"},{"$f":"Singles!Q274","v":"TBC"},{"$f":"Singles!R274","v":"TBC"},{"$f":"Singles!S274","v":"TBC"},{"$f":"Singles!T274","v":"TBC"},{"$f":"Singles!U274","v":"TBC"},null,{"$f":"Singles!V274","v":0},{"$f":"Singles!W274","v":0},{"$f":"Singles!X274","v":0},null,null,null,null,null,null,null,null,null,null,null,null,null,null,null,null,null,null,null,null,0]
[null,75,{"$f":"Singles!O275","v":0},{"$f":"Singles!P275","v":"TBC"},{"$f":"Singles!Q275","v":"TBC"},{"$f":"Singles!R275","v":"TBC"},{"$f":"Singles!S275","v":"TBC"},{"$f":"Singles!T275","v":"TBC"},{"$f":"Singles!U275","v":"TBC"},null,{"$f":"Singles!V275","v":0},{"$f":"Singles!W275","v":0},{"$f":"Singles!X275","v":0},null,null,null,null,null,null,null,null,null,null,null,null,null,null,null,null,null,null,null,null,0]
[{"$f":"$D$7","v":"DKIT"}]

{"sheet":"RIM","index":4,"n_rows":82,"n_cols":34,"rows_kept":82,"cut":false,"hidden":false,"merged":[[81,0,81,13],[0,0,0,13],[1,13,80,13],[1,0,80,0],[4,1,4,8],[4,10,4,12],[1,4,1,8],[1,10,1,12],[1,1,3,3],[2,10,3,10],[2,11,3,11],[2,12,3,12],[1,9,80,9]]}
[{"$f":"$D$7","v":"UCD"}]
[{"$f":"$D$7","v":"UCD"},"Male Intermediate Recurve",null,null,"Host Club",null,null,null,null,{"$f":"$D$7","v":"UCD"},"Scores",null,null,"UCD",null,null,null,null,null,null,null,null,null,null,null,null,null,null,null,null,null,null,null,{"$f":"AH7","v":"Paul Beirne"}]
[null,null,null,null,{"$f":"Entries!K6","v":"UL IV"},{"$f":"Entries!K7","v":"DkIT IV"},{"$f":"Entries!K8","v":"GMIT IV"},{"$f":"Entries!K9","v":"DCU IV"},{"$f":"Entries!K10","v":"NUIG IV"},null,"Total","Lowest","League"]
[]
[null,"UCD",null,null,null,null,null,null,null,null,"UCD"]
[null,null,"Name","College",{"$f":"Entries!K6","v":"UL IV"},{"$f":"Entries!K7","v":"DkIT IV"},{"$f":"Entries!K8","v":"GMIT IV"},{"$f":"Entries!K9","v":"DCU IV"},{"$f":"Entries!K10","v":"NUIG IV"},null,"Total","Lowest","League total"]
[null,1,{"$f":"Singles!AB207","v":"Paul Beirne"},{"$f":"Singles!AC207","v":"UCD"},{"$f":"Singles!AD207","v":454},{"$f":"Singles!AE207","v":426},{"$f":"Singles!AF207","v":440},{"$f":"Singles!AG207","v":0},{"$f":"Singles!AH207","v":500},null,{"$f":"Singles!AI207","v":1820},{"$f":"Singles!AJ207","v":0},{"$f":"Singles!AK207","v":1820.0500454},null,null,null,null,null,null,null,null,null,null,null,null,null,null,null,null,null,null,null,null,{"$f":"C7","v":"Paul Beirne"}]
[null,2,{"$f":"Singles!AB209","v":"Brendan McManus"},{"$f":"Singles!AC209","v":"DCU"},{"$f":"Singles!AD209","v":471},{"$f":"Singles!AE209","v":443},{"$f":"Singles!AF209","v":0},{"$f":"Singles!AG209","v":402},{"$f":"Singles!AH209","v":496},null,{"$f":"Singles!AI209","v":1812},{"$f":"Singles!AJ209","v":0},{"$f":"Singles!AK209","v":1812.0496471000001},null,null,null,null,null,null,null,null,null,null,null,null,null,null,null,null,null,null,null,null,"Brendan McManus"]
[null,3,{"$f":"Singles!AB202","v":"Charles O'Dowd"},{"$f":"Singles!AC202","v":"UCD"},{"$f":"Singles!AD202","v":423},{"$f":"Singles!AE202","v":414},{"$f":"Singles!AF202","v":482},{"$f":"Singles!AG202","v":435},{"$f":"Singles!AH202","v":465},null,{"$f":"Singles!AI202","v":2219},{"$f":"Singles!AJ202","v":414},{"$f":"Singles!AK202","v":1805.0482465},null,null,null,null,null,null,null,null,null,null,null,null,null,null,null,null,null,null,null,null,"Charles O'Dowd"]
[null,4,{"$f":"Singles!AB201","v":"See Qui Ren"},{"$f":"Singles!AC201","v":"DKIT"},{"$f":"Singles!AD201","v":427},{"$f":"Singles!AE201","v":470},{"$f":"Singles!AF201","v":448},{"$f":"Singles!AG201","v":433},{"$f":"Singles!AH201","v":453},null,{"$f":"Singles!AI201","v":2231},{"$f":"Singles!AJ201","v":427},{"$f":"Singles!AK201","v":1804.0470453},null,null,null,null,null,null,null,null,null,null,null,null,null,null,null,null,null,null,null,null,"See Qui Ren"]
[null,5,{"$f":"Singles!AB204","v":"Wai Hong Keet"},{"$f":"Singles!AC204","v":"DKIT"},{"$f":"Singles!AD204","v":416},{"$f":"Singles!AE204","v":460},{"$f":"Singles!AF204","v":455},{"$f":"Singles!AG204","v":423},{"$f":"Singles!AH204","v":410},null,{"$f":"Singles!AI204","v":2164},{"$f":"Singles!AJ204","v":410},{"$f":"Singles!AK204","v":1754.0460455},null,null,null,null,null,null,null,null,null,null,null,null,null,null,null,null,null,null,null,null,"Wai Hong Keet"]
[null,6,{"$f":"Singles!AB203","v":"Frank Stafford"},{"$f":"Singles!AC203","v":"UL"},{"$f":"Singles!AD203","v":440},{"$f":"Singles!AE203","v":432},{"$f":"Singles!AF203","v":448},{"$f":"Singles!AG203","v":432},{"$f":"Singles!AH203","v":433},null,{"$f":"Singles!AI203","v":2185},{"$f":"Singles!AJ203","v":432},{"$f":"Singles!AK203","v":1753.0448439999998},null,null,null,null,null,null,null,null,null,null,null,null,null,null,null,null,null,null,null,null,"Frank Stafford"]
[null,7,{"$f":"Singles!AB205","v":"Kristian Bongo"},{"$f":"Singles!AC205","v":"DIT"},{"$f":"Singles!AD205","v":381},{"$f":"Singles!AE205","v":412},{"$f":"Singles!AF205","v":440},{"$f":"Singles!AG205","v":405},{"$f":"Singles!AH205","v":457},null,{"$f":"Singles!AI205","v":2095},{"$f":"Singles!AJ205","v":381},{"$f":"Singles!AK205","v":1714.0457439999998},null,null,null,null,null,null,null,null,null,null,null,null,null,null,null,null,null,null,null,null,"Kristian Bongo"]
[null,8,{"$f":"Singles!AB206","v":"Joshua Tracey"},{"$f":"Singles!AC206","v":"DIT"},{"$f":"Singles!AD206","v":409},{"$f":"Singles!AE206","v":378},{"$f":"Singles!AF206","v":427},{"$f":"Singles!AG206","v":411},{"$f":"Singles!AH206","v":385},null,{"$f":"Singles!AI206","v":2010},{"$f":"Singles!AJ206","v":378},{"$f":"Singles!AK206","v":1632.0427411000001},null,null,null,null,null,null,null,null,null,null,null,null,null,null,null,null,null,null,null,null,"Joshua Tracey"]
[null,9,{"$f":"Singles!AB208","v":"Conor McCann"},{"$f":"Singles!AC208","v":"GMIT"},{"$f":"Singles!AD208","v":435},{"$f":"Singles!AE208","v":256},{"$f":"Singles!AF208","v":401},{"$f":"Singles!AG208","v":398},{"$f":"Singles!AH208","v":324},null,{"$f":"Singles!AI208","v":1814},{"$f":"Singles!AJ208","v":256},{"$f":"Singles!AK208","v":1558.0435401},null,null,null,null,null,null,null,null,null,null,null,null,null,null,null,null,null,null,null,null,"Conor McCann"]
[null,10,{"$f":"Singles!AB211","v":"Aaron Downes"},{"$f":"Singles!AC211","v":"GMIT"},{"$f":"Singles!AD211","v":0},{"$f":"Singles!AE211","v":392},{"$f":"Singles!AF211","v":391},{"$f":"Singles!AG211","v":388},{"$f":"Singles!AH211","v":330},null,{"$f":"Singles!AI211","v":1501},{"$f":"Singles!AJ211","v":0},{"$f":"Singles!AK211","v":1501.0392391},null,null,null,null,null,null,null,null,null,null,null,null,null,null,null,null,null,null,null,null,"Aaron Downes"]
[null,11,{"$f":"Singles!AB210","v":"Mark Sherlock"},{"$f":"Singles!AC210","v":"GMIT"},{"$f":"Singles!AD210","v":393},{"$f":"Singles!AE210","v":371},{"$f":"Singles!AF210","v":311},{"$f":"Singles!AG210","v":358},{"$f":"Singles!AH210","v":338},null,{"$f":"Singles!AI210","v":1771},{"$f":"Singles!AJ210","v":311},{"$f":"Singles!AK210","v":1460.0393371},null,null,null,null,null,null,null,null,null,null,null,null,null,null,null,null,null,null,null,null,"Mark Sherlock"]
[null,12,{"$f":"Singles!AB212","v":"Philip Early"},{"$f":"Singles!AC212","v":"DCU"},{"$f":"Singles!AD212","v":360},{"$f":"Singles!AE212","v":373},{"$f":"Singles!AF212","v":0},{"$f":"Singles!AG212","v":372},{"$f":"Singles!AH212","v":344},null,{"$f":"Singles!AI212","v":1449},{"$f":"Singles!AJ212","v":0},{"$f":"Singles!AK212","v":1449.0373371999999},null,null,null,null,null,null,null,null,null,null,null,null,null,null,null,null,null,null,null,null,"Philip Early"]
[null,13,{"$f":"Singles!AB214","v":"James Burke"},{"$f":"Singles!AC214","v":"NUIG"},{"$f":"Singles!AD214","v":438},{"$f":"Singles!AE214","v":465},{"$f":"Singles!AF214","v":0},{"$f":"Singles!AG214","v":0},{"$f":"Singles!AH214","v":459},null,{"$f":"Singles!AI214","v":1362},{"$f":"Singles!AJ214","v":0},{"$f":"Singles!AK214","v":1362.0465459},null,null,null,null,null,null,null,null,null,null,null,null,null,null,null,null,null,null,null,null,"James Burke"]
[null,14,{"$f":"Singles!AB215","v":"Luke Blake"},{"$f":"Singles!AC215","v":"UL"},{"$f":"Singles!AD215","v":282},{"$f":"Singles!AE215","v":324},{"$f":"Singles!AF215","v":332},{"$f":"Singles!AG215","v":331},{"$f":"Singles!AH215","v":0},null,{"$f":"Singles!AI215","v":1269},{"$f":"Singles!AJ215","v":0},{"$f":"Singles!AK215","v":1269.0332331000002},null,null,null,null,null,null,null,null,null,null,null,null,null,null,null,null,null,null,null,null,"Luke Blake"]
[null,15,{"$f":"Singles!AB213","v":"Leo Byrne"},{"$f":"Singles!AC213","v":"ITC"},{"$f":"Singles!AD213","v":332},{"$f":"Singles!AE213","v":306},{"$f":"Singles!AF213","v":275},{"$f":"Singles!AG213","v":281},{"$f":"Singles!AH213","v":233},null,{"$f":"Singles!AI213","v":1427},{"$f":"Singles!AJ213","v":233},{"$f":"Singles!AK213","v":1194.0332306},null,null,null,null,null,null,null,null,null,null,null,null,null,null,null,null,null,null,null,null,"Leo Byrne"]
[null,16,{"$f":"Singles!AB216","v":"Yuji Okubo"},{"$f":"Singles!AC216","v":"DCU"},{"$f":"Singles!AD216","v":458},{"$f":"Singles!AE216","v":432},{"$f":"Singles!AF216","v":0},{"$f":"Singles!AG216","v":0},{"$f":"Singles!AH216","v":0},null,{"$f":"Singles!AI216","v":890},{"$f":"Singles!AJ216","v":0},{"$f":"Singles!AK216","v":890.04584320000004},null,null,null,null,null,null,null,null,null,null,null,null,null,null,null,null,null,null,null,null,"Yuji Okubo"]
[null,17,{"$f":"Singles!AB217","v":"Kelvin Yee"},{"$f":"Singles!AC217","v":"DKIT"},{"$f":"Singles!AD217","v":0},{"$f":"Singles!AE217","v":412},{"$f":"Singles!AF217","v":0},{"$f":"Singles!AG217","v":428},{"$f":"Singles!AH217","v":0},null,{"$f":"Singles!AI217","v":840},{"$f":"Singles!AJ217","v":0},{"$f":"Singles!AK217","v":840.04284120000011},null,null,null,null,null,null,null,null,null,null,null,null,null,null,null,null,null,null,null,null,"Kelvin Yee"]
[null,18,{"$f":"Singles!AB218","v":"Andy Canavan"},{"$f":"Singles!AC218","v":"DCU"},{"$f":"Singles!AD218","v":429},{"$f":"Singles!AE218","v":400},{"$f":"Singles!AF218","v":0},{"$f":"Singles!AG218","v":0},{"$f":"Singles!AH218","v":0},null,{"$f":"Singles!AI218","v":829},{"$f":"Singles!AJ218","v":0},{"$f":"Singles!AK218","v":829.04294000000004},null,null,null,null,null,null,null,null,null,null,null,null,null,null,null,null,null,null,null,null,"Andy Canavan"]
[null,19,{"$f":"Singles!AB219","v":"Chris O'Leary"},{"$f":"Singles!AC219","v":"UCC"},{"$f":"Singles!AD219","v":0},{"$f":"Singles!AE219","v":0},{"$f":"Singles!AF219","v":0},{"$f":"Singles!AG219","v":390},{"$f":"Singles!AH219","v":411},null,{"$f":"Singles!AI219","v":801},{"$f":"Singles!AJ219","v":0},{"$f":"Singles!AK219","v":801.04113900000004},null,null,null,null,null,null,null,null,null,null,null,null,null,null,null,null,null,null,null,null,"Chris O'Leary"]
[null,20,{"$f":"Singles!AB220","v":"James Greer"},{"$f":"Singles!AC220","v":"UCD"},{"$f":"Singles!AD220","v":0},{"$f":"Singles!AE220","v":376},{"$f":"Singles!AF220","v":0},{"$f":"Singles!AG220","v":0},{"$f":"Singles!AH220","v":423},null,{"$f":"Singles!AI220","v":799},{"$f":"Singles!AJ220","v":0},{"$f":"Singles!AK220","v":799.0423376},null,null,null,null,null,null,null,null,null,null,null,null,null,null,null,null,null,null,null,null,"James Greer"]
[null,21,{"$f":"Singles!AB221","v":"Issabele Mayumi"},{"$f":"Singles!AC221","v":"DCU"},{"$f":"Singles!AD221","v":343},{"$f":"Singles!AE221","v":0},{"$f":"Singles!AF221","v":0},{"$f":"Singles!AG221","v":338},{"$f":"Singles!AH221","v":0},null,{"$f":"Singles!AI221","v":681},{"$f":"Singles!AJ221","v":0},{"$f":"Singles!AK221","v":681.03433380000001},null,null,null,null,null,null,null,null,null,null,null,null,null,null,null,null,null,null,null,null,"Issabele Mayumi"]
[null,22,{"$f":"Singles!AB222","v":"Brian Conroy"},{"$f":"Singles!AC222","v":"UCC"},{"$f":"Singles!AD222","v":0},{"$f":"Singles!AE222","v":0},{"$f":"Singles!AF222","v":293},{"$f":"Singles!AG222","v":0},{"$f":"Singles!AH222","v":366},null,{"$f":"Singles!AI222","v":659},{"$f":"Singles!AJ222","v":0},{"$f":"Singles!AK222","v":659.03662930000007},null,null,null,null,null,null,null,null,null,null,null,null,null,null,null,null,null,null,null,null,"Brian Conroy"]
[null,23,{"$f":"Singles!AB223","v":"Kieran Cullinane"},{"$f":"Singles!AC223","v":"NUIG"},{"$f":"Singles!AD223","v":482},{"$f":"Singles!AE223","v":0},{"$f":"Singles!AF223","v":0},{"$f":"Singles!AG223","v":0},{"$f":"Singles!AH223","v":0},null,{"$f":"Singles!AI223","v":482},{"$f":"Singles!AJ223","v":0},{"$f":"Singles!AK223","v":482.04820000000001},null,null,null,null,null,null,null,null,null,null,null,null,null,null,null,null,null,null,null,null,"Kieran Cullinane"]
[null,24,{"$f":"Singles!AB224","v":"Sean Sinnott"},{"$f":"Singles!AC224","v":"UL"},{"$f":"Singles!AD224","v":0},{"$f":"Singles!AE224","v":385},{"$f":"Singles!AF224","v":0},{"$f":"Singles!AG224","v":0},{"$f":"Singles!AH224","v":0},null,{"$f":"Singles!AI224","v":385},{"$f":"Singles!AJ224","v":0},{"$f":"Singles!AK224","v":385.0385},null,null,null,null,null,null,null,null,null,null,null,null,null,null,null,null,null,null,null,null,"Sean Sinnott"]
[null,25,{"$f":"Singles!AB225","v":"Muhammad Hakim Mohd Nasir"},{"$f":"Singles!AC225","v":"RCSI"},{"$f":"Singles!AD225","v":0},{"$f":"Singles!AE225","v":0},{"$f":"Singles!AF225","v":311},{"$f":"Singles!AG225","v":0},{"$f":"Singles!AH225","v":0},null,{"$f":"Singles!AI225","v":311},{"$f":"Singles!AJ225","v":0},{"$f":"Singles!AK225","v":311.03109999999998},null,null,null,null,null,null,null,null,null,null,null,null,null,null,null,null,null,null,null,null,"Muhammad Hakim Mohd Nasir"]
[null,26,{"$f":"Singles!AB226","v":"DJ Roche"},{"$f":"Singles!AC226","v":"MU"},{"$f":"Singles!AD226","v":0},{"$f":"Singles!AE226","v":306},{"$f":"Singles!AF226","v":0},{"$f":"Singles!AG226","v":0},{"$f":"Singles!AH226","v":0},null,{"$f":"Singles!AI226","v":306},{"$f":"Singles!AJ226","v":0},{"$f":"Singles!AK226","v":306.03059999999999},null,null,null,null,null,null,null,null,null,null,null,null,null,null,null,null,null,null,null,null,"DJ Roche"]
[null,27,{"$f":"Singles!AB227","v":"Shane O'Sulliven"},{"$f":"Singles!AC227","v":"UCC"},{"$f":"Singles!AD227","v":0},{"$f":"Singles!AE227","v":0},{"$f":"Singles!AF227","v":0},{"$f":"Singles!AG227","v":303},{"$f":"Singles!AH227","v":0},null,{"$f":"Singles!AI227","v":303},{"$f":"Singles!AJ227","v":0},{"$f":"Singles!AK227","v":303.03030000000001},null,null,null,null,null,null,null,null,null,null,null,null,null,null,null,null,null,null,null,null,"Shane O'Sulliven"]
[null,28,{"$f":"Singles!AB228","v":"Conor Moran"},{"$f":"Singles!AC228","v":"UL"},{"$f":"Singles!AD228","v":0},{"$f":"Singles!AE228","v":257},{"$f":"Singles!AF228","v":0},{"$f":"Singles!AG228","v":0},{"$f":"Singles!AH228","v":0},null,{"$f":"Singles!AI228","v":257},{"$f":"Singles!AJ228","v":0},{"$f":"Singles!AK228","v":257.02569999999997},null,null,null,null,null,null,null,null,null,null,null,null,null,null,null,null,null,null,null,null,"Conor Moran"]
[null,29,{"$f":"Singles!AB229","v":"Cian Butler"},{"$f":"Singles!AC229","v":"DCU"},{"$f":"Singles!AD229","v":224},{"$f":"Singles!AE229","v":0},{"$f":"Singles!AF229","v":0},{"$f":"Singles!AG229","v":0},{"$f":"Singles!AH229","v":0},null,{"$f":"Singles!AI229","v":224},{"$f":"Singles!AJ229","v":0},{"$f":"Singles!AK229","v":224.0224},null,null,null,null,null,null,null,null,null,null,null,null,null,null,null,null,null,null,null,null,"Cian Butler"]
[null,30,{"$f":"Singles!AB230","v":"Eoin Hartigan"},{"$f":"Singles!AC230","v":"UL"},{"$f":"Singles!AD230","v":0},{"$f":"Singles!AE230","v":98},{"$f":"Singles!AF230","v":0},{"$f":"Singles!AG230","v":0},{"$f":"Singles!AH230","v":0},null,{"$f":"Singles!AI230","v":98},{"$f":"Singles!AJ230","v":0},{"$f":"Singles!AK230","v":98.009799999999998},null,null,null,null,null,null,null,null,null,null,null,null,null,null,null,null,null,null,null,null,"Eoin Hartigan"]
[null,31,{"$f":"Singles!AB231","v":0},{"$f":"Singles!AC231","v":"TBC"},{"$f":"Singles!AD231","v":"TBC"},{"$f":"Singles!AE231","v":"TBC"},{"$f":"Singles!AF231","v":"TBC"},{"$f":"Singles!AG231","v":"TBC"},{"$f":"Singles!AH231","v":"TBC"},null,{"$f":"Singles!AI231","v":0},{"$f":"Singles!AJ231","v":0},{"$f":"Singles!AK231","v":0},null,null,null,null,null,null,null,null,null,null,null,null,null,null,null,null,null,null,null,null,0]
[null,32,{"$f":"Singles!AB232","v":0},{"$f":"Singles!AC232","v":"TBC"},{"$f":"Singles!AD232","v":"TBC"},{"$f":"Singles!AE232","v":"TBC"},{"$f":"Singles!AF232","v":"TBC"},{"$f":"Singles!AG232","v":"TBC"},{"$f":"Singles!AH232","v":"TBC"},null,{"$f":"Singles!AI232","v":0},{"$f":"Singles!AJ232","v":0},{"$f":"Singles!AK232","v":0},null,null,null,null,null,null,null,null,null,null,null,null,null,null,null,null,null,null,null,null,0]
[null,33,{"$f":"Singles!AB233","v":0},{"$f":"Singles!AC233","v":"TBC"},{"$f":"Singles!AD233","v":"TBC"},{"$f":"Singles!AE233","v":"TBC"},{"$f":"Singles!AF233","v":"TBC"},{"$f":"Singles!AG233","v":"TBC"},{"$f":"Singles!AH233","v":"TBC"},null,{"$f":"Singles!AI233","v":0},{"$f":"Singles!AJ233","v":0},{"$f":"Singles!AK233","v":0},null,null,null,null,null,null,null,null,null,null,null,null,null,null,null,null,null,null,null,null,{"$f":"C39","v":0}]
[null,34,{"$f":"Singles!AB234","v":0},{"$f":"Singles!AC234","v":"TBC"},{"$f":"Singles!AD234","v":"TBC"},{"$f":"Singles!AE234","v":"TBC"},{"$f":"Singles!AF234","v":"TBC"},{"$f":"Singles!AG234","v":"TBC"},{"$f":"Singles!AH234","v":"TBC"},null,{"$f":"Singles!AI234","v":0},{"$f":"Singles!AJ234","v":0},{"$f":"Singles!AK234","v":0},null,null,null,null,null,null,null,null,null,null,null,null,null,null,null,null,null,null,null,null,0]
[null,35,{"$f":"Singles!AB235","v":0},{"$f":"Singles!AC235","v":"TBC"},{"$f":"Singles!AD235","v":"TBC"},{"$f":"Singles!AE235","v":"TBC"},{"$f":"Singles!AF235","v":"TBC"},{"$f":"Singles!AG235","v":"TBC"},{"$f":"Singles!AH235","v":"TBC"},null,{"$f":"Singles!AI235","v":0},{"$f":"Singles!AJ235","v":0},{"$f":"Singles!AK235","v":0},null,null,null,null,null,null,null,null,null,null,null,null,null,null,null,null,null,null,null,null,0]
[null,36,{"$f":"Singles!AB236","v":0},{"$f":"Singles!AC236","v":"TBC"},{"$f":"Singles!AD236","v":"TBC"},{"$f":"Singles!AE236","v":"TBC"},{"$f":"Singles!AF236","v":"TBC"},{"$f":"Singles!AG236","v":"TBC"},{"$f":"Singles!AH236","v":"TBC"},null,{"$f":"Singles!AI236","v":0},{"$f":"Singles!AJ236","v":0},{"$f":"Singles!AK236","v":0},null,null,null,null,null,null,null,null,null,null,null,null,null,null,null,null,null,null,null,null,0]
[null,37,{"$f":"Singles!AB237","v":0},{"$f":"Singles!AC237","v":"TBC"},{"$f":"Singles!AD237","v":"TBC"},{"$f":"Singles!AE237","v":"TBC"},{"$f":"Singles!AF237","v":"TBC"},{"$f":"Singles!AG237","v":"TBC"},{"$f":"Singles!AH237","v":"TBC"},null,{"$f":"Singles!AI237","v":0},{"$f":"Singles!AJ237","v":0},{"$f":"Singles!AK237","v":0},null,null,null,null,null,null,null,null,null,null,null,null,null,null,null,null,null,null,null,null,0]
[null,38,{"$f":"Singles!AB238","v":0},{"$f":"Singles!AC238","v":"TBC"},{"$f":"Singles!AD238","v":"TBC"},{"$f":"Singles!AE238","v":"TBC"},{"$f":"Singles!AF238","v":"TBC"},{"$f":"Singles!AG238","v":"TBC"},{"$f":"Singles!AH238","v":"TBC"},null,{"$f":"Singles!AI238","v":0},{"$f":"Singles!AJ238","v":0},{"$f":"Singles!AK238","v":0},null,null,null,null,null,null,null,null,null,null,null,null,null,null,null,null,null,null,null,null,0]
[null,39,{"$f":"Singles!AB239","v":0},{"$f":"Singles!AC239","v":"TBC"},{"$f":"Singles!AD239","v":"TBC"},{"$f":"Singles!AE239","v":"TBC"},{"$f":"Singles!AF239","v":"TBC"},{"$f":"Singles!AG239","v":"TBC"},{"$f":"Singles!AH239","v":"TBC"},null,{"$f":"Singles!AI239","v":0},{"$f":"Singles!AJ239","v":0},{"$f":"Singles!AK239","v":0},null,null,null,null,null,null,null,null,null,null,null,null,null,null,null,null,null,null,null,null,0]
[null,40,{"$f":"Singles!AB240","v":0},{"$f":"Singles!AC240","v":"TBC"},{"$f":"Singles!AD240","v":"TBC"},{"$f":"Singles!AE240","v":"TBC"},{"$f":"Singles!AF240","v":"TBC"},{"$f":"Singles!AG240","v":"TBC"},{"$f":"Singles!AH240","v":"TBC"},null,{"$f":"Singles!AI240","v":0},{"$f":"Singles!AJ240","v":0},{"$f":"Singles!AK240","v":0},null,null,null,null,null,null,null,null,null,null,null,null,null,null,null,null,null,null,null,null,0]
[null,41,{"$f":"Singles!AB241","v":0},{"$f":"Singles!AC241","v":"TBC"},{"$f":"Singles!AD241","v":"TBC"},{"$f":"Singles!AE241","v":"TBC"},{"$f":"Singles!AF241","v":"TBC"},{"$f":"Singles!AG241","v":"TBC"},{"$f":"Singles!AH241","v":"TBC"},null,{"$f":"Singles!AI241","v":0},{"$f":"Singles!AJ241","v":0},{"$f":"Singles!AK241","v":0},null,null,null,null,null,null,null,null,null,null,null,null,null,null,null,null,null,null,null,null,0]
[null,42,{"$f":"Singles!AB242","v":0},{"$f":"Singles!AC242","v":"TBC"},{"$f":"Singles!AD242","v":"TBC"},{"$f":"Singles!AE242","v":"TBC"},{"$f":"Singles!AF242","v":"TBC"},{"$f":"Singles!AG242","v":"TBC"},{"$f":"Singles!AH242","v":"TBC"},null,{"$f":"Singles!AI242","v":0},{"$f":"Singles!AJ242","v":0},{"$f":"Singles!AK242","v":0},null,null,null,null,null,null,null,null,null,null,null,null,null,null,null,null,null,null,null,null,0]
[null,43,{"$f":"Singles!AB243","v":0},{"$f":"Singles!AC243","v":"TBC"},{"$f":"Singles!AD243","v":"TBC"},{"$f":"Singles!AE243","v":"TBC"},{"$f":"Singles!AF243","v":"TBC"},{"$f":"Singles!AG243","v":"TBC"},{"$f":"Singles!AH243","v":"TBC"},null,{"$f":"Singles!AI243","v":0},{"$f":"Singles!AJ243","v":0},{"$f":"Singles!AK243","v":0},null,null,null,null,null,null,null,null,null,null,null,null,null,null,null,null,null,null,null,null,0]
[null,44,{"$f":"Singles!AB244","v":0},{"$f":"Singles!AC244","v":"TBC"},{"$f":"Singles!AD244","v":"TBC"},{"$f":"Singles!AE244","v":"TBC"},{"$f":"Singles!AF244","v":"TBC"},{"$f":"Singles!AG244","v":"TBC"},{"$f":"Singles!AH244","v":"TBC"},null,{"$f":"Singles!AI244","v":0},{"$f":"Singles!AJ244","v":0},{"$f":"Singles!AK244","v":0},null,null,null,null,null,null,null,null,null,null,null,null,null,null,null,null,null,null,null,null,0]
[null,45,{"$f":"Singles!AB245","v":0},{"$f":"Singles!AC245","v":"TBC"},{"$f":"Singles!AD245","v":"TBC"},{"$f":"Singles!AE245","v":"TBC"},{"$f":"Singles!AF245","v":"TBC"},{"$f":"Singles!AG245","v":"TBC"},{"$f":"Singles!AH245","v":"TBC"},null,{"$f":"Singles!AI245","v":0},{"$f":"Singles!AJ245","v":0},{"$f":"Singles!AK245","v":0},null,null,null,null,null,null,null,null,null,null,null,null,null,null,null,null,null,null,null,null,0]
[null,46,{"$f":"Singles!AB246","v":0},{"$f":"Singles!AC246","v":"TBC"},{"$f":"Singles!AD246","v":"TBC"},{"$f":"Singles!AE246","v":"TBC"},{"$f":"Singles!AF246","v":"TBC"},{"$f":"Singles!AG246","v":"TBC"},{"$f":"Singles!AH246","v":"TBC"},null,{"$f":"Singles!AI246","v":0},{"$f":"Singles!AJ246","v":0},{"$f":"Singles!AK246","v":0},null,null,null,null,null,null,null,null,null,null,null,null,null,null,null,null,null,null,null,null,0]
[null,47,{"$f":"Singles!AB247","v":0},{"$f":"Singles!AC247","v":"TBC"},{"$f":"Singles!AD247","v":"TBC"},{"$f":"Singles!AE247","v":"TBC"},{"$f":"Singles!AF247","v":"TBC"},{"$f":"Singles!AG247","v":"TBC"},{"$f":"Singles!AH247","v":"TBC"},null,{"$f":"Singles!AI247","v":0},{"$f":"Singles!AJ247","v":0},{"$f":"Singles!AK247","v":0},null,null,null,null,null,null,null,null,null,null,null,null,null,null,null,null,null,null,null,null,0]
[null,48,{"$f":"Singles!AB248","v":0},{"$f":"Singles!AC248","v":"TBC"},{"$f":"Singles!AD248","v":"TBC"},{"$f":"Singles!AE248","v":"TBC"},{"$f":"Singles!AF248","v":"TBC"},{"$f":"Singles!AG248","v":"TBC"},{"$f":"Singles!AH248","v":"TBC"},null,{"$f":"Singles!AI248","v":0},{"$f":"Singles!AJ248","v":0},{"$f":"Singles!AK248","v":0},null,null,null,null,null,null,null,null,null,null,null,null,null,null,null,null,null,null,null,null,0]
[null,49,{"$f":"Singles!AB249","v":0},{"$f":"Singles!AC249","v":"TBC"},{"$f":"Singles!AD249","v":"TBC"},{"$f":"Singles!AE249","v":"TBC"},{"$f":"Singles!AF249","v":"TBC"},{"$f":"Singles!AG249","v":"TBC"},{"$f":"Singles!AH249","v":"TBC"},null,{"$f":"Singles!AI249","v":0},{"$f":"Singles!AJ249","v":0},{"$f":"Singles!AK249","v":0},null,null,null,null,null,null,null,null,null,null,null,null,null,null,null,null,null,null,null,null,0]
[null,50,{"$f":"Singles!AB250","v":0},{"$f":"Singles!AC250","v":"TBC"},{"$f":"Singles!AD250","v":"TBC"},{"$f":"Singles!AE250","v":"TBC"},{"$f":"Singles!AF250","v":"TBC"},{"$f":"Singles!AG250","v":"TBC"},{"$f":"Singles!AH250","v":"TBC"},null,{"$f":"Singles!AI250","v":0},{"$f":"Singles!AJ250","v":0},{"$f":"Singles!AK250","v":0},null,null,null,null,null,null,null,null,null,null,null,null,null,null,null,null,null,null,null,null,0]
[null,51,{"$f":"Singles!AB251","v":0},{"$f":"Singles!AC251","v":"TBC"},{"$f":"Singles!AD251","v":"TBC"},{"$f":"Singles!AE251","v":"TBC"},{"$f":"Singles!AF251","v":"TBC"},{"$f":"Singles!AG251","v":"TBC"},{"$f":"Singles!AH251","v":"TBC"},null,{"$f":"Singles!AI251","v":0},{"$f":"Singles!AJ251","v":0},{"$f":"Singles!AK251","v":0},null,null,null,null,null,null,null,null,null,null,null,null,null,null,null,null,null,null,null,null,0]
[null,52,{"$f":"Singles!AB252","v":0},{"$f":"Singles!AC252","v":"TBC"},{"$f":"Singles!AD252","v":"TBC"},{"$f":"Singles!AE252","v":"TBC"},{"$f":"Singles!AF252","v":"TBC"},{"$f":"Singles!AG252","v":"TBC"},{"$f":"Singles!AH252","v":"TBC"},null,{"$f":"Singles!AI252","v":0},{"$f":"Singles!AJ252","v":0},{"$f":"Singles!AK252","v":0},null,null,null,null,null,null,null,null,null,null,null,null,null,null,null,null,null,null,null,null,0]
[null,53,{"$f":"Singles!AB253","v":0},{"$f":"Singles!AC253","v":"TBC"},{"$f":"Singles!AD253","v":"TBC"},{"$f":"Singles!AE253","v":"TBC"},{"$f":"Singles!AF253","v":"TBC"},{"$f":"Singles!AG253","v":"TBC"},{"$f":"Singles!AH253","v":"TBC"},null,{"$f":"Singles!AI253","v":0},{"$f":"Singles!AJ253","v":0},{"$f":"Singles!AK253","v":0},null,null,null,null,null,null,null,null,null,null,null,null,null,null,null,null,null,null,null,null,0]
[null,54,{"$f":"Singles!AB254","v":0},{"$f":"Singles!AC254","v":"TBC"},{"$f":"Singles!AD254","v":"TBC"},{"$f":"Singles!AE254","v":"TBC"},{"$f":"Singles!AF254","v":"TBC"},{"$f":"Singles!AG254","v":"TBC"},{"$f":"Singles!AH254","v":"TBC"},null,{"$f":"Singles!AI254","v":0},{"$f":"Singles!AJ254","v":0},{"$f":"Singles!AK254","v":0},null,null,null,null,null,null,null,null,null,null,null,null,null,null,null,null,null,null,null,null,0]
[null,55,{"$f":"Singles!AB255","v":0},{"$f":"Singles!AC255","v":"TBC"},{"$f":"Singles!AD255","v":"TBC"},{"$f":"Singles!AE255","v":"TBC"},{"$f":"Singles!AF255","v":"TBC"},{"$f":"Singles!AG255","v":"TBC"},{"$f":"Singles!AH255","v":"TBC"},null,{"$f":"Singles!AI255","v":0},{"$f":"Singles!AJ255","v":0},{"$f":"Singles!AK255","v":0},null,null,null,null,null,null,null,null,null,null,null,null,null,null,null,null,null,null,null,null,0]
[null,56,{"$f":"Singles!AB256","v":0},{"$f":"Singles!AC256","v":"TBC"},{"$f":"Singles!AD256","v":"TBC"},{"$f":"Singles!AE256","v":"TBC"},{"$f":"Singles!AF256","v":"TBC"},{"$f":"Singles!AG256","v":"TBC"},{"$f":"Singles!AH256","v":"TBC"},null,{"$f":"Singles!AI256","v":0},{"$f":"Singles!AJ256","v":0},{"$f":"Singles!AK256","v":0},null,null,null,null,null,null,null,null,null,null,null,null,null,null,null,null,null,null,null,null,0]
[null,57,{"$f":"Singles!AB257","v":0},{"$f":"Singles!AC257","v":"TBC"},{"$f":"Singles!AD257","v":"TBC"},{"$f":"Singles!AE257","v":"TBC"},{"$f":"Singles!AF257","v":"TBC"},{"$f":"Singles!AG257","v":"TBC"},{"$f":"Singles!AH257","v":"TBC"},null,{"$f":"Singles!AI257","v":0},{"$f":"Singles!AJ257","v":0},{"$f":"Singles!AK257","v":0},null,null,null,null,null,null,null,null,null,null,null,null,null,null,null,null,null,null,null,null,0]
[null,58,{"$f":"Singles!AB258","v":0},{"$f":"Singles!AC258","v":"TBC"},{"$f":"Singles!AD258","v":"TBC"},{"$f":"Singles!AE258","v":"TBC"},{"$f":"Singles!AF258","v":"TBC"},{"$f":"Singles!AG258","v":"TBC"},{"$f":"Singles!AH258","v":"TBC"},null,{"$f":"Singles!AI258","v":0},{"$f":"Singles!AJ258","v":0},{"$f":"Singles!AK258","v":0},null,null,null,null,null,null,null,null,null,null,null,null,null,null,null,null,null,null,null,null,0]
[null,59,{"$f":"Singles!AB259","v":0},{"$f":"Singles!AC259","v":"TBC"},{"$f":"Singles!AD259","v":"TBC"},{"$f":"Singles!AE259","v":"TBC"},{"$f":"Singles!AF259","v":"TBC"},{"$f":"Singles!AG259","v":"TBC"},{"$f":"Singles!AH259","v":"TBC"},null,{"$f":"Singles!AI259","v":0},{"$f":"Singles!AJ259","v":0},{"$f":"Singles!AK259","v":0},null,null,null,null,null,null,null,null,null,null,null,null,null,null,null,null,null,null,null,null,0]
[null,60,{"$f":"Singles!AB260","v":0},{"$f":"Singles!AC260","v":"TBC"},{"$f":"Singles!AD260","v":"TBC"},{"$f":"Singles!AE260","v":"TBC"},{"$f":"Singles!AF260","v":"TBC"},{"$f":"Singles!AG260","v":"TBC"},{"$f":"Singles!AH260","v":"TBC"},null,{"$f":"Singles!AI260","v":0},{"$f":"Singles!AJ260","v":0},{"$f":"Singles!AK260","v":0},null,null,null,null,null,null,null,null,null,null,null,null,null,null,null,null,null,null,null,null,0]
[null,61,{"$f":"Singles!AB261","v":0},{"$f":"Singles!AC261","v":"TBC"},{"$f":"Singles!AD261","v":"TBC"},{"$f":"Singles!AE261","v":"TBC"},{"$f":"Singles!AF261","v":"TBC"},{"$f":"Singles!AG261","v":"TBC"},{"$f":"Singles!AH261","v":"TBC"},null,{"$f":"Singles!AI261","v":0},{"$f":"Singles!AJ261","v":0},{"$f":"Singles!AK261","v":0},null,null,null,null,null,null,null,null,null,null,null,null,null,null,null,null,null,null,null,null,0]
[null,62,{"$f":"Singles!AB262","v":0},{"$f":"Singles!AC262","v":"TBC"},{"$f":"Singles!AD262","v":"TBC"},{"$f":"Singles!AE262","v":"TBC"},{"$f":"Singles!AF262","v":"TBC"},{"$f":"Singles!AG262","v":"TBC"},{"$f":"Singles!AH262","v":"TBC"},null,{"$f":"Singles!AI262","v":0},{"$f":"Singles!AJ262","v":0},{"$f":"Singles!AK262","v":0},null,null,null,null,null,null,null,null,null,null,null,null,null,null,null,null,null,null,null,null,0]
[null,63,{"$f":"Singles!AB263","v":0},{"$f":"Singles!AC263","v":"TBC"},{"$f":"Singles!AD263","v":"TBC"},{"$f":"Singles!AE263","v":"TBC"},{"$f":"Singles!AF263","v":"TBC"},{"$f":"Singles!AG263","v":"TBC"},{"$f":"Singles!AH263","v":"TBC"},null,{"$f":"Singles!AI263","v":0},{"$f":"Singles!AJ263","v":0},{"$f":"Singles!AK263","v":0},null,null,null,null,null,null,null,null,null,null,null,null,null,null,null,null,null,null,null,null,0]
[null,64,{"$f":"Singles!AB264","v":0},{"$f":"Singles!AC264","v":"TBC"},{"$f":"Singles!AD264","v":"TBC"},{"$f":"Singles!AE264","v":"TBC"},{"$f":"Singles!AF264","v":"TBC"},{"$f":"Singles!AG264","v":"TBC"},{"$f":"Singles!AH264","v":"TBC"},null,{"$f":"Singles!AI264","v":0},{"$f":"Singles!AJ264","v":0},{"$f":"Singles!AK264","v":0},null,null,null,null,null,null,null,null,null,null,null,null,null,null,null,null,null,null,null,null,0]
[null,65,{"$f":"Singles!AB265","v":0},{"$f":"Singles!AC265","v":"TBC"},{"$f":"Singles!AD265","v":"TBC"},{"$f":"Singles!AE265","v":"TBC"},{"$f":"Singles!AF265","v":"TBC"},{"$f":"Singles!AG265","v":"TBC"},{"$f":"Singles!AH265","v":"TBC"},null,{"$f":"Singles!AI265","v":0},{"$f":"Singles!AJ265","v":0},{"$f":"Singles!AK265","v":0},null,null,null,null,null,null,null,null,null,null,null,null,null,null,null,null,null,null,null,null,0]
[null,66,{"$f":"Singles!AB266","v":0},{"$f":"Singles!AC266","v":"TBC"},{"$f":"Singles!AD266","v":"TBC"},{"$f":"Singles!AE266","v":"TBC"},{"$f":"Singles!AF266","v":"TBC"},{"$f":"Singles!AG266","v":"TBC"},{"$f":"Singles!AH266","v":"TBC"},null,{"$f":"Singles!AI266","v":0},{"$f":"Singles!AJ266","v":0},{"$f":"Singles!AK266","v":0},null,null,null,null,null,null,null,null,null,null,null,null,null,null,null,null,null,null,null,null,0]
[null,67,{"$f":"Singles!AB267","v":0},{"$f":"Singles!AC267","v":"TBC"},{"$f":"Singles!AD267","v":"TBC"},{"$f":"Singles!AE267","v":"TBC"},{"$f":"Singles!AF267","v":"TBC"},{"$f":"Singles!AG267","v":"TBC"},{"$f":"Singles!AH267","v":"TBC"},null,{"$f":"Singles!AI267","v":0},{"$f":"Singles!AJ267","v":0},{"$f":"Singles!AK267","v":0},null,null,null,null,null,null,null,null,null,null,null,null,null,null,null,null,null,null,null,null,0]
[null,68,{"$f":"Singles!AB268","v":0},{"$f":"Singles!AC268","v":"TBC"},{"$f":"Singles!AD268","v":"TBC"},{"$f":"Singles!AE268","v":"TBC"},{"$f":"Singles!AF268","v":"TBC"},{"$f":"Singles!AG268","v":"TBC"},{"$f":"Singles!AH268","v":"TBC"},null,{"$f":"Singles!AI268","v":0},{"$f":"Singles!AJ268","v":0},{"$f":"Singles!AK268","v":0},null,null,null,null,null,null,null,null,null,null,null,null,null,null,null,null,null,null,null,null,0]
[null,69,{"$f":"Singles!AB269","v":0},{"$f":"Singles!AC269","v":"TBC"},{"$f":"Singles!AD269","v":"TBC"},{"$f":"Singles!AE269","v":"TBC"},{"$f":"Singles!AF269","v":"TBC"},{"$f":"Singles!AG269","v":"TBC"},{"$f":"Singles!AH269","v":"TBC"},null,{"$f":"Singles!AI269","v":0},{"$f":"Singles!AJ269","v":0},{"$f":"Singles!AK269","v":0},null,null,null,null,null,null,null,null,null,null,null,null,null,null,null,null,null,null,null,null,0]
[null,70,{"$f":"Singles!AB270","v":0},{"$f":"Singles!AC270","v":"TBC"},{"$f":"Singles!AD270","v":"TBC"},{"$f":"Singles!AE270","v":"TBC"},{"$f":"Singles!AF270","v":"TBC"},{"$f":"Singles!AG270","v":"TBC"},{"$f":"Singles!AH270","v":"TBC"},null,{"$f":"Singles!AI270","v":0},{"$f":"Singles!AJ270","v":0},{"$f":"Singles!AK270","v":0},null,null,null,null,null,null,null,null,null,null,null,null,null,null,null,null,null,null,null,null,0]
[null,71,{"$f":"Singles!AB271","v":0},{"$f":"Singles!AC271","v":"TBC"},{"$f":"Singles!AD271","v":"TBC"},{"$f":"Singles!AE271","v":"TBC"},{"$f":"Singles!AF271","v":"TBC"},{"$f":"Singles!AG271","v":"TBC"},{"$f":"Singles!AH271","v":"TBC"},null,{"$f":"Singles!AI271","v":0},{"$f":"Singles!AJ271","v":0},{"$f":"Singles!AK271","v":0},null,null,null,null,null,null,null,null,null,null,null,null,null,null,null,null,null,null,null,null,0]
[null,72,{"$f":"Singles!AB272","v":0},{"$f":"Singles!AC272","v":"TBC"},{"$f":"Singles!AD272","v":"TBC"},{"$f":"Singles!AE272","v":"TBC"},{"$f":"Singles!AF272","v":"TBC"},{"$f":"Singles!AG272","v":"TBC"},{"$f":"Singles!AH272","v":"TBC"},null,{"$f":"Singles!AI272","v":0},{"$f":"Singles!AJ272","v":0},{"$f":"Singles!AK272","v":0},null,null,null,null,null,null,null,null,null,null,null,null,null,null,null,null,null,null,null,null,0]
[null,73,{"$f":"Singles!AB273","v":0},{"$f":"Singles!AC273","v":"TBC"},{"$f":"Singles!AD273","v":"TBC"},{"$f":"Singles!AE273","v":"TBC"},{"$f":"Singles!AF273","v":"TBC"},{"$f":"Singles!AG273","v":"TBC"},{"$f":"Singles!AH273","v":"TBC"},null,{"$f":"Singles!AI273","v":0},{"$f":"Singles!AJ273","v":0},{"$f":"Singles!AK273","v":0},null,null,null,null,null,null,null,null,null,null,null,null,null,null,null,null,null,null,null,null,0]
[null,74,{"$f":"Singles!AB274","v":0},{"$f":"Singles!AC274","v":"TBC"},{"$f":"Singles!AD274","v":"TBC"},{"$f":"Singles!AE274","v":"TBC"},{"$f":"Singles!AF274","v":"TBC"},{"$f":"Singles!AG274","v":"TBC"},{"$f":"Singles!AH274","v":"TBC"},null,{"$f":"Singles!AI274","v":0},{"$f":"Singles!AJ274","v":0},{"$f":"Singles!AK274","v":0},null,null,null,null,null,null,null,null,null,null,null,null,null,null,null,null,null,null,null,null,0]
[null,75,{"$f":"Singles!AB275","v":0},{"$f":"Singles!AC275","v":"TBC"},{"$f":"Singles!AD275","v":"TBC"},{"$f":"Singles!AE275","v":"TBC"},{"$f":"Singles!AF275","v":"TBC"},{"$f":"Singles!AG275","v":"TBC"},{"$f":"Singles!AH275","v":"TBC"},null,{"$f":"Singles!AI275","v":0},{"$f":"Singles!AJ275","v":0},{"$f":"Singles!AK275","v":0},null,null,null,null,null,null,null,null,null,null,null,null,null,null,null,null,null,null,null,null,0]
[{"$f":"$D$7","v":"UCD"}]

{"sheet":"RIF","index":5,"n_rows":82,"n_cols":34,"rows_kept":82,"cut":false,"hidden":false,"merged":[[0,0,0,13],[81,0,81,13],[4,1,4,8],[4,10,4,12],[1,13,80,13],[1,0,80,0],[1,4,1,8],[1,10,1,12],[1,1,3,3],[2,10,3,10],[2,11,3,11],[2,12,3,12],[1,9,80,9]]}
[{"$f":"$D$7","v":"DCU"}]
["DCU","Female Intermediate Recurve",null,null,"Host Club",null,null,null,null,{"$f":"$D$7","v":"DCU"},"Scores",null,null,"DCU",null,null,null,null,null,null,null,null,null,null,null,null,null,null,null,null,null,null,null,{"$f":"AH7","v":"Ciara O'Sullivan"}]
[null,null,null,null,{"$f":"Entries!K6","v":"UL IV"},{"$f":"Entries!K7","v":"DkIT IV"},{"$f":"Entries!K8","v":"GMIT IV"},{"$f":"Entries!K9","v":"DCU IV"},{"$f":"Entries!K10","v":"NUIG IV"},null,"Total","Lowest","League"]
[]
[null,"DCU",null,null,null,null,null,null,null,null,"DCU"]
[null,null,"Name","College",{"$f":"Entries!K6","v":"UL IV"},{"$f":"Entries!K7","v":"DkIT IV"},{"$f":"Entries!K8","v":"GMIT IV"},{"$f":"Entries!K9","v":"DCU IV"},{"$f":"Entries!K10","v":"NUIG IV"},null,"Total","Lowest","League total"]
[null,1,{"$f":"Singles!AO203","v":"Ciara O'Sullivan"},{"$f":"Singles!AP203","v":"DCU"},{"$f":"Singles!AQ203","v":0},{"$f":"Singles!AR203","v":443},{"$f":"Singles!AS203","v":472},{"$f":"Singles!AT203","v":411},{"$f":"Singles!AU203","v":469},null,{"$f":"Singles!AV203","v":1795},{"$f":"Singles!AW203","v":0},{"$f":"Singles!AX203","v":1795.0472468999999},null,null,null,null,null,null,null,null,null,null,null,null,null,null,null,null,null,null,null,null,{"$f":"C7","v":"Ciara O'Sullivan"}]
[null,2,{"$f":"Singles!AO201","v":"Maria Jacob"},{"$f":"Singles!AP201","v":"UCD"},{"$f":"Singles!AQ201","v":439},{"$f":"Singles!AR201","v":438},{"$f":"Singles!AS201","v":425},{"$f":"Singles!AT201","v":427},{"$f":"Singles!AU201","v":404},null,{"$f":"Singles!AV201","v":2133},{"$f":"Singles!AW201","v":404},{"$f":"Singles!AX201","v":1729.0439437999999},null,null,null,null,null,null,null,null,null,null,null,null,null,null,null,null,null,null,null,null,"Maria Jacob"]
[null,3,{"$f":"Singles!AO202","v":"Victoria Shen Fen Tan"},{"$f":"Singles!AP202","v":"DKIT"},{"$f":"Singles!AQ202","v":380},{"$f":"Singles!AR202","v":319},{"$f":"Singles!AS202","v":375},{"$f":"Singles!AT202","v":460},{"$f":"Singles!AU202","v":486},null,{"$f":"Singles!AV202","v":2020},{"$f":"Singles!AW202","v":319},{"$f":"Singles!AX202","v":1701.0486460000002},null,null,null,null,null,null,null,null,null,null,null,null,null,null,null,null,null,null,null,null,"Victoria Shen Fen Tan"]
[null,4,{"$f":"Singles!AO204","v":"Sinead Naughton"},{"$f":"Singles!AP204","v":"GMITC"},{"$f":"Singles!AQ204","v":387},{"$f":"Singles!AR204","v":0},{"$f":"Singles!AS204","v":397},{"$f":"Singles!AT204","v":372},{"$f":"Singles!AU204","v":436},null,{"$f":"Singles!AV204","v":1592},{"$f":"Singles!AW204","v":0},{"$f":"Singles!AX204","v":1592.0436396999999},null,null,null,null,null,null,null,null,null,null,null,null,null,null,null,null,null,null,null,null,"Sinead Naughton"]
[null,5,{"$f":"Singles!AO205","v":"Aishling Dignam"},{"$f":"Singles!AP205","v":"DCU"},{"$f":"Singles!AQ205","v":0},{"$f":"Singles!AR205","v":346},{"$f":"Singles!AS205","v":314},{"$f":"Singles!AT205","v":359},{"$f":"Singles!AU205","v":398},null,{"$f":"Singles!AV205","v":1417},{"$f":"Singles!AW205","v":0},{"$f":"Singles!AX205","v":1417.0398359000001},null,null,null,null,null,null,null,null,null,null,null,null,null,null,null,null,null,null,null,null,"Aishling Dignam"]
[null,6,{"$f":"Singles!AO206","v":"Katie Doyle"},{"$f":"Singles!AP206","v":"UCD"},{"$f":"Singles!AQ206","v":435},{"$f":"Singles!AR206","v":0},{"$f":"Singles!AS206","v":0},{"$f":"Singles!AT206","v":436},{"$f":"Singles!AU206","v":464},null,{"$f":"Singles!AV206","v":1335},{"$f":"Singles!AW206","v":0},{"$f":"Singles!AX206","v":1335.0464436},null,null,null,null,null,null,null,null,null,null,null,null,null,null,null,null,null,null,null,null,"Katie Doyle"]
[null,7,{"$f":"Singles!AO207","v":"Ciara Fergus"},{"$f":"Singles!AP207","v":"UL"},{"$f":"Singles!AQ207","v":335},{"$f":"Singles!AR207","v":352},{"$f":"Singles!AS207","v":277},{"$f":"Singles!AT207","v":306},{"$f":"Singles!AU207","v":0},null,{"$f":"Singles!AV207","v":1270},{"$f":"Singles!AW207","v":0},{"$f":"Singles!AX207","v":1270.0352335},null,null,null,null,null,null,null,null,null,null,null,null,null,null,null,null,null,null,null,null,"Ciara Fergus"]
[null,8,{"$f":"Singles!AO208","v":"Emma Goodwin"},{"$f":"Singles!AP208","v":"DCU"},{"$f":"Singles!AQ208","v":0},{"$f":"Singles!AR208","v":375},{"$f":"Singles!AS208","v":290},{"$f":"Singles!AT208","v":311},{"$f":"Singles!AU208","v":0},null,{"$f":"Singles!AV208","v":976},{"$f":"Singles!AW208","v":0},{"$f":"Singles!AX208","v":976.03753110000002},null,null,null,null,null,null,null,null,null,null,null,null,null,null,null,null,null,null,null,null,"Emma Goodwin"]
[null,9,{"$f":"Singles!AO209","v":"Julia Obara"},{"$f":"Singles!AP209","v":"NUIG"},{"$f":"Singles!AQ209","v":354},{"$f":"Singles!AR209","v":0},{"$f":"Singles!AS209","v":357},{"$f":"Singles!AT209","v":91},{"$f":"Singles!AU209","v":0},null,{"$f":"Singles!AV209","v":802},{"$f":"Singles!AW209","v":0},{"$f":"Singles!AX209","v":802.03573540000002},null,null,null,null,null,null,null,null,null,null,null,null,null,null,null,null,null,null,null,null,"Julia Obara"]
[null,10,{"$f":"Singles!AO210","v":"Clarke-Ng Choy-Ping"},{"$f":"Singles!AP210","v":"DUAC"},{"$f":"Singles!AQ210","v":0},{"$f":"Singles!AR210","v":367},{"$f":"Singles!AS210","v":0},{"$f":"Singles!AT210","v":407},{"$f":"Singles!AU210","v":0},null,{"$f":"Singles!AV210","v":774},{"$f":"Singles!AW210","v":0},{"$f":"Singles!AX210","v":774.04073670000002},null,null,null,null,null,null,null,null,null,null,null,null,null,null,null,null,null,null,null,null,"Clarke-Ng Choy-Ping"]
[null,11,{"$f":"Singles!AO211","v":"Eve Kearney"},{"$f":"Singles!AP211","v":"DUAC"},{"$f":"Singles!AQ211","v":0},{"$f":"Singles!AR211","v":273},{"$f":"Singles!AS211","v":0},{"$f":"Singles!AT211","v":0},{"$f":"Singles!AU211","v":380},null,{"$f":"Singles!AV211","v":653},{"$f":"Singles!AW211","v":0},{"$f":"Singles!AX211","v":653.03802730000007},null,null,null,null,null,null,null,null,null,null,null,null,null,null,null,null,null,null,null,null,"Eve Kearney"]
[null,12,{"$f":"Singles!AO212","v":0},{"$f":"Singles!AP212","v":"TBC"},{"$f":"Singles!AQ212","v":"TBC"},{"$f":"Singles!AR212","v":"TBC"},{"$f":"Singles!AS212","v":"TBC"},{"$f":"Singles!AT212","v":"TBC"},{"$f":"Singles!AU212","v":"TBC"},null,{"$f":"Singles!AV212","v":0},{"$f":"Singles!AW212","v":0},{"$f":"Singles!AX212","v":0},null,null,null,null,null,null,null,null,null,null,null,null,null,null,null,null,null,null,null,null,0]
[null,13,{"$f":"Singles!AO213","v":0},{"$f":"Singles!AP213","v":"TBC"},{"$f":"Singles!AQ213","v":"TBC"},{"$f":"Singles!AR213","v":"TBC"},{"$f":"Singles!AS213","v":"TBC"},{"$f":"Singles!AT213","v":"TBC"},{"$f":"Singles!AU213","v":"TBC"},null,{"$f":"Singles!AV213","v":0},{"$f":"Singles!AW213","v":0},{"$f":"Singles!AX213","v":0},null,null,null,null,null,null,null,null,null,null,null,null,null,null,null,null,null,null,null,null,0]
[null,14,{"$f":"Singles!AO214","v":0},{"$f":"Singles!AP214","v":"TBC"},{"$f":"Singles!AQ214","v":"TBC"},{"$f":"Singles!AR214","v":"TBC"},{"$f":"Singles!AS214","v":"TBC"},{"$f":"Singles!AT214","v":"TBC"},{"$f":"Singles!AU214","v":"TBC"},null,{"$f":"Singles!AV214","v":0},{"$f":"Singles!AW214","v":0},{"$f":"Singles!AX214","v":0},null,null,null,null,null,null,null,null,null,null,null,null,null,null,null,null,null,null,null,null,0]
[null,15,{"$f":"Singles!AO215","v":0},{"$f":"Singles!AP215","v":"TBC"},{"$f":"Singles!AQ215","v":"TBC"},{"$f":"Singles!AR215","v":"TBC"},{"$f":"Singles!AS215","v":"TBC"},{"$f":"Singles!AT215","v":"TBC"},{"$f":"Singles!AU215","v":"TBC"},null,{"$f":"Singles!AV215","v":0},{"$f":"Singles!AW215","v":0},{"$f":"Singles!AX215","v":0},null,null,null,null,null,null,null,null,null,null,null,null,null,null,null,null,null,null,null,null,0]
[null,16,{"$f":"Singles!AO216","v":0},{"$f":"Singles!AP216","v":"TBC"},{"$f":"Singles!AQ216","v":"TBC"},{"$f":"Singles!AR216","v":"TBC"},{"$f":"Singles!AS216","v":"TBC"},{"$f":"Singles!AT216","v":"TBC"},{"$f":"Singles!AU216","v":"TBC"},null,{"$f":"Singles!AV216","v":0},{"$f":"Singles!AW216","v":0},{"$f":"Singles!AX216","v":0},null,null,null,null,null,null,null,null,null,null,null,null,null,null,null,null,null,null,null,null,0]
[null,17,{"$f":"Singles!AO217","v":0},{"$f":"Singles!AP217","v":"TBC"},{"$f":"Singles!AQ217","v":"TBC"},{"$f":"Singles!AR217","v":"TBC"},{"$f":"Singles!AS217","v":"TBC"},{"$f":"Singles!AT217","v":"TBC"},{"$f":"Singles!AU217","v":"TBC"},null,{"$f":"Singles!AV217","v":0},{"$f":"Singles!AW217","v":0},{"$f":"Singles!AX217","v":0},null,null,null,null,null,null,null,null,null,null,null,null,null,null,null,null,null,null,null,null,0]
[null,18,{"$f":"Singles!AO218","v":0},{"$f":"Singles!AP218","v":"TBC"},{"$f":"Singles!AQ218","v":"TBC"},{"$f":"Singles!AR218","v":"TBC"},{"$f":"Singles!AS218","v":"TBC"},{"$f":"Singles!AT218","v":"TBC"},{"$f":"Singles!AU218","v":"TBC"},null,{"$f":"Singles!AV218","v":0},{"$f":"Singles!AW218","v":0},{"$f":"Singles!AX218","v":0},null,null,null,null,null,null,null,null,null,null,null,null,null,null,null,null,null,null,null,null,0]
[null,19,{"$f":"Singles!AO219","v":0},{"$f":"Singles!AP219","v":"TBC"},{"$f":"Singles!AQ219","v":"TBC"},{"$f":"Singles!AR219","v":"TBC"},{"$f":"Singles!AS219","v":"TBC"},{"$f":"Singles!AT219","v":"TBC"},{"$f":"Singles!AU219","v":"TBC"},null,{"$f":"Singles!AV219","v":0},{"$f":"Singles!AW219","v":0},{"$f":"Singles!AX219","v":0},null,null,null,null,null,null,null,null,null,null,null,null,null,null,null,null,null,null,null,null,0]
[null,20,{"$f":"Singles!AO220","v":0},{"$f":"Singles!AP220","v":"TBC"},{"$f":"Singles!AQ220","v":"TBC"},{"$f":"Singles!AR220","v":"TBC"},{"$f":"Singles!AS220","v":"TBC"},{"$f":"Singles!AT220","v":"TBC"},{"$f":"Singles!AU220","v":"TBC"},null,{"$f":"Singles!AV220","v":0},{"$f":"Singles!AW220","v":0},{"$f":"Singles!AX220","v":0},null,null,null,null,null,null,null,null,null,null,null,null,null,null,null,null,null,null,null,null,0]
[null,21,{"$f":"Singles!AO221","v":0},{"$f":"Singles!AP221","v":"TBC"},{"$f":"Singles!AQ221","v":"TBC"},{"$f":"Singles!AR221","v":"TBC"},{"$f":"Singles!AS221","v":"TBC"},{"$f":"Singles!AT221","v":"TBC"},{"$f":"Singles!AU221","v":"TBC"},null,{"$f":"Singles!AV221","v":0},{"$f":"Singles!AW221","v":0},{"$f":"Singles!AX221","v":0},null,null,null,null,null,null,null,null,null,null,null,null,null,null,null,null,null,null,null,null,0]
[null,22,{"$f":"Singles!AO222","v":0},{"$f":"Singles!AP222","v":"TBC"},{"$f":"Singles!AQ222","v":"TBC"},{"$f":"Singles!AR222","v":"TBC"},{"$f":"Singles!AS222","v":"TBC"},{"$f":"Singles!AT222","v":"TBC"},{"$f":"Singles!AU222","v":"TBC"},null,{"$f":"Singles!AV222","v":0},{"$f":"Singles!AW222","v":0},{"$f":"Singles!AX222","v":0},null,null,null,null,null,null,null,null,null,null,null,null,null,null,null,null,null,null,null,null,0]
[null,23,{"$f":"Singles!AO223","v":0},{"$f":"Singles!AP223","v":"TBC"},{"$f":"Singles!AQ223","v":"TBC"},{"$f":"Singles!AR223","v":"TBC"},{"$f":"Singles!AS223","v":"TBC"},{"$f":"Singles!AT223","v":"TBC"},{"$f":"Singles!AU223","v":"TBC"},null,{"$f":"Singles!AV223","v":0},{"$f":"Singles!AW223","v":0},{"$f":"Singles!AX223","v":0},null,null,null,null,null,null,null,null,null,null,null,null,null,null,null,null,null,null,null,null,0]
[null,24,{"$f":"Singles!AO224","v":0},{"$f":"Singles!AP224","v":"TBC"},{"$f":"Singles!AQ224","v":"TBC"},{"$f":"Singles!AR224","v":"TBC"},{"$f":"Singles!AS224","v":"TBC"},{"$f":"Singles!AT224","v":"TBC"},{"$f":"Singles!AU224","v":"TBC"},null,{"$f":"Singles!AV224","v":0},{"$f":"Singles!AW224","v":0},{"$f":"Singles!AX224","v":0},null,null,null,null,null,null,null,null,null,null,null,null,null,null,null,null,null,null,null,null,0]
[null,25,{"$f":"Singles!AO225","v":0},{"$f":"Singles!AP225","v":"TBC"},{"$f":"Singles!AQ225","v":"TBC"},{"$f":"Singles!AR225","v":"TBC"},{"$f":"Singles!AS225","v":"TBC"},{"$f":"Singles!AT225","v":"TBC"},{"$f":"Singles!AU225","v":"TBC"},null,{"$f":"Singles!AV225","v":0},{"$f":"Singles!AW225","v":0},{"$f":"Singles!AX225","v":0},null,null,null,null,null,null,null,null,null,null,null,null,null,null,null,null,null,null,null,null,0]
[null,26,{"$f":"Singles!AO226","v":0},{"$f":"Singles!AP226","v":"TBC"},{"$f":"Singles!AQ226","v":"TBC"},{"$f":"Singles!AR226","v":"TBC"},{"$f":"Singles!AS226","v":"TBC"},{"$f":"Singles!AT226","v":"TBC"},{"$f":"Singles!AU226","v":"TBC"},null,{"$f":"Singles!AV226","v":0},{"$f":"Singles!AW226","v":0},{"$f":"Singles!AX226","v":0},null,null,null,null,null,null,null,null,null,null,null,null,null,null,null,null,null,null,null,null,0]
[null,27,{"$f":"Singles!AO227","v":0},{"$f":"Singles!AP227","v":"TBC"},{"$f":"Singles!AQ227","v":"TBC"},{"$f":"Singles!AR227","v":"TBC"},{"$f":"Singles!AS227","v":"TBC"},{"$f":"Singles!AT227","v":"TBC"},{"$f":"Singles!AU227","v":"TBC"},null,{"$f":"Singles!AV227","v":0},{"$f":"Singles!AW227","v":0},{"$f":"Singles!AX227","v":0},null,null,null,null,null,null,null,null,null,null,null,null,null,null,null,null,null,null,null,null,0]
[null,28,{"$f":"Singles!AO228","v":0},{"$f":"Singles!AP228","v":"TBC"},{"$f":"Singles!AQ228","v":"TBC"},{"$f":"Singles!AR228","v":"TBC"},{"$f":"Singles!AS228","v":"TBC"},{"$f":"Singles!AT228","v":"TBC"},{"$f":"Singles!AU228","v":"TBC"},null,{"$f":"Singles!AV228","v":0},{"$f":"Singles!AW228","v":0},{"$f":"Singles!AX228","v":0},null,null,null,null,null,null,null,null,null,null,null,null,null,null,null,null,null,null,null,null,0]
[null,29,{"$f":"Singles!AO229","v":0},{"$f":"Singles!AP229","v":"TBC"},{"$f":"Singles!AQ229","v":"TBC"},{"$f":"Singles!AR229","v":"TBC"},{"$f":"Singles!AS229","v":"TBC"},{"$f":"Singles!AT229","v":"TBC"},{"$f":"Singles!AU229","v":"TBC"},null,{"$f":"Singles!AV229","v":0},{"$f":"Singles!AW229","v":0},{"$f":"Singles!AX229","v":0},null,null,null,null,null,null,null,null,null,null,null,null,null,null,null,null,null,null,null,null,0]
[null,30,{"$f":"Singles!AO230","v":0},{"$f":"Singles!AP230","v":"TBC"},{"$f":"Singles!AQ230","v":"TBC"},{"$f":"Singles!AR230","v":"TBC"},{"$f":"Singles!AS230","v":"TBC"},{"$f":"Singles!AT230","v":"TBC"},{"$f":"Singles!AU230","v":"TBC"},null,{"$f":"Singles!AV230","v":0},{"$f":"Singles!AW230","v":0},{"$f":"Singles!AX230","v":0},null,null,null,null,null,null,null,null,null,null,null,null,null,null,null,null,null,null,null,null,0]
[null,31,{"$f":"Singles!AO231","v":0},{"$f":"Singles!AP231","v":"TBC"},{"$f":"Singles!AQ231","v":"TBC"},{"$f":"Singles!AR231","v":"TBC"},{"$f":"Singles!AS231","v":"TBC"},{"$f":"Singles!AT231","v":"TBC"},{"$f":"Singles!AU231","v":"TBC"},null,{"$f":"Singles!AV231","v":0},{"$f":"Singles!AW231","v":0},{"$f":"Singles!AX231","v":0},null,null,null,null,null,null,null,null,null,null,null,null,null,null,null,null,null,null,null,null,0]
[null,32,{"$f":"Singles!AO232","v":0},{"$f":"Singles!AP232","v":"TBC"},{"$f":"Singles!AQ232","v":"TBC"},{"$f":"Singles!AR232","v":"TBC"},{"$f":"Singles!AS232","v":"TBC"},{"$f":"Singles!AT232","v":"TBC"},{"$f":"Singles!AU232","v":"TBC"},null,{"$f":"Singles!AV232","v":0},{"$f":"Singles!AW232","v":0},{"$f":"Singles!AX232","v":0},null,null,null,null,null,null,null,null,null,null,null,null,null,null,null,null,null,null,null,null,0]
[null,33,{"$f":"Singles!AO233","v":0},{"$f":"Singles!AP233","v":"TBC"},{"$f":"Singles!AQ233","v":"TBC"},{"$f":"Singles!AR233","v":"TBC"},{"$f":"Singles!AS233","v":"TBC"},{"$f":"Singles!AT233","v":"TBC"},{"$f":"Singles!AU233","v":"TBC"},null,{"$f":"Singles!AV233","v":0},{"$f":"Singles!AW233","v":0},{"$f":"Singles!AX233","v":0},null,null,null,null,null,null,null,null,null,null,null,null,null,null,null,null,null,null,null,null,{"$f":"C39","v":0}]
[null,34,{"$f":"Singles!AO234","v":0},{"$f":"Singles!AP234","v":"TBC"},{"$f":"Singles!AQ234","v":"TBC"},{"$f":"Singles!AR234","v":"TBC"},{"$f":"Singles!AS234","v":"TBC"},{"$f":"Singles!AT234","v":"TBC"},{"$f":"Singles!AU234","v":"TBC"},null,{"$f":"Singles!AV234","v":0},{"$f":"Singles!AW234","v":0},{"$f":"Singles!AX234","v":0},null,null,null,null,null,null,null,null,null,null,null,null,null,null,null,null,null,null,null,null,0]
[null,35,{"$f":"Singles!AO235","v":0},{"$f":"Singles!AP235","v":"TBC"},{"$f":"Singles!AQ235","v":"TBC"},{"$f":"Singles!AR235","v":"TBC"},{"$f":"Singles!AS235","v":"TBC"},{"$f":"Singles!AT235","v":"TBC"},{"$f":"Singles!AU235","v":"TBC"},null,{"$f":"Singles!AV235","v":0},{"$f":"Singles!AW235","v":0},{"$f":"Singles!AX235","v":0},null,null,null,null,null,null,null,null,null,null,null,null,null,null,null,null,null,null,null,null,0]
[null,36,{"$f":"Singles!AO236","v":0},{"$f":"Singles!AP236","v":"TBC"},{"$f":"Singles!AQ236","v":"TBC"},{"$f":"Singles!AR236","v":"TBC"},{"$f":"Singles!AS236","v":"TBC"},{"$f":"Singles!AT236","v":"TBC"},{"$f":"Singles!AU236","v":"TBC"},null,{"$f":"Singles!AV236","v":0},{"$f":"Singles!AW236","v":0},{"$f":"Singles!AX236","v":0},null,null,null,null,null,null,null,null,null,null,null,null,null,null,null,null,null,null,null,null,0]
[null,37,{"$f":"Singles!AO237","v":0},{"$f":"Singles!AP237","v":"TBC"},{"$f":"Singles!AQ237","v":"TBC"},{"$f":"Singles!AR237","v":"TBC"},{"$f":"Singles!AS237","v":"TBC"},{"$f":"Singles!AT237","v":"TBC"},{"$f":"Singles!AU237","v":"TBC"},null,{"$f":"Singles!AV237","v":0},{"$f":"Singles!AW237","v":0},{"$f":"Singles!AX237","v":0},null,null,null,null,null,null,null,null,null,null,null,null,null,null,null,null,null,null,null,null,0]
[null,38,{"$f":"Singles!AO238","v":0},{"$f":"Singles!AP238","v":"TBC"},{"$f":"Singles!AQ238","v":"TBC"},{"$f":"Singles!AR238","v":"TBC"},{"$f":"Singles!AS238","v":"TBC"},{"$f":"Singles!AT238","v":"TBC"},{"$f":"Singles!AU238","v":"TBC"},null,{"$f":"Singles!AV238","v":0},{"$f":"Singles!AW238","v":0},{"$f":"Singles!AX238","v":0},null,null,null,null,null,null,null,null,null,null,null,null,null,null,null,null,null,null,null,null,0]
[null,39,{"$f":"Singles!AO239","v":0},{"$f":"Singles!AP239","v":"TBC"},{"$f":"Singles!AQ239","v":"TBC"},{"$f":"Singles!AR239","v":"TBC"},{"$f":"Singles!AS239","v":"TBC"},{"$f":"Singles!AT239","v":"TBC"},{"$f":"Singles!AU239","v":"TBC"},null,{"$f":"Singles!AV239","v":0},{"$f":"Singles!AW239","v":0},{"$f":"Singles!AX239","v":0},null,null,null,null,null,null,null,null,null,null,null,null,null,null,null,null,null,null,null,null,0]
[null,40,{"$f":"Singles!AO240","v":0},{"$f":"Singles!AP240","v":"TBC"},{"$f":"Singles!AQ240","v":"TBC"},{"$f":"Singles!AR240","v":"TBC"},{"$f":"Singles!AS240","v":"TBC"},{"$f":"Singles!AT240","v":"TBC"},{"$f":"Singles!AU240","v":"TBC"},null,{"$f":"Singles!AV240","v":0},{"$f":"Singles!AW240","v":0},{"$f":"Singles!AX240","v":0},null,null,null,null,null,null,null,null,null,null,null,null,null,null,null,null,null,null,null,null,0]
[null,41,{"$f":"Singles!AO241","v":0},{"$f":"Singles!AP241","v":"TBC"},{"$f":"Singles!AQ241","v":"TBC"},{"$f":"Singles!AR241","v":"TBC"},{"$f":"Singles!AS241","v":"TBC"},{"$f":"Singles!AT241","v":"TBC"},{"$f":"Singles!AU241","v":"TBC"},null,{"$f":"Singles!AV241","v":0},{"$f":"Singles!AW241","v":0},{"$f":"Singles!AX241","v":0},null,null,null,null,null,null,null,null,null,null,null,null,null,null,null,null,null,null,null,null,0]
[null,42,{"$f":"Singles!AO242","v":0},{"$f":"Singles!AP242","v":"TBC"},{"$f":"Singles!AQ242","v":"TBC"},{"$f":"Singles!AR242","v":"TBC"},{"$f":"Singles!AS242","v":"TBC"},{"$f":"Singles!AT242","v":"TBC"},{"$f":"Singles!AU242","v":"TBC"},null,{"$f":"Singles!AV242","v":0},{"$f":"Singles!AW242","v":0},{"$f":"Singles!AX242","v":0},null,null,null,null,null,null,null,null,null,null,null,null,null,null,null,null,null,null,null,null,0]
[null,43,{"$f":"Singles!AO243","v":0},{"$f":"Singles!AP243","v":"TBC"},{"$f":"Singles!AQ243","v":"TBC"},{"$f":"Singles!AR243","v":"TBC"},{"$f":"Singles!AS243","v":"TBC"},{"$f":"Singles!AT243","v":"TBC"},{"$f":"Singles!AU243","v":"TBC"},null,{"$f":"Singles!AV243","v":0},{"$f":"Singles!AW243","v":0},{"$f":"Singles!AX243","v":0},null,null,null,null,null,null,null,null,null,null,null,null,null,null,null,null,null,null,null,null,0]
[null,44,{"$f":"Singles!AO244","v":0},{"$f":"Singles!AP244","v":"TBC"},{"$f":"Singles!AQ244","v":"TBC"},{"$f":"Singles!AR244","v":"TBC"},{"$f":"Singles!AS244","v":"TBC"},{"$f":"Singles!AT244","v":"TBC"},{"$f":"Singles!AU244","v":"TBC"},null,{"$f":"Singles!AV244","v":0},{"$f":"Singles!AW244","v":0},{"$f":"Singles!AX244","v":0},null,null,null,null,null,null,null,null,null,null,null,null,null,null,null,null,null,null,null,null,0]
[null,45,{"$f":"Singles!AO245","v":0},{"$f":"Singles!AP245","v":"TBC"},{"$f":"Singles!AQ245","v":"TBC"},{"$f":"Singles!AR245","v":"TBC"},{"$f":"Singles!AS245","v":"TBC"},{"$f":"Singles!AT245","v":"TBC"},{"$f":"Singles!AU245","v":"TBC"},null,{"$f":"Singles!AV245","v":0},{"$f":"Singles!AW245","v":0},{"$f":"Singles!AX245","v":0},null,null,null,null,null,null,null,null,null,null,null,null,null,null,null,null,null,null,null,null,0]
[null,46,{"$f":"Singles!AO246","v":0},{"$f":"Singles!AP246","v":"TBC"},{"$f":"Singles!AQ246","v":"TBC"},{"$f":"Singles!AR246","v":"TBC"},{"$f":"Singles!AS246","v":"TBC"},{"$f":"Singles!AT246","v":"TBC"},{"$f":"Singles!AU246","v":"TBC"},null,{"$f":"Singles!AV246","v":0},{"$f":"Singles!AW246","v":0},{"$f":"Singles!AX246","v":0},null,null,null,null,null,null,null,null,null,null,null,null,null,null,null,null,null,null,null,null,0]
[null,47,{"$f":"Singles!AO247","v":0},{"$f":"Singles!AP247","v":"TBC"},{"$f":"Singles!AQ247","v":"TBC"},{"$f":"Singles!AR247","v":"TBC"},{"$f":"Singles!AS247","v":"TBC"},{"$f":"Singles!AT247","v":"TBC"},{"$f":"Singles!AU247","v":"TBC"},null,{"$f":"Singles!AV247","v":0},{"$f":"Singles!AW247","v":0},{"$f":"Singles!AX247","v":0},null,null,null,null,null,null,null,null,null,null,null,null,null,null,null,null,null,null,null,null,0]
[null,48,{"$f":"Singles!AO248","v":0},{"$f":"Singles!AP248","v":"TBC"},{"$f":"Singles!AQ248","v":"TBC"},{"$f":"Singles!AR248","v":"TBC"},{"$f":"Singles!AS248","v":"TBC"},{"$f":"Singles!AT248","v":"TBC"},{"$f":"Singles!AU248","v":"TBC"},null,{"$f":"Singles!AV248","v":0},{"$f":"Singles!AW248","v":0},{"$f":"Singles!AX248","v":0},null,null,null,null,null,null,null,null,null,null,null,null,null,null,null,null,null,null,null,null,0]
[null,49,{"$f":"Singles!AO249","v":0},{"$f":"Singles!AP249","v":"TBC"},{"$f":"Singles!AQ249","v":"TBC"},{"$f":"Singles!AR249","v":"TBC"},{"$f":"Singles!AS249","v":"TBC"},{"$f":"Singles!AT249","v":"TBC"},{"$f":"Singles!AU249","v":"TBC"},null,{"$f":"Singles!AV249","v":0},{"$f":"Singles!AW249","v":0},{"$f":"Singles!AX249","v":0},null,null,null,null,null,null,null,null,null,null,null,null,null,null,null,null,null,null,null,null,0]
[null,50,{"$f":"Singles!AO250","v":0},{"$f":"Singles!AP250","v":"TBC"},{"$f":"Singles!AQ250","v":"TBC"},{"$f":"Singles!AR250","v":"TBC"},{"$f":"Singles!AS250","v":"TBC"},{"$f":"Singles!AT250","v":"TBC"},{"$f":"Singles!AU250","v":"TBC"},null,{"$f":"Singles!AV250","v":0},{"$f":"Singles!AW250","v":0},{"$f":"Singles!AX250","v":0},null,null,null,null,null,null,null,null,null,null,null,null,null,null,null,null,null,null,null,null,0]
[null,51,{"$f":"Singles!AO251","v":0},{"$f":"Singles!AP251","v":"TBC"},{"$f":"Singles!AQ251","v":"TBC"},{"$f":"Singles!AR251","v":"TBC"},{"$f":"Singles!AS251","v":"TBC"},{"$f":"Singles!AT251","v":"TBC"},{"$f":"Singles!AU251","v":"TBC"},null,{"$f":"Singles!AV251","v":0},{"$f":"Singles!AW251","v":0},{"$f":"Singles!AX251","v":0},null,null,null,null,null,null,null,null,null,null,null,null,null,null,null,null,null,null,null,null,0]
[null,52,{"$f":"Singles!AO252","v":0},{"$f":"Singles!AP252","v":"TBC"},{"$f":"Singles!AQ252","v":"TBC"},{"$f":"Singles!AR252","v":"TBC"},{"$f":"Singles!AS252","v":"TBC"},{"$f":"Singles!AT252","v":"TBC"},{"$f":"Singles!AU252","v":"TBC"},null,{"$f":"Singles!AV252","v":0},{"$f":"Singles!AW252","v":0},{"$f":"Singles!AX252","v":0},null,null,null,null,null,null,null,null,null,null,null,null,null,null,null,null,null,null,null,null,0]
[null,53,{"$f":"Singles!AO253","v":0},{"$f":"Singles!AP253","v":"TBC"},{"$f":"Singles!AQ253","v":"TBC"},{"$f":"Singles!AR253","v":"TBC"},{"$f":"Singles!AS253","v":"TBC"},{"$f":"Singles!AT253","v":"TBC"},{"$f":"Singles!AU253","v":"TBC"},null,{"$f":"Singles!AV253","v":0},{"$f":"Singles!AW253","v":0},{"$f":"Singles!AX253","v":0},null,null,null,null,null,null,null,null,null,null,null,null,null,null,null,null,null,null,null,null,0]
[null,54,{"$f":"Singles!AO254","v":0},{"$f":"Singles!AP254","v":"TBC"},{"$f":"Singles!AQ254","v":"TBC"},{"$f":"Singles!AR254","v":"TBC"},{"$f":"Singles!AS254","v":"TBC"},{"$f":"Singles!AT254","v":"TBC"},{"$f":"Singles!AU254","v":"TBC"},null,{"$f":"Singles!AV254","v":0},{"$f":"Singles!AW254","v":0},{"$f":"Singles!AX254","v":0},null,null,null,null,null,null,null,null,null,null,null,null,null,null,null,null,null,null,null,null,0]
[null,55,{"$f":"Singles!AO255","v":0},{"$f":"Singles!AP255","v":"TBC"},{"$f":"Singles!AQ255","v":"TBC"},{"$f":"Singles!AR255","v":"TBC"},{"$f":"Singles!AS255","v":"TBC"},{"$f":"Singles!AT255","v":"TBC"},{"$f":"Singles!AU255","v":"TBC"},null,{"$f":"Singles!AV255","v":0},{"$f":"Singles!AW255","v":0},{"$f":"Singles!AX255","v":0},null,null,null,null,null,null,null,null,null,null,null,null,null,null,null,null,null,null,null,null,0]
[null,56,{"$f":"Singles!AO256","v":0},{"$f":"Singles!AP256","v":"TBC"},{"$f":"Singles!AQ256","v":"TBC"},{"$f":"Singles!AR256","v":"TBC"},{"$f":"Singles!AS256","v":"TBC"},{"$f":"Singles!AT256","v":"TBC"},{"$f":"Singles!AU256","v":"TBC"},null,{"$f":"Singles!AV256","v":0},{"$f":"Singles!AW256","v":0},{"$f":"Singles!AX256","v":0},null,null,null,null,null,null,null,null,null,null,null,null,null,null,null,null,null,null,null,null,0]
[null,57,{"$f":"Singles!AO257","v":0},{"$f":"Singles!AP257","v":"TBC"},{"$f":"Singles!AQ257","v":"TBC"},{"$f":"Singles!AR257","v":"TBC"},{"$f":"Singles!AS257","v":"TBC"},{"$f":"Singles!AT257","v":"TBC"},{"$f":"Singles!AU257","v":"TBC"},null,{"$f":"Singles!AV257","v":0},{"$f":"Singles!AW257","v":0},{"$f":"Singles!AX257","v":0},null,null,null,null,null,null,null,null,null,null,null,null,null,null,null,null,null,null,null,null,0]
[null,58,{"$f":"Singles!AO258","v":0},{"$f":"Singles!AP258","v":"TBC"},{"$f":"Singles!AQ258","v":"TBC"},{"$f":"Singles!AR258","v":"TBC"},{"$f":"Singles!AS258","v":"TBC"},{"$f":"Singles!AT258","v":"TBC"},{"$f":"Singles!AU258","v":"TBC"},null,{"$f":"Singles!AV258","v":0},{"$f":"Singles!AW258","v":0},{"$f":"Singles!AX258","v":0},null,null,null,null,null,null,null,null,null,null,null,null,null,null,null,null,null,null,null,null,0]
[null,59,{"$f":"Singles!AO259","v":0},{"$f":"Singles!AP259","v":"TBC"},{"$f":"Singles!AQ259","v":"TBC"},{"$f":"Singles!AR259","v":"TBC"},{"$f":"Singles!AS259","v":"TBC"},{"$f":"Singles!AT259","v":"TBC"},{"$f":"Singles!AU259","v":"TBC"},null,{"$f":"Singles!AV259","v":0},{"$f":"Singles!AW259","v":0},{"$f":"Singles!AX259","v":0},null,null,null,null,null,null,null,null,null,null,null,null,null,null,null,null,null,null,null,null,0]
[null,60,{"$f":"Singles!AO260","v":0},{"$f":"Singles!AP260","v":"TBC"},{"$f":"Singles!AQ260","v":"TBC"},{"$f":"Singles!AR260","v":"TBC"},{"$f":"Singles!AS260","v":"TBC"},{"$f":"Singles!AT260","v":"TBC"},{"$f":"Singles!AU260","v":"TBC"},null,{"$f":"Singles!AV260","v":0},{"$f":"Singles!AW260","v":0},{"$f":"Singles!AX260","v":0},null,null,null,null,null,null,null,null,null,null,null,null,null,null,null,null,null,null,null,null,0]
[null,61,{"$f":"Singles!AO261","v":0},{"$f":"Singles!AP261","v":"TBC"},{"$f":"Singles!AQ261","v":"TBC"},{"$f":"Singles!AR261","v":"TBC"},{"$f":"Singles!AS261","v":"TBC"},{"$f":"Singles!AT261","v":"TBC"},{"$f":"Singles!AU261","v":"TBC"},null,{"$f":"Singles!AV261","v":0},{"$f":"Singles!AW261","v":0},{"$f":"Singles!AX261","v":0},null,null,null,null,null,null,null,null,null,null,null,null,null,null,null,null,null,null,null,null,0]
[null,62,{"$f":"Singles!AO262","v":0},{"$f":"Singles!AP262","v":"TBC"},{"$f":"Singles!AQ262","v":"TBC"},{"$f":"Singles!AR262","v":"TBC"},{"$f":"Singles!AS262","v":"TBC"},{"$f":"Singles!AT262","v":"TBC"},{"$f":"Singles!AU262","v":"TBC"},null,{"$f":"Singles!AV262","v":0},{"$f":"Singles!AW262","v":0},{"$f":"Singles!AX262","v":0},null,null,null,null,null,null,null,null,null,null,null,null,null,null,null,null,null,null,null,null,0]
[null,63,{"$f":"Singles!AO263","v":0},{"$f":"Singles!AP263","v":"TBC"},{"$f":"Singles!AQ263","v":"TBC"},{"$f":"Singles!AR263","v":"TBC"},{"$f":"Singles!AS263","v":"TBC"},{"$f":"Singles!AT263","v":"TBC"},{"$f":"Singles!AU263","v":"TBC"},null,{"$f":"Singles!AV263","v":0},{"$f":"Singles!AW263","v":0},{"$f":"Singles!AX263","v":0},null,null,null,null,null,null,null,null,null,null,null,null,null,null,null,null,null,null,null,null,0]
[null,64,{"$f":"Singles!AO264","v":0},{"$f":"Singles!AP264","v":"TBC"},{"$f":"Singles!AQ264","v":"TBC"},{"$f":"Singles!AR264","v":"TBC"},{"$f":"Singles!AS264","v":"TBC"},{"$f":"Singles!AT264","v":"TBC"},{"$f":"Singles!AU264","v":"TBC"},null,{"$f":"Singles!AV264","v":0},{"$f":"Singles!AW264","v":0},{"$f":"Singles!AX264","v":0},null,null,null,null,null,null,null,null,null,null,null,null,null,null,null,null,null,null,null,null,0]
[null,65,{"$f":"Singles!AO265","v":0},{"$f":"Singles!AP265","v":"TBC"},{"$f":"Singles!AQ265","v":"TBC"},{"$f":"Singles!AR265","v":"TBC"},{"$f":"Singles!AS265","v":"TBC"},{"$f":"Singles!AT265","v":"TBC"},{"$f":"Singles!AU265","v":"TBC"},null,{"$f":"Singles!AV265","v":0},{"$f":"Singles!AW265","v":0},{"$f":"Singles!AX265","v":0},null,null,null,null,null,null,null,null,null,null,null,null,null,null,null,null,null,null,null,null,0]
[null,66,{"$f":"Singles!AO266","v":0},{"$f":"Singles!AP266","v":"TBC"},{"$f":"Singles!AQ266","v":"TBC"},{"$f":"Singles!AR266","v":"TBC"},{"$f":"Singles!AS266","v":"TBC"},{"$f":"Singles!AT266","v":"TBC"},{"$f":"Singles!AU266","v":"TBC"},null,{"$f":"Singles!AV266","v":0},{"$f":"Singles!AW266","v":0},{"$f":"Singles!AX266","v":0},null,null,null,null,null,null,null,null,null,null,null,null,null,null,null,null,null,null,null,null,0]
[null,67,{"$f":"Singles!AO267","v":0},{"$f":"Singles!AP267","v":"TBC"},{"$f":"Singles!AQ267","v":"TBC"},{"$f":"Singles!AR267","v":"TBC"},{"$f":"Singles!AS267","v":"TBC"},{"$f":"Singles!AT267","v":"TBC"},{"$f":"Singles!AU267","v":"TBC"},null,{"$f":"Singles!AV267","v":0},{"$f":"Singles!AW267","v":0},{"$f":"Singles!AX267","v":0},null,null,null,null,null,null,null,null,null,null,null,null,null,null,null,null,null,null,null,null,0]
[null,68,{"$f":"Singles!AO268","v":0},{"$f":"Singles!AP268","v":"TBC"},{"$f":"Singles!AQ268","v":"TBC"},{"$f":"Singles!AR268","v":"TBC"},{"$f":"Singles!AS268","v":"TBC"},{"$f":"Singles!AT268","v":"TBC"},{"$f":"Singles!AU268","v":"TBC"},null,{"$f":"Singles!AV268","v":0},{"$f":"Singles!AW268","v":0},{"$f":"Singles!AX268","v":0},null,null,null,null,null,null,null,null,null,null,null,null,null,null,null,null,null,null,null,null,0]
[null,69,{"$f":"Singles!AO269","v":0},{"$f":"Singles!AP269","v":"TBC"},{"$f":"Singles!AQ269","v":"TBC"},{"$f":"Singles!AR269","v":"TBC"},{"$f":"Singles!AS269","v":"TBC"},{"$f":"Singles!AT269","v":"TBC"},{"$f":"Singles!AU269","v":"TBC"},null,{"$f":"Singles!AV269","v":0},{"$f":"Singles!AW269","v":0},{"$f":"Singles!AX269","v":0},null,null,null,null,null,null,null,null,null,null,null,null,null,null,null,null,null,null,null,null,0]
[null,70,{"$f":"Singles!AO270","v":0},{"$f":"Singles!AP270","v":"TBC"},{"$f":"Singles!AQ270","v":"TBC"},{"$f":"Singles!AR270","v":"TBC"},{"$f":"Singles!AS270","v":"TBC"},{"$f":"Singles!AT270","v":"TBC"},{"$f":"Singles!AU270","v":"TBC"},null,{"$f":"Singles!AV270","v":0},{"$f":"Singles!AW270","v":0},{"$f":"Singles!AX270","v":0},null,null,null,null,null,null,null,null,null,null,null,null,null,null,null,null,null,null,null,null,0]
[null,71,{"$f":"Singles!AO271","v":0},{"$f":"Singles!AP271","v":"TBC"},{"$f":"Singles!AQ271","v":"TBC"},{"$f":"Singles!AR271","v":"TBC"},{"$f":"Singles!AS271","v":"TBC"},{"$f":"Singles!AT271","v":"TBC"},{"$f":"Singles!AU271","v":"TBC"},null,{"$f":"Singles!AV271","v":0},{"$f":"Singles!AW271","v":0},{"$f":"Singles!AX271","v":0},null,null,null,null,null,null,null,null,null,null,null,null,null,null,null,null,null,null,null,null,0]
[null,72,{"$f":"Singles!AO272","v":0},{"$f":"Singles!AP272","v":"TBC"},{"$f":"Singles!AQ272","v":"TBC"},{"$f":"Singles!AR272","v":"TBC"},{"$f":"Singles!AS272","v":"TBC"},{"$f":"Singles!AT272","v":"TBC"},{"$f":"Singles!AU272","v":"TBC"},null,{"$f":"Singles!AV272","v":0},{"$f":"Singles!AW272","v":0},{"$f":"Singles!AX272","v":0},null,null,null,null,null,null,null,null,null,null,null,null,null,null,null,null,null,null,null,null,0]
[null,73,{"$f":"Singles!AO273","v":0},{"$f":"Singles!AP273","v":"TBC"},{"$f":"Singles!AQ273","v":"TBC"},{"$f":"Singles!AR273","v":"TBC"},{"$f":"Singles!AS273","v":"TBC"},{"$f":"Singles!AT273","v":"TBC"},{"$f":"Singles!AU273","v":"TBC"},null,{"$f":"Singles!AV273","v":0},{"$f":"Singles!AW273","v":0},{"$f":"Singles!AX273","v":0},null,null,null,null,null,null,null,null,null,null,null,null,null,null,null,null,null,null,null,null,0]
[null,74,{"$f":"Singles!AO274","v":0},{"$f":"Singles!AP274","v":"TBC"},{"$f":"Singles!AQ274","v":"TBC"},{"$f":"Singles!AR274","v":"TBC"},{"$f":"Singles!AS274","v":"TBC"},{"$f":"Singles!AT274","v":"TBC"},{"$f":"Singles!AU274","v":"TBC"},null,{"$f":"Singles!AV274","v":0},{"$f":"Singles!AW274","v":0},{"$f":"Singles!AX274","v":0},null,null,null,null,null,null,null,null,null,null,null,null,null,null,null,null,null,null,null,null,0]
[null,75,{"$f":"Singles!AO275","v":0},{"$f":"Singles!AP275","v":"TBC"},{"$f":"Singles!AQ275","v":"TBC"},{"$f":"Singles!AR275","v":"TBC"},{"$f":"Singles!AS275","v":"TBC"},{"$f":"Singles!AT275","v":"TBC"},{"$f":"Singles!AU275","v":"TBC"},null,{"$f":"Singles!AV275","v":0},{"$f":"Singles!AW275","v":0},{"$f":"Singles!AX275","v":0},null,null,null,null,null,null,null,null,null,null,null,null,null,null,null,null,null,null,null,null,0]
[{"$f":"$D$7","v":"DCU"}]

{"sheet":"RAM","index":6,"n_rows":82,"n_cols":34,"rows_kept":82,"cut":false,"hidden":false,"merged":[[1,13,80,13],[81,0,81,13],[1,0,80,0],[0,0,0,13],[1,4,1,8],[1,10,1,12],[1,1,3,3],[2,10,3,10],[2,11,3,11],[2,12,3,12],[4,1,4,8],[4,10,4,12],[1,9,80,9]]}
[{"$f":"$D$7","v":"DKIT"}]
[{"$f":"$D$7","v":"DKIT"},"Male Advanced Recurve",null,null,"Host Club",null,null,null,null,{"$f":"$D$7","v":"DKIT"},"Scores",null,null,"DKIT",null,null,null,null,null,null,null,null,null,null,null,null,null,null,null,null,null,null,null,{"$f":"AH7","v":"Yeo Eng Jet"}]
[null,null,null,null,{"$f":"Entries!K6","v":"UL IV"},{"$f":"Entries!K7","v":"DkIT IV"},{"$f":"Entries!K8","v":"GMIT IV"},{"$f":"Entries!K9","v":"DCU IV"},{"$f":"Entries!K10","v":"NUIG IV"},null,"Total","Lowest","League"]
[]
[null,"DKIT",null,null,null,null,null,null,null,null,"DKIT"]
[null,null,"Name","College",{"$f":"Entries!K6","v":"UL IV"},{"$f":"Entries!K7","v":"DkIT IV"},{"$f":"Entries!K8","v":"GMIT IV"},{"$f":"Entries!K9","v":"DCU IV"},{"$f":"Entries!K10","v":"NUIG IV"},null,"Total","Lowest","League total"]
[null,1,{"$f":"Singles!BB201","v":"Yeo Eng Jet"},{"$f":"Singles!BC201","v":"DKIT"},{"$f":"Singles!BD201","v":514},{"$f":"Singles!BE201","v":527},{"$f":"Singles!BF201","v":507},{"$f":"Singles!BG201","v":520},{"$f":"Singles!BH201","v":540},null,{"$f":"Singles!BI201","v":2608},{"$f":"Singles!BJ201","v":507},{"$f":"Singles!BK201","v":2101.0540527000003},null,null,null,null,null,null,null,null,null,null,null,null,null,null,null,null,null,null,null,null,{"$f":"C7","v":"Yeo Eng Jet"}]
[null,2,{"$f":"Singles!BB202","v":"Carl McCaffery"},{"$f":"Singles!BC202","v":"UCD"},{"$f":"Singles!BD202","v":522},{"$f":"Singles!BE202","v":517},{"$f":"Singles!BF202","v":529},{"$f":"Singles!BG202","v":528},{"$f":"Singles!BH202","v":503},null,{"$f":"Singles!BI202","v":2599},{"$f":"Singles!BJ202","v":503},{"$f":"Singles!BK202","v":2096.0529528000002},null,null,null,null,null,null,null,null,null,null,null,null,null,null,null,null,null,null,null,null,"Carl McCaffery"]
[null,3,{"$f":"Singles!BB203","v":"Diego Coyle Diez"},{"$f":"Singles!BC203","v":"MU"},{"$f":"Singles!BD203","v":523},{"$f":"Singles!BE203","v":486},{"$f":"Singles!BF203","v":530},{"$f":"Singles!BG203","v":512},{"$f":"Singles!BH203","v":524},null,{"$f":"Singles!BI203","v":2575},{"$f":"Singles!BJ203","v":486},{"$f":"Singles!BK203","v":2089.0530524000001},null,null,null,null,null,null,null,null,null,null,null,null,null,null,null,null,null,null,null,null,"Diego Coyle Diez"]
[null,4,{"$f":"Singles!BB204","v":"Brendan Forde"},{"$f":"Singles!BC204","v":"DIT"},{"$f":"Singles!BD204","v":509},{"$f":"Singles!BE204","v":506},{"$f":"Singles!BF204","v":515},{"$f":"Singles!BG204","v":513},{"$f":"Singles!BH204","v":512},null,{"$f":"Singles!BI204","v":2555},{"$f":"Singles!BJ204","v":506},{"$f":"Singles!BK204","v":2049.0515513},null,null,null,null,null,null,null,null,null,null,null,null,null,null,null,null,null,null,null,null,"Brendan Forde"]
[null,5,{"$f":"Singles!BB210","v":"Dale Burke"},{"$f":"Singles!BC210","v":"GMIT"},{"$f":"Singles!BD210","v":524},{"$f":"Singles!BE210","v":488},{"$f":"Singles!BF210","v":517},{"$f":"Singles!BG210","v":0},{"$f":"Singles!BH210","v":501},null,{"$f":"Singles!BI210","v":2030},{"$f":"Singles!BJ210","v":0},{"$f":"Singles!BK210","v":2030.0524517000001},null,null,null,null,null,null,null,null,null,null,null,null,null,null,null,null,null,null,null,null,"Dale Burke"]
[null,6,{"$f":"Singles!BB205","v":"Hugh Farrell"},{"$f":"Singles!BC205","v":"MU"},{"$f":"Singles!BD205","v":495},{"$f":"Singles!BE205","v":495},{"$f":"Singles!BF205","v":509},{"$f":"Singles!BG205","v":482},{"$f":"Singles!BH205","v":502},null,{"$f":"Singles!BI205","v":2483},{"$f":"Singles!BJ205","v":482},{"$f":"Singles!BK205","v":2001.0509502},null,null,null,null,null,null,null,null,null,null,null,null,null,null,null,null,null,null,null,null,"Hugh Farrell"]
[null,7,{"$f":"Singles!BB206","v":"Kevin Kok Zhi Hao"},{"$f":"Singles!BC206","v":"DKIT"},{"$f":"Singles!BD206","v":499},{"$f":"Singles!BE206","v":510},{"$f":"Singles!BF206","v":458},{"$f":"Singles!BG206","v":495},{"$f":"Singles!BH206","v":496},null,{"$f":"Singles!BI206","v":2458},{"$f":"Singles!BJ206","v":458},{"$f":"Singles!BK206","v":2000.0510499},null,null,null,null,null,null,null,null,null,null,null,null,null,null,null,null,null,null,null,null,"Kevin Kok Zhi Hao"]
[null,8,{"$f":"Singles!BB208","v":"Aidan Darcy"},{"$f":"Singles!BC208","v":"IT Tallaght"},{"$f":"Singles!BD208","v":401},{"$f":"Singles!BE208","v":488},{"$f":"Singles!BF208","v":525},{"$f":"Singles!BG208","v":473},{"$f":"Singles!BH208","v":503},null,{"$f":"Singles!BI208","v":2390},{"$f":"Singles!BJ208","v":401},{"$f":"Singles!BK208","v":1989.0525503000001},null,null,null,null,null,null,null,null,null,null,null,null,null,null,null,null,null,null,null,null,"Aidan Darcy"]
[null,9,{"$f":"Singles!BB207","v":"James Byrne "},{"$f":"Singles!BC207","v":"DIT"},{"$f":"Singles!BD207","v":477},{"$f":"Singles!BE207","v":497},{"$f":"Singles!BF207","v":479},{"$f":"Singles!BG207","v":481},{"$f":"Singles!BH207","v":510},null,{"$f":"Singles!BI207","v":2444},{"$f":"Singles!BJ207","v":477},{"$f":"Singles!BK207","v":1967.0510497},null,null,null,null,null,null,null,null,null,null,null,null,null,null,null,null,null,null,null,null,"James Byrne "]
[null,10,{"$f":"Singles!BB209","v":"Patrick Molloy"},{"$f":"Singles!BC209","v":"NUIG"},{"$f":"Singles!BD209","v":410},{"$f":"Singles!BE209","v":430},{"$f":"Singles!BF209","v":507},{"$f":"Singles!BG209","v":483},{"$f":"Singles!BH209","v":516},null,{"$f":"Singles!BI209","v":2346},{"$f":"Singles!BJ209","v":410},{"$f":"Singles!BK209","v":1936.0516507},null,null,null,null,null,null,null,null,null,null,null,null,null,null,null,null,null,null,null,null,"Patrick Molloy"]
[null,11,{"$f":"Singles!BB211","v":"Jordan McCord"},{"$f":"Singles!BC211","v":"UU"},{"$f":"Singles!BD211","v":0},{"$f":"Singles!BE211","v":418},{"$f":"Singles!BF211","v":505},{"$f":"Singles!BG211","v":478},{"$f":"Singles!BH211","v":496},null,{"$f":"Singles!BI211","v":1897},{"$f":"Singles!BJ211","v":0},{"$f":"Singles!BK211","v":1897.0505496000001},null,null,null,null,null,null,null,null,null,null,null,null,null,null,null,null,null,null,null,null,"Jordan McCord"]
[null,12,{"$f":"Singles!BB212","v":"Eric Moore"},{"$f":"Singles!BC212","v":"NUIG"},{"$f":"Singles!BD212","v":399},{"$f":"Singles!BE212","v":380},{"$f":"Singles!BF212","v":0},{"$f":"Singles!BG212","v":322},{"$f":"Singles!BH212","v":384},null,{"$f":"Singles!BI212","v":1485},{"$f":"Singles!BJ212","v":0},{"$f":"Singles!BK212","v":1485.0399384},null,null,null,null,null,null,null,null,null,null,null,null,null,null,null,null,null,null,null,null,"Eric Moore"]
[null,13,{"$f":"Singles!BB213","v":"Dáire Healy"},{"$f":"Singles!BC213","v":"DUAC"},{"$f":"Singles!BD213","v":0},{"$f":"Singles!BE213","v":389},{"$f":"Singles!BF213","v":0},{"$f":"Singles!BG213","v":379},{"$f":"Singles!BH213","v":410},null,{"$f":"Singles!BI213","v":1178},{"$f":"Singles!BJ213","v":0},{"$f":"Singles!BK213","v":1178.0410388999999},null,null,null,null,null,null,null,null,null,null,null,null,null,null,null,null,null,null,null,null,"Dáire Healy"]
[null,14,{"$f":"Singles!BB214","v":"Gary Kelly"},{"$f":"Singles!BC214","v":"DCU"},{"$f":"Singles!BD214","v":484},{"$f":"Singles!BE214","v":480},{"$f":"Singles!BF214","v":0},{"$f":"Singles!BG214","v":0},{"$f":"Singles!BH214","v":0},null,{"$f":"Singles!BI214","v":964},{"$f":"Singles!BJ214","v":0},{"$f":"Singles!BK214","v":964.04844800000001},null,null,null,null,null,null,null,null,null,null,null,null,null,null,null,null,null,null,null,null,"Gary Kelly"]
[null,15,{"$f":"Singles!BB215","v":"Oskar Ronan"},{"$f":"Singles!BC215","v":"DUAC"},{"$f":"Singles!BD215","v":0},{"$f":"Singles!BE215","v":464},{"$f":"Singles!BF215","v":0},{"$f":"Singles!BG215","v":403},{"$f":"Singles!BH215","v":0},null,{"$f":"Singles!BI215","v":867},{"$f":"Singles!BJ215","v":0},{"$f":"Singles!BK215","v":867.04644029999997},null,null,null,null,null,null,null,null,null,null,null,null,null,null,null,null,null,null,null,null,"Oskar Ronan"]
[null,16,{"$f":"Singles!BB216","v":"John Hally"},{"$f":"Singles!BC216","v":"UL"},{"$f":"Singles!BD216","v":0},{"$f":"Singles!BE216","v":436},{"$f":"Singles!BF216","v":429},{"$f":"Singles!BG216","v":0},{"$f":"Singles!BH216","v":0},null,{"$f":"Singles!BI216","v":865},{"$f":"Singles!BJ216","v":0},{"$f":"Singles!BK216","v":865.04364290000001},null,null,null,null,null,null,null,null,null,null,null,null,null,null,null,null,null,null,null,null,"John Hally"]
[null,17,{"$f":"Singles!BB217","v":"Darren Wallace"},{"$f":"Singles!BC217","v":"NUIG"},{"$f":"Singles!BD217","v":0},{"$f":"Singles!BE217","v":0},{"$f":"Singles!BF217","v":569},{"$f":"Singles!BG217","v":0},{"$f":"Singles!BH217","v":0},null,{"$f":"Singles!BI217","v":569},{"$f":"Singles!BJ217","v":0},{"$f":"Singles!BK217","v":569.05690000000004},null,null,null,null,null,null,null,null,null,null,null,null,null,null,null,null,null,null,null,null,"Darren Wallace"]
[null,18,{"$f":"Singles!BB218","v":"Simon Henleywillis"},{"$f":"Singles!BC218","v":"UCC"},{"$f":"Singles!BD218","v":471},{"$f":"Singles!BE218","v":0},{"$f":"Singles!BF218","v":0},{"$f":"Singles!BG218","v":0},{"$f":"Singles!BH218","v":0},null,{"$f":"Singles!BI218","v":471},{"$f":"Singles!BJ218","v":0},{"$f":"Singles!BK218","v":471.0471},null,null,null,null,null,null,null,null,null,null,null,null,null,null,null,null,null,null,null,null,"Simon Henleywillis"]
[null,19,{"$f":"Singles!BB219","v":"Mark Walsh"},{"$f":"Singles!BC219","v":"NUIG"},{"$f":"Singles!BD219","v":0},{"$f":"Singles!BE219","v":0},{"$f":"Singles!BF219","v":0},{"$f":"Singles!BG219","v":0},{"$f":"Singles!BH219","v":441},null,{"$f":"Singles!BI219","v":441},{"$f":"Singles!BJ219","v":0},{"$f":"Singles!BK219","v":441.04410000000001},null,null,null,null,null,null,null,null,null,null,null,null,null,null,null,null,null,null,null,null,"Mark Walsh"]
[null,20,{"$f":"Singles!BB220","v":"Christo Pretorious"},{"$f":"Singles!BC220","v":"DUAC"},{"$f":"Singles!BD220","v":0},{"$f":"Singles!BE220","v":290},{"$f":"Singles!BF220","v":0},{"$f":"Singles!BG220","v":0},{"$f":"Singles!BH220","v":0},null,{"$f":"Singles!BI220","v":290},{"$f":"Singles!BJ220","v":0},{"$f":"Singles!BK220","v":290.029},null,null,null,null,null,null,null,null,null,null,null,null,null,null,null,null,null,null,null,null,"Christo Pretorious"]
[null,21,{"$f":"Singles!BB221","v":0},{"$f":"Singles!BC221","v":"TBC"},{"$f":"Singles!BD221","v":"TBC"},{"$f":"Singles!BE221","v":"TBC"},{"$f":"Singles!BF221","v":"TBC"},{"$f":"Singles!BG221","v":"TBC"},{"$f":"Singles!BH221","v":"TBC"},null,{"$f":"Singles!BI221","v":0},{"$f":"Singles!BJ221","v":0},{"$f":"Singles!BK221","v":0},null,null,null,null,null,null,null,null,null,null,null,null,null,null,null,null,null,null,null,null,0]
[null,22,{"$f":"Singles!BB222","v":0},{"$f":"Singles!BC222","v":"TBC"},{"$f":"Singles!BD222","v":"TBC"},{"$f":"Singles!BE222","v":"TBC"},{"$f":"Singles!BF222","v":"TBC"},{"$f":"Singles!BG222","v":"TBC"},{"$f":"Singles!BH222","v":"TBC"},null,{"$f":"Singles!BI222","v":0},{"$f":"Singles!BJ222","v":0},{"$f":"Singles!BK222","v":0},null,null,null,null,null,null,null,null,null,null,null,null,null,null,null,null,null,null,null,null,0]
[null,23,{"$f":"Singles!BB223","v":0},{"$f":"Singles!BC223","v":"TBC"},{"$f":"Singles!BD223","v":"TBC"},{"$f":"Singles!BE223","v":"TBC"},{"$f":"Singles!BF223","v":"TBC"},{"$f":"Singles!BG223","v":"TBC"},{"$f":"Singles!BH223","v":"TBC"},null,{"$f":"Singles!BI223","v":0},{"$f":"Singles!BJ223","v":0},{"$f":"Singles!BK223","v":0},null,null,null,null,null,null,null,null,null,null,null,null,null,null,null,null,null,null,null,null,0]
[null,24,{"$f":"Singles!BB224","v":0},{"$f":"Singles!BC224","v":"TBC"},{"$f":"Singles!BD224","v":"TBC"},{"$f":"Singles!BE224","v":"TBC"},{"$f":"Singles!BF224","v":"TBC"},{"$f":"Singles!BG224","v":"TBC"},{"$f":"Singles!BH224","v":"TBC"},null,{"$f":"Singles!BI224","v":0},{"$f":"Singles!BJ224","v":0},{"$f":"Singles!BK224","v":0},null,null,null,null,null,null,null,null,null,null,null,null,null,null,null,null,null,null,null,null,0]
[null,25,{"$f":"Singles!BB225","v":0},{"$f":"Singles!BC225","v":"TBC"},{"$f":"Singles!BD225","v":"TBC"},{"$f":"Singles!BE225","v":"TBC"},{"$f":"Singles!BF225","v":"TBC"},{"$f":"Singles!BG225","v":"TBC"},{"$f":"Singles!BH225","v":"TBC"},null,{"$f":"Singles!BI225","v":0},{"$f":"Singles!BJ225","v":0},{"$f":"Singles!BK225","v":0},null,null,null,null,null,null,null,null,null,null,null,null,null,null,null,null,null,null,null,null,0]
[null,26,{"$f":"Singles!BB226","v":0},{"$f":"Singles!BC226","v":"TBC"},{"$f":"Singles!BD226","v":"TBC"},{"$f":"Singles!BE226","v":"TBC"},{"$f":"Singles!BF226","v":"TBC"},{"$f":"Singles!BG226","v":"TBC"},{"$f":"Singles!BH226","v":"TBC"},null,{"$f":"Singles!BI226","v":0},{"$f":"Singles!BJ226","v":0},{"$f":"Singles!BK226","v":0},null,null,null,null,null,null,null,null,null,null,null,null,null,null,null,null,null,null,null,null,0]
[null,27,{"$f":"Singles!BB227","v":0},{"$f":"Singles!BC227","v":"TBC"},{"$f":"Singles!BD227","v":"TBC"},{"$f":"Singles!BE227","v":"TBC"},{"$f":"Singles!BF227","v":"TBC"},{"$f":"Singles!BG227","v":"TBC"},{"$f":"Singles!BH227","v":"TBC"},null,{"$f":"Singles!BI227","v":0},{"$f":"Singles!BJ227","v":0},{"$f":"Singles!BK227","v":0},null,null,null,null,null,null,null,null,null,null,null,null,null,null,null,null,null,null,null,null,0]
[null,28,{"$f":"Singles!BB228","v":0},{"$f":"Singles!BC228","v":"TBC"},{"$f":"Singles!BD228","v":"TBC"},{"$f":"Singles!BE228","v":"TBC"},{"$f":"Singles!BF228","v":"TBC"},{"$f":"Singles!BG228","v":"TBC"},{"$f":"Singles!BH228","v":"TBC"},null,{"$f":"Singles!BI228","v":0},{"$f":"Singles!BJ228","v":0},{"$f":"Singles!BK228","v":0},null,null,null,null,null,null,null,null,null,null,null,null,null,null,null,null,null,null,null,null,0]
[null,29,{"$f":"Singles!BB229","v":0},{"$f":"Singles!BC229","v":"TBC"},{"$f":"Singles!BD229","v":"TBC"},{"$f":"Singles!BE229","v":"TBC"},{"$f":"Singles!BF229","v":"TBC"},{"$f":"Singles!BG229","v":"TBC"},{"$f":"Singles!BH229","v":"TBC"},null,{"$f":"Singles!BI229","v":0},{"$f":"Singles!BJ229","v":0},{"$f":"Singles!BK229","v":0},null,null,null,null,null,null,null,null,null,null,null,null,null,null,null,null,null,null,null,null,0]
[null,30,{"$f":"Singles!BB230","v":0},{"$f":"Singles!BC230","v":"TBC"},{"$f":"Singles!BD230","v":"TBC"},{"$f":"Singles!BE230","v":"TBC"},{"$f":"Singles!BF230","v":"TBC"},{"$f":"Singles!BG230","v":"TBC"},{"$f":"Singles!BH230","v":"TBC"},null,{"$f":"Singles!BI230","v":0},{"$f":"Singles!BJ230","v":0},{"$f":"Singles!BK230","v":0},null,null,null,null,null,null,null,null,null,null,null,null,null,null,null,null,null,null,null,null,0]
[null,31,{"$f":"Singles!BB231","v":0},{"$f":"Singles!BC231","v":"TBC"},{"$f":"Singles!BD231","v":"TBC"},{"$f":"Singles!BE231","v":"TBC"},{"$f":"Singles!BF231","v":"TBC"},{"$f":"Singles!BG231","v":"TBC"},{"$f":"Singles!BH231","v":"TBC"},null,{"$f":"Singles!BI231","v":0},{"$f":"Singles!BJ231","v":0},{"$f":"Singles!BK231","v":0},null,null,null,null,null,null,null,null,null,null,null,null,null,null,null,null,null,null,null,null,0]
[null,32,{"$f":"Singles!BB232","v":0},{"$f":"Singles!BC232","v":"TBC"},{"$f":"Singles!BD232","v":"TBC"},{"$f":"Singles!BE232","v":"TBC"},{"$f":"Singles!BF232","v":"TBC"},{"$f":"Singles!BG232","v":"TBC"},{"$f":"Singles!BH232","v":"TBC"},null,{"$f":"Singles!BI232","v":0},{"$f":"Singles!BJ232","v":0},{"$f":"Singles!BK232","v":0},null,null,null,null,null,null,null,null,null,null,null,null,null,null,null,null,null,null,null,null,0]
[null,33,{"$f":"Singles!BB233","v":0},{"$f":"Singles!BC233","v":"TBC"},{"$f":"Singles!BD233","v":"TBC"},{"$f":"Singles!BE233","v":"TBC"},{"$f":"Singles!BF233","v":"TBC"},{"$f":"Singles!BG233","v":"TBC"},{"$f":"Singles!BH233","v":"TBC"},null,{"$f":"Singles!BI233","v":0},{"$f":"Singles!BJ233","v":0},{"$f":"Singles!BK233","v":0},null,null,null,null,null,null,null,null,null,null,null,null,null,null,null,null,null,null,null,null,{"$f":"C39","v":0}]
[null,34,{"$f":"Singles!BB234","v":0},{"$f":"Singles!BC234","v":"TBC"},{"$f":"Singles!BD234","v":"TBC"},{"$f":"Singles!BE234","v":"TBC"},{"$f":"Singles!BF234","v":"TBC"},{"$f":"Singles!BG234","v":"TBC"},{"$f":"Singles!BH234","v":"TBC"},null,{"$f":"Singles!BI234","v":0},{"$f":"Singles!BJ234","v":0},{"$f":"Singles!BK234","v":0},null,null,null,null,null,null,null,null,null,null,null,null,null,null,null,null,null,null,null,null,0]
[null,35,{"$f":"Singles!BB235","v":0},{"$f":"Singles!BC235","v":"TBC"},{"$f":"Singles!BD235","v":"TBC"},{"$f":"Singles!BE235","v":"TBC"},{"$f":"Singles!BF235","v":"TBC"},{"$f":"Singles!BG235","v":"TBC"},{"$f":"Singles!BH235","v":"TBC"},null,{"$f":"Singles!BI235","v":0},{"$f":"Singles!BJ235","v":0},{"$f":"Singles!BK235","v":0},null,null,null,null,null,null,null,null,null,null,null,null,null,null,null,null,null,null,null,null,0]
[null,36,{"$f":"Singles!BB236","v":0},{"$f":"Singles!BC236","v":"TBC"},{"$f":"Singles!BD236","v":"TBC"},{"$f":"Singles!BE236","v":"TBC"},{"$f":"Singles!BF236","v":"TBC"},{"$f":"Singles!BG236","v":"TBC"},{"$f":"Singles!BH236","v":"TBC"},null,{"$f":"Singles!BI236","v":0},{"$f":"Singles!BJ236","v":0},{"$f":"Singles!BK236","v":0},null,null,null,null,null,null,null,null,null,null,null,null,null,null,null,null,null,null,null,null,0]
[null,37,{"$f":"Singles!BB237","v":0},{"$f":"Singles!BC237","v":"TBC"},{"$f":"Singles!BD237","v":"TBC"},{"$f":"Singles!BE237","v":"TBC"},{"$f":"Singles!BF237","v":"TBC"},{"$f":"Singles!BG237","v":"TBC"},{"$f":"Singles!BH237","v":"TBC"},null,{"$f":"Singles!BI237","v":0},{"$f":"Singles!BJ237","v":0},{"$f":"Singles!BK237","v":0},null,null,null,null,null,null,null,null,null,null,null,null,null,null,null,null,null,null,null,null,0]
[null,38,{"$f":"Singles!BB238","v":0},{"$f":"Singles!BC238","v":"TBC"},{"$f":"Singles!BD238","v":"TBC"},{"$f":"Singles!BE238","v":"TBC"},{"$f":"Singles!BF238","v":"TBC"},{"$f":"Singles!BG238","v":"TBC"},{"$f":"Singles!BH238","v":"TBC"},null,{"$f":"Singles!BI238","v":0},{"$f":"Singles!BJ238","v":0},{"$f":"Singles!BK238","v":0},null,null,null,null,null,null,null,null,null,null,null,null,null,null,null,null,null,null,null,null,0]
[null,39,{"$f":"Singles!BB239","v":0},{"$f":"Singles!BC239","v":"TBC"},{"$f":"Singles!BD239","v":"TBC"},{"$f":"Singles!BE239","v":"TBC"},{"$f":"Singles!BF239","v":"TBC"},{"$f":"Singles!BG239","v":"TBC"},{"$f":"Singles!BH239","v":"TBC"},null,{"$f":"Singles!BI239","v":0},{"$f":"Singles!BJ239","v":0},{"$f":"Singles!BK239","v":0},null,null,null,null,null,null,null,null,null,null,null,null,null,null,null,null,null,null,null,null,0]
[null,40,{"$f":"Singles!BB240","v":0},{"$f":"Singles!BC240","v":"TBC"},{"$f":"Singles!BD240","v":"TBC"},{"$f":"Singles!BE240","v":"TBC"},{"$f":"Singles!BF240","v":"TBC"},{"$f":"Singles!BG240","v":"TBC"},{"$f":"Singles!BH240","v":"TBC"},null,{"$f":"Singles!BI240","v":0},{"$f":"Singles!BJ240","v":0},{"$f":"Singles!BK240","v":0},null,null,null,null,null,null,null,null,null,null,null,null,null,null,null,null,null,null,null,null,0]
[null,41,{"$f":"Singles!BB241","v":0},{"$f":"Singles!BC241","v":"TBC"},{"$f":"Singles!BD241","v":"TBC"},{"$f":"Singles!BE241","v":"TBC"},{"$f":"Singles!BF241","v":"TBC"},{"$f":"Singles!BG241","v":"TBC"},{"$f":"Singles!BH241","v":"TBC"},null,{"$f":"Singles!BI241","v":0},{"$f":"Singles!BJ241","v":0},{"$f":"Singles!BK241","v":0},null,null,null,null,null,null,null,null,null,null,null,null,null,null,null,null,null,null,null,null,0]
[null,42,{"$f":"Singles!BB242","v":0},{"$f":"Singles!BC242","v":"TBC"},{"$f":"Singles!BD242","v":"TBC"},{"$f":"Singles!BE242","v":"TBC"},{"$f":"Singles!BF242","v":"TBC"},{"$f":"Singles!BG242","v":"TBC"},{"$f":"Singles!BH242","v":"TBC"},null,{"$f":"Singles!BI242","v":0},{"$f":"Singles!BJ242","v":0},{"$f":"Singles!BK242","v":0},null,null,null,null,null,null,null,null,null,null,null,null,null,null,null,null,null,null,null,null,0]
[null,43,{"$f":"Singles!BB243","v":0},{"$f":"Singles!BC243","v":"TBC"},{"$f":"Singles!BD243","v":"TBC"},{"$f":"Singles!BE243","v":"TBC"},{"$f":"Singles!BF243","v":"TBC"},{"$f":"Singles!BG243","v":"TBC"},{"$f":"Singles!BH243","v":"TBC"},null,{"$f":"Singles!BI243","v":0},{"$f":"Singles!BJ243","v":0},{"$f":"Singles!BK243","v":0},null,null,null,null,null,null,null,null,null,null,null,null,null,null,null,null,null,null,null,null,0]
[null,44,{"$f":"Singles!BB244","v":0},{"$f":"Singles!BC244","v":"TBC"},{"$f":"Singles!BD244","v":"TBC"},{"$f":"Singles!BE244","v":"TBC"},{"$f":"Singles!BF244","v":"TBC"},{"$f":"Singles!BG244","v":"TBC"},{"$f":"Singles!BH244","v":"TBC"},null,{"$f":"Singles!BI244","v":0},{"$f":"Singles!BJ244","v":0},{"$f":"Singles!BK244","v":0},null,null,null,null,null,null,null,null,null,null,null,null,null,null,null,null,null,null,null,null,0]
[null,45,{"$f":"Singles!BB245","v":0},{"$f":"Singles!BC245","v":"TBC"},{"$f":"Singles!BD245","v":"TBC"},{"$f":"Singles!BE245","v":"TBC"},{"$f":"Singles!BF245","v":"TBC"},{"$f":"Singles!BG245","v":"TBC"},{"$f":"Singles!BH245","v":"TBC"},null,{"$f":"Singles!BI245","v":0},{"$f":"Singles!BJ245","v":0},{"$f":"Singles!BK245","v":0},null,null,null,null,null,null,null,null,null,null,null,null,null,null,null,null,null,null,null,null,0]
[null,46,{"$f":"Singles!BB246","v":0},{"$f":"Singles!BC246","v":"TBC"},{"$f":"Singles!BD246","v":"TBC"},{"$f":"Singles!BE246","v":"TBC"},{"$f":"Singles!BF246","v":"TBC"},{"$f":"Singles!BG246","v":"TBC"},{"$f":"Singles!BH246","v":"TBC"},null,{"$f":"Singles!BI246","v":0},{"$f":"Singles!BJ246","v":0},{"$f":"Singles!BK246","v":0},null,null,null,null,null,null,null,null,null,null,null,null,null,null,null,null,null,null,null,null,0]
[null,47,{"$f":"Singles!BB247","v":0},{"$f":"Singles!BC247","v":"TBC"},{"$f":"Singles!BD247","v":"TBC"},{"$f":"Singles!BE247","v":"TBC"},{"$f":"Singles!BF247","v":"TBC"},{"$f":"Singles!BG247","v":"TBC"},{"$f":"Singles!BH247","v":"TBC"},null,{"$f":"Singles!BI247","v":0},{"$f":"Singles!BJ247","v":0},{"$f":"Singles!BK247","v":0},null,null,null,null,null,null,null,null,null,null,null,null,null,null,null,null,null,null,null,null,0]
[null,48,{"$f":"Singles!BB248","v":0},{"$f":"Singles!BC248","v":"TBC"},{"$f":"Singles!BD248","v":"TBC"},{"$f":"Singles!BE248","v":"TBC"},{"$f":"Singles!BF248","v":"TBC"},{"$f":"Singles!BG248","v":"TBC"},{"$f":"Singles!BH248","v":"TBC"},null,{"$f":"Singles!BI248","v":0},{"$f":"Singles!BJ248","v":0},{"$f":"Singles!BK248","v":0},null,null,null,null,null,null,null,null,null,null,null,null,null,null,null,null,null,null,null,null,0]
[null,49,{"$f":"Singles!BB249","v":0},{"$f":"Singles!BC249","v":"TBC"},{"$f":"Singles!BD249","v":"TBC"},{"$f":"Singles!BE249","v":"TBC"},{"$f":"Singles!BF249","v":"TBC"},{"$f":"Singles!BG249","v":"TBC"},{"$f":"Singles!BH249","v":"TBC"},null,{"$f":"Singles!BI249","v":0},{"$f":"Singles!BJ249","v":0},{"$f":"Singles!BK249","v":0},null,null,null,null,null,null,null,null,null,null,null,null,null,null,null,null,null,null,null,null,0]
[null,50,{"$f":"Singles!BB250","v":0},{"$f":"Singles!BC250","v":"TBC"},{"$f":"Singles!BD250","v":"TBC"},{"$f":"Singles!BE250","v":"TBC"},{"$f":"Singles!BF250","v":"TBC"},{"$f":"Singles!BG250","v":"TBC"},{"$f":"Singles!BH250","v":"TBC"},null,{"$f":"Singles!BI250","v":0},{"$f":"Singles!BJ250","v":0},{"$f":"Singles!BK250","v":0},null,null,null,null,null,null,null,null,null,null,null,null,null,null,null,null,null,null,null,null,0]
[null,51,{"$f":"Singles!BB251","v":0},{"$f":"Singles!BC251","v":"TBC"},{"$f":"Singles!BD251","v":"TBC"},{"$f":"Singles!BE251","v":"TBC"},{"$f":"Singles!BF251","v":"TBC"},{"$f":"Singles!BG251","v":"TBC"},{"$f":"Singles!BH251","v":"TBC"},null,{"$f":"Singles!BI251","v":0},{"$f":"Singles!BJ251","v":0},{"$f":"Singles!BK251","v":0},null,null,null,null,null,null,null,null,null,null,null,null,null,null,null,null,null,null,null,null,0]
[null,52,{"$f":"Singles!BB252","v":0},{"$f":"Singles!BC252","v":"TBC"},{"$f":"Singles!BD252","v":"TBC"},{"$f":"Singles!BE252","v":"TBC"},{"$f":"Singles!BF252","v":"TBC"},{"$f":"Singles!BG252","v":"TBC"},{"$f":"Singles!BH252","v":"TBC"},null,{"$f":"Singles!BI252","v":0},{"$f":"Singles!BJ252","v":0},{"$f":"Singles!BK252","v":0},null,null,null,null,null,null,null,null,null,null,null,null,null,null,null,null,null,null,null,null,0]
[null,53,{"$f":"Singles!BB253","v":0},{"$f":"Singles!BC253","v":"TBC"},{"$f":"Singles!BD253","v":"TBC"},{"$f":"Singles!BE253","v":"TBC"},{"$f":"Singles!BF253","v":"TBC"},{"$f":"Singles!BG253","v":"TBC"},{"$f":"Singles!BH253","v":"TBC"},null,{"$f":"Singles!BI253","v":0},{"$f":"Singles!BJ253","v":0},{"$f":"Singles!BK253","v":0},null,null,null,null,null,null,null,null,null,null,null,null,null,null,null,null,null,null,null,null,0]
[null,54,{"$f":"Singles!BB254","v":0},{"$f":"Singles!BC254","v":"TBC"},{"$f":"Singles!BD254","v":"TBC"},{"$f":"Singles!BE254","v":"TBC"},{"$f":"Singles!BF254","v":"TBC"},{"$f":"Singles!BG254","v":"TBC"},{"$f":"Singles!BH254","v":"TBC"},null,{"$f":"Singles!BI254","v":0},{"$f":"Singles!BJ254","v":0},{"$f":"Singles!BK254","v":0},null,null,null,null,null,null,null,null,null,null,null,null,null,null,null,null,null,null,null,null,0]
[null,55,{"$f":"Singles!BB255","v":0},{"$f":"Singles!BC255","v":"TBC"},{"$f":"Singles!BD255","v":"TBC"},{"$f":"Singles!BE255","v":"TBC"},{"$f":"Singles!BF255","v":"TBC"},{"$f":"Singles!BG255","v":"TBC"},{"$f":"Singles!BH255","v":"TBC"},null,{"$f":"Singles!BI255","v":0},{"$f":"Singles!BJ255","v":0},{"$f":"Singles!BK255","v":0},null,null,null,null,null,null,null,null,null,null,null,null,null,null,null,null,null,null,null,null,0]
[null,56,{"$f":"Singles!BB256","v":0},{"$f":"Singles!BC256","v":"TBC"},{"$f":"Singles!BD256","v":"TBC"},{"$f":"Singles!BE256","v":"TBC"},{"$f":"Singles!BF256","v":"TBC"},{"$f":"Singles!BG256","v":"TBC"},{"$f":"Singles!BH256","v":"TBC"},null,{"$f":"Singles!BI256","v":0},{"$f":"Singles!BJ256","v":0},{"$f":"Singles!BK256","v":0},null,null,null,null,null,null,null,null,null,null,null,null,null,null,null,null,null,null,null,null,0]
[null,57,{"$f":"Singles!BB257","v":0},{"$f":"Singles!BC257","v":"TBC"},{"$f":"Singles!BD257","v":"TBC"},{"$f":"Singles!BE257","v":"TBC"},{"$f":"Singles!BF257","v":"TBC"},{"$f":"Singles!BG257","v":"TBC"},{"$f":"Singles!BH257","v":"TBC"},null,{"$f":"Singles!BI257","v":0},{"$f":"Singles!BJ257","v":0},{"$f":"Singles!BK257","v":0},null,null,null,null,null,null,null,null,null,null,null,null,null,null,null,null,null,null,null,null,0]
[null,58,{"$f":"Singles!BB258","v":0},{"$f":"Singles!BC258","v":"TBC"},{"$f":"Singles!BD258","v":"TBC"},{"$f":"Singles!BE258","v":"TBC"},{"$f":"Singles!BF258","v":"TBC"},{"$f":"Singles!BG258","v":"TBC"},{"$f":"Singles!BH258","v":"TBC"},null,{"$f":"Singles!BI258","v":0},{"$f":"Singles!BJ258","v":0},{"$f":"Singles!BK258","v":0},null,null,null,null,null,null,null,null,null,null,null,null,null,null,null,null,null,null,null,null,0]
[null,59,{"$f":"Singles!BB259","v":0},{"$f":"Singles!BC259","v":"TBC"},{"$f":"Singles!BD259","v":"TBC"},{"$f":"Singles!BE259","v":"TBC"},{"$f":"Singles!BF259","v":"TBC"},{"$f":"Singles!BG259","v":"TBC"},{"$f":"Singles!BH259","v":"TBC"},null,{"$f":"Singles!BI259","v":0},{"$f":"Singles!BJ259","v":0},{"$f":"Singles!BK259","v":0},null,null,null,null,null,null,null,null,null,null,null,null,null,null,null,null,null,null,null,null,0]
[null,60,{"$f":"Singles!BB260","v":0},{"$f":"Singles!BC260","v":"TBC"},{"$f":"Singles!BD260","v":"TBC"},{"$f":"Singles!BE260","v":"TBC"},{"$f":"Singles!BF260","v":"TBC"},{"$f":"Singles!BG260","v":"TBC"},{"$f":"Singles!BH260","v":"TBC"},null,{"$f":"Singles!BI260","v":0},{"$f":"Singles!BJ260","v":0},{"$f":"Singles!BK260","v":0},null,null,null,null,null,null,null,null,null,null,null,null,null,null,null,null,null,null,null,null,0]
[null,61,{"$f":"Singles!BB261","v":0},{"$f":"Singles!BC261","v":"TBC"},{"$f":"Singles!BD261","v":"TBC"},{"$f":"Singles!BE261","v":"TBC"},{"$f":"Singles!BF261","v":"TBC"},{"$f":"Singles!BG261","v":"TBC"},{"$f":"Singles!BH261","v":"TBC"},null,{"$f":"Singles!BI261","v":0},{"$f":"Singles!BJ261","v":0},{"$f":"Singles!BK261","v":0},null,null,null,null,null,null,null,null,null,null,null,null,null,null,null,null,null,null,null,null,0]
[null,62,{"$f":"Singles!BB262","v":0},{"$f":"Singles!BC262","v":"TBC"},{"$f":"Singles!BD262","v":"TBC"},{"$f":"Singles!BE262","v":"TBC"},{"$f":"Singles!BF262","v":"TBC"},{"$f":"Singles!BG262","v":"TBC"},{"$f":"Singles!BH262","v":"TBC"},null,{"$f":"Singles!BI262","v":0},{"$f":"Singles!BJ262","v":0},{"$f":"Singles!BK262","v":0},null,null,null,null,null,null,null,null,null,null,null,null,null,null,null,null,null,null,null,null,0]
[null,63,{"$f":"Singles!BB263","v":0},{"$f":"Singles!BC263","v":"TBC"},{"$f":"Singles!BD263","v":"TBC"},{"$f":"Singles!BE263","v":"TBC"},{"$f":"Singles!BF263","v":"TBC"},{"$f":"Singles!BG263","v":"TBC"},{"$f":"Singles!BH263","v":"TBC"},null,{"$f":"Singles!BI263","v":0},{"$f":"Singles!BJ263","v":0},{"$f":"Singles!BK263","v":0},null,null,null,null,null,null,null,null,null,null,null,null,null,null,null,null,null,null,null,null,0]
[null,64,{"$f":"Singles!BB264","v":0},{"$f":"Singles!BC264","v":"TBC"},{"$f":"Singles!BD264","v":"TBC"},{"$f":"Singles!BE264","v":"TBC"},{"$f":"Singles!BF264","v":"TBC"},{"$f":"Singles!BG264","v":"TBC"},{"$f":"Singles!BH264","v":"TBC"},null,{"$f":"Singles!BI264","v":0},{"$f":"Singles!BJ264","v":0},{"$f":"Singles!BK264","v":0},null,null,null,null,null,null,null,null,null,null,null,null,null,null,null,null,null,null,null,null,0]
[null,65,{"$f":"Singles!BB265","v":0},{"$f":"Singles!BC265","v":"TBC"},{"$f":"Singles!BD265","v":"TBC"},{"$f":"Singles!BE265","v":"TBC"},{"$f":"Singles!BF265","v":"TBC"},{"$f":"Singles!BG265","v":"TBC"},{"$f":"Singles!BH265","v":"TBC"},null,{"$f":"Singles!BI265","v":0},{"$f":"Singles!BJ265","v":0},{"$f":"Singles!BK265","v":0},null,null,null,null,null,null,null,null,null,null,null,null,null,null,null,null,null,null,null,null,0]
[null,66,{"$f":"Singles!BB266","v":0},{"$f":"Singles!BC266","v":"TBC"},{"$f":"Singles!BD266","v":"TBC"},{"$f":"Singles!BE266","v":"TBC"},{"$f":"Singles!BF266","v":"TBC"},{"$f":"Singles!BG266","v":"TBC"},{"$f":"Singles!BH266","v":"TBC"},null,{"$f":"Singles!BI266","v":0},{"$f":"Singles!BJ266","v":0},{"$f":"Singles!BK266","v":0},null,null,null,null,null,null,null,null,null,null,null,null,null,null,null,null,null,null,null,null,0]
[null,67,{"$f":"Singles!BB267","v":0},{"$f":"Singles!BC267","v":"TBC"},{"$f":"Singles!BD267","v":"TBC"},{"$f":"Singles!BE267","v":"TBC"},{"$f":"Singles!BF267","v":"TBC"},{"$f":"Singles!BG267","v":"TBC"},{"$f":"Singles!BH267","v":"TBC"},null,{"$f":"Singles!BI267","v":0},{"$f":"Singles!BJ267","v":0},{"$f":"Singles!BK267","v":0},null,null,null,null,null,null,null,null,null,null,null,null,null,null,null,null,null,null,null,null,0]
[null,68,{"$f":"Singles!BB268","v":0},{"$f":"Singles!BC268","v":"TBC"},{"$f":"Singles!BD268","v":"TBC"},{"$f":"Singles!BE268","v":"TBC"},{"$f":"Singles!BF268","v":"TBC"},{"$f":"Singles!BG268","v":"TBC"},{"$f":"Singles!BH268","v":"TBC"},null,{"$f":"Singles!BI268","v":0},{"$f":"Singles!BJ268","v":0},{"$f":"Singles!BK268","v":0},null,null,null,null,null,null,null,null,null,null,null,null,null,null,null,null,null,null,null,null,0]
[null,69,{"$f":"Singles!BB269","v":0},{"$f":"Singles!BC269","v":"TBC"},{"$f":"Singles!BD269","v":"TBC"},{"$f":"Singles!BE269","v":"TBC"},{"$f":"Singles!BF269","v":"TBC"},{"$f":"Singles!BG269","v":"TBC"},{"$f":"Singles!BH269","v":"TBC"},null,{"$f":"Singles!BI269","v":0},{"$f":"Singles!BJ269","v":0},{"$f":"Singles!BK269","v":0},null,null,null,null,null,null,null,null,null,null,null,null,null,null,null,null,null,null,null,null,0]
[null,70,{"$f":"Singles!BB270","v":0},{"$f":"Singles!BC270","v":"TBC"},{"$f":"Singles!BD270","v":"TBC"},{"$f":"Singles!BE270","v":"TBC"},{"$f":"Singles!BF270","v":"TBC"},{"$f":"Singles!BG270","v":"TBC"},{"$f":"Singles!BH270","v":"TBC"},null,{"$f":"Singles!BI270","v":0},{"$f":"Singles!BJ270","v":0},{"$f":"Singles!BK270","v":0},null,null,null,null,null,null,null,null,null,null,null,null,null,null,null,null,null,null,null,null,0]
[null,71,{"$f":"Singles!BB271","v":0},{"$f":"Singles!BC271","v":"TBC"},{"$f":"Singles!BD271","v":"TBC"},{"$f":"Singles!BE271","v":"TBC"},{"$f":"Singles!BF271","v":"TBC"},{"$f":"Singles!BG271","v":"TBC"},{"$f":"Singles!BH271","v":"TBC"},null,{"$f":"Singles!BI271","v":0},{"$f":"Singles!BJ271","v":0},{"$f":"Singles!BK271","v":0},null,null,null,null,null,null,null,null,null,null,null,null,null,null,null,null,null,null,null,null,0]
[null,72,{"$f":"Singles!BB272","v":0},{"$f":"Singles!BC272","v":"TBC"},{"$f":"Singles!BD272","v":"TBC"},{"$f":"Singles!BE272","v":"TBC"},{"$f":"Singles!BF272","v":"TBC"},{"$f":"Singles!BG272","v":"TBC"},{"$f":"Singles!BH272","v":"TBC"},null,{"$f":"Singles!BI272","v":0},{"$f":"Singles!BJ272","v":0},{"$f":"Singles!BK272","v":0},null,null,null,null,null,null,null,null,null,null,null,null,null,null,null,null,null,null,null,null,0]
[null,73,{"$f":"Singles!BB273","v":0},{"$f":"Singles!BC273","v":"TBC"},{"$f":"Singles!BD273","v":"TBC"},{"$f":"Singles!BE273","v":"TBC"},{"$f":"Singles!BF273","v":"TBC"},{"$f":"Singles!BG273","v":"TBC"},{"$f":"Singles!BH273","v":"TBC"},null,{"$f":"Singles!BI273","v":0},{"$f":"Singles!BJ273","v":0},{"$f":"Singles!BK273","v":0},null,null,null,null,null,null,null,null,null,null,null,null,null,null,null,null,null,null,null,null,0]
[null,74,{"$f":"Singles!BB274","v":0},{"$f":"Singles!BC274","v":"TBC"},{"$f":"Singles!BD274","v":"TBC"},{"$f":"Singles!BE274","v":"TBC"},{"$f":"Singles!BF274","v":"TBC"},{"$f":"Singles!BG274","v":"TBC"},{"$f":"Singles!BH274","v":"TBC"},null,{"$f":"Singles!BI274","v":0},{"$f":"Singles!BJ274","v":0},{"$f":"Singles!BK274","v":0},null,null,null,null,null,null,null,null,null,null,null,null,null,null,null,null,null,null,null,null,0]
[null,75,{"$f":"Singles!BB275","v":0},{"$f":"Singles!BC275","v":"TBC"},{"$f":"Singles!BD275","v":"TBC"},{"$f":"Singles!BE275","v":"TBC"},{"$f":"Singles!BF275","v":"TBC"},{"$f":"Singles!BG275","v":"TBC"},{"$f":"Singles!BH275","v":"TBC"},null,{"$f":"Singles!BI275","v":0},{"$f":"Singles!BJ275","v":0},{"$f":"Singles!BK275","v":0},null,null,null,null,null,null,null,null,null,null,null,null,null,null,null,null,null,null,null,null,0]
[{"$f":"$D$7","v":"DKIT"}]

{"sheet":"RAF","index":7,"n_rows":82,"n_cols":34,"rows_kept":82,"cut":false,"hidden":false,"merged":[[1,13,80,13],[81,0,81,13],[1,0,80,0],[0,0,0,13],[1,4,1,8],[1,10,1,12],[1,1,3,3],[2,10,3,10],[2,11,3,11],[2,12,3,12],[4,1,4,8],[4,10,4,12],[1,9,80,9]]}
[{"$f":"$D$7","v":"UCD"}]
[{"$f":"$D$7","v":"UCD"},"Female Advanced Recurve",null,null,"Host Club",null,null,null,null,{"$f":"$D$7","v":"UCD"},"Scores",null,null,"UCD",null,null,null,null,null,null,null,null,null,null,null,null,null,null,null,null,null,null,null,{"$f":"AH7","v":"Ines Rauch"}]
[null,null,null,null,{"$f":"Entries!K6","v":"UL IV"},{"$f":"Entries!K7","v":"DkIT IV"},{"$f":"Entries!K8","v":"GMIT IV"},{"$f":"Entries!K9","v":"DCU IV"},{"$f":"Entries!K10","v":"NUIG IV"},null,"Total","Lowest","League"]
[]
[null,"UCD",null,null,null,null,null,null,null,null,"UCD"]
[null,null,"Name","College",{"$f":"Entries!K6","v":"UL IV"},{"$f":"Entries!K7","v":"DkIT IV"},{"$f":"Entries!K8","v":"GMIT IV"},{"$f":"Entries!K9","v":"DCU IV"},{"$f":"Entries!K10","v":"NUIG IV"},null,"Total","Lowest","League total"]
[null,1,{"$f":"Singles!BO201","v":"Ines Rauch"},{"$f":"Singles!BP201","v":"UCD"},{"$f":"Singles!BQ201","v":439},{"$f":"Singles!BR201","v":481},{"$f":"Singles!BS201","v":473},{"$f":"Singles!BT201","v":517},{"$f":"Singles!BU201","v":516},null,{"$f":"Singles!BV201","v":2426},{"$f":"Singles!BW201","v":439},{"$f":"Singles!BX201","v":1987.0517516},null,null,null,null,null,null,null,null,null,null,null,null,null,null,null,null,null,null,null,null,{"$f":"C7","v":"Ines Rauch"}]
[null,2,{"$f":"Singles!BO202","v":"Jen Daly"},{"$f":"Singles!BP202","v":"DIT"},{"$f":"Singles!BQ202","v":409},{"$f":"Singles!BR202","v":0},{"$f":"Singles!BS202","v":482},{"$f":"Singles!BT202","v":498},{"$f":"Singles!BU202","v":481},null,{"$f":"Singles!BV202","v":1870},{"$f":"Singles!BW202","v":0},{"$f":"Singles!BX202","v":1870.0498482},null,null,null,null,null,null,null,null,null,null,null,null,null,null,null,null,null,null,null,null,"Jen Daly"]
[null,3,{"$f":"Singles!BO203","v":"Jocelyn Yee"},{"$f":"Singles!BP203","v":"DKIT"},{"$f":"Singles!BQ203","v":0},{"$f":"Singles!BR203","v":438},{"$f":"Singles!BS203","v":0},{"$f":"Singles!BT203","v":453},{"$f":"Singles!BU203","v":456},null,{"$f":"Singles!BV203","v":1347},{"$f":"Singles!BW203","v":0},{"$f":"Singles!BX203","v":1347.0456452999999},null,null,null,null,null,null,null,null,null,null,null,null,null,null,null,null,null,null,null,null,"Jocelyn Yee"]
[null,4,{"$f":"Singles!BO204","v":"Rachael Foley"},{"$f":"Singles!BP204","v":"NCAD"},{"$f":"Singles!BQ204","v":0},{"$f":"Singles!BR204","v":0},{"$f":"Singles!BS204","v":515},{"$f":"Singles!BT204","v":0},{"$f":"Singles!BU204","v":522},null,{"$f":"Singles!BV204","v":1037},{"$f":"Singles!BW204","v":0},{"$f":"Singles!BX204","v":1037.0522515},null,null,null,null,null,null,null,null,null,null,null,null,null,null,null,null,null,null,null,null,"Rachael Foley"]
[null,5,{"$f":"Singles!BO205","v":0},{"$f":"Singles!BP205","v":"TBC"},{"$f":"Singles!BQ205","v":"TBC"},{"$f":"Singles!BR205","v":"TBC"},{"$f":"Singles!BS205","v":"TBC"},{"$f":"Singles!BT205","v":"TBC"},{"$f":"Singles!BU205","v":"TBC"},null,{"$f":"Singles!BV205","v":0},{"$f":"Singles!BW205","v":0},{"$f":"Singles!BX205","v":0},null,null,null,null,null,null,null,null,null,null,null,null,null,null,null,null,null,null,null,null,0]
[null,6,{"$f":"Singles!BO206","v":0},{"$f":"Singles!BP206","v":"TBC"},{"$f":"Singles!BQ206","v":"TBC"},{"$f":"Singles!BR206","v":"TBC"},{"$f":"Singles!BS206","v":"TBC"},{"$f":"Singles!BT206","v":"TBC"},{"$f":"Singles!BU206","v":"TBC"},null,{"$f":"Singles!BV206","v":0},{"$f":"Singles!BW206","v":0},{"$f":"Singles!BX206","v":0},null,null,null,null,null,null,null,null,null,null,null,null,null,null,null,null,null,null,null,null,0]
[null,7,{"$f":"Singles!BO207","v":0},{"$f":"Singles!BP207","v":"TBC"},{"$f":"Singles!BQ207","v":"TBC"},{"$f":"Singles!BR207","v":"TBC"},{"$f":"Singles!BS207","v":"TBC"},{"$f":"Singles!BT207","v":"TBC"},{"$f":"Singles!BU207","v":"TBC"},null,{"$f":"Singles!BV207","v":0},{"$f":"Singles!BW207","v":0},{"$f":"Singles!BX207","v":0},null,null,null,null,null,null,null,null,null,null,null,null,null,null,null,null,null,null,null,null,0]
[null,8,{"$f":"Singles!BO208","v":0},{"$f":"Singles!BP208","v":"TBC"},{"$f":"Singles!BQ208","v":"TBC"},{"$f":"Singles!BR208","v":"TBC"},{"$f":"Singles!BS208","v":"TBC"},{"$f":"Singles!BT208","v":"TBC"},{"$f":"Singles!BU208","v":"TBC"},null,{"$f":"Singles!BV208","v":0},{"$f":"Singles!BW208","v":0},{"$f":"Singles!BX208","v":0},null,null,null,null,null,null,null,null,null,null,null,null,null,null,null,null,null,null,null,null,0]
[null,9,{"$f":"Singles!BO209","v":0},{"$f":"Singles!BP209","v":"TBC"},{"$f":"Singles!BQ209","v":"TBC"},{"$f":"Singles!BR209","v":"TBC"},{"$f":"Singles!BS209","v":"TBC"},{"$f":"Singles!BT209","v":"TBC"},{"$f":"Singles!BU209","v":"TBC"},null,{"$f":"Singles!BV209","v":0},{"$f":"Singles!BW209","v":0},{"$f":"Singles!BX209","v":0},null,null,null,null,null,null,null,null,null,null,null,null,null,null,null,null,null,null,null,null,0]
[null,10,{"$f":"Singles!BO210","v":0},{"$f":"Singles!BP210","v":"TBC"},{"$f":"Singles!BQ210","v":"TBC"},{"$f":"Singles!BR210","v":"TBC"},{"$f":"Singles!BS210","v":"TBC"},{"$f":"Singles!BT210","v":"TBC"},{"$f":"Singles!BU210","v":"TBC"},null,{"$f":"Singles!BV210","v":0},{"$f":"Singles!BW210","v":0},{"$f":"Singles!BX210","v":0},null,null,null,null,null,null,null,null,null,null,null,null,null,null,null,null,null,null,null,null,0]
[null,11,{"$f":"Singles!BO211","v":0},{"$f":"Singles!BP211","v":"TBC"},{"$f":"Singles!BQ211","v":"TBC"},{"$f":"Singles!BR211","v":"TBC"},{"$f":"Singles!BS211","v":"TBC"},{"$f":"Singles!BT211","v":"TBC"},{"$f":"Singles!BU211","v":"TBC"},null,{"$f":"Singles!BV211","v":0},{"$f":"Singles!BW211","v":0},{"$f":"Singles!BX211","v":0},null,null,null,null,null,null,null,null,null,null,null,null,null,null,null,null,null,null,null,null,0]
[null,12,{"$f":"Singles!BO212","v":0},{"$f":"Singles!BP212","v":"TBC"},{"$f":"Singles!BQ212","v":"TBC"},{"$f":"Singles!BR212","v":"TBC"},{"$f":"Singles!BS212","v":"TBC"},{"$f":"Singles!BT212","v":"TBC"},{"$f":"Singles!BU212","v":"TBC"},null,{"$f":"Singles!BV212","v":0},{"$f":"Singles!BW212","v":0},{"$f":"Singles!BX212","v":0},null,null,null,null,null,null,null,null,null,null,null,null,null,null,null,null,null,null,null,null,0]
[null,13,{"$f":"Singles!BO213","v":0},{"$f":"Singles!BP213","v":"TBC"},{"$f":"Singles!BQ213","v":"TBC"},{"$f":"Singles!BR213","v":"TBC"},{"$f":"Singles!BS213","v":"TBC"},{"$f":"Singles!BT213","v":"TBC"},{"$f":"Singles!BU213","v":"TBC"},null,{"$f":"Singles!BV213","v":0},{"$f":"Singles!BW213","v":0},{"$f":"Singles!BX213","v":0},null,null,null,null,null,null,null,null,null,null,null,null,null,null,null,null,null,null,null,null,0]
[null,14,{"$f":"Singles!BO214","v":0},{"$f":"Singles!BP214","v":"TBC"},{"$f":"Singles!BQ214","v":"TBC"},{"$f":"Singles!BR214","v":"TBC"},{"$f":"Singles!BS214","v":"TBC"},{"$f":"Singles!BT214","v":"TBC"},{"$f":"Singles!BU214","v":"TBC"},null,{"$f":"Singles!BV214","v":0},{"$f":"Singles!BW214","v":0},{"$f":"Singles!BX214","v":0},null,null,null,null,null,null,null,null,null,null,null,null,null,null,null,null,null,null,null,null,0]
[null,15,{"$f":"Singles!BO215","v":0},{"$f":"Singles!BP215","v":"TBC"},{"$f":"Singles!BQ215","v":"TBC"},{"$f":"Singles!BR215","v":"TBC"},{"$f":"Singles!BS215","v":"TBC"},{"$f":"Singles!BT215","v":"TBC"},{"$f":"Singles!BU215","v":"TBC"},null,{"$f":"Singles!BV215","v":0},{"$f":"Singles!BW215","v":0},{"$f":"Singles!BX215","v":0},null,null,null,null,null,null,null,null,null,null,null,null,null,null,null,null,null,null,null,null,0]
[null,16,{"$f":"Singles!BO216","v":0},{"$f":"Singles!BP216","v":"TBC"},{"$f":"Singles!BQ216","v":"TBC"},{"$f":"Singles!BR216","v":"TBC"},{"$f":"Singles!BS216","v":"TBC"},{"$f":"Singles!BT216","v":"TBC"},{"$f":"Singles!BU216","v":"TBC"},null,{"$f":"Singles!BV216","v":0},{"$f":"Singles!BW216","v":0},{"$f":"Singles!BX216","v":0},null,null,null,null,null,null,null,null,null,null,null,null,null,null,null,null,null,null,null,null,0]
[null,17,{"$f":"Singles!BO217","v":0},{"$f":"Singles!BP217","v":"TBC"},{"$f":"Singles!BQ217","v":"TBC"},{"$f":"Singles!BR217","v":"TBC"},{"$f":"Singles!BS217","v":"TBC"},{"$f":"Singles!BT217","v":"TBC"},{"$f":"Singles!BU217","v":"TBC"},null,{"$f":"Singles!BV217","v":0},{"$f":"Singles!BW217","v":0},{"$f":"Singles!BX217","v":0},null,null,null,null,null,null,null,null,null,null,null,null,null,null,null,null,null,null,null,null,0]
[null,18,{"$f":"Singles!BO218","v":0},{"$f":"Singles!BP218","v":"TBC"},{"$f":"Singles!BQ218","v":"TBC"},{"$f":"Singles!BR218","v":"TBC"},{"$f":"Singles!BS218","v":"TBC"},{"$f":"Singles!BT218","v":"TBC"},{"$f":"Singles!BU218","v":"TBC"},null,{"$f":"Singles!BV218","v":0},{"$f":"Singles!BW218","v":0},{"$f":"Singles!BX218","v":0},null,null,null,null,null,null,null,null,null,null,null,null,null,null,null,null,null,null,null,null,0]
[null,19,{"$f":"Singles!BO219","v":0},{"$f":"Singles!BP219","v":"TBC"},{"$f":"Singles!BQ219","v":"TBC"},{"$f":"Singles!BR219","v":"TBC"},{"$f":"Singles!BS219","v":"TBC"},{"$f":"Singles!BT219","v":"TBC"},{"$f":"Singles!BU219","v":"TBC"},null,{"$f":"Singles!BV219","v":0},{"$f":"Singles!BW219","v":0},{"$f":"Singles!BX219","v":0},null,null,null,null,null,null,null,null,null,null,null,null,null,null,null,null,null,null,null,null,0]
[null,20,{"$f":"Singles!BO220","v":0},{"$f":"Singles!BP220","v":"TBC"},{"$f":"Singles!BQ220","v":"TBC"},{"$f":"Singles!BR220","v":"TBC"},{"$f":"Singles!BS220","v":"TBC"},{"$f":"Singles!BT220","v":"TBC"},{"$f":"Singles!BU220","v":"TBC"},null,{"$f":"Singles!BV220","v":0},{"$f":"Singles!BW220","v":0},{"$f":"Singles!BX220","v":0},null,null,null,null,null,null,null,null,null,null,null,null,null,null,null,null,null,null,null,null,0]
[null,21,{"$f":"Singles!BO221","v":0},{"$f":"Singles!BP221","v":"TBC"},{"$f":"Singles!BQ221","v":"TBC"},{"$f":"Singles!BR221","v":"TBC"},{"$f":"Singles!BS221","v":"TBC"},{"$f":"Singles!BT221","v":"TBC"},{"$f":"Singles!BU221","v":"TBC"},null,{"$f":"Singles!BV221","v":0},{"$f":"Singles!BW221","v":0},{"$f":"Singles!BX221","v":0},null,null,null,null,null,null,null,null,null,null,null,null,null,null,null,null,null,null,null,null,0]
[null,22,{"$f":"Singles!BO222","v":0},{"$f":"Singles!BP222","v":"TBC"},{"$f":"Singles!BQ222","v":"TBC"},{"$f":"Singles!BR222","v":"TBC"},{"$f":"Singles!BS222","v":"TBC"},{"$f":"Singles!BT222","v":"TBC"},{"$f":"Singles!BU222","v":"TBC"},null,{"$f":"Singles!BV222","v":0},{"$f":"Singles!BW222","v":0},{"$f":"Singles!BX222","v":0},null,null,null,null,null,null,null,null,null,null,null,null,null,null,null,null,null,null,null,null,0]
[null,23,{"$f":"Singles!BO223","v":0},{"$f":"Singles!BP223","v":"TBC"},{"$f":"Singles!BQ223","v":"TBC"},{"$f":"Singles!BR223","v":"TBC"},{"$f":"Singles!BS223","v":"TBC"},{"$f":"Singles!BT223","v":"TBC"},{"$f":"Singles!BU223","v":"TBC"},null,{"$f":"Singles!BV223","v":0},{"$f":"Singles!BW223","v":0},{"$f":"Singles!BX223","v":0},null,null,null,null,null,null,null,null,null,null,null,null,null,null,null,null,null,null,null,null,0]
[null,24,{"$f":"Singles!BO224","v":0},{"$f":"Singles!BP224","v":"TBC"},{"$f":"Singles!BQ224","v":"TBC"},{"$f":"Singles!BR224","v":"TBC"},{"$f":"Singles!BS224","v":"TBC"},{"$f":"Singles!BT224","v":"TBC"},{"$f":"Singles!BU224","v":"TBC"},null,{"$f":"Singles!BV224","v":0},{"$f":"Singles!BW224","v":0},{"$f":"Singles!BX224","v":0},null,null,null,null,null,null,null,null,null,null,null,null,null,null,null,null,null,null,null,null,0]
[null,25,{"$f":"Singles!BO225","v":0},{"$f":"Singles!BP225","v":"TBC"},{"$f":"Singles!BQ225","v":"TBC"},{"$f":"Singles!BR225","v":"TBC"},{"$f":"Singles!BS225","v":"TBC"},{"$f":"Singles!BT225","v":"TBC"},{"$f":"Singles!BU225","v":"TBC"},null,{"$f":"Singles!BV225","v":0},{"$f":"Singles!BW225","v":0},{"$f":"Singles!BX225","v":0},null,null,null,null,null,null,null,null,null,null,null,null,null,null,null,null,null,null,null,null,0]
[null,26,{"$f":"Singles!BO226","v":0},{"$f":"Singles!BP226","v":"TBC"},{"$f":"Singles!BQ226","v":"TBC"},{"$f":"Singles!BR226","v":"TBC"},{"$f":"Singles!BS226","v":"TBC"},{"$f":"Singles!BT226","v":"TBC"},{"$f":"Singles!BU226","v":"TBC"},null,{"$f":"Singles!BV226","v":0},{"$f":"Singles!BW226","v":0},{"$f":"Singles!BX226","v":0},null,null,null,null,null,null,null,null,null,null,null,null,null,null,null,null,null,null,null,null,0]
[null,27,{"$f":"Singles!BO227","v":0},{"$f":"Singles!BP227","v":"TBC"},{"$f":"Singles!BQ227","v":"TBC"},{"$f":"Singles!BR227","v":"TBC"},{"$f":"Singles!BS227","v":"TBC"},{"$f":"Singles!BT227","v":"TBC"},{"$f":"Singles!BU227","v":"TBC"},null,{"$f":"Singles!BV227","v":0},{"$f":"Singles!BW227","v":0},{"$f":"Singles!BX227","v":0},null,null,null,null,null,null,null,null,null,null,null,null,null,null,null,null,null,null,null,null,0]
[null,28,{"$f":"Singles!BO228","v":0},{"$f":"Singles!BP228","v":"TBC"},{"$f":"Singles!BQ228","v":"TBC"},{"$f":"Singles!BR228","v":"TBC"},{"$f":"Singles!BS228","v":"TBC"},{"$f":"Singles!BT228","v":"TBC"},{"$f":"Singles!BU228","v":"TBC"},null,{"$f":"Singles!BV228","v":0},{"$f":"Singles!BW228","v":0},{"$f":"Singles!BX228","v":0},null,null,null,null,null,null,null,null,null,null,null,null,null,null,null,null,null,null,null,null,0]
[null,29,{"$f":"Singles!BO229","v":0},{"$f":"Singles!BP229","v":"TBC"},{"$f":"Singles!BQ229","v":"TBC"},{"$f":"Singles!BR229","v":"TBC"},{"$f":"Singles!BS229","v":"TBC"},{"$f":"Singles!BT229","v":"TBC"},{"$f":"Singles!BU229","v":"TBC"},null,{"$f":"Singles!BV229","v":0},{"$f":"Singles!BW229","v":0},{"$f":"Singles!BX229","v":0},null,null,null,null,null,null,null,null,null,null,null,null,null,null,null,null,null,null,null,null,0]
[null,30,{"$f":"Singles!BO230","v":0},{"$f":"Singles!BP230","v":"TBC"},{"$f":"Singles!BQ230","v":"TBC"},{"$f":"Singles!BR230","v":"TBC"},{"$f":"Singles!BS230","v":"TBC"},{"$f":"Singles!BT230","v":"TBC"},{"$f":"Singles!BU230","v":"TBC"},null,{"$f":"Singles!BV230","v":0},{"$f":"Singles!BW230","v":0},{"$f":"Singles!BX230","v":0},null,null,null,null,null,null,null,null,null,null,null,null,null,null,null,null,null,null,null,null,0]
[null,31,{"$f":"Singles!BO231","v":0},{"$f":"Singles!BP231","v":"TBC"},{"$f":"Singles!BQ231","v":"TBC"},{"$f":"Singles!BR231","v":"TBC"},{"$f":"Singles!BS231","v":"TBC"},{"$f":"Singles!BT231","v":"TBC"},{"$f":"Singles!BU231","v":"TBC"},null,{"$f":"Singles!BV231","v":0},{"$f":"Singles!BW231","v":0},{"$f":"Singles!BX231","v":0},null,null,null,null,null,null,null,null,null,null,null,null,null,null,null,null,null,null,null,null,0]
[null,32,{"$f":"Singles!BO232","v":0},{"$f":"Singles!BP232","v":"TBC"},{"$f":"Singles!BQ232","v":"TBC"},{"$f":"Singles!BR232","v":"TBC"},{"$f":"Singles!BS232","v":"TBC"},{"$f":"Singles!BT232","v":"TBC"},{"$f":"Singles!BU232","v":"TBC"},null,{"$f":"Singles!BV232","v":0},{"$f":"Singles!BW232","v":0},{"$f":"Singles!BX232","v":0},null,null,null,null,null,null,null,null,null,null,null,null,null,null,null,null,null,null,null,null,0]
[null,33,{"$f":"Singles!BO233","v":0},{"$f":"Singles!BP233","v":"TBC"},{"$f":"Singles!BQ233","v":"TBC"},{"$f":"Singles!BR233","v":"TBC"},{"$f":"Singles!BS233","v":"TBC"},{"$f":"Singles!BT233","v":"TBC"},{"$f":"Singles!BU233","v":"TBC"},null,{"$f":"Singles!BV233","v":0},{"$f":"Singles!BW233","v":0},{"$f":"Singles!BX233","v":0},null,null,null,null,null,null,null,null,null,null,null,null,null,null,null,null,null,null,null,null,{"$f":"C39","v":0}]
[null,34,{"$f":"Singles!BO234","v":0},{"$f":"Singles!BP234","v":"TBC"},{"$f":"Singles!BQ234","v":"TBC"},{"$f":"Singles!BR234","v":"TBC"},{"$f":"Singles!BS234","v":"TBC"},{"$f":"Singles!BT234","v":"TBC"},{"$f":"Singles!BU234","v":"TBC"},null,{"$f":"Singles!BV234","v":0},{"$f":"Singles!BW234","v":0},{"$f":"Singles!BX234","v":0},null,null,null,null,null,null,null,null,null,null,null,null,null,null,null,null,null,null,null,null,0]
[null,35,{"$f":"Singles!BO235","v":0},{"$f":"Singles!BP235","v":"TBC"},{"$f":"Singles!BQ235","v":"TBC"},{"$f":"Singles!BR235","v":"TBC"},{"$f":"Singles!BS235","v":"TBC"},{"$f":"Singles!BT235","v":"TBC"},{"$f":"Singles!BU235","v":"TBC"},null,{"$f":"Singles!BV235","v":0},{"$f":"Singles!BW235","v":0},{"$f":"Singles!BX235","v":0},null,null,null,null,null,null,null,null,null,null,null,null,null,null,null,null,null,null,null,null,0]
[null,36,{"$f":"Singles!BO236","v":0},{"$f":"Singles!BP236","v":"TBC"},{"$f":"Singles!BQ236","v":"TBC"},{"$f":"Singles!BR236","v":"TBC"},{"$f":"Singles!BS236","v":"TBC"},{"$f":"Singles!BT236","v":"TBC"},{"$f":"Singles!BU236","v":"TBC"},null,{"$f":"Singles!BV236","v":0},{"$f":"Singles!BW236","v":0},{"$f":"Singles!BX236","v":0},null,null,null,null,null,null,null,null,null,null,null,null,null,null,null,null,null,null,null,null,0]
[null,37,{"$f":"Singles!BO237","v":0},{"$f":"Singles!BP237","v":"TBC"},{"$f":"Singles!BQ237","v":"TBC"},{"$f":"Singles!BR237","v":"TBC"},{"$f":"Singles!BS237","v":"TBC"},{"$f":"Singles!BT237","v":"TBC"},{"$f":"Singles!BU237","v":"TBC"},null,{"$f":"Singles!BV237","v":0},{"$f":"Singles!BW237","v":0},{"$f":"Singles!BX237","v":0},null,null,null,null,null,null,null,null,null,null,null,null,null,null,null,null,null,null,null,null,0]
[null,38,{"$f":"Singles!BO238","v":0},{"$f":"Singles!BP238","v":"TBC"},{"$f":"Singles!BQ238","v":"TBC"},{"$f":"Singles!BR238","v":"TBC"},{"$f":"Singles!BS238","v":"TBC"},{"$f":"Singles!BT238","v":"TBC"},{"$f":"Singles!BU238","v":"TBC"},null,{"$f":"Singles!BV238","v":0},{"$f":"Singles!BW238","v":0},{"$f":"Singles!BX238","v":0},null,null,null,null,null,null,null,null,null,null,null,null,null,null,null,null,null,null,null,null,0]
[null,39,{"$f":"Singles!BO239","v":0},{"$f":"Singles!BP239","v":"TBC"},{"$f":"Singles!BQ239","v":"TBC"},{"$f":"Singles!BR239","v":"TBC"},{"$f":"Singles!BS239","v":"TBC"},{"$f":"Singles!BT239","v":"TBC"},{"$f":"Singles!BU239","v":"TBC"},null,{"$f":"Singles!BV239","v":0},{"$f":"Singles!BW239","v":0},{"$f":"Singles!BX239","v":0},null,null,null,null,null,null,null,null,null,null,null,null,null,null,null,null,null,null,null,null,0]
[null,40,{"$f":"Singles!BO240","v":0},{"$f":"Singles!BP240","v":"TBC"},{"$f":"Singles!BQ240","v":"TBC"},{"$f":"Singles!BR240","v":"TBC"},{"$f":"Singles!BS240","v":"TBC"},{"$f":"Singles!BT240","v":"TBC"},{"$f":"Singles!BU240","v":"TBC"},null,{"$f":"Singles!BV240","v":0},{"$f":"Singles!BW240","v":0},{"$f":"Singles!BX240","v":0},null,null,null,null,null,null,null,null,null,null,null,null,null,null,null,null,null,null,null,null,0]
[null,41,{"$f":"Singles!BO241","v":0},{"$f":"Singles!BP241","v":"TBC"},{"$f":"Singles!BQ241","v":"TBC"},{"$f":"Singles!BR241","v":"TBC"},{"$f":"Singles!BS241","v":"TBC"},{"$f":"Singles!BT241","v":"TBC"},{"$f":"Singles!BU241","v":"TBC"},null,{"$f":"Singles!BV241","v":0},{"$f":"Singles!BW241","v":0},{"$f":"Singles!BX241","v":0},null,null,null,null,null,null,null,null,null,null,null,null,null,null,null,null,null,null,null,null,0]
[null,42,{"$f":"Singles!BO242","v":0},{"$f":"Singles!BP242","v":"TBC"},{"$f":"Singles!BQ242","v":"TBC"},{"$f":"Singles!BR242","v":"TBC"},{"$f":"Singles!BS242","v":"TBC"},{"$f":"Singles!BT242","v":"TBC"},{"$f":"Singles!BU242","v":"TBC"},null,{"$f":"Singles!BV242","v":0},{"$f":"Singles!BW242","v":0},{"$f":"Singles!BX242","v":0},null,null,null,null,null,null,null,null,null,null,null,null,null,null,null,null,null,null,null,null,0]
[null,43,{"$f":"Singles!BO243","v":0},{"$f":"Singles!BP243","v":"TBC"},{"$f":"Singles!BQ243","v":"TBC"},{"$f":"Singles!BR243","v":"TBC"},{"$f":"Singles!BS243","v":"TBC"},{"$f":"Singles!BT243","v":"TBC"},{"$f":"Singles!BU243","v":"TBC"},null,{"$f":"Singles!BV243","v":0},{"$f":"Singles!BW243","v":0},{"$f":"Singles!BX243","v":0},null,null,null,null,null,null,null,null,null,null,null,null,null,null,null,null,null,null,null,null,0]
[null,44,{"$f":"Singles!BO244","v":0},{"$f":"Singles!BP244","v":"TBC"},{"$f":"Singles!BQ244","v":"TBC"},{"$f":"Singles!BR244","v":"TBC"},{"$f":"Singles!BS244","v":"TBC"},{"$f":"Singles!BT244","v":"TBC"},{"$f":"Singles!BU244","v":"TBC"},null,{"$f":"Singles!BV244","v":0},{"$f":"Singles!BW244","v":0},{"$f":"Singles!BX244","v":0},null,null,null,null,null,null,null,null,null,null,null,null,null,null,null,null,null,null,null,null,0]
[null,45,{"$f":"Singles!BO245","v":0},{"$f":"Singles!BP245","v":"TBC"},{"$f":"Singles!BQ245","v":"TBC"},{"$f":"Singles!BR245","v":"TBC"},{"$f":"Singles!BS245","v":"TBC"},{"$f":"Singles!BT245","v":"TBC"},{"$f":"Singles!BU245","v":"TBC"},null,{"$f":"Singles!BV245","v":0},{"$f":"Singles!BW245","v":0},{"$f":"Singles!BX245","v":0},null,null,null,null,null,null,null,null,null,null,null,null,null,null,null,null,null,null,null,null,0]
[null,46,{"$f":"Singles!BO246","v":0},{"$f":"Singles!BP246","v":"TBC"},{"$f":"Singles!BQ246","v":"TBC"},{"$f":"Singles!BR246","v":"TBC"},{"$f":"Singles!BS246","v":"TBC"},{"$f":"Singles!BT246","v":"TBC"},{"$f":"Singles!BU246","v":"TBC"},null,{"$f":"Singles!BV246","v":0},{"$f":"Singles!BW246","v":0},{"$f":"Singles!BX246","v":0},null,null,null,null,null,null,null,null,null,null,null,null,null,null,null,null,null,null,null,null,0]
[null,47,{"$f":"Singles!BO247","v":0},{"$f":"Singles!BP247","v":"TBC"},{"$f":"Singles!BQ247","v":"TBC"},{"$f":"Singles!BR247","v":"TBC"},{"$f":"Singles!BS247","v":"TBC"},{"$f":"Singles!BT247","v":"TBC"},{"$f":"Singles!BU247","v":"TBC"},null,{"$f":"Singles!BV247","v":0},{"$f":"Singles!BW247","v":0},{"$f":"Singles!BX247","v":0},null,null,null,null,null,null,null,null,null,null,null,null,null,null,null,null,null,null,null,null,0]
[null,48,{"$f":"Singles!BO248","v":0},{"$f":"Singles!BP248","v":"TBC"},{"$f":"Singles!BQ248","v":"TBC"},{"$f":"Singles!BR248","v":"TBC"},{"$f":"Singles!BS248","v":"TBC"},{"$f":"Singles!BT248","v":"TBC"},{"$f":"Singles!BU248","v":"TBC"},null,{"$f":"Singles!BV248","v":0},{"$f":"Singles!BW248","v":0},{"$f":"Singles!BX248","v":0},null,null,null,null,null,null,null,null,null,null,null,null,null,null,null,null,null,null,null,null,0]
[null,49,{"$f":"Singles!BO249","v":0},{"$f":"Singles!BP249","v":"TBC"},{"$f":"Singles!BQ249","v":"TBC"},{"$f":"Singles!BR249","v":"TBC"},{"$f":"Singles!BS249","v":"TBC"},{"$f":"Singles!BT249","v":"TBC"},{"$f":"Singles!BU249","v":"TBC"},null,{"$f":"Singles!BV249","v":0},{"$f":"Singles!BW249","v":0},{"$f":"Singles!BX249","v":0},null,null,null,null,null,null,null,null,null,null,null,null,null,null,null,null,null,null,null,null,0]
[null,50,{"$f":"Singles!BO250","v":0},{"$f":"Singles!BP250","v":"TBC"},{"$f":"Singles!BQ250","v":"TBC"},{"$f":"Singles!BR250","v":"TBC"},{"$f":"Singles!BS250","v":"TBC"},{"$f":"Singles!BT250","v":"TBC"},{"$f":"Singles!BU250","v":"TBC"},null,{"$f":"Singles!BV250","v":0},{"$f":"Singles!BW250","v":0},{"$f":"Singles!BX250","v":0},null,null,null,null,null,null,null,null,null,null,null,null,null,null,null,null,null,null,null,null,0]
[null,51,{"$f":"Singles!BO251","v":0},{"$f":"Singles!BP251","v":"TBC"},{"$f":"Singles!BQ251","v":"TBC"},{"$f":"Singles!BR251","v":"TBC"},{"$f":"Singles!BS251","v":"TBC"},{"$f":"Singles!BT251","v":"TBC"},{"$f":"Singles!BU251","v":"TBC"},null,{"$f":"Singles!BV251","v":0},{"$f":"Singles!BW251","v":0},{"$f":"Singles!BX251","v":0},null,null,null,null,null,null,null,null,null,null,null,null,null,null,null,null,null,null,null,null,0]
[null,52,{"$f":"Singles!BO252","v":0},{"$f":"Singles!BP252","v":"TBC"},{"$f":"Singles!BQ252","v":"TBC"},{"$f":"Singles!BR252","v":"TBC"},{"$f":"Singles!BS252","v":"TBC"},{"$f":"Singles!BT252","v":"TBC"},{"$f":"Singles!BU252","v":"TBC"},null,{"$f":"Singles!BV252","v":0},{"$f":"Singles!BW252","v":0},{"$f":"Singles!BX252","v":0},null,null,null,null,null,null,null,null,null,null,null,null,null,null,null,null,null,null,null,null,0]
[null,53,{"$f":"Singles!BO253","v":0},{"$f":"Singles!BP253","v":"TBC"},{"$f":"Singles!BQ253","v":"TBC"},{"$f":"Singles!BR253","v":"TBC"},{"$f":"Singles!BS253","v":"TBC"},{"$f":"Singles!BT253","v":"TBC"},{"$f":"Singles!BU253","v":"TBC"},null,{"$f":"Singles!BV253","v":0},{"$f":"Singles!BW253","v":0},{"$f":"Singles!BX253","v":0},null,null,null,null,null,null,null,null,null,null,null,null,null,null,null,null,null,null,null,null,0]
[null,54,{"$f":"Singles!BO254","v":0},{"$f":"Singles!BP254","v":"TBC"},{"$f":"Singles!BQ254","v":"TBC"},{"$f":"Singles!BR254","v":"TBC"},{"$f":"Singles!BS254","v":"TBC"},{"$f":"Singles!BT254","v":"TBC"},{"$f":"Singles!BU254","v":"TBC"},null,{"$f":"Singles!BV254","v":0},{"$f":"Singles!BW254","v":0},{"$f":"Singles!BX254","v":0},null,null,null,null,null,null,null,null,null,null,null,null,null,null,null,null,null,null,null,null,0]
[null,55,{"$f":"Singles!BO255","v":0},{"$f":"Singles!BP255","v":"TBC"},{"$f":"Singles!BQ255","v":"TBC"},{"$f":"Singles!BR255","v":"TBC"},{"$f":"Singles!BS255","v":"TBC"},{"$f":"Singles!BT255","v":"TBC"},{"$f":"Singles!BU255","v":"TBC"},null,{"$f":"Singles!BV255","v":0},{"$f":"Singles!BW255","v":0},{"$f":"Singles!BX255","v":0},null,null,null,null,null,null,null,null,null,null,null,null,null,null,null,null,null,null,null,null,0]
[null,56,{"$f":"Singles!BO256","v":0},{"$f":"Singles!BP256","v":"TBC"},{"$f":"Singles!BQ256","v":"TBC"},{"$f":"Singles!BR256","v":"TBC"},{"$f":"Singles!BS256","v":"TBC"},{"$f":"Singles!BT256","v":"TBC"},{"$f":"Singles!BU256","v":"TBC"},null,{"$f":"Singles!BV256","v":0},{"$f":"Singles!BW256","v":0},{"$f":"Singles!BX256","v":0},null,null,null,null,null,null,null,null,null,null,null,null,null,null,null,null,null,null,null,null,0]
[null,57,{"$f":"Singles!BO257","v":0},{"$f":"Singles!BP257","v":"TBC"},{"$f":"Singles!BQ257","v":"TBC"},{"$f":"Singles!BR257","v":"TBC"},{"$f":"Singles!BS257","v":"TBC"},{"$f":"Singles!BT257","v":"TBC"},{"$f":"Singles!BU257","v":"TBC"},null,{"$f":"Singles!BV257","v":0},{"$f":"Singles!BW257","v":0},{"$f":"Singles!BX257","v":0},null,null,null,null,null,null,null,null,null,null,null,null,null,null,null,null,null,null,null,null,0]
[null,58,{"$f":"Singles!BO258","v":0},{"$f":"Singles!BP258","v":"TBC"},{"$f":"Singles!BQ258","v":"TBC"},{"$f":"Singles!BR258","v":"TBC"},{"$f":"Singles!BS258","v":"TBC"},{"$f":"Singles!BT258","v":"TBC"},{"$f":"Singles!BU258","v":"TBC"},null,{"$f":"Singles!BV258","v":0},{"$f":"Singles!BW258","v":0},{"$f":"Singles!BX258","v":0},null,null,null,null,null,null,null,null,null,null,null,null,null,null,null,null,null,null,null,null,0]
[null,59,{"$f":"Singles!BO259","v":0},{"$f":"Singles!BP259","v":"TBC"},{"$f":"Singles!BQ259","v":"TBC"},{"$f":"Singles!BR259","v":"TBC"},{"$f":"Singles!BS259","v":"TBC"},{"$f":"Singles!BT259","v":"TBC"},{"$f":"Singles!BU259","v":"TBC"},null,{"$f":"Singles!BV259","v":0},{"$f":"Singles!BW259","v":0},{"$f":"Singles!BX259","v":0},null,null,null,null,null,null,null,null,null,null,null,null,null,null,null,null,null,null,null,null,0]
[null,60,{"$f":"Singles!BO260","v":0},{"$f":"Singles!BP260","v":"TBC"},{"$f":"Singles!BQ260","v":"TBC"},{"$f":"Singles!BR260","v":"TBC"},{"$f":"Singles!BS260","v":"TBC"},{"$f":"Singles!BT260","v":"TBC"},{"$f":"Singles!BU260","v":"TBC"},null,{"$f":"Singles!BV260","v":0},{"$f":"Singles!BW260","v":0},{"$f":"Singles!BX260","v":0},null,null,null,null,null,null,null,null,null,null,null,null,null,null,null,null,null,null,null,null,0]
[null,61,{"$f":"Singles!BO261","v":0},{"$f":"Singles!BP261","v":"TBC"},{"$f":"Singles!BQ261","v":"TBC"},{"$f":"Singles!BR261","v":"TBC"},{"$f":"Singles!BS261","v":"TBC"},{"$f":"Singles!BT261","v":"TBC"},{"$f":"Singles!BU261","v":"TBC"},null,{"$f":"Singles!BV261","v":0},{"$f":"Singles!BW261","v":0},{"$f":"Singles!BX261","v":0},null,null,null,null,null,null,null,null,null,null,null,null,null,null,null,null,null,null,null,null,0]
[null,62,{"$f":"Singles!BO262","v":0},{"$f":"Singles!BP262","v":"TBC"},{"$f":"Singles!BQ262","v":"TBC"},{"$f":"Singles!BR262","v":"TBC"},{"$f":"Singles!BS262","v":"TBC"},{"$f":"Singles!BT262","v":"TBC"},{"$f":"Singles!BU262","v":"TBC"},null,{"$f":"Singles!BV262","v":0},{"$f":"Singles!BW262","v":0},{"$f":"Singles!BX262","v":0},null,null,null,null,null,null,null,null,null,null,null,null,null,null,null,null,null,null,null,null,0]
[null,63,{"$f":"Singles!BO263","v":0},{"$f":"Singles!BP263","v":"TBC"},{"$f":"Singles!BQ263","v":"TBC"},{"$f":"Singles!BR263","v":"TBC"},{"$f":"Singles!BS263","v":"TBC"},{"$f":"Singles!BT263","v":"TBC"},{"$f":"Singles!BU263","v":"TBC"},null,{"$f":"Singles!BV263","v":0},{"$f":"Singles!BW263","v":0},{"$f":"Singles!BX263","v":0},null,null,null,null,null,null,null,null,null,null,null,null,null,null,null,null,null,null,null,null,0]
[null,64,{"$f":"Singles!BO264","v":0},{"$f":"Singles!BP264","v":"TBC"},{"$f":"Singles!BQ264","v":"TBC"},{"$f":"Singles!BR264","v":"TBC"},{"$f":"Singles!BS264","v":"TBC"},{"$f":"Singles!BT264","v":"TBC"},{"$f":"Singles!BU264","v":"TBC"},null,{"$f":"Singles!BV264","v":0},{"$f":"Singles!BW264","v":0},{"$f":"Singles!BX264","v":0},null,null,null,null,null,null,null,null,null,null,null,null,null,null,null,null,null,null,null,null,0]
[null,65,{"$f":"Singles!BO265","v":0},{"$f":"Singles!BP265","v":"TBC"},{"$f":"Singles!BQ265","v":"TBC"},{"$f":"Singles!BR265","v":"TBC"},{"$f":"Singles!BS265","v":"TBC"},{"$f":"Singles!BT265","v":"TBC"},{"$f":"Singles!BU265","v":"TBC"},null,{"$f":"Singles!BV265","v":0},{"$f":"Singles!BW265","v":0},{"$f":"Singles!BX265","v":0},null,null,null,null,null,null,null,null,null,null,null,null,null,null,null,null,null,null,null,null,0]
[null,66,{"$f":"Singles!BO266","v":0},{"$f":"Singles!BP266","v":"TBC"},{"$f":"Singles!BQ266","v":"TBC"},{"$f":"Singles!BR266","v":"TBC"},{"$f":"Singles!BS266","v":"TBC"},{"$f":"Singles!BT266","v":"TBC"},{"$f":"Singles!BU266","v":"TBC"},null,{"$f":"Singles!BV266","v":0},{"$f":"Singles!BW266","v":0},{"$f":"Singles!BX266","v":0},null,null,null,null,null,null,null,null,null,null,null,null,null,null,null,null,null,null,null,null,0]
[null,67,{"$f":"Singles!BO267","v":0},{"$f":"Singles!BP267","v":"TBC"},{"$f":"Singles!BQ267","v":"TBC"},{"$f":"Singles!BR267","v":"TBC"},{"$f":"Singles!BS267","v":"TBC"},{"$f":"Singles!BT267","v":"TBC"},{"$f":"Singles!BU267","v":"TBC"},null,{"$f":"Singles!BV267","v":0},{"$f":"Singles!BW267","v":0},{"$f":"Singles!BX267","v":0},null,null,null,null,null,null,null,null,null,null,null,null,null,null,null,null,null,null,null,null,0]
[null,68,{"$f":"Singles!BO268","v":0},{"$f":"Singles!BP268","v":"TBC"},{"$f":"Singles!BQ268","v":"TBC"},{"$f":"Singles!BR268","v":"TBC"},{"$f":"Singles!BS268","v":"TBC"},{"$f":"Singles!BT268","v":"TBC"},{"$f":"Singles!BU268","v":"TBC"},null,{"$f":"Singles!BV268","v":0},{"$f":"Singles!BW268","v":0},{"$f":"Singles!BX268","v":0},null,null,null,null,null,null,null,null,null,null,null,null,null,null,null,null,null,null,null,null,0]
[null,69,{"$f":"Singles!BO269","v":0},{"$f":"Singles!BP269","v":"TBC"},{"$f":"Singles!BQ269","v":"TBC"},{"$f":"Singles!BR269","v":"TBC"},{"$f":"Singles!BS269","v":"TBC"},{"$f":"Singles!BT269","v":"TBC"},{"$f":"Singles!BU269","v":"TBC"},null,{"$f":"Singles!BV269","v":0},{"$f":"Singles!BW269","v":0},{"$f":"Singles!BX269","v":0},null,null,null,null,null,null,null,null,null,null,null,null,null,null,null,null,null,null,null,null,0]
[null,70,{"$f":"Singles!BO270","v":0},{"$f":"Singles!BP270","v":"TBC"},{"$f":"Singles!BQ270","v":"TBC"},{"$f":"Singles!BR270","v":"TBC"},{"$f":"Singles!BS270","v":"TBC"},{"$f":"Singles!BT270","v":"TBC"},{"$f":"Singles!BU270","v":"TBC"},null,{"$f":"Singles!BV270","v":0},{"$f":"Singles!BW270","v":0},{"$f":"Singles!BX270","v":0},null,null,null,null,null,null,null,null,null,null,null,null,null,null,null,null,null,null,null,null,0]
[null,71,{"$f":"Singles!BO271","v":0},{"$f":"Singles!BP271","v":"TBC"},{"$f":"Singles!BQ271","v":"TBC"},{"$f":"Singles!BR271","v":"TBC"},{"$f":"Singles!BS271","v":"TBC"},{"$f":"Singles!BT271","v":"TBC"},{"$f":"Singles!BU271","v":"TBC"},null,{"$f":"Singles!BV271","v":0},{"$f":"Singles!BW271","v":0},{"$f":"Singles!BX271","v":0},null,null,null,null,null,null,null,null,null,null,null,null,null,null,null,null,null,null,null,null,0]
[null,72,{"$f":"Singles!BO272","v":0},{"$f":"Singles!BP272","v":"TBC"},{"$f":"Singles!BQ272","v":"TBC"},{"$f":"Singles!BR272","v":"TBC"},{"$f":"Singles!BS272","v":"TBC"},{"$f":"Singles!BT272","v":"TBC"},{"$f":"Singles!BU272","v":"TBC"},null,{"$f":"Singles!BV272","v":0},{"$f":"Singles!BW272","v":0},{"$f":"Singles!BX272","v":0},null,null,null,null,null,null,null,null,null,null,null,null,null,null,null,null,null,null,null,null,0]
[null,73,{"$f":"Singles!BO273","v":0},{"$f":"Singles!BP273","v":"TBC"},{"$f":"Singles!BQ273","v":"TBC"},{"$f":"Singles!BR273","v":"TBC"},{"$f":"Singles!BS273","v":"TBC"},{"$f":"Singles!BT273","v":"TBC"},{"$f":"Singles!BU273","v":"TBC"},null,{"$f":"Singles!BV273","v":0},{"$f":"Singles!BW273","v":0},{"$f":"Singles!BX273","v":0},null,null,null,null,null,null,null,null,null,null,null,null,null,null,null,null,null,null,null,null,0]
[null,74,{"$f":"Singles!BO274","v":0},{"$f":"Singles!BP274","v":"TBC"},{"$f":"Singles!BQ274","v":"TBC"},{"$f":"Singles!BR274","v":"TBC"},{"$f":"Singles!BS274","v":"TBC"},{"$f":"Singles!BT274","v":"TBC"},{"$f":"Singles!BU274","v":"TBC"},null,{"$f":"Singles!BV274","v":0},{"$f":"Singles!BW274","v":0},{"$f":"Singles!BX274","v":0},null,null,null,null,null,null,null,null,null,null,null,null,null,null,null,null,null,null,null,null,0]
[null,75,{"$f":"Singles!BO275","v":0},{"$f":"Singles!BP275","v":"TBC"},{"$f":"Singles!BQ275","v":"TBC"},{"$f":"Singles!BR275","v":"TBC"},{"$f":"Singles!BS275","v":"TBC"},{"$f":"Singles!BT275","v":"TBC"},{"$f":"Singles!BU275","v":"TBC"},null,{"$f":"Singles!BV275","v":0},{"$f":"Singles!BW275","v":0},{"$f":"Singles!BX275","v":0},null,null,null,null,null,null,null,null,null,null,null,null,null,null,null,null,null,null,null,null,0]
[{"$f":"$D$7","v":"UCD"}]

{"sheet":"BBM","index":8,"n_rows":82,"n_cols":47,"rows_kept":82,"cut":false,"hidden":false,"merged":[[0,0,0,13],[4,1,4,8],[4,10,4,12],[1,13,80,13],[81,0,81,13],[1,0,80,0],[1,4,1,8],[1,10,1,12],[1,1,3,3],[2,10,3,10],[2,11,3,11],[2,12,3,12],[1,9,80,9]]}
[{"$f":"$D$7","v":"GMIT"}]
["GMIT","Male Beginner Barebow",null,null,"Host Club",null,null,null,null,{"$f":"$D$7","v":"GMIT"},"Scores",null,null,"GMIT",null,null,null,null,null,null,null,null,null,null,null,null,null,null,null,null,null,null,null,{"$f":"AH7","v":"Andrew Fahey"}]
[null,null,null,null,{"$f":"Entries!K6","v":"UL IV"},{"$f":"Entries!K7","v":"DkIT IV"},{"$f":"Entries!K8","v":"GMIT IV"},{"$f":"Entries!K9","v":"DCU IV"},{"$f":"Entries!K10","v":"NUIG IV"},null,"Total","Lowest","League"]
[]
[null,"GMIT",null,null,null,null,null,null,null,null,"GMIT"]
[null,null,"Name","College",{"$f":"Entries!K6","v":"UL IV"},{"$f":"Entries!K7","v":"DkIT IV"},{"$f":"Entries!K8","v":"GMIT IV"},{"$f":"Entries!K9","v":"DCU IV"},{"$f":"Entries!K10","v":"NUIG IV"},null,"Total","Lowest","League total"]
[null,1,{"$f":"Singles!B301","v":"Andrew Fahey"},{"$f":"Singles!C301","v":"GMIT"},{"$f":"Singles!D301","v":393},{"$f":"Singles!E301","v":391},{"$f":"Singles!F301","v":439},{"$f":"Singles!G301","v":307},{"$f":"Singles!H301","v":360},null,{"$f":"Singles!I301","v":1890},{"$f":"Singles!J301","v":307},{"$f":"Singles!K301","v":1583.0439392999999},null,null,null,null,null,null,null,null,null,null,null,null,null,null,null,null,null,null,null,null,{"$f":"C7","v":"Andrew Fahey"}]
[null,2,{"$f":"Singles!B302","v":"Jamie McMahon"},{"$f":"Singles!C302","v":"IT Tallaght"},{"$f":"Singles!D302","v":380},{"$f":"Singles!E302","v":383},{"$f":"Singles!F302","v":431},{"$f":"Singles!G302","v":331},{"$f":"Singles!H302","v":271},null,{"$f":"Singles!I302","v":1796},{"$f":"Singles!J302","v":271},{"$f":"Singles!K302","v":1525.0431383},null,null,null,null,null,null,null,null,null,null,null,null,null,null,null,null,null,null,null,null,"Jamie McMahon",null,null,null,null,null,null,null,null,null,null,null,"DCU CONDITIONAL FORMATTING FORMULA >","OR($AH7=Tables!$B$556,$AH7=Tables!$B$557,$AH7=Tables!$B$558,$AH7=Tables!$B$559,$AH7=Tables!$B$560,$AH7=Tables!$B$561,$AH7=Tables!$B$562,$AH7=Tables!$B$563,$AH7=Tables!$B$564,$AH7=Tables!$B$565,$AH7=Tables!$B$566,$AH7=Tables!$B$567,$AH7=Tables!$B$568,$AH7=Tables!$B$569,$AH7=Tables!$B$570,$AH7=Tables!$B$571,$AH7=Tables!$B$572,$AH7=Tables!$B$573,$AH7=Tables!$B$574,$AH7=Tables!$B$576,$AH7=Tables!$B$577)"]
[null,3,{"$f":"Singles!B304","v":"Sean Potts"},{"$f":"Singles!C304","v":"MU"},{"$f":"Singles!D304","v":0},{"$f":"Singles!E304","v":327},{"$f":"Singles!F304","v":406},{"$f":"Singles!G304","v":325},{"$f":"Singles!H304","v":365},null,{"$f":"Singles!I304","v":1423},{"$f":"Singles!J304","v":0},{"$f":"Singles!K304","v":1423.0406365000001},null,null,null,null,null,null,null,null,null,null,null,null,null,null,null,null,null,null,null,null,"Sean Potts",null,null,null,null,null,null,null,null,null,null,null,"DIT CONDITIONAL FORMATTING FORMULA >","OR($AH7=Tables!$B$581,$AH7=Tables!$B$582,$AH7=Tables!$B$583,$AH7=Tables!$B$584,$AH7=Tables!$B$585,$AH7=Tables!$B$586,$AH7=Tables!$B$587,$AH7=Tables!$B$588,$AH7=Tables!$B$589,$AH7=Tables!$B$590,$AH7=Tables!$B$591,$AH7=Tables!$B$592,$AH7=Tables!$B$593,$AH7=Tables!$B$594,$AH7=Tables!$B$595,$AH7=Tables!$B$596,$AH7=Tables!$B$597,$AH7=Tables!$B$598,$AH7=Tables!$B$599,$AH7=Tables!$B$600,$AH7=Tables!$B$601)"]
[null,4,{"$f":"Singles!B303","v":"Elliot Barry"},{"$f":"Singles!C303","v":"MU"},{"$f":"Singles!D303","v":241},{"$f":"Singles!E303","v":337},{"$f":"Singles!F303","v":348},{"$f":"Singles!G303","v":380},{"$f":"Singles!H303","v":322},null,{"$f":"Singles!I303","v":1628},{"$f":"Singles!J303","v":241},{"$f":"Singles!K303","v":1387.0380348000001},null,null,null,null,null,null,null,null,null,null,null,null,null,null,null,null,null,null,null,null,"Elliot Barry",null,null,null,null,null,null,null,null,null,null,null,"DKIT CONDITIONAL FORMATTING FORMULA >","OR($AH7=Tables!$B$606,$AH7=Tables!$B$607,$AH7=Tables!$B$608,$AH7=Tables!$B$609,$AH7=Tables!$B$610,$AH7=Tables!$B$611,$AH7=Tables!$B$612,$AH7=Tables!$B$613,$AH7=Tables!$B$614,$AH7=Tables!$B$615,$AH7=Tables!$B$616,$AH7=Tables!$B$617,$AH7=Tables!$B$618,$AH7=Tables!$B$619,$AH7=Tables!$B$620,$AH7=Tables!$B$621,$AH7=Tables!$B$622,$AH7=Tables!$B$623,$AH7=Tables!$B$624,$AH7=Tables!$B$625,$AH7=Tables!$B$626)"]
[null,5,{"$f":"Singles!B305","v":"Shannon Birch"},{"$f":"Singles!C305","v":"IT Tallaght"},{"$f":"Singles!D305","v":261},{"$f":"Singles!E305","v":387},{"$f":"Singles!F305","v":351},{"$f":"Singles!G305","v":0},{"$f":"Singles!H305","v":384},null,{"$f":"Singles!I305","v":1383},{"$f":"Singles!J305","v":0},{"$f":"Singles!K305","v":1383.0387384000001},null,null,null,null,null,null,null,null,null,null,null,null,null,null,null,null,null,null,null,null,"Shannon Birch",null,null,null,null,null,null,null,null,null,null,null,"DUAC CONDITIONAL FORMATTING FORMULA >","OR($AH7=Tables!$B$631,$AH7=Tables!$B$632,$AH7=Tables!$B$633,$AH7=Tables!$B$634,$AH7=Tables!$B$635,$AH7=Tables!$B$636,$AH7=Tables!$B$637,$AH7=Tables!$B$638,$AH7=Tables!$B$639,$AH7=Tables!$B$640,$AH7=Tables!$B$641,$AH7=Tables!$B$642,$AH7=Tables!$B$643,$AH7=Tables!$B$644,$AH7=Tables!$B$645,$AH7=Tables!$B$646,$AH7=Tables!$B$647,$AH7=Tables!$B$648,$AH7=Tables!$B$649,$AH7=Tables!$B$650,$AH7=Tables!$B$651)"]
[null,6,{"$f":"Singles!B306","v":"Ciarán Martin"},{"$f":"Singles!C306","v":"MU"},{"$f":"Singles!D306","v":380},{"$f":"Singles!E306","v":0},{"$f":"Singles!F306","v":298},{"$f":"Singles!G306","v":327},{"$f":"Singles!H306","v":296},null,{"$f":"Singles!I306","v":1301},{"$f":"Singles!J306","v":0},{"$f":"Singles!K306","v":1301.0380327},null,null,null,null,null,null,null,null,null,null,null,null,null,null,null,null,null,null,null,null,"Ciarán Martin",null,null,null,null,null,null,null,null,null,null,null,"GMIT CONDITIONAL FORMATTING FORMULA >","OR($AH7=Tables!$B$656,$AH7=Tables!$B$657,$AH7=Tables!$B$658,$AH7=Tables!$B$659,$AH7=Tables!$B$660,$AH7=Tables!$B$661,$AH7=Tables!$B$662,$AH7=Tables!$B$663,$AH7=Tables!$B$664,$AH7=Tables!$B$665,$AH7=Tables!$B$666,$AH7=Tables!$B$667,$AH7=Tables!$B$668,$AH7=Tables!$B$669,$AH7=Tables!$B$670,$AH7=Tables!$B$671,$AH7=Tables!$B$672,$AH7=Tables!$B$673,$AH7=Tables!$B$674,$AH7=Tables!$B$675,$AH7=Tables!$B$676)"]
[null,7,{"$f":"Singles!B307","v":"Christopher Balfe"},{"$f":"Singles!C307","v":"IT Tallaght"},{"$f":"Singles!D307","v":0},{"$f":"Singles!E307","v":0},{"$f":"Singles!F307","v":439},{"$f":"Singles!G307","v":395},{"$f":"Singles!H307","v":369},null,{"$f":"Singles!I307","v":1203},{"$f":"Singles!J307","v":0},{"$f":"Singles!K307","v":1203.0439394999999},null,null,null,null,null,null,null,null,null,null,null,null,null,null,null,null,null,null,null,null,"Christopher Balfe",null,null,null,null,null,null,null,null,null,null,null,"GMITC CONDITIONAL FORMATTING FORMULA >","OR($AH7=Tables!$B$681,$AH7=Tables!$B$682,$AH7=Tables!$B$683,$AH7=Tables!$B$684,$AH7=Tables!$B$685,$AH7=Tables!$B$686,$AH7=Tables!$B$687,$AH7=Tables!$B$688,$AH7=Tables!$B$689,$AH7=Tables!$B$690,$AH7=Tables!$B$691,$AH7=Tables!$B$692,$AH7=Tables!$B$693,$AH7=Tables!$B$694,$AH7=Tables!$B$695,$AH7=Tables!$B$696,$AH7=Tables!$B$697,$AH7=Tables!$B$698,$AH7=Tables!$B$699,$AH7=Tables!$B$700,$AH7=Tables!$B$701)"]
[null,8,{"$f":"Singles!B308","v":"Brian McDonagh ITT"},{"$f":"Singles!C308","v":"IT Tallaght"},{"$f":"Singles!D308","v":205},{"$f":"Singles!E308","v":0},{"$f":"Singles!F308","v":308},{"$f":"Singles!G308","v":283},{"$f":"Singles!H308","v":313},null,{"$f":"Singles!I308","v":1109},{"$f":"Singles!J308","v":0},{"$f":"Singles!K308","v":1109.0313308000002},null,null,null,null,null,null,null,null,null,null,null,null,null,null,null,null,null,null,null,null,"Brian McDonagh ITT",null,null,null,null,null,null,null,null,null,null,null,"ITC CONDITIONAL FORMATTING FORMULA >","OR($AH7=Tables!$B$706,$AH7=Tables!$B$707,$AH7=Tables!$B$708,$AH7=Tables!$B$709,$AH7=Tables!$B$710,$AH7=Tables!$B$711,$AH7=Tables!$B$712,$AH7=Tables!$B$713,$AH7=Tables!$B$714,$AH7=Tables!$B$715,$AH7=Tables!$B$716,$AH7=Tables!$B$717,$AH7=Tables!$B$718,$AH7=Tables!$B$719,$AH7=Tables!$B$720,$AH7=Tables!$B$721,$AH7=Tables!$B$722,$AH7=Tables!$B$723,$AH7=Tables!$B$724,$AH7=Tables!$B$725,$AH7=Tables!$B$726)"]
[null,9,{"$f":"Singles!B309","v":"Richard Morrell"},{"$f":"Singles!C309","v":"ITC"},{"$f":"Singles!D309","v":313},{"$f":"Singles!E309","v":238},{"$f":"Singles!F309","v":0},{"$f":"Singles!G309","v":292},{"$f":"Singles!H309","v":0},null,{"$f":"Singles!I309","v":843},{"$f":"Singles!J309","v":0},{"$f":"Singles!K309","v":843.03132919999996},null,null,null,null,null,null,null,null,null,null,null,null,null,null,null,null,null,null,null,null,"Richard Morrell",null,null,null,null,null,null,null,null,null,null,null,"ITT CONDITIONAL FORMATTING FORMULA >","OR($AH7=Tables!$B$731,$AH7=Tables!$B$732,$AH7=Tables!$B$733,$AH7=Tables!$B$734,$AH7=Tables!$B$735,$AH7=Tables!$B$736,$AH7=Tables!$B$737,$AH7=Tables!$B$738,$AH7=Tables!$B$739,$AH7=Tables!$B$740,$AH7=Tables!$B$741,$AH7=Tables!$B$742,$AH7=Tables!$B$743,$AH7=Tables!$B$744,$AH7=Tables!$B$745,$AH7=Tables!$B$746,$AH7=Tables!$B$747,$AH7=Tables!$B$748,$AH7=Tables!$B$749,$AH7=Tables!$B$750,$AH7=Tables!$B$751)"]
[null,10,{"$f":"Singles!B310","v":"Cormac Begley"},{"$f":"Singles!C310","v":"DUAC"},{"$f":"Singles!D310","v":0},{"$f":"Singles!E310","v":282},{"$f":"Singles!F310","v":253},{"$f":"Singles!G310","v":0},{"$f":"Singles!H310","v":267},null,{"$f":"Singles!I310","v":802},{"$f":"Singles!J310","v":0},{"$f":"Singles!K310","v":802.0282267},null,null,null,null,null,null,null,null,null,null,null,null,null,null,null,null,null,null,null,null,"Cormac Begley",null,null,null,null,null,null,null,null,null,null,null,"MU CONDITIONAL FORMATTING FORMULA >","OR($AH7=Tables!$B$756,$AH7=Tables!$B$757,$AH7=Tables!$B$758,$AH7=Tables!$B$759,$AH7=Tables!$B$760,$AH7=Tables!$B$761,$AH7=Tables!$B$762,$AH7=Tables!$B$763,$AH7=Tables!$B$764,$AH7=Tables!$B$765,$AH7=Tables!$B$766,$AH7=Tables!$B$767,$AH7=Tables!$B$768,$AH7=Tables!$B$769,$AH7=Tables!$B$770,$AH7=Tables!$B$771,$AH7=Tables!$B$772,$AH7=Tables!$B$773,$AH7=Tables!$B$774,$AH7=Tables!$B$775,$AH7=Tables!$B$776)"]
[null,11,{"$f":"Singles!B311","v":"Eoin Dwyer"},{"$f":"Singles!C311","v":"GMITC"},{"$f":"Singles!D311","v":243},{"$f":"Singles!E311","v":0},{"$f":"Singles!F311","v":0},{"$f":"Singles!G311","v":353},{"$f":"Singles!H311","v":188},null,{"$f":"Singles!I311","v":784},{"$f":"Singles!J311","v":0},{"$f":"Singles!K311","v":784.03532429999996},null,null,null,null,null,null,null,null,null,null,null,null,null,null,null,null,null,null,null,null,"Eoin Dwyer",null,null,null,null,null,null,null,null,null,null,null,"NCAD CONDITIONAL FORMATTING FORMULA >","OR($AH7=Tables!$B$781,$AH7=Tables!$B$782,$AH7=Tables!$B$783,$AH7=Tables!$B$784,$AH7=Tables!$B$785,$AH7=Tables!$B$786,$AH7=Tables!$B$787,$AH7=Tables!$B$788,$AH7=Tables!$B$789,$AH7=Tables!$B$790,$AH7=Tables!$B$791,$AH7=Tables!$B$792,$AH7=Tables!$B$793,$AH7=Tables!$B$794,$AH7=Tables!$B$795,$AH7=Tables!$B$796,$AH7=Tables!$B$797,$AH7=Tables!$B$798,$AH7=Tables!$B$799,$AH7=Tables!$B$800,$AH7=Tables!$B$801)"]
[null,12,{"$f":"Singles!B312","v":"Mark Harrington"},{"$f":"Singles!C312","v":"NUIG"},{"$f":"Singles!D312","v":0},{"$f":"Singles!E312","v":0},{"$f":"Singles!F312","v":341},{"$f":"Singles!G312","v":0},{"$f":"Singles!H312","v":441},null,{"$f":"Singles!I312","v":782},{"$f":"Singles!J312","v":0},{"$f":"Singles!K312","v":782.04413409999995},null,null,null,null,null,null,null,null,null,null,null,null,null,null,null,null,null,null,null,null,"Mark Harrington",null,null,null,null,null,null,null,null,null,null,null,"NUIG CONDITIONAL FORMATTING FORMULA >","OR($AH7=Tables!$B$806,$AH7=Tables!$B$807,$AH7=Tables!$B$808,$AH7=Tables!$B$809,$AH7=Tables!$B$810,$AH7=Tables!$B$811,$AH7=Tables!$B$812,$AH7=Tables!$B$813,$AH7=Tables!$B$814,$AH7=Tables!$B$815,$AH7=Tables!$B$816,$AH7=Tables!$B$817,$AH7=Tables!$B$818,$AH7=Tables!$B$819,$AH7=Tables!$B$820,$AH7=Tables!$B$821,$AH7=Tables!$B$822,$AH7=Tables!$B$823,$AH7=Tables!$B$824,$AH7=Tables!$B$825,$AH7=Tables!$B$826)"]
[null,13,{"$f":"Singles!B313","v":"Jack Buttery"},{"$f":"Singles!C313","v":"DUAC"},{"$f":"Singles!D313","v":0},{"$f":"Singles!E313","v":144},{"$f":"Singles!F313","v":308},{"$f":"Singles!G313","v":0},{"$f":"Singles!H313","v":319},null,{"$f":"Singles!I313","v":771},{"$f":"Singles!J313","v":0},{"$f":"Singles!K313","v":771.03193079999994},null,null,null,null,null,null,null,null,null,null,null,null,null,null,null,null,null,null,null,null,"Jack Buttery",null,null,null,null,null,null,null,null,null,null,null,"RCSI CONDITIONAL FORMATTING FORMULA >","OR($AH7=Tables!$B$831,$AH7=Tables!$B$832,$AH7=Tables!$B$833,$AH7=Tables!$B$834,$AH7=Tables!$B$835,$AH7=Tables!$B$836,$AH7=Tables!$B$837,$AH7=Tables!$B$838,$AH7=Tables!$B$839,$AH7=Tables!$B$840,$AH7=Tables!$B$841,$AH7=Tables!$B$842,$AH7=Tables!$B$843,$AH7=Tables!$B$844,$AH7=Tables!$B$845,$AH7=Tables!$B$846,$AH7=Tables!$B$847,$AH7=Tables!$B$848,$AH7=Tables!$B$849,$AH7=Tables!$B$850,$AH7=Tables!$B$851)"]
[null,14,{"$f":"Singles!B314","v":"Eoin De Brit"},{"$f":"Singles!C314","v":"MU"},{"$f":"Singles!D314","v":0},{"$f":"Singles!E314","v":0},{"$f":"Singles!F314","v":0},{"$f":"Singles!G314","v":422},{"$f":"Singles!H314","v":336},null,{"$f":"Singles!I314","v":758},{"$f":"Singles!J314","v":0},{"$f":"Singles!K314","v":758.04223360000003},null,null,null,null,null,null,null,null,null,null,null,null,null,null,null,null,null,null,null,null,"Eoin De Brit",null,null,null,null,null,null,null,null,null,null,null,"UCC CONDITIONAL FORMATTING FORMULA >","OR($AH7=Tables!$B$856,$AH7=Tables!$B$857,$AH7=Tables!$B$858,$AH7=Tables!$B$859,$AH7=Tables!$B$860,$AH7=Tables!$B$861,$AH7=Tables!$B$862,$AH7=Tables!$B$863,$AH7=Tables!$B$864,$AH7=Tables!$B$865,$AH7=Tables!$B$866,$AH7=Tables!$B$867,$AH7=Tables!$B$868,$AH7=Tables!$B$869,$AH7=Tables!$B$870,$AH7=Tables!$B$871,$AH7=Tables!$B$872,$AH7=Tables!$B$873,$AH7=Tables!$B$874,$AH7=Tables!$B$875,$AH7=Tables!$B$876)"]
[null,15,{"$f":"Singles!B315","v":"Darren Martyn"},{"$f":"Singles!C315","v":"GMIT"},{"$f":"Singles!D315","v":0},{"$f":"Singles!E315","v":0},{"$f":"Singles!F315","v":291},{"$f":"Singles!G315","v":0},{"$f":"Singles!H315","v":440},null,{"$f":"Singles!I315","v":731},{"$f":"Singles!J315","v":0},{"$f":"Singles!K315","v":731.04402909999999},null,null,null,null,null,null,null,null,null,null,null,null,null,null,null,null,null,null,null,null,"Darren Martyn",null,null,null,null,null,null,null,null,null,null,null,"UCD CONDITIONAL FORMATTING FORMULA >","OR($AH7=Tables!$B$881,$AH7=Tables!$B$882,$AH7=Tables!$B$883,$AH7=Tables!$B$884,$AH7=Tables!$B$885,$AH7=Tables!$B$886,$AH7=Tables!$B$887,$AH7=Tables!$B$888,$AH7=Tables!$B$889,$AH7=Tables!$B$890,$AH7=Tables!$B$891,$AH7=Tables!$B$892,$AH7=Tables!$B$893,$AH7=Tables!$B$894,$AH7=Tables!$B$895,$AH7=Tables!$B$896,$AH7=Tables!$B$897,$AH7=Tables!$B$898,$AH7=Tables!$B$899,$AH7=Tables!$B$900,$AH7=Tables!$B$901)"]
[null,16,{"$f":"Singles!B316","v":"Dylan Do Couto"},{"$f":"Singles!C316","v":"DCU"},{"$f":"Singles!D316","v":0},{"$f":"Singles!E316","v":339},{"$f":"Singles!F316","v":0},{"$f":"Singles!G316","v":344},{"$f":"Singles!H316","v":0},null,{"$f":"Singles!I316","v":683},{"$f":"Singles!J316","v":0},{"$f":"Singles!K316","v":683.03443389999995},null,null,null,null,null,null,null,null,null,null,null,null,null,null,null,null,null,null,null,null,"Dylan Do Couto",null,null,null,null,null,null,null,null,null,null,null,"UL CONDITIONAL FORMATTING FORMULA >","OR($AH7=Tables!$B$906,$AH7=Tables!$B$907,$AH7=Tables!$B$908,$AH7=Tables!$B$909,$AH7=Tables!$B$910,$AH7=Tables!$B$911,$AH7=Tables!$B$912,$AH7=Tables!$B$913,$AH7=Tables!$B$914,$AH7=Tables!$B$915,$AH7=Tables!$B$916,$AH7=Tables!$B$917,$AH7=Tables!$B$918,$AH7=Tables!$B$919,$AH7=Tables!$B$920,$AH7=Tables!$B$921,$AH7=Tables!$B$922,$AH7=Tables!$B$923,$AH7=Tables!$B$924,$AH7=Tables!$B$925,$AH7=Tables!$B$926)"]
[null,17,{"$f":"Singles!B317","v":"Darren Watkin"},{"$f":"Singles!C317","v":"MU"},{"$f":"Singles!D317","v":0},{"$f":"Singles!E317","v":287},{"$f":"Singles!F317","v":0},{"$f":"Singles!G317","v":380},{"$f":"Singles!H317","v":0},null,{"$f":"Singles!I317","v":667},{"$f":"Singles!J317","v":0},{"$f":"Singles!K317","v":667.03802870000004},null,null,null,null,null,null,null,null,null,null,null,null,null,null,null,null,null,null,null,null,"Darren Watkin",null,null,null,null,null,null,null,null,null,null,null,"UU CONDITIONAL FORMATTING FORMULA >","OR($AH7=Tables!$B$931,$AH7=Tables!$B$932,$AH7=Tables!$B$933,$AH7=Tables!$B$934,$AH7=Tables!$B$935,$AH7=Tables!$B$936,$AH7=Tables!$B$937,$AH7=Tables!$B$938,$AH7=Tables!$B$939,$AH7=Tables!$B$940,$AH7=Tables!$B$941,$AH7=Tables!$B$942,$AH7=Tables!$B$943,$AH7=Tables!$B$944,$AH7=Tables!$B$945,$AH7=Tables!$B$946,$AH7=Tables!$B$947,$AH7=Tables!$B$948,$AH7=Tables!$B$949,$AH7=Tables!$B$950,$AH7=Tables!$B$951)"]
[null,18,{"$f":"Singles!B318","v":"Raymond Conlin"},{"$f":"Singles!C318","v":"NUIG"},{"$f":"Singles!D318","v":0},{"$f":"Singles!E318","v":326},{"$f":"Singles!F318","v":313},{"$f":"Singles!G318","v":0},{"$f":"Singles!H318","v":0},null,{"$f":"Singles!I318","v":639},{"$f":"Singles!J318","v":0},{"$f":"Singles!K318","v":639.03263130000005},null,null,null,null,null,null,null,null,null,null,null,null,null,null,null,null,null,null,null,null,"Raymond Conlin",null,null,null,null,null,null,null,null,null,null,null,"WIT CONDITIONAL FORMATTING FORMULA >","OR($AH7=Tables!$B$956,$AH7=Tables!$B$957,$AH7=Tables!$B$958,$AH7=Tables!$B$959,$AH7=Tables!$B$960,$AH7=Tables!$B$961,$AH7=Tables!$B$962,$AH7=Tables!$B$963,$AH7=Tables!$B$964,$AH7=Tables!$B$965,$AH7=Tables!$B$966,$AH7=Tables!$B$967,$AH7=Tables!$B$968,$AH7=Tables!$B$969,$AH7=Tables!$B$970,$AH7=Tables!$B$971,$AH7=Tables!$B$972,$AH7=Tables!$B$973,$AH7=Tables!$B$974,$AH7=Tables!$B$975,$AH7=Tables!$B$976)"]
[null,19,{"$f":"Singles!B319","v":"Blair Flinn"},{"$f":"Singles!C319","v":"UCD"},{"$f":"Singles!D319","v":534},{"$f":"Singles!E319","v":0},{"$f":"Singles!F319","v":0},{"$f":"Singles!G319","v":0},{"$f":"Singles!H319","v":0},null,{"$f":"Singles!I319","v":534},{"$f":"Singles!J319","v":0},{"$f":"Singles!K319","v":534.05340000000001},null,null,null,null,null,null,null,null,null,null,null,null,null,null,null,null,null,null,null,null,"Blair Flinn",null,null,null,null,null,null,null,null,null,null,null,"AAA CONDITIONAL FORMATTING FORMULA >","OR($AH7=Tables!$B$1276,$AH7=Tables!$B$1277,$AH7=Tables!$B$1278,$AH7=Tables!$B$1279,$AH7=Tables!$B$1280,$AH7=Tables!$B$1281,$AH7=Tables!$B$1282,$AH7=Tables!$B$1283,$AH7=Tables!$B$1284,$AH7=Tables!$B$1285,$AH7=Tables!$B$1286,$AH7=Tables!$B$1287,$AH7=Tables!$B$1288,$AH7=Tables!$B$1289,$AH7=Tables!$B$1290,$AH7=Tables!$B$1291,$AH7=Tables!$B$1292,$AH7=Tables!$B$1293,$AH7=Tables!$B$1294,$AH7=Tables!$B$1295,$AH7=Tables!$B$1296)"]
[null,20,{"$f":"Singles!B320","v":"Thomas Ganley"},{"$f":"Singles!C320","v":"GMITC"},{"$f":"Singles!D320","v":255},{"$f":"Singles!E320","v":0},{"$f":"Singles!F320","v":0},{"$f":"Singles!G320","v":267},{"$f":"Singles!H320","v":0},null,{"$f":"Singles!I320","v":522},{"$f":"Singles!J320","v":0},{"$f":"Singles!K320","v":522.0267255},null,null,null,null,null,null,null,null,null,null,null,null,null,null,null,null,null,null,null,null,"Thomas Ganley",null,null,null,null,null,null,null,null,null,null,null,"BBB CONDITIONAL FORMATTING FORMULA >","OR($AH7=Tables!$B$1301,$AH7=Tables!$B$1302,$AH7=Tables!$B$1303,$AH7=Tables!$B$1304,$AH7=Tables!$B$1305,$AH7=Tables!$B$1306,$AH7=Tables!$B$1307,$AH7=Tables!$B$1308,$AH7=Tables!$B$1309,$AH7=Tables!$B$1310,$AH7=Tables!$B$1311,$AH7=Tables!$B$1312,$AH7=Tables!$B$1313,$AH7=Tables!$B$1314,$AH7=Tables!$B$1315,$AH7=Tables!$B$1316,$AH7=Tables!$B$1317,$AH7=Tables!$B$1318,$AH7=Tables!$B$1319,$AH7=Tables!$B$1320,$AH7=Tables!$B$1321)"]
[null,21,{"$f":"Singles!B321","v":"Sean Flynn"},{"$f":"Singles!C321","v":"IT Tallaght"},{"$f":"Singles!D321","v":0},{"$f":"Singles!E321","v":0},{"$f":"Singles!F321","v":0},{"$f":"Singles!G321","v":276},{"$f":"Singles!H321","v":245},null,{"$f":"Singles!I321","v":521},{"$f":"Singles!J321","v":0},{"$f":"Singles!K321","v":521.0276245},null,null,null,null,null,null,null,null,null,null,null,null,null,null,null,null,null,null,null,null,"Sean Flynn",null,null,null,null,null,null,null,null,null,null,null,"CCC CONDITIONAL FORMATTING FORMULA >","OR($AH7=Tables!$B$1326,$AH7=Tables!$B$1327,$AH7=Tables!$B$1328,$AH7=Tables!$B$1329,$AH7=Tables!$B$1330,$AH7=Tables!$B$1331,$AH7=Tables!$B$1332,$AH7=Tables!$B$1333,$AH7=Tables!$B$1334,$AH7=Tables!$B$1335,$AH7=Tables!$B$1336,$AH7=Tables!$B$1337,$AH7=Tables!$B$1338,$AH7=Tables!$B$1339,$AH7=Tables!$B$1340,$AH7=Tables!$B$1341,$AH7=Tables!$B$1342,$AH7=Tables!$B$1343,$AH7=Tables!$B$1344,$AH7=Tables!$B$1345,$AH7=Tables!$B$1346)"]
[null,22,{"$f":"Singles!B322","v":"Lee Nolan"},{"$f":"Singles!C322","v":"GMITC"},{"$f":"Singles!D322","v":0},{"$f":"Singles!E322","v":0},{"$f":"Singles!F322","v":0},{"$f":"Singles!G322","v":211},{"$f":"Singles!H322","v":291},null,{"$f":"Singles!I322","v":502},{"$f":"Singles!J322","v":0},{"$f":"Singles!K322","v":502.02912110000005},null,null,null,null,null,null,null,null,null,null,null,null,null,null,null,null,null,null,null,null,"Lee Nolan",null,null,null,null,null,null,null,null,null,null,null,"DDD CONDITIONAL FORMATTING FORMULA >","OR($AH7=Tables!$B$1351,$AH7=Tables!$B$1352,$AH7=Tables!$B$1353,$AH7=Tables!$B$1354,$AH7=Tables!$B$1355,$AH7=Tables!$B$1356,$AH7=Tables!$B$1357,$AH7=Tables!$B$1358,$AH7=Tables!$B$1359,$AH7=Tables!$B$1360,$AH7=Tables!$B$1361,$AH7=Tables!$B$1362,$AH7=Tables!$B$1363,$AH7=Tables!$B$1364,$AH7=Tables!$B$1365,$AH7=Tables!$B$1366,$AH7=Tables!$B$1367,$AH7=Tables!$B$1368,$AH7=Tables!$B$1369,$AH7=Tables!$B$1370,$AH7=Tables!$B$1371)"]
[null,23,{"$f":"Singles!B323","v":"Matthew O'Connor"},{"$f":"Singles!C323","v":"MU"},{"$f":"Singles!D323","v":0},{"$f":"Singles!E323","v":465},{"$f":"Singles!F323","v":0},{"$f":"Singles!G323","v":0},{"$f":"Singles!H323","v":0},null,{"$f":"Singles!I323","v":465},{"$f":"Singles!J323","v":0},{"$f":"Singles!K323","v":465.04649999999998},null,null,null,null,null,null,null,null,null,null,null,null,null,null,null,null,null,null,null,null,"Matthew O'Connor",null,null,null,null,null,null,null,null,null,null,null,"EEE CONDITIONAL FORMATTING FORMULA >","OR($AH7=Tables!$B$1376,$AH7=Tables!$B$1377,$AH7=Tables!$B$1378,$AH7=Tables!$B$1379,$AH7=Tables!$B$1380,$AH7=Tables!$B$1381,$AH7=Tables!$B$1382,$AH7=Tables!$B$1383,$AH7=Tables!$B$1384,$AH7=Tables!$B$1385,$AH7=Tables!$B$1386,$AH7=Tables!$B$1387,$AH7=Tables!$B$1388,$AH7=Tables!$B$1389,$AH7=Tables!$B$1390,$AH7=Tables!$B$1391,$AH7=Tables!$B$1392,$AH7=Tables!$B$1393,$AH7=Tables!$B$1394,$AH7=Tables!$B$1395,$AH7=Tables!$B$1396)"]
[null,24,{"$f":"Singles!B324","v":"Brian McDonagh MU"},{"$f":"Singles!C324","v":"MU"},{"$f":"Singles!D324","v":0},{"$f":"Singles!E324","v":0},{"$f":"Singles!F324","v":0},{"$f":"Singles!G324","v":430},{"$f":"Singles!H324","v":0},null,{"$f":"Singles!I324","v":430},{"$f":"Singles!J324","v":0},{"$f":"Singles!K324","v":430.04300000000001},null,null,null,null,null,null,null,null,null,null,null,null,null,null,null,null,null,null,null,null,"Brian McDonagh MU"]
[null,25,{"$f":"Singles!B325","v":"Gavin Munnelly"},{"$f":"Singles!C325","v":"DCU"},{"$f":"Singles!D325","v":0},{"$f":"Singles!E325","v":0},{"$f":"Singles!F325","v":0},{"$f":"Singles!G325","v":417},{"$f":"Singles!H325","v":0},null,{"$f":"Singles!I325","v":417},{"$f":"Singles!J325","v":0},{"$f":"Singles!K325","v":417.04169999999999},null,null,null,null,null,null,null,null,null,null,null,null,null,null,null,null,null,null,null,null,"Gavin Munnelly"]
[null,26,{"$f":"Singles!B326","v":"Ciarán Martin "},{"$f":"Singles!C326","v":"MU"},{"$f":"Singles!D326","v":0},{"$f":"Singles!E326","v":413},{"$f":"Singles!F326","v":0},{"$f":"Singles!G326","v":0},{"$f":"Singles!H326","v":0},null,{"$f":"Singles!I326","v":413},{"$f":"Singles!J326","v":0},{"$f":"Singles!K326","v":413.04129999999998},null,null,null,null,null,null,null,null,null,null,null,null,null,null,null,null,null,null,null,null,"Ciarán Martin "]
[null,27,{"$f":"Singles!B327","v":"Domagoj Kos"},{"$f":"Singles!C327","v":"UCD"},{"$f":"Singles!D327","v":0},{"$f":"Singles!E327","v":0},{"$f":"Singles!F327","v":0},{"$f":"Singles!G327","v":0},{"$f":"Singles!H327","v":398},null,{"$f":"Singles!I327","v":398},{"$f":"Singles!J327","v":0},{"$f":"Singles!K327","v":398.03980000000001},null,null,null,null,null,null,null,null,null,null,null,null,null,null,null,null,null,null,null,null,"Domagoj Kos"]
[null,28,{"$f":"Singles!B328","v":"Victor Stoian"},{"$f":"Singles!C328","v":"MU"},{"$f":"Singles!D328","v":0},{"$f":"Singles!E328","v":377},{"$f":"Singles!F328","v":0},{"$f":"Singles!G328","v":0},{"$f":"Singles!H328","v":0},null,{"$f":"Singles!I328","v":377},{"$f":"Singles!J328","v":0},{"$f":"Singles!K328","v":377.03769999999997},null,null,null,null,null,null,null,null,null,null,null,null,null,null,null,null,null,null,null,null,"Victor Stoian"]
[null,29,{"$f":"Singles!B329","v":"Ryan Claffey"},{"$f":"Singles!C329","v":"GMIT"},{"$f":"Singles!D329","v":0},{"$f":"Singles!E329","v":0},{"$f":"Singles!F329","v":0},{"$f":"Singles!G329","v":0},{"$f":"Singles!H329","v":371},null,{"$f":"Singles!I329","v":371},{"$f":"Singles!J329","v":0},{"$f":"Singles!K329","v":371.03710000000001},null,null,null,null,null,null,null,null,null,null,null,null,null,null,null,null,null,null,null,null,"Ryan Claffey"]
[null,30,{"$f":"Singles!B330","v":"Connor Newman"},{"$f":"Singles!C330","v":"MU"},{"$f":"Singles!D330","v":359},{"$f":"Singles!E330","v":0},{"$f":"Singles!F330","v":0},{"$f":"Singles!G330","v":0},{"$f":"Singles!H330","v":0},null,{"$f":"Singles!I330","v":359},{"$f":"Singles!J330","v":0},{"$f":"Singles!K330","v":359.03590000000003},null,null,null,null,null,null,null,null,null,null,null,null,null,null,null,null,null,null,null,null,"Connor Newman"]
[null,31,{"$f":"Singles!B331","v":"Conn De Barra"},{"$f":"Singles!C331","v":"DUAC"},{"$f":"Singles!D331","v":0},{"$f":"Singles!E331","v":0},{"$f":"Singles!F331","v":0},{"$f":"Singles!G331","v":152},{"$f":"Singles!H331","v":201},null,{"$f":"Singles!I331","v":353},{"$f":"Singles!J331","v":0},{"$f":"Singles!K331","v":353.02011520000002},null,null,null,null,null,null,null,null,null,null,null,null,null,null,null,null,null,null,null,null,"Conn De Barra"]
[null,32,{"$f":"Singles!B332","v":"Theo De Groot"},{"$f":"Singles!C332","v":"UU"},{"$f":"Singles!D332","v":0},{"$f":"Singles!E332","v":0},{"$f":"Singles!F332","v":0},{"$f":"Singles!G332","v":351},{"$f":"Singles!H332","v":0},null,{"$f":"Singles!I332","v":351},{"$f":"Singles!J332","v":0},{"$f":"Singles!K332","v":351.0351},null,null,null,null,null,null,null,null,null,null,null,null,null,null,null,null,null,null,null,null,"Theo De Groot"]
[null,33,{"$f":"Singles!B333","v":"Raymond Onwunali"},{"$f":"Singles!C333","v":"MU"},{"$f":"Singles!D333","v":0},{"$f":"Singles!E333","v":0},{"$f":"Singles!F333","v":0},{"$f":"Singles!G333","v":0},{"$f":"Singles!H333","v":334},null,{"$f":"Singles!I333","v":334},{"$f":"Singles!J333","v":0},{"$f":"Singles!K333","v":334.03339999999997},null,null,null,null,null,null,null,null,null,null,null,null,null,null,null,null,null,null,null,null,{"$f":"C39","v":"Raymond Onwunali"}]
[null,34,{"$f":"Singles!B334","v":"Rashed Alfuzaie"},{"$f":"Singles!C334","v":"RCSI"},{"$f":"Singles!D334","v":0},{"$f":"Singles!E334","v":0},{"$f":"Singles!F334","v":326},{"$f":"Singles!G334","v":0},{"$f":"Singles!H334","v":0},null,{"$f":"Singles!I334","v":326},{"$f":"Singles!J334","v":0},{"$f":"Singles!K334","v":326.0326},null,null,null,null,null,null,null,null,null,null,null,null,null,null,null,null,null,null,null,null,"Rashed Alfuzaie"]
[null,35,{"$f":"Singles!B335","v":"Conor Sheridan"},{"$f":"Singles!C335","v":"UCD"},{"$f":"Singles!D335","v":0},{"$f":"Singles!E335","v":0},{"$f":"Singles!F335","v":0},{"$f":"Singles!G335","v":299},{"$f":"Singles!H335","v":0},null,{"$f":"Singles!I335","v":299},{"$f":"Singles!J335","v":0},{"$f":"Singles!K335","v":299.0299},null,null,null,null,null,null,null,null,null,null,null,null,null,null,null,null,null,null,null,null,"Conor Sheridan"]
[null,36,{"$f":"Singles!B336","v":"David Melcher"},{"$f":"Singles!C336","v":"IT Tallaght"},{"$f":"Singles!D336","v":0},{"$f":"Singles!E336","v":285},{"$f":"Singles!F336","v":0},{"$f":"Singles!G336","v":0},{"$f":"Singles!H336","v":0},null,{"$f":"Singles!I336","v":285},{"$f":"Singles!J336","v":0},{"$f":"Singles!K336","v":285.02850000000001},null,null,null,null,null,null,null,null,null,null,null,null,null,null,null,null,null,null,null,null,"David Melcher"]
[null,37,{"$f":"Singles!B337","v":"Jonnie Swain"},{"$f":"Singles!C337","v":"UU"},{"$f":"Singles!D337","v":0},{"$f":"Singles!E337","v":0},{"$f":"Singles!F337","v":0},{"$f":"Singles!G337","v":0},{"$f":"Singles!H337","v":279},null,{"$f":"Singles!I337","v":279},{"$f":"Singles!J337","v":0},{"$f":"Singles!K337","v":279.02789999999999},null,null,null,null,null,null,null,null,null,null,null,null,null,null,null,null,null,null,null,null,"Jonnie Swain"]
[null,38,{"$f":"Singles!B338","v":"Vojtěch Halama"},{"$f":"Singles!C338","v":"NUIG"},{"$f":"Singles!D338","v":0},{"$f":"Singles!E338","v":271},{"$f":"Singles!F338","v":0},{"$f":"Singles!G338","v":0},{"$f":"Singles!H338","v":0},null,{"$f":"Singles!I338","v":271},{"$f":"Singles!J338","v":0},{"$f":"Singles!K338","v":271.02710000000002},null,null,null,null,null,null,null,null,null,null,null,null,null,null,null,null,null,null,null,null,"Vojtěch Halama"]
[null,39,{"$f":"Singles!B339","v":"Simon Bluett"},{"$f":"Singles!C339","v":"DUAC"},{"$f":"Singles!D339","v":0},{"$f":"Singles!E339","v":0},{"$f":"Singles!F339","v":0},{"$f":"Singles!G339","v":0},{"$f":"Singles!H339","v":248},null,{"$f":"Singles!I339","v":248},{"$f":"Singles!J339","v":0},{"$f":"Singles!K339","v":248.0248},null,null,null,null,null,null,null,null,null,null,null,null,null,null,null,null,null,null,null,null,"Simon Bluett"]
[null,40,{"$f":"Singles!B340","v":"Andrew Fairbrother"},{"$f":"Singles!C340","v":"UCD"},{"$f":"Singles!D340","v":242},{"$f":"Singles!E340","v":0},{"$f":"Singles!F340","v":0},{"$f":"Singles!G340","v":0},{"$f":"Singles!H340","v":0},null,{"$f":"Singles!I340","v":242},{"$f":"Singles!J340","v":0},{"$f":"Singles!K340","v":242.02420000000001},null,null,null,null,null,null,null,null,null,null,null,null,null,null,null,null,null,null,null,null,"Andrew Fairbrother"]
[null,41,{"$f":"Singles!B341","v":"Sam Gibson "},{"$f":"Singles!C341","v":"MU"},{"$f":"Singles!D341","v":224},{"$f":"Singles!E341","v":0},{"$f":"Singles!F341","v":0},{"$f":"Singles!G341","v":0},{"$f":"Singles!H341","v":0},null,{"$f":"Singles!I341","v":224},{"$f":"Singles!J341","v":0},{"$f":"Singles!K341","v":224.0224},null,null,null,null,null,null,null,null,null,null,null,null,null,null,null,null,null,null,null,null,"Sam Gibson "]
[null,42,{"$f":"Singles!B342","v":"Nik Idlan Faiq"},{"$f":"Singles!C342","v":"RCSI"},{"$f":"Singles!D342","v":0},{"$f":"Singles!E342","v":0},{"$f":"Singles!F342","v":166},{"$f":"Singles!G342","v":0},{"$f":"Singles!H342","v":0},null,{"$f":"Singles!I342","v":166},{"$f":"Singles!J342","v":0},{"$f":"Singles!K342","v":166.01660000000001},null,null,null,null,null,null,null,null,null,null,null,null,null,null,null,null,null,null,null,null,"Nik Idlan Faiq"]
[null,43,{"$f":"Singles!B343","v":"Max Fursman"},{"$f":"Singles!C343","v":"DUAC"},{"$f":"Singles!D343","v":0},{"$f":"Singles!E343","v":106},{"$f":"Singles!F343","v":0},{"$f":"Singles!G343","v":0},{"$f":"Singles!H343","v":0},null,{"$f":"Singles!I343","v":106},{"$f":"Singles!J343","v":0},{"$f":"Singles!K343","v":106.0106},null,null,null,null,null,null,null,null,null,null,null,null,null,null,null,null,null,null,null,null,"Max Fursman"]
[null,44,{"$f":"Singles!B344","v":"Victor Agular"},{"$f":"Singles!C344","v":"GMITC"},{"$f":"Singles!D344","v":0},{"$f":"Singles!E344","v":0},{"$f":"Singles!F344","v":0},{"$f":"Singles!G344","v":93},{"$f":"Singles!H344","v":0},null,{"$f":"Singles!I344","v":93},{"$f":"Singles!J344","v":0},{"$f":"Singles!K344","v":93.009299999999996},null,null,null,null,null,null,null,null,null,null,null,null,null,null,null,null,null,null,null,null,"Victor Agular"]
[null,45,{"$f":"Singles!B345","v":0},{"$f":"Singles!C345","v":"TBC"},{"$f":"Singles!D345","v":"TBC"},{"$f":"Singles!E345","v":"TBC"},{"$f":"Singles!F345","v":"TBC"},{"$f":"Singles!G345","v":"TBC"},{"$f":"Singles!H345","v":"TBC"},null,{"$f":"Singles!I345","v":0},{"$f":"Singles!J345","v":0},{"$f":"Singles!K345","v":0},null,null,null,null,null,null,null,null,null,null,null,null,null,null,null,null,null,null,null,null,0]
[null,46,{"$f":"Singles!B346","v":0},{"$f":"Singles!C346","v":"TBC"},{"$f":"Singles!D346","v":"TBC"},{"$f":"Singles!E346","v":"TBC"},{"$f":"Singles!F346","v":"TBC"},{"$f":"Singles!G346","v":"TBC"},{"$f":"Singles!H346","v":"TBC"},null,{"$f":"Singles!I346","v":0},{"$f":"Singles!J346","v":0},{"$f":"Singles!K346","v":0},null,null,null,null,null,null,null,null,null,null,null,null,null,null,null,null,null,null,null,null,0]
[null,47,{"$f":"Singles!B347","v":0},{"$f":"Singles!C347","v":"TBC"},{"$f":"Singles!D347","v":"TBC"},{"$f":"Singles!E347","v":"TBC"},{"$f":"Singles!F347","v":"TBC"},{"$f":"Singles!G347","v":"TBC"},{"$f":"Singles!H347","v":"TBC"},null,{"$f":"Singles!I347","v":0},{"$f":"Singles!J347","v":0},{"$f":"Singles!K347","v":0},null,null,null,null,null,null,null,null,null,null,null,null,null,null,null,null,null,null,null,null,0]
[null,48,{"$f":"Singles!B348","v":0},{"$f":"Singles!C348","v":"TBC"},{"$f":"Singles!D348","v":"TBC"},{"$f":"Singles!E348","v":"TBC"},{"$f":"Singles!F348","v":"TBC"},{"$f":"Singles!G348","v":"TBC"},{"$f":"Singles!H348","v":"TBC"},null,{"$f":"Singles!I348","v":0},{"$f":"Singles!J348","v":0},{"$f":"Singles!K348","v":0},null,null,null,null,null,null,null,null,null,null,null,null,null,null,null,null,null,null,null,null,0]
[null,49,{"$f":"Singles!B349","v":0},{"$f":"Singles!C349","v":"TBC"},{"$f":"Singles!D349","v":"TBC"},{"$f":"Singles!E349","v":"TBC"},{"$f":"Singles!F349","v":"TBC"},{"$f":"Singles!G349","v":"TBC"},{"$f":"Singles!H349","v":"TBC"},null,{"$f":"Singles!I349","v":0},{"$f":"Singles!J349","v":0},{"$f":"Singles!K349","v":0},null,null,null,null,null,null,null,null,null,null,null,null,null,null,null,null,null,null,null,null,0]
[null,50,{"$f":"Singles!B350","v":0},{"$f":"Singles!C350","v":"TBC"},{"$f":"Singles!D350","v":"TBC"},{"$f":"Singles!E350","v":"TBC"},{"$f":"Singles!F350","v":"TBC"},{"$f":"Singles!G350","v":"TBC"},{"$f":"Singles!H350","v":"TBC"},null,{"$f":"Singles!I350","v":0},{"$f":"Singles!J350","v":0},{"$f":"Singles!K350","v":0},null,null,null,null,null,null,null,null,null,null,null,null,null,null,null,null,null,null,null,null,0]
[null,51,{"$f":"Singles!B351","v":0},{"$f":"Singles!C351","v":"TBC"},{"$f":"Singles!D351","v":"TBC"},{"$f":"Singles!E351","v":"TBC"},{"$f":"Singles!F351","v":"TBC"},{"$f":"Singles!G351","v":"TBC"},{"$f":"Singles!H351","v":"TBC"},null,{"$f":"Singles!I351","v":0},{"$f":"Singles!J351","v":0},{"$f":"Singles!K351","v":0},null,null,null,null,null,null,null,null,null,null,null,null,null,null,null,null,null,null,null,null,0]
[null,52,{"$f":"Singles!B352","v":0},{"$f":"Singles!C352","v":"TBC"},{"$f":"Singles!D352","v":"TBC"},{"$f":"Singles!E352","v":"TBC"},{"$f":"Singles!F352","v":"TBC"},{"$f":"Singles!G352","v":"TBC"},{"$f":"Singles!H352","v":"TBC"},null,{"$f":"Singles!I352","v":0},{"$f":"Singles!J352","v":0},{"$f":"Singles!K352","v":0},null,null,null,null,null,null,null,null,null,null,null,null,null,null,null,null,null,null,null,null,0]
[null,53,{"$f":"Singles!B353","v":0},{"$f":"Singles!C353","v":"TBC"},{"$f":"Singles!D353","v":"TBC"},{"$f":"Singles!E353","v":"TBC"},{"$f":"Singles!F353","v":"TBC"},{"$f":"Singles!G353","v":"TBC"},{"$f":"Singles!H353","v":"TBC"},null,{"$f":"Singles!I353","v":0},{"$f":"Singles!J353","v":0},{"$f":"Singles!K353","v":0},null,null,null,null,null,null,null,null,null,null,null,null,null,null,null,null,null,null,null,null,0]
[null,54,{"$f":"Singles!B354","v":0},{"$f":"Singles!C354","v":"TBC"},{"$f":"Singles!D354","v":"TBC"},{"$f":"Singles!E354","v":"TBC"},{"$f":"Singles!F354","v":"TBC"},{"$f":"Singles!G354","v":"TBC"},{"$f":"Singles!H354","v":"TBC"},null,{"$f":"Singles!I354","v":0},{"$f":"Singles!J354","v":0},{"$f":"Singles!K354","v":0},null,null,null,null,null,null,null,null,null,null,null,null,null,null,null,null,null,null,null,null,0]
[null,55,{"$f":"Singles!B355","v":0},{"$f":"Singles!C355","v":"TBC"},{"$f":"Singles!D355","v":"TBC"},{"$f":"Singles!E355","v":"TBC"},{"$f":"Singles!F355","v":"TBC"},{"$f":"Singles!G355","v":"TBC"},{"$f":"Singles!H355","v":"TBC"},null,{"$f":"Singles!I355","v":0},{"$f":"Singles!J355","v":0},{"$f":"Singles!K355","v":0},null,null,null,null,null,null,null,null,null,null,null,null,null,null,null,null,null,null,null,null,0]
[null,56,{"$f":"Singles!B356","v":0},{"$f":"Singles!C356","v":"TBC"},{"$f":"Singles!D356","v":"TBC"},{"$f":"Singles!E356","v":"TBC"},{"$f":"Singles!F356","v":"TBC"},{"$f":"Singles!G356","v":"TBC"},{"$f":"Singles!H356","v":"TBC"},null,{"$f":"Singles!I356","v":0},{"$f":"Singles!J356","v":0},{"$f":"Singles!K356","v":0},null,null,null,null,null,null,null,null,null,null,null,null,null,null,null,null,null,null,null,null,0]
[null,57,{"$f":"Singles!B357","v":0},{"$f":"Singles!C357","v":"TBC"},{"$f":"Singles!D357","v":"TBC"},{"$f":"Singles!E357","v":"TBC"},{"$f":"Singles!F357","v":"TBC"},{"$f":"Singles!G357","v":"TBC"},{"$f":"Singles!H357","v":"TBC"},null,{"$f":"Singles!I357","v":0},{"$f":"Singles!J357","v":0},{"$f":"Singles!K357","v":0},null,null,null,null,null,null,null,null,null,null,null,null,null,null,null,null,null,null,null,null,0]
[null,58,{"$f":"Singles!B358","v":0},{"$f":"Singles!C358","v":"TBC"},{"$f":"Singles!D358","v":"TBC"},{"$f":"Singles!E358","v":"TBC"},{"$f":"Singles!F358","v":"TBC"},{"$f":"Singles!G358","v":"TBC"},{"$f":"Singles!H358","v":"TBC"},null,{"$f":"Singles!I358","v":0},{"$f":"Singles!J358","v":0},{"$f":"Singles!K358","v":0},null,null,null,null,null,null,null,null,null,null,null,null,null,null,null,null,null,null,null,null,0]
[null,59,{"$f":"Singles!B359","v":0},{"$f":"Singles!C359","v":"TBC"},{"$f":"Singles!D359","v":"TBC"},{"$f":"Singles!E359","v":"TBC"},{"$f":"Singles!F359","v":"TBC"},{"$f":"Singles!G359","v":"TBC"},{"$f":"Singles!H359","v":"TBC"},null,{"$f":"Singles!I359","v":0},{"$f":"Singles!J359","v":0},{"$f":"Singles!K359","v":0},null,null,null,null,null,null,null,null,null,null,null,null,null,null,null,null,null,null,null,null,0]
[null,60,{"$f":"Singles!B360","v":0},{"$f":"Singles!C360","v":"TBC"},{"$f":"Singles!D360","v":"TBC"},{"$f":"Singles!E360","v":"TBC"},{"$f":"Singles!F360","v":"TBC"},{"$f":"Singles!G360","v":"TBC"},{"$f":"Singles!H360","v":"TBC"},null,{"$f":"Singles!I360","v":0},{"$f":"Singles!J360","v":0},{"$f":"Singles!K360","v":0},null,null,null,null,null,null,null,null,null,null,null,null,null,null,null,null,null,null,null,null,0]
[null,61,{"$f":"Singles!B361","v":0},{"$f":"Singles!C361","v":"TBC"},{"$f":"Singles!D361","v":"TBC"},{"$f":"Singles!E361","v":"TBC"},{"$f":"Singles!F361","v":"TBC"},{"$f":"Singles!G361","v":"TBC"},{"$f":"Singles!H361","v":"TBC"},null,{"$f":"Singles!I361","v":0},{"$f":"Singles!J361","v":0},{"$f":"Singles!K361","v":0},null,null,null,null,null,null,null,null,null,null,null,null,null,null,null,null,null,null,null,null,0]
[null,62,{"$f":"Singles!B362","v":0},{"$f":"Singles!C362","v":"TBC"},{"$f":"Singles!D362","v":"TBC"},{"$f":"Singles!E362","v":"TBC"},{"$f":"Singles!F362","v":"TBC"},{"$f":"Singles!G362","v":"TBC"},{"$f":"Singles!H362","v":"TBC"},null,{"$f":"Singles!I362","v":0},{"$f":"Singles!J362","v":0},{"$f":"Singles!K362","v":0},null,null,null,null,null,null,null,null,null,null,null,null,null,null,null,null,null,null,null,null,0]
[null,63,{"$f":"Singles!B363","v":0},{"$f":"Singles!C363","v":"TBC"},{"$f":"Singles!D363","v":"TBC"},{"$f":"Singles!E363","v":"TBC"},{"$f":"Singles!F363","v":"TBC"},{"$f":"Singles!G363","v":"TBC"},{"$f":"Singles!H363","v":"TBC"},null,{"$f":"Singles!I363","v":0},{"$f":"Singles!J363","v":0},{"$f":"Singles!K363","v":0},null,null,null,null,null,null,null,null,null,null,null,null,null,null,null,null,null,null,null,null,0]
[null,64,{"$f":"Singles!B364","v":0},{"$f":"Singles!C364","v":"TBC"},{"$f":"Singles!D364","v":"TBC"},{"$f":"Singles!E364","v":"TBC"},{"$f":"Singles!F364","v":"TBC"},{"$f":"Singles!G364","v":"TBC"},{"$f":"Singles!H364","v":"TBC"},null,{"$f":"Singles!I364","v":0},{"$f":"Singles!J364","v":0},{"$f":"Singles!K364","v":0},null,null,null,null,null,null,null,null,null,null,null,null,null,null,null,null,null,null,null,null,0]
[null,65,{"$f":"Singles!B365","v":0},{"$f":"Singles!C365","v":"TBC"},{"$f":"Singles!D365","v":"TBC"},{"$f":"Singles!E365","v":"TBC"},{"$f":"Singles!F365","v":"TBC"},{"$f":"Singles!G365","v":"TBC"},{"$f":"Singles!H365","v":"TBC"},null,{"$f":"Singles!I365","v":0},{"$f":"Singles!J365","v":0},{"$f":"Singles!K365","v":0},null,null,null,null,null,null,null,null,null,null,null,null,null,null,null,null,null,null,null,null,0]
[null,66,{"$f":"Singles!B366","v":0},{"$f":"Singles!C366","v":"TBC"},{"$f":"Singles!D366","v":"TBC"},{"$f":"Singles!E366","v":"TBC"},{"$f":"Singles!F366","v":"TBC"},{"$f":"Singles!G366","v":"TBC"},{"$f":"Singles!H366","v":"TBC"},null,{"$f":"Singles!I366","v":0},{"$f":"Singles!J366","v":0},{"$f":"Singles!K366","v":0},null,null,null,null,null,null,null,null,null,null,null,null,null,null,null,null,null,null,null,null,0]
[null,67,{"$f":"Singles!B367","v":0},{"$f":"Singles!C367","v":"TBC"},{"$f":"Singles!D367","v":"TBC"},{"$f":"Singles!E367","v":"TBC"},{"$f":"Singles!F367","v":"TBC"},{"$f":"Singles!G367","v":"TBC"},{"$f":"Singles!H367","v":"TBC"},null,{"$f":"Singles!I367","v":0},{"$f":"Singles!J367","v":0},{"$f":"Singles!K367","v":0},null,null,null,null,null,null,null,null,null,null,null,null,null,null,null,null,null,null,null,null,0]
[null,68,{"$f":"Singles!B368","v":0},{"$f":"Singles!C368","v":"TBC"},{"$f":"Singles!D368","v":"TBC"},{"$f":"Singles!E368","v":"TBC"},{"$f":"Singles!F368","v":"TBC"},{"$f":"Singles!G368","v":"TBC"},{"$f":"Singles!H368","v":"TBC"},null,{"$f":"Singles!I368","v":0},{"$f":"Singles!J368","v":0},{"$f":"Singles!K368","v":0},null,null,null,null,null,null,null,null,null,null,null,null,null,null,null,null,null,null,null,null,0]
[null,69,{"$f":"Singles!B369","v":0},{"$f":"Singles!C369","v":"TBC"},{"$f":"Singles!D369","v":"TBC"},{"$f":"Singles!E369","v":"TBC"},{"$f":"Singles!F369","v":"TBC"},{"$f":"Singles!G369","v":"TBC"},{"$f":"Singles!H369","v":"TBC"},null,{"$f":"Singles!I369","v":0},{"$f":"Singles!J369","v":0},{"$f":"Singles!K369","v":0},null,null,null,null,null,null,null,null,null,null,null,null,null,null,null,null,null,null,null,null,0]
[null,70,{"$f":"Singles!B370","v":0},{"$f":"Singles!C370","v":"TBC"},{"$f":"Singles!D370","v":"TBC"},{"$f":"Singles!E370","v":"TBC"},{"$f":"Singles!F370","v":"TBC"},{"$f":"Singles!G370","v":"TBC"},{"$f":"Singles!H370","v":"TBC"},null,{"$f":"Singles!I370","v":0},{"$f":"Singles!J370","v":0},{"$f":"Singles!K370","v":0},null,null,null,null,null,null,null,null,null,null,null,null,null,null,null,null,null,null,null,null,0]
[null,71,{"$f":"Singles!B371","v":0},{"$f":"Singles!C371","v":"TBC"},{"$f":"Singles!D371","v":"TBC"},{"$f":"Singles!E371","v":"TBC"},{"$f":"Singles!F371","v":"TBC"},{"$f":"Singles!G371","v":"TBC"},{"$f":"Singles!H371","v":"TBC"},null,{"$f":"Singles!I371","v":0},{"$f":"Singles!J371","v":0},{"$f":"Singles!K371","v":0},null,null,null,null,null,null,null,null,null,null,null,null,null,null,null,null,null,null,null,null,0]
[null,72,{"$f":"Singles!B372","v":0},{"$f":"Singles!C372","v":"TBC"},{"$f":"Singles!D372","v":"TBC"},{"$f":"Singles!E372","v":"TBC"},{"$f":"Singles!F372","v":"TBC"},{"$f":"Singles!G372","v":"TBC"},{"$f":"Singles!H372","v":"TBC"},null,{"$f":"Singles!I372","v":0},{"$f":"Singles!J372","v":0},{"$f":"Singles!K372","v":0},null,null,null,null,null,null,null,null,null,null,null,null,null,null,null,null,null,null,null,null,0]
[null,73,{"$f":"Singles!B373","v":0},{"$f":"Singles!C373","v":"TBC"},{"$f":"Singles!D373","v":"TBC"},{"$f":"Singles!E373","v":"TBC"},{"$f":"Singles!F373","v":"TBC"},{"$f":"Singles!G373","v":"TBC"},{"$f":"Singles!H373","v":"TBC"},null,{"$f":"Singles!I373","v":0},{"$f":"Singles!J373","v":0},{"$f":"Singles!K373","v":0},null,null,null,null,null,null,null,null,null,null,null,null,null,null,null,null,null,null,null,null,0]
[null,74,{"$f":"Singles!B374","v":0},{"$f":"Singles!C374","v":"TBC"},{"$f":"Singles!D374","v":"TBC"},{"$f":"Singles!E374","v":"TBC"},{"$f":"Singles!F374","v":"TBC"},{"$f":"Singles!G374","v":"TBC"},{"$f":"Singles!H374","v":"TBC"},null,{"$f":"Singles!I374","v":0},{"$f":"Singles!J374","v":0},{"$f":"Singles!K374","v":0},null,null,null,null,null,null,null,null,null,null,null,null,null,null,null,null,null,null,null,null,0]
[null,75,{"$f":"Singles!B375","v":0},{"$f":"Singles!C375","v":"TBC"},{"$f":"Singles!D375","v":"TBC"},{"$f":"Singles!E375","v":"TBC"},{"$f":"Singles!F375","v":"TBC"},{"$f":"Singles!G375","v":"TBC"},{"$f":"Singles!H375","v":"TBC"},null,{"$f":"Singles!I375","v":0},{"$f":"Singles!J375","v":0},{"$f":"Singles!K375","v":0},null,null,null,null,null,null,null,null,null,null,null,null,null,null,null,null,null,null,null,null,0]
[{"$f":"$D$7","v":"GMIT"}]

{"sheet":"BBF","index":9,"n_rows":82,"n_cols":34,"rows_kept":82,"cut":false,"hidden":false,"merged":[[1,13,80,13],[81,0,81,13],[1,0,80,0],[0,0,0,13],[1,4,1,8],[1,10,1,12],[1,1,3,3],[2,10,3,10],[2,11,3,11],[2,12,3,12],[4,1,4,8],[4,10,4,12],[1,9,80,9]]}
[{"$f":"$D$7","v":"GMIT"}]
["GMIT","Female Beginner Barebow",null,null,"Host Club",null,null,null,null,{"$f":"$D$7","v":"GMIT"},"Scores",null,null,"GMIT",null,null,null,null,null,null,null,null,null,null,null,null,null,null,null,null,null,null,null,{"$f":"AH7","v":"Hannah Cunniffe"}]
[null,null,null,null,{"$f":"Entries!K6","v":"UL IV"},{"$f":"Entries!K7","v":"DkIT IV"},{"$f":"Entries!K8","v":"GMIT IV"},{"$f":"Entries!K9","v":"DCU IV"},{"$f":"Entries!K10","v":"NUIG IV"},null,"Total","Lowest","League"]
[]
[null,"GMIT",null,null,null,null,null,null,null,null,"GMIT"]
[null,null,"Name","College",{"$f":"Entries!K6","v":"UL IV"},{"$f":"Entries!K7","v":"DkIT IV"},{"$f":"Entries!K8","v":"GMIT IV"},{"$f":"Entries!K9","v":"DCU IV"},{"$f":"Entries!K10","v":"NUIG IV"},null,"Total","Lowest","League total"]
[null,1,{"$f":"Singles!O302","v":"Hannah Cunniffe"},{"$f":"Singles!P302","v":"GMIT"},{"$f":"Singles!Q302","v":170},{"$f":"Singles!R302","v":320},{"$f":"Singles!S302","v":329},{"$f":"Singles!T302","v":402},{"$f":"Singles!U302","v":365},null,{"$f":"Singles!V302","v":1586},{"$f":"Singles!W302","v":170},{"$f":"Singles!X302","v":1416.0402365},null,null,null,null,null,null,null,null,null,null,null,null,null,null,null,null,null,null,null,null,{"$f":"C7","v":"Hannah Cunniffe"}]
[null,2,{"$f":"Singles!O303","v":"Yingbo Li"},{"$f":"Singles!P303","v":"ITC"},{"$f":"Singles!Q303","v":154},{"$f":"Singles!R303","v":239},{"$f":"Singles!S303","v":378},{"$f":"Singles!T303","v":395},{"$f":"Singles!U303","v":396},null,{"$f":"Singles!V303","v":1562},{"$f":"Singles!W303","v":154},{"$f":"Singles!X303","v":1408.0396395},null,null,null,null,null,null,null,null,null,null,null,null,null,null,null,null,null,null,null,null,"Yingbo Li"]
[null,3,{"$f":"Singles!O301","v":"Siobhán Tuffy"},{"$f":"Singles!P301","v":"GMIT"},{"$f":"Singles!Q301","v":365},{"$f":"Singles!R301","v":388},{"$f":"Singles!S301","v":420},{"$f":"Singles!T301","v":234},{"$f":"Singles!U301","v":201},null,{"$f":"Singles!V301","v":1608},{"$f":"Singles!W301","v":201},{"$f":"Singles!X301","v":1407.0420388},null,null,null,null,null,null,null,null,null,null,null,null,null,null,null,null,null,null,null,null,"Siobhán Tuffy"]
[null,4,{"$f":"Singles!O305","v":"Sorcha Griffin"},{"$f":"Singles!P305","v":"MU"},{"$f":"Singles!Q305","v":0},{"$f":"Singles!R305","v":337},{"$f":"Singles!S305","v":338},{"$f":"Singles!T305","v":354},{"$f":"Singles!U305","v":327},null,{"$f":"Singles!V305","v":1356},{"$f":"Singles!W305","v":0},{"$f":"Singles!X305","v":1356.0354338},null,null,null,null,null,null,null,null,null,null,null,null,null,null,null,null,null,null,null,null,"Sorcha Griffin"]
[null,5,{"$f":"Singles!O304","v":"Charlotte Lokko"},{"$f":"Singles!P304","v":"MU"},{"$f":"Singles!Q304","v":206},{"$f":"Singles!R304","v":275},{"$f":"Singles!S304","v":306},{"$f":"Singles!T304","v":267},{"$f":"Singles!U304","v":307},null,{"$f":"Singles!V304","v":1361},{"$f":"Singles!W304","v":206},{"$f":"Singles!X304","v":1155.0307306},null,null,null,null,null,null,null,null,null,null,null,null,null,null,null,null,null,null,null,null,"Charlotte Lokko"]
[null,6,{"$f":"Singles!O306","v":"Katie Kruse"},{"$f":"Singles!P306","v":"NUIG"},{"$f":"Singles!Q306","v":0},{"$f":"Singles!R306","v":0},{"$f":"Singles!S306","v":303},{"$f":"Singles!T306","v":262},{"$f":"Singles!U306","v":421},null,{"$f":"Singles!V306","v":986},{"$f":"Singles!W306","v":0},{"$f":"Singles!X306","v":986.04213030000005},null,null,null,null,null,null,null,null,null,null,null,null,null,null,null,null,null,null,null,null,"Katie Kruse"]
[null,7,{"$f":"Singles!O307","v":"Emma-Jane Doyle"},{"$f":"Singles!P307","v":"IT Tallaght"},{"$f":"Singles!Q307","v":184},{"$f":"Singles!R307","v":0},{"$f":"Singles!S307","v":223},{"$f":"Singles!T307","v":278},{"$f":"Singles!U307","v":291},null,{"$f":"Singles!V307","v":976},{"$f":"Singles!W307","v":0},{"$f":"Singles!X307","v":976.02912779999997},null,null,null,null,null,null,null,null,null,null,null,null,null,null,null,null,null,null,null,null,"Emma-Jane Doyle"]
[null,8,{"$f":"Singles!O308","v":"Caroline Clarke"},{"$f":"Singles!P308","v":"GMITC"},{"$f":"Singles!Q308","v":283},{"$f":"Singles!R308","v":0},{"$f":"Singles!S308","v":167},{"$f":"Singles!T308","v":181},{"$f":"Singles!U308","v":260},null,{"$f":"Singles!V308","v":891},{"$f":"Singles!W308","v":0},{"$f":"Singles!X308","v":891.02832599999999},null,null,null,null,null,null,null,null,null,null,null,null,null,null,null,null,null,null,null,null,"Caroline Clarke"]
[null,9,{"$f":"Singles!O309","v":"Julie Saes"},{"$f":"Singles!P309","v":"NUIG"},{"$f":"Singles!Q309","v":0},{"$f":"Singles!R309","v":0},{"$f":"Singles!S309","v":307},{"$f":"Singles!T309","v":0},{"$f":"Singles!U309","v":451},null,{"$f":"Singles!V309","v":758},{"$f":"Singles!W309","v":0},{"$f":"Singles!X309","v":758.04513070000007},null,null,null,null,null,null,null,null,null,null,null,null,null,null,null,null,null,null,null,null,"Julie Saes"]
[null,10,{"$f":"Singles!O310","v":"Gabrielle Zeman"},{"$f":"Singles!P310","v":"NUIG"},{"$f":"Singles!Q310","v":0},{"$f":"Singles!R310","v":0},{"$f":"Singles!S310","v":193},{"$f":"Singles!T310","v":0},{"$f":"Singles!U310","v":429},null,{"$f":"Singles!V310","v":622},{"$f":"Singles!W310","v":0},{"$f":"Singles!X310","v":622.04291929999999},null,null,null,null,null,null,null,null,null,null,null,null,null,null,null,null,null,null,null,null,"Gabrielle Zeman"]
[null,11,{"$f":"Singles!O311","v":"Maorgain Siede"},{"$f":"Singles!P311","v":"UCC"},{"$f":"Singles!Q311","v":0},{"$f":"Singles!R311","v":0},{"$f":"Singles!S311","v":232},{"$f":"Singles!T311","v":0},{"$f":"Singles!U311","v":202},null,{"$f":"Singles!V311","v":434},{"$f":"Singles!W311","v":0},{"$f":"Singles!X311","v":434.02322019999997},null,null,null,null,null,null,null,null,null,null,null,null,null,null,null,null,null,null,null,null,"Maorgain Siede"]
[null,12,{"$f":"Singles!O312","v":"Niamh Meyler"},{"$f":"Singles!P312","v":"NUIG"},{"$f":"Singles!Q312","v":0},{"$f":"Singles!R312","v":0},{"$f":"Singles!S312","v":0},{"$f":"Singles!T312","v":348},{"$f":"Singles!U312","v":0},null,{"$f":"Singles!V312","v":348},{"$f":"Singles!W312","v":0},{"$f":"Singles!X312","v":348.03480000000002},null,null,null,null,null,null,null,null,null,null,null,null,null,null,null,null,null,null,null,null,"Niamh Meyler"]
[null,13,{"$f":"Singles!O313","v":"Sophie Hunt"},{"$f":"Singles!P313","v":"GMITC"},{"$f":"Singles!Q313","v":0},{"$f":"Singles!R313","v":0},{"$f":"Singles!S313","v":0},{"$f":"Singles!T313","v":0},{"$f":"Singles!U313","v":318},null,{"$f":"Singles!V313","v":318},{"$f":"Singles!W313","v":0},{"$f":"Singles!X313","v":318.03179999999998},null,null,null,null,null,null,null,null,null,null,null,null,null,null,null,null,null,null,null,null,"Sophie Hunt"]
[null,14,{"$f":"Singles!O314","v":"Melissa Gueey"},{"$f":"Singles!P314","v":"ITC"},{"$f":"Singles!Q314","v":0},{"$f":"Singles!R314","v":0},{"$f":"Singles!S314","v":0},{"$f":"Singles!T314","v":0},{"$f":"Singles!U314","v":317},null,{"$f":"Singles!V314","v":317},{"$f":"Singles!W314","v":0},{"$f":"Singles!X314","v":317.0317},null,null,null,null,null,null,null,null,null,null,null,null,null,null,null,null,null,null,null,null,"Melissa Gueey"]
[null,15,{"$f":"Singles!O315","v":"Laury Despres"},{"$f":"Singles!P315","v":"MU"},{"$f":"Singles!Q315","v":310},{"$f":"Singles!R315","v":0},{"$f":"Singles!S315","v":0},{"$f":"Singles!T315","v":0},{"$f":"Singles!U315","v":0},null,{"$f":"Singles!V315","v":310},{"$f":"Singles!W315","v":0},{"$f":"Singles!X315","v":310.03100000000001},null,null,null,null,null,null,null,null,null,null,null,null,null,null,null,null,null,null,null,null,"Laury Despres"]
[null,16,{"$f":"Singles!O316","v":"Heather Kelly"},{"$f":"Singles!P316","v":"IT Tallaght"},{"$f":"Singles!Q316","v":118},{"$f":"Singles!R316","v":187},{"$f":"Singles!S316","v":0},{"$f":"Singles!T316","v":0},{"$f":"Singles!U316","v":0},null,{"$f":"Singles!V316","v":305},{"$f":"Singles!W316","v":0},{"$f":"Singles!X316","v":305.01871180000001},null,null,null,null,null,null,null,null,null,null,null,null,null,null,null,null,null,null,null,null,"Heather Kelly"]
[null,17,{"$f":"Singles!O317","v":"Amy Garde"},{"$f":"Singles!P317","v":"UCC"},{"$f":"Singles!Q317","v":0},{"$f":"Singles!R317","v":0},{"$f":"Singles!S317","v":0},{"$f":"Singles!T317","v":0},{"$f":"Singles!U317","v":289},null,{"$f":"Singles!V317","v":289},{"$f":"Singles!W317","v":0},{"$f":"Singles!X317","v":289.02890000000002},null,null,null,null,null,null,null,null,null,null,null,null,null,null,null,null,null,null,null,null,"Amy Garde"]
[null,18,{"$f":"Singles!O318","v":"Siobhan Flynn"},{"$f":"Singles!P318","v":"DUAC"},{"$f":"Singles!Q318","v":0},{"$f":"Singles!R318","v":284},{"$f":"Singles!S318","v":0},{"$f":"Singles!T318","v":0},{"$f":"Singles!U318","v":0},null,{"$f":"Singles!V318","v":284},{"$f":"Singles!W318","v":0},{"$f":"Singles!X318","v":284.02839999999998},null,null,null,null,null,null,null,null,null,null,null,null,null,null,null,null,null,null,null,null,"Siobhan Flynn"]
[null,19,{"$f":"Singles!O319","v":"Michaela Ní Mhurchú"},{"$f":"Singles!P319","v":"GMITC"},{"$f":"Singles!Q319","v":0},{"$f":"Singles!R319","v":0},{"$f":"Singles!S319","v":77},{"$f":"Singles!T319","v":0},{"$f":"Singles!U319","v":200},null,{"$f":"Singles!V319","v":277},{"$f":"Singles!W319","v":0},{"$f":"Singles!X319","v":277.02000770000001},null,null,null,null,null,null,null,null,null,null,null,null,null,null,null,null,null,null,null,null,"Michaela Ní Mhurchú"]
[null,20,{"$f":"Singles!O320","v":"Anke Jaeger"},{"$f":"Singles!P320","v":"NUIG"},{"$f":"Singles!Q320","v":0},{"$f":"Singles!R320","v":250},{"$f":"Singles!S320","v":0},{"$f":"Singles!T320","v":0},{"$f":"Singles!U320","v":0},null,{"$f":"Singles!V320","v":250},{"$f":"Singles!W320","v":0},{"$f":"Singles!X320","v":250.02500000000001},null,null,null,null,null,null,null,null,null,null,null,null,null,null,null,null,null,null,null,null,"Anke Jaeger"]
[null,21,{"$f":"Singles!O321","v":"Alessandra Pennesi"},{"$f":"Singles!P321","v":"NUIG"},{"$f":"Singles!Q321","v":0},{"$f":"Singles!R321","v":0},{"$f":"Singles!S321","v":211},{"$f":"Singles!T321","v":0},{"$f":"Singles!U321","v":0},null,{"$f":"Singles!V321","v":211},{"$f":"Singles!W321","v":0},{"$f":"Singles!X321","v":211.02109999999999},null,null,null,null,null,null,null,null,null,null,null,null,null,null,null,null,null,null,null,null,"Alessandra Pennesi"]
[null,22,{"$f":"Singles!O322","v":"Nicole Maoirano"},{"$f":"Singles!P322","v":"DUAC"},{"$f":"Singles!Q322","v":0},{"$f":"Singles!R322","v":0},{"$f":"Singles!S322","v":42},{"$f":"Singles!T322","v":0},{"$f":"Singles!U322","v":155},null,{"$f":"Singles!V322","v":197},{"$f":"Singles!W322","v":0},{"$f":"Singles!X322","v":197.01550420000001},null,null,null,null,null,null,null,null,null,null,null,null,null,null,null,null,null,null,null,null,"Nicole Maoirano"]
[null,23,{"$f":"Singles!O323","v":0},{"$f":"Singles!P323","v":"TBC"},{"$f":"Singles!Q323","v":"TBC"},{"$f":"Singles!R323","v":"TBC"},{"$f":"Singles!S323","v":"TBC"},{"$f":"Singles!T323","v":"TBC"},{"$f":"Singles!U323","v":"TBC"},null,{"$f":"Singles!V323","v":0},{"$f":"Singles!W323","v":0},{"$f":"Singles!X323","v":0},null,null,null,null,null,null,null,null,null,null,null,null,null,null,null,null,null,null,null,null,0]
[null,24,{"$f":"Singles!O324","v":0},{"$f":"Singles!P324","v":"TBC"},{"$f":"Singles!Q324","v":"TBC"},{"$f":"Singles!R324","v":"TBC"},{"$f":"Singles!S324","v":"TBC"},{"$f":"Singles!T324","v":"TBC"},{"$f":"Singles!U324","v":"TBC"},null,{"$f":"Singles!V324","v":0},{"$f":"Singles!W324","v":0},{"$f":"Singles!X324","v":0},null,null,null,null,null,null,null,null,null,null,null,null,null,null,null,null,null,null,null,null,0]
[null,25,{"$f":"Singles!O325","v":0},{"$f":"Singles!P325","v":"TBC"},{"$f":"Singles!Q325","v":"TBC"},{"$f":"Singles!R325","v":"TBC"},{"$f":"Singles!S325","v":"TBC"},{"$f":"Singles!T325","v":"TBC"},{"$f":"Singles!U325","v":"TBC"},null,{"$f":"Singles!V325","v":0},{"$f":"Singles!W325","v":0},{"$f":"Singles!X325","v":0},null,null,null,null,null,null,null,null,null,null,null,null,null,null,null,null,null,null,null,null,0]
[null,26,{"$f":"Singles!O326","v":0},{"$f":"Singles!P326","v":"TBC"},{"$f":"Singles!Q326","v":"TBC"},{"$f":"Singles!R326","v":"TBC"},{"$f":"Singles!S326","v":"TBC"},{"$f":"Singles!T326","v":"TBC"},{"$f":"Singles!U326","v":"TBC"},null,{"$f":"Singles!V326","v":0},{"$f":"Singles!W326","v":0},{"$f":"Singles!X326","v":0},null,null,null,null,null,null,null,null,null,null,null,null,null,null,null,null,null,null,null,null,0]
[null,27,{"$f":"Singles!O327","v":0},{"$f":"Singles!P327","v":"TBC"},{"$f":"Singles!Q327","v":"TBC"},{"$f":"Singles!R327","v":"TBC"},{"$f":"Singles!S327","v":"TBC"},{"$f":"Singles!T327","v":"TBC"},{"$f":"Singles!U327","v":"TBC"},null,{"$f":"Singles!V327","v":0},{"$f":"Singles!W327","v":0},{"$f":"Singles!X327","v":0},null,null,null,null,null,null,null,null,null,null,null,null,null,null,null,null,null,null,null,null,0]
[null,28,{"$f":"Singles!O328","v":0},{"$f":"Singles!P328","v":"TBC"},{"$f":"Singles!Q328","v":"TBC"},{"$f":"Singles!R328","v":"TBC"},{"$f":"Singles!S328","v":"TBC"},{"$f":"Singles!T328","v":"TBC"},{"$f":"Singles!U328","v":"TBC"},null,{"$f":"Singles!V328","v":0},{"$f":"Singles!W328","v":0},{"$f":"Singles!X328","v":0},null,null,null,null,null,null,null,null,null,null,null,null,null,null,null,null,null,null,null,null,0]
[null,29,{"$f":"Singles!O329","v":0},{"$f":"Singles!P329","v":"TBC"},{"$f":"Singles!Q329","v":"TBC"},{"$f":"Singles!R329","v":"TBC"},{"$f":"Singles!S329","v":"TBC"},{"$f":"Singles!T329","v":"TBC"},{"$f":"Singles!U329","v":"TBC"},null,{"$f":"Singles!V329","v":0},{"$f":"Singles!W329","v":0},{"$f":"Singles!X329","v":0},null,null,null,null,null,null,null,null,null,null,null,null,null,null,null,null,null,null,null,null,0]
[null,30,{"$f":"Singles!O330","v":0},{"$f":"Singles!P330","v":"TBC"},{"$f":"Singles!Q330","v":"TBC"},{"$f":"Singles!R330","v":"TBC"},{"$f":"Singles!S330","v":"TBC"},{"$f":"Singles!T330","v":"TBC"},{"$f":"Singles!U330","v":"TBC"},null,{"$f":"Singles!V330","v":0},{"$f":"Singles!W330","v":0},{"$f":"Singles!X330","v":0},null,null,null,null,null,null,null,null,null,null,null,null,null,null,null,null,null,null,null,null,0]
[null,31,{"$f":"Singles!O331","v":0},{"$f":"Singles!P331","v":"TBC"},{"$f":"Singles!Q331","v":"TBC"},{"$f":"Singles!R331","v":"TBC"},{"$f":"Singles!S331","v":"TBC"},{"$f":"Singles!T331","v":"TBC"},{"$f":"Singles!U331","v":"TBC"},null,{"$f":"Singles!V331","v":0},{"$f":"Singles!W331","v":0},{"$f":"Singles!X331","v":0},null,null,null,null,null,null,null,null,null,null,null,null,null,null,null,null,null,null,null,null,0]
[null,32,{"$f":"Singles!O332","v":0},{"$f":"Singles!P332","v":"TBC"},{"$f":"Singles!Q332","v":"TBC"},{"$f":"Singles!R332","v":"TBC"},{"$f":"Singles!S332","v":"TBC"},{"$f":"Singles!T332","v":"TBC"},{"$f":"Singles!U332","v":"TBC"},null,{"$f":"Singles!V332","v":0},{"$f":"Singles!W332","v":0},{"$f":"Singles!X332","v":0},null,null,null,null,null,null,null,null,null,null,null,null,null,null,null,null,null,null,null,null,0]
[null,33,{"$f":"Singles!O333","v":0},{"$f":"Singles!P333","v":"TBC"},{"$f":"Singles!Q333","v":"TBC"},{"$f":"Singles!R333","v":"TBC"},{"$f":"Singles!S333","v":"TBC"},{"$f":"Singles!T333","v":"TBC"},{"$f":"Singles!U333","v":"TBC"},null,{"$f":"Singles!V333","v":0},{"$f":"Singles!W333","v":0},{"$f":"Singles!X333","v":0},null,null,null,null,null,null,null,null,null,null,null,null,null,null,null,null,null,null,null,null,{"$f":"C39","v":0}]
[null,34,{"$f":"Singles!O334","v":0},{"$f":"Singles!P334","v":"TBC"},{"$f":"Singles!Q334","v":"TBC"},{"$f":"Singles!R334","v":"TBC"},{"$f":"Singles!S334","v":"TBC"},{"$f":"Singles!T334","v":"TBC"},{"$f":"Singles!U334","v":"TBC"},null,{"$f":"Singles!V334","v":0},{"$f":"Singles!W334","v":0},{"$f":"Singles!X334","v":0},null,null,null,null,null,null,null,null,null,null,null,null,null,null,null,null,null,null,null,null,0]
[null,35,{"$f":"Singles!O335","v":0},{"$f":"Singles!P335","v":"TBC"},{"$f":"Singles!Q335","v":"TBC"},{"$f":"Singles!R335","v":"TBC"},{"$f":"Singles!S335","v":"TBC"},{"$f":"Singles!T335","v":"TBC"},{"$f":"Singles!U335","v":"TBC"},null,{"$f":"Singles!V335","v":0},{"$f":"Singles!W335","v":0},{"$f":"Singles!X335","v":0},null,null,null,null,null,null,null,null,null,null,null,null,null,null,null,null,null,null,null,null,0]
[null,36,{"$f":"Singles!O336","v":0},{"$f":"Singles!P336","v":"TBC"},{"$f":"Singles!Q336","v":"TBC"},{"$f":"Singles!R336","v":"TBC"},{"$f":"Singles!S336","v":"TBC"},{"$f":"Singles!T336","v":"TBC"},{"$f":"Singles!U336","v":"TBC"},null,{"$f":"Singles!V336","v":0},{"$f":"Singles!W336","v":0},{"$f":"Singles!X336","v":0},null,null,null,null,null,null,null,null,null,null,null,null,null,null,null,null,null,null,null,null,0]
[null,37,{"$f":"Singles!O337","v":0},{"$f":"Singles!P337","v":"TBC"},{"$f":"Singles!Q337","v":"TBC"},{"$f":"Singles!R337","v":"TBC"},{"$f":"Singles!S337","v":"TBC"},{"$f":"Singles!T337","v":"TBC"},{"$f":"Singles!U337","v":"TBC"},null,{"$f":"Singles!V337","v":0},{"$f":"Singles!W337","v":0},{"$f":"Singles!X337","v":0},null,null,null,null,null,null,null,null,null,null,null,null,null,null,null,null,null,null,null,null,0]
[null,38,{"$f":"Singles!O338","v":0},{"$f":"Singles!P338","v":"TBC"},{"$f":"Singles!Q338","v":"TBC"},{"$f":"Singles!R338","v":"TBC"},{"$f":"Singles!S338","v":"TBC"},{"$f":"Singles!T338","v":"TBC"},{"$f":"Singles!U338","v":"TBC"},null,{"$f":"Singles!V338","v":0},{"$f":"Singles!W338","v":0},{"$f":"Singles!X338","v":0},null,null,null,null,null,null,null,null,null,null,null,null,null,null,null,null,null,null,null,null,0]
[null,39,{"$f":"Singles!O339","v":0},{"$f":"Singles!P339","v":"TBC"},{"$f":"Singles!Q339","v":"TBC"},{"$f":"Singles!R339","v":"TBC"},{"$f":"Singles!S339","v":"TBC"},{"$f":"Singles!T339","v":"TBC"},{"$f":"Singles!U339","v":"TBC"},null,{"$f":"Singles!V339","v":0},{"$f":"Singles!W339","v":0},{"$f":"Singles!X339","v":0},null,null,null,null,null,null,null,null,null,null,null,null,null,null,null,null,null,null,null,null,0]
[null,40,{"$f":"Singles!O340","v":0},{"$f":"Singles!P340","v":"TBC"},{"$f":"Singles!Q340","v":"TBC"},{"$f":"Singles!R340","v":"TBC"},{"$f":"Singles!S340","v":"TBC"},{"$f":"Singles!T340","v":"TBC"},{"$f":"Singles!U340","v":"TBC"},null,{"$f":"Singles!V340","v":0},{"$f":"Singles!W340","v":0},{"$f":"Singles!X340","v":0},null,null,null,null,null,null,null,null,null,null,null,null,null,null,null,null,null,null,null,null,0]
[null,41,{"$f":"Singles!O341","v":0},{"$f":"Singles!P341","v":"TBC"},{"$f":"Singles!Q341","v":"TBC"},{"$f":"Singles!R341","v":"TBC"},{"$f":"Singles!S341","v":"TBC"},{"$f":"Singles!T341","v":"TBC"},{"$f":"Singles!U341","v":"TBC"},null,{"$f":"Singles!V341","v":0},{"$f":"Singles!W341","v":0},{"$f":"Singles!X341","v":0},null,null,null,null,null,null,null,null,null,null,null,null,null,null,null,null,null,null,null,null,0]
[null,42,{"$f":"Singles!O342","v":0},{"$f":"Singles!P342","v":"TBC"},{"$f":"Singles!Q342","v":"TBC"},{"$f":"Singles!R342","v":"TBC"},{"$f":"Singles!S342","v":"TBC"},{"$f":"Singles!T342","v":"TBC"},{"$f":"Singles!U342","v":"TBC"},null,{"$f":"Singles!V342","v":0},{"$f":"Singles!W342","v":0},{"$f":"Singles!X342","v":0},null,null,null,null,null,null,null,null,null,null,null,null,null,null,null,null,null,null,null,null,0]
[null,43,{"$f":"Singles!O343","v":0},{"$f":"Singles!P343","v":"TBC"},{"$f":"Singles!Q343","v":"TBC"},{"$f":"Singles!R343","v":"TBC"},{"$f":"Singles!S343","v":"TBC"},{"$f":"Singles!T343","v":"TBC"},{"$f":"Singles!U343","v":"TBC"},null,{"$f":"Singles!V343","v":0},{"$f":"Singles!W343","v":0},{"$f":"Singles!X343","v":0},null,null,null,null,null,null,null,null,null,null,null,null,null,null,null,null,null,null,null,null,0]
[null,44,{"$f":"Singles!O344","v":0},{"$f":"Singles!P344","v":"TBC"},{"$f":"Singles!Q344","v":"TBC"},{"$f":"Singles!R344","v":"TBC"},{"$f":"Singles!S344","v":"TBC"},{"$f":"Singles!T344","v":"TBC"},{"$f":"Singles!U344","v":"TBC"},null,{"$f":"Singles!V344","v":0},{"$f":"Singles!W344","v":0},{"$f":"Singles!X344","v":0},null,null,null,null,null,null,null,null,null,null,null,null,null,null,null,null,null,null,null,null,0]
[null,45,{"$f":"Singles!O345","v":0},{"$f":"Singles!P345","v":"TBC"},{"$f":"Singles!Q345","v":"TBC"},{"$f":"Singles!R345","v":"TBC"},{"$f":"Singles!S345","v":"TBC"},{"$f":"Singles!T345","v":"TBC"},{"$f":"Singles!U345","v":"TBC"},null,{"$f":"Singles!V345","v":0},{"$f":"Singles!W345","v":0},{"$f":"Singles!X345","v":0},null,null,null,null,null,null,null,null,null,null,null,null,null,null,null,null,null,null,null,null,0]
[null,46,{"$f":"Singles!O346","v":0},{"$f":"Singles!P346","v":"TBC"},{"$f":"Singles!Q346","v":"TBC"},{"$f":"Singles!R346","v":"TBC"},{"$f":"Singles!S346","v":"TBC"},{"$f":"Singles!T346","v":"TBC"},{"$f":"Singles!U346","v":"TBC"},null,{"$f":"Singles!V346","v":0},{"$f":"Singles!W346","v":0},{"$f":"Singles!X346","v":0},null,null,null,null,null,null,null,null,null,null,null,null,null,null,null,null,null,null,null,null,0]
[null,47,{"$f":"Singles!O347","v":0},{"$f":"Singles!P347","v":"TBC"},{"$f":"Singles!Q347","v":"TBC"},{"$f":"Singles!R347","v":"TBC"},{"$f":"Singles!S347","v":"TBC"},{"$f":"Singles!T347","v":"TBC"},{"$f":"Singles!U347","v":"TBC"},null,{"$f":"Singles!V347","v":0},{"$f":"Singles!W347","v":0},{"$f":"Singles!X347","v":0},null,null,null,null,null,null,null,null,null,null,null,null,null,null,null,null,null,null,null,null,0]
[null,48,{"$f":"Singles!O348","v":0},{"$f":"Singles!P348","v":"TBC"},{"$f":"Singles!Q348","v":"TBC"},{"$f":"Singles!R348","v":"TBC"},{"$f":"Singles!S348","v":"TBC"},{"$f":"Singles!T348","v":"TBC"},{"$f":"Singles!U348","v":"TBC"},null,{"$f":"Singles!V348","v":0},{"$f":"Singles!W348","v":0},{"$f":"Singles!X348","v":0},null,null,null,null,null,null,null,null,null,null,null,null,null,null,null,null,null,null,null,null,0]
[null,49,{"$f":"Singles!O349","v":0},{"$f":"Singles!P349","v":"TBC"},{"$f":"Singles!Q349","v":"TBC"},{"$f":"Singles!R349","v":"TBC"},{"$f":"Singles!S349","v":"TBC"},{"$f":"Singles!T349","v":"TBC"},{"$f":"Singles!U349","v":"TBC"},null,{"$f":"Singles!V349","v":0},{"$f":"Singles!W349","v":0},{"$f":"Singles!X349","v":0},null,null,null,null,null,null,null,null,null,null,null,null,null,null,null,null,null,null,null,null,0]
[null,50,{"$f":"Singles!O350","v":0},{"$f":"Singles!P350","v":"TBC"},{"$f":"Singles!Q350","v":"TBC"},{"$f":"Singles!R350","v":"TBC"},{"$f":"Singles!S350","v":"TBC"},{"$f":"Singles!T350","v":"TBC"},{"$f":"Singles!U350","v":"TBC"},null,{"$f":"Singles!V350","v":0},{"$f":"Singles!W350","v":0},{"$f":"Singles!X350","v":0},null,null,null,null,null,null,null,null,null,null,null,null,null,null,null,null,null,null,null,null,0]
[null,51,{"$f":"Singles!O351","v":0},{"$f":"Singles!P351","v":"TBC"},{"$f":"Singles!Q351","v":"TBC"},{"$f":"Singles!R351","v":"TBC"},{"$f":"Singles!S351","v":"TBC"},{"$f":"Singles!T351","v":"TBC"},{"$f":"Singles!U351","v":"TBC"},null,{"$f":"Singles!V351","v":0},{"$f":"Singles!W351","v":0},{"$f":"Singles!X351","v":0},null,null,null,null,null,null,null,null,null,null,null,null,null,null,null,null,null,null,null,null,0]
[null,52,{"$f":"Singles!O352","v":0},{"$f":"Singles!P352","v":"TBC"},{"$f":"Singles!Q352","v":"TBC"},{"$f":"Singles!R352","v":"TBC"},{"$f":"Singles!S352","v":"TBC"},{"$f":"Singles!T352","v":"TBC"},{"$f":"Singles!U352","v":"TBC"},null,{"$f":"Singles!V352","v":0},{"$f":"Singles!W352","v":0},{"$f":"Singles!X352","v":0},null,null,null,null,null,null,null,null,null,null,null,null,null,null,null,null,null,null,null,null,0]
[null,53,{"$f":"Singles!O353","v":0},{"$f":"Singles!P353","v":"TBC"},{"$f":"Singles!Q353","v":"TBC"},{"$f":"Singles!R353","v":"TBC"},{"$f":"Singles!S353","v":"TBC"},{"$f":"Singles!T353","v":"TBC"},{"$f":"Singles!U353","v":"TBC"},null,{"$f":"Singles!V353","v":0},{"$f":"Singles!W353","v":0},{"$f":"Singles!X353","v":0},null,null,null,null,null,null,null,null,null,null,null,null,null,null,null,null,null,null,null,null,0]
[null,54,{"$f":"Singles!O354","v":0},{"$f":"Singles!P354","v":"TBC"},{"$f":"Singles!Q354","v":"TBC"},{"$f":"Singles!R354","v":"TBC"},{"$f":"Singles!S354","v":"TBC"},{"$f":"Singles!T354","v":"TBC"},{"$f":"Singles!U354","v":"TBC"},null,{"$f":"Singles!V354","v":0},{"$f":"Singles!W354","v":0},{"$f":"Singles!X354","v":0},null,null,null,null,null,null,null,null,null,null,null,null,null,null,null,null,null,null,null,null,0]
[null,55,{"$f":"Singles!O355","v":0},{"$f":"Singles!P355","v":"TBC"},{"$f":"Singles!Q355","v":"TBC"},{"$f":"Singles!R355","v":"TBC"},{"$f":"Singles!S355","v":"TBC"},{"$f":"Singles!T355","v":"TBC"},{"$f":"Singles!U355","v":"TBC"},null,{"$f":"Singles!V355","v":0},{"$f":"Singles!W355","v":0},{"$f":"Singles!X355","v":0},null,null,null,null,null,null,null,null,null,null,null,null,null,null,null,null,null,null,null,null,0]
[null,56,{"$f":"Singles!O356","v":0},{"$f":"Singles!P356","v":"TBC"},{"$f":"Singles!Q356","v":"TBC"},{"$f":"Singles!R356","v":"TBC"},{"$f":"Singles!S356","v":"TBC"},{"$f":"Singles!T356","v":"TBC"},{"$f":"Singles!U356","v":"TBC"},null,{"$f":"Singles!V356","v":0},{"$f":"Singles!W356","v":0},{"$f":"Singles!X356","v":0},null,null,null,null,null,null,null,null,null,null,null,null,null,null,null,null,null,null,null,null,0]
[null,57,{"$f":"Singles!O357","v":0},{"$f":"Singles!P357","v":"TBC"},{"$f":"Singles!Q357","v":"TBC"},{"$f":"Singles!R357","v":"TBC"},{"$f":"Singles!S357","v":"TBC"},{"$f":"Singles!T357","v":"TBC"},{"$f":"Singles!U357","v":"TBC"},null,{"$f":"Singles!V357","v":0},{"$f":"Singles!W357","v":0},{"$f":"Singles!X357","v":0},null,null,null,null,null,null,null,null,null,null,null,null,null,null,null,null,null,null,null,null,0]
[null,58,{"$f":"Singles!O358","v":0},{"$f":"Singles!P358","v":"TBC"},{"$f":"Singles!Q358","v":"TBC"},{"$f":"Singles!R358","v":"TBC"},{"$f":"Singles!S358","v":"TBC"},{"$f":"Singles!T358","v":"TBC"},{"$f":"Singles!U358","v":"TBC"},null,{"$f":"Singles!V358","v":0},{"$f":"Singles!W358","v":0},{"$f":"Singles!X358","v":0},null,null,null,null,null,null,null,null,null,null,null,null,null,null,null,null,null,null,null,null,0]
[null,59,{"$f":"Singles!O359","v":0},{"$f":"Singles!P359","v":"TBC"},{"$f":"Singles!Q359","v":"TBC"},{"$f":"Singles!R359","v":"TBC"},{"$f":"Singles!S359","v":"TBC"},{"$f":"Singles!T359","v":"TBC"},{"$f":"Singles!U359","v":"TBC"},null,{"$f":"Singles!V359","v":0},{"$f":"Singles!W359","v":0},{"$f":"Singles!X359","v":0},null,null,null,null,null,null,null,null,null,null,null,null,null,null,null,null,null,null,null,null,0]
[null,60,{"$f":"Singles!O360","v":0},{"$f":"Singles!P360","v":"TBC"},{"$f":"Singles!Q360","v":"TBC"},{"$f":"Singles!R360","v":"TBC"},{"$f":"Singles!S360","v":"TBC"},{"$f":"Singles!T360","v":"TBC"},{"$f":"Singles!U360","v":"TBC"},null,{"$f":"Singles!V360","v":0},{"$f":"Singles!W360","v":0},{"$f":"Singles!X360","v":0},null,null,null,null,null,null,null,null,null,null,null,null,null,null,null,null,null,null,null,null,0]
[null,61,{"$f":"Singles!O361","v":0},{"$f":"Singles!P361","v":"TBC"},{"$f":"Singles!Q361","v":"TBC"},{"$f":"Singles!R361","v":"TBC"},{"$f":"Singles!S361","v":"TBC"},{"$f":"Singles!T361","v":"TBC"},{"$f":"Singles!U361","v":"TBC"},null,{"$f":"Singles!V361","v":0},{"$f":"Singles!W361","v":0},{"$f":"Singles!X361","v":0},null,null,null,null,null,null,null,null,null,null,null,null,null,null,null,null,null,null,null,null,0]
[null,62,{"$f":"Singles!O362","v":0},{"$f":"Singles!P362","v":"TBC"},{"$f":"Singles!Q362","v":"TBC"},{"$f":"Singles!R362","v":"TBC"},{"$f":"Singles!S362","v":"TBC"},{"$f":"Singles!T362","v":"TBC"},{"$f":"Singles!U362","v":"TBC"},null,{"$f":"Singles!V362","v":0},{"$f":"Singles!W362","v":0},{"$f":"Singles!X362","v":0},null,null,null,null,null,null,null,null,null,null,null,null,null,null,null,null,null,null,null,null,0]
[null,63,{"$f":"Singles!O363","v":0},{"$f":"Singles!P363","v":"TBC"},{"$f":"Singles!Q363","v":"TBC"},{"$f":"Singles!R363","v":"TBC"},{"$f":"Singles!S363","v":"TBC"},{"$f":"Singles!T363","v":"TBC"},{"$f":"Singles!U363","v":"TBC"},null,{"$f":"Singles!V363","v":0},{"$f":"Singles!W363","v":0},{"$f":"Singles!X363","v":0},null,null,null,null,null,null,null,null,null,null,null,null,null,null,null,null,null,null,null,null,0]
[null,64,{"$f":"Singles!O364","v":0},{"$f":"Singles!P364","v":"TBC"},{"$f":"Singles!Q364","v":"TBC"},{"$f":"Singles!R364","v":"TBC"},{"$f":"Singles!S364","v":"TBC"},{"$f":"Singles!T364","v":"TBC"},{"$f":"Singles!U364","v":"TBC"},null,{"$f":"Singles!V364","v":0},{"$f":"Singles!W364","v":0},{"$f":"Singles!X364","v":0},null,null,null,null,null,null,null,null,null,null,null,null,null,null,null,null,null,null,null,null,0]
[null,65,{"$f":"Singles!O365","v":0},{"$f":"Singles!P365","v":"TBC"},{"$f":"Singles!Q365","v":"TBC"},{"$f":"Singles!R365","v":"TBC"},{"$f":"Singles!S365","v":"TBC"},{"$f":"Singles!T365","v":"TBC"},{"$f":"Singles!U365","v":"TBC"},null,{"$f":"Singles!V365","v":0},{"$f":"Singles!W365","v":0},{"$f":"Singles!X365","v":0},null,null,null,null,null,null,null,null,null,null,null,null,null,null,null,null,null,null,null,null,0]
[null,66,{"$f":"Singles!O366","v":0},{"$f":"Singles!P366","v":"TBC"},{"$f":"Singles!Q366","v":"TBC"},{"$f":"Singles!R366","v":"TBC"},{"$f":"Singles!S366","v":"TBC"},{"$f":"Singles!T366","v":"TBC"},{"$f":"Singles!U366","v":"TBC"},null,{"$f":"Singles!V366","v":0},{"$f":"Singles!W366","v":0},{"$f":"Singles!X366","v":0},null,null,null,null,null,null,null,null,null,null,null,null,null,null,null,null,null,null,null,null,0]
[null,67,{"$f":"Singles!O367","v":0},{"$f":"Singles!P367","v":"TBC"},{"$f":"Singles!Q367","v":"TBC"},{"$f":"Singles!R367","v":"TBC"},{"$f":"Singles!S367","v":"TBC"},{"$f":"Singles!T367","v":"TBC"},{"$f":"Singles!U367","v":"TBC"},null,{"$f":"Singles!V367","v":0},{"$f":"Singles!W367","v":0},{"$f":"Singles!X367","v":0},null,null,null,null,null,null,null,null,null,null,null,null,null,null,null,null,null,null,null,null,0]
[null,68,{"$f":"Singles!O368","v":0},{"$f":"Singles!P368","v":"TBC"},{"$f":"Singles!Q368","v":"TBC"},{"$f":"Singles!R368","v":"TBC"},{"$f":"Singles!S368","v":"TBC"},{"$f":"Singles!T368","v":"TBC"},{"$f":"Singles!U368","v":"TBC"},null,{"$f":"Singles!V368","v":0},{"$f":"Singles!W368","v":0},{"$f":"Singles!X368","v":0},null,null,null,null,null,null,null,null,null,null,null,null,null,null,null,null,null,null,null,null,0]
[null,69,{"$f":"Singles!O369","v":0},{"$f":"Singles!P369","v":"TBC"},{"$f":"Singles!Q369","v":"TBC"},{"$f":"Singles!R369","v":"TBC"},{"$f":"Singles!S369","v":"TBC"},{"$f":"Singles!T369","v":"TBC"},{"$f":"Singles!U369","v":"TBC"},null,{"$f":"Singles!V369","v":0},{"$f":"Singles!W369","v":0},{"$f":"Singles!X369","v":0},null,null,null,null,null,null,null,null,null,null,null,null,null,null,null,null,null,null,null,null,0]
[null,70,{"$f":"Singles!O370","v":0},{"$f":"Singles!P370","v":"TBC"},{"$f":"Singles!Q370","v":"TBC"},{"$f":"Singles!R370","v":"TBC"},{"$f":"Singles!S370","v":"TBC"},{"$f":"Singles!T370","v":"TBC"},{"$f":"Singles!U370","v":"TBC"},null,{"$f":"Singles!V370","v":0},{"$f":"Singles!W370","v":0},{"$f":"Singles!X370","v":0},null,null,null,null,null,null,null,null,null,null,null,null,null,null,null,null,null,null,null,null,0]
[null,71,{"$f":"Singles!O371","v":0},{"$f":"Singles!P371","v":"TBC"},{"$f":"Singles!Q371","v":"TBC"},{"$f":"Singles!R371","v":"TBC"},{"$f":"Singles!S371","v":"TBC"},{"$f":"Singles!T371","v":"TBC"},{"$f":"Singles!U371","v":"TBC"},null,{"$f":"Singles!V371","v":0},{"$f":"Singles!W371","v":0},{"$f":"Singles!X371","v":0},null,null,null,null,null,null,null,null,null,null,null,null,null,null,null,null,null,null,null,null,0]
[null,72,{"$f":"Singles!O372","v":0},{"$f":"Singles!P372","v":"TBC"},{"$f":"Singles!Q372","v":"TBC"},{"$f":"Singles!R372","v":"TBC"},{"$f":"Singles!S372","v":"TBC"},{"$f":"Singles!T372","v":"TBC"},{"$f":"Singles!U372","v":"TBC"},null,{"$f":"Singles!V372","v":0},{"$f":"Singles!W372","v":0},{"$f":"Singles!X372","v":0},null,null,null,null,null,null,null,null,null,null,null,null,null,null,null,null,null,null,null,null,0]
[null,73,{"$f":"Singles!O373","v":0},{"$f":"Singles!P373","v":"TBC"},{"$f":"Singles!Q373","v":"TBC"},{"$f":"Singles!R373","v":"TBC"},{"$f":"Singles!S373","v":"TBC"},{"$f":"Singles!T373","v":"TBC"},{"$f":"Singles!U373","v":"TBC"},null,{"$f":"Singles!V373","v":0},{"$f":"Singles!W373","v":0},{"$f":"Singles!X373","v":0},null,null,null,null,null,null,null,null,null,null,null,null,null,null,null,null,null,null,null,null,0]
[null,74,{"$f":"Singles!O374","v":0},{"$f":"Singles!P374","v":"TBC"},{"$f":"Singles!Q374","v":"TBC"},{"$f":"Singles!R374","v":"TBC"},{"$f":"Singles!S374","v":"TBC"},{"$f":"Singles!T374","v":"TBC"},{"$f":"Singles!U374","v":"TBC"},null,{"$f":"Singles!V374","v":0},{"$f":"Singles!W374","v":0},{"$f":"Singles!X374","v":0},null,null,null,null,null,null,null,null,null,null,null,null,null,null,null,null,null,null,null,null,0]
[null,75,{"$f":"Singles!O375","v":0},{"$f":"Singles!P375","v":"TBC"},{"$f":"Singles!Q375","v":"TBC"},{"$f":"Singles!R375","v":"TBC"},{"$f":"Singles!S375","v":"TBC"},{"$f":"Singles!T375","v":"TBC"},{"$f":"Singles!U375","v":"TBC"},null,{"$f":"Singles!V375","v":0},{"$f":"Singles!W375","v":0},{"$f":"Singles!X375","v":0},null,null,null,null,null,null,null,null,null,null,null,null,null,null,null,null,null,null,null,null,0]
[{"$f":"$D$7","v":"GMIT"}]

{"sheet":"BAM","index":10,"n_rows":82,"n_cols":34,"rows_kept":82,"cut":false,"hidden":false,"merged":[[1,13,80,13],[81,0,81,13],[1,0,80,0],[0,0,0,13],[1,4,1,8],[1,10,1,12],[1,1,3,3],[2,10,3,10],[2,11,3,11],[2,12,3,12],[4,1,4,8],[4,10,4,12],[1,9,80,9]]}
[{"$f":"$D$7","v":"DCU"}]
[{"$f":"$D$7","v":"DCU"},"Male Advanced Barebow",null,null,"Host Club",null,null,null,null,{"$f":"$D$7","v":"DCU"},"Scores",null,null,"DCU",null,null,null,null,null,null,null,null,null,null,null,null,null,null,null,null,null,null,null,{"$f":"AH7","v":"Jericho Siababa"}]
[null,null,null,null,{"$f":"Entries!K6","v":"UL IV"},{"$f":"Entries!K7","v":"DkIT IV"},{"$f":"Entries!K8","v":"GMIT IV"},{"$f":"Entries!K9","v":"DCU IV"},{"$f":"Entries!K10","v":"NUIG IV"},null,"Total","Lowest","League"]
[]
[null,"DCU",null,null,null,null,null,null,null,null,"DCU"]
[null,null,"Name","College",{"$f":"Entries!K6","v":"UL IV"},{"$f":"Entries!K7","v":"DkIT IV"},{"$f":"Entries!K8","v":"GMIT IV"},{"$f":"Entries!K9","v":"DCU IV"},{"$f":"Entries!K10","v":"NUIG IV"},null,"Total","Lowest","League total"]
[null,1,{"$f":"Singles!AB304","v":"Jericho Siababa"},{"$f":"Singles!AC304","v":"DCU"},{"$f":"Singles!AD304","v":0},{"$f":"Singles!AE304","v":437},{"$f":"Singles!AF304","v":465},{"$f":"Singles!AG304","v":457},{"$f":"Singles!AH304","v":486},null,{"$f":"Singles!AI304","v":1845},{"$f":"Singles!AJ304","v":0},{"$f":"Singles!AK304","v":1845.0486465000001},null,null,null,null,null,null,null,null,null,null,null,null,null,null,null,null,null,null,null,null,{"$f":"C7","v":"Jericho Siababa"}]
[null,2,{"$f":"Singles!AB301","v":"Dean Lalor"},{"$f":"Singles!AC301","v":"DCU"},{"$f":"Singles!AD301","v":413},{"$f":"Singles!AE301","v":394},{"$f":"Singles!AF301","v":446},{"$f":"Singles!AG301","v":469},{"$f":"Singles!AH301","v":437},null,{"$f":"Singles!AI301","v":2159},{"$f":"Singles!AJ301","v":394},{"$f":"Singles!AK301","v":1765.0469446},null,null,null,null,null,null,null,null,null,null,null,null,null,null,null,null,null,null,null,null,"Dean Lalor"]
[null,3,{"$f":"Singles!AB302","v":"Bernard O'Connor"},{"$f":"Singles!AC302","v":"DCU"},{"$f":"Singles!AD302","v":326},{"$f":"Singles!AE302","v":411},{"$f":"Singles!AF302","v":403},{"$f":"Singles!AG302","v":379},{"$f":"Singles!AH302","v":404},null,{"$f":"Singles!AI302","v":1923},{"$f":"Singles!AJ302","v":326},{"$f":"Singles!AK302","v":1597.0411403999999},null,null,null,null,null,null,null,null,null,null,null,null,null,null,null,null,null,null,null,null,"Bernard O'Connor"]
[null,4,{"$f":"Singles!AB303","v":"Niall O'Hanlon"},{"$f":"Singles!AC303","v":"DCU"},{"$f":"Singles!AD303","v":422},{"$f":"Singles!AE303","v":331},{"$f":"Singles!AF303","v":407},{"$f":"Singles!AG303","v":362},{"$f":"Singles!AH303","v":353},null,{"$f":"Singles!AI303","v":1875},{"$f":"Singles!AJ303","v":331},{"$f":"Singles!AK303","v":1544.0422407000001},null,null,null,null,null,null,null,null,null,null,null,null,null,null,null,null,null,null,null,null,"Niall O'Hanlon"]
[null,5,{"$f":"Singles!AB305","v":"Pawel Nalecz-Nieniewski"},{"$f":"Singles!AC305","v":"ITC"},{"$f":"Singles!AD305","v":353},{"$f":"Singles!AE305","v":364},{"$f":"Singles!AF305","v":359},{"$f":"Singles!AG305","v":357},{"$f":"Singles!AH305","v":395},null,{"$f":"Singles!AI305","v":1828},{"$f":"Singles!AJ305","v":353},{"$f":"Singles!AK305","v":1475.0395364000001},null,null,null,null,null,null,null,null,null,null,null,null,null,null,null,null,null,null,null,null,"Pawel Nalecz-Nieniewski"]
[null,6,{"$f":"Singles!AB306","v":"Conor Ó Beoláin"},{"$f":"Singles!AC306","v":"NUIG"},{"$f":"Singles!AD306","v":471},{"$f":"Singles!AE306","v":393},{"$f":"Singles!AF306","v":0},{"$f":"Singles!AG306","v":340},{"$f":"Singles!AH306","v":0},null,{"$f":"Singles!AI306","v":1204},{"$f":"Singles!AJ306","v":0},{"$f":"Singles!AK306","v":1204.0471393},null,null,null,null,null,null,null,null,null,null,null,null,null,null,null,null,null,null,null,null,"Conor Ó Beoláin"]
[null,7,{"$f":"Singles!AB307","v":"David Price"},{"$f":"Singles!AC307","v":"ITC"},{"$f":"Singles!AD307","v":391},{"$f":"Singles!AE307","v":403},{"$f":"Singles!AF307","v":370},{"$f":"Singles!AG307","v":0},{"$f":"Singles!AH307","v":0},null,{"$f":"Singles!AI307","v":1164},{"$f":"Singles!AJ307","v":0},{"$f":"Singles!AK307","v":1164.0403391},null,null,null,null,null,null,null,null,null,null,null,null,null,null,null,null,null,null,null,null,"David Price"]
[null,8,{"$f":"Singles!AB308","v":"Andrew Warrington"},{"$f":"Singles!AC308","v":"GMITC"},{"$f":"Singles!AD308","v":306},{"$f":"Singles!AE308","v":0},{"$f":"Singles!AF308","v":274},{"$f":"Singles!AG308","v":0},{"$f":"Singles!AH308","v":321},null,{"$f":"Singles!AI308","v":901},{"$f":"Singles!AJ308","v":0},{"$f":"Singles!AK308","v":901.03213059999996},null,null,null,null,null,null,null,null,null,null,null,null,null,null,null,null,null,null,null,null,"Andrew Warrington"]
[null,9,{"$f":"Singles!AB309","v":"Daniel Kelly"},{"$f":"Singles!AC309","v":"NUIG"},{"$f":"Singles!AD309","v":0},{"$f":"Singles!AE309","v":293},{"$f":"Singles!AF309","v":383},{"$f":"Singles!AG309","v":0},{"$f":"Singles!AH309","v":0},null,{"$f":"Singles!AI309","v":676},{"$f":"Singles!AJ309","v":0},{"$f":"Singles!AK309","v":676.0383293000001},null,null,null,null,null,null,null,null,null,null,null,null,null,null,null,null,null,null,null,null,"Daniel Kelly"]
[null,10,{"$f":"Singles!AB310","v":"Jay McCarron"},{"$f":"Singles!AC310","v":"GMIT"},{"$f":"Singles!AD310","v":0},{"$f":"Singles!AE310","v":0},{"$f":"Singles!AF310","v":62},{"$f":"Singles!AG310","v":0},{"$f":"Singles!AH310","v":0},null,{"$f":"Singles!AI310","v":62},{"$f":"Singles!AJ310","v":0},{"$f":"Singles!AK310","v":62.0062},null,null,null,null,null,null,null,null,null,null,null,null,null,null,null,null,null,null,null,null,"Jay McCarron"]
[null,11,{"$f":"Singles!AB311","v":0},{"$f":"Singles!AC311","v":"TBC"},{"$f":"Singles!AD311","v":"TBC"},{"$f":"Singles!AE311","v":"TBC"},{"$f":"Singles!AF311","v":"TBC"},{"$f":"Singles!AG311","v":"TBC"},{"$f":"Singles!AH311","v":"TBC"},null,{"$f":"Singles!AI311","v":0},{"$f":"Singles!AJ311","v":0},{"$f":"Singles!AK311","v":0},null,null,null,null,null,null,null,null,null,null,null,null,null,null,null,null,null,null,null,null,0]
[null,12,{"$f":"Singles!AB312","v":0},{"$f":"Singles!AC312","v":"TBC"},{"$f":"Singles!AD312","v":"TBC"},{"$f":"Singles!AE312","v":"TBC"},{"$f":"Singles!AF312","v":"TBC"},{"$f":"Singles!AG312","v":"TBC"},{"$f":"Singles!AH312","v":"TBC"},null,{"$f":"Singles!AI312","v":0},{"$f":"Singles!AJ312","v":0},{"$f":"Singles!AK312","v":0},null,null,null,null,null,null,null,null,null,null,null,null,null,null,null,null,null,null,null,null,0]
[null,13,{"$f":"Singles!AB313","v":0},{"$f":"Singles!AC313","v":"TBC"},{"$f":"Singles!AD313","v":"TBC"},{"$f":"Singles!AE313","v":"TBC"},{"$f":"Singles!AF313","v":"TBC"},{"$f":"Singles!AG313","v":"TBC"},{"$f":"Singles!AH313","v":"TBC"},null,{"$f":"Singles!AI313","v":0},{"$f":"Singles!AJ313","v":0},{"$f":"Singles!AK313","v":0},null,null,null,null,null,null,null,null,null,null,null,null,null,null,null,null,null,null,null,null,0]
[null,14,{"$f":"Singles!AB314","v":0},{"$f":"Singles!AC314","v":"TBC"},{"$f":"Singles!AD314","v":"TBC"},{"$f":"Singles!AE314","v":"TBC"},{"$f":"Singles!AF314","v":"TBC"},{"$f":"Singles!AG314","v":"TBC"},{"$f":"Singles!AH314","v":"TBC"},null,{"$f":"Singles!AI314","v":0},{"$f":"Singles!AJ314","v":0},{"$f":"Singles!AK314","v":0},null,null,null,null,null,null,null,null,null,null,null,null,null,null,null,null,null,null,null,null,0]
[null,15,{"$f":"Singles!AB315","v":0},{"$f":"Singles!AC315","v":"TBC"},{"$f":"Singles!AD315","v":"TBC"},{"$f":"Singles!AE315","v":"TBC"},{"$f":"Singles!AF315","v":"TBC"},{"$f":"Singles!AG315","v":"TBC"},{"$f":"Singles!AH315","v":"TBC"},null,{"$f":"Singles!AI315","v":0},{"$f":"Singles!AJ315","v":0},{"$f":"Singles!AK315","v":0},null,null,null,null,null,null,null,null,null,null,null,null,null,null,null,null,null,null,null,null,0]
[null,16,{"$f":"Singles!AB316","v":0},{"$f":"Singles!AC316","v":"TBC"},{"$f":"Singles!AD316","v":"TBC"},{"$f":"Singles!AE316","v":"TBC"},{"$f":"Singles!AF316","v":"TBC"},{"$f":"Singles!AG316","v":"TBC"},{"$f":"Singles!AH316","v":"TBC"},null,{"$f":"Singles!AI316","v":0},{"$f":"Singles!AJ316","v":0},{"$f":"Singles!AK316","v":0},null,null,null,null,null,null,null,null,null,null,null,null,null,null,null,null,null,null,null,null,0]
[null,17,{"$f":"Singles!AB317","v":0},{"$f":"Singles!AC317","v":"TBC"},{"$f":"Singles!AD317","v":"TBC"},{"$f":"Singles!AE317","v":"TBC"},{"$f":"Singles!AF317","v":"TBC"},{"$f":"Singles!AG317","v":"TBC"},{"$f":"Singles!AH317","v":"TBC"},null,{"$f":"Singles!AI317","v":0},{"$f":"Singles!AJ317","v":0},{"$f":"Singles!AK317","v":0},null,null,null,null,null,null,null,null,null,null,null,null,null,null,null,null,null,null,null,null,0]
[null,18,{"$f":"Singles!AB318","v":0},{"$f":"Singles!AC318","v":"TBC"},{"$f":"Singles!AD318","v":"TBC"},{"$f":"Singles!AE318","v":"TBC"},{"$f":"Singles!AF318","v":"TBC"},{"$f":"Singles!AG318","v":"TBC"},{"$f":"Singles!AH318","v":"TBC"},null,{"$f":"Singles!AI318","v":0},{"$f":"Singles!AJ318","v":0},{"$f":"Singles!AK318","v":0},null,null,null,null,null,null,null,null,null,null,null,null,null,null,null,null,null,null,null,null,0]
[null,19,{"$f":"Singles!AB319","v":0},{"$f":"Singles!AC319","v":"TBC"},{"$f":"Singles!AD319","v":"TBC"},{"$f":"Singles!AE319","v":"TBC"},{"$f":"Singles!AF319","v":"TBC"},{"$f":"Singles!AG319","v":"TBC"},{"$f":"Singles!AH319","v":"TBC"},null,{"$f":"Singles!AI319","v":0},{"$f":"Singles!AJ319","v":0},{"$f":"Singles!AK319","v":0},null,null,null,null,null,null,null,null,null,null,null,null,null,null,null,null,null,null,null,null,0]
[null,20,{"$f":"Singles!AB320","v":0},{"$f":"Singles!AC320","v":"TBC"},{"$f":"Singles!AD320","v":"TBC"},{"$f":"Singles!AE320","v":"TBC"},{"$f":"Singles!AF320","v":"TBC"},{"$f":"Singles!AG320","v":"TBC"},{"$f":"Singles!AH320","v":"TBC"},null,{"$f":"Singles!AI320","v":0},{"$f":"Singles!AJ320","v":0},{"$f":"Singles!AK320","v":0},null,null,null,null,null,null,null,null,null,null,null,null,null,null,null,null,null,null,null,null,0]
[null,21,{"$f":"Singles!AB321","v":0},{"$f":"Singles!AC321","v":"TBC"},{"$f":"Singles!AD321","v":"TBC"},{"$f":"Singles!AE321","v":"TBC"},{"$f":"Singles!AF321","v":"TBC"},{"$f":"Singles!AG321","v":"TBC"},{"$f":"Singles!AH321","v":"TBC"},null,{"$f":"Singles!AI321","v":0},{"$f":"Singles!AJ321","v":0},{"$f":"Singles!AK321","v":0},null,null,null,null,null,null,null,null,null,null,null,null,null,null,null,null,null,null,null,null,0]
[null,22,{"$f":"Singles!AB322","v":0},{"$f":"Singles!AC322","v":"TBC"},{"$f":"Singles!AD322","v":"TBC"},{"$f":"Singles!AE322","v":"TBC"},{"$f":"Singles!AF322","v":"TBC"},{"$f":"Singles!AG322","v":"TBC"},{"$f":"Singles!AH322","v":"TBC"},null,{"$f":"Singles!AI322","v":0},{"$f":"Singles!AJ322","v":0},{"$f":"Singles!AK322","v":0},null,null,null,null,null,null,null,null,null,null,null,null,null,null,null,null,null,null,null,null,0]
[null,23,{"$f":"Singles!AB323","v":0},{"$f":"Singles!AC323","v":"TBC"},{"$f":"Singles!AD323","v":"TBC"},{"$f":"Singles!AE323","v":"TBC"},{"$f":"Singles!AF323","v":"TBC"},{"$f":"Singles!AG323","v":"TBC"},{"$f":"Singles!AH323","v":"TBC"},null,{"$f":"Singles!AI323","v":0},{"$f":"Singles!AJ323","v":0},{"$f":"Singles!AK323","v":0},null,null,null,null,null,null,null,null,null,null,null,null,null,null,null,null,null,null,null,null,0]
[null,24,{"$f":"Singles!AB324","v":0},{"$f":"Singles!AC324","v":"TBC"},{"$f":"Singles!AD324","v":"TBC"},{"$f":"Singles!AE324","v":"TBC"},{"$f":"Singles!AF324","v":"TBC"},{"$f":"Singles!AG324","v":"TBC"},{"$f":"Singles!AH324","v":"TBC"},null,{"$f":"Singles!AI324","v":0},{"$f":"Singles!AJ324","v":0},{"$f":"Singles!AK324","v":0},null,null,null,null,null,null,null,null,null,null,null,null,null,null,null,null,null,null,null,null,0]
[null,25,{"$f":"Singles!AB325","v":0},{"$f":"Singles!AC325","v":"TBC"},{"$f":"Singles!AD325","v":"TBC"},{"$f":"Singles!AE325","v":"TBC"},{"$f":"Singles!AF325","v":"TBC"},{"$f":"Singles!AG325","v":"TBC"},{"$f":"Singles!AH325","v":"TBC"},null,{"$f":"Singles!AI325","v":0},{"$f":"Singles!AJ325","v":0},{"$f":"Singles!AK325","v":0},null,null,null,null,null,null,null,null,null,null,null,null,null,null,null,null,null,null,null,null,0]
[null,26,{"$f":"Singles!AB326","v":0},{"$f":"Singles!AC326","v":"TBC"},{"$f":"Singles!AD326","v":"TBC"},{"$f":"Singles!AE326","v":"TBC"},{"$f":"Singles!AF326","v":"TBC"},{"$f":"Singles!AG326","v":"TBC"},{"$f":"Singles!AH326","v":"TBC"},null,{"$f":"Singles!AI326","v":0},{"$f":"Singles!AJ326","v":0},{"$f":"Singles!AK326","v":0},null,null,null,null,null,null,null,null,null,null,null,null,null,null,null,null,null,null,null,null,0]
[null,27,{"$f":"Singles!AB327","v":0},{"$f":"Singles!AC327","v":"TBC"},{"$f":"Singles!AD327","v":"TBC"},{"$f":"Singles!AE327","v":"TBC"},{"$f":"Singles!AF327","v":"TBC"},{"$f":"Singles!AG327","v":"TBC"},{"$f":"Singles!AH327","v":"TBC"},null,{"$f":"Singles!AI327","v":0},{"$f":"Singles!AJ327","v":0},{"$f":"Singles!AK327","v":0},null,null,null,null,null,null,null,null,null,null,null,null,null,null,null,null,null,null,null,null,0]
[null,28,{"$f":"Singles!AB328","v":0},{"$f":"Singles!AC328","v":"TBC"},{"$f":"Singles!AD328","v":"TBC"},{"$f":"Singles!AE328","v":"TBC"},{"$f":"Singles!AF328","v":"TBC"},{"$f":"Singles!AG328","v":"TBC"},{"$f":"Singles!AH328","v":"TBC"},null,{"$f":"Singles!AI328","v":0},{"$f":"Singles!AJ328","v":0},{"$f":"Singles!AK328","v":0},null,null,null,null,null,null,null,null,null,null,null,null,null,null,null,null,null,null,null,null,0]
[null,29,{"$f":"Singles!AB329","v":0},{"$f":"Singles!AC329","v":"TBC"},{"$f":"Singles!AD329","v":"TBC"},{"$f":"Singles!AE329","v":"TBC"},{"$f":"Singles!AF329","v":"TBC"},{"$f":"Singles!AG329","v":"TBC"},{"$f":"Singles!AH329","v":"TBC"},null,{"$f":"Singles!AI329","v":0},{"$f":"Singles!AJ329","v":0},{"$f":"Singles!AK329","v":0},null,null,null,null,null,null,null,null,null,null,null,null,null,null,null,null,null,null,null,null,0]
[null,30,{"$f":"Singles!AB330","v":0},{"$f":"Singles!AC330","v":"TBC"},{"$f":"Singles!AD330","v":"TBC"},{"$f":"Singles!AE330","v":"TBC"},{"$f":"Singles!AF330","v":"TBC"},{"$f":"Singles!AG330","v":"TBC"},{"$f":"Singles!AH330","v":"TBC"},null,{"$f":"Singles!AI330","v":0},{"$f":"Singles!AJ330","v":0},{"$f":"Singles!AK330","v":0},null,null,null,null,null,null,null,null,null,null,null,null,null,null,null,null,null,null,null,null,0]
[null,31,{"$f":"Singles!AB331","v":0},{"$f":"Singles!AC331","v":"TBC"},{"$f":"Singles!AD331","v":"TBC"},{"$f":"Singles!AE331","v":"TBC"},{"$f":"Singles!AF331","v":"TBC"},{"$f":"Singles!AG331","v":"TBC"},{"$f":"Singles!AH331","v":"TBC"},null,{"$f":"Singles!AI331","v":0},{"$f":"Singles!AJ331","v":0},{"$f":"Singles!AK331","v":0},null,null,null,null,null,null,null,null,null,null,null,null,null,null,null,null,null,null,null,null,0]
[null,32,{"$f":"Singles!AB332","v":0},{"$f":"Singles!AC332","v":"TBC"},{"$f":"Singles!AD332","v":"TBC"},{"$f":"Singles!AE332","v":"TBC"},{"$f":"Singles!AF332","v":"TBC"},{"$f":"Singles!AG332","v":"TBC"},{"$f":"Singles!AH332","v":"TBC"},null,{"$f":"Singles!AI332","v":0},{"$f":"Singles!AJ332","v":0},{"$f":"Singles!AK332","v":0},null,null,null,null,null,null,null,null,null,null,null,null,null,null,null,null,null,null,null,null,0]
[null,33,{"$f":"Singles!AB333","v":0},{"$f":"Singles!AC333","v":"TBC"},{"$f":"Singles!AD333","v":"TBC"},{"$f":"Singles!AE333","v":"TBC"},{"$f":"Singles!AF333","v":"TBC"},{"$f":"Singles!AG333","v":"TBC"},{"$f":"Singles!AH333","v":"TBC"},null,{"$f":"Singles!AI333","v":0},{"$f":"Singles!AJ333","v":0},{"$f":"Singles!AK333","v":0},null,null,null,null,null,null,null,null,null,null,null,null,null,null,null,null,null,null,null,null,{"$f":"C39","v":0}]
[null,34,{"$f":"Singles!AB334","v":0},{"$f":"Singles!AC334","v":"TBC"},{"$f":"Singles!AD334","v":"TBC"},{"$f":"Singles!AE334","v":"TBC"},{"$f":"Singles!AF334","v":"TBC"},{"$f":"Singles!AG334","v":"TBC"},{"$f":"Singles!AH334","v":"TBC"},null,{"$f":"Singles!AI334","v":0},{"$f":"Singles!AJ334","v":0},{"$f":"Singles!AK334","v":0},null,null,null,null,null,null,null,null,null,null,null,null,null,null,null,null,null,null,null,null,0]
[null,35,{"$f":"Singles!AB335","v":0},{"$f":"Singles!AC335","v":"TBC"},{"$f":"Singles!AD335","v":"TBC"},{"$f":"Singles!AE335","v":"TBC"},{"$f":"Singles!AF335","v":"TBC"},{"$f":"Singles!AG335","v":"TBC"},{"$f":"Singles!AH335","v":"TBC"},null,{"$f":"Singles!AI335","v":0},{"$f":"Singles!AJ335","v":0},{"$f":"Singles!AK335","v":0},null,null,null,null,null,null,null,null,null,null,null,null,null,null,null,null,null,null,null,null,0]
[null,36,{"$f":"Singles!AB336","v":0},{"$f":"Singles!AC336","v":"TBC"},{"$f":"Singles!AD336","v":"TBC"},{"$f":"Singles!AE336","v":"TBC"},{"$f":"Singles!AF336","v":"TBC"},{"$f":"Singles!AG336","v":"TBC"},{"$f":"Singles!AH336","v":"TBC"},null,{"$f":"Singles!AI336","v":0},{"$f":"Singles!AJ336","v":0},{"$f":"Singles!AK336","v":0},null,null,null,null,null,null,null,null,null,null,null,null,null,null,null,null,null,null,null,null,0]
[null,37,{"$f":"Singles!AB337","v":0},{"$f":"Singles!AC337","v":"TBC"},{"$f":"Singles!AD337","v":"TBC"},{"$f":"Singles!AE337","v":"TBC"},{"$f":"Singles!AF337","v":"TBC"},{"$f":"Singles!AG337","v":"TBC"},{"$f":"Singles!AH337","v":"TBC"},null,{"$f":"Singles!AI337","v":0},{"$f":"Singles!AJ337","v":0},{"$f":"Singles!AK337","v":0},null,null,null,null,null,null,null,null,null,null,null,null,null,null,null,null,null,null,null,null,0]
[null,38,{"$f":"Singles!AB338","v":0},{"$f":"Singles!AC338","v":"TBC"},{"$f":"Singles!AD338","v":"TBC"},{"$f":"Singles!AE338","v":"TBC"},{"$f":"Singles!AF338","v":"TBC"},{"$f":"Singles!AG338","v":"TBC"},{"$f":"Singles!AH338","v":"TBC"},null,{"$f":"Singles!AI338","v":0},{"$f":"Singles!AJ338","v":0},{"$f":"Singles!AK338","v":0},null,null,null,null,null,null,null,null,null,null,null,null,null,null,null,null,null,null,null,null,0]
[null,39,{"$f":"Singles!AB339","v":0},{"$f":"Singles!AC339","v":"TBC"},{"$f":"Singles!AD339","v":"TBC"},{"$f":"Singles!AE339","v":"TBC"},{"$f":"Singles!AF339","v":"TBC"},{"$f":"Singles!AG339","v":"TBC"},{"$f":"Singles!AH339","v":"TBC"},null,{"$f":"Singles!AI339","v":0},{"$f":"Singles!AJ339","v":0},{"$f":"Singles!AK339","v":0},null,null,null,null,null,null,null,null,null,null,null,null,null,null,null,null,null,null,null,null,0]
[null,40,{"$f":"Singles!AB340","v":0},{"$f":"Singles!AC340","v":"TBC"},{"$f":"Singles!AD340","v":"TBC"},{"$f":"Singles!AE340","v":"TBC"},{"$f":"Singles!AF340","v":"TBC"},{"$f":"Singles!AG340","v":"TBC"},{"$f":"Singles!AH340","v":"TBC"},null,{"$f":"Singles!AI340","v":0},{"$f":"Singles!AJ340","v":0},{"$f":"Singles!AK340","v":0},null,null,null,null,null,null,null,null,null,null,null,null,null,null,null,null,null,null,null,null,0]
[null,41,{"$f":"Singles!AB341","v":0},{"$f":"Singles!AC341","v":"TBC"},{"$f":"Singles!AD341","v":"TBC"},{"$f":"Singles!AE341","v":"TBC"},{"$f":"Singles!AF341","v":"TBC"},{"$f":"Singles!AG341","v":"TBC"},{"$f":"Singles!AH341","v":"TBC"},null,{"$f":"Singles!AI341","v":0},{"$f":"Singles!AJ341","v":0},{"$f":"Singles!AK341","v":0},null,null,null,null,null,null,null,null,null,null,null,null,null,null,null,null,null,null,null,null,0]
[null,42,{"$f":"Singles!AB342","v":0},{"$f":"Singles!AC342","v":"TBC"},{"$f":"Singles!AD342","v":"TBC"},{"$f":"Singles!AE342","v":"TBC"},{"$f":"Singles!AF342","v":"TBC"},{"$f":"Singles!AG342","v":"TBC"},{"$f":"Singles!AH342","v":"TBC"},null,{"$f":"Singles!AI342","v":0},{"$f":"Singles!AJ342","v":0},{"$f":"Singles!AK342","v":0},null,null,null,null,null,null,null,null,null,null,null,null,null,null,null,null,null,null,null,null,0]
[null,43,{"$f":"Singles!AB343","v":0},{"$f":"Singles!AC343","v":"TBC"},{"$f":"Singles!AD343","v":"TBC"},{"$f":"Singles!AE343","v":"TBC"},{"$f":"Singles!AF343","v":"TBC"},{"$f":"Singles!AG343","v":"TBC"},{"$f":"Singles!AH343","v":"TBC"},null,{"$f":"Singles!AI343","v":0},{"$f":"Singles!AJ343","v":0},{"$f":"Singles!AK343","v":0},null,null,null,null,null,null,null,null,null,null,null,null,null,null,null,null,null,null,null,null,0]
[null,44,{"$f":"Singles!AB344","v":0},{"$f":"Singles!AC344","v":"TBC"},{"$f":"Singles!AD344","v":"TBC"},{"$f":"Singles!AE344","v":"TBC"},{"$f":"Singles!AF344","v":"TBC"},{"$f":"Singles!AG344","v":"TBC"},{"$f":"Singles!AH344","v":"TBC"},null,{"$f":"Singles!AI344","v":0},{"$f":"Singles!AJ344","v":0},{"$f":"Singles!AK344","v":0},null,null,null,null,null,null,null,null,null,null,null,null,null,null,null,null,null,null,null,null,0]
[null,45,{"$f":"Singles!AB345","v":0},{"$f":"Singles!AC345","v":"TBC"},{"$f":"Singles!AD345","v":"TBC"},{"$f":"Singles!AE345","v":"TBC"},{"$f":"Singles!AF345","v":"TBC"},{"$f":"Singles!AG345","v":"TBC"},{"$f":"Singles!AH345","v":"TBC"},null,{"$f":"Singles!AI345","v":0},{"$f":"Singles!AJ345","v":0},{"$f":"Singles!AK345","v":0},null,null,null,null,null,null,null,null,null,null,null,null,null,null,null,null,null,null,null,null,0]
[null,46,{"$f":"Singles!AB346","v":0},{"$f":"Singles!AC346","v":"TBC"},{"$f":"Singles!AD346","v":"TBC"},{"$f":"Singles!AE346","v":"TBC"},{"$f":"Singles!AF346","v":"TBC"},{"$f":"Singles!AG346","v":"TBC"},{"$f":"Singles!AH346","v":"TBC"},null,{"$f":"Singles!AI346","v":0},{"$f":"Singles!AJ346","v":0},{"$f":"Singles!AK346","v":0},null,null,null,null,null,null,null,null,null,null,null,null,null,null,null,null,null,null,null,null,0]
[null,47,{"$f":"Singles!AB347","v":0},{"$f":"Singles!AC347","v":"TBC"},{"$f":"Singles!AD347","v":"TBC"},{"$f":"Singles!AE347","v":"TBC"},{"$f":"Singles!AF347","v":"TBC"},{"$f":"Singles!AG347","v":"TBC"},{"$f":"Singles!AH347","v":"TBC"},null,{"$f":"Singles!AI347","v":0},{"$f":"Singles!AJ347","v":0},{"$f":"Singles!AK347","v":0},null,null,null,null,null,null,null,null,null,null,null,null,null,null,null,null,null,null,null,null,0]
[null,48,{"$f":"Singles!AB348","v":0},{"$f":"Singles!AC348","v":"TBC"},{"$f":"Singles!AD348","v":"TBC"},{"$f":"Singles!AE348","v":"TBC"},{"$f":"Singles!AF348","v":"TBC"},{"$f":"Singles!AG348","v":"TBC"},{"$f":"Singles!AH348","v":"TBC"},null,{"$f":"Singles!AI348","v":0},{"$f":"Singles!AJ348","v":0},{"$f":"Singles!AK348","v":0},null,null,null,null,null,null,null,null,null,null,null,null,null,null,null,null,null,null,null,null,0]
[null,49,{"$f":"Singles!AB349","v":0},{"$f":"Singles!AC349","v":"TBC"},{"$f":"Singles!AD349","v":"TBC"},{"$f":"Singles!AE349","v":"TBC"},{"$f":"Singles!AF349","v":"TBC"},{"$f":"Singles!AG349","v":"TBC"},{"$f":"Singles!AH349","v":"TBC"},null,{"$f":"Singles!AI349","v":0},{"$f":"Singles!AJ349","v":0},{"$f":"Singles!AK349","v":0},null,null,null,null,null,null,null,null,null,null,null,null,null,null,null,null,null,null,null,null,0]
[null,50,{"$f":"Singles!AB350","v":0},{"$f":"Singles!AC350","v":"TBC"},{"$f":"Singles!AD350","v":"TBC"},{"$f":"Singles!AE350","v":"TBC"},{"$f":"Singles!AF350","v":"TBC"},{"$f":"Singles!AG350","v":"TBC"},{"$f":"Singles!AH350","v":"TBC"},null,{"$f":"Singles!AI350","v":0},{"$f":"Singles!AJ350","v":0},{"$f":"Singles!AK350","v":0},null,null,null,null,null,null,null,null,null,null,null,null,null,null,null,null,null,null,null,null,0]
[null,51,{"$f":"Singles!AB351","v":0},{"$f":"Singles!AC351","v":"TBC"},{"$f":"Singles!AD351","v":"TBC"},{"$f":"Singles!AE351","v":"TBC"},{"$f":"Singles!AF351","v":"TBC"},{"$f":"Singles!AG351","v":"TBC"},{"$f":"Singles!AH351","v":"TBC"},null,{"$f":"Singles!AI351","v":0},{"$f":"Singles!AJ351","v":0},{"$f":"Singles!AK351","v":0},null,null,null,null,null,null,null,null,null,null,null,null,null,null,null,null,null,null,null,null,0]
[null,52,{"$f":"Singles!AB352","v":0},{"$f":"Singles!AC352","v":"TBC"},{"$f":"Singles!AD352","v":"TBC"},{"$f":"Singles!AE352","v":"TBC"},{"$f":"Singles!AF352","v":"TBC"},{"$f":"Singles!AG352","v":"TBC"},{"$f":"Singles!AH352","v":"TBC"},null,{"$f":"Singles!AI352","v":0},{"$f":"Singles!AJ352","v":0},{"$f":"Singles!AK352","v":0},null,null,null,null,null,null,null,null,null,null,null,null,null,null,null,null,null,null,null,null,0]
[null,53,{"$f":"Singles!AB353","v":0},{"$f":"Singles!AC353","v":"TBC"},{"$f":"Singles!AD353","v":"TBC"},{"$f":"Singles!AE353","v":"TBC"},{"$f":"Singles!AF353","v":"TBC"},{"$f":"Singles!AG353","v":"TBC"},{"$f":"Singles!AH353","v":"TBC"},null,{"$f":"Singles!AI353","v":0},{"$f":"Singles!AJ353","v":0},{"$f":"Singles!AK353","v":0},null,null,null,null,null,null,null,null,null,null,null,null,null,null,null,null,null,null,null,null,0]
[null,54,{"$f":"Singles!AB354","v":0},{"$f":"Singles!AC354","v":"TBC"},{"$f":"Singles!AD354","v":"TBC"},{"$f":"Singles!AE354","v":"TBC"},{"$f":"Singles!AF354","v":"TBC"},{"$f":"Singles!AG354","v":"TBC"},{"$f":"Singles!AH354","v":"TBC"},null,{"$f":"Singles!AI354","v":0},{"$f":"Singles!AJ354","v":0},{"$f":"Singles!AK354","v":0},null,null,null,null,null,null,null,null,null,null,null,null,null,null,null,null,null,null,null,null,0]
[null,55,{"$f":"Singles!AB355","v":0},{"$f":"Singles!AC355","v":"TBC"},{"$f":"Singles!AD355","v":"TBC"},{"$f":"Singles!AE355","v":"TBC"},{"$f":"Singles!AF355","v":"TBC"},{"$f":"Singles!AG355","v":"TBC"},{"$f":"Singles!AH355","v":"TBC"},null,{"$f":"Singles!AI355","v":0},{"$f":"Singles!AJ355","v":0},{"$f":"Singles!AK355","v":0},null,null,null,null,null,null,null,null,null,null,null,null,null,null,null,null,null,null,null,null,0]
[null,56,{"$f":"Singles!AB356","v":0},{"$f":"Singles!AC356","v":"TBC"},{"$f":"Singles!AD356","v":"TBC"},{"$f":"Singles!AE356","v":"TBC"},{"$f":"Singles!AF356","v":"TBC"},{"$f":"Singles!AG356","v":"TBC"},{"$f":"Singles!AH356","v":"TBC"},null,{"$f":"Singles!AI356","v":0},{"$f":"Singles!AJ356","v":0},{"$f":"Singles!AK356","v":0},null,null,null,null,null,null,null,null,null,null,null,null,null,null,null,null,null,null,null,null,0]
[null,57,{"$f":"Singles!AB357","v":0},{"$f":"Singles!AC357","v":"TBC"},{"$f":"Singles!AD357","v":"TBC"},{"$f":"Singles!AE357","v":"TBC"},{"$f":"Singles!AF357","v":"TBC"},{"$f":"Singles!AG357","v":"TBC"},{"$f":"Singles!AH357","v":"TBC"},null,{"$f":"Singles!AI357","v":0},{"$f":"Singles!AJ357","v":0},{"$f":"Singles!AK357","v":0},null,null,null,null,null,null,null,null,null,null,null,null,null,null,null,null,null,null,null,null,0]
[null,58,{"$f":"Singles!AB358","v":0},{"$f":"Singles!AC358","v":"TBC"},{"$f":"Singles!AD358","v":"TBC"},{"$f":"Singles!AE358","v":"TBC"},{"$f":"Singles!AF358","v":"TBC"},{"$f":"Singles!AG358","v":"TBC"},{"$f":"Singles!AH358","v":"TBC"},null,{"$f":"Singles!AI358","v":0},{"$f":"Singles!AJ358","v":0},{"$f":"Singles!AK358","v":0},null,null,null,null,null,null,null,null,null,null,null,null,null,null,null,null,null,null,null,null,0]
[null,59,{"$f":"Singles!AB359","v":0},{"$f":"Singles!AC359","v":"TBC"},{"$f":"Singles!AD359","v":"TBC"},{"$f":"Singles!AE359","v":"TBC"},{"$f":"Singles!AF359","v":"TBC"},{"$f":"Singles!AG359","v":"TBC"},{"$f":"Singles!AH359","v":"TBC"},null,{"$f":"Singles!AI359","v":0},{"$f":"Singles!AJ359","v":0},{"$f":"Singles!AK359","v":0},null,null,null,null,null,null,null,null,null,null,null,null,null,null,null,null,null,null,null,null,0]
[null,60,{"$f":"Singles!AB360","v":0},{"$f":"Singles!AC360","v":"TBC"},{"$f":"Singles!AD360","v":"TBC"},{"$f":"Singles!AE360","v":"TBC"},{"$f":"Singles!AF360","v":"TBC"},{"$f":"Singles!AG360","v":"TBC"},{"$f":"Singles!AH360","v":"TBC"},null,{"$f":"Singles!AI360","v":0},{"$f":"Singles!AJ360","v":0},{"$f":"Singles!AK360","v":0},null,null,null,null,null,null,null,null,null,null,null,null,null,null,null,null,null,null,null,null,0]
[null,61,{"$f":"Singles!AB361","v":0},{"$f":"Singles!AC361","v":"TBC"},{"$f":"Singles!AD361","v":"TBC"},{"$f":"Singles!AE361","v":"TBC"},{"$f":"Singles!AF361","v":"TBC"},{"$f":"Singles!AG361","v":"TBC"},{"$f":"Singles!AH361","v":"TBC"},null,{"$f":"Singles!AI361","v":0},{"$f":"Singles!AJ361","v":0},{"$f":"Singles!AK361","v":0},null,null,null,null,null,null,null,null,null,null,null,null,null,null,null,null,null,null,null,null,0]
[null,62,{"$f":"Singles!AB362","v":0},{"$f":"Singles!AC362","v":"TBC"},{"$f":"Singles!AD362","v":"TBC"},{"$f":"Singles!AE362","v":"TBC"},{"$f":"Singles!AF362","v":"TBC"},{"$f":"Singles!AG362","v":"TBC"},{"$f":"Singles!AH362","v":"TBC"},null,{"$f":"Singles!AI362","v":0},{"$f":"Singles!AJ362","v":0},{"$f":"Singles!AK362","v":0},null,null,null,null,null,null,null,null,null,null,null,null,null,null,null,null,null,null,null,null,0]
[null,63,{"$f":"Singles!AB363","v":0},{"$f":"Singles!AC363","v":"TBC"},{"$f":"Singles!AD363","v":"TBC"},{"$f":"Singles!AE363","v":"TBC"},{"$f":"Singles!AF363","v":"TBC"},{"$f":"Singles!AG363","v":"TBC"},{"$f":"Singles!AH363","v":"TBC"},null,{"$f":"Singles!AI363","v":0},{"$f":"Singles!AJ363","v":0},{"$f":"Singles!AK363","v":0},null,null,null,null,null,null,null,null,null,null,null,null,null,null,null,null,null,null,null,null,0]
[null,64,{"$f":"Singles!AB364","v":0},{"$f":"Singles!AC364","v":"TBC"},{"$f":"Singles!AD364","v":"TBC"},{"$f":"Singles!AE364","v":"TBC"},{"$f":"Singles!AF364","v":"TBC"},{"$f":"Singles!AG364","v":"TBC"},{"$f":"Singles!AH364","v":"TBC"},null,{"$f":"Singles!AI364","v":0},{"$f":"Singles!AJ364","v":0},{"$f":"Singles!AK364","v":0},null,null,null,null,null,null,null,null,null,null,null,null,null,null,null,null,null,null,null,null,0]
[null,65,{"$f":"Singles!AB365","v":0},{"$f":"Singles!AC365","v":"TBC"},{"$f":"Singles!AD365","v":"TBC"},{"$f":"Singles!AE365","v":"TBC"},{"$f":"Singles!AF365","v":"TBC"},{"$f":"Singles!AG365","v":"TBC"},{"$f":"Singles!AH365","v":"TBC"},null,{"$f":"Singles!AI365","v":0},{"$f":"Singles!AJ365","v":0},{"$f":"Singles!AK365","v":0},null,null,null,null,null,null,null,null,null,null,null,null,null,null,null,null,null,null,null,null,0]
[null,66,{"$f":"Singles!AB366","v":0},{"$f":"Singles!AC366","v":"TBC"},{"$f":"Singles!AD366","v":"TBC"},{"$f":"Singles!AE366","v":"TBC"},{"$f":"Singles!AF366","v":"TBC"},{"$f":"Singles!AG366","v":"TBC"},{"$f":"Singles!AH366","v":"TBC"},null,{"$f":"Singles!AI366","v":0},{"$f":"Singles!AJ366","v":0},{"$f":"Singles!AK366","v":0},null,null,null,null,null,null,null,null,null,null,null,null,null,null,null,null,null,null,null,null,0]
[null,67,{"$f":"Singles!AB367","v":0},{"$f":"Singles!AC367","v":"TBC"},{"$f":"Singles!AD367","v":"TBC"},{"$f":"Singles!AE367","v":"TBC"},{"$f":"Singles!AF367","v":"TBC"},{"$f":"Singles!AG367","v":"TBC"},{"$f":"Singles!AH367","v":"TBC"},null,{"$f":"Singles!AI367","v":0},{"$f":"Singles!AJ367","v":0},{"$f":"Singles!AK367","v":0},null,null,null,null,null,null,null,null,null,null,null,null,null,null,null,null,null,null,null,null,0]
[null,68,{"$f":"Singles!AB368","v":0},{"$f":"Singles!AC368","v":"TBC"},{"$f":"Singles!AD368","v":"TBC"},{"$f":"Singles!AE368","v":"TBC"},{"$f":"Singles!AF368","v":"TBC"},{"$f":"Singles!AG368","v":"TBC"},{"$f":"Singles!AH368","v":"TBC"},null,{"$f":"Singles!AI368","v":0},{"$f":"Singles!AJ368","v":0},{"$f":"Singles!AK368","v":0},null,null,null,null,null,null,null,null,null,null,null,null,null,null,null,null,null,null,null,null,0]
[null,69,{"$f":"Singles!AB369","v":0},{"$f":"Singles!AC369","v":"TBC"},{"$f":"Singles!AD369","v":"TBC"},{"$f":"Singles!AE369","v":"TBC"},{"$f":"Singles!AF369","v":"TBC"},{"$f":"Singles!AG369","v":"TBC"},{"$f":"Singles!AH369","v":"TBC"},null,{"$f":"Singles!AI369","v":0},{"$f":"Singles!AJ369","v":0},{"$f":"Singles!AK369","v":0},null,null,null,null,null,null,null,null,null,null,null,null,null,null,null,null,null,null,null,null,0]
[null,70,{"$f":"Singles!AB370","v":0},{"$f":"Singles!AC370","v":"TBC"},{"$f":"Singles!AD370","v":"TBC"},{"$f":"Singles!AE370","v":"TBC"},{"$f":"Singles!AF370","v":"TBC"},{"$f":"Singles!AG370","v":"TBC"},{"$f":"Singles!AH370","v":"TBC"},null,{"$f":"Singles!AI370","v":0},{"$f":"Singles!AJ370","v":0},{"$f":"Singles!AK370","v":0},null,null,null,null,null,null,null,null,null,null,null,null,null,null,null,null,null,null,null,null,0]
[null,71,{"$f":"Singles!AB371","v":0},{"$f":"Singles!AC371","v":"TBC"},{"$f":"Singles!AD371","v":"TBC"},{"$f":"Singles!AE371","v":"TBC"},{"$f":"Singles!AF371","v":"TBC"},{"$f":"Singles!AG371","v":"TBC"},{"$f":"Singles!AH371","v":"TBC"},null,{"$f":"Singles!AI371","v":0},{"$f":"Singles!AJ371","v":0},{"$f":"Singles!AK371","v":0},null,null,null,null,null,null,null,null,null,null,null,null,null,null,null,null,null,null,null,null,0]
[null,72,{"$f":"Singles!AB372","v":0},{"$f":"Singles!AC372","v":"TBC"},{"$f":"Singles!AD372","v":"TBC"},{"$f":"Singles!AE372","v":"TBC"},{"$f":"Singles!AF372","v":"TBC"},{"$f":"Singles!AG372","v":"TBC"},{"$f":"Singles!AH372","v":"TBC"},null,{"$f":"Singles!AI372","v":0},{"$f":"Singles!AJ372","v":0},{"$f":"Singles!AK372","v":0},null,null,null,null,null,null,null,null,null,null,null,null,null,null,null,null,null,null,null,null,0]
[null,73,{"$f":"Singles!AB373","v":0},{"$f":"Singles!AC373","v":"TBC"},{"$f":"Singles!AD373","v":"TBC"},{"$f":"Singles!AE373","v":"TBC"},{"$f":"Singles!AF373","v":"TBC"},{"$f":"Singles!AG373","v":"TBC"},{"$f":"Singles!AH373","v":"TBC"},null,{"$f":"Singles!AI373","v":0},{"$f":"Singles!AJ373","v":0},{"$f":"Singles!AK373","v":0},null,null,null,null,null,null,null,null,null,null,null,null,null,null,null,null,null,null,null,null,0]
[null,74,{"$f":"Singles!AB374","v":0},{"$f":"Singles!AC374","v":"TBC"},{"$f":"Singles!AD374","v":"TBC"},{"$f":"Singles!AE374","v":"TBC"},{"$f":"Singles!AF374","v":"TBC"},{"$f":"Singles!AG374","v":"TBC"},{"$f":"Singles!AH374","v":"TBC"},null,{"$f":"Singles!AI374","v":0},{"$f":"Singles!AJ374","v":0},{"$f":"Singles!AK374","v":0},null,null,null,null,null,null,null,null,null,null,null,null,null,null,null,null,null,null,null,null,0]
[null,75,{"$f":"Singles!AB375","v":0},{"$f":"Singles!AC375","v":"TBC"},{"$f":"Singles!AD375","v":"TBC"},{"$f":"Singles!AE375","v":"TBC"},{"$f":"Singles!AF375","v":"TBC"},{"$f":"Singles!AG375","v":"TBC"},{"$f":"Singles!AH375","v":"TBC"},null,{"$f":"Singles!AI375","v":0},{"$f":"Singles!AJ375","v":0},{"$f":"Singles!AK375","v":0},null,null,null,null,null,null,null,null,null,null,null,null,null,null,null,null,null,null,null,null,0]
[{"$f":"$D$7","v":"DCU"}]

{"sheet":"BAF","index":11,"n_rows":82,"n_cols":34,"rows_kept":82,"cut":false,"hidden":false,"merged":[[1,13,80,13],[81,0,81,13],[1,0,80,0],[0,0,0,13],[1,4,1,8],[1,10,1,12],[1,1,3,3],[2,10,3,10],[2,11,3,11],[2,12,3,12],[4,1,4,8],[4,10,4,12],[1,9,80,9]]}
[{"$f":"$D$7","v":"DCU"}]
["DCU","Female Advanced Barebow",null,null,"Host Club",null,null,null,null,{"$f":"$D$7","v":"DCU"},"Scores",null,null,"DCU",null,null,null,null,null,null,null,null,null,null,null,null,null,null,null,null,null,null,null,{"$f":"AH7","v":"Sarah Howard"}]
[null,null,null,null,{"$f":"Entries!K6","v":"UL IV"},{"$f":"Entries!K7","v":"DkIT IV"},{"$f":"Entries!K8","v":"GMIT IV"},{"$f":"Entries!K9","v":"DCU IV"},{"$f":"Entries!K10","v":"NUIG IV"},null,"Total","Lowest","League"]
[]
[null,"DCU",null,null,null,null,null,null,null,null,"DCU"]
[null,null,"Name","College",{"$f":"Entries!K6","v":"UL IV"},{"$f":"Entries!K7","v":"DkIT IV"},{"$f":"Entries!K8","v":"GMIT IV"},{"$f":"Entries!K9","v":"DCU IV"},{"$f":"Entries!K10","v":"NUIG IV"},null,"Total","Lowest","League total"]
[null,1,{"$f":"Singles!AO301","v":"Sarah Howard"},{"$f":"Singles!AP301","v":"DCU"},{"$f":"Singles!AQ301","v":296},{"$f":"Singles!AR301","v":357},{"$f":"Singles!AS301","v":0},{"$f":"Singles!AT301","v":296},{"$f":"Singles!AU301","v":342},null,{"$f":"Singles!AV301","v":1291},{"$f":"Singles!AW301","v":0},{"$f":"Singles!AX301","v":1291.0357342},null,null,null,null,null,null,null,null,null,null,null,null,null,null,null,null,null,null,null,null,{"$f":"C7","v":"Sarah Howard"}]
[null,2,{"$f":"Singles!AO302","v":"Raizel Burstein-Frame"},{"$f":"Singles!AP302","v":"NUIG"},{"$f":"Singles!AQ302","v":159},{"$f":"Singles!AR302","v":159},{"$f":"Singles!AS302","v":174},{"$f":"Singles!AT302","v":0},{"$f":"Singles!AU302","v":0},null,{"$f":"Singles!AV302","v":492},{"$f":"Singles!AW302","v":0},{"$f":"Singles!AX302","v":492.0174159},null,null,null,null,null,null,null,null,null,null,null,null,null,null,null,null,null,null,null,null,"Raizel Burstein-Frame"]
[null,3,{"$f":"Singles!AO303","v":"Aoife Monaghan"},{"$f":"Singles!AP303","v":"GMIT"},{"$f":"Singles!AQ303","v":0},{"$f":"Singles!AR303","v":0},{"$f":"Singles!AS303","v":0},{"$f":"Singles!AT303","v":156},{"$f":"Singles!AU303","v":307},null,{"$f":"Singles!AV303","v":463},{"$f":"Singles!AW303","v":0},{"$f":"Singles!AX303","v":463.03071560000001},null,null,null,null,null,null,null,null,null,null,null,null,null,null,null,null,null,null,null,null,"Aoife Monaghan"]
[null,4,{"$f":"Singles!AO304","v":"Nada Khaled-Abdo"},{"$f":"Singles!AP304","v":"NUIG"},{"$f":"Singles!AQ304","v":367},{"$f":"Singles!AR304","v":0},{"$f":"Singles!AS304","v":0},{"$f":"Singles!AT304","v":0},{"$f":"Singles!AU304","v":0},null,{"$f":"Singles!AV304","v":367},{"$f":"Singles!AW304","v":0},{"$f":"Singles!AX304","v":367.0367},null,null,null,null,null,null,null,null,null,null,null,null,null,null,null,null,null,null,null,null,"Nada Khaled-Abdo"]
[null,5,{"$f":"Singles!AO305","v":"Emily Flanagan"},{"$f":"Singles!AP305","v":"NUIG"},{"$f":"Singles!AQ305","v":286},{"$f":"Singles!AR305","v":0},{"$f":"Singles!AS305","v":0},{"$f":"Singles!AT305","v":0},{"$f":"Singles!AU305","v":0},null,{"$f":"Singles!AV305","v":286},{"$f":"Singles!AW305","v":0},{"$f":"Singles!AX305","v":286.02859999999998},null,null,null,null,null,null,null,null,null,null,null,null,null,null,null,null,null,null,null,null,"Emily Flanagan"]
[null,6,{"$f":"Singles!AO306","v":"Ellis O'Sulliven"},{"$f":"Singles!AP306","v":"UCD"},{"$f":"Singles!AQ306","v":0},{"$f":"Singles!AR306","v":0},{"$f":"Singles!AS306","v":0},{"$f":"Singles!AT306","v":157},{"$f":"Singles!AU306","v":0},null,{"$f":"Singles!AV306","v":157},{"$f":"Singles!AW306","v":0},{"$f":"Singles!AX306","v":157.01570000000001},null,null,null,null,null,null,null,null,null,null,null,null,null,null,null,null,null,null,null,null,"Ellis O'Sulliven"]
[null,7,{"$f":"Singles!AO307","v":0},{"$f":"Singles!AP307","v":"TBC"},{"$f":"Singles!AQ307","v":"TBC"},{"$f":"Singles!AR307","v":"TBC"},{"$f":"Singles!AS307","v":"TBC"},{"$f":"Singles!AT307","v":"TBC"},{"$f":"Singles!AU307","v":"TBC"},null,{"$f":"Singles!AV307","v":0},{"$f":"Singles!AW307","v":0},{"$f":"Singles!AX307","v":0},null,null,null,null,null,null,null,null,null,null,null,null,null,null,null,null,null,null,null,null,0]
[null,8,{"$f":"Singles!AO308","v":0},{"$f":"Singles!AP308","v":"TBC"},{"$f":"Singles!AQ308","v":"TBC"},{"$f":"Singles!AR308","v":"TBC"},{"$f":"Singles!AS308","v":"TBC"},{"$f":"Singles!AT308","v":"TBC"},{"$f":"Singles!AU308","v":"TBC"},null,{"$f":"Singles!AV308","v":0},{"$f":"Singles!AW308","v":0},{"$f":"Singles!AX308","v":0},null,null,null,null,null,null,null,null,null,null,null,null,null,null,null,null,null,null,null,null,0]
[null,9,{"$f":"Singles!AO309","v":0},{"$f":"Singles!AP309","v":"TBC"},{"$f":"Singles!AQ309","v":"TBC"},{"$f":"Singles!AR309","v":"TBC"},{"$f":"Singles!AS309","v":"TBC"},{"$f":"Singles!AT309","v":"TBC"},{"$f":"Singles!AU309","v":"TBC"},null,{"$f":"Singles!AV309","v":0},{"$f":"Singles!AW309","v":0},{"$f":"Singles!AX309","v":0},null,null,null,null,null,null,null,null,null,null,null,null,null,null,null,null,null,null,null,null,0]
[null,10,{"$f":"Singles!AO310","v":0},{"$f":"Singles!AP310","v":"TBC"},{"$f":"Singles!AQ310","v":"TBC"},{"$f":"Singles!AR310","v":"TBC"},{"$f":"Singles!AS310","v":"TBC"},{"$f":"Singles!AT310","v":"TBC"},{"$f":"Singles!AU310","v":"TBC"},null,{"$f":"Singles!AV310","v":0},{"$f":"Singles!AW310","v":0},{"$f":"Singles!AX310","v":0},null,null,null,null,null,null,null,null,null,null,null,null,null,null,null,null,null,null,null,null,0]
[null,11,{"$f":"Singles!AO311","v":0},{"$f":"Singles!AP311","v":"TBC"},{"$f":"Singles!AQ311","v":"TBC"},{"$f":"Singles!AR311","v":"TBC"},{"$f":"Singles!AS311","v":"TBC"},{"$f":"Singles!AT311","v":"TBC"},{"$f":"Singles!AU311","v":"TBC"},null,{"$f":"Singles!AV311","v":0},{"$f":"Singles!AW311","v":0},{"$f":"Singles!AX311","v":0},null,null,null,null,null,null,null,null,null,null,null,null,null,null,null,null,null,null,null,null,0]
[null,12,{"$f":"Singles!AO312","v":0},{"$f":"Singles!AP312","v":"TBC"},{"$f":"Singles!AQ312","v":"TBC"},{"$f":"Singles!AR312","v":"TBC"},{"$f":"Singles!AS312","v":"TBC"},{"$f":"Singles!AT312","v":"TBC"},{"$f":"Singles!AU312","v":"TBC"},null,{"$f":"Singles!AV312","v":0},{"$f":"Singles!AW312","v":0},{"$f":"Singles!AX312","v":0},null,null,null,null,null,null,null,null,null,null,null,null,null,null,null,null,null,null,null,null,0]
[null,13,{"$f":"Singles!AO313","v":0},{"$f":"Singles!AP313","v":"TBC"},{"$f":"Singles!AQ313","v":"TBC"},{"$f":"Singles!AR313","v":"TBC"},{"$f":"Singles!AS313","v":"TBC"},{"$f":"Singles!AT313","v":"TBC"},{"$f":"Singles!AU313","v":"TBC"},null,{"$f":"Singles!AV313","v":0},{"$f":"Singles!AW313","v":0},{"$f":"Singles!AX313","v":0},null,null,null,null,null,null,null,null,null,null,null,null,null,null,null,null,null,null,null,null,0]
[null,14,{"$f":"Singles!AO314","v":0},{"$f":"Singles!AP314","v":"TBC"},{"$f":"Singles!AQ314","v":"TBC"},{"$f":"Singles!AR314","v":"TBC"},{"$f":"Singles!AS314","v":"TBC"},{"$f":"Singles!AT314","v":"TBC"},{"$f":"Singles!AU314","v":"TBC"},null,{"$f":"Singles!AV314","v":0},{"$f":"Singles!AW314","v":0},{"$f":"Singles!AX314","v":0},null,null,null,null,null,null,null,null,null,null,null,null,null,null,null,null,null,null,null,null,0]
[null,15,{"$f":"Singles!AO315","v":0},{"$f":"Singles!AP315","v":"TBC"},{"$f":"Singles!AQ315","v":"TBC"},{"$f":"Singles!AR315","v":"TBC"},{"$f":"Singles!AS315","v":"TBC"},{"$f":"Singles!AT315","v":"TBC"},{"$f":"Singles!AU315","v":"TBC"},null,{"$f":"Singles!AV315","v":0},{"$f":"Singles!AW315","v":0},{"$f":"Singles!AX315","v":0},null,null,null,null,null,null,null,null,null,null,null,null,null,null,null,null,null,null,null,null,0]
[null,16,{"$f":"Singles!AO316","v":0},{"$f":"Singles!AP316","v":"TBC"},{"$f":"Singles!AQ316","v":"TBC"},{"$f":"Singles!AR316","v":"TBC"},{"$f":"Singles!AS316","v":"TBC"},{"$f":"Singles!AT316","v":"TBC"},{"$f":"Singles!AU316","v":"TBC"},null,{"$f":"Singles!AV316","v":0},{"$f":"Singles!AW316","v":0},{"$f":"Singles!AX316","v":0},null,null,null,null,null,null,null,null,null,null,null,null,null,null,null,null,null,null,null,null,0]
[null,17,{"$f":"Singles!AO317","v":0},{"$f":"Singles!AP317","v":"TBC"},{"$f":"Singles!AQ317","v":"TBC"},{"$f":"Singles!AR317","v":"TBC"},{"$f":"Singles!AS317","v":"TBC"},{"$f":"Singles!AT317","v":"TBC"},{"$f":"Singles!AU317","v":"TBC"},null,{"$f":"Singles!AV317","v":0},{"$f":"Singles!AW317","v":0},{"$f":"Singles!AX317","v":0},null,null,null,null,null,null,null,null,null,null,null,null,null,null,null,null,null,null,null,null,0]
[null,18,{"$f":"Singles!AO318","v":0},{"$f":"Singles!AP318","v":"TBC"},{"$f":"Singles!AQ318","v":"TBC"},{"$f":"Singles!AR318","v":"TBC"},{"$f":"Singles!AS318","v":"TBC"},{"$f":"Singles!AT318","v":"TBC"},{"$f":"Singles!AU318","v":"TBC"},null,{"$f":"Singles!AV318","v":0},{"$f":"Singles!AW318","v":0},{"$f":"Singles!AX318","v":0},null,null,null,null,null,null,null,null,null,null,null,null,null,null,null,null,null,null,null,null,0]
[null,19,{"$f":"Singles!AO319","v":0},{"$f":"Singles!AP319","v":"TBC"},{"$f":"Singles!AQ319","v":"TBC"},{"$f":"Singles!AR319","v":"TBC"},{"$f":"Singles!AS319","v":"TBC"},{"$f":"Singles!AT319","v":"TBC"},{"$f":"Singles!AU319","v":"TBC"},null,{"$f":"Singles!AV319","v":0},{"$f":"Singles!AW319","v":0},{"$f":"Singles!AX319","v":0},null,null,null,null,null,null,null,null,null,null,null,null,null,null,null,null,null,null,null,null,0]
[null,20,{"$f":"Singles!AO320","v":0},{"$f":"Singles!AP320","v":"TBC"},{"$f":"Singles!AQ320","v":"TBC"},{"$f":"Singles!AR320","v":"TBC"},{"$f":"Singles!AS320","v":"TBC"},{"$f":"Singles!AT320","v":"TBC"},{"$f":"Singles!AU320","v":"TBC"},null,{"$f":"Singles!AV320","v":0},{"$f":"Singles!AW320","v":0},{"$f":"Singles!AX320","v":0},null,null,null,null,null,null,null,null,null,null,null,null,null,null,null,null,null,null,null,null,0]
[null,21,{"$f":"Singles!AO321","v":0},{"$f":"Singles!AP321","v":"TBC"},{"$f":"Singles!AQ321","v":"TBC"},{"$f":"Singles!AR321","v":"TBC"},{"$f":"Singles!AS321","v":"TBC"},{"$f":"Singles!AT321","v":"TBC"},{"$f":"Singles!AU321","v":"TBC"},null,{"$f":"Singles!AV321","v":0},{"$f":"Singles!AW321","v":0},{"$f":"Singles!AX321","v":0},null,null,null,null,null,null,null,null,null,null,null,null,null,null,null,null,null,null,null,null,0]
[null,22,{"$f":"Singles!AO322","v":0},{"$f":"Singles!AP322","v":"TBC"},{"$f":"Singles!AQ322","v":"TBC"},{"$f":"Singles!AR322","v":"TBC"},{"$f":"Singles!AS322","v":"TBC"},{"$f":"Singles!AT322","v":"TBC"},{"$f":"Singles!AU322","v":"TBC"},null,{"$f":"Singles!AV322","v":0},{"$f":"Singles!AW322","v":0},{"$f":"Singles!AX322","v":0},null,null,null,null,null,null,null,null,null,null,null,null,null,null,null,null,null,null,null,null,0]
[null,23,{"$f":"Singles!AO323","v":0},{"$f":"Singles!AP323","v":"TBC"},{"$f":"Singles!AQ323","v":"TBC"},{"$f":"Singles!AR323","v":"TBC"},{"$f":"Singles!AS323","v":"TBC"},{"$f":"Singles!AT323","v":"TBC"},{"$f":"Singles!AU323","v":"TBC"},null,{"$f":"Singles!AV323","v":0},{"$f":"Singles!AW323","v":0},{"$f":"Singles!AX323","v":0},null,null,null,null,null,null,null,null,null,null,null,null,null,null,null,null,null,null,null,null,0]
[null,24,{"$f":"Singles!AO324","v":0},{"$f":"Singles!AP324","v":"TBC"},{"$f":"Singles!AQ324","v":"TBC"},{"$f":"Singles!AR324","v":"TBC"},{"$f":"Singles!AS324","v":"TBC"},{"$f":"Singles!AT324","v":"TBC"},{"$f":"Singles!AU324","v":"TBC"},null,{"$f":"Singles!AV324","v":0},{"$f":"Singles!AW324","v":0},{"$f":"Singles!AX324","v":0},null,null,null,null,null,null,null,null,null,null,null,null,null,null,null,null,null,null,null,null,0]
[null,25,{"$f":"Singles!AO325","v":0},{"$f":"Singles!AP325","v":"TBC"},{"$f":"Singles!AQ325","v":"TBC"},{"$f":"Singles!AR325","v":"TBC"},{"$f":"Singles!AS325","v":"TBC"},{"$f":"Singles!AT325","v":"TBC"},{"$f":"Singles!AU325","v":"TBC"},null,{"$f":"Singles!AV325","v":0},{"$f":"Singles!AW325","v":0},{"$f":"Singles!AX325","v":0},null,null,null,null,null,null,null,null,null,null,null,null,null,null,null,null,null,null,null,null,0]
[null,26,{"$f":"Singles!AO326","v":0},{"$f":"Singles!AP326","v":"TBC"},{"$f":"Singles!AQ326","v":"TBC"},{"$f":"Singles!AR326","v":"TBC"},{"$f":"Singles!AS326","v":"TBC"},{"$f":"Singles!AT326","v":"TBC"},{"$f":"Singles!AU326","v":"TBC"},null,{"$f":"Singles!AV326","v":0},{"$f":"Singles!AW326","v":0},{"$f":"Singles!AX326","v":0},null,null,null,null,null,null,null,null,null,null,null,null,null,null,null,null,null,null,null,null,0]
[null,27,{"$f":"Singles!AO327","v":0},{"$f":"Singles!AP327","v":"TBC"},{"$f":"Singles!AQ327","v":"TBC"},{"$f":"Singles!AR327","v":"TBC"},{"$f":"Singles!AS327","v":"TBC"},{"$f":"Singles!AT327","v":"TBC"},{"$f":"Singles!AU327","v":"TBC"},null,{"$f":"Singles!AV327","v":0},{"$f":"Singles!AW327","v":0},{"$f":"Singles!AX327","v":0},null,null,null,null,null,null,null,null,null,null,null,null,null,null,null,null,null,null,null,null,0]
[null,28,{"$f":"Singles!AO328","v":0},{"$f":"Singles!AP328","v":"TBC"},{"$f":"Singles!AQ328","v":"TBC"},{"$f":"Singles!AR328","v":"TBC"},{"$f":"Singles!AS328","v":"TBC"},{"$f":"Singles!AT328","v":"TBC"},{"$f":"Singles!AU328","v":"TBC"},null,{"$f":"Singles!AV328","v":0},{"$f":"Singles!AW328","v":0},{"$f":"Singles!AX328","v":0},null,null,null,null,null,null,null,null,null,null,null,null,null,null,null,null,null,null,null,null,0]
[null,29,{"$f":"Singles!AO329","v":0},{"$f":"Singles!AP329","v":"TBC"},{"$f":"Singles!AQ329","v":"TBC"},{"$f":"Singles!AR329","v":"TBC"},{"$f":"Singles!AS329","v":"TBC"},{"$f":"Singles!AT329","v":"TBC"},{"$f":"Singles!AU329","v":"TBC"},null,{"$f":"Singles!AV329","v":0},{"$f":"Singles!AW329","v":0},{"$f":"Singles!AX329","v":0},null,null,null,null,null,null,null,null,null,null,null,null,null,null,null,null,null,null,null,null,0]
[null,30,{"$f":"Singles!AO330","v":0},{"$f":"Singles!AP330","v":"TBC"},{"$f":"Singles!AQ330","v":"TBC"},{"$f":"Singles!AR330","v":"TBC"},{"$f":"Singles!AS330","v":"TBC"},{"$f":"Singles!AT330","v":"TBC"},{"$f":"Singles!AU330","v":"TBC"},null,{"$f":"Singles!AV330","v":0},{"$f":"Singles!AW330","v":0},{"$f":"Singles!AX330","v":0},null,null,null,null,null,null,null,null,null,null,null,null,null,null,null,null,null,null,null,null,0]
[null,31,{"$f":"Singles!AO331","v":0},{"$f":"Singles!AP331","v":"TBC"},{"$f":"Singles!AQ331","v":"TBC"},{"$f":"Singles!AR331","v":"TBC"},{"$f":"Singles!AS331","v":"TBC"},{"$f":"Singles!AT331","v":"TBC"},{"$f":"Singles!AU331","v":"TBC"},null,{"$f":"Singles!AV331","v":0},{"$f":"Singles!AW331","v":0},{"$f":"Singles!AX331","v":0},null,null,null,null,null,null,null,null,null,null,null,null,null,null,null,null,null,null,null,null,0]
[null,32,{"$f":"Singles!AO332","v":0},{"$f":"Singles!AP332","v":"TBC"},{"$f":"Singles!AQ332","v":"TBC"},{"$f":"Singles!AR332","v":"TBC"},{"$f":"Singles!AS332","v":"TBC"},{"$f":"Singles!AT332","v":"TBC"},{"$f":"Singles!AU332","v":"TBC"},null,{"$f":"Singles!AV332","v":0},{"$f":"Singles!AW332","v":0},{"$f":"Singles!AX332","v":0},null,null,null,null,null,null,null,null,null,null,null,null,null,null,null,null,null,null,null,null,0]
[null,33,{"$f":"Singles!AO333","v":0},{"$f":"Singles!AP333","v":"TBC"},{"$f":"Singles!AQ333","v":"TBC"},{"$f":"Singles!AR333","v":"TBC"},{"$f":"Singles!AS333","v":"TBC"},{"$f":"Singles!AT333","v":"TBC"},{"$f":"Singles!AU333","v":"TBC"},null,{"$f":"Singles!AV333","v":0},{"$f":"Singles!AW333","v":0},{"$f":"Singles!AX333","v":0},null,null,null,null,null,null,null,null,null,null,null,null,null,null,null,null,null,null,null,null,{"$f":"C39","v":0}]
[null,34,{"$f":"Singles!AO334","v":0},{"$f":"Singles!AP334","v":"TBC"},{"$f":"Singles!AQ334","v":"TBC"},{"$f":"Singles!AR334","v":"TBC"},{"$f":"Singles!AS334","v":"TBC"},{"$f":"Singles!AT334","v":"TBC"},{"$f":"Singles!AU334","v":"TBC"},null,{"$f":"Singles!AV334","v":0},{"$f":"Singles!AW334","v":0},{"$f":"Singles!AX334","v":0},null,null,null,null,null,null,null,null,null,null,null,null,null,null,null,null,null,null,null,null,0]
[null,35,{"$f":"Singles!AO335","v":0},{"$f":"Singles!AP335","v":"TBC"},{"$f":"Singles!AQ335","v":"TBC"},{"$f":"Singles!AR335","v":"TBC"},{"$f":"Singles!AS335","v":"TBC"},{"$f":"Singles!AT335","v":"TBC"},{"$f":"Singles!AU335","v":"TBC"},null,{"$f":"Singles!AV335","v":0},{"$f":"Singles!AW335","v":0},{"$f":"Singles!AX335","v":0},null,null,null,null,null,null,null,null,null,null,null,null,null,null,null,null,null,null,null,null,0]
[null,36,{"$f":"Singles!AO336","v":0},{"$f":"Singles!AP336","v":"TBC"},{"$f":"Singles!AQ336","v":"TBC"},{"$f":"Singles!AR336","v":"TBC"},{"$f":"Singles!AS336","v":"TBC"},{"$f":"Singles!AT336","v":"TBC"},{"$f":"Singles!AU336","v":"TBC"},null,{"$f":"Singles!AV336","v":0},{"$f":"Singles!AW336","v":0},{"$f":"Singles!AX336","v":0},null,null,null,null,null,null,null,null,null,null,null,null,null,null,null,null,null,null,null,null,0]
[null,37,{"$f":"Singles!AO337","v":0},{"$f":"Singles!AP337","v":"TBC"},{"$f":"Singles!AQ337","v":"TBC"},{"$f":"Singles!AR337","v":"TBC"},{"$f":"Singles!AS337","v":"TBC"},{"$f":"Singles!AT337","v":"TBC"},{"$f":"Singles!AU337","v":"TBC"},null,{"$f":"Singles!AV337","v":0},{"$f":"Singles!AW337","v":0},{"$f":"Singles!AX337","v":0},null,null,null,null,null,null,null,null,null,null,null,null,null,null,null,null,null,null,null,null,0]
[null,38,{"$f":"Singles!AO338","v":0},{"$f":"Singles!AP338","v":"TBC"},{"$f":"Singles!AQ338","v":"TBC"},{"$f":"Singles!AR338","v":"TBC"},{"$f":"Singles!AS338","v":"TBC"},{"$f":"Singles!AT338","v":"TBC"},{"$f":"Singles!AU338","v":"TBC"},null,{"$f":"Singles!AV338","v":0},{"$f":"Singles!AW338","v":0},{"$f":"Singles!AX338","v":0},null,null,null,null,null,null,null,null,null,null,null,null,null,null,null,null,null,null,null,null,0]
[null,39,{"$f":"Singles!AO339","v":0},{"$f":"Singles!AP339","v":"TBC"},{"$f":"Singles!AQ339","v":"TBC"},{"$f":"Singles!AR339","v":"TBC"},{"$f":"Singles!AS339","v":"TBC"},{"$f":"Singles!AT339","v":"TBC"},{"$f":"Singles!AU339","v":"TBC"},null,{"$f":"Singles!AV339","v":0},{"$f":"Singles!AW339","v":0},{"$f":"Singles!AX339","v":0},null,null,null,null,null,null,null,null,null,null,null,null,null,null,null,null,null,null,null,null,0]
[null,40,{"$f":"Singles!AO340","v":0},{"$f":"Singles!AP340","v":"TBC"},{"$f":"Singles!AQ340","v":"TBC"},{"$f":"Singles!AR340","v":"TBC"},{"$f":"Singles!AS340","v":"TBC"},{"$f":"Singles!AT340","v":"TBC"},{"$f":"Singles!AU340","v":"TBC"},null,{"$f":"Singles!AV340","v":0},{"$f":"Singles!AW340","v":0},{"$f":"Singles!AX340","v":0},null,null,null,null,null,null,null,null,null,null,null,null,null,null,null,null,null,null,null,null,0]
[null,41,{"$f":"Singles!AO341","v":0},{"$f":"Singles!AP341","v":"TBC"},{"$f":"Singles!AQ341","v":"TBC"},{"$f":"Singles!AR341","v":"TBC"},{"$f":"Singles!AS341","v":"TBC"},{"$f":"Singles!AT341","v":"TBC"},{"$f":"Singles!AU341","v":"TBC"},null,{"$f":"Singles!AV341","v":0},{"$f":"Singles!AW341","v":0},{"$f":"Singles!AX341","v":0},null,null,null,null,null,null,null,null,null,null,null,null,null,null,null,null,null,null,null,null,0]
[null,42,{"$f":"Singles!AO342","v":0},{"$f":"Singles!AP342","v":"TBC"},{"$f":"Singles!AQ342","v":"TBC"},{"$f":"Singles!AR342","v":"TBC"},{"$f":"Singles!AS342","v":"TBC"},{"$f":"Singles!AT342","v":"TBC"},{"$f":"Singles!AU342","v":"TBC"},null,{"$f":"Singles!AV342","v":0},{"$f":"Singles!AW342","v":0},{"$f":"Singles!AX342","v":0},null,null,null,null,null,null,null,null,null,null,null,null,null,null,null,null,null,null,null,null,0]
[null,43,{"$f":"Singles!AO343","v":0},{"$f":"Singles!AP343","v":"TBC"},{"$f":"Singles!AQ343","v":"TBC"},{"$f":"Singles!AR343","v":"TBC"},{"$f":"Singles!AS343","v":"TBC"},{"$f":"Singles!AT343","v":"TBC"},{"$f":"Singles!AU343","v":"TBC"},null,{"$f":"Singles!AV343","v":0},{"$f":"Singles!AW343","v":0},{"$f":"Singles!AX343","v":0},null,null,null,null,null,null,null,null,null,null,null,null,null,null,null,null,null,null,null,null,0]
[null,44,{"$f":"Singles!AO344","v":0},{"$f":"Singles!AP344","v":"TBC"},{"$f":"Singles!AQ344","v":"TBC"},{"$f":"Singles!AR344","v":"TBC"},{"$f":"Singles!AS344","v":"TBC"},{"$f":"Singles!AT344","v":"TBC"},{"$f":"Singles!AU344","v":"TBC"},null,{"$f":"Singles!AV344","v":0},{"$f":"Singles!AW344","v":0},{"$f":"Singles!AX344","v":0},null,null,null,null,null,null,null,null,null,null,null,null,null,null,null,null,null,null,null,null,0]
[null,45,{"$f":"Singles!AO345","v":0},{"$f":"Singles!AP345","v":"TBC"},{"$f":"Singles!AQ345","v":"TBC"},{"$f":"Singles!AR345","v":"TBC"},{"$f":"Singles!AS345","v":"TBC"},{"$f":"Singles!AT345","v":"TBC"},{"$f":"Singles!AU345","v":"TBC"},null,{"$f":"Singles!AV345","v":0},{"$f":"Singles!AW345","v":0},{"$f":"Singles!AX345","v":0},null,null,null,null,null,null,null,null,null,null,null,null,null,null,null,null,null,null,null,null,0]
[null,46,{"$f":"Singles!AO346","v":0},{"$f":"Singles!AP346","v":"TBC"},{"$f":"Singles!AQ346","v":"TBC"},{"$f":"Singles!AR346","v":"TBC"},{"$f":"Singles!AS346","v":"TBC"},{"$f":"Singles!AT346","v":"TBC"},{"$f":"Singles!AU346","v":"TBC"},null,{"$f":"Singles!AV346","v":0},{"$f":"Singles!AW346","v":0},{"$f":"Singles!AX346","v":0},null,null,null,null,null,null,null,null,null,null,null,null,null,null,null,null,null,null,null,null,0]
[null,47,{"$f":"Singles!AO347","v":0},{"$f":"Singles!AP347","v":"TBC"},{"$f":"Singles!AQ347","v":"TBC"},{"$f":"Singles!AR347","v":"TBC"},{"$f":"Singles!AS347","v":"TBC"},{"$f":"Singles!AT347","v":"TBC"},{"$f":"Singles!AU347","v":"TBC"},null,{"$f":"Singles!AV347","v":0},{"$f":"Singles!AW347","v":0},{"$f":"Singles!AX347","v":0},null,null,null,null,null,null,null,null,null,null,null,null,null,null,null,null,null,null,null,null,0]
[null,48,{"$f":"Singles!AO348","v":0},{"$f":"Singles!AP348","v":"TBC"},{"$f":"Singles!AQ348","v":"TBC"},{"$f":"Singles!AR348","v":"TBC"},{"$f":"Singles!AS348","v":"TBC"},{"$f":"Singles!AT348","v":"TBC"},{"$f":"Singles!AU348","v":"TBC"},null,{"$f":"Singles!AV348","v":0},{"$f":"Singles!AW348","v":0},{"$f":"Singles!AX348","v":0},null,null,null,null,null,null,null,null,null,null,null,null,null,null,null,null,null,null,null,null,0]
[null,49,{"$f":"Singles!AO349","v":0},{"$f":"Singles!AP349","v":"TBC"},{"$f":"Singles!AQ349","v":"TBC"},{"$f":"Singles!AR349","v":"TBC"},{"$f":"Singles!AS349","v":"TBC"},{"$f":"Singles!AT349","v":"TBC"},{"$f":"Singles!AU349","v":"TBC"},null,{"$f":"Singles!AV349","v":0},{"$f":"Singles!AW349","v":0},{"$f":"Singles!AX349","v":0},null,null,null,null,null,null,null,null,null,null,null,null,null,null,null,null,null,null,null,null,0]
[null,50,{"$f":"Singles!AO350","v":0},{"$f":"Singles!AP350","v":"TBC"},{"$f":"Singles!AQ350","v":"TBC"},{"$f":"Singles!AR350","v":"TBC"},{"$f":"Singles!AS350","v":"TBC"},{"$f":"Singles!AT350","v":"TBC"},{"$f":"Singles!AU350","v":"TBC"},null,{"$f":"Singles!AV350","v":0},{"$f":"Singles!AW350","v":0},{"$f":"Singles!AX350","v":0},null,null,null,null,null,null,null,null,null,null,null,null,null,null,null,null,null,null,null,null,0]
[null,51,{"$f":"Singles!AO351","v":0},{"$f":"Singles!AP351","v":"TBC"},{"$f":"Singles!AQ351","v":"TBC"},{"$f":"Singles!AR351","v":"TBC"},{"$f":"Singles!AS351","v":"TBC"},{"$f":"Singles!AT351","v":"TBC"},{"$f":"Singles!AU351","v":"TBC"},null,{"$f":"Singles!AV351","v":0},{"$f":"Singles!AW351","v":0},{"$f":"Singles!AX351","v":0},null,null,null,null,null,null,null,null,null,null,null,null,null,null,null,null,null,null,null,null,0]
[null,52,{"$f":"Singles!AO352","v":0},{"$f":"Singles!AP352","v":"TBC"},{"$f":"Singles!AQ352","v":"TBC"},{"$f":"Singles!AR352","v":"TBC"},{"$f":"Singles!AS352","v":"TBC"},{"$f":"Singles!AT352","v":"TBC"},{"$f":"Singles!AU352","v":"TBC"},null,{"$f":"Singles!AV352","v":0},{"$f":"Singles!AW352","v":0},{"$f":"Singles!AX352","v":0},null,null,null,null,null,null,null,null,null,null,null,null,null,null,null,null,null,null,null,null,0]
[null,53,{"$f":"Singles!AO353","v":0},{"$f":"Singles!AP353","v":"TBC"},{"$f":"Singles!AQ353","v":"TBC"},{"$f":"Singles!AR353","v":"TBC"},{"$f":"Singles!AS353","v":"TBC"},{"$f":"Singles!AT353","v":"TBC"},{"$f":"Singles!AU353","v":"TBC"},null,{"$f":"Singles!AV353","v":0},{"$f":"Singles!AW353","v":0},{"$f":"Singles!AX353","v":0},null,null,null,null,null,null,null,null,null,null,null,null,null,null,null,null,null,null,null,null,0]
[null,54,{"$f":"Singles!AO354","v":0},{"$f":"Singles!AP354","v":"TBC"},{"$f":"Singles!AQ354","v":"TBC"},{"$f":"Singles!AR354","v":"TBC"},{"$f":"Singles!AS354","v":"TBC"},{"$f":"Singles!AT354","v":"TBC"},{"$f":"Singles!AU354","v":"TBC"},null,{"$f":"Singles!AV354","v":0},{"$f":"Singles!AW354","v":0},{"$f":"Singles!AX354","v":0},null,null,null,null,null,null,null,null,null,null,null,null,null,null,null,null,null,null,null,null,0]
[null,55,{"$f":"Singles!AO355","v":0},{"$f":"Singles!AP355","v":"TBC"},{"$f":"Singles!AQ355","v":"TBC"},{"$f":"Singles!AR355","v":"TBC"},{"$f":"Singles!AS355","v":"TBC"},{"$f":"Singles!AT355","v":"TBC"},{"$f":"Singles!AU355","v":"TBC"},null,{"$f":"Singles!AV355","v":0},{"$f":"Singles!AW355","v":0},{"$f":"Singles!AX355","v":0},null,null,null,null,null,null,null,null,null,null,null,null,null,null,null,null,null,null,null,null,0]
[null,56,{"$f":"Singles!AO356","v":0},{"$f":"Singles!AP356","v":"TBC"},{"$f":"Singles!AQ356","v":"TBC"},{"$f":"Singles!AR356","v":"TBC"},{"$f":"Singles!AS356","v":"TBC"},{"$f":"Singles!AT356","v":"TBC"},{"$f":"Singles!AU356","v":"TBC"},null,{"$f":"Singles!AV356","v":0},{"$f":"Singles!AW356","v":0},{"$f":"Singles!AX356","v":0},null,null,null,null,null,null,null,null,null,null,null,null,null,null,null,null,null,null,null,null,0]
[null,57,{"$f":"Singles!AO357","v":0},{"$f":"Singles!AP357","v":"TBC"},{"$f":"Singles!AQ357","v":"TBC"},{"$f":"Singles!AR357","v":"TBC"},{"$f":"Singles!AS357","v":"TBC"},{"$f":"Singles!AT357","v":"TBC"},{"$f":"Singles!AU357","v":"TBC"},null,{"$f":"Singles!AV357","v":0},{"$f":"Singles!AW357","v":0},{"$f":"Singles!AX357","v":0},null,null,null,null,null,null,null,null,null,null,null,null,null,null,null,null,null,null,null,null,0]
[null,58,{"$f":"Singles!AO358","v":0},{"$f":"Singles!AP358","v":"TBC"},{"$f":"Singles!AQ358","v":"TBC"},{"$f":"Singles!AR358","v":"TBC"},{"$f":"Singles!AS358","v":"TBC"},{"$f":"Singles!AT358","v":"TBC"},{"$f":"Singles!AU358","v":"TBC"},null,{"$f":"Singles!AV358","v":0},{"$f":"Singles!AW358","v":0},{"$f":"Singles!AX358","v":0},null,null,null,null,null,null,null,null,null,null,null,null,null,null,null,null,null,null,null,null,0]
[null,59,{"$f":"Singles!AO359","v":0},{"$f":"Singles!AP359","v":"TBC"},{"$f":"Singles!AQ359","v":"TBC"},{"$f":"Singles!AR359","v":"TBC"},{"$f":"Singles!AS359","v":"TBC"},{"$f":"Singles!AT359","v":"TBC"},{"$f":"Singles!AU359","v":"TBC"},null,{"$f":"Singles!AV359","v":0},{"$f":"Singles!AW359","v":0},{"$f":"Singles!AX359","v":0},null,null,null,null,null,null,null,null,null,null,null,null,null,null,null,null,null,null,null,null,0]
[null,60,{"$f":"Singles!AO360","v":0},{"$f":"Singles!AP360","v":"TBC"},{"$f":"Singles!AQ360","v":"TBC"},{"$f":"Singles!AR360","v":"TBC"},{"$f":"Singles!AS360","v":"TBC"},{"$f":"Singles!AT360","v":"TBC"},{"$f":"Singles!AU360","v":"TBC"},null,{"$f":"Singles!AV360","v":0},{"$f":"Singles!AW360","v":0},{"$f":"Singles!AX360","v":0},null,null,null,null,null,null,null,null,null,null,null,null,null,null,null,null,null,null,null,null,0]
[null,61,{"$f":"Singles!AO361","v":0},{"$f":"Singles!AP361","v":"TBC"},{"$f":"Singles!AQ361","v":"TBC"},{"$f":"Singles!AR361","v":"TBC"},{"$f":"Singles!AS361","v":"TBC"},{"$f":"Singles!AT361","v":"TBC"},{"$f":"Singles!AU361","v":"TBC"},null,{"$f":"Singles!AV361","v":0},{"$f":"Singles!AW361","v":0},{"$f":"Singles!AX361","v":0},null,null,null,null,null,null,null,null,null,null,null,null,null,null,null,null,null,null,null,null,0]
[null,62,{"$f":"Singles!AO362","v":0},{"$f":"Singles!AP362","v":"TBC"},{"$f":"Singles!AQ362","v":"TBC"},{"$f":"Singles!AR362","v":"TBC"},{"$f":"Singles!AS362","v":"TBC"},{"$f":"Singles!AT362","v":"TBC"},{"$f":"Singles!AU362","v":"TBC"},null,{"$f":"Singles!AV362","v":0},{"$f":"Singles!AW362","v":0},{"$f":"Singles!AX362","v":0},null,null,null,null,null,null,null,null,null,null,null,null,null,null,null,null,null,null,null,null,0]
[null,63,{"$f":"Singles!AO363","v":0},{"$f":"Singles!AP363","v":"TBC"},{"$f":"Singles!AQ363","v":"TBC"},{"$f":"Singles!AR363","v":"TBC"},{"$f":"Singles!AS363","v":"TBC"},{"$f":"Singles!AT363","v":"TBC"},{"$f":"Singles!AU363","v":"TBC"},null,{"$f":"Singles!AV363","v":0},{"$f":"Singles!AW363","v":0},{"$f":"Singles!AX363","v":0},null,null,null,null,null,null,null,null,null,null,null,null,null,null,null,null,null,null,null,null,0]
[null,64,{"$f":"Singles!AO364","v":0},{"$f":"Singles!AP364","v":"TBC"},{"$f":"Singles!AQ364","v":"TBC"},{"$f":"Singles!AR364","v":"TBC"},{"$f":"Singles!AS364","v":"TBC"},{"$f":"Singles!AT364","v":"TBC"},{"$f":"Singles!AU364","v":"TBC"},null,{"$f":"Singles!AV364","v":0},{"$f":"Singles!AW364","v":0},{"$f":"Singles!AX364","v":0},null,null,null,null,null,null,null,null,null,null,null,null,null,null,null,null,null,null,null,null,0]
[null,65,{"$f":"Singles!AO365","v":0},{"$f":"Singles!AP365","v":"TBC"},{"$f":"Singles!AQ365","v":"TBC"},{"$f":"Singles!AR365","v":"TBC"},{"$f":"Singles!AS365","v":"TBC"},{"$f":"Singles!AT365","v":"TBC"},{"$f":"Singles!AU365","v":"TBC"},null,{"$f":"Singles!AV365","v":0},{"$f":"Singles!AW365","v":0},{"$f":"Singles!AX365","v":0},null,null,null,null,null,null,null,null,null,null,null,null,null,null,null,null,null,null,null,null,0]
[null,66,{"$f":"Singles!AO366","v":0},{"$f":"Singles!AP366","v":"TBC"},{"$f":"Singles!AQ366","v":"TBC"},{"$f":"Singles!AR366","v":"TBC"},{"$f":"Singles!AS366","v":"TBC"},{"$f":"Singles!AT366","v":"TBC"},{"$f":"Singles!AU366","v":"TBC"},null,{"$f":"Singles!AV366","v":0},{"$f":"Singles!AW366","v":0},{"$f":"Singles!AX366","v":0},null,null,null,null,null,null,null,null,null,null,null,null,null,null,null,null,null,null,null,null,0]
[null,67,{"$f":"Singles!AO367","v":0},{"$f":"Singles!AP367","v":"TBC"},{"$f":"Singles!AQ367","v":"TBC"},{"$f":"Singles!AR367","v":"TBC"},{"$f":"Singles!AS367","v":"TBC"},{"$f":"Singles!AT367","v":"TBC"},{"$f":"Singles!AU367","v":"TBC"},null,{"$f":"Singles!AV367","v":0},{"$f":"Singles!AW367","v":0},{"$f":"Singles!AX367","v":0},null,null,null,null,null,null,null,null,null,null,null,null,null,null,null,null,null,null,null,null,0]
[null,68,{"$f":"Singles!AO368","v":0},{"$f":"Singles!AP368","v":"TBC"},{"$f":"Singles!AQ368","v":"TBC"},{"$f":"Singles!AR368","v":"TBC"},{"$f":"Singles!AS368","v":"TBC"},{"$f":"Singles!AT368","v":"TBC"},{"$f":"Singles!AU368","v":"TBC"},null,{"$f":"Singles!AV368","v":0},{"$f":"Singles!AW368","v":0},{"$f":"Singles!AX368","v":0},null,null,null,null,null,null,null,null,null,null,null,null,null,null,null,null,null,null,null,null,0]
[null,69,{"$f":"Singles!AO369","v":0},{"$f":"Singles!AP369","v":"TBC"},{"$f":"Singles!AQ369","v":"TBC"},{"$f":"Singles!AR369","v":"TBC"},{"$f":"Singles!AS369","v":"TBC"},{"$f":"Singles!AT369","v":"TBC"},{"$f":"Singles!AU369","v":"TBC"},null,{"$f":"Singles!AV369","v":0},{"$f":"Singles!AW369","v":0},{"$f":"Singles!AX369","v":0},null,null,null,null,null,null,null,null,null,null,null,null,null,null,null,null,null,null,null,null,0]
[null,70,{"$f":"Singles!AO370","v":0},{"$f":"Singles!AP370","v":"TBC"},{"$f":"Singles!AQ370","v":"TBC"},{"$f":"Singles!AR370","v":"TBC"},{"$f":"Singles!AS370","v":"TBC"},{"$f":"Singles!AT370","v":"TBC"},{"$f":"Singles!AU370","v":"TBC"},null,{"$f":"Singles!AV370","v":0},{"$f":"Singles!AW370","v":0},{"$f":"Singles!AX370","v":0},null,null,null,null,null,null,null,null,null,null,null,null,null,null,null,null,null,null,null,null,0]
[null,71,{"$f":"Singles!AO371","v":0},{"$f":"Singles!AP371","v":"TBC"},{"$f":"Singles!AQ371","v":"TBC"},{"$f":"Singles!AR371","v":"TBC"},{"$f":"Singles!AS371","v":"TBC"},{"$f":"Singles!AT371","v":"TBC"},{"$f":"Singles!AU371","v":"TBC"},null,{"$f":"Singles!AV371","v":0},{"$f":"Singles!AW371","v":0},{"$f":"Singles!AX371","v":0},null,null,null,null,null,null,null,null,null,null,null,null,null,null,null,null,null,null,null,null,0]
[null,72,{"$f":"Singles!AO372","v":0},{"$f":"Singles!AP372","v":"TBC"},{"$f":"Singles!AQ372","v":"TBC"},{"$f":"Singles!AR372","v":"TBC"},{"$f":"Singles!AS372","v":"TBC"},{"$f":"Singles!AT372","v":"TBC"},{"$f":"Singles!AU372","v":"TBC"},null,{"$f":"Singles!AV372","v":0},{"$f":"Singles!AW372","v":0},{"$f":"Singles!AX372","v":0},null,null,null,null,null,null,null,null,null,null,null,null,null,null,null,null,null,null,null,null,0]
[null,73,{"$f":"Singles!AO373","v":0},{"$f":"Singles!AP373","v":"TBC"},{"$f":"Singles!AQ373","v":"TBC"},{"$f":"Singles!AR373","v":"TBC"},{"$f":"Singles!AS373","v":"TBC"},{"$f":"Singles!AT373","v":"TBC"},{"$f":"Singles!AU373","v":"TBC"},null,{"$f":"Singles!AV373","v":0},{"$f":"Singles!AW373","v":0},{"$f":"Singles!AX373","v":0},null,null,null,null,null,null,null,null,null,null,null,null,null,null,null,null,null,null,null,null,0]
[null,74,{"$f":"Singles!AO374","v":0},{"$f":"Singles!AP374","v":"TBC"},{"$f":"Singles!AQ374","v":"TBC"},{"$f":"Singles!AR374","v":"TBC"},{"$f":"Singles!AS374","v":"TBC"},{"$f":"Singles!AT374","v":"TBC"},{"$f":"Singles!AU374","v":"TBC"},null,{"$f":"Singles!AV374","v":0},{"$f":"Singles!AW374","v":0},{"$f":"Singles!AX374","v":0},null,null,null,null,null,null,null,null,null,null,null,null,null,null,null,null,null,null,null,null,0]
[null,75,{"$f":"Singles!AO375","v":0},{"$f":"Singles!AP375","v":"TBC"},{"$f":"Singles!AQ375","v":"TBC"},{"$f":"Singles!AR375","v":"TBC"},{"$f":"Singles!AS375","v":"TBC"},{"$f":"Singles!AT375","v":"TBC"},{"$f":"Singles!AU375","v":"TBC"},null,{"$f":"Singles!AV375","v":0},{"$f":"Singles!AW375","v":0},{"$f":"Singles!AX375","v":0},null,null,null,null,null,null,null,null,null,null,null,null,null,null,null,null,null,null,null,null,0]
[{"$f":"$D$7","v":"DCU"}]

{"sheet":"CM","index":12,"n_rows":82,"n_cols":47,"rows_kept":82,"cut":false,"hidden":false,"merged":[[1,13,80,13],[81,0,81,13],[1,0,80,0],[0,0,0,13],[1,4,1,8],[1,10,1,12],[1,1,3,3],[2,10,3,10],[2,11,3,11],[2,12,3,12],[4,1,4,8],[4,10,4,12],[1,9,80,9]]}
[{"$f":"$D$7","v":"IT Tallaght"}]
[{"$f":"$D$7","v":"IT Tallaght"},"Male Compound",null,null,"Host Club",null,null,null,null,{"$f":"$D$7","v":"IT Tallaght"},"Scores",null,null,"IT Tallaght",null,null,null,null,null,null,null,null,null,null,null,null,null,null,null,null,null,null,null,{"$f":"AH7","v":"Glen Conway"}]
[null,null,null,null,{"$f":"Entries!K6","v":"UL IV"},{"$f":"Entries!K7","v":"DkIT IV"},{"$f":"Entries!K8","v":"GMIT IV"},{"$f":"Entries!K9","v":"DCU IV"},{"$f":"Entries!K10","v":"NUIG IV"},null,"Total","Lowest","League"]
[]
[null,"IT Tallaght",null,null,null,null,null,null,null,null,"IT Tallaght"]
[null,null,"Name","College",{"$f":"Entries!K6","v":"UL IV"},{"$f":"Entries!K7","v":"DkIT IV"},{"$f":"Entries!K8","v":"GMIT IV"},{"$f":"Entries!K9","v":"DCU IV"},{"$f":"Entries!K10","v":"NUIG IV"},null,"Total","Lowest","League total"]
[null,1,{"$f":"Singles!BB301","v":"Glen Conway"},{"$f":"Singles!BC301","v":"IT Tallaght"},{"$f":"Singles!BD301","v":568},{"$f":"Singles!BE301","v":564},{"$f":"Singles!BF301","v":537},{"$f":"Singles!BG301","v":565},{"$f":"Singles!BH301","v":567},null,{"$f":"Singles!BI301","v":2801},{"$f":"Singles!BJ301","v":537},{"$f":"Singles!BK301","v":2264.0568567},null,null,null,null,null,null,null,null,null,null,null,null,null,null,null,null,null,null,null,null,{"$f":"C7","v":"Glen Conway"}]
[null,2,{"$f":"Singles!BB304","v":"Marko Kovacevic"},{"$f":"Singles!BC304","v":"GMIT"},{"$f":"Singles!BD304","v":539},{"$f":"Singles!BE304","v":548},{"$f":"Singles!BF304","v":0},{"$f":"Singles!BG304","v":547},{"$f":"Singles!BH304","v":542},null,{"$f":"Singles!BI304","v":2176},{"$f":"Singles!BJ304","v":0},{"$f":"Singles!BK304","v":2176.0548546999999},null,null,null,null,null,null,null,null,null,null,null,null,null,null,null,null,null,null,null,null,"Marko Kovacevic",null,null,null,null,null,null,null,null,null,null,null,"DCU CONDITIONAL FORMATTING FORMULA >","OR($AH7=Tables!$B$981,$AH7=Tables!$B$982,$AH7=Tables!$B$983,$AH7=Tables!$B$984,$AH7=Tables!$B$985)"]
[null,3,{"$f":"Singles!BB305","v":"Brendan Browne"},{"$f":"Singles!BC305","v":"GMIT"},{"$f":"Singles!BD305","v":532},{"$f":"Singles!BE305","v":0},{"$f":"Singles!BF305","v":548},{"$f":"Singles!BG305","v":545},{"$f":"Singles!BH305","v":547},null,{"$f":"Singles!BI305","v":2172},{"$f":"Singles!BJ305","v":0},{"$f":"Singles!BK305","v":2172.0548546999999},null,null,null,null,null,null,null,null,null,null,null,null,null,null,null,null,null,null,null,null,"Brendan Browne",null,null,null,null,null,null,null,null,null,null,null,"DIT CONDITIONAL FORMATTING FORMULA >","OR($AH7=Tables!$B$991,$AH7=Tables!$B$992,$AH7=Tables!$B$993,$AH7=Tables!$B$994,$AH7=Tables!$B$995)"]
[null,4,{"$f":"Singles!BB302","v":"Cillian Byrne"},{"$f":"Singles!BC302","v":"DCU"},{"$f":"Singles!BD302","v":544},{"$f":"Singles!BE302","v":547},{"$f":"Singles!BF302","v":539},{"$f":"Singles!BG302","v":540},{"$f":"Singles!BH302","v":535},null,{"$f":"Singles!BI302","v":2705},{"$f":"Singles!BJ302","v":535},{"$f":"Singles!BK302","v":2170.0547544000001},null,null,null,null,null,null,null,null,null,null,null,null,null,null,null,null,null,null,null,null,"Cillian Byrne",null,null,null,null,null,null,null,null,null,null,null,"DKIT CONDITIONAL FORMATTING FORMULA >","OR($AH7=Tables!$B$1001,$AH7=Tables!$B$1002,$AH7=Tables!$B$1003,$AH7=Tables!$B$1004,$AH7=Tables!$B$1005)"]
[null,5,{"$f":"Singles!BB303","v":"Luke Oonan"},{"$f":"Singles!BC303","v":"DCU"},{"$f":"Singles!BD303","v":265},{"$f":"Singles!BE303","v":394},{"$f":"Singles!BF303","v":497},{"$f":"Singles!BG303","v":520},{"$f":"Singles!BH303","v":506},null,{"$f":"Singles!BI303","v":2182},{"$f":"Singles!BJ303","v":265},{"$f":"Singles!BK303","v":1917.0520505999998},null,null,null,null,null,null,null,null,null,null,null,null,null,null,null,null,null,null,null,null,"Luke Oonan",null,null,null,null,null,null,null,null,null,null,null,"DUAC CONDITIONAL FORMATTING FORMULA >","OR($AH7=Tables!$B$1011,$AH7=Tables!$B$1012,$AH7=Tables!$B$1013,$AH7=Tables!$B$1014,$AH7=Tables!$B$1015)"]
[null,6,{"$f":"Singles!BB306","v":"Joao Vitor"},{"$f":"Singles!BC306","v":"NUIG"},{"$f":"Singles!BD306","v":380},{"$f":"Singles!BE306","v":0},{"$f":"Singles!BF306","v":405},{"$f":"Singles!BG306","v":430},{"$f":"Singles!BH306","v":495},null,{"$f":"Singles!BI306","v":1710},{"$f":"Singles!BJ306","v":0},{"$f":"Singles!BK306","v":1710.0495430000001},null,null,null,null,null,null,null,null,null,null,null,null,null,null,null,null,null,null,null,null,"Joao Vitor",null,null,null,null,null,null,null,null,null,null,null,"GMIT CONDITIONAL FORMATTING FORMULA >","OR($AH7=Tables!$B$1021,$AH7=Tables!$B$1022,$AH7=Tables!$B$1023,$AH7=Tables!$B$1024,$AH7=Tables!$B$1025)"]
[null,7,{"$f":"Singles!BB307","v":"Christopher Ryan"},{"$f":"Singles!BC307","v":"NUIG"},{"$f":"Singles!BD307","v":565},{"$f":"Singles!BE307","v":549},{"$f":"Singles!BF307","v":0},{"$f":"Singles!BG307","v":0},{"$f":"Singles!BH307","v":561},null,{"$f":"Singles!BI307","v":1675},{"$f":"Singles!BJ307","v":0},{"$f":"Singles!BK307","v":1675.0565560999999},null,null,null,null,null,null,null,null,null,null,null,null,null,null,null,null,null,null,null,null,"Christopher Ryan",null,null,null,null,null,null,null,null,null,null,null,"GMITC CONDITIONAL FORMATTING FORMULA >","OR($AH7=Tables!$B$1031,$AH7=Tables!$B$1032,$AH7=Tables!$B$1033,$AH7=Tables!$B$1034,$AH7=Tables!$B$1035)"]
[null,8,{"$f":"Singles!BB308","v":"Eimhin Gaynor"},{"$f":"Singles!BC308","v":"GMIT"},{"$f":"Singles!BD308","v":0},{"$f":"Singles!BE308","v":0},{"$f":"Singles!BF308","v":0},{"$f":"Singles!BG308","v":559},{"$f":"Singles!BH308","v":566},null,{"$f":"Singles!BI308","v":1125},{"$f":"Singles!BJ308","v":0},{"$f":"Singles!BK308","v":1125.0566558999999},null,null,null,null,null,null,null,null,null,null,null,null,null,null,null,null,null,null,null,null,"Eimhin Gaynor",null,null,null,null,null,null,null,null,null,null,null,"ITC CONDITIONAL FORMATTING FORMULA >","OR($AH7=Tables!$B$1041,$AH7=Tables!$B$1042,$AH7=Tables!$B$1043,$AH7=Tables!$B$1044,$AH7=Tables!$B$1045)"]
[null,9,{"$f":"Singles!BB309","v":"Shane McGloin"},{"$f":"Singles!BC309","v":"GMIT"},{"$f":"Singles!BD309","v":0},{"$f":"Singles!BE309","v":0},{"$f":"Singles!BF309","v":538},{"$f":"Singles!BG309","v":548},{"$f":"Singles!BH309","v":0},null,{"$f":"Singles!BI309","v":1086},{"$f":"Singles!BJ309","v":0},{"$f":"Singles!BK309","v":1086.0548537999998},null,null,null,null,null,null,null,null,null,null,null,null,null,null,null,null,null,null,null,null,"Shane McGloin",null,null,null,null,null,null,null,null,null,null,null,"ITT CONDITIONAL FORMATTING FORMULA >","OR($AH7=Tables!$B$1051,$AH7=Tables!$B$1052,$AH7=Tables!$B$1053,$AH7=Tables!$B$1054,$AH7=Tables!$B$1055)"]
[null,10,{"$f":"Singles!BB310","v":"Devon Long"},{"$f":"Singles!BC310","v":"UL"},{"$f":"Singles!BD310","v":0},{"$f":"Singles!BE310","v":0},{"$f":"Singles!BF310","v":520},{"$f":"Singles!BG310","v":520},{"$f":"Singles!BH310","v":0},null,{"$f":"Singles!BI310","v":1040},{"$f":"Singles!BJ310","v":0},{"$f":"Singles!BK310","v":1040.052052},null,null,null,null,null,null,null,null,null,null,null,null,null,null,null,null,null,null,null,null,"Devon Long",null,null,null,null,null,null,null,null,null,null,null,"MU CONDITIONAL FORMATTING FORMULA >","OR($AH7=Tables!$B$1061,$AH7=Tables!$B$1062,$AH7=Tables!$B$1063,$AH7=Tables!$B$1064,$AH7=Tables!$B$1065)"]
[null,11,{"$f":"Singles!BB311","v":"James Floyd"},{"$f":"Singles!BC311","v":"MU"},{"$f":"Singles!BD311","v":0},{"$f":"Singles!BE311","v":0},{"$f":"Singles!BF311","v":507},{"$f":"Singles!BG311","v":0},{"$f":"Singles!BH311","v":510},null,{"$f":"Singles!BI311","v":1017},{"$f":"Singles!BJ311","v":0},{"$f":"Singles!BK311","v":1017.0510507},null,null,null,null,null,null,null,null,null,null,null,null,null,null,null,null,null,null,null,null,"James Floyd",null,null,null,null,null,null,null,null,null,null,null,"NCAD CONDITIONAL FORMATTING FORMULA >","OR($AH7=Tables!$B$1071,$AH7=Tables!$B$1072,$AH7=Tables!$B$1073,$AH7=Tables!$B$1074,$AH7=Tables!$B$1075)"]
[null,12,{"$f":"Singles!BB312","v":"Carl Byrne"},{"$f":"Singles!BC312","v":"NUIG"},{"$f":"Singles!BD312","v":0},{"$f":"Singles!BE312","v":0},{"$f":"Singles!BF312","v":560},{"$f":"Singles!BG312","v":0},{"$f":"Singles!BH312","v":0},null,{"$f":"Singles!BI312","v":560},{"$f":"Singles!BJ312","v":0},{"$f":"Singles!BK312","v":560.05600000000004},null,null,null,null,null,null,null,null,null,null,null,null,null,null,null,null,null,null,null,null,"Carl Byrne",null,null,null,null,null,null,null,null,null,null,null,"NUIG CONDITIONAL FORMATTING FORMULA >","OR($AH7=Tables!$B$1081,$AH7=Tables!$B$1082,$AH7=Tables!$B$1083,$AH7=Tables!$B$1084,$AH7=Tables!$B$1085)"]
[null,13,{"$f":"Singles!BB313","v":"Ross McQuade"},{"$f":"Singles!BC313","v":"UU"},{"$f":"Singles!BD313","v":0},{"$f":"Singles!BE313","v":0},{"$f":"Singles!BF313","v":0},{"$f":"Singles!BG313","v":261},{"$f":"Singles!BH313","v":0},null,{"$f":"Singles!BI313","v":261},{"$f":"Singles!BJ313","v":0},{"$f":"Singles!BK313","v":261.02609999999999},null,null,null,null,null,null,null,null,null,null,null,null,null,null,null,null,null,null,null,null,"Ross McQuade",null,null,null,null,null,null,null,null,null,null,null,"RCSI CONDITIONAL FORMATTING FORMULA >","OR($AH7=Tables!$B$1091,$AH7=Tables!$B$1092,$AH7=Tables!$B$1093,$AH7=Tables!$B$1094,$AH7=Tables!$B$1095)"]
[null,14,{"$f":"Singles!BB314","v":0},{"$f":"Singles!BC314","v":"TBC"},{"$f":"Singles!BD314","v":"TBC"},{"$f":"Singles!BE314","v":"TBC"},{"$f":"Singles!BF314","v":"TBC"},{"$f":"Singles!BG314","v":"TBC"},{"$f":"Singles!BH314","v":"TBC"},null,{"$f":"Singles!BI314","v":0},{"$f":"Singles!BJ314","v":0},{"$f":"Singles!BK314","v":0},null,null,null,null,null,null,null,null,null,null,null,null,null,null,null,null,null,null,null,null,0,null,null,null,null,null,null,null,null,null,null,null,"UCC CONDITIONAL FORMATTING FORMULA >","OR($AH7=Tables!$B$1101,$AH7=Tables!$B$1102,$AH7=Tables!$B$1103,$AH7=Tables!$B$1104,$AH7=Tables!$B$1105)"]
[null,15,{"$f":"Singles!BB315","v":0},{"$f":"Singles!BC315","v":"TBC"},{"$f":"Singles!BD315","v":"TBC"},{"$f":"Singles!BE315","v":"TBC"},{"$f":"Singles!BF315","v":"TBC"},{"$f":"Singles!BG315","v":"TBC"},{"$f":"Singles!BH315","v":"TBC"},null,{"$f":"Singles!BI315","v":0},{"$f":"Singles!BJ315","v":0},{"$f":"Singles!BK315","v":0},null,null,null,null,null,null,null,null,null,null,null,null,null,null,null,null,null,null,null,null,0,null,null,null,null,null,null,null,null,null,null,null,"UCD CONDITIONAL FORMATTING FORMULA >","OR($AH7=Tables!$B$1111,$AH7=Tables!$B$1112,$AH7=Tables!$B$1113,$AH7=Tables!$B$1114,$AH7=Tables!$B$1115)"]
[null,16,{"$f":"Singles!BB316","v":0},{"$f":"Singles!BC316","v":"TBC"},{"$f":"Singles!BD316","v":"TBC"},{"$f":"Singles!BE316","v":"TBC"},{"$f":"Singles!BF316","v":"TBC"},{"$f":"Singles!BG316","v":"TBC"},{"$f":"Singles!BH316","v":"TBC"},null,{"$f":"Singles!BI316","v":0},{"$f":"Singles!BJ316","v":0},{"$f":"Singles!BK316","v":0},null,null,null,null,null,null,null,null,null,null,null,null,null,null,null,null,null,null,null,null,0,null,null,null,null,null,null,null,null,null,null,null,"UL CONDITIONAL FORMATTING FORMULA >","OR($AH7=Tables!$B$1121,$AH7=Tables!$B$1122,$AH7=Tables!$B$1123,$AH7=Tables!$B$1124,$AH7=Tables!$B$1125)"]
[null,17,{"$f":"Singles!BB317","v":0},{"$f":"Singles!BC317","v":"TBC"},{"$f":"Singles!BD317","v":"TBC"},{"$f":"Singles!BE317","v":"TBC"},{"$f":"Singles!BF317","v":"TBC"},{"$f":"Singles!BG317","v":"TBC"},{"$f":"Singles!BH317","v":"TBC"},null,{"$f":"Singles!BI317","v":0},{"$f":"Singles!BJ317","v":0},{"$f":"Singles!BK317","v":0},null,null,null,null,null,null,null,null,null,null,null,null,null,null,null,null,null,null,null,null,0,null,null,null,null,null,null,null,null,null,null,null,"UU CONDITIONAL FORMATTING FORMULA >","OR($AH7=Tables!$B$1131,$AH7=Tables!$B$1132,$AH7=Tables!$B$1133,$AH7=Tables!$B$1134,$AH7=Tables!$B$1135)"]
[null,18,{"$f":"Singles!BB318","v":0},{"$f":"Singles!BC318","v":"TBC"},{"$f":"Singles!BD318","v":"TBC"},{"$f":"Singles!BE318","v":"TBC"},{"$f":"Singles!BF318","v":"TBC"},{"$f":"Singles!BG318","v":"TBC"},{"$f":"Singles!BH318","v":"TBC"},null,{"$f":"Singles!BI318","v":0},{"$f":"Singles!BJ318","v":0},{"$f":"Singles!BK318","v":0},null,null,null,null,null,null,null,null,null,null,null,null,null,null,null,null,null,null,null,null,0,null,null,null,null,null,null,null,null,null,null,null,"WIT CONDITIONAL FORMATTING FORMULA >","OR($AH7=Tables!$B$1141,$AH7=Tables!$B$1142,$AH7=Tables!$B$1143,$AH7=Tables!$B$1144,$AH7=Tables!$B$1155)"]
[null,19,{"$f":"Singles!BB319","v":0},{"$f":"Singles!BC319","v":"TBC"},{"$f":"Singles!BD319","v":"TBC"},{"$f":"Singles!BE319","v":"TBC"},{"$f":"Singles!BF319","v":"TBC"},{"$f":"Singles!BG319","v":"TBC"},{"$f":"Singles!BH319","v":"TBC"},null,{"$f":"Singles!BI319","v":0},{"$f":"Singles!BJ319","v":0},{"$f":"Singles!BK319","v":0},null,null,null,null,null,null,null,null,null,null,null,null,null,null,null,null,null,null,null,null,0,null,null,null,null,null,null,null,null,null,null,null,"AAA CONDITIONAL FORMATTING FORMULA >","OR($AH7=Tables!$B$1401,$AH7=Tables!$B$1402,$AH7=Tables!$B$1403,$AH7=Tables!$B$1404,$AH7=Tables!$B$1405)"]
[null,20,{"$f":"Singles!BB320","v":0},{"$f":"Singles!BC320","v":"TBC"},{"$f":"Singles!BD320","v":"TBC"},{"$f":"Singles!BE320","v":"TBC"},{"$f":"Singles!BF320","v":"TBC"},{"$f":"Singles!BG320","v":"TBC"},{"$f":"Singles!BH320","v":"TBC"},null,{"$f":"Singles!BI320","v":0},{"$f":"Singles!BJ320","v":0},{"$f":"Singles!BK320","v":0},null,null,null,null,null,null,null,null,null,null,null,null,null,null,null,null,null,null,null,null,0,null,null,null,null,null,null,null,null,null,null,null,"BBB CONDITIONAL FORMATTING FORMULA >","OR($AH7=Tables!$B$1411,$AH7=Tables!$B$1412,$AH7=Tables!$B$1413,$AH7=Tables!$B$1414,$AH7=Tables!$B$1415)"]
[null,21,{"$f":"Singles!BB321","v":0},{"$f":"Singles!BC321","v":"TBC"},{"$f":"Singles!BD321","v":"TBC"},{"$f":"Singles!BE321","v":"TBC"},{"$f":"Singles!BF321","v":"TBC"},{"$f":"Singles!BG321","v":"TBC"},{"$f":"Singles!BH321","v":"TBC"},null,{"$f":"Singles!BI321","v":0},{"$f":"Singles!BJ321","v":0},{"$f":"Singles!BK321","v":0},null,null,null,null,null,null,null,null,null,null,null,null,null,null,null,null,null,null,null,null,0,null,null,null,null,null,null,null,null,null,null,null,"CCC CONDITIONAL FORMATTING FORMULA >","OR($AH7=Tables!$B$1421,$AH7=Tables!$B$1422,$AH7=Tables!$B$1423,$AH7=Tables!$B$1424,$AH7=Tables!$B$1425)"]
[null,22,{"$f":"Singles!BB322","v":0},{"$f":"Singles!BC322","v":"TBC"},{"$f":"Singles!BD322","v":"TBC"},{"$f":"Singles!BE322","v":"TBC"},{"$f":"Singles!BF322","v":"TBC"},{"$f":"Singles!BG322","v":"TBC"},{"$f":"Singles!BH322","v":"TBC"},null,{"$f":"Singles!BI322","v":0},{"$f":"Singles!BJ322","v":0},{"$f":"Singles!BK322","v":0},null,null,null,null,null,null,null,null,null,null,null,null,null,null,null,null,null,null,null,null,0,null,null,null,null,null,null,null,null,null,null,null,"DDD CONDITIONAL FORMATTING FORMULA >","OR($AH7=Tables!$B$1431,$AH7=Tables!$B$1432,$AH7=Tables!$B$1433,$AH7=Tables!$B$1434,$AH7=Tables!$B$1435)"]
[null,23,{"$f":"Singles!BB323","v":0},{"$f":"Singles!BC323","v":"TBC"},{"$f":"Singles!BD323","v":"TBC"},{"$f":"Singles!BE323","v":"TBC"},{"$f":"Singles!BF323","v":"TBC"},{"$f":"Singles!BG323","v":"TBC"},{"$f":"Singles!BH323","v":"TBC"},null,{"$f":"Singles!BI323","v":0},{"$f":"Singles!BJ323","v":0},{"$f":"Singles!BK323","v":0},null,null,null,null,null,null,null,null,null,null,null,null,null,null,null,null,null,null,null,null,0,null,null,null,null,null,null,null,null,null,null,null,"EEE CONDITIONAL FORMATTING FORMULA >","OR($AH7=Tables!$B$1441,$AH7=Tables!$B$1442,$AH7=Tables!$B$1443,$AH7=Tables!$B$1444,$AH7=Tables!$B$1455)"]
[null,24,{"$f":"Singles!BB324","v":0},{"$f":"Singles!BC324","v":"TBC"},{"$f":"Singles!BD324","v":"TBC"},{"$f":"Singles!BE324","v":"TBC"},{"$f":"Singles!BF324","v":"TBC"},{"$f":"Singles!BG324","v":"TBC"},{"$f":"Singles!BH324","v":"TBC"},null,{"$f":"Singles!BI324","v":0},{"$f":"Singles!BJ324","v":0},{"$f":"Singles!BK324","v":0},null,null,null,null,null,null,null,null,null,null,null,null,null,null,null,null,null,null,null,null,0]
[null,25,{"$f":"Singles!BB325","v":0},{"$f":"Singles!BC325","v":"TBC"},{"$f":"Singles!BD325","v":"TBC"},{"$f":"Singles!BE325","v":"TBC"},{"$f":"Singles!BF325","v":"TBC"},{"$f":"Singles!BG325","v":"TBC"},{"$f":"Singles!BH325","v":"TBC"},null,{"$f":"Singles!BI325","v":0},{"$f":"Singles!BJ325","v":0},{"$f":"Singles!BK325","v":0},null,null,null,null,null,null,null,null,null,null,null,null,null,null,null,null,null,null,null,null,0]
[null,26,{"$f":"Singles!BB326","v":0},{"$f":"Singles!BC326","v":"TBC"},{"$f":"Singles!BD326","v":"TBC"},{"$f":"Singles!BE326","v":"TBC"},{"$f":"Singles!BF326","v":"TBC"},{"$f":"Singles!BG326","v":"TBC"},{"$f":"Singles!BH326","v":"TBC"},null,{"$f":"Singles!BI326","v":0},{"$f":"Singles!BJ326","v":0},{"$f":"Singles!BK326","v":0},null,null,null,null,null,null,null,null,null,null,null,null,null,null,null,null,null,null,null,null,0]
[null,27,{"$f":"Singles!BB327","v":0},{"$f":"Singles!BC327","v":"TBC"},{"$f":"Singles!BD327","v":"TBC"},{"$f":"Singles!BE327","v":"TBC"},{"$f":"Singles!BF327","v":"TBC"},{"$f":"Singles!BG327","v":"TBC"},{"$f":"Singles!BH327","v":"TBC"},null,{"$f":"Singles!BI327","v":0},{"$f":"Singles!BJ327","v":0},{"$f":"Singles!BK327","v":0},null,null,null,null,null,null,null,null,null,null,null,null,null,null,null,null,null,null,null,null,0]
[null,28,{"$f":"Singles!BB328","v":0},{"$f":"Singles!BC328","v":"TBC"},{"$f":"Singles!BD328","v":"TBC"},{"$f":"Singles!BE328","v":"TBC"},{"$f":"Singles!BF328","v":"TBC"},{"$f":"Singles!BG328","v":"TBC"},{"$f":"Singles!BH328","v":"TBC"},null,{"$f":"Singles!BI328","v":0},{"$f":"Singles!BJ328","v":0},{"$f":"Singles!BK328","v":0},null,null,null,null,null,null,null,null,null,null,null,null,null,null,null,null,null,null,null,null,0]
[null,29,{"$f":"Singles!BB329","v":0},{"$f":"Singles!BC329","v":"TBC"},{"$f":"Singles!BD329","v":"TBC"},{"$f":"Singles!BE329","v":"TBC"},{"$f":"Singles!BF329","v":"TBC"},{"$f":"Singles!BG329","v":"TBC"},{"$f":"Singles!BH329","v":"TBC"},null,{"$f":"Singles!BI329","v":0},{"$f":"Singles!BJ329","v":0},{"$f":"Singles!BK329","v":0},null,null,null,null,null,null,null,null,null,null,null,null,null,null,null,null,null,null,null,null,0]
[null,30,{"$f":"Singles!BB330","v":0},{"$f":"Singles!BC330","v":"TBC"},{"$f":"Singles!BD330","v":"TBC"},{"$f":"Singles!BE330","v":"TBC"},{"$f":"Singles!BF330","v":"TBC"},{"$f":"Singles!BG330","v":"TBC"},{"$f":"Singles!BH330","v":"TBC"},null,{"$f":"Singles!BI330","v":0},{"$f":"Singles!BJ330","v":0},{"$f":"Singles!BK330","v":0},null,null,null,null,null,null,null,null,null,null,null,null,null,null,null,null,null,null,null,null,0]
[null,31,{"$f":"Singles!BB331","v":0},{"$f":"Singles!BC331","v":"TBC"},{"$f":"Singles!BD331","v":"TBC"},{"$f":"Singles!BE331","v":"TBC"},{"$f":"Singles!BF331","v":"TBC"},{"$f":"Singles!BG331","v":"TBC"},{"$f":"Singles!BH331","v":"TBC"},null,{"$f":"Singles!BI331","v":0},{"$f":"Singles!BJ331","v":0},{"$f":"Singles!BK331","v":0},null,null,null,null,null,null,null,null,null,null,null,null,null,null,null,null,null,null,null,null,0]
[null,32,{"$f":"Singles!BB332","v":0},{"$f":"Singles!BC332","v":"TBC"},{"$f":"Singles!BD332","v":"TBC"},{"$f":"Singles!BE332","v":"TBC"},{"$f":"Singles!BF332","v":"TBC"},{"$f":"Singles!BG332","v":"TBC"},{"$f":"Singles!BH332","v":"TBC"},null,{"$f":"Singles!BI332","v":0},{"$f":"Singles!BJ332","v":0},{"$f":"Singles!BK332","v":0},null,null,null,null,null,null,null,null,null,null,null,null,null,null,null,null,null,null,null,null,0]
[null,33,{"$f":"Singles!BB333","v":0},{"$f":"Singles!BC333","v":"TBC"},{"$f":"Singles!BD333","v":"TBC"},{"$f":"Singles!BE333","v":"TBC"},{"$f":"Singles!BF333","v":"TBC"},{"$f":"Singles!BG333","v":"TBC"},{"$f":"Singles!BH333","v":"TBC"},null,{"$f":"Singles!BI333","v":0},{"$f":"Singles!BJ333","v":0},{"$f":"Singles!BK333","v":0},null,null,null,null,null,null,null,null,null,null,null,null,null,null,null,null,null,null,null,null,{"$f":"C39","v":0}]
[null,34,{"$f":"Singles!BB334","v":0},{"$f":"Singles!BC334","v":"TBC"},{"$f":"Singles!BD334","v":"TBC"},{"$f":"Singles!BE334","v":"TBC"},{"$f":"Singles!BF334","v":"TBC"},{"$f":"Singles!BG334","v":"TBC"},{"$f":"Singles!BH334","v":"TBC"},null,{"$f":"Singles!BI334","v":0},{"$f":"Singles!BJ334","v":0},{"$f":"Singles!BK334","v":0},null,null,null,null,null,null,null,null,null,null,null,null,null,null,null,null,null,null,null,null,0]
[null,35,{"$f":"Singles!BB335","v":0},{"$f":"Singles!BC335","v":"TBC"},{"$f":"Singles!BD335","v":"TBC"},{"$f":"Singles!BE335","v":"TBC"},{"$f":"Singles!BF335","v":"TBC"},{"$f":"Singles!BG335","v":"TBC"},{"$f":"Singles!BH335","v":"TBC"},null,{"$f":"Singles!BI335","v":0},{"$f":"Singles!BJ335","v":0},{"$f":"Singles!BK335","v":0},null,null,null,null,null,null,null,null,null,null,null,null,null,null,null,null,null,null,null,null,0]
[null,36,{"$f":"Singles!BB336","v":0},{"$f":"Singles!BC336","v":"TBC"},{"$f":"Singles!BD336","v":"TBC"},{"$f":"Singles!BE336","v":"TBC"},{"$f":"Singles!BF336","v":"TBC"},{"$f":"Singles!BG336","v":"TBC"},{"$f":"Singles!BH336","v":"TBC"},null,{"$f":"Singles!BI336","v":0},{"$f":"Singles!BJ336","v":0},{"$f":"Singles!BK336","v":0},null,null,null,null,null,null,null,null,null,null,null,null,null,null,null,null,null,null,null,null,0]
[null,37,{"$f":"Singles!BB337","v":0},{"$f":"Singles!BC337","v":"TBC"},{"$f":"Singles!BD337","v":"TBC"},{"$f":"Singles!BE337","v":"TBC"},{"$f":"Singles!BF337","v":"TBC"},{"$f":"Singles!BG337","v":"TBC"},{"$f":"Singles!BH337","v":"TBC"},null,{"$f":"Singles!BI337","v":0},{"$f":"Singles!BJ337","v":0},{"$f":"Singles!BK337","v":0},null,null,null,null,null,null,null,null,null,null,null,null,null,null,null,null,null,null,null,null,0]
[null,38,{"$f":"Singles!BB338","v":0},{"$f":"Singles!BC338","v":"TBC"},{"$f":"Singles!BD338","v":"TBC"},{"$f":"Singles!BE338","v":"TBC"},{"$f":"Singles!BF338","v":"TBC"},{"$f":"Singles!BG338","v":"TBC"},{"$f":"Singles!BH338","v":"TBC"},null,{"$f":"Singles!BI338","v":0},{"$f":"Singles!BJ338","v":0},{"$f":"Singles!BK338","v":0},null,null,null,null,null,null,null,null,null,null,null,null,null,null,null,null,null,null,null,null,0]
[null,39,{"$f":"Singles!BB339","v":0},{"$f":"Singles!BC339","v":"TBC"},{"$f":"Singles!BD339","v":"TBC"},{"$f":"Singles!BE339","v":"TBC"},{"$f":"Singles!BF339","v":"TBC"},{"$f":"Singles!BG339","v":"TBC"},{"$f":"Singles!BH339","v":"TBC"},null,{"$f":"Singles!BI339","v":0},{"$f":"Singles!BJ339","v":0},{"$f":"Singles!BK339","v":0},null,null,null,null,null,null,null,null,null,null,null,null,null,null,null,null,null,null,null,null,0]
[null,40,{"$f":"Singles!BB340","v":0},{"$f":"Singles!BC340","v":"TBC"},{"$f":"Singles!BD340","v":"TBC"},{"$f":"Singles!BE340","v":"TBC"},{"$f":"Singles!BF340","v":"TBC"},{"$f":"Singles!BG340","v":"TBC"},{"$f":"Singles!BH340","v":"TBC"},null,{"$f":"Singles!BI340","v":0},{"$f":"Singles!BJ340","v":0},{"$f":"Singles!BK340","v":0},null,null,null,null,null,null,null,null,null,null,null,null,null,null,null,null,null,null,null,null,0]
[null,41,{"$f":"Singles!BB341","v":0},{"$f":"Singles!BC341","v":"TBC"},{"$f":"Singles!BD341","v":"TBC"},{"$f":"Singles!BE341","v":"TBC"},{"$f":"Singles!BF341","v":"TBC"},{"$f":"Singles!BG341","v":"TBC"},{"$f":"Singles!BH341","v":"TBC"},null,{"$f":"Singles!BI341","v":0},{"$f":"Singles!BJ341","v":0},{"$f":"Singles!BK341","v":0},null,null,null,null,null,null,null,null,null,null,null,null,null,null,null,null,null,null,null,null,0]
[null,42,{"$f":"Singles!BB342","v":0},{"$f":"Singles!BC342","v":"TBC"},{"$f":"Singles!BD342","v":"TBC"},{"$f":"Singles!BE342","v":"TBC"},{"$f":"Singles!BF342","v":"TBC"},{"$f":"Singles!BG342","v":"TBC"},{"$f":"Singles!BH342","v":"TBC"},null,{"$f":"Singles!BI342","v":0},{"$f":"Singles!BJ342","v":0},{"$f":"Singles!BK342","v":0},null,null,null,null,null,null,null,null,null,null,null,null,null,null,null,null,null,null,null,null,0]
[null,43,{"$f":"Singles!BB343","v":0},{"$f":"Singles!BC343","v":"TBC"},{"$f":"Singles!BD343","v":"TBC"},{"$f":"Singles!BE343","v":"TBC"},{"$f":"Singles!BF343","v":"TBC"},{"$f":"Singles!BG343","v":"TBC"},{"$f":"Singles!BH343","v":"TBC"},null,{"$f":"Singles!BI343","v":0},{"$f":"Singles!BJ343","v":0},{"$f":"Singles!BK343","v":0},null,null,null,null,null,null,null,null,null,null,null,null,null,null,null,null,null,null,null,null,0]
[null,44,{"$f":"Singles!BB344","v":0},{"$f":"Singles!BC344","v":"TBC"},{"$f":"Singles!BD344","v":"TBC"},{"$f":"Singles!BE344","v":"TBC"},{"$f":"Singles!BF344","v":"TBC"},{"$f":"Singles!BG344","v":"TBC"},{"$f":"Singles!BH344","v":"TBC"},null,{"$f":"Singles!BI344","v":0},{"$f":"Singles!BJ344","v":0},{"$f":"Singles!BK344","v":0},null,null,null,null,null,null,null,null,null,null,null,null,null,null,null,null,null,null,null,null,0]
[null,45,{"$f":"Singles!BB345","v":0},{"$f":"Singles!BC345","v":"TBC"},{"$f":"Singles!BD345","v":"TBC"},{"$f":"Singles!BE345","v":"TBC"},{"$f":"Singles!BF345","v":"TBC"},{"$f":"Singles!BG345","v":"TBC"},{"$f":"Singles!BH345","v":"TBC"},null,{"$f":"Singles!BI345","v":0},{"$f":"Singles!BJ345","v":0},{"$f":"Singles!BK345","v":0},null,null,null,null,null,null,null,null,null,null,null,null,null,null,null,null,null,null,null,null,0]
[null,46,{"$f":"Singles!BB346","v":0},{"$f":"Singles!BC346","v":"TBC"},{"$f":"Singles!BD346","v":"TBC"},{"$f":"Singles!BE346","v":"TBC"},{"$f":"Singles!BF346","v":"TBC"},{"$f":"Singles!BG346","v":"TBC"},{"$f":"Singles!BH346","v":"TBC"},null,{"$f":"Singles!BI346","v":0},{"$f":"Singles!BJ346","v":0},{"$f":"Singles!BK346","v":0},null,null,null,null,null,null,null,null,null,null,null,null,null,null,null,null,null,null,null,null,0]
[null,47,{"$f":"Singles!BB347","v":0},{"$f":"Singles!BC347","v":"TBC"},{"$f":"Singles!BD347","v":"TBC"},{"$f":"Singles!BE347","v":"TBC"},{"$f":"Singles!BF347","v":"TBC"},{"$f":"Singles!BG347","v":"TBC"},{"$f":"Singles!BH347","v":"TBC"},null,{"$f":"Singles!BI347","v":0},{"$f":"Singles!BJ347","v":0},{"$f":"Singles!BK347","v":0},null,null,null,null,null,null,null,null,null,null,null,null,null,null,null,null,null,null,null,null,0]
[null,48,{"$f":"Singles!BB348","v":0},{"$f":"Singles!BC348","v":"TBC"},{"$f":"Singles!BD348","v":"TBC"},{"$f":"Singles!BE348","v":"TBC"},{"$f":"Singles!BF348","v":"TBC"},{"$f":"Singles!BG348","v":"TBC"},{"$f":"Singles!BH348","v":"TBC"},null,{"$f":"Singles!BI348","v":0},{"$f":"Singles!BJ348","v":0},{"$f":"Singles!BK348","v":0},null,null,null,null,null,null,null,null,null,null,null,null,null,null,null,null,null,null,null,null,0]
[null,49,{"$f":"Singles!BB349","v":0},{"$f":"Singles!BC349","v":"TBC"},{"$f":"Singles!BD349","v":"TBC"},{"$f":"Singles!BE349","v":"TBC"},{"$f":"Singles!BF349","v":"TBC"},{"$f":"Singles!BG349","v":"TBC"},{"$f":"Singles!BH349","v":"TBC"},null,{"$f":"Singles!BI349","v":0},{"$f":"Singles!BJ349","v":0},{"$f":"Singles!BK349","v":0},null,null,null,null,null,null,null,null,null,null,null,null,null,null,null,null,null,null,null,null,0]
[null,50,{"$f":"Singles!BB350","v":0},{"$f":"Singles!BC350","v":"TBC"},{"$f":"Singles!BD350","v":"TBC"},{"$f":"Singles!BE350","v":"TBC"},{"$f":"Singles!BF350","v":"TBC"},{"$f":"Singles!BG350","v":"TBC"},{"$f":"Singles!BH350","v":"TBC"},null,{"$f":"Singles!BI350","v":0},{"$f":"Singles!BJ350","v":0},{"$f":"Singles!BK350","v":0},null,null,null,null,null,null,null,null,null,null,null,null,null,null,null,null,null,null,null,null,0]
[null,51,{"$f":"Singles!BB351","v":0},{"$f":"Singles!BC351","v":"TBC"},{"$f":"Singles!BD351","v":"TBC"},{"$f":"Singles!BE351","v":"TBC"},{"$f":"Singles!BF351","v":"TBC"},{"$f":"Singles!BG351","v":"TBC"},{"$f":"Singles!BH351","v":"TBC"},null,{"$f":"Singles!BI351","v":0},{"$f":"Singles!BJ351","v":0},{"$f":"Singles!BK351","v":0},null,null,null,null,null,null,null,null,null,null,null,null,null,null,null,null,null,null,null,null,0]
[null,52,{"$f":"Singles!BB352","v":0},{"$f":"Singles!BC352","v":"TBC"},{"$f":"Singles!BD352","v":"TBC"},{"$f":"Singles!BE352","v":"TBC"},{"$f":"Singles!BF352","v":"TBC"},{"$f":"Singles!BG352","v":"TBC"},{"$f":"Singles!BH352","v":"TBC"},null,{"$f":"Singles!BI352","v":0},{"$f":"Singles!BJ352","v":0},{"$f":"Singles!BK352","v":0},null,null,null,null,null,null,null,null,null,null,null,null,null,null,null,null,null,null,null,null,0]
[null,53,{"$f":"Singles!BB353","v":0},{"$f":"Singles!BC353","v":"TBC"},{"$f":"Singles!BD353","v":"TBC"},{"$f":"Singles!BE353","v":"TBC"},{"$f":"Singles!BF353","v":"TBC"},{"$f":"Singles!BG353","v":"TBC"},{"$f":"Singles!BH353","v":"TBC"},null,{"$f":"Singles!BI353","v":0},{"$f":"Singles!BJ353","v":0},{"$f":"Singles!BK353","v":0},null,null,null,null,null,null,null,null,null,null,null,null,null,null,null,null,null,null,null,null,0]
[null,54,{"$f":"Singles!BB354","v":0},{"$f":"Singles!BC354","v":"TBC"},{"$f":"Singles!BD354","v":"TBC"},{"$f":"Singles!BE354","v":"TBC"},{"$f":"Singles!BF354","v":"TBC"},{"$f":"Singles!BG354","v":"TBC"},{"$f":"Singles!BH354","v":"TBC"},null,{"$f":"Singles!BI354","v":0},{"$f":"Singles!BJ354","v":0},{"$f":"Singles!BK354","v":0},null,null,null,null,null,null,null,null,null,null,null,null,null,null,null,null,null,null,null,null,0]
[null,55,{"$f":"Singles!BB355","v":0},{"$f":"Singles!BC355","v":"TBC"},{"$f":"Singles!BD355","v":"TBC"},{"$f":"Singles!BE355","v":"TBC"},{"$f":"Singles!BF355","v":"TBC"},{"$f":"Singles!BG355","v":"TBC"},{"$f":"Singles!BH355","v":"TBC"},null,{"$f":"Singles!BI355","v":0},{"$f":"Singles!BJ355","v":0},{"$f":"Singles!BK355","v":0},null,null,null,null,null,null,null,null,null,null,null,null,null,null,null,null,null,null,null,null,0]
[null,56,{"$f":"Singles!BB356","v":0},{"$f":"Singles!BC356","v":"TBC"},{"$f":"Singles!BD356","v":"TBC"},{"$f":"Singles!BE356","v":"TBC"},{"$f":"Singles!BF356","v":"TBC"},{"$f":"Singles!BG356","v":"TBC"},{"$f":"Singles!BH356","v":"TBC"},null,{"$f":"Singles!BI356","v":0},{"$f":"Singles!BJ356","v":0},{"$f":"Singles!BK356","v":0},null,null,null,null,null,null,null,null,null,null,null,null,null,null,null,null,null,null,null,null,0]
[null,57,{"$f":"Singles!BB357","v":0},{"$f":"Singles!BC357","v":"TBC"},{"$f":"Singles!BD357","v":"TBC"},{"$f":"Singles!BE357","v":"TBC"},{"$f":"Singles!BF357","v":"TBC"},{"$f":"Singles!BG357","v":"TBC"},{"$f":"Singles!BH357","v":"TBC"},null,{"$f":"Singles!BI357","v":0},{"$f":"Singles!BJ357","v":0},{"$f":"Singles!BK357","v":0},null,null,null,null,null,null,null,null,null,null,null,null,null,null,null,null,null,null,null,null,0]
[null,58,{"$f":"Singles!BB358","v":0},{"$f":"Singles!BC358","v":"TBC"},{"$f":"Singles!BD358","v":"TBC"},{"$f":"Singles!BE358","v":"TBC"},{"$f":"Singles!BF358","v":"TBC"},{"$f":"Singles!BG358","v":"TBC"},{"$f":"Singles!BH358","v":"TBC"},null,{"$f":"Singles!BI358","v":0},{"$f":"Singles!BJ358","v":0},{"$f":"Singles!BK358","v":0},null,null,null,null,null,null,null,null,null,null,null,null,null,null,null,null,null,null,null,null,0]
[null,59,{"$f":"Singles!BB359","v":0},{"$f":"Singles!BC359","v":"TBC"},{"$f":"Singles!BD359","v":"TBC"},{"$f":"Singles!BE359","v":"TBC"},{"$f":"Singles!BF359","v":"TBC"},{"$f":"Singles!BG359","v":"TBC"},{"$f":"Singles!BH359","v":"TBC"},null,{"$f":"Singles!BI359","v":0},{"$f":"Singles!BJ359","v":0},{"$f":"Singles!BK359","v":0},null,null,null,null,null,null,null,null,null,null,null,null,null,null,null,null,null,null,null,null,0]
[null,60,{"$f":"Singles!BB360","v":0},{"$f":"Singles!BC360","v":"TBC"},{"$f":"Singles!BD360","v":"TBC"},{"$f":"Singles!BE360","v":"TBC"},{"$f":"Singles!BF360","v":"TBC"},{"$f":"Singles!BG360","v":"TBC"},{"$f":"Singles!BH360","v":"TBC"},null,{"$f":"Singles!BI360","v":0},{"$f":"Singles!BJ360","v":0},{"$f":"Singles!BK360","v":0},null,null,null,null,null,null,null,null,null,null,null,null,null,null,null,null,null,null,null,null,0]
[null,61,{"$f":"Singles!BB361","v":0},{"$f":"Singles!BC361","v":"TBC"},{"$f":"Singles!BD361","v":"TBC"},{"$f":"Singles!BE361","v":"TBC"},{"$f":"Singles!BF361","v":"TBC"},{"$f":"Singles!BG361","v":"TBC"},{"$f":"Singles!BH361","v":"TBC"},null,{"$f":"Singles!BI361","v":0},{"$f":"Singles!BJ361","v":0},{"$f":"Singles!BK361","v":0},null,null,null,null,null,null,null,null,null,null,null,null,null,null,null,null,null,null,null,null,0]
[null,62,{"$f":"Singles!BB362","v":0},{"$f":"Singles!BC362","v":"TBC"},{"$f":"Singles!BD362","v":"TBC"},{"$f":"Singles!BE362","v":"TBC"},{"$f":"Singles!BF362","v":"TBC"},{"$f":"Singles!BG362","v":"TBC"},{"$f":"Singles!BH362","v":"TBC"},null,{"$f":"Singles!BI362","v":0},{"$f":"Singles!BJ362","v":0},{"$f":"Singles!BK362","v":0},null,null,null,null,null,null,null,null,null,null,null,null,null,null,null,null,null,null,null,null,0]
[null,63,{"$f":"Singles!BB363","v":0},{"$f":"Singles!BC363","v":"TBC"},{"$f":"Singles!BD363","v":"TBC"},{"$f":"Singles!BE363","v":"TBC"},{"$f":"Singles!BF363","v":"TBC"},{"$f":"Singles!BG363","v":"TBC"},{"$f":"Singles!BH363","v":"TBC"},null,{"$f":"Singles!BI363","v":0},{"$f":"Singles!BJ363","v":0},{"$f":"Singles!BK363","v":0},null,null,null,null,null,null,null,null,null,null,null,null,null,null,null,null,null,null,null,null,0]
[null,64,{"$f":"Singles!BB364","v":0},{"$f":"Singles!BC364","v":"TBC"},{"$f":"Singles!BD364","v":"TBC"},{"$f":"Singles!BE364","v":"TBC"},{"$f":"Singles!BF364","v":"TBC"},{"$f":"Singles!BG364","v":"TBC"},{"$f":"Singles!BH364","v":"TBC"},null,{"$f":"Singles!BI364","v":0},{"$f":"Singles!BJ364","v":0},{"$f":"Singles!BK364","v":0},null,null,null,null,null,null,null,null,null,null,null,null,null,null,null,null,null,null,null,null,0]
[null,65,{"$f":"Singles!BB365","v":0},{"$f":"Singles!BC365","v":"TBC"},{"$f":"Singles!BD365","v":"TBC"},{"$f":"Singles!BE365","v":"TBC"},{"$f":"Singles!BF365","v":"TBC"},{"$f":"Singles!BG365","v":"TBC"},{"$f":"Singles!BH365","v":"TBC"},null,{"$f":"Singles!BI365","v":0},{"$f":"Singles!BJ365","v":0},{"$f":"Singles!BK365","v":0},null,null,null,null,null,null,null,null,null,null,null,null,null,null,null,null,null,null,null,null,0]
[null,66,{"$f":"Singles!BB366","v":0},{"$f":"Singles!BC366","v":"TBC"},{"$f":"Singles!BD366","v":"TBC"},{"$f":"Singles!BE366","v":"TBC"},{"$f":"Singles!BF366","v":"TBC"},{"$f":"Singles!BG366","v":"TBC"},{"$f":"Singles!BH366","v":"TBC"},null,{"$f":"Singles!BI366","v":0},{"$f":"Singles!BJ366","v":0},{"$f":"Singles!BK366","v":0},null,null,null,null,null,null,null,null,null,null,null,null,null,null,null,null,null,null,null,null,0]
[null,67,{"$f":"Singles!BB367","v":0},{"$f":"Singles!BC367","v":"TBC"},{"$f":"Singles!BD367","v":"TBC"},{"$f":"Singles!BE367","v":"TBC"},{"$f":"Singles!BF367","v":"TBC"},{"$f":"Singles!BG367","v":"TBC"},{"$f":"Singles!BH367","v":"TBC"},null,{"$f":"Singles!BI367","v":0},{"$f":"Singles!BJ367","v":0},{"$f":"Singles!BK367","v":0},null,null,null,null,null,null,null,null,null,null,null,null,null,null,null,null,null,null,null,null,0]
[null,68,{"$f":"Singles!BB368","v":0},{"$f":"Singles!BC368","v":"TBC"},{"$f":"Singles!BD368","v":"TBC"},{"$f":"Singles!BE368","v":"TBC"},{"$f":"Singles!BF368","v":"TBC"},{"$f":"Singles!BG368","v":"TBC"},{"$f":"Singles!BH368","v":"TBC"},null,{"$f":"Singles!BI368","v":0},{"$f":"Singles!BJ368","v":0},{"$f":"Singles!BK368","v":0},null,null,null,null,null,null,null,null,null,null,null,null,null,null,null,null,null,null,null,null,0]
[null,69,{"$f":"Singles!BB369","v":0},{"$f":"Singles!BC369","v":"TBC"},{"$f":"Singles!BD369","v":"TBC"},{"$f":"Singles!BE369","v":"TBC"},{"$f":"Singles!BF369","v":"TBC"},{"$f":"Singles!BG369","v":"TBC"},{"$f":"Singles!BH369","v":"TBC"},null,{"$f":"Singles!BI369","v":0},{"$f":"Singles!BJ369","v":0},{"$f":"Singles!BK369","v":0},null,null,null,null,null,null,null,null,null,null,null,null,null,null,null,null,null,null,null,null,0]
[null,70,{"$f":"Singles!BB370","v":0},{"$f":"Singles!BC370","v":"TBC"},{"$f":"Singles!BD370","v":"TBC"},{"$f":"Singles!BE370","v":"TBC"},{"$f":"Singles!BF370","v":"TBC"},{"$f":"Singles!BG370","v":"TBC"},{"$f":"Singles!BH370","v":"TBC"},null,{"$f":"Singles!BI370","v":0},{"$f":"Singles!BJ370","v":0},{"$f":"Singles!BK370","v":0},null,null,null,null,null,null,null,null,null,null,null,null,null,null,null,null,null,null,null,null,0]
[null,71,{"$f":"Singles!BB371","v":0},{"$f":"Singles!BC371","v":"TBC"},{"$f":"Singles!BD371","v":"TBC"},{"$f":"Singles!BE371","v":"TBC"},{"$f":"Singles!BF371","v":"TBC"},{"$f":"Singles!BG371","v":"TBC"},{"$f":"Singles!BH371","v":"TBC"},null,{"$f":"Singles!BI371","v":0},{"$f":"Singles!BJ371","v":0},{"$f":"Singles!BK371","v":0},null,null,null,null,null,null,null,null,null,null,null,null,null,null,null,null,null,null,null,null,0]
[null,72,{"$f":"Singles!BB372","v":0},{"$f":"Singles!BC372","v":"TBC"},{"$f":"Singles!BD372","v":"TBC"},{"$f":"Singles!BE372","v":"TBC"},{"$f":"Singles!BF372","v":"TBC"},{"$f":"Singles!BG372","v":"TBC"},{"$f":"Singles!BH372","v":"TBC"},null,{"$f":"Singles!BI372","v":0},{"$f":"Singles!BJ372","v":0},{"$f":"Singles!BK372","v":0},null,null,null,null,null,null,null,null,null,null,null,null,null,null,null,null,null,null,null,null,0]
[null,73,{"$f":"Singles!BB373","v":0},{"$f":"Singles!BC373","v":"TBC"},{"$f":"Singles!BD373","v":"TBC"},{"$f":"Singles!BE373","v":"TBC"},{"$f":"Singles!BF373","v":"TBC"},{"$f":"Singles!BG373","v":"TBC"},{"$f":"Singles!BH373","v":"TBC"},null,{"$f":"Singles!BI373","v":0},{"$f":"Singles!BJ373","v":0},{"$f":"Singles!BK373","v":0},null,null,null,null,null,null,null,null,null,null,null,null,null,null,null,null,null,null,null,null,0]
[null,74,{"$f":"Singles!BB374","v":0},{"$f":"Singles!BC374","v":"TBC"},{"$f":"Singles!BD374","v":"TBC"},{"$f":"Singles!BE374","v":"TBC"},{"$f":"Singles!BF374","v":"TBC"},{"$f":"Singles!BG374","v":"TBC"},{"$f":"Singles!BH374","v":"TBC"},null,{"$f":"Singles!BI374","v":0},{"$f":"Singles!BJ374","v":0},{"$f":"Singles!BK374","v":0},null,null,null,null,null,null,null,null,null,null,null,null,null,null,null,null,null,null,null,null,0]
[null,75,{"$f":"Singles!BB375","v":0},{"$f":"Singles!BC375","v":"TBC"},{"$f":"Singles!BD375","v":"TBC"},{"$f":"Singles!BE375","v":"TBC"},{"$f":"Singles!BF375","v":"TBC"},{"$f":"Singles!BG375","v":"TBC"},{"$f":"Singles!BH375","v":"TBC"},null,{"$f":"Singles!BI375","v":0},{"$f":"Singles!BJ375","v":0},{"$f":"Singles!BK375","v":0},null,null,null,null,null,null,null,null,null,null,null,null,null,null,null,null,null,null,null,null,0]
[{"$f":"$D$7","v":"IT Tallaght"}]

{"sheet":"CF","index":13,"n_rows":82,"n_cols":34,"rows_kept":82,"cut":false,"hidden":false,"merged":[[1,13,80,13],[81,0,81,13],[1,0,80,0],[0,0,0,13],[1,4,1,8],[1,10,1,12],[1,1,3,3],[2,10,3,10],[2,11,3,11],[2,12,3,12],[4,1,4,8],[4,10,4,12],[1,9,80,9]]}
[{"$f":"$D$7","v":"NUIG"}]
["NUIG","Female Compound",null,null,"Host Club",null,null,null,null,{"$f":"$D$7","v":"NUIG"},"Scores",null,null,"NUIG",null,null,null,null,null,null,null,null,null,null,null,null,null,null,null,null,null,null,null,{"$f":"AH7","v":"Niamh Kenny"}]
[null,null,null,null,{"$f":"Entries!K6","v":"UL IV"},{"$f":"Entries!K7","v":"DkIT IV"},{"$f":"Entries!K8","v":"GMIT IV"},{"$f":"Entries!K9","v":"DCU IV"},{"$f":"Entries!K10","v":"NUIG IV"},null,"Total","Lowest","League"]
[]
[null,"NUIG",null,null,null,null,null,null,null,null,"NUIG"]
[null,null,"Name","College",{"$f":"Entries!K6","v":"UL IV"},{"$f":"Entries!K7","v":"DkIT IV"},{"$f":"Entries!K8","v":"GMIT IV"},{"$f":"Entries!K9","v":"DCU IV"},{"$f":"Entries!K10","v":"NUIG IV"},null,"Total","Lowest","League total"]
[null,1,{"$f":"Singles!BO301","v":"Niamh Kenny"},{"$f":"Singles!BP301","v":"NUIG"},{"$f":"Singles!BQ301","v":529},{"$f":"Singles!BR301","v":541},{"$f":"Singles!BS301","v":538},{"$f":"Singles!BT301","v":543},{"$f":"Singles!BU301","v":517},null,{"$f":"Singles!BV301","v":2668},{"$f":"Singles!BW301","v":517},{"$f":"Singles!BX301","v":2151.0543540999997},null,null,null,null,null,null,null,null,null,null,null,null,null,null,null,null,null,null,null,null,{"$f":"C7","v":"Niamh Kenny"}]
[null,2,{"$f":"Singles!BO303","v":"Beth Freeman"},{"$f":"Singles!BP303","v":"DCU"},{"$f":"Singles!BQ303","v":494},{"$f":"Singles!BR303","v":517},{"$f":"Singles!BS303","v":0},{"$f":"Singles!BT303","v":526},{"$f":"Singles!BU303","v":517},null,{"$f":"Singles!BV303","v":2054},{"$f":"Singles!BW303","v":0},{"$f":"Singles!BX303","v":2054.0526516999998},null,null,null,null,null,null,null,null,null,null,null,null,null,null,null,null,null,null,null,null,"Beth Freeman"]
[null,3,{"$f":"Singles!BO302","v":"Niamh Merry"},{"$f":"Singles!BP302","v":"DCU"},{"$f":"Singles!BQ302","v":361},{"$f":"Singles!BR302","v":516},{"$f":"Singles!BS302","v":523},{"$f":"Singles!BT302","v":513},{"$f":"Singles!BU302","v":386},null,{"$f":"Singles!BV302","v":2299},{"$f":"Singles!BW302","v":361},{"$f":"Singles!BX302","v":1938.0523516000001},null,null,null,null,null,null,null,null,null,null,null,null,null,null,null,null,null,null,null,null,"Niamh Merry"]
[null,4,{"$f":"Singles!BO304","v":"Kerrie Leonard"},{"$f":"Singles!BP304","v":"MU"},{"$f":"Singles!BQ304","v":537},{"$f":"Singles!BR304","v":0},{"$f":"Singles!BS304","v":0},{"$f":"Singles!BT304","v":0},{"$f":"Singles!BU304","v":0},null,{"$f":"Singles!BV304","v":537},{"$f":"Singles!BW304","v":0},{"$f":"Singles!BX304","v":537.05370000000005},null,null,null,null,null,null,null,null,null,null,null,null,null,null,null,null,null,null,null,null,"Kerrie Leonard"]
[null,5,{"$f":"Singles!BO305","v":"Morgan Russell-Cowan"},{"$f":"Singles!BP305","v":"UU"},{"$f":"Singles!BQ305","v":0},{"$f":"Singles!BR305","v":0},{"$f":"Singles!BS305","v":0},{"$f":"Singles!BT305","v":523},{"$f":"Singles!BU305","v":0},null,{"$f":"Singles!BV305","v":523},{"$f":"Singles!BW305","v":0},{"$f":"Singles!BX305","v":523.05229999999995},null,null,null,null,null,null,null,null,null,null,null,null,null,null,null,null,null,null,null,null,"Morgan Russell-Cowan"]
[null,6,{"$f":"Singles!BO306","v":0},{"$f":"Singles!BP306","v":"TBC"},{"$f":"Singles!BQ306","v":"TBC"},{"$f":"Singles!BR306","v":"TBC"},{"$f":"Singles!BS306","v":"TBC"},{"$f":"Singles!BT306","v":"TBC"},{"$f":"Singles!BU306","v":"TBC"},null,{"$f":"Singles!BV306","v":0},{"$f":"Singles!BW306","v":0},{"$f":"Singles!BX306","v":0},null,null,null,null,null,null,null,null,null,null,null,null,null,null,null,null,null,null,null,null,0]
[null,7,{"$f":"Singles!BO307","v":0},{"$f":"Singles!BP307","v":"TBC"},{"$f":"Singles!BQ307","v":"TBC"},{"$f":"Singles!BR307","v":"TBC"},{"$f":"Singles!BS307","v":"TBC"},{"$f":"Singles!BT307","v":"TBC"},{"$f":"Singles!BU307","v":"TBC"},null,{"$f":"Singles!BV307","v":0},{"$f":"Singles!BW307","v":0},{"$f":"Singles!BX307","v":0},null,null,null,null,null,null,null,null,null,null,null,null,null,null,null,null,null,null,null,null,0]
[null,8,{"$f":"Singles!BO308","v":0},{"$f":"Singles!BP308","v":"TBC"},{"$f":"Singles!BQ308","v":"TBC"},{"$f":"Singles!BR308","v":"TBC"},{"$f":"Singles!BS308","v":"TBC"},{"$f":"Singles!BT308","v":"TBC"},{"$f":"Singles!BU308","v":"TBC"},null,{"$f":"Singles!BV308","v":0},{"$f":"Singles!BW308","v":0},{"$f":"Singles!BX308","v":0},null,null,null,null,null,null,null,null,null,null,null,null,null,null,null,null,null,null,null,null,0]
[null,9,{"$f":"Singles!BO309","v":0},{"$f":"Singles!BP309","v":"TBC"},{"$f":"Singles!BQ309","v":"TBC"},{"$f":"Singles!BR309","v":"TBC"},{"$f":"Singles!BS309","v":"TBC"},{"$f":"Singles!BT309","v":"TBC"},{"$f":"Singles!BU309","v":"TBC"},null,{"$f":"Singles!BV309","v":0},{"$f":"Singles!BW309","v":0},{"$f":"Singles!BX309","v":0},null,null,null,null,null,null,null,null,null,null,null,null,null,null,null,null,null,null,null,null,0]
[null,10,{"$f":"Singles!BO310","v":0},{"$f":"Singles!BP310","v":"TBC"},{"$f":"Singles!BQ310","v":"TBC"},{"$f":"Singles!BR310","v":"TBC"},{"$f":"Singles!BS310","v":"TBC"},{"$f":"Singles!BT310","v":"TBC"},{"$f":"Singles!BU310","v":"TBC"},null,{"$f":"Singles!BV310","v":0},{"$f":"Singles!BW310","v":0},{"$f":"Singles!BX310","v":0},null,null,null,null,null,null,null,null,null,null,null,null,null,null,null,null,null,null,null,null,0]
[null,11,{"$f":"Singles!BO311","v":0},{"$f":"Singles!BP311","v":"TBC"},{"$f":"Singles!BQ311","v":"TBC"},{"$f":"Singles!BR311","v":"TBC"},{"$f":"Singles!BS311","v":"TBC"},{"$f":"Singles!BT311","v":"TBC"},{"$f":"Singles!BU311","v":"TBC"},null,{"$f":"Singles!BV311","v":0},{"$f":"Singles!BW311","v":0},{"$f":"Singles!BX311","v":0},null,null,null,null,null,null,null,null,null,null,null,null,null,null,null,null,null,null,null,null,0]
[null,12,{"$f":"Singles!BO312","v":0},{"$f":"Singles!BP312","v":"TBC"},{"$f":"Singles!BQ312","v":"TBC"},{"$f":"Singles!BR312","v":"TBC"},{"$f":"Singles!BS312","v":"TBC"},{"$f":"Singles!BT312","v":"TBC"},{"$f":"Singles!BU312","v":"TBC"},null,{"$f":"Singles!BV312","v":0},{"$f":"Singles!BW312","v":0},{"$f":"Singles!BX312","v":0},null,null,null,null,null,null,null,null,null,null,null,null,null,null,null,null,null,null,null,null,0]
[null,13,{"$f":"Singles!BO313","v":0},{"$f":"Singles!BP313","v":"TBC"},{"$f":"Singles!BQ313","v":"TBC"},{"$f":"Singles!BR313","v":"TBC"},{"$f":"Singles!BS313","v":"TBC"},{"$f":"Singles!BT313","v":"TBC"},{"$f":"Singles!BU313","v":"TBC"},null,{"$f":"Singles!BV313","v":0},{"$f":"Singles!BW313","v":0},{"$f":"Singles!BX313","v":0},null,null,null,null,null,null,null,null,null,null,null,null,null,null,null,null,null,null,null,null,0]
[null,14,{"$f":"Singles!BO314","v":0},{"$f":"Singles!BP314","v":"TBC"},{"$f":"Singles!BQ314","v":"TBC"},{"$f":"Singles!BR314","v":"TBC"},{"$f":"Singles!BS314","v":"TBC"},{"$f":"Singles!BT314","v":"TBC"},{"$f":"Singles!BU314","v":"TBC"},null,{"$f":"Singles!BV314","v":0},{"$f":"Singles!BW314","v":0},{"$f":"Singles!BX314","v":0},null,null,null,null,null,null,null,null,null,null,null,null,null,null,null,null,null,null,null,null,0]
[null,15,{"$f":"Singles!BO315","v":0},{"$f":"Singles!BP315","v":"TBC"},{"$f":"Singles!BQ315","v":"TBC"},{"$f":"Singles!BR315","v":"TBC"},{"$f":"Singles!BS315","v":"TBC"},{"$f":"Singles!BT315","v":"TBC"},{"$f":"Singles!BU315","v":"TBC"},null,{"$f":"Singles!BV315","v":0},{"$f":"Singles!BW315","v":0},{"$f":"Singles!BX315","v":0},null,null,null,null,null,null,null,null,null,null,null,null,null,null,null,null,null,null,null,null,0]
[null,16,{"$f":"Singles!BO316","v":0},{"$f":"Singles!BP316","v":"TBC"},{"$f":"Singles!BQ316","v":"TBC"},{"$f":"Singles!BR316","v":"TBC"},{"$f":"Singles!BS316","v":"TBC"},{"$f":"Singles!BT316","v":"TBC"},{"$f":"Singles!BU316","v":"TBC"},null,{"$f":"Singles!BV316","v":0},{"$f":"Singles!BW316","v":0},{"$f":"Singles!BX316","v":0},null,null,null,null,null,null,null,null,null,null,null,null,null,null,null,null,null,null,null,null,0]
[null,17,{"$f":"Singles!BO317","v":0},{"$f":"Singles!BP317","v":"TBC"},{"$f":"Singles!BQ317","v":"TBC"},{"$f":"Singles!BR317","v":"TBC"},{"$f":"Singles!BS317","v":"TBC"},{"$f":"Singles!BT317","v":"TBC"},{"$f":"Singles!BU317","v":"TBC"},null,{"$f":"Singles!BV317","v":0},{"$f":"Singles!BW317","v":0},{"$f":"Singles!BX317","v":0},null,null,null,null,null,null,null,null,null,null,null,null,null,null,null,null,null,null,null,null,0]
[null,18,{"$f":"Singles!BO318","v":0},{"$f":"Singles!BP318","v":"TBC"},{"$f":"Singles!BQ318","v":"TBC"},{"$f":"Singles!BR318","v":"TBC"},{"$f":"Singles!BS318","v":"TBC"},{"$f":"Singles!BT318","v":"TBC"},{"$f":"Singles!BU318","v":"TBC"},null,{"$f":"Singles!BV318","v":0},{"$f":"Singles!BW318","v":0},{"$f":"Singles!BX318","v":0},null,null,null,null,null,null,null,null,null,null,null,null,null,null,null,null,null,null,null,null,0]
[null,19,{"$f":"Singles!BO319","v":0},{"$f":"Singles!BP319","v":"TBC"},{"$f":"Singles!BQ319","v":"TBC"},{"$f":"Singles!BR319","v":"TBC"},{"$f":"Singles!BS319","v":"TBC"},{"$f":"Singles!BT319","v":"TBC"},{"$f":"Singles!BU319","v":"TBC"},null,{"$f":"Singles!BV319","v":0},{"$f":"Singles!BW319","v":0},{"$f":"Singles!BX319","v":0},null,null,null,null,null,null,null,null,null,null,null,null,null,null,null,null,null,null,null,null,0]
[null,20,{"$f":"Singles!BO320","v":0},{"$f":"Singles!BP320","v":"TBC"},{"$f":"Singles!BQ320","v":"TBC"},{"$f":"Singles!BR320","v":"TBC"},{"$f":"Singles!BS320","v":"TBC"},{"$f":"Singles!BT320","v":"TBC"},{"$f":"Singles!BU320","v":"TBC"},null,{"$f":"Singles!BV320","v":0},{"$f":"Singles!BW320","v":0},{"$f":"Singles!BX320","v":0},null,null,null,null,null,null,null,null,null,null,null,null,null,null,null,null,null,null,null,null,0]
[null,21,{"$f":"Singles!BO321","v":0},{"$f":"Singles!BP321","v":"TBC"},{"$f":"Singles!BQ321","v":"TBC"},{"$f":"Singles!BR321","v":"TBC"},{"$f":"Singles!BS321","v":"TBC"},{"$f":"Singles!BT321","v":"TBC"},{"$f":"Singles!BU321","v":"TBC"},null,{"$f":"Singles!BV321","v":0},{"$f":"Singles!BW321","v":0},{"$f":"Singles!BX321","v":0},null,null,null,null,null,null,null,null,null,null,null,null,null,null,null,null,null,null,null,null,0]
[null,22,{"$f":"Singles!BO322","v":0},{"$f":"Singles!BP322","v":"TBC"},{"$f":"Singles!BQ322","v":"TBC"},{"$f":"Singles!BR322","v":"TBC"},{"$f":"Singles!BS322","v":"TBC"},{"$f":"Singles!BT322","v":"TBC"},{"$f":"Singles!BU322","v":"TBC"},null,{"$f":"Singles!BV322","v":0},{"$f":"Singles!BW322","v":0},{"$f":"Singles!BX322","v":0},null,null,null,null,null,null,null,null,null,null,null,null,null,null,null,null,null,null,null,null,0]
[null,23,{"$f":"Singles!BO323","v":0},{"$f":"Singles!BP323","v":"TBC"},{"$f":"Singles!BQ323","v":"TBC"},{"$f":"Singles!BR323","v":"TBC"},{"$f":"Singles!BS323","v":"TBC"},{"$f":"Singles!BT323","v":"TBC"},{"$f":"Singles!BU323","v":"TBC"},null,{"$f":"Singles!BV323","v":0},{"$f":"Singles!BW323","v":0},{"$f":"Singles!BX323","v":0},null,null,null,null,null,null,null,null,null,null,null,null,null,null,null,null,null,null,null,null,0]
[null,24,{"$f":"Singles!BO324","v":0},{"$f":"Singles!BP324","v":"TBC"},{"$f":"Singles!BQ324","v":"TBC"},{"$f":"Singles!BR324","v":"TBC"},{"$f":"Singles!BS324","v":"TBC"},{"$f":"Singles!BT324","v":"TBC"},{"$f":"Singles!BU324","v":"TBC"},null,{"$f":"Singles!BV324","v":0},{"$f":"Singles!BW324","v":0},{"$f":"Singles!BX324","v":0},null,null,null,null,null,null,null,null,null,null,null,null,null,null,null,null,null,null,null,null,0]
[null,25,{"$f":"Singles!BO325","v":0},{"$f":"Singles!BP325","v":"TBC"},{"$f":"Singles!BQ325","v":"TBC"},{"$f":"Singles!BR325","v":"TBC"},{"$f":"Singles!BS325","v":"TBC"},{"$f":"Singles!BT325","v":"TBC"},{"$f":"Singles!BU325","v":"TBC"},null,{"$f":"Singles!BV325","v":0},{"$f":"Singles!BW325","v":0},{"$f":"Singles!BX325","v":0},null,null,null,null,null,null,null,null,null,null,null,null,null,null,null,null,null,null,null,null,0]
[null,26,{"$f":"Singles!BO326","v":0},{"$f":"Singles!BP326","v":"TBC"},{"$f":"Singles!BQ326","v":"TBC"},{"$f":"Singles!BR326","v":"TBC"},{"$f":"Singles!BS326","v":"TBC"},{"$f":"Singles!BT326","v":"TBC"},{"$f":"Singles!BU326","v":"TBC"},null,{"$f":"Singles!BV326","v":0},{"$f":"Singles!BW326","v":0},{"$f":"Singles!BX326","v":0},null,null,null,null,null,null,null,null,null,null,null,null,null,null,null,null,null,null,null,null,0]
[null,27,{"$f":"Singles!BO327","v":0},{"$f":"Singles!BP327","v":"TBC"},{"$f":"Singles!BQ327","v":"TBC"},{"$f":"Singles!BR327","v":"TBC"},{"$f":"Singles!BS327","v":"TBC"},{"$f":"Singles!BT327","v":"TBC"},{"$f":"Singles!BU327","v":"TBC"},null,{"$f":"Singles!BV327","v":0},{"$f":"Singles!BW327","v":0},{"$f":"Singles!BX327","v":0},null,null,null,null,null,null,null,null,null,null,null,null,null,null,null,null,null,null,null,null,0]
[null,28,{"$f":"Singles!BO328","v":0},{"$f":"Singles!BP328","v":"TBC"},{"$f":"Singles!BQ328","v":"TBC"},{"$f":"Singles!BR328","v":"TBC"},{"$f":"Singles!BS328","v":"TBC"},{"$f":"Singles!BT328","v":"TBC"},{"$f":"Singles!BU328","v":"TBC"},null,{"$f":"Singles!BV328","v":0},{"$f":"Singles!BW328","v":0},{"$f":"Singles!BX328","v":0},null,null,null,null,null,null,null,null,null,null,null,null,null,null,null,null,null,null,null,null,0]
[null,29,{"$f":"Singles!BO329","v":0},{"$f":"Singles!BP329","v":"TBC"},{"$f":"Singles!BQ329","v":"TBC"},{"$f":"Singles!BR329","v":"TBC"},{"$f":"Singles!BS329","v":"TBC"},{"$f":"Singles!BT329","v":"TBC"},{"$f":"Singles!BU329","v":"TBC"},null,{"$f":"Singles!BV329","v":0},{"$f":"Singles!BW329","v":0},{"$f":"Singles!BX329","v":0},null,null,null,null,null,null,null,null,null,null,null,null,null,null,null,null,null,null,null,null,0]
[null,30,{"$f":"Singles!BO330","v":0},{"$f":"Singles!BP330","v":"TBC"},{"$f":"Singles!BQ330","v":"TBC"},{"$f":"Singles!BR330","v":"TBC"},{"$f":"Singles!BS330","v":"TBC"},{"$f":"Singles!BT330","v":"TBC"},{"$f":"Singles!BU330","v":"TBC"},null,{"$f":"Singles!BV330","v":0},{"$f":"Singles!BW330","v":0},{"$f":"Singles!BX330","v":0},null,null,null,null,null,null,null,null,null,null,null,null,null,null,null,null,null,null,null,null,0]
[null,31,{"$f":"Singles!BO331","v":0},{"$f":"Singles!BP331","v":"TBC"},{"$f":"Singles!BQ331","v":"TBC"},{"$f":"Singles!BR331","v":"TBC"},{"$f":"Singles!BS331","v":"TBC"},{"$f":"Singles!BT331","v":"TBC"},{"$f":"Singles!BU331","v":"TBC"},null,{"$f":"Singles!BV331","v":0},{"$f":"Singles!BW331","v":0},{"$f":"Singles!BX331","v":0},null,null,null,null,null,null,null,null,null,null,null,null,null,null,null,null,null,null,null,null,0]
[null,32,{"$f":"Singles!BO332","v":0},{"$f":"Singles!BP332","v":"TBC"},{"$f":"Singles!BQ332","v":"TBC"},{"$f":"Singles!BR332","v":"TBC"},{"$f":"Singles!BS332","v":"TBC"},{"$f":"Singles!BT332","v":"TBC"},{"$f":"Singles!BU332","v":"TBC"},null,{"$f":"Singles!BV332","v":0},{"$f":"Singles!BW332","v":0},{"$f":"Singles!BX332","v":0},null,null,null,null,null,null,null,null,null,null,null,null,null,null,null,null,null,null,null,null,0]
[null,33,{"$f":"Singles!BO333","v":0},{"$f":"Singles!BP333","v":"TBC"},{"$f":"Singles!BQ333","v":"TBC"},{"$f":"Singles!BR333","v":"TBC"},{"$f":"Singles!BS333","v":"TBC"},{"$f":"Singles!BT333","v":"TBC"},{"$f":"Singles!BU333","v":"TBC"},null,{"$f":"Singles!BV333","v":0},{"$f":"Singles!BW333","v":0},{"$f":"Singles!BX333","v":0},null,null,null,null,null,null,null,null,null,null,null,null,null,null,null,null,null,null,null,null,{"$f":"C39","v":0}]
[null,34,{"$f":"Singles!BO334","v":0},{"$f":"Singles!BP334","v":"TBC"},{"$f":"Singles!BQ334","v":"TBC"},{"$f":"Singles!BR334","v":"TBC"},{"$f":"Singles!BS334","v":"TBC"},{"$f":"Singles!BT334","v":"TBC"},{"$f":"Singles!BU334","v":"TBC"},null,{"$f":"Singles!BV334","v":0},{"$f":"Singles!BW334","v":0},{"$f":"Singles!BX334","v":0},null,null,null,null,null,null,null,null,null,null,null,null,null,null,null,null,null,null,null,null,0]
[null,35,{"$f":"Singles!BO335","v":0},{"$f":"Singles!BP335","v":"TBC"},{"$f":"Singles!BQ335","v":"TBC"},{"$f":"Singles!BR335","v":"TBC"},{"$f":"Singles!BS335","v":"TBC"},{"$f":"Singles!BT335","v":"TBC"},{"$f":"Singles!BU335","v":"TBC"},null,{"$f":"Singles!BV335","v":0},{"$f":"Singles!BW335","v":0},{"$f":"Singles!BX335","v":0},null,null,null,null,null,null,null,null,null,null,null,null,null,null,null,null,null,null,null,null,0]
[null,36,{"$f":"Singles!BO336","v":0},{"$f":"Singles!BP336","v":"TBC"},{"$f":"Singles!BQ336","v":"TBC"},{"$f":"Singles!BR336","v":"TBC"},{"$f":"Singles!BS336","v":"TBC"},{"$f":"Singles!BT336","v":"TBC"},{"$f":"Singles!BU336","v":"TBC"},null,{"$f":"Singles!BV336","v":0},{"$f":"Singles!BW336","v":0},{"$f":"Singles!BX336","v":0},null,null,null,null,null,null,null,null,null,null,null,null,null,null,null,null,null,null,null,null,0]
[null,37,{"$f":"Singles!BO337","v":0},{"$f":"Singles!BP337","v":"TBC"},{"$f":"Singles!BQ337","v":"TBC"},{"$f":"Singles!BR337","v":"TBC"},{"$f":"Singles!BS337","v":"TBC"},{"$f":"Singles!BT337","v":"TBC"},{"$f":"Singles!BU337","v":"TBC"},null,{"$f":"Singles!BV337","v":0},{"$f":"Singles!BW337","v":0},{"$f":"Singles!BX337","v":0},null,null,null,null,null,null,null,null,null,null,null,null,null,null,null,null,null,null,null,null,0]
[null,38,{"$f":"Singles!BO338","v":0},{"$f":"Singles!BP338","v":"TBC"},{"$f":"Singles!BQ338","v":"TBC"},{"$f":"Singles!BR338","v":"TBC"},{"$f":"Singles!BS338","v":"TBC"},{"$f":"Singles!BT338","v":"TBC"},{"$f":"Singles!BU338","v":"TBC"},null,{"$f":"Singles!BV338","v":0},{"$f":"Singles!BW338","v":0},{"$f":"Singles!BX338","v":0},null,null,null,null,null,null,null,null,null,null,null,null,null,null,null,null,null,null,null,null,0]
[null,39,{"$f":"Singles!BO339","v":0},{"$f":"Singles!BP339","v":"TBC"},{"$f":"Singles!BQ339","v":"TBC"},{"$f":"Singles!BR339","v":"TBC"},{"$f":"Singles!BS339","v":"TBC"},{"$f":"Singles!BT339","v":"TBC"},{"$f":"Singles!BU339","v":"TBC"},null,{"$f":"Singles!BV339","v":0},{"$f":"Singles!BW339","v":0},{"$f":"Singles!BX339","v":0},null,null,null,null,null,null,null,null,null,null,null,null,null,null,null,null,null,null,null,null,0]
[null,40,{"$f":"Singles!BO340","v":0},{"$f":"Singles!BP340","v":"TBC"},{"$f":"Singles!BQ340","v":"TBC"},{"$f":"Singles!BR340","v":"TBC"},{"$f":"Singles!BS340","v":"TBC"},{"$f":"Singles!BT340","v":"TBC"},{"$f":"Singles!BU340","v":"TBC"},null,{"$f":"Singles!BV340","v":0},{"$f":"Singles!BW340","v":0},{"$f":"Singles!BX340","v":0},null,null,null,null,null,null,null,null,null,null,null,null,null,null,null,null,null,null,null,null,0]
[null,41,{"$f":"Singles!BO341","v":0},{"$f":"Singles!BP341","v":"TBC"},{"$f":"Singles!BQ341","v":"TBC"},{"$f":"Singles!BR341","v":"TBC"},{"$f":"Singles!BS341","v":"TBC"},{"$f":"Singles!BT341","v":"TBC"},{"$f":"Singles!BU341","v":"TBC"},null,{"$f":"Singles!BV341","v":0},{"$f":"Singles!BW341","v":0},{"$f":"Singles!BX341","v":0},null,null,null,null,null,null,null,null,null,null,null,null,null,null,null,null,null,null,null,null,0]
[null,42,{"$f":"Singles!BO342","v":0},{"$f":"Singles!BP342","v":"TBC"},{"$f":"Singles!BQ342","v":"TBC"},{"$f":"Singles!BR342","v":"TBC"},{"$f":"Singles!BS342","v":"TBC"},{"$f":"Singles!BT342","v":"TBC"},{"$f":"Singles!BU342","v":"TBC"},null,{"$f":"Singles!BV342","v":0},{"$f":"Singles!BW342","v":0},{"$f":"Singles!BX342","v":0},null,null,null,null,null,null,null,null,null,null,null,null,null,null,null,null,null,null,null,null,0]
[null,43,{"$f":"Singles!BO343","v":0},{"$f":"Singles!BP343","v":"TBC"},{"$f":"Singles!BQ343","v":"TBC"},{"$f":"Singles!BR343","v":"TBC"},{"$f":"Singles!BS343","v":"TBC"},{"$f":"Singles!BT343","v":"TBC"},{"$f":"Singles!BU343","v":"TBC"},null,{"$f":"Singles!BV343","v":0},{"$f":"Singles!BW343","v":0},{"$f":"Singles!BX343","v":0},null,null,null,null,null,null,null,null,null,null,null,null,null,null,null,null,null,null,null,null,0]
[null,44,{"$f":"Singles!BO344","v":0},{"$f":"Singles!BP344","v":"TBC"},{"$f":"Singles!BQ344","v":"TBC"},{"$f":"Singles!BR344","v":"TBC"},{"$f":"Singles!BS344","v":"TBC"},{"$f":"Singles!BT344","v":"TBC"},{"$f":"Singles!BU344","v":"TBC"},null,{"$f":"Singles!BV344","v":0},{"$f":"Singles!BW344","v":0},{"$f":"Singles!BX344","v":0},null,null,null,null,null,null,null,null,null,null,null,null,null,null,null,null,null,null,null,null,0]
[null,45,{"$f":"Singles!BO345","v":0},{"$f":"Singles!BP345","v":"TBC"},{"$f":"Singles!BQ345","v":"TBC"},{"$f":"Singles!BR345","v":"TBC"},{"$f":"Singles!BS345","v":"TBC"},{"$f":"Singles!BT345","v":"TBC"},{"$f":"Singles!BU345","v":"TBC"},null,{"$f":"Singles!BV345","v":0},{"$f":"Singles!BW345","v":0},{"$f":"Singles!BX345","v":0},null,null,null,null,null,null,null,null,null,null,null,null,null,null,null,null,null,null,null,null,0]
[null,46,{"$f":"Singles!BO346","v":0},{"$f":"Singles!BP346","v":"TBC"},{"$f":"Singles!BQ346","v":"TBC"},{"$f":"Singles!BR346","v":"TBC"},{"$f":"Singles!BS346","v":"TBC"},{"$f":"Singles!BT346","v":"TBC"},{"$f":"Singles!BU346","v":"TBC"},null,{"$f":"Singles!BV346","v":0},{"$f":"Singles!BW346","v":0},{"$f":"Singles!BX346","v":0},null,null,null,null,null,null,null,null,null,null,null,null,null,null,null,null,null,null,null,null,0]
[null,47,{"$f":"Singles!BO347","v":0},{"$f":"Singles!BP347","v":"TBC"},{"$f":"Singles!BQ347","v":"TBC"},{"$f":"Singles!BR347","v":"TBC"},{"$f":"Singles!BS347","v":"TBC"},{"$f":"Singles!BT347","v":"TBC"},{"$f":"Singles!BU347","v":"TBC"},null,{"$f":"Singles!BV347","v":0},{"$f":"Singles!BW347","v":0},{"$f":"Singles!BX347","v":0},null,null,null,null,null,null,null,null,null,null,null,null,null,null,null,null,null,null,null,null,0]
[null,48,{"$f":"Singles!BO348","v":0},{"$f":"Singles!BP348","v":"TBC"},{"$f":"Singles!BQ348","v":"TBC"},{"$f":"Singles!BR348","v":"TBC"},{"$f":"Singles!BS348","v":"TBC"},{"$f":"Singles!BT348","v":"TBC"},{"$f":"Singles!BU348","v":"TBC"},null,{"$f":"Singles!BV348","v":0},{"$f":"Singles!BW348","v":0},{"$f":"Singles!BX348","v":0},null,null,null,null,null,null,null,null,null,null,null,null,null,null,null,null,null,null,null,null,0]
[null,49,{"$f":"Singles!BO349","v":0},{"$f":"Singles!BP349","v":"TBC"},{"$f":"Singles!BQ349","v":"TBC"},{"$f":"Singles!BR349","v":"TBC"},{"$f":"Singles!BS349","v":"TBC"},{"$f":"Singles!BT349","v":"TBC"},{"$f":"Singles!BU349","v":"TBC"},null,{"$f":"Singles!BV349","v":0},{"$f":"Singles!BW349","v":0},{"$f":"Singles!BX349","v":0},null,null,null,null,null,null,null,null,null,null,null,null,null,null,null,null,null,null,null,null,0]
[null,50,{"$f":"Singles!BO350","v":0},{"$f":"Singles!BP350","v":"TBC"},{"$f":"Singles!BQ350","v":"TBC"},{"$f":"Singles!BR350","v":"TBC"},{"$f":"Singles!BS350","v":"TBC"},{"$f":"Singles!BT350","v":"TBC"},{"$f":"Singles!BU350","v":"TBC"},null,{"$f":"Singles!BV350","v":0},{"$f":"Singles!BW350","v":0},{"$f":"Singles!BX350","v":0},null,null,null,null,null,null,null,null,null,null,null,null,null,null,null,null,null,null,null,null,0]
[null,51,{"$f":"Singles!BO351","v":0},{"$f":"Singles!BP351","v":"TBC"},{"$f":"Singles!BQ351","v":"TBC"},{"$f":"Singles!BR351","v":"TBC"},{"$f":"Singles!BS351","v":"TBC"},{"$f":"Singles!BT351","v":"TBC"},{"$f":"Singles!BU351","v":"TBC"},null,{"$f":"Singles!BV351","v":0},{"$f":"Singles!BW351","v":0},{"$f":"Singles!BX351","v":0},null,null,null,null,null,null,null,null,null,null,null,null,null,null,null,null,null,null,null,null,0]
[null,52,{"$f":"Singles!BO352","v":0},{"$f":"Singles!BP352","v":"TBC"},{"$f":"Singles!BQ352","v":"TBC"},{"$f":"Singles!BR352","v":"TBC"},{"$f":"Singles!BS352","v":"TBC"},{"$f":"Singles!BT352","v":"TBC"},{"$f":"Singles!BU352","v":"TBC"},null,{"$f":"Singles!BV352","v":0},{"$f":"Singles!BW352","v":0},{"$f":"Singles!BX352","v":0},null,null,null,null,null,null,null,null,null,null,null,null,null,null,null,null,null,null,null,null,0]
[null,53,{"$f":"Singles!BO353","v":0},{"$f":"Singles!BP353","v":"TBC"},{"$f":"Singles!BQ353","v":"TBC"},{"$f":"Singles!BR353","v":"TBC"},{"$f":"Singles!BS353","v":"TBC"},{"$f":"Singles!BT353","v":"TBC"},{"$f":"Singles!BU353","v":"TBC"},null,{"$f":"Singles!BV353","v":0},{"$f":"Singles!BW353","v":0},{"$f":"Singles!BX353","v":0},null,null,null,null,null,null,null,null,null,null,null,null,null,null,null,null,null,null,null,null,0]
[null,54,{"$f":"Singles!BO354","v":0},{"$f":"Singles!BP354","v":"TBC"},{"$f":"Singles!BQ354","v":"TBC"},{"$f":"Singles!BR354","v":"TBC"},{"$f":"Singles!BS354","v":"TBC"},{"$f":"Singles!BT354","v":"TBC"},{"$f":"Singles!BU354","v":"TBC"},null,{"$f":"Singles!BV354","v":0},{"$f":"Singles!BW354","v":0},{"$f":"Singles!BX354","v":0},null,null,null,null,null,null,null,null,null,null,null,null,null,null,null,null,null,null,null,null,0]
[null,55,{"$f":"Singles!BO355","v":0},{"$f":"Singles!BP355","v":"TBC"},{"$f":"Singles!BQ355","v":"TBC"},{"$f":"Singles!BR355","v":"TBC"},{"$f":"Singles!BS355","v":"TBC"},{"$f":"Singles!BT355","v":"TBC"},{"$f":"Singles!BU355","v":"TBC"},null,{"$f":"Singles!BV355","v":0},{"$f":"Singles!BW355","v":0},{"$f":"Singles!BX355","v":0},null,null,null,null,null,null,null,null,null,null,null,null,null,null,null,null,null,null,null,null,0]
[null,56,{"$f":"Singles!BO356","v":0},{"$f":"Singles!BP356","v":"TBC"},{"$f":"Singles!BQ356","v":"TBC"},{"$f":"Singles!BR356","v":"TBC"},{"$f":"Singles!BS356","v":"TBC"},{"$f":"Singles!BT356","v":"TBC"},{"$f":"Singles!BU356","v":"TBC"},null,{"$f":"Singles!BV356","v":0},{"$f":"Singles!BW356","v":0},{"$f":"Singles!BX356","v":0},null,null,null,null,null,null,null,null,null,null,null,null,null,null,null,null,null,null,null,null,0]
[null,57,{"$f":"Singles!BO357","v":0},{"$f":"Singles!BP357","v":"TBC"},{"$f":"Singles!BQ357","v":"TBC"},{"$f":"Singles!BR357","v":"TBC"},{"$f":"Singles!BS357","v":"TBC"},{"$f":"Singles!BT357","v":"TBC"},{"$f":"Singles!BU357","v":"TBC"},null,{"$f":"Singles!BV357","v":0},{"$f":"Singles!BW357","v":0},{"$f":"Singles!BX357","v":0},null,null,null,null,null,null,null,null,null,null,null,null,null,null,null,null,null,null,null,null,0]
[null,58,{"$f":"Singles!BO358","v":0},{"$f":"Singles!BP358","v":"TBC"},{"$f":"Singles!BQ358","v":"TBC"},{"$f":"Singles!BR358","v":"TBC"},{"$f":"Singles!BS358","v":"TBC"},{"$f":"Singles!BT358","v":"TBC"},{"$f":"Singles!BU358","v":"TBC"},null,{"$f":"Singles!BV358","v":0},{"$f":"Singles!BW358","v":0},{"$f":"Singles!BX358","v":0},null,null,null,null,null,null,null,null,null,null,null,null,null,null,null,null,null,null,null,null,0]
[null,59,{"$f":"Singles!BO359","v":0},{"$f":"Singles!BP359","v":"TBC"},{"$f":"Singles!BQ359","v":"TBC"},{"$f":"Singles!BR359","v":"TBC"},{"$f":"Singles!BS359","v":"TBC"},{"$f":"Singles!BT359","v":"TBC"},{"$f":"Singles!BU359","v":"TBC"},null,{"$f":"Singles!BV359","v":0},{"$f":"Singles!BW359","v":0},{"$f":"Singles!BX359","v":0},null,null,null,null,null,null,null,null,null,null,null,null,null,null,null,null,null,null,null,null,0]
[null,60,{"$f":"Singles!BO360","v":0},{"$f":"Singles!BP360","v":"TBC"},{"$f":"Singles!BQ360","v":"TBC"},{"$f":"Singles!BR360","v":"TBC"},{"$f":"Singles!BS360","v":"TBC"},{"$f":"Singles!BT360","v":"TBC"},{"$f":"Singles!BU360","v":"TBC"},null,{"$f":"Singles!BV360","v":0},{"$f":"Singles!BW360","v":0},{"$f":"Singles!BX360","v":0},null,null,null,null,null,null,null,null,null,null,null,null,null,null,null,null,null,null,null,null,0]
[null,61,{"$f":"Singles!BO361","v":0},{"$f":"Singles!BP361","v":"TBC"},{"$f":"Singles!BQ361","v":"TBC"},{"$f":"Singles!BR361","v":"TBC"},{"$f":"Singles!BS361","v":"TBC"},{"$f":"Singles!BT361","v":"TBC"},{"$f":"Singles!BU361","v":"TBC"},null,{"$f":"Singles!BV361","v":0},{"$f":"Singles!BW361","v":0},{"$f":"Singles!BX361","v":0},null,null,null,null,null,null,null,null,null,null,null,null,null,null,null,null,null,null,null,null,0]
[null,62,{"$f":"Singles!BO362","v":0},{"$f":"Singles!BP362","v":"TBC"},{"$f":"Singles!BQ362","v":"TBC"},{"$f":"Singles!BR362","v":"TBC"},{"$f":"Singles!BS362","v":"TBC"},{"$f":"Singles!BT362","v":"TBC"},{"$f":"Singles!BU362","v":"TBC"},null,{"$f":"Singles!BV362","v":0},{"$f":"Singles!BW362","v":0},{"$f":"Singles!BX362","v":0},null,null,null,null,null,null,null,null,null,null,null,null,null,null,null,null,null,null,null,null,0]
[null,63,{"$f":"Singles!BO363","v":0},{"$f":"Singles!BP363","v":"TBC"},{"$f":"Singles!BQ363","v":"TBC"},{"$f":"Singles!BR363","v":"TBC"},{"$f":"Singles!BS363","v":"TBC"},{"$f":"Singles!BT363","v":"TBC"},{"$f":"Singles!BU363","v":"TBC"},null,{"$f":"Singles!BV363","v":0},{"$f":"Singles!BW363","v":0},{"$f":"Singles!BX363","v":0},null,null,null,null,null,null,null,null,null,null,null,null,null,null,null,null,null,null,null,null,0]
[null,64,{"$f":"Singles!BO364","v":0},{"$f":"Singles!BP364","v":"TBC"},{"$f":"Singles!BQ364","v":"TBC"},{"$f":"Singles!BR364","v":"TBC"},{"$f":"Singles!BS364","v":"TBC"},{"$f":"Singles!BT364","v":"TBC"},{"$f":"Singles!BU364","v":"TBC"},null,{"$f":"Singles!BV364","v":0},{"$f":"Singles!BW364","v":0},{"$f":"Singles!BX364","v":0},null,null,null,null,null,null,null,null,null,null,null,null,null,null,null,null,null,null,null,null,0]
[null,65,{"$f":"Singles!BO365","v":0},{"$f":"Singles!BP365","v":"TBC"},{"$f":"Singles!BQ365","v":"TBC"},{"$f":"Singles!BR365","v":"TBC"},{"$f":"Singles!BS365","v":"TBC"},{"$f":"Singles!BT365","v":"TBC"},{"$f":"Singles!BU365","v":"TBC"},null,{"$f":"Singles!BV365","v":0},{"$f":"Singles!BW365","v":0},{"$f":"Singles!BX365","v":0},null,null,null,null,null,null,null,null,null,null,null,null,null,null,null,null,null,null,null,null,0]
[null,66,{"$f":"Singles!BO366","v":0},{"$f":"Singles!BP366","v":"TBC"},{"$f":"Singles!BQ366","v":"TBC"},{"$f":"Singles!BR366","v":"TBC"},{"$f":"Singles!BS366","v":"TBC"},{"$f":"Singles!BT366","v":"TBC"},{"$f":"Singles!BU366","v":"TBC"},null,{"$f":"Singles!BV366","v":0},{"$f":"Singles!BW366","v":0},{"$f":"Singles!BX366","v":0},null,null,null,null,null,null,null,null,null,null,null,null,null,null,null,null,null,null,null,null,0]
[null,67,{"$f":"Singles!BO367","v":0},{"$f":"Singles!BP367","v":"TBC"},{"$f":"Singles!BQ367","v":"TBC"},{"$f":"Singles!BR367","v":"TBC"},{"$f":"Singles!BS367","v":"TBC"},{"$f":"Singles!BT367","v":"TBC"},{"$f":"Singles!BU367","v":"TBC"},null,{"$f":"Singles!BV367","v":0},{"$f":"Singles!BW367","v":0},{"$f":"Singles!BX367","v":0},null,null,null,null,null,null,null,null,null,null,null,null,null,null,null,null,null,null,null,null,0]
[null,68,{"$f":"Singles!BO368","v":0},{"$f":"Singles!BP368","v":"TBC"},{"$f":"Singles!BQ368","v":"TBC"},{"$f":"Singles!BR368","v":"TBC"},{"$f":"Singles!BS368","v":"TBC"},{"$f":"Singles!BT368","v":"TBC"},{"$f":"Singles!BU368","v":"TBC"},null,{"$f":"Singles!BV368","v":0},{"$f":"Singles!BW368","v":0},{"$f":"Singles!BX368","v":0},null,null,null,null,null,null,null,null,null,null,null,null,null,null,null,null,null,null,null,null,0]
[null,69,{"$f":"Singles!BO369","v":0},{"$f":"Singles!BP369","v":"TBC"},{"$f":"Singles!BQ369","v":"TBC"},{"$f":"Singles!BR369","v":"TBC"},{"$f":"Singles!BS369","v":"TBC"},{"$f":"Singles!BT369","v":"TBC"},{"$f":"Singles!BU369","v":"TBC"},null,{"$f":"Singles!BV369","v":0},{"$f":"Singles!BW369","v":0},{"$f":"Singles!BX369","v":0},null,null,null,null,null,null,null,null,null,null,null,null,null,null,null,null,null,null,null,null,0]
[null,70,{"$f":"Singles!BO370","v":0},{"$f":"Singles!BP370","v":"TBC"},{"$f":"Singles!BQ370","v":"TBC"},{"$f":"Singles!BR370","v":"TBC"},{"$f":"Singles!BS370","v":"TBC"},{"$f":"Singles!BT370","v":"TBC"},{"$f":"Singles!BU370","v":"TBC"},null,{"$f":"Singles!BV370","v":0},{"$f":"Singles!BW370","v":0},{"$f":"Singles!BX370","v":0},null,null,null,null,null,null,null,null,null,null,null,null,null,null,null,null,null,null,null,null,0]
[null,71,{"$f":"Singles!BO371","v":0},{"$f":"Singles!BP371","v":"TBC"},{"$f":"Singles!BQ371","v":"TBC"},{"$f":"Singles!BR371","v":"TBC"},{"$f":"Singles!BS371","v":"TBC"},{"$f":"Singles!BT371","v":"TBC"},{"$f":"Singles!BU371","v":"TBC"},null,{"$f":"Singles!BV371","v":0},{"$f":"Singles!BW371","v":0},{"$f":"Singles!BX371","v":0},null,null,null,null,null,null,null,null,null,null,null,null,null,null,null,null,null,null,null,null,0]
[null,72,{"$f":"Singles!BO372","v":0},{"$f":"Singles!BP372","v":"TBC"},{"$f":"Singles!BQ372","v":"TBC"},{"$f":"Singles!BR372","v":"TBC"},{"$f":"Singles!BS372","v":"TBC"},{"$f":"Singles!BT372","v":"TBC"},{"$f":"Singles!BU372","v":"TBC"},null,{"$f":"Singles!BV372","v":0},{"$f":"Singles!BW372","v":0},{"$f":"Singles!BX372","v":0},null,null,null,null,null,null,null,null,null,null,null,null,null,null,null,null,null,null,null,null,0]
[null,73,{"$f":"Singles!BO373","v":0},{"$f":"Singles!BP373","v":"TBC"},{"$f":"Singles!BQ373","v":"TBC"},{"$f":"Singles!BR373","v":"TBC"},{"$f":"Singles!BS373","v":"TBC"},{"$f":"Singles!BT373","v":"TBC"},{"$f":"Singles!BU373","v":"TBC"},null,{"$f":"Singles!BV373","v":0},{"$f":"Singles!BW373","v":0},{"$f":"Singles!BX373","v":0},null,null,null,null,null,null,null,null,null,null,null,null,null,null,null,null,null,null,null,null,0]
[null,74,{"$f":"Singles!BO374","v":0},{"$f":"Singles!BP374","v":"TBC"},{"$f":"Singles!BQ374","v":"TBC"},{"$f":"Singles!BR374","v":"TBC"},{"$f":"Singles!BS374","v":"TBC"},{"$f":"Singles!BT374","v":"TBC"},{"$f":"Singles!BU374","v":"TBC"},null,{"$f":"Singles!BV374","v":0},{"$f":"Singles!BW374","v":0},{"$f":"Singles!BX374","v":0},null,null,null,null,null,null,null,null,null,null,null,null,null,null,null,null,null,null,null,null,0]
[null,75,{"$f":"Singles!BO375","v":0},{"$f":"Singles!BP375","v":"TBC"},{"$f":"Singles!BQ375","v":"TBC"},{"$f":"Singles!BR375","v":"TBC"},{"$f":"Singles!BS375","v":"TBC"},{"$f":"Singles!BT375","v":"TBC"},{"$f":"Singles!BU375","v":"TBC"},null,{"$f":"Singles!BV375","v":0},{"$f":"Singles!BW375","v":0},{"$f":"Singles!BX375","v":0},null,null,null,null,null,null,null,null,null,null,null,null,null,null,null,null,null,null,null,null,0]
[{"$f":"$D$7","v":"NUIG"}]

{"sheet":"Tables","index":14,"n_rows":1445,"n_cols":242,"rows_kept":1445,"cut":false,"hidden":false,"merged":[[1,4,3,7],[1,15,3,18],[1,191,3,194],[42,15,44,18],[42,48,44,51],[5,185,6,185],[5,186,6,186],[42,4,44,7],[42,26,44,29],[42,37,44,40],[5,9,6,9],[5,10,6,10],[1,70,3,73],[42,70,44,73],[1,81,3,84],[42,81,44,84],[42,129,44,131],[42,136,44,139],[42,140,44,142],[5,152,6,152],[5,153,6,153],[42,8,44,10],[1,19,3,21],[42,19,44,21],[5,196,6,196],[5,197,6,197],[42,59,44,62],[5,42,6,42],[5,43,6,43],[5,53,6,53],[5,54,6,54],[42,191,44,194],[1,48,3,51],[1,180,3,183],[1,59,3,62],[1,92,3,95],[1,162,3,164],[1,173,3,175],[1,184,3,186],[1,114,3,117],[1,118,3,120],[1,125,3,128],[1,129,3,131],[1,136,3,139],[1,140,3,142],[1,147,3,150],[1,151,3,153],[1,158,3,161],[42,224,44,227],[85,158,87,161],[85,191,87,194],[46,196,47,196],[46,197,47,197],[85,213,87,216],[85,202,87,205],[46,207,47,207],[46,208,47,208],[46,218,47,218],[46,219,47,219],[42,173,44,175],[46,185,47,185],[46,186,47,186],[42,213,44,216],[46,9,47,9],[46,10,47,10],[46,20,47,20],[85,4,87,7],[85,15,87,18],[85,48,87,51],[42,180,44,183],[85,147,87,150],[46,174,47,174],[46,175,47,175],[85,180,87,183],[85,169,87,172],[85,59,87,62],[85,114,87,117],[85,103,87,106],[85,92,87,95],[85,81,87,84],[85,70,87,73],[85,107,87,109],[46,21,47,21],[46,31,47,31],[46,32,47,32],[46,42,47,42],[46,43,47,43],[1,235,3,238],[42,235,44,238],[85,235,87,238],[85,224,87,227],[42,92,44,95],[1,103,3,106],[42,103,44,106],[1,169,3,172],[42,169,44,172],[5,108,6,108],[5,109,6,109],[5,141,6,141],[5,142,6,142],[5,174,6,174],[5,175,6,175],[5,120,6,120],[46,120,47,120],[5,130,6,130],[5,131,6,131],[46,130,47,130],[46,131,47,131],[46,141,47,141],[46,142,47,142],[42,125,44,128],[46,53,47,53],[46,54,47,54],[5,64,6,64],[5,65,6,65],[46,64,47,64],[46,65,47,65],[46,75,47,75],[46,76,47,76],[85,37,87,40],[5,75,6,75],[5,76,6,76],[85,74,87,76],[85,63,87,65],[85,52,87,54],[85,41,87,43],[46,86,47,86],[46,87,47,87],[5,97,6,97],[5,98,6,98],[46,97,47,97],[46,98,47,98],[46,108,47,108],[46,109,47,109],[5,119,6,119],[42,114,44,117],[5,86,6,86],[5,87,6,87],[46,119,47,119],[42,118,44,120],[42,107,44,109],[46,152,47,152],[46,153,47,153],[5,163,6,163],[5,164,6,164],[46,163,47,163],[46,164,47,164],[42,147,44,150],[42,151,44,153],[42,158,44,161],[42,162,44,164],[89,240,90,240],[89,241,90,241],[89,229,90,229],[89,230,90,230],[89,218,90,218],[89,219,90,219],[89,207,90,207],[89,208,90,208],[46,229,47,229],[46,230,47,230],[46,240,47,240],[46,241,47,241],[85,239,87,241],[85,228,87,230],[85,217,87,219],[89,108,90,108],[89,109,90,109],[89,97,90,97],[89,98,90,98],[89,196,90,196],[89,197,90,197],[89,185,90,185],[89,186,90,186],[89,174,90,174],[89,175,90,175],[89,163,90,163],[89,164,90,164],[89,152,90,152],[89,153,90,153],[89,141,90,141],[89,142,90,142],[89,130,90,130],[89,131,90,131],[89,119,90,119],[89,120,90,120],[89,86,90,86],[89,87,90,87],[89,20,90,20],[89,21,90,21],[89,9,90,9],[89,10,90,10],[89,75,90,75],[89,76,90,76],[89,64,90,64],[89,65,90,65],[89,53,90,53],[89,54,90,54],[89,42,90,42],[89,43,90,43],[89,31,90,31],[89,32,90,32],[1,8,3,10],[1,63,3,65],[1,74,3,76],[1,85,3,87],[1,96,3,98],[42,96,44,98],[42,85,44,87],[42,74,44,76],[42,63,44,65],[1,30,3,32],[1,41,3,43],[42,30,44,32],[42,41,44,43],[1,52,3,54],[42,52,44,54],[1,26,3,29],[1,37,3,40],[5,20,6,20],[5,21,6,21],[5,31,6,31],[5,32,6,32],[1,107,3,109],[42,184,44,186],[1,195,3,197],[42,195,44,197],[42,206,44,208],[1,206,3,208],[1,217,3,219],[1,228,3,230],[1,239,3,241],[42,239,44,241],[42,228,44,230],[42,217,44,219],[5,207,6,207],[5,208,6,208],[5,240,6,240],[5,241,6,241],[5,229,6,229],[5,230,6,230],[5,218,6,218],[5,219,6,219],[1,202,3,205],[1,213,3,216],[1,224,3,227],[42,202,44,205],[85,30,87,32],[85,19,87,21],[85,8,87,10],[85,206,87,208],[85,195,87,197],[85,184,87,186],[85,173,87,175],[85,162,87,164],[85,151,87,153],[85,140,87,142],[85,129,87,131],[85,118,87,120],[85,26,87,29],[85,96,87,98],[85,85,87,87],[85,136,87,139],[85,125,87,128]]}
[null,"College","DCU",{"$f":"LARGE(C8:C40,1)","v":484},null,null,null,null,null,null,null,null,"College","DIT",{"$f":"LARGE(N8:N40,1)","v":509},null,null,null,null,null,null,null,null,"College","DKIT",{"$f":"LARGE(Y8:Y40,1)","v":514},null,null,null,null,null,null,null,null,"College","DUAC",{"$f":"LARGE(AJ8:AJ40,1)","v":0},null,null,null,null,null,null,null,null,"College","GMIT",{"$f":"LARGE(AU8:AU40,1)","v":524},null,null,null,null,null,null,null,null,"College","GMITC",{"$f":"LARGE(BF8:BF40,1)","v":387},null,null,null,null,null,null,null,null,"College","IT Tallaght",{"$f":"LARGE(BQ8:BQ40,1)","v":401},null,null,null,null,null,null,null,null,"College","ITC",{"$f":"LARGE(CB8:CB40,1)","v":332},null,null,null,null,null,null,null,null,"College","MU",{"$f":"LARGE(CM8:CM40,1)","v":523},null,null,null,null,null,null,null,null,"College","NCAD",{"$f":"LARGE(CX8:CX40,1)","v":0},null,null,null,null,null,null,null,null,"College","NUIG",{"$f":"LARGE(DI8:DI40,1)","v":482},null,null,null,null,null,null,null,null,"College","RCSI",{"$f":"LARGE(DT8:DT40,1)","v":382},null,null,null,null,null,null,null,null,"College","UCC",{"$f":"LARGE(EE8:EE40,1)","v":483},null,null,null,null,null,null,null,null,"College","UCD",{"$f":"LARGE(EP8:EP40,1)","v":522},null,null,null,null,null,null,null,null,"College","UL",{"$f":"LARGE(FA8:FA40,1)","v":473},null,null,null,null,null,null,null,null,"College","UU",{"$f":"LARGE(FL8:FL40,1)","v":0},null,null,null,null,null,null,null,null,"College","(blank)",{"$f":"LARGE(FW8:FW40,1)","v":0},null,null,null,null,null,null,null,null,"College","AAA",{"$f":"LARGE(GH8:GH40,1)","v":0},null,null,null,null,null,null,null,null,"College","BBB",{"$f":"LARGE(GS8:GS40,1)","v":0},null,null,null,null,null,null,null,null,"College","CCC",{"$f":"LARGE(HD8:HD40,1)","v":0},null,null,null,null,null,null,null,null,"College","DDD",{"$f":"LARGE(HO8:HO40,1)","v":0},null,null,null,null,null,null,null,null,"College","EEE",{"$f":"LARGE(HZ8:HZ40,1)","v":0}]
[null,"Gender","(Multiple Items)",{"$f":"LARGE(D8:D40,1)","v":480},{"$f":"C1","v":"DCU"},null,null,null,{"$f":"C3","v":"Recurve"},null,null,null,"Gender","(Multiple Items)",{"$f":"LARGE(O8:O40,1)","v":506},{"$f":"N1","v":"DIT"},null,null,null,{"$f":"N3","v":"Recurve"},null,null,null,"Gender","(Multiple Items)",{"$f":"LARGE(Z8:Z40,1)","v":527},{"$f":"Y1","v":"DKIT"},null,null,null,{"$f":"Y3","v":"Recurve"},null,null,null,"Gender","(Multiple Items)",{"$f":"LARGE(AK8:AK40,1)","v":464},{"$f":"AJ1","v":"DUAC"},null,null,null,{"$f":"AJ3","v":"Recurve"},null,null,null,"Gender","(Multiple Items)",{"$f":"LARGE(AV8:AV40,1)","v":488},{"$f":"AU1","v":"GMIT"},null,null,null,{"$f":"AU3","v":"Recurve"},null,null,null,"Gender","(Multiple Items)",{"$f":"LARGE(BG8:BG40,1)","v":0},{"$f":"BF1","v":"GMITC"},null,null,null,{"$f":"BF3","v":"Recurve"},null,null,null,"Gender","(Multiple Items)",{"$f":"LARGE(BR8:BR40,1)","v":488},{"$f":"BQ1","v":"IT Tallaght"},null,null,null,{"$f":"BQ3","v":"Recurve"},null,null,null,"Gender","(Multiple Items)",{"$f":"LARGE(CC8:CC40,1)","v":306},{"$f":"CB1","v":"ITC"},null,null,null,{"$f":"CB3","v":"Recurve"},null,null,null,"Gender","(Multiple Items)",{"$f":"LARGE(CN8:CN40,1)","v":495},{"$f":"CM1","v":"MU"},null,null,null,{"$f":"CM3","v":"Recurve"},null,null,null,"Gender","(Multiple Items)",{"$f":"LARGE(CY8:CY40,1)","v":0},{"$f":"CX1","v":"NCAD"},null,null,null,{"$f":"CX3","v":"Recurve"},null,null,null,"Gender","(Multiple Items)",{"$f":"LARGE(DJ8:DJ40,1)","v":465},{"$f":"DI1","v":"NUIG"},null,null,null,{"$f":"DI3","v":"Recurve"},null,null,null,"Gender","(Multiple Items)",{"$f":"LARGE(DU8:DU40,1)","v":0},{"$f":"DT1","v":"RCSI"},null,null,null,{"$f":"DT3","v":"Recurve"},null,null,null,"Gender","(Multiple Items)",{"$f":"LARGE(EF8:EF40,1)","v":0},{"$f":"EE1","v":"UCC"},null,null,null,{"$f":"EE3","v":"Recurve"},null,null,null,"Gender","(Multiple Items)",{"$f":"LARGE(EQ8:EQ40,1)","v":517},{"$f":"EP1","v":"UCD"},null,null,null,{"$f":"EP3","v":"Recurve"},null,null,null,"Gender","(Multiple Items)",{"$f":"LARGE(FB8:FB40,1)","v":436},{"$f":"FA1","v":"UL"},null,null,null,{"$f":"FA3","v":"Recurve"},null,null,null,"Gender","(Multiple Items)",{"$f":"LARGE(FM8:FM40,1)","v":418},{"$f":"FL1","v":"UU"},null,null,null,{"$f":"FL3","v":"Recurve"},null,null,null,"Gender","(Multiple Items)",{"$f":"LARGE(FX8:FX40,1)","v":0},{"$f":"FW1","v":"(blank)"},null,null,null,{"$f":"FW3","v":"Recurve"},null,null,null,"Gender","(Multiple Items)",{"$f":"LARGE(GI8:GI40,1)","v":0},{"$f":"GH1","v":"AAA"},null,null,null,{"$f":"GH3","v":"Recurve"},null,null,null,"Gender","(Multiple Items)",{"$f":"LARGE(GT8:GT40,1)","v":0},{"$f":"GS1","v":"BBB"},null,null,null,{"$f":"GS3","v":"Recurve"},null,null,null,"Gender","(Multiple Items)",{"$f":"LARGE(HE8:HE40,1)","v":0},{"$f":"HD1","v":"CCC"},null,null,null,{"$f":"HD3","v":"Recurve"},null,null,null,"Gender","(Multiple Items)",{"$f":"LARGE(HP8:HP40,1)","v":0},{"$f":"HO1","v":"DDD"},null,null,null,{"$f":"HO3","v":"Recurve"},null,null,null,"Gender","(Multiple Items)",{"$f":"LARGE(IA8:IA40,1)","v":0},{"$f":"HZ1","v":"EEE"},null,null,null,{"$f":"HZ3","v":"Recurve"}]
[null,"Bow","Recurve",{"$f":"LARGE(E8:E40,1)","v":472},null,null,null,null,null,null,null,null,"Bow","Recurve",{"$f":"LARGE(P8:P40,1)","v":515},null,null,null,null,null,null,null,null,"Bow","Recurve",{"$f":"LARGE(AA8:AA40,1)","v":507},null,null,null,null,null,null,null,null,"Bow","Recurve",{"$f":"LARGE(AL8:AL40,1)","v":0},null,null,null,null,null,null,null,null,"Bow","Recurve",{"$f":"LARGE(AW8:AW40,1)","v":517},null,null,null,null,null,null,null,null,"Bow","Recurve",{"$f":"LARGE(BH8:BH40,1)","v":397},null,null,null,null,null,null,null,null,"Bow","Recurve",{"$f":"LARGE(BS8:BS40,1)","v":525},null,null,null,null,null,null,null,null,"Bow","Recurve",{"$f":"LARGE(CD8:CD40,1)","v":275},null,null,null,null,null,null,null,null,"Bow","Recurve",{"$f":"LARGE(CO8:CO40,1)","v":530},null,null,null,null,null,null,null,null,"Bow","Recurve",{"$f":"LARGE(CZ8:CZ40,1)","v":515},null,null,null,null,null,null,null,null,"Bow","Recurve",{"$f":"LARGE(DK8:DK40,1)","v":569},null,null,null,null,null,null,null,null,"Bow","Recurve",{"$f":"LARGE(DV8:DV40,1)","v":311},null,null,null,null,null,null,null,null,"Bow","Recurve",{"$f":"LARGE(EG8:EG40,1)","v":453},null,null,null,null,null,null,null,null,"Bow","Recurve",{"$f":"LARGE(ER8:ER40,1)","v":529},null,null,null,null,null,null,null,null,"Bow","Recurve",{"$f":"LARGE(FC8:FC40,1)","v":448},null,null,null,null,null,null,null,null,"Bow","Recurve",{"$f":"LARGE(FN8:FN40,1)","v":505},null,null,null,null,null,null,null,null,"Bow","Recurve",{"$f":"LARGE(FY8:FY40,1)","v":0},null,null,null,null,null,null,null,null,"Bow","Recurve",{"$f":"LARGE(GJ8:GJ40,1)","v":0},null,null,null,null,null,null,null,null,"Bow","Recurve",{"$f":"LARGE(GU8:GU40,1)","v":0},null,null,null,null,null,null,null,null,"Bow","Recurve",{"$f":"LARGE(HF8:HF40,1)","v":0},null,null,null,null,null,null,null,null,"Bow","Recurve",{"$f":"LARGE(HQ8:HQ40,1)","v":0},null,null,null,null,null,null,null,null,"Bow","Recurve",{"$f":"LARGE(IB8:IB40,1)","v":0}]
[null,"Level","(Multiple Items)",{"$f":"LARGE(F8:F40,1)","v":420},null,null,null,null,null,null,null,null,"Level","(Multiple Items)",{"$f":"LARGE(Q8:Q40,1)","v":515},null,null,null,null,null,null,null,null,"Level","(Multiple Items)",{"$f":"LARGE(AB8:AB40,1)","v":520},null,null,null,null,null,null,null,null,"Level","(Multiple Items)",{"$f":"LARGE(AM8:AM40,1)","v":407},null,null,null,null,null,null,null,null,"Level","(Multiple Items)",{"$f":"LARGE(AX8:AX40,1)","v":407},null,null,null,null,null,null,null,null,"Level","(Multiple Items)",{"$f":"LARGE(BI8:BI40,1)","v":372},null,null,null,null,null,null,null,null,"Level","(Multiple Items)",{"$f":"LARGE(BT8:BT40,1)","v":473},null,null,null,null,null,null,null,null,"Level","(Multiple Items)",{"$f":"LARGE(CE8:CE40,1)","v":281},null,null,null,null,null,null,null,null,"Level","(Multiple Items)",{"$f":"LARGE(CP8:CP40,1)","v":512},null,null,null,null,null,null,null,null,"Level","(Multiple Items)",{"$f":"LARGE(DA8:DA40,1)","v":0},null,null,null,null,null,null,null,null,"Level","(Multiple Items)",{"$f":"LARGE(DL8:DL40,1)","v":483},null,null,null,null,null,null,null,null,"Level","(Multiple Items)",{"$f":"LARGE(DW8:DW40,1)","v":0},null,null,null,null,null,null,null,null,"Level","(Multiple Items)",{"$f":"LARGE(EH8:EH40,1)","v":455},null,null,null,null,null,null,null,null,"Level","(Multiple Items)",{"$f":"LARGE(ES8:ES40,1)","v":528},null,null,null,null,null,null,null,null,"Level","(Multiple Items)",{"$f":"LARGE(FD8:FD40,1)","v":432},null,null,null,null,null,null,null,null,"Level","(Multiple Items)",{"$f":"LARGE(FO8:FO40,1)","v":478},null,null,null,null,null,null,null,null,"Level","(Multiple Items)",{"$f":"LARGE(FZ8:FZ40,1)","v":0},null,null,null,null,null,null,null,null,"Level","(Multiple Items)",{"$f":"LARGE(GK8:GK40,1)","v":0},null,null,null,null,null,null,null,null,"Level","(Multiple Items)",{"$f":"LARGE(GV8:GV40,1)","v":0},null,null,null,null,null,null,null,null,"Level","(Multiple Items)",{"$f":"LARGE(HG8:HG40,1)","v":0},null,null,null,null,null,null,null,null,"Level","(Multiple Items)",{"$f":"LARGE(HR8:HR40,1)","v":0},null,null,null,null,null,null,null,null,"Level","(Multiple Items)",{"$f":"LARGE(IC8:IC40,1)","v":0}]
[null,null,null,{"$f":"LARGE(G8:G40,1)","v":496},null,null,null,null,null,null,null,null,null,null,{"$f":"LARGE(R8:R40,1)","v":512},null,null,null,null,null,null,null,null,null,null,{"$f":"LARGE(AC8:AC40,1)","v":540},null,null,null,null,null,null,null,null,null,null,{"$f":"LARGE(AN8:AN40,1)","v":410},null,null,null,null,null,null,null,null,null,null,{"$f":"LARGE(AY8:AY40,1)","v":501},null,null,null,null,null,null,null,null,null,null,{"$f":"LARGE(BJ8:BJ40,1)","v":436},null,null,null,null,null,null,null,null,null,null,{"$f":"LARGE(BU8:BU40,1)","v":503},null,null,null,null,null,null,null,null,null,null,{"$f":"LARGE(CF8:CF40,1)","v":233},null,null,null,null,null,null,null,null,null,null,{"$f":"LARGE(CQ8:CQ40,1)","v":524},null,null,null,null,null,null,null,null,null,null,{"$f":"LARGE(DB8:DB40,1)","v":522},null,null,null,null,null,null,null,null,null,null,{"$f":"LARGE(DM8:DM40,1)","v":516},null,null,null,null,null,null,null,null,null,null,{"$f":"LARGE(DX8:DX40,1)","v":0},null,null,null,null,null,null,null,null,null,null,{"$f":"LARGE(EI8:EI40,1)","v":466},null,null,null,null,null,null,null,null,null,null,{"$f":"LARGE(ET8:ET40,1)","v":516},null,null,null,null,null,null,null,null,null,null,{"$f":"LARGE(FE8:FE40,1)","v":453},null,null,null,null,null,null,null,null,null,null,{"$f":"LARGE(FP8:FP40,1)","v":496},null,null,null,null,null,null,null,null,null,null,{"$f":"LARGE(GA8:GA40,1)","v":0},null,null,null,null,null,null,null,null,null,null,{"$f":"LARGE(GL8:GL40,1)","v":0},null,null,null,null,null,null,null,null,null,null,{"$f":"LARGE(GW8:GW40,1)","v":0},null,null,null,null,null,null,null,null,null,null,{"$f":"LARGE(HH8:HH40,1)","v":0},null,null,null,null,null,null,null,null,null,null,{"$f":"LARGE(HS8:HS40,1)","v":0},null,null,null,null,null,null,null,null,null,null,{"$f":"LARGE(ID8:ID40,1)","v":0}]
[null,"Sum of Points","Column Labels",null,null,null,null,null,null,"League Score","Rank",null,"Sum of Points","Column Labels",null,null,null,null,null,null,"League Score","Rank",null,"Sum of Points","Column Labels",null,null,null,null,null,null,"League Score","Rank",null,"Sum of Points","Column Labels",null,null,null,null,null,null,"League Score","Rank",null,"Sum of Points","Column Labels",null,null,null,null,null,null,"League Score","Rank",null,"Sum of Points","Column Labels",null,null,null,null,null,null,"League Score","Rank",null,"Sum of Points","Column Labels",null,null,null,null,null,null,"League Score","Rank",null,"Sum of Points","Column Labels",null,null,null,null,null,null,"League Score","Rank",null,"Sum of Points","Column Labels",null,null,null,null,null,null,"League Score","Rank",null,"Sum of Points","Column Labels",null,null,null,null,null,null,"League Score","Rank",null,"Sum of Points","Column Labels",null,null,null,null,null,null,"League Score","Rank",null,"Sum of Points","Column Labels",null,null,null,null,null,null,"League Score","Rank",null,"Sum of Points","Column Labels",null,null,null,null,null,null,"League Score","Rank",null,"Sum of Points","Column Labels",null,null,null,null,null,null,"League Score","Rank",null,"Sum of Points","Column Labels",null,null,null,null,null,null,"League Score","Rank",null,"Sum of Points","Column Labels",null,null,null,null,null,null,"League Score","Rank",null,"Sum of Points","Column Labels",null,null,null,null,null,null,"League Score","Rank",null,"Sum of Points","Column Labels",null,null,null,null,null,null,"League Score","Rank",null,"Sum of Points","Column Labels",null,null,null,null,null,null,"League Score","Rank",null,"Sum of Points","Column Labels",null,null,null,null,null,null,"League Score","Rank",null,"Sum of Points","Column Labels",null,null,null,null,null,null,"League Score","Rank",null,"Sum of Points","Column Labels",null,null,null,null,null,null,"League Score","Rank"]
[null,"Row Labels","UL","DkIT","GMIT","DCU","NUIG","Grand Total","Lowest",null,null,null,"Row Labels","UL","DkIT","GMIT","DCU","NUIG","Grand Total","Lowest",null,null,null,"Row Labels","UL","DkIT","GMIT","DCU","NUIG","Grand Total","Lowest",null,null,null,"Row Labels","UL","DkIT","GMIT","DCU","NUIG","Grand Total","Lowest",null,null,null,"Row Labels","UL","DkIT","GMIT","DCU","NUIG","Grand Total","Lowest",null,null,null,"Row Labels","UL","DkIT","GMIT","DCU","NUIG","Grand Total","Lowest",null,null,null,"Row Labels","UL","DkIT","GMIT","DCU","NUIG","Grand Total","Lowest",null,null,null,"Row Labels","UL","DkIT","GMIT","DCU","NUIG","Grand Total","Lowest",null,null,null,"Row Labels","UL","DkIT","GMIT","DCU","NUIG","Grand Total","Lowest",null,null,null,"Row Labels","UL","DkIT","GMIT","DCU","NUIG","Grand Total","Lowest",null,null,null,"Row Labels","UL","DkIT","GMIT","DCU","NUIG","Grand Total","Lowest",null,null,null,"Row Labels","UL","DkIT","GMIT","DCU","NUIG","Grand Total","Lowest",null,null,null,"Row Labels","UL","DkIT","GMIT","DCU","NUIG","Grand Total","Lowest",null,null,null,"Row Labels","UL","DkIT","GMIT","DCU","NUIG","Grand Total","Lowest",null,null,null,"Row Labels","UL","DkIT","GMIT","DCU","NUIG","Grand Total","Lowest",null,null,null,"Row Labels","UL","DkIT","GMIT","DCU","NUIG","Grand Total","Lowest",null,null,null,"Row Labels","DCU","MU","ITC","UCD","IT Tallaght","Grand Total","Lowest",null,null,null,"Row Labels","DCU","MU","ITC","UCD","IT Tallaght","Grand Total","Lowest",null,null,null,"Row Labels","DCU","MU","ITC","UCD","IT Tallaght","Grand Total","Lowest",null,null,null,"Row Labels","DCU","MU","ITC","UCD","IT Tallaght","Grand Total","Lowest",null,null,null,"Row Labels","DCU","MU","ITC","UCD","IT Tallaght","Grand Total","Lowest",null,null,null,"Row Labels","DCU","MU","ITC","UCD","IT Tallaght","Grand Total","Lowest"]
[null,"Brendan McManus",471,443,0,402,496,1812,{"$f":"IF(Entries!$K$20=5,MIN(C8,D8,E8,F8,G8),IF(Entries!$K$20=4,MIN(C8,D8,E8,F8),IF(Entries!$K$20=3,MIN(C8,D8,E8),IF(Entries!$K$20=2,MIN(C8,D8),IF(Entries!$K$20=1,0,0)))))","v":0},{"$f":"H8-I8","v":1812},{"$f":"IF(J8>1,RANK(J8,J$8:J$40,0),\"\")","v":1},null,"Brendan Forde",509,506,515,513,512,2555,{"$f":"IF(Entries!$K$20=5,MIN(N8,O8,P8,Q8,R8),IF(Entries!$K$20=4,MIN(N8,O8,P8,Q8),IF(Entries!$K$20=3,MIN(N8,O8,P8),IF(Entries!$K$20=2,MIN(N8,O8),IF(Entries!$K$20=1,0,0)))))","v":506},{"$f":"S8-T8","v":2049},{"$f":"IF(U8>1,RANK(U8,U$8:U$40,0),\"\")","v":1},null,"Yeo Eng Jet",514,527,507,520,540,2608,{"$f":"IF(Entries!$K$20=5,MIN(Y8,Z8,AA8,AB8,AC8),IF(Entries!$K$20=4,MIN(Y8,Z8,AA8,AB8),IF(Entries!$K$20=3,MIN(Y8,Z8,AA8),IF(Entries!$K$20=2,MIN(Y8,Z8),IF(Entries!$K$20=1,0,0)))))","v":507},{"$f":"AD8-AE8","v":2101},{"$f":"IF(AF8>1,RANK(AF8,AF$8:AF$40,0),\"\")","v":1},null,"Dáire Healy",0,389,0,379,410,1178,{"$f":"IF(Entries!$K$20=5,MIN(AJ8,AK8,AL8,AM8,AN8),IF(Entries!$K$20=4,MIN(AJ8,AK8,AL8,AM8),IF(Entries!$K$20=3,MIN(AJ8,AK8,AL8),IF(Entries!$K$20=2,MIN(AJ8,AK8),IF(Entries!$K$20=1,0,0)))))","v":0},{"$f":"AO8-AP8","v":1178},{"$f":"IF(AQ8>1,RANK(AQ8,AQ$8:AQ$40,0),\"\")","v":1},null,"Dale Burke",524,488,517,0,501,2030,{"$f":"IF(Entries!$K$20=5,MIN(AU8,AV8,AW8,AX8,AY8),IF(Entries!$K$20=4,MIN(AU8,AV8,AW8,AX8),IF(Entries!$K$20=3,MIN(AU8,AV8,AW8),IF(Entries!$K$20=2,MIN(AU8,AV8),IF(Entries!$K$20=1,0,0)))))","v":0},{"$f":"AZ8-BA8","v":2030},{"$f":"IF(BB8>1,RANK(BB8,BB$8:BB$40,0),\"\")","v":1},null,"Sinead Naughton",387,0,397,372,436,1592,{"$f":"IF(Entries!$K$20=5,MIN(BF8,BG8,BH8,BI8,BJ8),IF(Entries!$K$20=4,MIN(BF8,BG8,BH8,BI8),IF(Entries!$K$20=3,MIN(BF8,BG8,BH8),IF(Entries!$K$20=2,MIN(BF8,BG8),IF(Entries!$K$20=1,0,0)))))","v":0},{"$f":"BK8-BL8","v":1592},{"$f":"IF(BM8>1,RANK(BM8,BM$8:BM$40,0),\"\")","v":1},null,"Aidan Darcy",401,488,525,473,503,2390,{"$f":"IF(Entries!$K$20=5,MIN(BQ8,BR8,BS8,BT8,BU8),IF(Entries!$K$20=4,MIN(BQ8,BR8,BS8,BT8),IF(Entries!$K$20=3,MIN(BQ8,BR8,BS8),IF(Entries!$K$20=2,MIN(BQ8,BR8),IF(Entries!$K$20=1,0,0)))))","v":401},{"$f":"BV8-BW8","v":1989},{"$f":"IF(BX8>1,RANK(BX8,BX$8:BX$40,0),\"\")","v":1},null,"Leo Byrne",332,306,275,281,233,1427,{"$f":"IF(Entries!$K$20=5,MIN(CB8,CC8,CD8,CE8,CF8),IF(Entries!$K$20=4,MIN(CB8,CC8,CD8,CE8),IF(Entries!$K$20=3,MIN(CB8,CC8,CD8),IF(Entries!$K$20=2,MIN(CB8,CC8),IF(Entries!$K$20=1,0,0)))))","v":233},{"$f":"CG8-CH8","v":1194},{"$f":"IF(CI8>1,RANK(CI8,CI$8:CI$40,0),\"\")","v":1},null,"Diego Coyle Diez",523,486,530,512,524,2575,{"$f":"IF(Entries!$K$20=5,MIN(CM8,CN8,CO8,CP8,CQ8),IF(Entries!$K$20=4,MIN(CM8,CN8,CO8,CP8),IF(Entries!$K$20=3,MIN(CM8,CN8,CO8),IF(Entries!$K$20=2,MIN(CM8,CN8),IF(Entries!$K$20=1,0,0)))))","v":486},{"$f":"CR8-CS8","v":2089},{"$f":"IF(CT8>1,RANK(CT8,CT$8:CT$40,0),\"\")","v":1},null,"Rachael Foley",0,0,515,0,522,1037,{"$f":"IF(Entries!$K$20=5,MIN(CX8,CY8,CZ8,DA8,DB8),IF(Entries!$K$20=4,MIN(CX8,CY8,CZ8,DA8),IF(Entries!$K$20=3,MIN(CX8,CY8,CZ8),IF(Entries!$K$20=2,MIN(CX8,CY8),IF(Entries!$K$20=1,0,0)))))","v":0},{"$f":"DC8-DD8","v":1037},{"$f":"IF(DE8>1,RANK(DE8,DE$8:DE$40,0),\"\")","v":1},null,"Patrick Molloy",410,430,507,483,516,2346,{"$f":"IF(Entries!$K$20=5,MIN(DI8,DJ8,DK8,DL8,DM8),IF(Entries!$K$20=4,MIN(DI8,DJ8,DK8,DL8),IF(Entries!$K$20=3,MIN(DI8,DJ8,DK8),IF(Entries!$K$20=2,MIN(DI8,DJ8),IF(Entries!$K$20=1,0,0)))))","v":410},{"$f":"DN8-DO8","v":1936},{"$f":"IF(DP8>1,RANK(DP8,DP$8:DP$40,0),\"\")","v":1},null,"Zahratulfatin Mohd Mahfoz",382,0,0,0,0,382,{"$f":"IF(Entries!$K$20=5,MIN(DT8,DU8,DV8,DW8,DX8),IF(Entries!$K$20=4,MIN(DT8,DU8,DV8,DW8),IF(Entries!$K$20=3,MIN(DT8,DU8,DV8),IF(Entries!$K$20=2,MIN(DT8,DU8),IF(Entries!$K$20=1,0,0)))))","v":0},{"$f":"DY8-DZ8","v":382},{"$f":"IF(EA8>1,RANK(EA8,EA$8:EA$40,0),\"\")","v":1},null,"Cormac O'Callaghan",397,0,453,452,466,1768,{"$f":"IF(Entries!$K$20=5,MIN(EE8,EF8,EG8,EH8,EI8),IF(Entries!$K$20=4,MIN(EE8,EF8,EG8,EH8),IF(Entries!$K$20=3,MIN(EE8,EF8,EG8),IF(Entries!$K$20=2,MIN(EE8,EF8),IF(Entries!$K$20=1,0,0)))))","v":0},{"$f":"EJ8-EK8","v":1768},{"$f":"IF(EL8>1,RANK(EL8,EL$8:EL$40,0),\"\")","v":1},null,"Carl McCaffery",522,517,529,528,503,2599,{"$f":"IF(Entries!$K$20=5,MIN(EP8,EQ8,ER8,ES8,ET8),IF(Entries!$K$20=4,MIN(EP8,EQ8,ER8,ES8),IF(Entries!$K$20=3,MIN(EP8,EQ8,ER8),IF(Entries!$K$20=2,MIN(EP8,EQ8),IF(Entries!$K$20=1,0,0)))))","v":503},{"$f":"EU8-EV8","v":2096},{"$f":"IF(EW8>1,RANK(EW8,EW$8:EW$40,0),\"\")","v":1},null,"Frank Stafford",440,432,448,432,433,2185,{"$f":"IF(Entries!$K$20=5,MIN(FA8,FB8,FC8,FD8,FE8),IF(Entries!$K$20=4,MIN(FA8,FB8,FC8,FD8),IF(Entries!$K$20=3,MIN(FA8,FB8,FC8),IF(Entries!$K$20=2,MIN(FA8,FB8),IF(Entries!$K$20=1,0,0)))))","v":432},{"$f":"FF8-FG8","v":1753},{"$f":"IF(FH8>1,RANK(FH8,FH$8:FH$40,0),\"\")","v":1},null,"Jordan McCord",0,418,505,478,496,1897,{"$f":"IF(Entries!$K$20=5,MIN(FL8,FM8,FN8,FO8,FP8),IF(Entries!$K$20=4,MIN(FL8,FM8,FN8,FO8),IF(Entries!$K$20=3,MIN(FL8,FM8,FN8),IF(Entries!$K$20=2,MIN(FL8,FM8),IF(Entries!$K$20=1,0,0)))))","v":0},{"$f":"FQ8-FR8","v":1897},{"$f":"IF(FS8>1,RANK(FS8,FS$8:FS$40,0),\"\")","v":1},null,null,0,0,0,0,0,null,{"$f":"IF(Entries!$K$20=5,MIN(FW8,FX8,FY8,FZ8,GA8),IF(Entries!$K$20=4,MIN(FW8,FX8,FY8,FZ8),IF(Entries!$K$20=3,MIN(FW8,FX8,FY8),IF(Entries!$K$20=2,MIN(FW8,FX8),IF(Entries!$K$20=1,0,0)))))","v":0},{"$f":"GB8-GC8","v":0},{"$f":"IF(GD8>1,RANK(GD8,GD$8:GD$40,0),\"\")","v":""},null,null,0,0,0,0,0,null,{"$f":"IF(Entries!$K$20=5,MIN(GH8,GI8,GJ8,GK8,GL8),IF(Entries!$K$20=4,MIN(GH8,GI8,GJ8,GK8),IF(Entries!$K$20=3,MIN(GH8,GI8,GJ8),IF(Entries!$K$20=2,MIN(GH8,GI8),IF(Entries!$K$20=1,0,0)))))","v":0},{"$f":"GM8-GN8","v":0},{"$f":"IF(GO8>1,RANK(GO8,GO$8:GO$40,0),\"\")","v":""},null,null,0,0,0,0,0,null,{"$f":"IF(Entries!$K$20=5,MIN(GS8,GT8,GU8,GV8,GW8),IF(Entries!$K$20=4,MIN(GS8,GT8,GU8,GV8),IF(Entries!$K$20=3,MIN(GS8,GT8,GU8),IF(Entries!$K$20=2,MIN(GS8,GT8),IF(Entries!$K$20=1,0,0)))))","v":0},{"$f":"GX8-GY8","v":0},{"$f":"IF(GZ8>1,RANK(GZ8,GZ$8:GZ$40,0),\"\")","v":""},null,null,0,0,0,0,0,null,{"$f":"IF(Entries!$K$20=5,MIN(HD8,HE8,HF8,HG8,HH8),IF(Entries!$K$20=4,MIN(HD8,HE8,HF8,HG8),IF(Entries!$K$20=3,MIN(HD8,HE8,HF8),IF(Entries!$K$20=2,MIN(HD8,HE8),IF(Entries!$K$20=1,0,0)))))","v":0},{"$f":"HI8-HJ8","v":0},{"$f":"IF(HK8>1,RANK(HK8,HK$8:HK$40,0),\"\")","v":""},null,null,0,0,0,0,0,null,{"$f":"IF(Entries!$K$20=5,MIN(HO8,HP8,HQ8,HR8,HS8),IF(Entries!$K$20=4,MIN(HO8,HP8,HQ8,HR8),IF(Entries!$K$20=3,MIN(HO8,HP8,HQ8),IF(Entries!$K$20=2,MIN(HO8,HP8),IF(Entries!$K$20=1,0,0)))))","v":0},{"$f":"HT8-HU8","v":0},{"$f":"IF(HV8>1,RANK(HV8,HV$8:HV$40,0),\"\")","v":""},null,null,0,0,0,0,0,null,{"$f":"IF(Entries!$K$20=5,MIN(HZ8,IA8,IB8,IC8,ID8),IF(Entries!$K$20=4,MIN(HZ8,IA8,IB8,IC8),IF(Entries!$K$20=3,MIN(HZ8,IA8,IB8),IF(Entries!$K$20=2,MIN(HZ8,IA8),IF(Entries!$K$20=1,0,0)))))","v":0},{"$f":"IE8-IF8","v":0},{"$f":"IF(IG8>1,RANK(IG8,IG$8:IG$40,0),\"\")","v":""}]
[null,"Ciara O'Sullivan",0,443,472,411,469,1795,{"$f":"IF(Entries!$K$20=5,MIN(C9,D9,E9,F9,G9),IF(Entries!$K$20=4,MIN(C9,D9,E9,F9),IF(Entries!$K$20=3,MIN(C9,D9,E9),IF(Entries!$K$20=2,MIN(C9,D9),IF(Entries!$K$20=1,0,0)))))","v":0},{"$f":"H9-I9","v":1795},{"$f":"IF(J9>1,RANK(J9,J$8:J$40,0),\"\")","v":2},null,"James Byrne ",477,497,479,481,510,2444,{"$f":"IF(Entries!$K$20=5,MIN(N9,O9,P9,Q9,R9),IF(Entries!$K$20=4,MIN(N9,O9,P9,Q9),IF(Entries!$K$20=3,MIN(N9,O9,P9),IF(Entries!$K$20=2,MIN(N9,O9),IF(Entries!$K$20=1,0,0)))))","v":477},{"$f":"S9-T9","v":1967},{"$f":"IF(U9>1,RANK(U9,U$8:U$40,0),\"\")","v":2},null,"Kevin Kok Zhi Hao",499,510,458,495,496,2458,{"$f":"IF(Entries!$K$20=5,MIN(Y9,Z9,AA9,AB9,AC9),IF(Entries!$K$20=4,MIN(Y9,Z9,AA9,AB9),IF(Entries!$K$20=3,MIN(Y9,Z9,AA9),IF(Entries!$K$20=2,MIN(Y9,Z9),IF(Entries!$K$20=1,0,0)))))","v":458},{"$f":"AD9-AE9","v":2000},{"$f":"IF(AF9>1,RANK(AF9,AF$8:AF$40,0),\"\")","v":2},null,"Oskar Ronan",0,464,0,403,0,867,{"$f":"IF(Entries!$K$20=5,MIN(AJ9,AK9,AL9,AM9,AN9),IF(Entries!$K$20=4,MIN(AJ9,AK9,AL9,AM9),IF(Entries!$K$20=3,MIN(AJ9,AK9,AL9),IF(Entries!$K$20=2,MIN(AJ9,AK9),IF(Entries!$K$20=1,0,0)))))","v":0},{"$f":"AO9-AP9","v":867},{"$f":"IF(AQ9>1,RANK(AQ9,AQ$8:AQ$40,0),\"\")","v":2},null,"Conor McCann",435,256,401,398,324,1814,{"$f":"IF(Entries!$K$20=5,MIN(AU9,AV9,AW9,AX9,AY9),IF(Entries!$K$20=4,MIN(AU9,AV9,AW9,AX9),IF(Entries!$K$20=3,MIN(AU9,AV9,AW9),IF(Entries!$K$20=2,MIN(AU9,AV9),IF(Entries!$K$20=1,0,0)))))","v":256},{"$f":"AZ9-BA9","v":1558},{"$f":"IF(BB9>1,RANK(BB9,BB$8:BB$40,0),\"\")","v":2},null,null,0,0,0,0,0,null,{"$f":"IF(Entries!$K$20=5,MIN(BF9,BG9,BH9,BI9,BJ9),IF(Entries!$K$20=4,MIN(BF9,BG9,BH9,BI9),IF(Entries!$K$20=3,MIN(BF9,BG9,BH9),IF(Entries!$K$20=2,MIN(BF9,BG9),IF(Entries!$K$20=1,0,0)))))","v":0},{"$f":"BK9-BL9","v":0},{"$f":"IF(BM9>1,RANK(BM9,BM$8:BM$40,0),\"\")","v":""},null,null,0,0,0,0,0,null,{"$f":"IF(Entries!$K$20=5,MIN(BQ9,BR9,BS9,BT9,BU9),IF(Entries!$K$20=4,MIN(BQ9,BR9,BS9,BT9),IF(Entries!$K$20=3,MIN(BQ9,BR9,BS9),IF(Entries!$K$20=2,MIN(BQ9,BR9),IF(Entries!$K$20=1,0,0)))))","v":0},{"$f":"BV9-BW9","v":0},{"$f":"IF(BX9>1,RANK(BX9,BX$8:BX$40,0),\"\")","v":""},null,null,0,0,0,0,0,null,{"$f":"IF(Entries!$K$20=5,MIN(CB9,CC9,CD9,CE9,CF9),IF(Entries!$K$20=4,MIN(CB9,CC9,CD9,CE9),IF(Entries!$K$20=3,MIN(CB9,CC9,CD9),IF(Entries!$K$20=2,MIN(CB9,CC9),IF(Entries!$K$20=1,0,0)))))","v":0},{"$f":"CG9-CH9","v":0},{"$f":"IF(CI9>1,RANK(CI9,CI$8:CI$40,0),\"\")","v":""},null,"Hugh Farrell",495,495,509,482,502,2483,{"$f":"IF(Entries!$K$20=5,MIN(CM9,CN9,CO9,CP9,CQ9),IF(Entries!$K$20=4,MIN(CM9,CN9,CO9,CP9),IF(Entries!$K$20=3,MIN(CM9,CN9,CO9),IF(Entries!$K$20=2,MIN(CM9,CN9),IF(Entries!$K$20=1,0,0)))))","v":482},{"$f":"CR9-CS9","v":2001},{"$f":"IF(CT9>1,RANK(CT9,CT$8:CT$40,0),\"\")","v":2},null,null,0,0,0,0,0,null,{"$f":"IF(Entries!$K$20=5,MIN(CX9,CY9,CZ9,DA9,DB9),IF(Entries!$K$20=4,MIN(CX9,CY9,CZ9,DA9),IF(Entries!$K$20=3,MIN(CX9,CY9,CZ9),IF(Entries!$K$20=2,MIN(CX9,CY9),IF(Entries!$K$20=1,0,0)))))","v":0},{"$f":"DC9-DD9","v":0},{"$f":"IF(DE9>1,RANK(DE9,DE$8:DE$40,0),\"\")","v":""},null,"Mary Aherne",413,343,464,400,420,2040,{"$f":"IF(Entries!$K$20=5,MIN(DI9,DJ9,DK9,DL9,DM9),IF(Entries!$K$20=4,MIN(DI9,DJ9,DK9,DL9),IF(Entries!$K$20=3,MIN(DI9,DJ9,DK9),IF(Entries!$K$20=2,MIN(DI9,DJ9),IF(Entries!$K$20=1,0,0)))))","v":343},{"$f":"DN9-DO9","v":1697},{"$f":"IF(DP9>1,RANK(DP9,DP$8:DP$40,0),\"\")","v":2},null,"Ahmad Nasree M Khairuddin Lim",372,0,0,0,0,372,{"$f":"IF(Entries!$K$20=5,MIN(DT9,DU9,DV9,DW9,DX9),IF(Entries!$K$20=4,MIN(DT9,DU9,DV9,DW9),IF(Entries!$K$20=3,MIN(DT9,DU9,DV9),IF(Entries!$K$20=2,MIN(DT9,DU9),IF(Entries!$K$20=1,0,0)))))","v":0},{"$f":"DY9-DZ9","v":372},{"$f":"IF(EA9>1,RANK(EA9,EA$8:EA$40,0),\"\")","v":2},null,"Carla Reinhardt",266,0,424,399,392,1481,{"$f":"IF(Entries!$K$20=5,MIN(EE9,EF9,EG9,EH9,EI9),IF(Entries!$K$20=4,MIN(EE9,EF9,EG9,EH9),IF(Entries!$K$20=3,MIN(EE9,EF9,EG9),IF(Entries!$K$20=2,MIN(EE9,EF9),IF(Entries!$K$20=1,0,0)))))","v":0},{"$f":"EJ9-EK9","v":1481},{"$f":"IF(EL9>1,RANK(EL9,EL$8:EL$40,0),\"\")","v":2},null,"Ines Rauch",439,481,473,517,516,2426,{"$f":"IF(Entries!$K$20=5,MIN(EP9,EQ9,ER9,ES9,ET9),IF(Entries!$K$20=4,MIN(EP9,EQ9,ER9,ES9),IF(Entries!$K$20=3,MIN(EP9,EQ9,ER9),IF(Entries!$K$20=2,MIN(EP9,EQ9),IF(Entries!$K$20=1,0,0)))))","v":439},{"$f":"EU9-EV9","v":1987},{"$f":"IF(EW9>1,RANK(EW9,EW$8:EW$40,0),\"\")","v":2},null,"Conor O'Brien",310,287,405,294,300,1596,{"$f":"IF(Entries!$K$20=5,MIN(FA9,FB9,FC9,FD9,FE9),IF(Entries!$K$20=4,MIN(FA9,FB9,FC9,FD9),IF(Entries!$K$20=3,MIN(FA9,FB9,FC9),IF(Entries!$K$20=2,MIN(FA9,FB9),IF(Entries!$K$20=1,0,0)))))","v":287},{"$f":"FF9-FG9","v":1309},{"$f":"IF(FH9>1,RANK(FH9,FH$8:FH$40,0),\"\")","v":3},null,"Judith Bell",0,239,378,376,134,1127,{"$f":"IF(Entries!$K$20=5,MIN(FL9,FM9,FN9,FO9,FP9),IF(Entries!$K$20=4,MIN(FL9,FM9,FN9,FO9),IF(Entries!$K$20=3,MIN(FL9,FM9,FN9),IF(Entries!$K$20=2,MIN(FL9,FM9),IF(Entries!$K$20=1,0,0)))))","v":0},{"$f":"FQ9-FR9","v":1127},{"$f":"IF(FS9>1,RANK(FS9,FS$8:FS$40,0),\"\")","v":2},null,null,0,0,0,0,0,null,{"$f":"IF(Entries!$K$20=5,MIN(FW9,FX9,FY9,FZ9,GA9),IF(Entries!$K$20=4,MIN(FW9,FX9,FY9,FZ9),IF(Entries!$K$20=3,MIN(FW9,FX9,FY9),IF(Entries!$K$20=2,MIN(FW9,FX9),IF(Entries!$K$20=1,0,0)))))","v":0},{"$f":"GB9-GC9","v":0},{"$f":"IF(GD9>1,RANK(GD9,GD$8:GD$40,0),\"\")","v":""},null,null,0,0,0,0,0,null,{"$f":"IF(Entries!$K$20=5,MIN(GH9,GI9,GJ9,GK9,GL9),IF(Entries!$K$20=4,MIN(GH9,GI9,GJ9,GK9),IF(Entries!$K$20=3,MIN(GH9,GI9,GJ9),IF(Entries!$K$20=2,MIN(GH9,GI9),IF(Entries!$K$20=1,0,0)))))","v":0},{"$f":"GM9-GN9","v":0},{"$f":"IF(GO9>1,RANK(GO9,GO$8:GO$40,0),\"\")","v":""},null,null,0,0,0,0,0,null,{"$f":"IF(Entries!$K$20=5,MIN(GS9,GT9,GU9,GV9,GW9),IF(Entries!$K$20=4,MIN(GS9,GT9,GU9,GV9),IF(Entries!$K$20=3,MIN(GS9,GT9,GU9),IF(Entries!$K$20=2,MIN(GS9,GT9),IF(Entries!$K$20=1,0,0)))))","v":0},{"$f":"GX9-GY9","v":0},{"$f":"IF(GZ9>1,RANK(GZ9,GZ$8:GZ$40,0),\"\")","v":""},null,null,0,0,0,0,0,null,{"$f":"IF(Entries!$K$20=5,MIN(HD9,HE9,HF9,HG9,HH9),IF(Entries!$K$20=4,MIN(HD9,HE9,HF9,HG9),IF(Entries!$K$20=3,MIN(HD9,HE9,HF9),IF(Entries!$K$20=2,MIN(HD9,HE9),IF(Entries!$K$20=1,0,0)))))","v":0},{"$f":"HI9-HJ9","v":0},{"$f":"IF(HK9>1,RANK(HK9,HK$8:HK$40,0),\"\")","v":""},null,null,0,0,0,0,0,null,{"$f":"IF(Entries!$K$20=5,MIN(HO9,HP9,HQ9,HR9,HS9),IF(Entries!$K$20=4,MIN(HO9,HP9,HQ9,HR9),IF(Entries!$K$20=3,MIN(HO9,HP9,HQ9),IF(Entries!$K$20=2,MIN(HO9,HP9),IF(Entries!$K$20=1,0,0)))))","v":0},{"$f":"HT9-HU9","v":0},{"$f":"IF(HV9>1,RANK(HV9,HV$8:HV$40,0),\"\")","v":""},null,null,0,0,0,0,0,null,{"$f":"IF(Entries!$K$20=5,MIN(HZ9,IA9,IB9,IC9,ID9),IF(Entries!$K$20=4,MIN(HZ9,IA9,IB9,IC9),IF(Entries!$K$20=3,MIN(HZ9,IA9,IB9),IF(Entries!$K$20=2,MIN(HZ9,IA9),IF(Entries!$K$20=1,0,0)))))","v":0},{"$f":"IE9-IF9","v":0},{"$f":"IF(IG9>1,RANK(IG9,IG$8:IG$40,0),\"\")","v":""}]
[null,"Philip Early",360,373,0,372,344,1449,{"$f":"IF(Entries!$K$20=5,MIN(C10,D10,E10,F10,G10),IF(Entries!$K$20=4,MIN(C10,D10,E10,F10),IF(Entries!$K$20=3,MIN(C10,D10,E10),IF(Entries!$K$20=2,MIN(C10,D10),IF(Entries!$K$20=1,0,0)))))","v":0},1449,3,null,"Kristian Bongo",381,412,440,405,457,2095,{"$f":"IF(Entries!$K$20=5,MIN(N10,O10,P10,Q10,R10),IF(Entries!$K$20=4,MIN(N10,O10,P10,Q10),IF(Entries!$K$20=3,MIN(N10,O10,P10),IF(Entries!$K$20=2,MIN(N10,O10),IF(Entries!$K$20=1,0,0)))))","v":381},1714,4,null,"See Qui Ren",427,470,448,433,453,2231,{"$f":"IF(Entries!$K$20=5,MIN(Y10,Z10,AA10,AB10,AC10),IF(Entries!$K$20=4,MIN(Y10,Z10,AA10,AB10),IF(Entries!$K$20=3,MIN(Y10,Z10,AA10),IF(Entries!$K$20=2,MIN(Y10,Z10),IF(Entries!$K$20=1,0,0)))))","v":427},1804,5,null,"Clarke-Ng Choy-Ping",0,367,0,407,0,774,{"$f":"IF(Entries!$K$20=5,MIN(AJ10,AK10,AL10,AM10,AN10),IF(Entries!$K$20=4,MIN(AJ10,AK10,AL10,AM10),IF(Entries!$K$20=3,MIN(AJ10,AK10,AL10),IF(Entries!$K$20=2,MIN(AJ10,AK10),IF(Entries!$K$20=1,0,0)))))","v":0},774,3,null,"Mark Sherlock",393,371,311,358,338,1771,{"$f":"IF(Entries!$K$20=5,MIN(AU10,AV10,AW10,AX10,AY10),IF(Entries!$K$20=4,MIN(AU10,AV10,AW10,AX10),IF(Entries!$K$20=3,MIN(AU10,AV10,AW10),IF(Entries!$K$20=2,MIN(AU10,AV10),IF(Entries!$K$20=1,0,0)))))","v":311},1460,4,null,null,0,0,0,0,0,null,{"$f":"IF(Entries!$K$20=5,MIN(BF10,BG10,BH10,BI10,BJ10),IF(Entries!$K$20=4,MIN(BF10,BG10,BH10,BI10),IF(Entries!$K$20=3,MIN(BF10,BG10,BH10),IF(Entries!$K$20=2,MIN(BF10,BG10),IF(Entries!$K$20=1,0,0)))))","v":0},0,"",null,null,0,0,0,0,0,null,{"$f":"IF(Entries!$K$20=5,MIN(BQ10,BR10,BS10,BT10,BU10),IF(Entries!$K$20=4,MIN(BQ10,BR10,BS10,BT10),IF(Entries!$K$20=3,MIN(BQ10,BR10,BS10),IF(Entries!$K$20=2,MIN(BQ10,BR10),IF(Entries!$K$20=1,0,0)))))","v":0},0,"",null,null,0,0,0,0,0,null,{"$f":"IF(Entries!$K$20=5,MIN(CB10,CC10,CD10,CE10,CF10),IF(Entries!$K$20=4,MIN(CB10,CC10,CD10,CE10),IF(Entries!$K$20=3,MIN(CB10,CC10,CD10),IF(Entries!$K$20=2,MIN(CB10,CC10),IF(Entries!$K$20=1,0,0)))))","v":0},0,"",null,"Domhnall Ò Póil",489,460,511,468,486,2414,{"$f":"IF(Entries!$K$20=5,MIN(CM10,CN10,CO10,CP10,CQ10),IF(Entries!$K$20=4,MIN(CM10,CN10,CO10,CP10),IF(Entries!$K$20=3,MIN(CM10,CN10,CO10),IF(Entries!$K$20=2,MIN(CM10,CN10),IF(Entries!$K$20=1,0,0)))))","v":460},1954,3,null,null,0,0,0,0,0,null,{"$f":"IF(Entries!$K$20=5,MIN(CX10,CY10,CZ10,DA10,DB10),IF(Entries!$K$20=4,MIN(CX10,CY10,CZ10,DA10),IF(Entries!$K$20=3,MIN(CX10,CY10,CZ10),IF(Entries!$K$20=2,MIN(CX10,CY10),IF(Entries!$K$20=1,0,0)))))","v":0},0,"",null,"Helen Lacey",325,380,424,355,404,1888,{"$f":"IF(Entries!$K$20=5,MIN(DI10,DJ10,DK10,DL10,DM10),IF(Entries!$K$20=4,MIN(DI10,DJ10,DK10,DL10),IF(Entries!$K$20=3,MIN(DI10,DJ10,DK10),IF(Entries!$K$20=2,MIN(DI10,DJ10),IF(Entries!$K$20=1,0,0)))))","v":325},1563,3,null,"Muhammad Hakim Mohd Nasir",0,0,311,0,0,311,{"$f":"IF(Entries!$K$20=5,MIN(DT10,DU10,DV10,DW10,DX10),IF(Entries!$K$20=4,MIN(DT10,DU10,DV10,DW10),IF(Entries!$K$20=3,MIN(DT10,DU10,DV10),IF(Entries!$K$20=2,MIN(DT10,DU10),IF(Entries!$K$20=1,0,0)))))","v":0},311,3,null,"Brendan O'Sullivan",483,0,0,447,413,1343,{"$f":"IF(Entries!$K$20=5,MIN(EE10,EF10,EG10,EH10,EI10),IF(Entries!$K$20=4,MIN(EE10,EF10,EG10,EH10),IF(Entries!$K$20=3,MIN(EE10,EF10,EG10),IF(Entries!$K$20=2,MIN(EE10,EF10),IF(Entries!$K$20=1,0,0)))))","v":0},1343,3,null,"Charles O'Dowd",423,414,482,435,465,2219,{"$f":"IF(Entries!$K$20=5,MIN(EP10,EQ10,ER10,ES10,ET10),IF(Entries!$K$20=4,MIN(EP10,EQ10,ER10,ES10),IF(Entries!$K$20=3,MIN(EP10,EQ10,ER10),IF(Entries!$K$20=2,MIN(EP10,EQ10),IF(Entries!$K$20=1,0,0)))))","v":414},1805,4,null,"Liam Higgins",0,317,340,375,353,1385,{"$f":"IF(Entries!$K$20=5,MIN(FA10,FB10,FC10,FD10,FE10),IF(Entries!$K$20=4,MIN(FA10,FB10,FC10,FD10),IF(Entries!$K$20=3,MIN(FA10,FB10,FC10),IF(Entries!$K$20=2,MIN(FA10,FB10),IF(Entries!$K$20=1,0,0)))))","v":0},1385,2,null,"Andrew Neville",0,0,380,365,0,745,{"$f":"IF(Entries!$K$20=5,MIN(FL10,FM10,FN10,FO10,FP10),IF(Entries!$K$20=4,MIN(FL10,FM10,FN10,FO10),IF(Entries!$K$20=3,MIN(FL10,FM10,FN10),IF(Entries!$K$20=2,MIN(FL10,FM10),IF(Entries!$K$20=1,0,0)))))","v":0},745,3,null,null,0,0,0,0,0,null,{"$f":"IF(Entries!$K$20=5,MIN(FW10,FX10,FY10,FZ10,GA10),IF(Entries!$K$20=4,MIN(FW10,FX10,FY10,FZ10),IF(Entries!$K$20=3,MIN(FW10,FX10,FY10),IF(Entries!$K$20=2,MIN(FW10,FX10),IF(Entries!$K$20=1,0,0)))))","v":0},0,"",null,null,0,0,0,0,0,null,{"$f":"IF(Entries!$K$20=5,MIN(GH10,GI10,GJ10,GK10,GL10),IF(Entries!$K$20=4,MIN(GH10,GI10,GJ10,GK10),IF(Entries!$K$20=3,MIN(GH10,GI10,GJ10),IF(Entries!$K$20=2,MIN(GH10,GI10),IF(Entries!$K$20=1,0,0)))))","v":0},0,"",null,null,0,0,0,0,0,null,{"$f":"IF(Entries!$K$20=5,MIN(GS10,GT10,GU10,GV10,GW10),IF(Entries!$K$20=4,MIN(GS10,GT10,GU10,GV10),IF(Entries!$K$20=3,MIN(GS10,GT10,GU10),IF(Entries!$K$20=2,MIN(GS10,GT10),IF(Entries!$K$20=1,0,0)))))","v":0},0,"",null,null,0,0,0,0,0,null,{"$f":"IF(Entries!$K$20=5,MIN(HD10,HE10,HF10,HG10,HH10),IF(Entries!$K$20=4,MIN(HD10,HE10,HF10,HG10),IF(Entries!$K$20=3,MIN(HD10,HE10,HF10),IF(Entries!$K$20=2,MIN(HD10,HE10),IF(Entries!$K$20=1,0,0)))))","v":0},0,"",null,null,0,0,0,0,0,null,{"$f":"IF(Entries!$K$20=5,MIN(HO10,HP10,HQ10,HR10,HS10),IF(Entries!$K$20=4,MIN(HO10,HP10,HQ10,HR10),IF(Entries!$K$20=3,MIN(HO10,HP10,HQ10),IF(Entries!$K$20=2,MIN(HO10,HP10),IF(Entries!$K$20=1,0,0)))))","v":0},0,"",null,null,0,0,0,0,0,null,{"$f":"IF(Entries!$K$20=5,MIN(HZ10,IA10,IB10,IC10,ID10),IF(Entries!$K$20=4,MIN(HZ10,IA10,IB10,IC10),IF(Entries!$K$20=3,MIN(HZ10,IA10,IB10),IF(Entries!$K$20=2,MIN(HZ10,IA10),IF(Entries!$K$20=1,0,0)))))","v":0},0,""]
[null,"Aishling Dignam",0,346,314,359,398,1417,{"$f":"IF(Entries!$K$20=5,MIN(C11,D11,E11,F11,G11),IF(Entries!$K$20=4,MIN(C11,D11,E11,F11),IF(Entries!$K$20=3,MIN(C11,D11,E11),IF(Entries!$K$20=2,MIN(C11,D11),IF(Entries!$K$20=1,0,0)))))","v":0},1417,4,null,"Joshua Tracey",409,378,427,411,385,2010,{"$f":"IF(Entries!$K$20=5,MIN(N11,O11,P11,Q11,R11),IF(Entries!$K$20=4,MIN(N11,O11,P11,Q11),IF(Entries!$K$20=3,MIN(N11,O11,P11),IF(Entries!$K$20=2,MIN(N11,O11),IF(Entries!$K$20=1,0,0)))))","v":378},1632,5,null,"Wai Hong Keet",416,460,455,423,410,2164,{"$f":"IF(Entries!$K$20=5,MIN(Y11,Z11,AA11,AB11,AC11),IF(Entries!$K$20=4,MIN(Y11,Z11,AA11,AB11),IF(Entries!$K$20=3,MIN(Y11,Z11,AA11),IF(Entries!$K$20=2,MIN(Y11,Z11),IF(Entries!$K$20=1,0,0)))))","v":410},1754,7,null,"Eve Kearney",0,273,0,0,380,653,{"$f":"IF(Entries!$K$20=5,MIN(AJ11,AK11,AL11,AM11,AN11),IF(Entries!$K$20=4,MIN(AJ11,AK11,AL11,AM11),IF(Entries!$K$20=3,MIN(AJ11,AK11,AL11),IF(Entries!$K$20=2,MIN(AJ11,AK11),IF(Entries!$K$20=1,0,0)))))","v":0},653,4,null,"Asia Tayyab",330,283,376,407,278,1674,{"$f":"IF(Entries!$K$20=5,MIN(AU11,AV11,AW11,AX11,AY11),IF(Entries!$K$20=4,MIN(AU11,AV11,AW11,AX11),IF(Entries!$K$20=3,MIN(AU11,AV11,AW11),IF(Entries!$K$20=2,MIN(AU11,AV11),IF(Entries!$K$20=1,0,0)))))","v":278},1396,5,null,null,0,0,0,0,0,null,{"$f":"IF(Entries!$K$20=5,MIN(BF11,BG11,BH11,BI11,BJ11),IF(Entries!$K$20=4,MIN(BF11,BG11,BH11,BI11),IF(Entries!$K$20=3,MIN(BF11,BG11,BH11),IF(Entries!$K$20=2,MIN(BF11,BG11),IF(Entries!$K$20=1,0,0)))))","v":0},0,"",null,null,0,0,0,0,0,null,{"$f":"IF(Entries!$K$20=5,MIN(BQ11,BR11,BS11,BT11,BU11),IF(Entries!$K$20=4,MIN(BQ11,BR11,BS11,BT11),IF(Entries!$K$20=3,MIN(BQ11,BR11,BS11),IF(Entries!$K$20=2,MIN(BQ11,BR11),IF(Entries!$K$20=1,0,0)))))","v":0},0,"",null,null,0,0,0,0,0,null,{"$f":"IF(Entries!$K$20=5,MIN(CB11,CC11,CD11,CE11,CF11),IF(Entries!$K$20=4,MIN(CB11,CC11,CD11,CE11),IF(Entries!$K$20=3,MIN(CB11,CC11,CD11),IF(Entries!$K$20=2,MIN(CB11,CC11),IF(Entries!$K$20=1,0,0)))))","v":0},0,"",null,"Connor Newman",0,398,440,424,451,1713,{"$f":"IF(Entries!$K$20=5,MIN(CM11,CN11,CO11,CP11,CQ11),IF(Entries!$K$20=4,MIN(CM11,CN11,CO11,CP11),IF(Entries!$K$20=3,MIN(CM11,CN11,CO11),IF(Entries!$K$20=2,MIN(CM11,CN11),IF(Entries!$K$20=1,0,0)))))","v":0},1713,4,null,null,0,0,0,0,0,null,{"$f":"IF(Entries!$K$20=5,MIN(CX11,CY11,CZ11,DA11,DB11),IF(Entries!$K$20=4,MIN(CX11,CY11,CZ11,DA11),IF(Entries!$K$20=3,MIN(CX11,CY11,CZ11),IF(Entries!$K$20=2,MIN(CX11,CY11),IF(Entries!$K$20=1,0,0)))))","v":0},0,"",null,"Chris Riddell",342,386,328,434,314,1804,{"$f":"IF(Entries!$K$20=5,MIN(DI11,DJ11,DK11,DL11,DM11),IF(Entries!$K$20=4,MIN(DI11,DJ11,DK11,DL11),IF(Entries!$K$20=3,MIN(DI11,DJ11,DK11),IF(Entries!$K$20=2,MIN(DI11,DJ11),IF(Entries!$K$20=1,0,0)))))","v":314},1490,4,null,"Nor Fatin Farhani",0,0,267,0,0,267,{"$f":"IF(Entries!$K$20=5,MIN(DT11,DU11,DV11,DW11,DX11),IF(Entries!$K$20=4,MIN(DT11,DU11,DV11,DW11),IF(Entries!$K$20=3,MIN(DT11,DU11,DV11),IF(Entries!$K$20=2,MIN(DT11,DU11),IF(Entries!$K$20=1,0,0)))))","v":0},267,4,null,"Brian Swayne",378,0,448,455,0,1281,{"$f":"IF(Entries!$K$20=5,MIN(EE11,EF11,EG11,EH11,EI11),IF(Entries!$K$20=4,MIN(EE11,EF11,EG11,EH11),IF(Entries!$K$20=3,MIN(EE11,EF11,EG11),IF(Entries!$K$20=2,MIN(EE11,EF11),IF(Entries!$K$20=1,0,0)))))","v":0},1281,4,null,"Maria Jacob",439,438,425,427,404,2133,{"$f":"IF(Entries!$K$20=5,MIN(EP11,EQ11,ER11,ES11,ET11),IF(Entries!$K$20=4,MIN(EP11,EQ11,ER11,ES11),IF(Entries!$K$20=3,MIN(EP11,EQ11,ER11),IF(Entries!$K$20=2,MIN(EP11,EQ11),IF(Entries!$K$20=1,0,0)))))","v":404},1729,5,null,"Ciara Fergus",335,352,277,306,0,1270,{"$f":"IF(Entries!$K$20=5,MIN(FA11,FB11,FC11,FD11,FE11),IF(Entries!$K$20=4,MIN(FA11,FB11,FC11,FD11),IF(Entries!$K$20=3,MIN(FA11,FB11,FC11),IF(Entries!$K$20=2,MIN(FA11,FB11),IF(Entries!$K$20=1,0,0)))))","v":0},1270,4,null,"Jordan McMullan",0,0,0,349,0,349,{"$f":"IF(Entries!$K$20=5,MIN(FL11,FM11,FN11,FO11,FP11),IF(Entries!$K$20=4,MIN(FL11,FM11,FN11,FO11),IF(Entries!$K$20=3,MIN(FL11,FM11,FN11),IF(Entries!$K$20=2,MIN(FL11,FM11),IF(Entries!$K$20=1,0,0)))))","v":0},349,4,null,null,0,0,0,0,0,null,{"$f":"IF(Entries!$K$20=5,MIN(FW11,FX11,FY11,FZ11,GA11),IF(Entries!$K$20=4,MIN(FW11,FX11,FY11,FZ11),IF(Entries!$K$20=3,MIN(FW11,FX11,FY11),IF(Entries!$K$20=2,MIN(FW11,FX11),IF(Entries!$K$20=1,0,0)))))","v":0},0,"",null,null,0,0,0,0,0,null,{"$f":"IF(Entries!$K$20=5,MIN(GH11,GI11,GJ11,GK11,GL11),IF(Entries!$K$20=4,MIN(GH11,GI11,GJ11,GK11),IF(Entries!$K$20=3,MIN(GH11,GI11,GJ11),IF(Entries!$K$20=2,MIN(GH11,GI11),IF(Entries!$K$20=1,0,0)))))","v":0},0,"",null,null,0,0,0,0,0,null,{"$f":"IF(Entries!$K$20=5,MIN(GS11,GT11,GU11,GV11,GW11),IF(Entries!$K$20=4,MIN(GS11,GT11,GU11,GV11),IF(Entries!$K$20=3,MIN(GS11,GT11,GU11),IF(Entries!$K$20=2,MIN(GS11,GT11),IF(Entries!$K$20=1,0,0)))))","v":0},0,"",null,null,0,0,0,0,0,null,{"$f":"IF(Entries!$K$20=5,MIN(HD11,HE11,HF11,HG11,HH11),IF(Entries!$K$20=4,MIN(HD11,HE11,HF11,HG11),IF(Entries!$K$20=3,MIN(HD11,HE11,HF11),IF(Entries!$K$20=2,MIN(HD11,HE11),IF(Entries!$K$20=1,0,0)))))","v":0},0,"",null,null,0,0,0,0,0,null,{"$f":"IF(Entries!$K$20=5,MIN(HO11,HP11,HQ11,HR11,HS11),IF(Entries!$K$20=4,MIN(HO11,HP11,HQ11,HR11),IF(Entries!$K$20=3,MIN(HO11,HP11,HQ11),IF(Entries!$K$20=2,MIN(HO11,HP11),IF(Entries!$K$20=1,0,0)))))","v":0},0,"",null,null,0,0,0,0,0,null,{"$f":"IF(Entries!$K$20=5,MIN(HZ11,IA11,IB11,IC11,ID11),IF(Entries!$K$20=4,MIN(HZ11,IA11,IB11,IC11),IF(Entries!$K$20=3,MIN(HZ11,IA11,IB11),IF(Entries!$K$20=2,MIN(HZ11,IA11),IF(Entries!$K$20=1,0,0)))))","v":0},0,""]
[null,"Lorenzo Diago",0,480,371,420,0,1271,{"$f":"IF(Entries!$K$20=5,MIN(C12,D12,E12,F12,G12),IF(Entries!$K$20=4,MIN(C12,D12,E12,F12),IF(Entries!$K$20=3,MIN(C12,D12,E12),IF(Entries!$K$20=2,MIN(C12,D12),IF(Entries!$K$20=1,0,0)))))","v":0},1271,5,null,"Jen Daly",409,0,482,498,481,1870,{"$f":"IF(Entries!$K$20=5,MIN(N12,O12,P12,Q12,R12),IF(Entries!$K$20=4,MIN(N12,O12,P12,Q12),IF(Entries!$K$20=3,MIN(N12,O12,P12),IF(Entries!$K$20=2,MIN(N12,O12),IF(Entries!$K$20=1,0,0)))))","v":0},1870,3,null,"Victoria Shen Fen Tan",380,319,375,460,486,2020,{"$f":"IF(Entries!$K$20=5,MIN(Y12,Z12,AA12,AB12,AC12),IF(Entries!$K$20=4,MIN(Y12,Z12,AA12,AB12),IF(Entries!$K$20=3,MIN(Y12,Z12,AA12),IF(Entries!$K$20=2,MIN(Y12,Z12),IF(Entries!$K$20=1,0,0)))))","v":319},1701,8,null,"Christo Pretorious",0,290,0,0,0,290,{"$f":"IF(Entries!$K$20=5,MIN(AJ12,AK12,AL12,AM12,AN12),IF(Entries!$K$20=4,MIN(AJ12,AK12,AL12,AM12),IF(Entries!$K$20=3,MIN(AJ12,AK12,AL12),IF(Entries!$K$20=2,MIN(AJ12,AK12),IF(Entries!$K$20=1,0,0)))))","v":0},290,5,null,"Aaron Downes",0,392,391,388,330,1501,{"$f":"IF(Entries!$K$20=5,MIN(AU12,AV12,AW12,AX12,AY12),IF(Entries!$K$20=4,MIN(AU12,AV12,AW12,AX12),IF(Entries!$K$20=3,MIN(AU12,AV12,AW12),IF(Entries!$K$20=2,MIN(AU12,AV12),IF(Entries!$K$20=1,0,0)))))","v":0},1501,3,null,null,null,null,null,null,null,null,{"$f":"IF(Entries!$K$20=5,MIN(BF12,BG12,BH12,BI12,BJ12),IF(Entries!$K$20=4,MIN(BF12,BG12,BH12,BI12),IF(Entries!$K$20=3,MIN(BF12,BG12,BH12),IF(Entries!$K$20=2,MIN(BF12,BG12),IF(Entries!$K$20=1,0,0)))))","v":0},0,"",null,null,null,null,null,null,null,null,{"$f":"IF(Entries!$K$20=5,MIN(BQ12,BR12,BS12,BT12,BU12),IF(Entries!$K$20=4,MIN(BQ12,BR12,BS12,BT12),IF(Entries!$K$20=3,MIN(BQ12,BR12,BS12),IF(Entries!$K$20=2,MIN(BQ12,BR12),IF(Entries!$K$20=1,0,0)))))","v":0},0,"",null,null,null,null,null,null,null,null,{"$f":"IF(Entries!$K$20=5,MIN(CB12,CC12,CD12,CE12,CF12),IF(Entries!$K$20=4,MIN(CB12,CC12,CD12,CE12),IF(Entries!$K$20=3,MIN(CB12,CC12,CD12),IF(Entries!$K$20=2,MIN(CB12,CC12),IF(Entries!$K$20=1,0,0)))))","v":0},0,"",null,"Sam Gibson",0,360,466,395,430,1651,{"$f":"IF(Entries!$K$20=5,MIN(CM12,CN12,CO12,CP12,CQ12),IF(Entries!$K$20=4,MIN(CM12,CN12,CO12,CP12),IF(Entries!$K$20=3,MIN(CM12,CN12,CO12),IF(Entries!$K$20=2,MIN(CM12,CN12),IF(Entries!$K$20=1,0,0)))))","v":0},1651,5,null,null,null,null,null,null,null,null,{"$f":"IF(Entries!$K$20=5,MIN(CX12,CY12,CZ12,DA12,DB12),IF(Entries!$K$20=4,MIN(CX12,CY12,CZ12,DA12),IF(Entries!$K$20=3,MIN(CX12,CY12,CZ12),IF(Entries!$K$20=2,MIN(CX12,CY12),IF(Entries!$K$20=1,0,0)))))","v":0},0,"",null,"Eric Moore",399,380,0,322,384,1485,{"$f":"IF(Entries!$K$20=5,MIN(DI12,DJ12,DK12,DL12,DM12),IF(Entries!$K$20=4,MIN(DI12,DJ12,DK12,DL12),IF(Entries!$K$20=3,MIN(DI12,DJ12,DK12),IF(Entries!$K$20=2,MIN(DI12,DJ12),IF(Entries!$K$20=1,0,0)))))","v":0},1485,5,null,"Raja Nur Iyliani",0,0,190,0,0,190,{"$f":"IF(Entries!$K$20=5,MIN(DT12,DU12,DV12,DW12,DX12),IF(Entries!$K$20=4,MIN(DT12,DU12,DV12,DW12),IF(Entries!$K$20=3,MIN(DT12,DU12,DV12),IF(Entries!$K$20=2,MIN(DT12,DU12),IF(Entries!$K$20=1,0,0)))))","v":0},190,5,null,"Chris O'Leary",0,0,0,390,411,801,{"$f":"IF(Entries!$K$20=5,MIN(EE12,EF12,EG12,EH12,EI12),IF(Entries!$K$20=4,MIN(EE12,EF12,EG12,EH12),IF(Entries!$K$20=3,MIN(EE12,EF12,EG12),IF(Entries!$K$20=2,MIN(EE12,EF12),IF(Entries!$K$20=1,0,0)))))","v":0},801,5,null,"Paul Beirne",454,426,440,0,500,1820,{"$f":"IF(Entries!$K$20=5,MIN(EP12,EQ12,ER12,ES12,ET12),IF(Entries!$K$20=4,MIN(EP12,EQ12,ER12,ES12),IF(Entries!$K$20=3,MIN(EP12,EQ12,ER12),IF(Entries!$K$20=2,MIN(EP12,EQ12),IF(Entries!$K$20=1,0,0)))))","v":0},1820,3,null,"Luke Blake",282,324,332,331,0,1269,{"$f":"IF(Entries!$K$20=5,MIN(FA12,FB12,FC12,FD12,FE12),IF(Entries!$K$20=4,MIN(FA12,FB12,FC12,FD12),IF(Entries!$K$20=3,MIN(FA12,FB12,FC12),IF(Entries!$K$20=2,MIN(FA12,FB12),IF(Entries!$K$20=1,0,0)))))","v":0},1269,5,null,"Martha Chege",0,0,0,201,0,201,{"$f":"IF(Entries!$K$20=5,MIN(FL12,FM12,FN12,FO12,FP12),IF(Entries!$K$20=4,MIN(FL12,FM12,FN12,FO12),IF(Entries!$K$20=3,MIN(FL12,FM12,FN12),IF(Entries!$K$20=2,MIN(FL12,FM12),IF(Entries!$K$20=1,0,0)))))","v":0},201,5,null,null,null,null,null,null,null,null,{"$f":"IF(Entries!$K$20=5,MIN(FW12,FX12,FY12,FZ12,GA12),IF(Entries!$K$20=4,MIN(FW12,FX12,FY12,FZ12),IF(Entries!$K$20=3,MIN(FW12,FX12,FY12),IF(Entries!$K$20=2,MIN(FW12,FX12),IF(Entries!$K$20=1,0,0)))))","v":0},0,"",null,null,null,null,null,null,null,null,{"$f":"IF(Entries!$K$20=5,MIN(GH12,GI12,GJ12,GK12,GL12),IF(Entries!$K$20=4,MIN(GH12,GI12,GJ12,GK12),IF(Entries!$K$20=3,MIN(GH12,GI12,GJ12),IF(Entries!$K$20=2,MIN(GH12,GI12),IF(Entries!$K$20=1,0,0)))))","v":0},0,"",null,null,null,null,null,null,null,null,{"$f":"IF(Entries!$K$20=5,MIN(GS12,GT12,GU12,GV12,GW12),IF(Entries!$K$20=4,MIN(GS12,GT12,GU12,GV12),IF(Entries!$K$20=3,MIN(GS12,GT12,GU12),IF(Entries!$K$20=2,MIN(GS12,GT12),IF(Entries!$K$20=1,0,0)))))","v":0},0,"",null,null,null,null,null,null,null,null,{"$f":"IF(Entries!$K$20=5,MIN(HD12,HE12,HF12,HG12,HH12),IF(Entries!$K$20=4,MIN(HD12,HE12,HF12,HG12),IF(Entries!$K$20=3,MIN(HD12,HE12,HF12),IF(Entries!$K$20=2,MIN(HD12,HE12),IF(Entries!$K$20=1,0,0)))))","v":0},0,"",null,null,null,null,null,null,null,null,{"$f":"IF(Entries!$K$20=5,MIN(HO12,HP12,HQ12,HR12,HS12),IF(Entries!$K$20=4,MIN(HO12,HP12,HQ12,HR12),IF(Entries!$K$20=3,MIN(HO12,HP12,HQ12),IF(Entries!$K$20=2,MIN(HO12,HP12),IF(Entries!$K$20=1,0,0)))))","v":0},0,"",null,null,null,null,null,null,null,null,{"$f":"IF(Entries!$K$20=5,MIN(HZ12,IA12,IB12,IC12,ID12),IF(Entries!$K$20=4,MIN(HZ12,IA12,IB12,IC12),IF(Entries!$K$20=3,MIN(HZ12,IA12,IB12),IF(Entries!$K$20=2,MIN(HZ12,IA12),IF(Entries!$K$20=1,0,0)))))","v":0},0,""]
[null,"Emma Goodwin",0,375,290,311,0,976,{"$f":"IF(Entries!$K$20=5,MIN(C13,D13,E13,F13,G13),IF(Entries!$K$20=4,MIN(C13,D13,E13,F13),IF(Entries!$K$20=3,MIN(C13,D13,E13),IF(Entries!$K$20=2,MIN(C13,D13),IF(Entries!$K$20=1,0,0)))))","v":0},976,6,null,"Siun Collins",423,0,341,346,374,1484,{"$f":"IF(Entries!$K$20=5,MIN(N13,O13,P13,Q13,R13),IF(Entries!$K$20=4,MIN(N13,O13,P13,Q13),IF(Entries!$K$20=3,MIN(N13,O13,P13),IF(Entries!$K$20=2,MIN(N13,O13),IF(Entries!$K$20=1,0,0)))))","v":0},1484,6,null,"Eunice Kiew Ying Sing",501,0,486,509,463,1959,{"$f":"IF(Entries!$K$20=5,MIN(Y13,Z13,AA13,AB13,AC13),IF(Entries!$K$20=4,MIN(Y13,Z13,AA13,AB13),IF(Entries!$K$20=3,MIN(Y13,Z13,AA13),IF(Entries!$K$20=2,MIN(Y13,Z13),IF(Entries!$K$20=1,0,0)))))","v":0},1959,3,null,"Marta Jurczak",0,0,0,0,284,284,{"$f":"IF(Entries!$K$20=5,MIN(AJ13,AK13,AL13,AM13,AN13),IF(Entries!$K$20=4,MIN(AJ13,AK13,AL13,AM13),IF(Entries!$K$20=3,MIN(AJ13,AK13,AL13),IF(Entries!$K$20=2,MIN(AJ13,AK13),IF(Entries!$K$20=1,0,0)))))","v":0},284,6,null,"Lynda Miller",0,114,459,253,444,1270,{"$f":"IF(Entries!$K$20=5,MIN(AU13,AV13,AW13,AX13,AY13),IF(Entries!$K$20=4,MIN(AU13,AV13,AW13,AX13),IF(Entries!$K$20=3,MIN(AU13,AV13,AW13),IF(Entries!$K$20=2,MIN(AU13,AV13),IF(Entries!$K$20=1,0,0)))))","v":0},1270,6,null,null,null,null,null,null,null,null,{"$f":"IF(Entries!$K$20=5,MIN(BF13,BG13,BH13,BI13,BJ13),IF(Entries!$K$20=4,MIN(BF13,BG13,BH13,BI13),IF(Entries!$K$20=3,MIN(BF13,BG13,BH13),IF(Entries!$K$20=2,MIN(BF13,BG13),IF(Entries!$K$20=1,0,0)))))","v":0},0,"",null,null,null,null,null,null,null,null,{"$f":"IF(Entries!$K$20=5,MIN(BQ13,BR13,BS13,BT13,BU13),IF(Entries!$K$20=4,MIN(BQ13,BR13,BS13,BT13),IF(Entries!$K$20=3,MIN(BQ13,BR13,BS13),IF(Entries!$K$20=2,MIN(BQ13,BR13),IF(Entries!$K$20=1,0,0)))))","v":0},0,"",null,null,null,null,null,null,null,null,{"$f":"IF(Entries!$K$20=5,MIN(CB13,CC13,CD13,CE13,CF13),IF(Entries!$K$20=4,MIN(CB13,CC13,CD13,CE13),IF(Entries!$K$20=3,MIN(CB13,CC13,CD13),IF(Entries!$K$20=2,MIN(CB13,CC13),IF(Entries!$K$20=1,0,0)))))","v":0},0,"",null,"Laury Despres",0,386,355,394,452,1587,{"$f":"IF(Entries!$K$20=5,MIN(CM13,CN13,CO13,CP13,CQ13),IF(Entries!$K$20=4,MIN(CM13,CN13,CO13,CP13),IF(Entries!$K$20=3,MIN(CM13,CN13,CO13),IF(Entries!$K$20=2,MIN(CM13,CN13),IF(Entries!$K$20=1,0,0)))))","v":0},1587,6,null,null,null,null,null,null,null,null,{"$f":"IF(Entries!$K$20=5,MIN(CX13,CY13,CZ13,DA13,DB13),IF(Entries!$K$20=4,MIN(CX13,CY13,CZ13,DA13),IF(Entries!$K$20=3,MIN(CX13,CY13,CZ13),IF(Entries!$K$20=2,MIN(CX13,CY13),IF(Entries!$K$20=1,0,0)))))","v":0},0,"",null,"James Burke",438,465,0,0,459,1362,{"$f":"IF(Entries!$K$20=5,MIN(DI13,DJ13,DK13,DL13,DM13),IF(Entries!$K$20=4,MIN(DI13,DJ13,DK13,DL13),IF(Entries!$K$20=3,MIN(DI13,DJ13,DK13),IF(Entries!$K$20=2,MIN(DI13,DJ13),IF(Entries!$K$20=1,0,0)))))","v":0},1362,6,null,null,null,null,null,null,null,null,{"$f":"IF(Entries!$K$20=5,MIN(DT13,DU13,DV13,DW13,DX13),IF(Entries!$K$20=4,MIN(DT13,DU13,DV13,DW13),IF(Entries!$K$20=3,MIN(DT13,DU13,DV13),IF(Entries!$K$20=2,MIN(DT13,DU13),IF(Entries!$K$20=1,0,0)))))","v":0},0,"",null,"Shane Fitzgerald",0,0,325,0,400,725,{"$f":"IF(Entries!$K$20=5,MIN(EE13,EF13,EG13,EH13,EI13),IF(Entries!$K$20=4,MIN(EE13,EF13,EG13,EH13),IF(Entries!$K$20=3,MIN(EE13,EF13,EG13),IF(Entries!$K$20=2,MIN(EE13,EF13),IF(Entries!$K$20=1,0,0)))))","v":0},725,6,null,"Katie Doyle",435,0,0,436,464,1335,{"$f":"IF(Entries!$K$20=5,MIN(EP13,EQ13,ER13,ES13,ET13),IF(Entries!$K$20=4,MIN(EP13,EQ13,ER13,ES13),IF(Entries!$K$20=3,MIN(EP13,EQ13,ER13),IF(Entries!$K$20=2,MIN(EP13,EQ13),IF(Entries!$K$20=1,0,0)))))","v":0},1335,6,null,"Darragh Kellegher",400,331,0,308,0,1039,{"$f":"IF(Entries!$K$20=5,MIN(FA13,FB13,FC13,FD13,FE13),IF(Entries!$K$20=4,MIN(FA13,FB13,FC13,FD13),IF(Entries!$K$20=3,MIN(FA13,FB13,FC13),IF(Entries!$K$20=2,MIN(FA13,FB13),IF(Entries!$K$20=1,0,0)))))","v":0},1039,6,null,"Apoorva Kashyap",0,0,0,200,0,200,{"$f":"IF(Entries!$K$20=5,MIN(FL13,FM13,FN13,FO13,FP13),IF(Entries!$K$20=4,MIN(FL13,FM13,FN13,FO13),IF(Entries!$K$20=3,MIN(FL13,FM13,FN13),IF(Entries!$K$20=2,MIN(FL13,FM13),IF(Entries!$K$20=1,0,0)))))","v":0},200,6,null,null,null,null,null,null,null,null,{"$f":"IF(Entries!$K$20=5,MIN(FW13,FX13,FY13,FZ13,GA13),IF(Entries!$K$20=4,MIN(FW13,FX13,FY13,FZ13),IF(Entries!$K$20=3,MIN(FW13,FX13,FY13),IF(Entries!$K$20=2,MIN(FW13,FX13),IF(Entries!$K$20=1,0,0)))))","v":0},0,"",null,null,null,null,null,null,null,null,{"$f":"IF(Entries!$K$20=5,MIN(GH13,GI13,GJ13,GK13,GL13),IF(Entries!$K$20=4,MIN(GH13,GI13,GJ13,GK13),IF(Entries!$K$20=3,MIN(GH13,GI13,GJ13),IF(Entries!$K$20=2,MIN(GH13,GI13),IF(Entries!$K$20=1,0,0)))))","v":0},0,"",null,null,null,null,null,null,null,null,{"$f":"IF(Entries!$K$20=5,MIN(GS13,GT13,GU13,GV13,GW13),IF(Entries!$K$20=4,MIN(GS13,GT13,GU13,GV13),IF(Entries!$K$20=3,MIN(GS13,GT13,GU13),IF(Entries!$K$20=2,MIN(GS13,GT13),IF(Entries!$K$20=1,0,0)))))","v":0},0,"",null,null,null,null,null,null,null,null,{"$f":"IF(Entries!$K$20=5,MIN(HD13,HE13,HF13,HG13,HH13),IF(Entries!$K$20=4,MIN(HD13,HE13,HF13,HG13),IF(Entries!$K$20=3,MIN(HD13,HE13,HF13),IF(Entries!$K$20=2,MIN(HD13,HE13),IF(Entries!$K$20=1,0,0)))))","v":0},0,"",null,null,null,null,null,null,null,null,{"$f":"IF(Entries!$K$20=5,MIN(HO13,HP13,HQ13,HR13,HS13),IF(Entries!$K$20=4,MIN(HO13,HP13,HQ13,HR13),IF(Entries!$K$20=3,MIN(HO13,HP13,HQ13),IF(Entries!$K$20=2,MIN(HO13,HP13),IF(Entries!$K$20=1,0,0)))))","v":0},0,"",null,null,null,null,null,null,null,null,{"$f":"IF(Entries!$K$20=5,MIN(HZ13,IA13,IB13,IC13,ID13),IF(Entries!$K$20=4,MIN(HZ13,IA13,IB13,IC13),IF(Entries!$K$20=3,MIN(HZ13,IA13,IB13),IF(Entries!$K$20=2,MIN(HZ13,IA13),IF(Entries!$K$20=1,0,0)))))","v":0},0,""]
[null,"Gary Kelly",484,480,0,0,0,964,{"$f":"IF(Entries!$K$20=5,MIN(C14,D14,E14,F14,G14),IF(Entries!$K$20=4,MIN(C14,D14,E14,F14),IF(Entries!$K$20=3,MIN(C14,D14,E14),IF(Entries!$K$20=2,MIN(C14,D14),IF(Entries!$K$20=1,0,0)))))","v":0},964,7,null,"Nathan Tracey",0,0,0,515,414,929,{"$f":"IF(Entries!$K$20=5,MIN(N14,O14,P14,Q14,R14),IF(Entries!$K$20=4,MIN(N14,O14,P14,Q14),IF(Entries!$K$20=3,MIN(N14,O14,P14),IF(Entries!$K$20=2,MIN(N14,O14),IF(Entries!$K$20=1,0,0)))))","v":0},929,7,null,"Conor Winters",455,0,488,486,508,1937,{"$f":"IF(Entries!$K$20=5,MIN(Y14,Z14,AA14,AB14,AC14),IF(Entries!$K$20=4,MIN(Y14,Z14,AA14,AB14),IF(Entries!$K$20=3,MIN(Y14,Z14,AA14),IF(Entries!$K$20=2,MIN(Y14,Z14),IF(Entries!$K$20=1,0,0)))))","v":0},1937,4,null,"Bronwyn Berkeley",0,121,0,0,0,121,{"$f":"IF(Entries!$K$20=5,MIN(AJ14,AK14,AL14,AM14,AN14),IF(Entries!$K$20=4,MIN(AJ14,AK14,AL14,AM14),IF(Entries!$K$20=3,MIN(AJ14,AK14,AL14),IF(Entries!$K$20=2,MIN(AJ14,AK14),IF(Entries!$K$20=1,0,0)))))","v":0},121,7,null,null,null,null,null,null,null,null,{"$f":"IF(Entries!$K$20=5,MIN(AU14,AV14,AW14,AX14,AY14),IF(Entries!$K$20=4,MIN(AU14,AV14,AW14,AX14),IF(Entries!$K$20=3,MIN(AU14,AV14,AW14),IF(Entries!$K$20=2,MIN(AU14,AV14),IF(Entries!$K$20=1,0,0)))))","v":0},0,"",null,null,null,null,null,null,null,null,{"$f":"IF(Entries!$K$20=5,MIN(BF14,BG14,BH14,BI14,BJ14),IF(Entries!$K$20=4,MIN(BF14,BG14,BH14,BI14),IF(Entries!$K$20=3,MIN(BF14,BG14,BH14),IF(Entries!$K$20=2,MIN(BF14,BG14),IF(Entries!$K$20=1,0,0)))))","v":0},0,"",null,null,null,null,null,null,null,null,{"$f":"IF(Entries!$K$20=5,MIN(BQ14,BR14,BS14,BT14,BU14),IF(Entries!$K$20=4,MIN(BQ14,BR14,BS14,BT14),IF(Entries!$K$20=3,MIN(BQ14,BR14,BS14),IF(Entries!$K$20=2,MIN(BQ14,BR14),IF(Entries!$K$20=1,0,0)))))","v":0},0,"",null,null,null,null,null,null,null,null,{"$f":"IF(Entries!$K$20=5,MIN(CB14,CC14,CD14,CE14,CF14),IF(Entries!$K$20=4,MIN(CB14,CC14,CD14,CE14),IF(Entries!$K$20=3,MIN(CB14,CC14,CD14),IF(Entries!$K$20=2,MIN(CB14,CC14),IF(Entries!$K$20=1,0,0)))))","v":0},0,"",null,"DJ Roche",0,306,0,0,0,306,{"$f":"IF(Entries!$K$20=5,MIN(CM14,CN14,CO14,CP14,CQ14),IF(Entries!$K$20=4,MIN(CM14,CN14,CO14,CP14),IF(Entries!$K$20=3,MIN(CM14,CN14,CO14),IF(Entries!$K$20=2,MIN(CM14,CN14),IF(Entries!$K$20=1,0,0)))))","v":0},306,7,null,null,null,null,null,null,null,null,{"$f":"IF(Entries!$K$20=5,MIN(CX14,CY14,CZ14,DA14,DB14),IF(Entries!$K$20=4,MIN(CX14,CY14,CZ14,DA14),IF(Entries!$K$20=3,MIN(CX14,CY14,CZ14),IF(Entries!$K$20=2,MIN(CX14,CY14),IF(Entries!$K$20=1,0,0)))))","v":0},0,"",null,"Julia Obara",354,0,357,91,0,802,{"$f":"IF(Entries!$K$20=5,MIN(DI14,DJ14,DK14,DL14,DM14),IF(Entries!$K$20=4,MIN(DI14,DJ14,DK14,DL14),IF(Entries!$K$20=3,MIN(DI14,DJ14,DK14),IF(Entries!$K$20=2,MIN(DI14,DJ14),IF(Entries!$K$20=1,0,0)))))","v":0},802,7,null,null,null,null,null,null,null,null,{"$f":"IF(Entries!$K$20=5,MIN(DT14,DU14,DV14,DW14,DX14),IF(Entries!$K$20=4,MIN(DT14,DU14,DV14,DW14),IF(Entries!$K$20=3,MIN(DT14,DU14,DV14),IF(Entries!$K$20=2,MIN(DT14,DU14),IF(Entries!$K$20=1,0,0)))))","v":0},0,"",null,"Brian Conroy",0,0,293,0,366,659,{"$f":"IF(Entries!$K$20=5,MIN(EE14,EF14,EG14,EH14,EI14),IF(Entries!$K$20=4,MIN(EE14,EF14,EG14,EH14),IF(Entries!$K$20=3,MIN(EE14,EF14,EG14),IF(Entries!$K$20=2,MIN(EE14,EF14),IF(Entries!$K$20=1,0,0)))))","v":0},659,7,null,"Bruna Mota",0,0,424,327,395,1146,{"$f":"IF(Entries!$K$20=5,MIN(EP14,EQ14,ER14,ES14,ET14),IF(Entries!$K$20=4,MIN(EP14,EQ14,ER14,ES14),IF(Entries!$K$20=3,MIN(EP14,EQ14,ER14),IF(Entries!$K$20=2,MIN(EP14,EQ14),IF(Entries!$K$20=1,0,0)))))","v":0},1146,7,null,"John Hally",0,436,429,0,0,865,{"$f":"IF(Entries!$K$20=5,MIN(FA14,FB14,FC14,FD14,FE14),IF(Entries!$K$20=4,MIN(FA14,FB14,FC14,FD14),IF(Entries!$K$20=3,MIN(FA14,FB14,FC14),IF(Entries!$K$20=2,MIN(FA14,FB14),IF(Entries!$K$20=1,0,0)))))","v":0},865,7,null,"Nadia Rodgers",0,0,0,187,0,187,{"$f":"IF(Entries!$K$20=5,MIN(FL14,FM14,FN14,FO14,FP14),IF(Entries!$K$20=4,MIN(FL14,FM14,FN14,FO14),IF(Entries!$K$20=3,MIN(FL14,FM14,FN14),IF(Entries!$K$20=2,MIN(FL14,FM14),IF(Entries!$K$20=1,0,0)))))","v":0},187,7,null,null,null,null,null,null,null,null,{"$f":"IF(Entries!$K$20=5,MIN(FW14,FX14,FY14,FZ14,GA14),IF(Entries!$K$20=4,MIN(FW14,FX14,FY14,FZ14),IF(Entries!$K$20=3,MIN(FW14,FX14,FY14),IF(Entries!$K$20=2,MIN(FW14,FX14),IF(Entries!$K$20=1,0,0)))))","v":0},0,"",null,null,null,null,null,null,null,null,{"$f":"IF(Entries!$K$20=5,MIN(GH14,GI14,GJ14,GK14,GL14),IF(Entries!$K$20=4,MIN(GH14,GI14,GJ14,GK14),IF(Entries!$K$20=3,MIN(GH14,GI14,GJ14),IF(Entries!$K$20=2,MIN(GH14,GI14),IF(Entries!$K$20=1,0,0)))))","v":0},0,"",null,null,null,null,null,null,null,null,{"$f":"IF(Entries!$K$20=5,MIN(GS14,GT14,GU14,GV14,GW14),IF(Entries!$K$20=4,MIN(GS14,GT14,GU14,GV14),IF(Entries!$K$20=3,MIN(GS14,GT14,GU14),IF(Entries!$K$20=2,MIN(GS14,GT14),IF(Entries!$K$20=1,0,0)))))","v":0},0,"",null,null,null,null,null,null,null,null,{"$f":"IF(Entries!$K$20=5,MIN(HD14,HE14,HF14,HG14,HH14),IF(Entries!$K$20=4,MIN(HD14,HE14,HF14,HG14),IF(Entries!$K$20=3,MIN(HD14,HE14,HF14),IF(Entries!$K$20=2,MIN(HD14,HE14),IF(Entries!$K$20=1,0,0)))))","v":0},0,"",null,null,null,null,null,null,null,null,{"$f":"IF(Entries!$K$20=5,MIN(HO14,HP14,HQ14,HR14,HS14),IF(Entries!$K$20=4,MIN(HO14,HP14,HQ14,HR14),IF(Entries!$K$20=3,MIN(HO14,HP14,HQ14),IF(Entries!$K$20=2,MIN(HO14,HP14),IF(Entries!$K$20=1,0,0)))))","v":0},0,"",null,null,null,null,null,null,null,null,{"$f":"IF(Entries!$K$20=5,MIN(HZ14,IA14,IB14,IC14,ID14),IF(Entries!$K$20=4,MIN(HZ14,IA14,IB14,IC14),IF(Entries!$K$20=3,MIN(HZ14,IA14,IB14),IF(Entries!$K$20=2,MIN(HZ14,IA14),IF(Entries!$K$20=1,0,0)))))","v":0},0,""]
[null,"Yuji Okubo",458,432,0,0,0,890,{"$f":"IF(Entries!$K$20=5,MIN(C15,D15,E15,F15,G15),IF(Entries!$K$20=4,MIN(C15,D15,E15,F15),IF(Entries!$K$20=3,MIN(C15,D15,E15),IF(Entries!$K$20=2,MIN(C15,D15),IF(Entries!$K$20=1,0,0)))))","v":0},890,8,null,"Minni Hiltunen",0,0,0,432,389,821,{"$f":"IF(Entries!$K$20=5,MIN(N15,O15,P15,Q15,R15),IF(Entries!$K$20=4,MIN(N15,O15,P15,Q15),IF(Entries!$K$20=3,MIN(N15,O15,P15),IF(Entries!$K$20=2,MIN(N15,O15),IF(Entries!$K$20=1,0,0)))))","v":0},821,8,null,"Chua Wei Kwan",439,0,405,464,454,1762,{"$f":"IF(Entries!$K$20=5,MIN(Y15,Z15,AA15,AB15,AC15),IF(Entries!$K$20=4,MIN(Y15,Z15,AA15,AB15),IF(Entries!$K$20=3,MIN(Y15,Z15,AA15),IF(Entries!$K$20=2,MIN(Y15,Z15),IF(Entries!$K$20=1,0,0)))))","v":0},1762,6,null,null,null,null,null,null,null,null,{"$f":"IF(Entries!$K$20=5,MIN(AJ15,AK15,AL15,AM15,AN15),IF(Entries!$K$20=4,MIN(AJ15,AK15,AL15,AM15),IF(Entries!$K$20=3,MIN(AJ15,AK15,AL15),IF(Entries!$K$20=2,MIN(AJ15,AK15),IF(Entries!$K$20=1,0,0)))))","v":0},0,"",null,null,null,null,null,null,null,null,{"$f":"IF(Entries!$K$20=5,MIN(AU15,AV15,AW15,AX15,AY15),IF(Entries!$K$20=4,MIN(AU15,AV15,AW15,AX15),IF(Entries!$K$20=3,MIN(AU15,AV15,AW15),IF(Entries!$K$20=2,MIN(AU15,AV15),IF(Entries!$K$20=1,0,0)))))","v":0},0,"",null,null,null,null,null,null,null,null,{"$f":"IF(Entries!$K$20=5,MIN(BF15,BG15,BH15,BI15,BJ15),IF(Entries!$K$20=4,MIN(BF15,BG15,BH15,BI15),IF(Entries!$K$20=3,MIN(BF15,BG15,BH15),IF(Entries!$K$20=2,MIN(BF15,BG15),IF(Entries!$K$20=1,0,0)))))","v":0},0,"",null,null,null,null,null,null,null,null,{"$f":"IF(Entries!$K$20=5,MIN(BQ15,BR15,BS15,BT15,BU15),IF(Entries!$K$20=4,MIN(BQ15,BR15,BS15,BT15),IF(Entries!$K$20=3,MIN(BQ15,BR15,BS15),IF(Entries!$K$20=2,MIN(BQ15,BR15),IF(Entries!$K$20=1,0,0)))))","v":0},0,"",null,null,null,null,null,null,null,null,{"$f":"IF(Entries!$K$20=5,MIN(CB15,CC15,CD15,CE15,CF15),IF(Entries!$K$20=4,MIN(CB15,CC15,CD15,CE15),IF(Entries!$K$20=3,MIN(CB15,CC15,CD15),IF(Entries!$K$20=2,MIN(CB15,CC15),IF(Entries!$K$20=1,0,0)))))","v":0},0,"",null,null,null,null,null,null,null,null,{"$f":"IF(Entries!$K$20=5,MIN(CM15,CN15,CO15,CP15,CQ15),IF(Entries!$K$20=4,MIN(CM15,CN15,CO15,CP15),IF(Entries!$K$20=3,MIN(CM15,CN15,CO15),IF(Entries!$K$20=2,MIN(CM15,CN15),IF(Entries!$K$20=1,0,0)))))","v":0},0,"",null,null,null,null,null,null,null,null,{"$f":"IF(Entries!$K$20=5,MIN(CX15,CY15,CZ15,DA15,DB15),IF(Entries!$K$20=4,MIN(CX15,CY15,CZ15,DA15),IF(Entries!$K$20=3,MIN(CX15,CY15,CZ15),IF(Entries!$K$20=2,MIN(CX15,CY15),IF(Entries!$K$20=1,0,0)))))","v":0},0,"",null,"Jack Deane",379,306,0,0,0,685,{"$f":"IF(Entries!$K$20=5,MIN(DI15,DJ15,DK15,DL15,DM15),IF(Entries!$K$20=4,MIN(DI15,DJ15,DK15,DL15),IF(Entries!$K$20=3,MIN(DI15,DJ15,DK15),IF(Entries!$K$20=2,MIN(DI15,DJ15),IF(Entries!$K$20=1,0,0)))))","v":0},685,8,null,null,null,null,null,null,null,null,{"$f":"IF(Entries!$K$20=5,MIN(DT15,DU15,DV15,DW15,DX15),IF(Entries!$K$20=4,MIN(DT15,DU15,DV15,DW15),IF(Entries!$K$20=3,MIN(DT15,DU15,DV15),IF(Entries!$K$20=2,MIN(DT15,DU15),IF(Entries!$K$20=1,0,0)))))","v":0},0,"",null,"Yusuf Fauzi",0,0,194,0,339,533,{"$f":"IF(Entries!$K$20=5,MIN(EE15,EF15,EG15,EH15,EI15),IF(Entries!$K$20=4,MIN(EE15,EF15,EG15,EH15),IF(Entries!$K$20=3,MIN(EE15,EF15,EG15),IF(Entries!$K$20=2,MIN(EE15,EF15),IF(Entries!$K$20=1,0,0)))))","v":0},533,8,null,"Fiona Maguire",0,0,246,281,371,898,{"$f":"IF(Entries!$K$20=5,MIN(EP15,EQ15,ER15,ES15,ET15),IF(Entries!$K$20=4,MIN(EP15,EQ15,ER15,ES15),IF(Entries!$K$20=3,MIN(EP15,EQ15,ER15),IF(Entries!$K$20=2,MIN(EP15,EQ15),IF(Entries!$K$20=1,0,0)))))","v":0},898,8,null,"Maria Borck",239,0,231,0,232,702,{"$f":"IF(Entries!$K$20=5,MIN(FA15,FB15,FC15,FD15,FE15),IF(Entries!$K$20=4,MIN(FA15,FB15,FC15,FD15),IF(Entries!$K$20=3,MIN(FA15,FB15,FC15),IF(Entries!$K$20=2,MIN(FA15,FB15),IF(Entries!$K$20=1,0,0)))))","v":0},702,8,null,null,null,null,null,null,null,null,{"$f":"IF(Entries!$K$20=5,MIN(FL15,FM15,FN15,FO15,FP15),IF(Entries!$K$20=4,MIN(FL15,FM15,FN15,FO15),IF(Entries!$K$20=3,MIN(FL15,FM15,FN15),IF(Entries!$K$20=2,MIN(FL15,FM15),IF(Entries!$K$20=1,0,0)))))","v":0},0,"",null,null,null,null,null,null,null,null,{"$f":"IF(Entries!$K$20=5,MIN(FW15,FX15,FY15,FZ15,GA15),IF(Entries!$K$20=4,MIN(FW15,FX15,FY15,FZ15),IF(Entries!$K$20=3,MIN(FW15,FX15,FY15),IF(Entries!$K$20=2,MIN(FW15,FX15),IF(Entries!$K$20=1,0,0)))))","v":0},0,"",null,null,null,null,null,null,null,null,{"$f":"IF(Entries!$K$20=5,MIN(GH15,GI15,GJ15,GK15,GL15),IF(Entries!$K$20=4,MIN(GH15,GI15,GJ15,GK15),IF(Entries!$K$20=3,MIN(GH15,GI15,GJ15),IF(Entries!$K$20=2,MIN(GH15,GI15),IF(Entries!$K$20=1,0,0)))))","v":0},0,"",null,null,null,null,null,null,null,null,{"$f":"IF(Entries!$K$20=5,MIN(GS15,GT15,GU15,GV15,GW15),IF(Entries!$K$20=4,MIN(GS15,GT15,GU15,GV15),IF(Entries!$K$20=3,MIN(GS15,GT15,GU15),IF(Entries!$K$20=2,MIN(GS15,GT15),IF(Entries!$K$20=1,0,0)))))","v":0},0,"",null,null,null,null,null,null,null,null,{"$f":"IF(Entries!$K$20=5,MIN(HD15,HE15,HF15,HG15,HH15),IF(Entries!$K$20=4,MIN(HD15,HE15,HF15,HG15),IF(Entries!$K$20=3,MIN(HD15,HE15,HF15),IF(Entries!$K$20=2,MIN(HD15,HE15),IF(Entries!$K$20=1,0,0)))))","v":0},0,"",null,null,null,null,null,null,null,null,{"$f":"IF(Entries!$K$20=5,MIN(HO15,HP15,HQ15,HR15,HS15),IF(Entries!$K$20=4,MIN(HO15,HP15,HQ15,HR15),IF(Entries!$K$20=3,MIN(HO15,HP15,HQ15),IF(Entries!$K$20=2,MIN(HO15,HP15),IF(Entries!$K$20=1,0,0)))))","v":0},0,"",null,null,null,null,null,null,null,null,{"$f":"IF(Entries!$K$20=5,MIN(HZ15,IA15,IB15,IC15,ID15),IF(Entries!$K$20=4,MIN(HZ15,IA15,IB15,IC15),IF(Entries!$K$20=3,MIN(HZ15,IA15,IB15),IF(Entries!$K$20=2,MIN(HZ15,IA15),IF(Entries!$K$20=1,0,0)))))","v":0},0,""]
[null,"Andy Canavan",429,400,0,0,0,829,{"$f":"IF(Entries!$K$20=5,MIN(C16,D16,E16,F16,G16),IF(Entries!$K$20=4,MIN(C16,D16,E16,F16),IF(Entries!$K$20=3,MIN(C16,D16,E16),IF(Entries!$K$20=2,MIN(C16,D16),IF(Entries!$K$20=1,0,0)))))","v":0},829,9,null,"Bruna Duarte",0,0,0,303,421,724,{"$f":"IF(Entries!$K$20=5,MIN(N16,O16,P16,Q16,R16),IF(Entries!$K$20=4,MIN(N16,O16,P16,Q16),IF(Entries!$K$20=3,MIN(N16,O16,P16),IF(Entries!$K$20=2,MIN(N16,O16),IF(Entries!$K$20=1,0,0)))))","v":0},724,9,null,"Sim Jia Cheng",450,0,437,427,349,1663,{"$f":"IF(Entries!$K$20=5,MIN(Y16,Z16,AA16,AB16,AC16),IF(Entries!$K$20=4,MIN(Y16,Z16,AA16,AB16),IF(Entries!$K$20=3,MIN(Y16,Z16,AA16),IF(Entries!$K$20=2,MIN(Y16,Z16),IF(Entries!$K$20=1,0,0)))))","v":0},1663,9,null,null,null,null,null,null,null,null,{"$f":"IF(Entries!$K$20=5,MIN(AJ16,AK16,AL16,AM16,AN16),IF(Entries!$K$20=4,MIN(AJ16,AK16,AL16,AM16),IF(Entries!$K$20=3,MIN(AJ16,AK16,AL16),IF(Entries!$K$20=2,MIN(AJ16,AK16),IF(Entries!$K$20=1,0,0)))))","v":0},0,"",null,null,null,null,null,null,null,null,{"$f":"IF(Entries!$K$20=5,MIN(AU16,AV16,AW16,AX16,AY16),IF(Entries!$K$20=4,MIN(AU16,AV16,AW16,AX16),IF(Entries!$K$20=3,MIN(AU16,AV16,AW16),IF(Entries!$K$20=2,MIN(AU16,AV16),IF(Entries!$K$20=1,0,0)))))","v":0},0,"",null,null,null,null,null,null,null,null,{"$f":"IF(Entries!$K$20=5,MIN(BF16,BG16,BH16,BI16,BJ16),IF(Entries!$K$20=4,MIN(BF16,BG16,BH16,BI16),IF(Entries!$K$20=3,MIN(BF16,BG16,BH16),IF(Entries!$K$20=2,MIN(BF16,BG16),IF(Entries!$K$20=1,0,0)))))","v":0},0,"",null,null,null,null,null,null,null,null,{"$f":"IF(Entries!$K$20=5,MIN(BQ16,BR16,BS16,BT16,BU16),IF(Entries!$K$20=4,MIN(BQ16,BR16,BS16,BT16),IF(Entries!$K$20=3,MIN(BQ16,BR16,BS16),IF(Entries!$K$20=2,MIN(BQ16,BR16),IF(Entries!$K$20=1,0,0)))))","v":0},0,"",null,null,null,null,null,null,null,null,{"$f":"IF(Entries!$K$20=5,MIN(CB16,CC16,CD16,CE16,CF16),IF(Entries!$K$20=4,MIN(CB16,CC16,CD16,CE16),IF(Entries!$K$20=3,MIN(CB16,CC16,CD16),IF(Entries!$K$20=2,MIN(CB16,CC16),IF(Entries!$K$20=1,0,0)))))","v":0},0,"",null,null,null,null,null,null,null,null,{"$f":"IF(Entries!$K$20=5,MIN(CM16,CN16,CO16,CP16,CQ16),IF(Entries!$K$20=4,MIN(CM16,CN16,CO16,CP16),IF(Entries!$K$20=3,MIN(CM16,CN16,CO16),IF(Entries!$K$20=2,MIN(CM16,CN16),IF(Entries!$K$20=1,0,0)))))","v":0},0,"",null,null,null,null,null,null,null,null,{"$f":"IF(Entries!$K$20=5,MIN(CX16,CY16,CZ16,DA16,DB16),IF(Entries!$K$20=4,MIN(CX16,CY16,CZ16,DA16),IF(Entries!$K$20=3,MIN(CX16,CY16,CZ16),IF(Entries!$K$20=2,MIN(CX16,CY16),IF(Entries!$K$20=1,0,0)))))","v":0},0,"",null,"Darren Wallace",0,0,569,0,0,569,{"$f":"IF(Entries!$K$20=5,MIN(DI16,DJ16,DK16,DL16,DM16),IF(Entries!$K$20=4,MIN(DI16,DJ16,DK16,DL16),IF(Entries!$K$20=3,MIN(DI16,DJ16,DK16),IF(Entries!$K$20=2,MIN(DI16,DJ16),IF(Entries!$K$20=1,0,0)))))","v":0},569,9,null,null,null,null,null,null,null,null,{"$f":"IF(Entries!$K$20=5,MIN(DT16,DU16,DV16,DW16,DX16),IF(Entries!$K$20=4,MIN(DT16,DU16,DV16,DW16),IF(Entries!$K$20=3,MIN(DT16,DU16,DV16),IF(Entries!$K$20=2,MIN(DT16,DU16),IF(Entries!$K$20=1,0,0)))))","v":0},0,"",null,"Simon Henleywillis",471,0,0,0,0,471,{"$f":"IF(Entries!$K$20=5,MIN(EE16,EF16,EG16,EH16,EI16),IF(Entries!$K$20=4,MIN(EE16,EF16,EG16,EH16),IF(Entries!$K$20=3,MIN(EE16,EF16,EG16),IF(Entries!$K$20=2,MIN(EE16,EF16),IF(Entries!$K$20=1,0,0)))))","v":0},471,9,null,"James Greer",0,376,0,0,423,799,{"$f":"IF(Entries!$K$20=5,MIN(EP16,EQ16,ER16,ES16,ET16),IF(Entries!$K$20=4,MIN(EP16,EQ16,ER16,ES16),IF(Entries!$K$20=3,MIN(EP16,EQ16,ER16),IF(Entries!$K$20=2,MIN(EP16,EQ16),IF(Entries!$K$20=1,0,0)))))","v":0},799,9,null,"Devon Long",473,0,0,0,0,473,{"$f":"IF(Entries!$K$20=5,MIN(FA16,FB16,FC16,FD16,FE16),IF(Entries!$K$20=4,MIN(FA16,FB16,FC16,FD16),IF(Entries!$K$20=3,MIN(FA16,FB16,FC16),IF(Entries!$K$20=2,MIN(FA16,FB16),IF(Entries!$K$20=1,0,0)))))","v":0},473,9,null,null,null,null,null,null,null,null,{"$f":"IF(Entries!$K$20=5,MIN(FL16,FM16,FN16,FO16,FP16),IF(Entries!$K$20=4,MIN(FL16,FM16,FN16,FO16),IF(Entries!$K$20=3,MIN(FL16,FM16,FN16),IF(Entries!$K$20=2,MIN(FL16,FM16),IF(Entries!$K$20=1,0,0)))))","v":0},0,"",null,null,null,null,null,null,null,null,{"$f":"IF(Entries!$K$20=5,MIN(FW16,FX16,FY16,FZ16,GA16),IF(Entries!$K$20=4,MIN(FW16,FX16,FY16,FZ16),IF(Entries!$K$20=3,MIN(FW16,FX16,FY16),IF(Entries!$K$20=2,MIN(FW16,FX16),IF(Entries!$K$20=1,0,0)))))","v":0},0,"",null,null,null,null,null,null,null,null,{"$f":"IF(Entries!$K$20=5,MIN(GH16,GI16,GJ16,GK16,GL16),IF(Entries!$K$20=4,MIN(GH16,GI16,GJ16,GK16),IF(Entries!$K$20=3,MIN(GH16,GI16,GJ16),IF(Entries!$K$20=2,MIN(GH16,GI16),IF(Entries!$K$20=1,0,0)))))","v":0},0,"",null,null,null,null,null,null,null,null,{"$f":"IF(Entries!$K$20=5,MIN(GS16,GT16,GU16,GV16,GW16),IF(Entries!$K$20=4,MIN(GS16,GT16,GU16,GV16),IF(Entries!$K$20=3,MIN(GS16,GT16,GU16),IF(Entries!$K$20=2,MIN(GS16,GT16),IF(Entries!$K$20=1,0,0)))))","v":0},0,"",null,null,null,null,null,null,null,null,{"$f":"IF(Entries!$K$20=5,MIN(HD16,HE16,HF16,HG16,HH16),IF(Entries!$K$20=4,MIN(HD16,HE16,HF16,HG16),IF(Entries!$K$20=3,MIN(HD16,HE16,HF16),IF(Entries!$K$20=2,MIN(HD16,HE16),IF(Entries!$K$20=1,0,0)))))","v":0},0,"",null,null,null,null,null,null,null,null,{"$f":"IF(Entries!$K$20=5,MIN(HO16,HP16,HQ16,HR16,HS16),IF(Entries!$K$20=4,MIN(HO16,HP16,HQ16,HR16),IF(Entries!$K$20=3,MIN(HO16,HP16,HQ16),IF(Entries!$K$20=2,MIN(HO16,HP16),IF(Entries!$K$20=1,0,0)))))","v":0},0,"",null,null,null,null,null,null,null,null,{"$f":"IF(Entries!$K$20=5,MIN(HZ16,IA16,IB16,IC16,ID16),IF(Entries!$K$20=4,MIN(HZ16,IA16,IB16,IC16),IF(Entries!$K$20=3,MIN(HZ16,IA16,IB16),IF(Entries!$K$20=2,MIN(HZ16,IA16),IF(Entries!$K$20=1,0,0)))))","v":0},0,""]
[null,"Issabele Mayumi",343,0,0,338,0,681,{"$f":"IF(Entries!$K$20=5,MIN(C17,D17,E17,F17,G17),IF(Entries!$K$20=4,MIN(C17,D17,E17,F17),IF(Entries!$K$20=3,MIN(C17,D17,E17),IF(Entries!$K$20=2,MIN(C17,D17),IF(Entries!$K$20=1,0,0)))))","v":0},681,10,null,"Vanessa Flood",0,0,0,444,0,444,{"$f":"IF(Entries!$K$20=5,MIN(N17,O17,P17,Q17,R17),IF(Entries!$K$20=4,MIN(N17,O17,P17,Q17),IF(Entries!$K$20=3,MIN(N17,O17,P17),IF(Entries!$K$20=2,MIN(N17,O17),IF(Entries!$K$20=1,0,0)))))","v":0},444,10,null,"Jane Meehan",467,0,393,424,376,1660,{"$f":"IF(Entries!$K$20=5,MIN(Y17,Z17,AA17,AB17,AC17),IF(Entries!$K$20=4,MIN(Y17,Z17,AA17,AB17),IF(Entries!$K$20=3,MIN(Y17,Z17,AA17),IF(Entries!$K$20=2,MIN(Y17,Z17),IF(Entries!$K$20=1,0,0)))))","v":0},1660,10,null,null,null,null,null,null,null,null,{"$f":"IF(Entries!$K$20=5,MIN(AJ17,AK17,AL17,AM17,AN17),IF(Entries!$K$20=4,MIN(AJ17,AK17,AL17,AM17),IF(Entries!$K$20=3,MIN(AJ17,AK17,AL17),IF(Entries!$K$20=2,MIN(AJ17,AK17),IF(Entries!$K$20=1,0,0)))))","v":0},0,"",null,null,null,null,null,null,null,null,{"$f":"IF(Entries!$K$20=5,MIN(AU17,AV17,AW17,AX17,AY17),IF(Entries!$K$20=4,MIN(AU17,AV17,AW17,AX17),IF(Entries!$K$20=3,MIN(AU17,AV17,AW17),IF(Entries!$K$20=2,MIN(AU17,AV17),IF(Entries!$K$20=1,0,0)))))","v":0},0,"",null,null,null,null,null,null,null,null,{"$f":"IF(Entries!$K$20=5,MIN(BF17,BG17,BH17,BI17,BJ17),IF(Entries!$K$20=4,MIN(BF17,BG17,BH17,BI17),IF(Entries!$K$20=3,MIN(BF17,BG17,BH17),IF(Entries!$K$20=2,MIN(BF17,BG17),IF(Entries!$K$20=1,0,0)))))","v":0},0,"",null,null,null,null,null,null,null,null,{"$f":"IF(Entries!$K$20=5,MIN(BQ17,BR17,BS17,BT17,BU17),IF(Entries!$K$20=4,MIN(BQ17,BR17,BS17,BT17),IF(Entries!$K$20=3,MIN(BQ17,BR17,BS17),IF(Entries!$K$20=2,MIN(BQ17,BR17),IF(Entries!$K$20=1,0,0)))))","v":0},0,"",null,null,null,null,null,null,null,null,{"$f":"IF(Entries!$K$20=5,MIN(CB17,CC17,CD17,CE17,CF17),IF(Entries!$K$20=4,MIN(CB17,CC17,CD17,CE17),IF(Entries!$K$20=3,MIN(CB17,CC17,CD17),IF(Entries!$K$20=2,MIN(CB17,CC17),IF(Entries!$K$20=1,0,0)))))","v":0},0,"",null,null,null,null,null,null,null,null,{"$f":"IF(Entries!$K$20=5,MIN(CM17,CN17,CO17,CP17,CQ17),IF(Entries!$K$20=4,MIN(CM17,CN17,CO17,CP17),IF(Entries!$K$20=3,MIN(CM17,CN17,CO17),IF(Entries!$K$20=2,MIN(CM17,CN17),IF(Entries!$K$20=1,0,0)))))","v":0},0,"",null,null,null,null,null,null,null,null,{"$f":"IF(Entries!$K$20=5,MIN(CX17,CY17,CZ17,DA17,DB17),IF(Entries!$K$20=4,MIN(CX17,CY17,CZ17,DA17),IF(Entries!$K$20=3,MIN(CX17,CY17,CZ17),IF(Entries!$K$20=2,MIN(CX17,CY17),IF(Entries!$K$20=1,0,0)))))","v":0},0,"",null,"Kieran Cullinane",482,0,0,0,0,482,{"$f":"IF(Entries!$K$20=5,MIN(DI17,DJ17,DK17,DL17,DM17),IF(Entries!$K$20=4,MIN(DI17,DJ17,DK17,DL17),IF(Entries!$K$20=3,MIN(DI17,DJ17,DK17),IF(Entries!$K$20=2,MIN(DI17,DJ17),IF(Entries!$K$20=1,0,0)))))","v":0},482,10,null,null,null,null,null,null,null,null,{"$f":"IF(Entries!$K$20=5,MIN(DT17,DU17,DV17,DW17,DX17),IF(Entries!$K$20=4,MIN(DT17,DU17,DV17,DW17),IF(Entries!$K$20=3,MIN(DT17,DU17,DV17),IF(Entries!$K$20=2,MIN(DT17,DU17),IF(Entries!$K$20=1,0,0)))))","v":0},0,"",null,"Shane O'Sulliven",0,0,0,303,0,303,{"$f":"IF(Entries!$K$20=5,MIN(EE17,EF17,EG17,EH17,EI17),IF(Entries!$K$20=4,MIN(EE17,EF17,EG17,EH17),IF(Entries!$K$20=3,MIN(EE17,EF17,EG17),IF(Entries!$K$20=2,MIN(EE17,EF17),IF(Entries!$K$20=1,0,0)))))","v":0},303,10,null,"Kyle Rosso",0,0,374,0,349,723,{"$f":"IF(Entries!$K$20=5,MIN(EP17,EQ17,ER17,ES17,ET17),IF(Entries!$K$20=4,MIN(EP17,EQ17,ER17,ES17),IF(Entries!$K$20=3,MIN(EP17,EQ17,ER17),IF(Entries!$K$20=2,MIN(EP17,EQ17),IF(Entries!$K$20=1,0,0)))))","v":0},723,10,null,"Laura Ciesa",0,0,0,0,453,453,{"$f":"IF(Entries!$K$20=5,MIN(FA17,FB17,FC17,FD17,FE17),IF(Entries!$K$20=4,MIN(FA17,FB17,FC17,FD17),IF(Entries!$K$20=3,MIN(FA17,FB17,FC17),IF(Entries!$K$20=2,MIN(FA17,FB17),IF(Entries!$K$20=1,0,0)))))","v":0},453,10,null,null,null,null,null,null,null,null,{"$f":"IF(Entries!$K$20=5,MIN(FL17,FM17,FN17,FO17,FP17),IF(Entries!$K$20=4,MIN(FL17,FM17,FN17,FO17),IF(Entries!$K$20=3,MIN(FL17,FM17,FN17),IF(Entries!$K$20=2,MIN(FL17,FM17),IF(Entries!$K$20=1,0,0)))))","v":0},0,"",null,null,null,null,null,null,null,null,{"$f":"IF(Entries!$K$20=5,MIN(FW17,FX17,FY17,FZ17,GA17),IF(Entries!$K$20=4,MIN(FW17,FX17,FY17,FZ17),IF(Entries!$K$20=3,MIN(FW17,FX17,FY17),IF(Entries!$K$20=2,MIN(FW17,FX17),IF(Entries!$K$20=1,0,0)))))","v":0},0,"",null,null,null,null,null,null,null,null,{"$f":"IF(Entries!$K$20=5,MIN(GH17,GI17,GJ17,GK17,GL17),IF(Entries!$K$20=4,MIN(GH17,GI17,GJ17,GK17),IF(Entries!$K$20=3,MIN(GH17,GI17,GJ17),IF(Entries!$K$20=2,MIN(GH17,GI17),IF(Entries!$K$20=1,0,0)))))","v":0},0,"",null,null,null,null,null,null,null,null,{"$f":"IF(Entries!$K$20=5,MIN(GS17,GT17,GU17,GV17,GW17),IF(Entries!$K$20=4,MIN(GS17,GT17,GU17,GV17),IF(Entries!$K$20=3,MIN(GS17,GT17,GU17),IF(Entries!$K$20=2,MIN(GS17,GT17),IF(Entries!$K$20=1,0,0)))))","v":0},0,"",null,null,null,null,null,null,null,null,{"$f":"IF(Entries!$K$20=5,MIN(HD17,HE17,HF17,HG17,HH17),IF(Entries!$K$20=4,MIN(HD17,HE17,HF17,HG17),IF(Entries!$K$20=3,MIN(HD17,HE17,HF17),IF(Entries!$K$20=2,MIN(HD17,HE17),IF(Entries!$K$20=1,0,0)))))","v":0},0,"",null,null,null,null,null,null,null,null,{"$f":"IF(Entries!$K$20=5,MIN(HO17,HP17,HQ17,HR17,HS17),IF(Entries!$K$20=4,MIN(HO17,HP17,HQ17,HR17),IF(Entries!$K$20=3,MIN(HO17,HP17,HQ17),IF(Entries!$K$20=2,MIN(HO17,HP17),IF(Entries!$K$20=1,0,0)))))","v":0},0,"",null,null,null,null,null,null,null,null,{"$f":"IF(Entries!$K$20=5,MIN(HZ17,IA17,IB17,IC17,ID17),IF(Entries!$K$20=4,MIN(HZ17,IA17,IB17,IC17),IF(Entries!$K$20=3,MIN(HZ17,IA17,IB17),IF(Entries!$K$20=2,MIN(HZ17,IA17),IF(Entries!$K$20=1,0,0)))))","v":0},0,""]
[null,"Cian Butler",224,0,0,0,0,224,{"$f":"IF(Entries!$K$20=5,MIN(C18,D18,E18,F18,G18),IF(Entries!$K$20=4,MIN(C18,D18,E18,F18),IF(Entries!$K$20=3,MIN(C18,D18,E18),IF(Entries!$K$20=2,MIN(C18,D18),IF(Entries!$K$20=1,0,0)))))","v":0},224,11,null,"Hugh Carrol",0,0,0,0,285,285,{"$f":"IF(Entries!$K$20=5,MIN(N18,O18,P18,Q18,R18),IF(Entries!$K$20=4,MIN(N18,O18,P18,Q18),IF(Entries!$K$20=3,MIN(N18,O18,P18),IF(Entries!$K$20=2,MIN(N18,O18),IF(Entries!$K$20=1,0,0)))))","v":0},285,11,null,"Zoe Nicholson",442,0,353,341,372,1508,{"$f":"IF(Entries!$K$20=5,MIN(Y18,Z18,AA18,AB18,AC18),IF(Entries!$K$20=4,MIN(Y18,Z18,AA18,AB18),IF(Entries!$K$20=3,MIN(Y18,Z18,AA18),IF(Entries!$K$20=2,MIN(Y18,Z18),IF(Entries!$K$20=1,0,0)))))","v":0},1508,11,null,null,null,null,null,null,null,null,{"$f":"IF(Entries!$K$20=5,MIN(AJ18,AK18,AL18,AM18,AN18),IF(Entries!$K$20=4,MIN(AJ18,AK18,AL18,AM18),IF(Entries!$K$20=3,MIN(AJ18,AK18,AL18),IF(Entries!$K$20=2,MIN(AJ18,AK18),IF(Entries!$K$20=1,0,0)))))","v":0},0,"",null,null,null,null,null,null,null,null,{"$f":"IF(Entries!$K$20=5,MIN(AU18,AV18,AW18,AX18,AY18),IF(Entries!$K$20=4,MIN(AU18,AV18,AW18,AX18),IF(Entries!$K$20=3,MIN(AU18,AV18,AW18),IF(Entries!$K$20=2,MIN(AU18,AV18),IF(Entries!$K$20=1,0,0)))))","v":0},0,"",null,null,null,null,null,null,null,null,{"$f":"IF(Entries!$K$20=5,MIN(BF18,BG18,BH18,BI18,BJ18),IF(Entries!$K$20=4,MIN(BF18,BG18,BH18,BI18),IF(Entries!$K$20=3,MIN(BF18,BG18,BH18),IF(Entries!$K$20=2,MIN(BF18,BG18),IF(Entries!$K$20=1,0,0)))))","v":0},0,"",null,null,null,null,null,null,null,null,{"$f":"IF(Entries!$K$20=5,MIN(BQ18,BR18,BS18,BT18,BU18),IF(Entries!$K$20=4,MIN(BQ18,BR18,BS18,BT18),IF(Entries!$K$20=3,MIN(BQ18,BR18,BS18),IF(Entries!$K$20=2,MIN(BQ18,BR18),IF(Entries!$K$20=1,0,0)))))","v":0},0,"",null,null,null,null,null,null,null,null,{"$f":"IF(Entries!$K$20=5,MIN(CB18,CC18,CD18,CE18,CF18),IF(Entries!$K$20=4,MIN(CB18,CC18,CD18,CE18),IF(Entries!$K$20=3,MIN(CB18,CC18,CD18),IF(Entries!$K$20=2,MIN(CB18,CC18),IF(Entries!$K$20=1,0,0)))))","v":0},0,"",null,null,null,null,null,null,null,null,{"$f":"IF(Entries!$K$20=5,MIN(CM18,CN18,CO18,CP18,CQ18),IF(Entries!$K$20=4,MIN(CM18,CN18,CO18,CP18),IF(Entries!$K$20=3,MIN(CM18,CN18,CO18),IF(Entries!$K$20=2,MIN(CM18,CN18),IF(Entries!$K$20=1,0,0)))))","v":0},0,"",null,null,null,null,null,null,null,null,{"$f":"IF(Entries!$K$20=5,MIN(CX18,CY18,CZ18,DA18,DB18),IF(Entries!$K$20=4,MIN(CX18,CY18,CZ18,DA18),IF(Entries!$K$20=3,MIN(CX18,CY18,CZ18),IF(Entries!$K$20=2,MIN(CX18,CY18),IF(Entries!$K$20=1,0,0)))))","v":0},0,"",null,"Jonas Seesing",470,0,0,0,0,470,{"$f":"IF(Entries!$K$20=5,MIN(DI18,DJ18,DK18,DL18,DM18),IF(Entries!$K$20=4,MIN(DI18,DJ18,DK18,DL18),IF(Entries!$K$20=3,MIN(DI18,DJ18,DK18),IF(Entries!$K$20=2,MIN(DI18,DJ18),IF(Entries!$K$20=1,0,0)))))","v":0},470,11,null,null,null,null,null,null,null,null,{"$f":"IF(Entries!$K$20=5,MIN(DT18,DU18,DV18,DW18,DX18),IF(Entries!$K$20=4,MIN(DT18,DU18,DV18,DW18),IF(Entries!$K$20=3,MIN(DT18,DU18,DV18),IF(Entries!$K$20=2,MIN(DT18,DU18),IF(Entries!$K$20=1,0,0)))))","v":0},0,"",null,null,null,null,null,null,null,null,{"$f":"IF(Entries!$K$20=5,MIN(EE18,EF18,EG18,EH18,EI18),IF(Entries!$K$20=4,MIN(EE18,EF18,EG18,EH18),IF(Entries!$K$20=3,MIN(EE18,EF18,EG18),IF(Entries!$K$20=2,MIN(EE18,EF18),IF(Entries!$K$20=1,0,0)))))","v":0},0,"",null,"Gordon Cowpar",0,398,0,0,0,398,{"$f":"IF(Entries!$K$20=5,MIN(EP18,EQ18,ER18,ES18,ET18),IF(Entries!$K$20=4,MIN(EP18,EQ18,ER18,ES18),IF(Entries!$K$20=3,MIN(EP18,EQ18,ER18),IF(Entries!$K$20=2,MIN(EP18,EQ18),IF(Entries!$K$20=1,0,0)))))","v":0},398,11,null,"Artem Semenov",0,0,0,0,405,405,{"$f":"IF(Entries!$K$20=5,MIN(FA18,FB18,FC18,FD18,FE18),IF(Entries!$K$20=4,MIN(FA18,FB18,FC18,FD18),IF(Entries!$K$20=3,MIN(FA18,FB18,FC18),IF(Entries!$K$20=2,MIN(FA18,FB18),IF(Entries!$K$20=1,0,0)))))","v":0},405,11,null,null,null,null,null,null,null,null,{"$f":"IF(Entries!$K$20=5,MIN(FL18,FM18,FN18,FO18,FP18),IF(Entries!$K$20=4,MIN(FL18,FM18,FN18,FO18),IF(Entries!$K$20=3,MIN(FL18,FM18,FN18),IF(Entries!$K$20=2,MIN(FL18,FM18),IF(Entries!$K$20=1,0,0)))))","v":0},0,"",null,null,null,null,null,null,null,null,{"$f":"IF(Entries!$K$20=5,MIN(FW18,FX18,FY18,FZ18,GA18),IF(Entries!$K$20=4,MIN(FW18,FX18,FY18,FZ18),IF(Entries!$K$20=3,MIN(FW18,FX18,FY18),IF(Entries!$K$20=2,MIN(FW18,FX18),IF(Entries!$K$20=1,0,0)))))","v":0},0,"",null,null,null,null,null,null,null,null,{"$f":"IF(Entries!$K$20=5,MIN(GH18,GI18,GJ18,GK18,GL18),IF(Entries!$K$20=4,MIN(GH18,GI18,GJ18,GK18),IF(Entries!$K$20=3,MIN(GH18,GI18,GJ18),IF(Entries!$K$20=2,MIN(GH18,GI18),IF(Entries!$K$20=1,0,0)))))","v":0},0,"",null,null,null,null,null,null,null,null,{"$f":"IF(Entries!$K$20=5,MIN(GS18,GT18,GU18,GV18,GW18),IF(Entries!$K$20=4,MIN(GS18,GT18,GU18,GV18),IF(Entries!$K$20=3,MIN(GS18,GT18,GU18),IF(Entries!$K$20=2,MIN(GS18,GT18),IF(Entries!$K$20=1,0,0)))))","v":0},0,"",null,null,null,null,null,null,null,null,{"$f":"IF(Entries!$K$20=5,MIN(HD18,HE18,HF18,HG18,HH18),IF(Entries!$K$20=4,MIN(HD18,HE18,HF18,HG18),IF(Entries!$K$20=3,MIN(HD18,HE18,HF18),IF(Entries!$K$20=2,MIN(HD18,HE18),IF(Entries!$K$20=1,0,0)))))","v":0},0,"",null,null,null,null,null,null,null,null,{"$f":"IF(Entries!$K$20=5,MIN(HO18,HP18,HQ18,HR18,HS18),IF(Entries!$K$20=4,MIN(HO18,HP18,HQ18,HR18),IF(Entries!$K$20=3,MIN(HO18,HP18,HQ18),IF(Entries!$K$20=2,MIN(HO18,HP18),IF(Entries!$K$20=1,0,0)))))","v":0},0,"",null,null,null,null,null,null,null,null,{"$f":"IF(Entries!$K$20=5,MIN(HZ18,IA18,IB18,IC18,ID18),IF(Entries!$K$20=4,MIN(HZ18,IA18,IB18,IC18),IF(Entries!$K$20=3,MIN(HZ18,IA18,IB18),IF(Entries!$K$20=2,MIN(HZ18,IA18),IF(Entries!$K$20=1,0,0)))))","v":0},0,""]
[null,null,null,null,null,null,null,null,{"$f":"IF(Entries!$K$20=5,MIN(C19,D19,E19,F19,G19),IF(Entries!$K$20=4,MIN(C19,D19,E19,F19),IF(Entries!$K$20=3,MIN(C19,D19,E19),IF(Entries!$K$20=2,MIN(C19,D19),IF(Entries!$K$20=1,0,0)))))","v":0},0,"",null,"Jacob Byrne",0,0,0,225,0,225,{"$f":"IF(Entries!$K$20=5,MIN(N19,O19,P19,Q19,R19),IF(Entries!$K$20=4,MIN(N19,O19,P19,Q19),IF(Entries!$K$20=3,MIN(N19,O19,P19),IF(Entries!$K$20=2,MIN(N19,O19),IF(Entries!$K$20=1,0,0)))))","v":0},225,12,null,"Aaron Wong Siu Zhen",393,423,279,0,294,1389,{"$f":"IF(Entries!$K$20=5,MIN(Y19,Z19,AA19,AB19,AC19),IF(Entries!$K$20=4,MIN(Y19,Z19,AA19,AB19),IF(Entries!$K$20=3,MIN(Y19,Z19,AA19),IF(Entries!$K$20=2,MIN(Y19,Z19),IF(Entries!$K$20=1,0,0)))))","v":0},1389,12,null,null,null,null,null,null,null,null,{"$f":"IF(Entries!$K$20=5,MIN(AJ19,AK19,AL19,AM19,AN19),IF(Entries!$K$20=4,MIN(AJ19,AK19,AL19,AM19),IF(Entries!$K$20=3,MIN(AJ19,AK19,AL19),IF(Entries!$K$20=2,MIN(AJ19,AK19),IF(Entries!$K$20=1,0,0)))))","v":0},0,"",null,null,null,null,null,null,null,null,{"$f":"IF(Entries!$K$20=5,MIN(AU19,AV19,AW19,AX19,AY19),IF(Entries!$K$20=4,MIN(AU19,AV19,AW19,AX19),IF(Entries!$K$20=3,MIN(AU19,AV19,AW19),IF(Entries!$K$20=2,MIN(AU19,AV19),IF(Entries!$K$20=1,0,0)))))","v":0},0,"",null,null,null,null,null,null,null,null,{"$f":"IF(Entries!$K$20=5,MIN(BF19,BG19,BH19,BI19,BJ19),IF(Entries!$K$20=4,MIN(BF19,BG19,BH19,BI19),IF(Entries!$K$20=3,MIN(BF19,BG19,BH19),IF(Entries!$K$20=2,MIN(BF19,BG19),IF(Entries!$K$20=1,0,0)))))","v":0},0,"",null,null,null,null,null,null,null,null,{"$f":"IF(Entries!$K$20=5,MIN(BQ19,BR19,BS19,BT19,BU19),IF(Entries!$K$20=4,MIN(BQ19,BR19,BS19,BT19),IF(Entries!$K$20=3,MIN(BQ19,BR19,BS19),IF(Entries!$K$20=2,MIN(BQ19,BR19),IF(Entries!$K$20=1,0,0)))))","v":0},0,"",null,null,null,null,null,null,null,null,{"$f":"IF(Entries!$K$20=5,MIN(CB19,CC19,CD19,CE19,CF19),IF(Entries!$K$20=4,MIN(CB19,CC19,CD19,CE19),IF(Entries!$K$20=3,MIN(CB19,CC19,CD19),IF(Entries!$K$20=2,MIN(CB19,CC19),IF(Entries!$K$20=1,0,0)))))","v":0},0,"",null,null,null,null,null,null,null,null,{"$f":"IF(Entries!$K$20=5,MIN(CM19,CN19,CO19,CP19,CQ19),IF(Entries!$K$20=4,MIN(CM19,CN19,CO19,CP19),IF(Entries!$K$20=3,MIN(CM19,CN19,CO19),IF(Entries!$K$20=2,MIN(CM19,CN19),IF(Entries!$K$20=1,0,0)))))","v":0},0,"",null,null,null,null,null,null,null,null,{"$f":"IF(Entries!$K$20=5,MIN(CX19,CY19,CZ19,DA19,DB19),IF(Entries!$K$20=4,MIN(CX19,CY19,CZ19,DA19),IF(Entries!$K$20=3,MIN(CX19,CY19,CZ19),IF(Entries!$K$20=2,MIN(CX19,CY19),IF(Entries!$K$20=1,0,0)))))","v":0},0,"",null,"Mark Walsh",0,0,0,0,441,441,{"$f":"IF(Entries!$K$20=5,MIN(DI19,DJ19,DK19,DL19,DM19),IF(Entries!$K$20=4,MIN(DI19,DJ19,DK19,DL19),IF(Entries!$K$20=3,MIN(DI19,DJ19,DK19),IF(Entries!$K$20=2,MIN(DI19,DJ19),IF(Entries!$K$20=1,0,0)))))","v":0},441,12,null,null,null,null,null,null,null,null,{"$f":"IF(Entries!$K$20=5,MIN(DT19,DU19,DV19,DW19,DX19),IF(Entries!$K$20=4,MIN(DT19,DU19,DV19,DW19),IF(Entries!$K$20=3,MIN(DT19,DU19,DV19),IF(Entries!$K$20=2,MIN(DT19,DU19),IF(Entries!$K$20=1,0,0)))))","v":0},0,"",null,null,null,null,null,null,null,null,{"$f":"IF(Entries!$K$20=5,MIN(EE19,EF19,EG19,EH19,EI19),IF(Entries!$K$20=4,MIN(EE19,EF19,EG19,EH19),IF(Entries!$K$20=3,MIN(EE19,EF19,EG19),IF(Entries!$K$20=2,MIN(EE19,EF19),IF(Entries!$K$20=1,0,0)))))","v":0},0,"",null,"Aonghus Condren",0,387,0,0,0,387,{"$f":"IF(Entries!$K$20=5,MIN(EP19,EQ19,ER19,ES19,ET19),IF(Entries!$K$20=4,MIN(EP19,EQ19,ER19,ES19),IF(Entries!$K$20=3,MIN(EP19,EQ19,ER19),IF(Entries!$K$20=2,MIN(EP19,EQ19),IF(Entries!$K$20=1,0,0)))))","v":0},387,12,null,"Sean Sinnott",0,385,0,0,0,385,{"$f":"IF(Entries!$K$20=5,MIN(FA19,FB19,FC19,FD19,FE19),IF(Entries!$K$20=4,MIN(FA19,FB19,FC19,FD19),IF(Entries!$K$20=3,MIN(FA19,FB19,FC19),IF(Entries!$K$20=2,MIN(FA19,FB19),IF(Entries!$K$20=1,0,0)))))","v":0},385,12,null,null,null,null,null,null,null,null,{"$f":"IF(Entries!$K$20=5,MIN(FL19,FM19,FN19,FO19,FP19),IF(Entries!$K$20=4,MIN(FL19,FM19,FN19,FO19),IF(Entries!$K$20=3,MIN(FL19,FM19,FN19),IF(Entries!$K$20=2,MIN(FL19,FM19),IF(Entries!$K$20=1,0,0)))))","v":0},0,"",null,null,null,null,null,null,null,null,{"$f":"IF(Entries!$K$20=5,MIN(FW19,FX19,FY19,FZ19,GA19),IF(Entries!$K$20=4,MIN(FW19,FX19,FY19,FZ19),IF(Entries!$K$20=3,MIN(FW19,FX19,FY19),IF(Entries!$K$20=2,MIN(FW19,FX19),IF(Entries!$K$20=1,0,0)))))","v":0},0,"",null,null,null,null,null,null,null,null,{"$f":"IF(Entries!$K$20=5,MIN(GH19,GI19,GJ19,GK19,GL19),IF(Entries!$K$20=4,MIN(GH19,GI19,GJ19,GK19),IF(Entries!$K$20=3,MIN(GH19,GI19,GJ19),IF(Entries!$K$20=2,MIN(GH19,GI19),IF(Entries!$K$20=1,0,0)))))","v":0},0,"",null,null,null,null,null,null,null,null,{"$f":"IF(Entries!$K$20=5,MIN(GS19,GT19,GU19,GV19,GW19),IF(Entries!$K$20=4,MIN(GS19,GT19,GU19,GV19),IF(Entries!$K$20=3,MIN(GS19,GT19,GU19),IF(Entries!$K$20=2,MIN(GS19,GT19),IF(Entries!$K$20=1,0,0)))))","v":0},0,"",null,null,null,null,null,null,null,null,{"$f":"IF(Entries!$K$20=5,MIN(HD19,HE19,HF19,HG19,HH19),IF(Entries!$K$20=4,MIN(HD19,HE19,HF19,HG19),IF(Entries!$K$20=3,MIN(HD19,HE19,HF19),IF(Entries!$K$20=2,MIN(HD19,HE19),IF(Entries!$K$20=1,0,0)))))","v":0},0,"",null,null,null,null,null,null,null,null,{"$f":"IF(Entries!$K$20=5,MIN(HO19,HP19,HQ19,HR19,HS19),IF(Entries!$K$20=4,MIN(HO19,HP19,HQ19,HR19),IF(Entries!$K$20=3,MIN(HO19,HP19,HQ19),IF(Entries!$K$20=2,MIN(HO19,HP19),IF(Entries!$K$20=1,0,0)))))","v":0},0,"",null,null,null,null,null,null,null,null,{"$f":"IF(Entries!$K$20=5,MIN(HZ19,IA19,IB19,IC19,ID19),IF(Entries!$K$20=4,MIN(HZ19,IA19,IB19,IC19),IF(Entries!$K$20=3,MIN(HZ19,IA19,IB19),IF(Entries!$K$20=2,MIN(HZ19,IA19),IF(Entries!$K$20=1,0,0)))))","v":0},0,""]
[null,null,null,null,null,null,null,null,{"$f":"IF(Entries!$K$20=5,MIN(C20,D20,E20,F20,G20),IF(Entries!$K$20=4,MIN(C20,D20,E20,F20),IF(Entries!$K$20=3,MIN(C20,D20,E20),IF(Entries!$K$20=2,MIN(C20,D20),IF(Entries!$K$20=1,0,0)))))","v":0},0,"",null,null,null,null,null,null,null,null,{"$f":"IF(Entries!$K$20=5,MIN(N20,O20,P20,Q20,R20),IF(Entries!$K$20=4,MIN(N20,O20,P20,Q20),IF(Entries!$K$20=3,MIN(N20,O20,P20),IF(Entries!$K$20=2,MIN(N20,O20),IF(Entries!$K$20=1,0,0)))))","v":0},0,"",null,"Jocelyn Yee",0,438,0,453,456,1347,{"$f":"IF(Entries!$K$20=5,MIN(Y20,Z20,AA20,AB20,AC20),IF(Entries!$K$20=4,MIN(Y20,Z20,AA20,AB20),IF(Entries!$K$20=3,MIN(Y20,Z20,AA20),IF(Entries!$K$20=2,MIN(Y20,Z20),IF(Entries!$K$20=1,0,0)))))","v":0},1347,13,null,null,null,null,null,null,null,null,{"$f":"IF(Entries!$K$20=5,MIN(AJ20,AK20,AL20,AM20,AN20),IF(Entries!$K$20=4,MIN(AJ20,AK20,AL20,AM20),IF(Entries!$K$20=3,MIN(AJ20,AK20,AL20),IF(Entries!$K$20=2,MIN(AJ20,AK20),IF(Entries!$K$20=1,0,0)))))","v":0},0,"",null,null,null,null,null,null,null,null,{"$f":"IF(Entries!$K$20=5,MIN(AU20,AV20,AW20,AX20,AY20),IF(Entries!$K$20=4,MIN(AU20,AV20,AW20,AX20),IF(Entries!$K$20=3,MIN(AU20,AV20,AW20),IF(Entries!$K$20=2,MIN(AU20,AV20),IF(Entries!$K$20=1,0,0)))))","v":0},0,"",null,null,null,null,null,null,null,null,{"$f":"IF(Entries!$K$20=5,MIN(BF20,BG20,BH20,BI20,BJ20),IF(Entries!$K$20=4,MIN(BF20,BG20,BH20,BI20),IF(Entries!$K$20=3,MIN(BF20,BG20,BH20),IF(Entries!$K$20=2,MIN(BF20,BG20),IF(Entries!$K$20=1,0,0)))))","v":0},0,"",null,null,null,null,null,null,null,null,{"$f":"IF(Entries!$K$20=5,MIN(BQ20,BR20,BS20,BT20,BU20),IF(Entries!$K$20=4,MIN(BQ20,BR20,BS20,BT20),IF(Entries!$K$20=3,MIN(BQ20,BR20,BS20),IF(Entries!$K$20=2,MIN(BQ20,BR20),IF(Entries!$K$20=1,0,0)))))","v":0},0,"",null,null,null,null,null,null,null,null,{"$f":"IF(Entries!$K$20=5,MIN(CB20,CC20,CD20,CE20,CF20),IF(Entries!$K$20=4,MIN(CB20,CC20,CD20,CE20),IF(Entries!$K$20=3,MIN(CB20,CC20,CD20),IF(Entries!$K$20=2,MIN(CB20,CC20),IF(Entries!$K$20=1,0,0)))))","v":0},0,"",null,null,null,null,null,null,null,null,{"$f":"IF(Entries!$K$20=5,MIN(CM20,CN20,CO20,CP20,CQ20),IF(Entries!$K$20=4,MIN(CM20,CN20,CO20,CP20),IF(Entries!$K$20=3,MIN(CM20,CN20,CO20),IF(Entries!$K$20=2,MIN(CM20,CN20),IF(Entries!$K$20=1,0,0)))))","v":0},0,"",null,null,null,null,null,null,null,null,{"$f":"IF(Entries!$K$20=5,MIN(CX20,CY20,CZ20,DA20,DB20),IF(Entries!$K$20=4,MIN(CX20,CY20,CZ20,DA20),IF(Entries!$K$20=3,MIN(CX20,CY20,CZ20),IF(Entries!$K$20=2,MIN(CX20,CY20),IF(Entries!$K$20=1,0,0)))))","v":0},0,"",null,"Thijs Siebt",0,371,0,0,0,371,{"$f":"IF(Entries!$K$20=5,MIN(DI20,DJ20,DK20,DL20,DM20),IF(Entries!$K$20=4,MIN(DI20,DJ20,DK20,DL20),IF(Entries!$K$20=3,MIN(DI20,DJ20,DK20),IF(Entries!$K$20=2,MIN(DI20,DJ20),IF(Entries!$K$20=1,0,0)))))","v":0},371,13,null,null,null,null,null,null,null,null,{"$f":"IF(Entries!$K$20=5,MIN(DT20,DU20,DV20,DW20,DX20),IF(Entries!$K$20=4,MIN(DT20,DU20,DV20,DW20),IF(Entries!$K$20=3,MIN(DT20,DU20,DV20),IF(Entries!$K$20=2,MIN(DT20,DU20),IF(Entries!$K$20=1,0,0)))))","v":0},0,"",null,null,null,null,null,null,null,null,{"$f":"IF(Entries!$K$20=5,MIN(EE20,EF20,EG20,EH20,EI20),IF(Entries!$K$20=4,MIN(EE20,EF20,EG20,EH20),IF(Entries!$K$20=3,MIN(EE20,EF20,EG20),IF(Entries!$K$20=2,MIN(EE20,EF20),IF(Entries!$K$20=1,0,0)))))","v":0},0,"",null,"Thomas Joyce",0,339,0,0,0,339,{"$f":"IF(Entries!$K$20=5,MIN(EP20,EQ20,ER20,ES20,ET20),IF(Entries!$K$20=4,MIN(EP20,EQ20,ER20,ES20),IF(Entries!$K$20=3,MIN(EP20,EQ20,ER20),IF(Entries!$K$20=2,MIN(EP20,EQ20),IF(Entries!$K$20=1,0,0)))))","v":0},339,13,null,"Liam Doyle",0,358,0,0,0,358,{"$f":"IF(Entries!$K$20=5,MIN(FA20,FB20,FC20,FD20,FE20),IF(Entries!$K$20=4,MIN(FA20,FB20,FC20,FD20),IF(Entries!$K$20=3,MIN(FA20,FB20,FC20),IF(Entries!$K$20=2,MIN(FA20,FB20),IF(Entries!$K$20=1,0,0)))))","v":0},358,13,null,null,null,null,null,null,null,null,{"$f":"IF(Entries!$K$20=5,MIN(FL20,FM20,FN20,FO20,FP20),IF(Entries!$K$20=4,MIN(FL20,FM20,FN20,FO20),IF(Entries!$K$20=3,MIN(FL20,FM20,FN20),IF(Entries!$K$20=2,MIN(FL20,FM20),IF(Entries!$K$20=1,0,0)))))","v":0},0,"",null,null,null,null,null,null,null,null,{"$f":"IF(Entries!$K$20=5,MIN(FW20,FX20,FY20,FZ20,GA20),IF(Entries!$K$20=4,MIN(FW20,FX20,FY20,FZ20),IF(Entries!$K$20=3,MIN(FW20,FX20,FY20),IF(Entries!$K$20=2,MIN(FW20,FX20),IF(Entries!$K$20=1,0,0)))))","v":0},0,"",null,null,null,null,null,null,null,null,{"$f":"IF(Entries!$K$20=5,MIN(GH20,GI20,GJ20,GK20,GL20),IF(Entries!$K$20=4,MIN(GH20,GI20,GJ20,GK20),IF(Entries!$K$20=3,MIN(GH20,GI20,GJ20),IF(Entries!$K$20=2,MIN(GH20,GI20),IF(Entries!$K$20=1,0,0)))))","v":0},0,"",null,null,null,null,null,null,null,null,{"$f":"IF(Entries!$K$20=5,MIN(GS20,GT20,GU20,GV20,GW20),IF(Entries!$K$20=4,MIN(GS20,GT20,GU20,GV20),IF(Entries!$K$20=3,MIN(GS20,GT20,GU20),IF(Entries!$K$20=2,MIN(GS20,GT20),IF(Entries!$K$20=1,0,0)))))","v":0},0,"",null,null,null,null,null,null,null,null,{"$f":"IF(Entries!$K$20=5,MIN(HD20,HE20,HF20,HG20,HH20),IF(Entries!$K$20=4,MIN(HD20,HE20,HF20,HG20),IF(Entries!$K$20=3,MIN(HD20,HE20,HF20),IF(Entries!$K$20=2,MIN(HD20,HE20),IF(Entries!$K$20=1,0,0)))))","v":0},0,"",null,null,null,null,null,null,null,null,{"$f":"IF(Entries!$K$20=5,MIN(HO20,HP20,HQ20,HR20,HS20),IF(Entries!$K$20=4,MIN(HO20,HP20,HQ20,HR20),IF(Entries!$K$20=3,MIN(HO20,HP20,HQ20),IF(Entries!$K$20=2,MIN(HO20,HP20),IF(Entries!$K$20=1,0,0)))))","v":0},0,"",null,null,null,null,null,null,null,null,{"$f":"IF(Entries!$K$20=5,MIN(HZ20,IA20,IB20,IC20,ID20),IF(Entries!$K$20=4,MIN(HZ20,IA20,IB20,IC20),IF(Entries!$K$20=3,MIN(HZ20,IA20,IB20),IF(Entries!$K$20=2,MIN(HZ20,IA20),IF(Entries!$K$20=1,0,0)))))","v":0},0,""]
[null,null,null,null,null,null,null,null,{"$f":"IF(Entries!$K$20=5,MIN(C21,D21,E21,F21,G21),IF(Entries!$K$20=4,MIN(C21,D21,E21,F21),IF(Entries!$K$20=3,MIN(C21,D21,E21),IF(Entries!$K$20=2,MIN(C21,D21),IF(Entries!$K$20=1,0,0)))))","v":0},0,"",null,null,null,null,null,null,null,null,{"$f":"IF(Entries!$K$20=5,MIN(N21,O21,P21,Q21,R21),IF(Entries!$K$20=4,MIN(N21,O21,P21,Q21),IF(Entries!$K$20=3,MIN(N21,O21,P21),IF(Entries!$K$20=2,MIN(N21,O21),IF(Entries!$K$20=1,0,0)))))","v":0},0,"",null,"Wai Jian Keet",0,441,0,360,464,1265,{"$f":"IF(Entries!$K$20=5,MIN(Y21,Z21,AA21,AB21,AC21),IF(Entries!$K$20=4,MIN(Y21,Z21,AA21,AB21),IF(Entries!$K$20=3,MIN(Y21,Z21,AA21),IF(Entries!$K$20=2,MIN(Y21,Z21),IF(Entries!$K$20=1,0,0)))))","v":0},1265,14,null,null,null,null,null,null,null,null,{"$f":"IF(Entries!$K$20=5,MIN(AJ21,AK21,AL21,AM21,AN21),IF(Entries!$K$20=4,MIN(AJ21,AK21,AL21,AM21),IF(Entries!$K$20=3,MIN(AJ21,AK21,AL21),IF(Entries!$K$20=2,MIN(AJ21,AK21),IF(Entries!$K$20=1,0,0)))))","v":0},0,"",null,null,null,null,null,null,null,null,{"$f":"IF(Entries!$K$20=5,MIN(AU21,AV21,AW21,AX21,AY21),IF(Entries!$K$20=4,MIN(AU21,AV21,AW21,AX21),IF(Entries!$K$20=3,MIN(AU21,AV21,AW21),IF(Entries!$K$20=2,MIN(AU21,AV21),IF(Entries!$K$20=1,0,0)))))","v":0},0,"",null,null,null,null,null,null,null,null,{"$f":"IF(Entries!$K$20=5,MIN(BF21,BG21,BH21,BI21,BJ21),IF(Entries!$K$20=4,MIN(BF21,BG21,BH21,BI21),IF(Entries!$K$20=3,MIN(BF21,BG21,BH21),IF(Entries!$K$20=2,MIN(BF21,BG21),IF(Entries!$K$20=1,0,0)))))","v":0},0,"",null,null,null,null,null,null,null,null,{"$f":"IF(Entries!$K$20=5,MIN(BQ21,BR21,BS21,BT21,BU21),IF(Entries!$K$20=4,MIN(BQ21,BR21,BS21,BT21),IF(Entries!$K$20=3,MIN(BQ21,BR21,BS21),IF(Entries!$K$20=2,MIN(BQ21,BR21),IF(Entries!$K$20=1,0,0)))))","v":0},0,"",null,null,null,null,null,null,null,null,{"$f":"IF(Entries!$K$20=5,MIN(CB21,CC21,CD21,CE21,CF21),IF(Entries!$K$20=4,MIN(CB21,CC21,CD21,CE21),IF(Entries!$K$20=3,MIN(CB21,CC21,CD21),IF(Entries!$K$20=2,MIN(CB21,CC21),IF(Entries!$K$20=1,0,0)))))","v":0},0,"",null,null,null,null,null,null,null,null,{"$f":"IF(Entries!$K$20=5,MIN(CM21,CN21,CO21,CP21,CQ21),IF(Entries!$K$20=4,MIN(CM21,CN21,CO21,CP21),IF(Entries!$K$20=3,MIN(CM21,CN21,CO21),IF(Entries!$K$20=2,MIN(CM21,CN21),IF(Entries!$K$20=1,0,0)))))","v":0},0,"",null,null,null,null,null,null,null,null,{"$f":"IF(Entries!$K$20=5,MIN(CX21,CY21,CZ21,DA21,DB21),IF(Entries!$K$20=4,MIN(CX21,CY21,CZ21,DA21),IF(Entries!$K$20=3,MIN(CX21,CY21,CZ21),IF(Entries!$K$20=2,MIN(CX21,CY21),IF(Entries!$K$20=1,0,0)))))","v":0},0,"",null,null,null,null,null,null,null,null,{"$f":"IF(Entries!$K$20=5,MIN(DI21,DJ21,DK21,DL21,DM21),IF(Entries!$K$20=4,MIN(DI21,DJ21,DK21,DL21),IF(Entries!$K$20=3,MIN(DI21,DJ21,DK21),IF(Entries!$K$20=2,MIN(DI21,DJ21),IF(Entries!$K$20=1,0,0)))))","v":0},0,"",null,null,null,null,null,null,null,null,{"$f":"IF(Entries!$K$20=5,MIN(DT21,DU21,DV21,DW21,DX21),IF(Entries!$K$20=4,MIN(DT21,DU21,DV21,DW21),IF(Entries!$K$20=3,MIN(DT21,DU21,DV21),IF(Entries!$K$20=2,MIN(DT21,DU21),IF(Entries!$K$20=1,0,0)))))","v":0},0,"",null,null,null,null,null,null,null,null,{"$f":"IF(Entries!$K$20=5,MIN(EE21,EF21,EG21,EH21,EI21),IF(Entries!$K$20=4,MIN(EE21,EF21,EG21,EH21),IF(Entries!$K$20=3,MIN(EE21,EF21,EG21),IF(Entries!$K$20=2,MIN(EE21,EF21),IF(Entries!$K$20=1,0,0)))))","v":0},0,"",null,"Azeem Mohd Elias",335,0,0,0,0,335,{"$f":"IF(Entries!$K$20=5,MIN(EP21,EQ21,ER21,ES21,ET21),IF(Entries!$K$20=4,MIN(EP21,EQ21,ER21,ES21),IF(Entries!$K$20=3,MIN(EP21,EQ21,ER21),IF(Entries!$K$20=2,MIN(EP21,EQ21),IF(Entries!$K$20=1,0,0)))))","v":0},335,14,null,"Ozeane Zeis",0,0,0,0,288,288,{"$f":"IF(Entries!$K$20=5,MIN(FA21,FB21,FC21,FD21,FE21),IF(Entries!$K$20=4,MIN(FA21,FB21,FC21,FD21),IF(Entries!$K$20=3,MIN(FA21,FB21,FC21),IF(Entries!$K$20=2,MIN(FA21,FB21),IF(Entries!$K$20=1,0,0)))))","v":0},288,14,null,null,null,null,null,null,null,null,{"$f":"IF(Entries!$K$20=5,MIN(FL21,FM21,FN21,FO21,FP21),IF(Entries!$K$20=4,MIN(FL21,FM21,FN21,FO21),IF(Entries!$K$20=3,MIN(FL21,FM21,FN21),IF(Entries!$K$20=2,MIN(FL21,FM21),IF(Entries!$K$20=1,0,0)))))","v":0},0,"",null,null,null,null,null,null,null,null,{"$f":"IF(Entries!$K$20=5,MIN(FW21,FX21,FY21,FZ21,GA21),IF(Entries!$K$20=4,MIN(FW21,FX21,FY21,FZ21),IF(Entries!$K$20=3,MIN(FW21,FX21,FY21),IF(Entries!$K$20=2,MIN(FW21,FX21),IF(Entries!$K$20=1,0,0)))))","v":0},0,"",null,null,null,null,null,null,null,null,{"$f":"IF(Entries!$K$20=5,MIN(GH21,GI21,GJ21,GK21,GL21),IF(Entries!$K$20=4,MIN(GH21,GI21,GJ21,GK21),IF(Entries!$K$20=3,MIN(GH21,GI21,GJ21),IF(Entries!$K$20=2,MIN(GH21,GI21),IF(Entries!$K$20=1,0,0)))))","v":0},0,"",null,null,null,null,null,null,null,null,{"$f":"IF(Entries!$K$20=5,MIN(GS21,GT21,GU21,GV21,GW21),IF(Entries!$K$20=4,MIN(GS21,GT21,GU21,GV21),IF(Entries!$K$20=3,MIN(GS21,GT21,GU21),IF(Entries!$K$20=2,MIN(GS21,GT21),IF(Entries!$K$20=1,0,0)))))","v":0},0,"",null,null,null,null,null,null,null,null,{"$f":"IF(Entries!$K$20=5,MIN(HD21,HE21,HF21,HG21,HH21),IF(Entries!$K$20=4,MIN(HD21,HE21,HF21,HG21),IF(Entries!$K$20=3,MIN(HD21,HE21,HF21),IF(Entries!$K$20=2,MIN(HD21,HE21),IF(Entries!$K$20=1,0,0)))))","v":0},0,"",null,null,null,null,null,null,null,null,{"$f":"IF(Entries!$K$20=5,MIN(HO21,HP21,HQ21,HR21,HS21),IF(Entries!$K$20=4,MIN(HO21,HP21,HQ21,HR21),IF(Entries!$K$20=3,MIN(HO21,HP21,HQ21),IF(Entries!$K$20=2,MIN(HO21,HP21),IF(Entries!$K$20=1,0,0)))))","v":0},0,"",null,null,null,null,null,null,null,null,{"$f":"IF(Entries!$K$20=5,MIN(HZ21,IA21,IB21,IC21,ID21),IF(Entries!$K$20=4,MIN(HZ21,IA21,IB21,IC21),IF(Entries!$K$20=3,MIN(HZ21,IA21,IB21),IF(Entries!$K$20=2,MIN(HZ21,IA21),IF(Entries!$K$20=1,0,0)))))","v":0},0,""]
[null,null,null,null,null,null,null,null,{"$f":"IF(Entries!$K$20=5,MIN(C22,D22,E22,F22,G22),IF(Entries!$K$20=4,MIN(C22,D22,E22,F22),IF(Entries!$K$20=3,MIN(C22,D22,E22),IF(Entries!$K$20=2,MIN(C22,D22),IF(Entries!$K$20=1,0,0)))))","v":0},0,"",null,null,null,null,null,null,null,null,{"$f":"IF(Entries!$K$20=5,MIN(N22,O22,P22,Q22,R22),IF(Entries!$K$20=4,MIN(N22,O22,P22,Q22),IF(Entries!$K$20=3,MIN(N22,O22,P22),IF(Entries!$K$20=2,MIN(N22,O22),IF(Entries!$K$20=1,0,0)))))","v":0},0,"",null,"Lim Cheng Bin",443,0,154,249,296,1142,{"$f":"IF(Entries!$K$20=5,MIN(Y22,Z22,AA22,AB22,AC22),IF(Entries!$K$20=4,MIN(Y22,Z22,AA22,AB22),IF(Entries!$K$20=3,MIN(Y22,Z22,AA22),IF(Entries!$K$20=2,MIN(Y22,Z22),IF(Entries!$K$20=1,0,0)))))","v":0},1142,15,null,null,null,null,null,null,null,null,{"$f":"IF(Entries!$K$20=5,MIN(AJ22,AK22,AL22,AM22,AN22),IF(Entries!$K$20=4,MIN(AJ22,AK22,AL22,AM22),IF(Entries!$K$20=3,MIN(AJ22,AK22,AL22),IF(Entries!$K$20=2,MIN(AJ22,AK22),IF(Entries!$K$20=1,0,0)))))","v":0},0,"",null,null,null,null,null,null,null,null,{"$f":"IF(Entries!$K$20=5,MIN(AU22,AV22,AW22,AX22,AY22),IF(Entries!$K$20=4,MIN(AU22,AV22,AW22,AX22),IF(Entries!$K$20=3,MIN(AU22,AV22,AW22),IF(Entries!$K$20=2,MIN(AU22,AV22),IF(Entries!$K$20=1,0,0)))))","v":0},0,"",null,null,null,null,null,null,null,null,{"$f":"IF(Entries!$K$20=5,MIN(BF22,BG22,BH22,BI22,BJ22),IF(Entries!$K$20=4,MIN(BF22,BG22,BH22,BI22),IF(Entries!$K$20=3,MIN(BF22,BG22,BH22),IF(Entries!$K$20=2,MIN(BF22,BG22),IF(Entries!$K$20=1,0,0)))))","v":0},0,"",null,null,null,null,null,null,null,null,{"$f":"IF(Entries!$K$20=5,MIN(BQ22,BR22,BS22,BT22,BU22),IF(Entries!$K$20=4,MIN(BQ22,BR22,BS22,BT22),IF(Entries!$K$20=3,MIN(BQ22,BR22,BS22),IF(Entries!$K$20=2,MIN(BQ22,BR22),IF(Entries!$K$20=1,0,0)))))","v":0},0,"",null,null,null,null,null,null,null,null,{"$f":"IF(Entries!$K$20=5,MIN(CB22,CC22,CD22,CE22,CF22),IF(Entries!$K$20=4,MIN(CB22,CC22,CD22,CE22),IF(Entries!$K$20=3,MIN(CB22,CC22,CD22),IF(Entries!$K$20=2,MIN(CB22,CC22),IF(Entries!$K$20=1,0,0)))))","v":0},0,"",null,null,null,null,null,null,null,null,{"$f":"IF(Entries!$K$20=5,MIN(CM22,CN22,CO22,CP22,CQ22),IF(Entries!$K$20=4,MIN(CM22,CN22,CO22,CP22),IF(Entries!$K$20=3,MIN(CM22,CN22,CO22),IF(Entries!$K$20=2,MIN(CM22,CN22),IF(Entries!$K$20=1,0,0)))))","v":0},0,"",null,null,null,null,null,null,null,null,{"$f":"IF(Entries!$K$20=5,MIN(CX22,CY22,CZ22,DA22,DB22),IF(Entries!$K$20=4,MIN(CX22,CY22,CZ22,DA22),IF(Entries!$K$20=3,MIN(CX22,CY22,CZ22),IF(Entries!$K$20=2,MIN(CX22,CY22),IF(Entries!$K$20=1,0,0)))))","v":0},0,"",null,null,null,null,null,null,null,null,{"$f":"IF(Entries!$K$20=5,MIN(DI22,DJ22,DK22,DL22,DM22),IF(Entries!$K$20=4,MIN(DI22,DJ22,DK22,DL22),IF(Entries!$K$20=3,MIN(DI22,DJ22,DK22),IF(Entries!$K$20=2,MIN(DI22,DJ22),IF(Entries!$K$20=1,0,0)))))","v":0},0,"",null,null,null,null,null,null,null,null,{"$f":"IF(Entries!$K$20=5,MIN(DT22,DU22,DV22,DW22,DX22),IF(Entries!$K$20=4,MIN(DT22,DU22,DV22,DW22),IF(Entries!$K$20=3,MIN(DT22,DU22,DV22),IF(Entries!$K$20=2,MIN(DT22,DU22),IF(Entries!$K$20=1,0,0)))))","v":0},0,"",null,null,null,null,null,null,null,null,{"$f":"IF(Entries!$K$20=5,MIN(EE22,EF22,EG22,EH22,EI22),IF(Entries!$K$20=4,MIN(EE22,EF22,EG22,EH22),IF(Entries!$K$20=3,MIN(EE22,EF22,EG22),IF(Entries!$K$20=2,MIN(EE22,EF22),IF(Entries!$K$20=1,0,0)))))","v":0},0,"",null,"Casey Patmore",0,261,0,0,0,261,{"$f":"IF(Entries!$K$20=5,MIN(EP22,EQ22,ER22,ES22,ET22),IF(Entries!$K$20=4,MIN(EP22,EQ22,ER22,ES22),IF(Entries!$K$20=3,MIN(EP22,EQ22,ER22),IF(Entries!$K$20=2,MIN(EP22,EQ22),IF(Entries!$K$20=1,0,0)))))","v":0},261,15,null,"Conor Moran",0,257,0,0,0,257,{"$f":"IF(Entries!$K$20=5,MIN(FA22,FB22,FC22,FD22,FE22),IF(Entries!$K$20=4,MIN(FA22,FB22,FC22,FD22),IF(Entries!$K$20=3,MIN(FA22,FB22,FC22),IF(Entries!$K$20=2,MIN(FA22,FB22),IF(Entries!$K$20=1,0,0)))))","v":0},257,15,null,null,null,null,null,null,null,null,{"$f":"IF(Entries!$K$20=5,MIN(FL22,FM22,FN22,FO22,FP22),IF(Entries!$K$20=4,MIN(FL22,FM22,FN22,FO22),IF(Entries!$K$20=3,MIN(FL22,FM22,FN22),IF(Entries!$K$20=2,MIN(FL22,FM22),IF(Entries!$K$20=1,0,0)))))","v":0},0,"",null,null,null,null,null,null,null,null,{"$f":"IF(Entries!$K$20=5,MIN(FW22,FX22,FY22,FZ22,GA22),IF(Entries!$K$20=4,MIN(FW22,FX22,FY22,FZ22),IF(Entries!$K$20=3,MIN(FW22,FX22,FY22),IF(Entries!$K$20=2,MIN(FW22,FX22),IF(Entries!$K$20=1,0,0)))))","v":0},0,"",null,null,null,null,null,null,null,null,{"$f":"IF(Entries!$K$20=5,MIN(GH22,GI22,GJ22,GK22,GL22),IF(Entries!$K$20=4,MIN(GH22,GI22,GJ22,GK22),IF(Entries!$K$20=3,MIN(GH22,GI22,GJ22),IF(Entries!$K$20=2,MIN(GH22,GI22),IF(Entries!$K$20=1,0,0)))))","v":0},0,"",null,null,null,null,null,null,null,null,{"$f":"IF(Entries!$K$20=5,MIN(GS22,GT22,GU22,GV22,GW22),IF(Entries!$K$20=4,MIN(GS22,GT22,GU22,GV22),IF(Entries!$K$20=3,MIN(GS22,GT22,GU22),IF(Entries!$K$20=2,MIN(GS22,GT22),IF(Entries!$K$20=1,0,0)))))","v":0},0,"",null,null,null,null,null,null,null,null,{"$f":"IF(Entries!$K$20=5,MIN(HD22,HE22,HF22,HG22,HH22),IF(Entries!$K$20=4,MIN(HD22,HE22,HF22,HG22),IF(Entries!$K$20=3,MIN(HD22,HE22,HF22),IF(Entries!$K$20=2,MIN(HD22,HE22),IF(Entries!$K$20=1,0,0)))))","v":0},0,"",null,null,null,null,null,null,null,null,{"$f":"IF(Entries!$K$20=5,MIN(HO22,HP22,HQ22,HR22,HS22),IF(Entries!$K$20=4,MIN(HO22,HP22,HQ22,HR22),IF(Entries!$K$20=3,MIN(HO22,HP22,HQ22),IF(Entries!$K$20=2,MIN(HO22,HP22),IF(Entries!$K$20=1,0,0)))))","v":0},0,"",null,null,null,null,null,null,null,null,{"$f":"IF(Entries!$K$20=5,MIN(HZ22,IA22,IB22,IC22,ID22),IF(Entries!$K$20=4,MIN(HZ22,IA22,IB22,IC22),IF(Entries!$K$20=3,MIN(HZ22,IA22,IB22),IF(Entries!$K$20=2,MIN(HZ22,IA22),IF(Entries!$K$20=1,0,0)))))","v":0},0,""]
[null,null,null,null,null,null,null,null,{"$f":"IF(Entries!$K$20=5,MIN(C23,D23,E23,F23,G23),IF(Entries!$K$20=4,MIN(C23,D23,E23,F23),IF(Entries!$K$20=3,MIN(C23,D23,E23),IF(Entries!$K$20=2,MIN(C23,D23),IF(Entries!$K$20=1,0,0)))))","v":0},0,"",null,null,null,null,null,null,null,null,{"$f":"IF(Entries!$K$20=5,MIN(N23,O23,P23,Q23,R23),IF(Entries!$K$20=4,MIN(N23,O23,P23,Q23),IF(Entries!$K$20=3,MIN(N23,O23,P23),IF(Entries!$K$20=2,MIN(N23,O23),IF(Entries!$K$20=1,0,0)))))","v":0},0,"",null,"Kelvin Yee",0,412,0,428,0,840,{"$f":"IF(Entries!$K$20=5,MIN(Y23,Z23,AA23,AB23,AC23),IF(Entries!$K$20=4,MIN(Y23,Z23,AA23,AB23),IF(Entries!$K$20=3,MIN(Y23,Z23,AA23),IF(Entries!$K$20=2,MIN(Y23,Z23),IF(Entries!$K$20=1,0,0)))))","v":0},840,16,null,null,null,null,null,null,null,null,{"$f":"IF(Entries!$K$20=5,MIN(AJ23,AK23,AL23,AM23,AN23),IF(Entries!$K$20=4,MIN(AJ23,AK23,AL23,AM23),IF(Entries!$K$20=3,MIN(AJ23,AK23,AL23),IF(Entries!$K$20=2,MIN(AJ23,AK23),IF(Entries!$K$20=1,0,0)))))","v":0},0,"",null,null,null,null,null,null,null,null,{"$f":"IF(Entries!$K$20=5,MIN(AU23,AV23,AW23,AX23,AY23),IF(Entries!$K$20=4,MIN(AU23,AV23,AW23,AX23),IF(Entries!$K$20=3,MIN(AU23,AV23,AW23),IF(Entries!$K$20=2,MIN(AU23,AV23),IF(Entries!$K$20=1,0,0)))))","v":0},0,"",null,null,null,null,null,null,null,null,{"$f":"IF(Entries!$K$20=5,MIN(BF23,BG23,BH23,BI23,BJ23),IF(Entries!$K$20=4,MIN(BF23,BG23,BH23,BI23),IF(Entries!$K$20=3,MIN(BF23,BG23,BH23),IF(Entries!$K$20=2,MIN(BF23,BG23),IF(Entries!$K$20=1,0,0)))))","v":0},0,"",null,null,null,null,null,null,null,null,{"$f":"IF(Entries!$K$20=5,MIN(BQ23,BR23,BS23,BT23,BU23),IF(Entries!$K$20=4,MIN(BQ23,BR23,BS23,BT23),IF(Entries!$K$20=3,MIN(BQ23,BR23,BS23),IF(Entries!$K$20=2,MIN(BQ23,BR23),IF(Entries!$K$20=1,0,0)))))","v":0},0,"",null,null,null,null,null,null,null,null,{"$f":"IF(Entries!$K$20=5,MIN(CB23,CC23,CD23,CE23,CF23),IF(Entries!$K$20=4,MIN(CB23,CC23,CD23,CE23),IF(Entries!$K$20=3,MIN(CB23,CC23,CD23),IF(Entries!$K$20=2,MIN(CB23,CC23),IF(Entries!$K$20=1,0,0)))))","v":0},0,"",null,null,null,null,null,null,null,null,{"$f":"IF(Entries!$K$20=5,MIN(CM23,CN23,CO23,CP23,CQ23),IF(Entries!$K$20=4,MIN(CM23,CN23,CO23,CP23),IF(Entries!$K$20=3,MIN(CM23,CN23,CO23),IF(Entries!$K$20=2,MIN(CM23,CN23),IF(Entries!$K$20=1,0,0)))))","v":0},0,"",null,null,null,null,null,null,null,null,{"$f":"IF(Entries!$K$20=5,MIN(CX23,CY23,CZ23,DA23,DB23),IF(Entries!$K$20=4,MIN(CX23,CY23,CZ23,DA23),IF(Entries!$K$20=3,MIN(CX23,CY23,CZ23),IF(Entries!$K$20=2,MIN(CX23,CY23),IF(Entries!$K$20=1,0,0)))))","v":0},0,"",null,null,null,null,null,null,null,null,{"$f":"IF(Entries!$K$20=5,MIN(DI23,DJ23,DK23,DL23,DM23),IF(Entries!$K$20=4,MIN(DI23,DJ23,DK23,DL23),IF(Entries!$K$20=3,MIN(DI23,DJ23,DK23),IF(Entries!$K$20=2,MIN(DI23,DJ23),IF(Entries!$K$20=1,0,0)))))","v":0},0,"",null,null,null,null,null,null,null,null,{"$f":"IF(Entries!$K$20=5,MIN(DT23,DU23,DV23,DW23,DX23),IF(Entries!$K$20=4,MIN(DT23,DU23,DV23,DW23),IF(Entries!$K$20=3,MIN(DT23,DU23,DV23),IF(Entries!$K$20=2,MIN(DT23,DU23),IF(Entries!$K$20=1,0,0)))))","v":0},0,"",null,null,null,null,null,null,null,null,{"$f":"IF(Entries!$K$20=5,MIN(EE23,EF23,EG23,EH23,EI23),IF(Entries!$K$20=4,MIN(EE23,EF23,EG23,EH23),IF(Entries!$K$20=3,MIN(EE23,EF23,EG23),IF(Entries!$K$20=2,MIN(EE23,EF23),IF(Entries!$K$20=1,0,0)))))","v":0},0,"",null,"Caoimhe Lalor",0,0,0,168,0,168,{"$f":"IF(Entries!$K$20=5,MIN(EP23,EQ23,ER23,ES23,ET23),IF(Entries!$K$20=4,MIN(EP23,EQ23,ER23,ES23),IF(Entries!$K$20=3,MIN(EP23,EQ23,ER23),IF(Entries!$K$20=2,MIN(EP23,EQ23),IF(Entries!$K$20=1,0,0)))))","v":0},168,16,null,"Ian Nora",249,0,0,0,0,249,{"$f":"IF(Entries!$K$20=5,MIN(FA23,FB23,FC23,FD23,FE23),IF(Entries!$K$20=4,MIN(FA23,FB23,FC23,FD23),IF(Entries!$K$20=3,MIN(FA23,FB23,FC23),IF(Entries!$K$20=2,MIN(FA23,FB23),IF(Entries!$K$20=1,0,0)))))","v":0},249,16,null,null,null,null,null,null,null,null,{"$f":"IF(Entries!$K$20=5,MIN(FL23,FM23,FN23,FO23,FP23),IF(Entries!$K$20=4,MIN(FL23,FM23,FN23,FO23),IF(Entries!$K$20=3,MIN(FL23,FM23,FN23),IF(Entries!$K$20=2,MIN(FL23,FM23),IF(Entries!$K$20=1,0,0)))))","v":0},0,"",null,null,null,null,null,null,null,null,{"$f":"IF(Entries!$K$20=5,MIN(FW23,FX23,FY23,FZ23,GA23),IF(Entries!$K$20=4,MIN(FW23,FX23,FY23,FZ23),IF(Entries!$K$20=3,MIN(FW23,FX23,FY23),IF(Entries!$K$20=2,MIN(FW23,FX23),IF(Entries!$K$20=1,0,0)))))","v":0},0,"",null,null,null,null,null,null,null,null,{"$f":"IF(Entries!$K$20=5,MIN(GH23,GI23,GJ23,GK23,GL23),IF(Entries!$K$20=4,MIN(GH23,GI23,GJ23,GK23),IF(Entries!$K$20=3,MIN(GH23,GI23,GJ23),IF(Entries!$K$20=2,MIN(GH23,GI23),IF(Entries!$K$20=1,0,0)))))","v":0},0,"",null,null,null,null,null,null,null,null,{"$f":"IF(Entries!$K$20=5,MIN(GS23,GT23,GU23,GV23,GW23),IF(Entries!$K$20=4,MIN(GS23,GT23,GU23,GV23),IF(Entries!$K$20=3,MIN(GS23,GT23,GU23),IF(Entries!$K$20=2,MIN(GS23,GT23),IF(Entries!$K$20=1,0,0)))))","v":0},0,"",null,null,null,null,null,null,null,null,{"$f":"IF(Entries!$K$20=5,MIN(HD23,HE23,HF23,HG23,HH23),IF(Entries!$K$20=4,MIN(HD23,HE23,HF23,HG23),IF(Entries!$K$20=3,MIN(HD23,HE23,HF23),IF(Entries!$K$20=2,MIN(HD23,HE23),IF(Entries!$K$20=1,0,0)))))","v":0},0,"",null,null,null,null,null,null,null,null,{"$f":"IF(Entries!$K$20=5,MIN(HO23,HP23,HQ23,HR23,HS23),IF(Entries!$K$20=4,MIN(HO23,HP23,HQ23,HR23),IF(Entries!$K$20=3,MIN(HO23,HP23,HQ23),IF(Entries!$K$20=2,MIN(HO23,HP23),IF(Entries!$K$20=1,0,0)))))","v":0},0,"",null,null,null,null,null,null,null,null,{"$f":"IF(Entries!$K$20=5,MIN(HZ23,IA23,IB23,IC23,ID23),IF(Entries!$K$20=4,MIN(HZ23,IA23,IB23,IC23),IF(Entries!$K$20=3,MIN(HZ23,IA23,IB23),IF(Entries!$K$20=2,MIN(HZ23,IA23),IF(Entries!$K$20=1,0,0)))))","v":0},0,""]
[null,null,null,null,null,null,null,null,{"$f":"IF(Entries!$K$20=5,MIN(C24,D24,E24,F24,G24),IF(Entries!$K$20=4,MIN(C24,D24,E24,F24),IF(Entries!$K$20=3,MIN(C24,D24,E24),IF(Entries!$K$20=2,MIN(C24,D24),IF(Entries!$K$20=1,0,0)))))","v":0},0,"",null,null,null,null,null,null,null,null,{"$f":"IF(Entries!$K$20=5,MIN(N24,O24,P24,Q24,R24),IF(Entries!$K$20=4,MIN(N24,O24,P24,Q24),IF(Entries!$K$20=3,MIN(N24,O24,P24),IF(Entries!$K$20=2,MIN(N24,O24),IF(Entries!$K$20=1,0,0)))))","v":0},0,"",null,"Sven Radatz",0,479,0,0,0,479,{"$f":"IF(Entries!$K$20=5,MIN(Y24,Z24,AA24,AB24,AC24),IF(Entries!$K$20=4,MIN(Y24,Z24,AA24,AB24),IF(Entries!$K$20=3,MIN(Y24,Z24,AA24),IF(Entries!$K$20=2,MIN(Y24,Z24),IF(Entries!$K$20=1,0,0)))))","v":0},479,17,null,null,null,null,null,null,null,null,{"$f":"IF(Entries!$K$20=5,MIN(AJ24,AK24,AL24,AM24,AN24),IF(Entries!$K$20=4,MIN(AJ24,AK24,AL24,AM24),IF(Entries!$K$20=3,MIN(AJ24,AK24,AL24),IF(Entries!$K$20=2,MIN(AJ24,AK24),IF(Entries!$K$20=1,0,0)))))","v":0},0,"",null,null,null,null,null,null,null,null,{"$f":"IF(Entries!$K$20=5,MIN(AU24,AV24,AW24,AX24,AY24),IF(Entries!$K$20=4,MIN(AU24,AV24,AW24,AX24),IF(Entries!$K$20=3,MIN(AU24,AV24,AW24),IF(Entries!$K$20=2,MIN(AU24,AV24),IF(Entries!$K$20=1,0,0)))))","v":0},0,"",null,null,null,null,null,null,null,null,{"$f":"IF(Entries!$K$20=5,MIN(BF24,BG24,BH24,BI24,BJ24),IF(Entries!$K$20=4,MIN(BF24,BG24,BH24,BI24),IF(Entries!$K$20=3,MIN(BF24,BG24,BH24),IF(Entries!$K$20=2,MIN(BF24,BG24),IF(Entries!$K$20=1,0,0)))))","v":0},0,"",null,null,null,null,null,null,null,null,{"$f":"IF(Entries!$K$20=5,MIN(BQ24,BR24,BS24,BT24,BU24),IF(Entries!$K$20=4,MIN(BQ24,BR24,BS24,BT24),IF(Entries!$K$20=3,MIN(BQ24,BR24,BS24),IF(Entries!$K$20=2,MIN(BQ24,BR24),IF(Entries!$K$20=1,0,0)))))","v":0},0,"",null,null,null,null,null,null,null,null,{"$f":"IF(Entries!$K$20=5,MIN(CB24,CC24,CD24,CE24,CF24),IF(Entries!$K$20=4,MIN(CB24,CC24,CD24,CE24),IF(Entries!$K$20=3,MIN(CB24,CC24,CD24),IF(Entries!$K$20=2,MIN(CB24,CC24),IF(Entries!$K$20=1,0,0)))))","v":0},0,"",null,null,null,null,null,null,null,null,{"$f":"IF(Entries!$K$20=5,MIN(CM24,CN24,CO24,CP24,CQ24),IF(Entries!$K$20=4,MIN(CM24,CN24,CO24,CP24),IF(Entries!$K$20=3,MIN(CM24,CN24,CO24),IF(Entries!$K$20=2,MIN(CM24,CN24),IF(Entries!$K$20=1,0,0)))))","v":0},0,"",null,null,null,null,null,null,null,null,{"$f":"IF(Entries!$K$20=5,MIN(CX24,CY24,CZ24,DA24,DB24),IF(Entries!$K$20=4,MIN(CX24,CY24,CZ24,DA24),IF(Entries!$K$20=3,MIN(CX24,CY24,CZ24),IF(Entries!$K$20=2,MIN(CX24,CY24),IF(Entries!$K$20=1,0,0)))))","v":0},0,"",null,null,null,null,null,null,null,null,{"$f":"IF(Entries!$K$20=5,MIN(DI24,DJ24,DK24,DL24,DM24),IF(Entries!$K$20=4,MIN(DI24,DJ24,DK24,DL24),IF(Entries!$K$20=3,MIN(DI24,DJ24,DK24),IF(Entries!$K$20=2,MIN(DI24,DJ24),IF(Entries!$K$20=1,0,0)))))","v":0},0,"",null,null,null,null,null,null,null,null,{"$f":"IF(Entries!$K$20=5,MIN(DT24,DU24,DV24,DW24,DX24),IF(Entries!$K$20=4,MIN(DT24,DU24,DV24,DW24),IF(Entries!$K$20=3,MIN(DT24,DU24,DV24),IF(Entries!$K$20=2,MIN(DT24,DU24),IF(Entries!$K$20=1,0,0)))))","v":0},0,"",null,null,null,null,null,null,null,null,{"$f":"IF(Entries!$K$20=5,MIN(EE24,EF24,EG24,EH24,EI24),IF(Entries!$K$20=4,MIN(EE24,EF24,EG24,EH24),IF(Entries!$K$20=3,MIN(EE24,EF24,EG24),IF(Entries!$K$20=2,MIN(EE24,EF24),IF(Entries!$K$20=1,0,0)))))","v":0},0,"",null,"Maeve Ruan",0,0,0,70,0,70,{"$f":"IF(Entries!$K$20=5,MIN(EP24,EQ24,ER24,ES24,ET24),IF(Entries!$K$20=4,MIN(EP24,EQ24,ER24,ES24),IF(Entries!$K$20=3,MIN(EP24,EQ24,ER24),IF(Entries!$K$20=2,MIN(EP24,EQ24),IF(Entries!$K$20=1,0,0)))))","v":0},70,17,null,"Eoin Hartigan",0,98,0,0,0,98,{"$f":"IF(Entries!$K$20=5,MIN(FA24,FB24,FC24,FD24,FE24),IF(Entries!$K$20=4,MIN(FA24,FB24,FC24,FD24),IF(Entries!$K$20=3,MIN(FA24,FB24,FC24),IF(Entries!$K$20=2,MIN(FA24,FB24),IF(Entries!$K$20=1,0,0)))))","v":0},98,17,null,null,null,null,null,null,null,null,{"$f":"IF(Entries!$K$20=5,MIN(FL24,FM24,FN24,FO24,FP24),IF(Entries!$K$20=4,MIN(FL24,FM24,FN24,FO24),IF(Entries!$K$20=3,MIN(FL24,FM24,FN24),IF(Entries!$K$20=2,MIN(FL24,FM24),IF(Entries!$K$20=1,0,0)))))","v":0},0,"",null,null,null,null,null,null,null,null,{"$f":"IF(Entries!$K$20=5,MIN(FW24,FX24,FY24,FZ24,GA24),IF(Entries!$K$20=4,MIN(FW24,FX24,FY24,FZ24),IF(Entries!$K$20=3,MIN(FW24,FX24,FY24),IF(Entries!$K$20=2,MIN(FW24,FX24),IF(Entries!$K$20=1,0,0)))))","v":0},0,"",null,null,null,null,null,null,null,null,{"$f":"IF(Entries!$K$20=5,MIN(GH24,GI24,GJ24,GK24,GL24),IF(Entries!$K$20=4,MIN(GH24,GI24,GJ24,GK24),IF(Entries!$K$20=3,MIN(GH24,GI24,GJ24),IF(Entries!$K$20=2,MIN(GH24,GI24),IF(Entries!$K$20=1,0,0)))))","v":0},0,"",null,null,null,null,null,null,null,null,{"$f":"IF(Entries!$K$20=5,MIN(GS24,GT24,GU24,GV24,GW24),IF(Entries!$K$20=4,MIN(GS24,GT24,GU24,GV24),IF(Entries!$K$20=3,MIN(GS24,GT24,GU24),IF(Entries!$K$20=2,MIN(GS24,GT24),IF(Entries!$K$20=1,0,0)))))","v":0},0,"",null,null,null,null,null,null,null,null,{"$f":"IF(Entries!$K$20=5,MIN(HD24,HE24,HF24,HG24,HH24),IF(Entries!$K$20=4,MIN(HD24,HE24,HF24,HG24),IF(Entries!$K$20=3,MIN(HD24,HE24,HF24),IF(Entries!$K$20=2,MIN(HD24,HE24),IF(Entries!$K$20=1,0,0)))))","v":0},0,"",null,null,null,null,null,null,null,null,{"$f":"IF(Entries!$K$20=5,MIN(HO24,HP24,HQ24,HR24,HS24),IF(Entries!$K$20=4,MIN(HO24,HP24,HQ24,HR24),IF(Entries!$K$20=3,MIN(HO24,HP24,HQ24),IF(Entries!$K$20=2,MIN(HO24,HP24),IF(Entries!$K$20=1,0,0)))))","v":0},0,"",null,null,null,null,null,null,null,null,{"$f":"IF(Entries!$K$20=5,MIN(HZ24,IA24,IB24,IC24,ID24),IF(Entries!$K$20=4,MIN(HZ24,IA24,IB24,IC24),IF(Entries!$K$20=3,MIN(HZ24,IA24,IB24),IF(Entries!$K$20=2,MIN(HZ24,IA24),IF(Entries!$K$20=1,0,0)))))","v":0},0,""]
[null,null,null,null,null,null,null,null,{"$f":"IF(Entries!$K$20=5,MIN(C25,D25,E25,F25,G25),IF(Entries!$K$20=4,MIN(C25,D25,E25,F25),IF(Entries!$K$20=3,MIN(C25,D25,E25),IF(Entries!$K$20=2,MIN(C25,D25),IF(Entries!$K$20=1,0,0)))))","v":0},0,"",null,null,null,null,null,null,null,null,{"$f":"IF(Entries!$K$20=5,MIN(N25,O25,P25,Q25,R25),IF(Entries!$K$20=4,MIN(N25,O25,P25,Q25),IF(Entries!$K$20=3,MIN(N25,O25,P25),IF(Entries!$K$20=2,MIN(N25,O25),IF(Entries!$K$20=1,0,0)))))","v":0},0,"",null,"Anna Bergert",0,383,0,0,0,383,{"$f":"IF(Entries!$K$20=5,MIN(Y25,Z25,AA25,AB25,AC25),IF(Entries!$K$20=4,MIN(Y25,Z25,AA25,AB25),IF(Entries!$K$20=3,MIN(Y25,Z25,AA25),IF(Entries!$K$20=2,MIN(Y25,Z25),IF(Entries!$K$20=1,0,0)))))","v":0},383,18,null,null,null,null,null,null,null,null,{"$f":"IF(Entries!$K$20=5,MIN(AJ25,AK25,AL25,AM25,AN25),IF(Entries!$K$20=4,MIN(AJ25,AK25,AL25,AM25),IF(Entries!$K$20=3,MIN(AJ25,AK25,AL25),IF(Entries!$K$20=2,MIN(AJ25,AK25),IF(Entries!$K$20=1,0,0)))))","v":0},0,"",null,null,null,null,null,null,null,null,{"$f":"IF(Entries!$K$20=5,MIN(AU25,AV25,AW25,AX25,AY25),IF(Entries!$K$20=4,MIN(AU25,AV25,AW25,AX25),IF(Entries!$K$20=3,MIN(AU25,AV25,AW25),IF(Entries!$K$20=2,MIN(AU25,AV25),IF(Entries!$K$20=1,0,0)))))","v":0},0,"",null,null,null,null,null,null,null,null,{"$f":"IF(Entries!$K$20=5,MIN(BF25,BG25,BH25,BI25,BJ25),IF(Entries!$K$20=4,MIN(BF25,BG25,BH25,BI25),IF(Entries!$K$20=3,MIN(BF25,BG25,BH25),IF(Entries!$K$20=2,MIN(BF25,BG25),IF(Entries!$K$20=1,0,0)))))","v":0},0,"",null,null,null,null,null,null,null,null,{"$f":"IF(Entries!$K$20=5,MIN(BQ25,BR25,BS25,BT25,BU25),IF(Entries!$K$20=4,MIN(BQ25,BR25,BS25,BT25),IF(Entries!$K$20=3,MIN(BQ25,BR25,BS25),IF(Entries!$K$20=2,MIN(BQ25,BR25),IF(Entries!$K$20=1,0,0)))))","v":0},0,"",null,null,null,null,null,null,null,null,{"$f":"IF(Entries!$K$20=5,MIN(CB25,CC25,CD25,CE25,CF25),IF(Entries!$K$20=4,MIN(CB25,CC25,CD25,CE25),IF(Entries!$K$20=3,MIN(CB25,CC25,CD25),IF(Entries!$K$20=2,MIN(CB25,CC25),IF(Entries!$K$20=1,0,0)))))","v":0},0,"",null,null,null,null,null,null,null,null,{"$f":"IF(Entries!$K$20=5,MIN(CM25,CN25,CO25,CP25,CQ25),IF(Entries!$K$20=4,MIN(CM25,CN25,CO25,CP25),IF(Entries!$K$20=3,MIN(CM25,CN25,CO25),IF(Entries!$K$20=2,MIN(CM25,CN25),IF(Entries!$K$20=1,0,0)))))","v":0},0,"",null,null,null,null,null,null,null,null,{"$f":"IF(Entries!$K$20=5,MIN(CX25,CY25,CZ25,DA25,DB25),IF(Entries!$K$20=4,MIN(CX25,CY25,CZ25,DA25),IF(Entries!$K$20=3,MIN(CX25,CY25,CZ25),IF(Entries!$K$20=2,MIN(CX25,CY25),IF(Entries!$K$20=1,0,0)))))","v":0},0,"",null,null,null,null,null,null,null,null,{"$f":"IF(Entries!$K$20=5,MIN(DI25,DJ25,DK25,DL25,DM25),IF(Entries!$K$20=4,MIN(DI25,DJ25,DK25,DL25),IF(Entries!$K$20=3,MIN(DI25,DJ25,DK25),IF(Entries!$K$20=2,MIN(DI25,DJ25),IF(Entries!$K$20=1,0,0)))))","v":0},0,"",null,null,null,null,null,null,null,null,{"$f":"IF(Entries!$K$20=5,MIN(DT25,DU25,DV25,DW25,DX25),IF(Entries!$K$20=4,MIN(DT25,DU25,DV25,DW25),IF(Entries!$K$20=3,MIN(DT25,DU25,DV25),IF(Entries!$K$20=2,MIN(DT25,DU25),IF(Entries!$K$20=1,0,0)))))","v":0},0,"",null,null,null,null,null,null,null,null,{"$f":"IF(Entries!$K$20=5,MIN(EE25,EF25,EG25,EH25,EI25),IF(Entries!$K$20=4,MIN(EE25,EF25,EG25,EH25),IF(Entries!$K$20=3,MIN(EE25,EF25,EG25),IF(Entries!$K$20=2,MIN(EE25,EF25),IF(Entries!$K$20=1,0,0)))))","v":0},0,"",null,null,null,null,null,null,null,null,{"$f":"IF(Entries!$K$20=5,MIN(EP25,EQ25,ER25,ES25,ET25),IF(Entries!$K$20=4,MIN(EP25,EQ25,ER25,ES25),IF(Entries!$K$20=3,MIN(EP25,EQ25,ER25),IF(Entries!$K$20=2,MIN(EP25,EQ25),IF(Entries!$K$20=1,0,0)))))","v":0},0,"",null,null,null,null,null,null,null,null,{"$f":"IF(Entries!$K$20=5,MIN(FA25,FB25,FC25,FD25,FE25),IF(Entries!$K$20=4,MIN(FA25,FB25,FC25,FD25),IF(Entries!$K$20=3,MIN(FA25,FB25,FC25),IF(Entries!$K$20=2,MIN(FA25,FB25),IF(Entries!$K$20=1,0,0)))))","v":0},0,"",null,null,null,null,null,null,null,null,{"$f":"IF(Entries!$K$20=5,MIN(FL25,FM25,FN25,FO25,FP25),IF(Entries!$K$20=4,MIN(FL25,FM25,FN25,FO25),IF(Entries!$K$20=3,MIN(FL25,FM25,FN25),IF(Entries!$K$20=2,MIN(FL25,FM25),IF(Entries!$K$20=1,0,0)))))","v":0},0,"",null,null,null,null,null,null,null,null,{"$f":"IF(Entries!$K$20=5,MIN(FW25,FX25,FY25,FZ25,GA25),IF(Entries!$K$20=4,MIN(FW25,FX25,FY25,FZ25),IF(Entries!$K$20=3,MIN(FW25,FX25,FY25),IF(Entries!$K$20=2,MIN(FW25,FX25),IF(Entries!$K$20=1,0,0)))))","v":0},0,"",null,null,null,null,null,null,null,null,{"$f":"IF(Entries!$K$20=5,MIN(GH25,GI25,GJ25,GK25,GL25),IF(Entries!$K$20=4,MIN(GH25,GI25,GJ25,GK25),IF(Entries!$K$20=3,MIN(GH25,GI25,GJ25),IF(Entries!$K$20=2,MIN(GH25,GI25),IF(Entries!$K$20=1,0,0)))))","v":0},0,"",null,null,null,null,null,null,null,null,{"$f":"IF(Entries!$K$20=5,MIN(GS25,GT25,GU25,GV25,GW25),IF(Entries!$K$20=4,MIN(GS25,GT25,GU25,GV25),IF(Entries!$K$20=3,MIN(GS25,GT25,GU25),IF(Entries!$K$20=2,MIN(GS25,GT25),IF(Entries!$K$20=1,0,0)))))","v":0},0,"",null,null,null,null,null,null,null,null,{"$f":"IF(Entries!$K$20=5,MIN(HD25,HE25,HF25,HG25,HH25),IF(Entries!$K$20=4,MIN(HD25,HE25,HF25,HG25),IF(Entries!$K$20=3,MIN(HD25,HE25,HF25),IF(Entries!$K$20=2,MIN(HD25,HE25),IF(Entries!$K$20=1,0,0)))))","v":0},0,"",null,null,null,null,null,null,null,null,{"$f":"IF(Entries!$K$20=5,MIN(HO25,HP25,HQ25,HR25,HS25),IF(Entries!$K$20=4,MIN(HO25,HP25,HQ25,HR25),IF(Entries!$K$20=3,MIN(HO25,HP25,HQ25),IF(Entries!$K$20=2,MIN(HO25,HP25),IF(Entries!$K$20=1,0,0)))))","v":0},0,"",null,null,null,null,null,null,null,null,{"$f":"IF(Entries!$K$20=5,MIN(HZ25,IA25,IB25,IC25,ID25),IF(Entries!$K$20=4,MIN(HZ25,IA25,IB25,IC25),IF(Entries!$K$20=3,MIN(HZ25,IA25,IB25),IF(Entries!$K$20=2,MIN(HZ25,IA25),IF(Entries!$K$20=1,0,0)))))","v":0},0,""]
[null,null,null,null,null,null,null,null,{"$f":"IF(Entries!$K$20=5,MIN(C26,D26,E26,F26,G26),IF(Entries!$K$20=4,MIN(C26,D26,E26,F26),IF(Entries!$K$20=3,MIN(C26,D26,E26),IF(Entries!$K$20=2,MIN(C26,D26),IF(Entries!$K$20=1,0,0)))))","v":0},0,"",null,null,null,null,null,null,null,null,{"$f":"IF(Entries!$K$20=5,MIN(N26,O26,P26,Q26,R26),IF(Entries!$K$20=4,MIN(N26,O26,P26,Q26),IF(Entries!$K$20=3,MIN(N26,O26,P26),IF(Entries!$K$20=2,MIN(N26,O26),IF(Entries!$K$20=1,0,0)))))","v":0},0,"",null,null,null,null,null,null,null,null,{"$f":"IF(Entries!$K$20=5,MIN(Y26,Z26,AA26,AB26,AC26),IF(Entries!$K$20=4,MIN(Y26,Z26,AA26,AB26),IF(Entries!$K$20=3,MIN(Y26,Z26,AA26),IF(Entries!$K$20=2,MIN(Y26,Z26),IF(Entries!$K$20=1,0,0)))))","v":0},0,"",null,null,null,null,null,null,null,null,{"$f":"IF(Entries!$K$20=5,MIN(AJ26,AK26,AL26,AM26,AN26),IF(Entries!$K$20=4,MIN(AJ26,AK26,AL26,AM26),IF(Entries!$K$20=3,MIN(AJ26,AK26,AL26),IF(Entries!$K$20=2,MIN(AJ26,AK26),IF(Entries!$K$20=1,0,0)))))","v":0},0,"",null,null,null,null,null,null,null,null,{"$f":"IF(Entries!$K$20=5,MIN(AU26,AV26,AW26,AX26,AY26),IF(Entries!$K$20=4,MIN(AU26,AV26,AW26,AX26),IF(Entries!$K$20=3,MIN(AU26,AV26,AW26),IF(Entries!$K$20=2,MIN(AU26,AV26),IF(Entries!$K$20=1,0,0)))))","v":0},0,"",null,null,null,null,null,null,null,null,{"$f":"IF(Entries!$K$20=5,MIN(BF26,BG26,BH26,BI26,BJ26),IF(Entries!$K$20=4,MIN(BF26,BG26,BH26,BI26),IF(Entries!$K$20=3,MIN(BF26,BG26,BH26),IF(Entries!$K$20=2,MIN(BF26,BG26),IF(Entries!$K$20=1,0,0)))))","v":0},0,"",null,null,null,null,null,null,null,null,{"$f":"IF(Entries!$K$20=5,MIN(BQ26,BR26,BS26,BT26,BU26),IF(Entries!$K$20=4,MIN(BQ26,BR26,BS26,BT26),IF(Entries!$K$20=3,MIN(BQ26,BR26,BS26),IF(Entries!$K$20=2,MIN(BQ26,BR26),IF(Entries!$K$20=1,0,0)))))","v":0},0,"",null,null,null,null,null,null,null,null,{"$f":"IF(Entries!$K$20=5,MIN(CB26,CC26,CD26,CE26,CF26),IF(Entries!$K$20=4,MIN(CB26,CC26,CD26,CE26),IF(Entries!$K$20=3,MIN(CB26,CC26,CD26),IF(Entries!$K$20=2,MIN(CB26,CC26),IF(Entries!$K$20=1,0,0)))))","v":0},0,"",null,null,null,null,null,null,null,null,{"$f":"IF(Entries!$K$20=5,MIN(CM26,CN26,CO26,CP26,CQ26),IF(Entries!$K$20=4,MIN(CM26,CN26,CO26,CP26),IF(Entries!$K$20=3,MIN(CM26,CN26,CO26),IF(Entries!$K$20=2,MIN(CM26,CN26),IF(Entries!$K$20=1,0,0)))))","v":0},0,"",null,null,null,null,null,null,null,null,{"$f":"IF(Entries!$K$20=5,MIN(CX26,CY26,CZ26,DA26,DB26),IF(Entries!$K$20=4,MIN(CX26,CY26,CZ26,DA26),IF(Entries!$K$20=3,MIN(CX26,CY26,CZ26),IF(Entries!$K$20=2,MIN(CX26,CY26),IF(Entries!$K$20=1,0,0)))))","v":0},0,"",null,null,null,null,null,null,null,null,{"$f":"IF(Entries!$K$20=5,MIN(DI26,DJ26,DK26,DL26,DM26),IF(Entries!$K$20=4,MIN(DI26,DJ26,DK26,DL26),IF(Entries!$K$20=3,MIN(DI26,DJ26,DK26),IF(Entries!$K$20=2,MIN(DI26,DJ26),IF(Entries!$K$20=1,0,0)))))","v":0},0,"",null,null,null,null,null,null,null,null,{"$f":"IF(Entries!$K$20=5,MIN(DT26,DU26,DV26,DW26,DX26),IF(Entries!$K$20=4,MIN(DT26,DU26,DV26,DW26),IF(Entries!$K$20=3,MIN(DT26,DU26,DV26),IF(Entries!$K$20=2,MIN(DT26,DU26),IF(Entries!$K$20=1,0,0)))))","v":0},0,"",null,null,null,null,null,null,null,null,{"$f":"IF(Entries!$K$20=5,MIN(EE26,EF26,EG26,EH26,EI26),IF(Entries!$K$20=4,MIN(EE26,EF26,EG26,EH26),IF(Entries!$K$20=3,MIN(EE26,EF26,EG26),IF(Entries!$K$20=2,MIN(EE26,EF26),IF(Entries!$K$20=1,0,0)))))","v":0},0,"",null,null,null,null,null,null,null,null,{"$f":"IF(Entries!$K$20=5,MIN(EP26,EQ26,ER26,ES26,ET26),IF(Entries!$K$20=4,MIN(EP26,EQ26,ER26,ES26),IF(Entries!$K$20=3,MIN(EP26,EQ26,ER26),IF(Entries!$K$20=2,MIN(EP26,EQ26),IF(Entries!$K$20=1,0,0)))))","v":0},0,"",null,null,null,null,null,null,null,null,{"$f":"IF(Entries!$K$20=5,MIN(FA26,FB26,FC26,FD26,FE26),IF(Entries!$K$20=4,MIN(FA26,FB26,FC26,FD26),IF(Entries!$K$20=3,MIN(FA26,FB26,FC26),IF(Entries!$K$20=2,MIN(FA26,FB26),IF(Entries!$K$20=1,0,0)))))","v":0},0,"",null,null,null,null,null,null,null,null,{"$f":"IF(Entries!$K$20=5,MIN(FL26,FM26,FN26,FO26,FP26),IF(Entries!$K$20=4,MIN(FL26,FM26,FN26,FO26),IF(Entries!$K$20=3,MIN(FL26,FM26,FN26),IF(Entries!$K$20=2,MIN(FL26,FM26),IF(Entries!$K$20=1,0,0)))))","v":0},0,"",null,null,null,null,null,null,null,null,{"$f":"IF(Entries!$K$20=5,MIN(FW26,FX26,FY26,FZ26,GA26),IF(Entries!$K$20=4,MIN(FW26,FX26,FY26,FZ26),IF(Entries!$K$20=3,MIN(FW26,FX26,FY26),IF(Entries!$K$20=2,MIN(FW26,FX26),IF(Entries!$K$20=1,0,0)))))","v":0},0,"",null,null,null,null,null,null,null,null,{"$f":"IF(Entries!$K$20=5,MIN(GH26,GI26,GJ26,GK26,GL26),IF(Entries!$K$20=4,MIN(GH26,GI26,GJ26,GK26),IF(Entries!$K$20=3,MIN(GH26,GI26,GJ26),IF(Entries!$K$20=2,MIN(GH26,GI26),IF(Entries!$K$20=1,0,0)))))","v":0},0,"",null,null,null,null,null,null,null,null,{"$f":"IF(Entries!$K$20=5,MIN(GS26,GT26,GU26,GV26,GW26),IF(Entries!$K$20=4,MIN(GS26,GT26,GU26,GV26),IF(Entries!$K$20=3,MIN(GS26,GT26,GU26),IF(Entries!$K$20=2,MIN(GS26,GT26),IF(Entries!$K$20=1,0,0)))))","v":0},0,"",null,null,null,null,null,null,null,null,{"$f":"IF(Entries!$K$20=5,MIN(HD26,HE26,HF26,HG26,HH26),IF(Entries!$K$20=4,MIN(HD26,HE26,HF26,HG26),IF(Entries!$K$20=3,MIN(HD26,HE26,HF26),IF(Entries!$K$20=2,MIN(HD26,HE26),IF(Entries!$K$20=1,0,0)))))","v":0},0,"",null,null,null,null,null,null,null,null,{"$f":"IF(Entries!$K$20=5,MIN(HO26,HP26,HQ26,HR26,HS26),IF(Entries!$K$20=4,MIN(HO26,HP26,HQ26,HR26),IF(Entries!$K$20=3,MIN(HO26,HP26,HQ26),IF(Entries!$K$20=2,MIN(HO26,HP26),IF(Entries!$K$20=1,0,0)))))","v":0},0,"",null,null,null,null,null,null,null,null,{"$f":"IF(Entries!$K$20=5,MIN(HZ26,IA26,IB26,IC26,ID26),IF(Entries!$K$20=4,MIN(HZ26,IA26,IB26,IC26),IF(Entries!$K$20=3,MIN(HZ26,IA26,IB26),IF(Entries!$K$20=2,MIN(HZ26,IA26),IF(Entries!$K$20=1,0,0)))))","v":0},0,""]
[null,null,null,null,null,null,null,null,{"$f":"IF(Entries!$K$20=5,MIN(C27,D27,E27,F27,G27),IF(Entries!$K$20=4,MIN(C27,D27,E27,F27),IF(Entries!$K$20=3,MIN(C27,D27,E27),IF(Entries!$K$20=2,MIN(C27,D27),IF(Entries!$K$20=1,0,0)))))","v":0},0,"",null,null,null,null,null,null,null,null,{"$f":"IF(Entries!$K$20=5,MIN(N27,O27,P27,Q27,R27),IF(Entries!$K$20=4,MIN(N27,O27,P27,Q27),IF(Entries!$K$20=3,MIN(N27,O27,P27),IF(Entries!$K$20=2,MIN(N27,O27),IF(Entries!$K$20=1,0,0)))))","v":0},0,"",null,null,null,null,null,null,null,null,{"$f":"IF(Entries!$K$20=5,MIN(Y27,Z27,AA27,AB27,AC27),IF(Entries!$K$20=4,MIN(Y27,Z27,AA27,AB27),IF(Entries!$K$20=3,MIN(Y27,Z27,AA27),IF(Entries!$K$20=2,MIN(Y27,Z27),IF(Entries!$K$20=1,0,0)))))","v":0},0,"",null,null,null,null,null,null,null,null,{"$f":"IF(Entries!$K$20=5,MIN(AJ27,AK27,AL27,AM27,AN27),IF(Entries!$K$20=4,MIN(AJ27,AK27,AL27,AM27),IF(Entries!$K$20=3,MIN(AJ27,AK27,AL27),IF(Entries!$K$20=2,MIN(AJ27,AK27),IF(Entries!$K$20=1,0,0)))))","v":0},0,"",null,null,null,null,null,null,null,null,{"$f":"IF(Entries!$K$20=5,MIN(AU27,AV27,AW27,AX27,AY27),IF(Entries!$K$20=4,MIN(AU27,AV27,AW27,AX27),IF(Entries!$K$20=3,MIN(AU27,AV27,AW27),IF(Entries!$K$20=2,MIN(AU27,AV27),IF(Entries!$K$20=1,0,0)))))","v":0},0,"",null,null,null,null,null,null,null,null,{"$f":"IF(Entries!$K$20=5,MIN(BF27,BG27,BH27,BI27,BJ27),IF(Entries!$K$20=4,MIN(BF27,BG27,BH27,BI27),IF(Entries!$K$20=3,MIN(BF27,BG27,BH27),IF(Entries!$K$20=2,MIN(BF27,BG27),IF(Entries!$K$20=1,0,0)))))","v":0},0,"",null,null,null,null,null,null,null,null,{"$f":"IF(Entries!$K$20=5,MIN(BQ27,BR27,BS27,BT27,BU27),IF(Entries!$K$20=4,MIN(BQ27,BR27,BS27,BT27),IF(Entries!$K$20=3,MIN(BQ27,BR27,BS27),IF(Entries!$K$20=2,MIN(BQ27,BR27),IF(Entries!$K$20=1,0,0)))))","v":0},0,"",null,null,null,null,null,null,null,null,{"$f":"IF(Entries!$K$20=5,MIN(CB27,CC27,CD27,CE27,CF27),IF(Entries!$K$20=4,MIN(CB27,CC27,CD27,CE27),IF(Entries!$K$20=3,MIN(CB27,CC27,CD27),IF(Entries!$K$20=2,MIN(CB27,CC27),IF(Entries!$K$20=1,0,0)))))","v":0},0,"",null,null,null,null,null,null,null,null,{"$f":"IF(Entries!$K$20=5,MIN(CM27,CN27,CO27,CP27,CQ27),IF(Entries!$K$20=4,MIN(CM27,CN27,CO27,CP27),IF(Entries!$K$20=3,MIN(CM27,CN27,CO27),IF(Entries!$K$20=2,MIN(CM27,CN27),IF(Entries!$K$20=1,0,0)))))","v":0},0,"",null,null,null,null,null,null,null,null,{"$f":"IF(Entries!$K$20=5,MIN(CX27,CY27,CZ27,DA27,DB27),IF(Entries!$K$20=4,MIN(CX27,CY27,CZ27,DA27),IF(Entries!$K$20=3,MIN(CX27,CY27,CZ27),IF(Entries!$K$20=2,MIN(CX27,CY27),IF(Entries!$K$20=1,0,0)))))","v":0},0,"",null,null,null,null,null,null,null,null,{"$f":"IF(Entries!$K$20=5,MIN(DI27,DJ27,DK27,DL27,DM27),IF(Entries!$K$20=4,MIN(DI27,DJ27,DK27,DL27),IF(Entries!$K$20=3,MIN(DI27,DJ27,DK27),IF(Entries!$K$20=2,MIN(DI27,DJ27),IF(Entries!$K$20=1,0,0)))))","v":0},0,"",null,null,null,null,null,null,null,null,{"$f":"IF(Entries!$K$20=5,MIN(DT27,DU27,DV27,DW27,DX27),IF(Entries!$K$20=4,MIN(DT27,DU27,DV27,DW27),IF(Entries!$K$20=3,MIN(DT27,DU27,DV27),IF(Entries!$K$20=2,MIN(DT27,DU27),IF(Entries!$K$20=1,0,0)))))","v":0},0,"",null,null,null,null,null,null,null,null,{"$f":"IF(Entries!$K$20=5,MIN(EE27,EF27,EG27,EH27,EI27),IF(Entries!$K$20=4,MIN(EE27,EF27,EG27,EH27),IF(Entries!$K$20=3,MIN(EE27,EF27,EG27),IF(Entries!$K$20=2,MIN(EE27,EF27),IF(Entries!$K$20=1,0,0)))))","v":0},0,"",null,null,null,null,null,null,null,null,{"$f":"IF(Entries!$K$20=5,MIN(EP27,EQ27,ER27,ES27,ET27),IF(Entries!$K$20=4,MIN(EP27,EQ27,ER27,ES27),IF(Entries!$K$20=3,MIN(EP27,EQ27,ER27),IF(Entries!$K$20=2,MIN(EP27,EQ27),IF(Entries!$K$20=1,0,0)))))","v":0},0,"",null,null,null,null,null,null,null,null,{"$f":"IF(Entries!$K$20=5,MIN(FA27,FB27,FC27,FD27,FE27),IF(Entries!$K$20=4,MIN(FA27,FB27,FC27,FD27),IF(Entries!$K$20=3,MIN(FA27,FB27,FC27),IF(Entries!$K$20=2,MIN(FA27,FB27),IF(Entries!$K$20=1,0,0)))))","v":0},0,"",null,null,null,null,null,null,null,null,{"$f":"IF(Entries!$K$20=5,MIN(FL27,FM27,FN27,FO27,FP27),IF(Entries!$K$20=4,MIN(FL27,FM27,FN27,FO27),IF(Entries!$K$20=3,MIN(FL27,FM27,FN27),IF(Entries!$K$20=2,MIN(FL27,FM27),IF(Entries!$K$20=1,0,0)))))","v":0},0,"",null,null,null,null,null,null,null,null,{"$f":"IF(Entries!$K$20=5,MIN(FW27,FX27,FY27,FZ27,GA27),IF(Entries!$K$20=4,MIN(FW27,FX27,FY27,FZ27),IF(Entries!$K$20=3,MIN(FW27,FX27,FY27),IF(Entries!$K$20=2,MIN(FW27,FX27),IF(Entries!$K$20=1,0,0)))))","v":0},0,"",null,null,null,null,null,null,null,null,{"$f":"IF(Entries!$K$20=5,MIN(GH27,GI27,GJ27,GK27,GL27),IF(Entries!$K$20=4,MIN(GH27,GI27,GJ27,GK27),IF(Entries!$K$20=3,MIN(GH27,GI27,GJ27),IF(Entries!$K$20=2,MIN(GH27,GI27),IF(Entries!$K$20=1,0,0)))))","v":0},0,"",null,null,null,null,null,null,null,null,{"$f":"IF(Entries!$K$20=5,MIN(GS27,GT27,GU27,GV27,GW27),IF(Entries!$K$20=4,MIN(GS27,GT27,GU27,GV27),IF(Entries!$K$20=3,MIN(GS27,GT27,GU27),IF(Entries!$K$20=2,MIN(GS27,GT27),IF(Entries!$K$20=1,0,0)))))","v":0},0,"",null,null,null,null,null,null,null,null,{"$f":"IF(Entries!$K$20=5,MIN(HD27,HE27,HF27,HG27,HH27),IF(Entries!$K$20=4,MIN(HD27,HE27,HF27,HG27),IF(Entries!$K$20=3,MIN(HD27,HE27,HF27),IF(Entries!$K$20=2,MIN(HD27,HE27),IF(Entries!$K$20=1,0,0)))))","v":0},0,"",null,null,null,null,null,null,null,null,{"$f":"IF(Entries!$K$20=5,MIN(HO27,HP27,HQ27,HR27,HS27),IF(Entries!$K$20=4,MIN(HO27,HP27,HQ27,HR27),IF(Entries!$K$20=3,MIN(HO27,HP27,HQ27),IF(Entries!$K$20=2,MIN(HO27,HP27),IF(Entries!$K$20=1,0,0)))))","v":0},0,"",null,null,null,null,null,null,null,null,{"$f":"IF(Entries!$K$20=5,MIN(HZ27,IA27,IB27,IC27,ID27),IF(Entries!$K$20=4,MIN(HZ27,IA27,IB27,IC27),IF(Entries!$K$20=3,MIN(HZ27,IA27,IB27),IF(Entries!$K$20=2,MIN(HZ27,IA27),IF(Entries!$K$20=1,0,0)))))","v":0},0,""]
[null,null,null,null,null,null,null,null,{"$f":"IF(Entries!$K$20=5,MIN(C28,D28,E28,F28,G28),IF(Entries!$K$20=4,MIN(C28,D28,E28,F28),IF(Entries!$K$20=3,MIN(C28,D28,E28),IF(Entries!$K$20=2,MIN(C28,D28),IF(Entries!$K$20=1,0,0)))))","v":0},0,"",null,null,null,null,null,null,null,null,{"$f":"IF(Entries!$K$20=5,MIN(N28,O28,P28,Q28,R28),IF(Entries!$K$20=4,MIN(N28,O28,P28,Q28),IF(Entries!$K$20=3,MIN(N28,O28,P28),IF(Entries!$K$20=2,MIN(N28,O28),IF(Entries!$K$20=1,0,0)))))","v":0},0,"",null,null,null,null,null,null,null,null,{"$f":"IF(Entries!$K$20=5,MIN(Y28,Z28,AA28,AB28,AC28),IF(Entries!$K$20=4,MIN(Y28,Z28,AA28,AB28),IF(Entries!$K$20=3,MIN(Y28,Z28,AA28),IF(Entries!$K$20=2,MIN(Y28,Z28),IF(Entries!$K$20=1,0,0)))))","v":0},0,"",null,null,null,null,null,null,null,null,{"$f":"IF(Entries!$K$20=5,MIN(AJ28,AK28,AL28,AM28,AN28),IF(Entries!$K$20=4,MIN(AJ28,AK28,AL28,AM28),IF(Entries!$K$20=3,MIN(AJ28,AK28,AL28),IF(Entries!$K$20=2,MIN(AJ28,AK28),IF(Entries!$K$20=1,0,0)))))","v":0},0,"",null,null,null,null,null,null,null,null,{"$f":"IF(Entries!$K$20=5,MIN(AU28,AV28,AW28,AX28,AY28),IF(Entries!$K$20=4,MIN(AU28,AV28,AW28,AX28),IF(Entries!$K$20=3,MIN(AU28,AV28,AW28),IF(Entries!$K$20=2,MIN(AU28,AV28),IF(Entries!$K$20=1,0,0)))))","v":0},0,"",null,null,null,null,null,null,null,null,{"$f":"IF(Entries!$K$20=5,MIN(BF28,BG28,BH28,BI28,BJ28),IF(Entries!$K$20=4,MIN(BF28,BG28,BH28,BI28),IF(Entries!$K$20=3,MIN(BF28,BG28,BH28),IF(Entries!$K$20=2,MIN(BF28,BG28),IF(Entries!$K$20=1,0,0)))))","v":0},0,"",null,null,null,null,null,null,null,null,{"$f":"IF(Entries!$K$20=5,MIN(BQ28,BR28,BS28,BT28,BU28),IF(Entries!$K$20=4,MIN(BQ28,BR28,BS28,BT28),IF(Entries!$K$20=3,MIN(BQ28,BR28,BS28),IF(Entries!$K$20=2,MIN(BQ28,BR28),IF(Entries!$K$20=1,0,0)))))","v":0},0,"",null,null,null,null,null,null,null,null,{"$f":"IF(Entries!$K$20=5,MIN(CB28,CC28,CD28,CE28,CF28),IF(Entries!$K$20=4,MIN(CB28,CC28,CD28,CE28),IF(Entries!$K$20=3,MIN(CB28,CC28,CD28),IF(Entries!$K$20=2,MIN(CB28,CC28),IF(Entries!$K$20=1,0,0)))))","v":0},0,"",null,null,null,null,null,null,null,null,{"$f":"IF(Entries!$K$20=5,MIN(CM28,CN28,CO28,CP28,CQ28),IF(Entries!$K$20=4,MIN(CM28,CN28,CO28,CP28),IF(Entries!$K$20=3,MIN(CM28,CN28,CO28),IF(Entries!$K$20=2,MIN(CM28,CN28),IF(Entries!$K$20=1,0,0)))))","v":0},0,"",null,null,null,null,null,null,null,null,{"$f":"IF(Entries!$K$20=5,MIN(CX28,CY28,CZ28,DA28,DB28),IF(Entries!$K$20=4,MIN(CX28,CY28,CZ28,DA28),IF(Entries!$K$20=3,MIN(CX28,CY28,CZ28),IF(Entries!$K$20=2,MIN(CX28,CY28),IF(Entries!$K$20=1,0,0)))))","v":0},0,"",null,null,null,null,null,null,null,null,{"$f":"IF(Entries!$K$20=5,MIN(DI28,DJ28,DK28,DL28,DM28),IF(Entries!$K$20=4,MIN(DI28,DJ28,DK28,DL28),IF(Entries!$K$20=3,MIN(DI28,DJ28,DK28),IF(Entries!$K$20=2,MIN(DI28,DJ28),IF(Entries!$K$20=1,0,0)))))","v":0},0,"",null,null,null,null,null,null,null,null,{"$f":"IF(Entries!$K$20=5,MIN(DT28,DU28,DV28,DW28,DX28),IF(Entries!$K$20=4,MIN(DT28,DU28,DV28,DW28),IF(Entries!$K$20=3,MIN(DT28,DU28,DV28),IF(Entries!$K$20=2,MIN(DT28,DU28),IF(Entries!$K$20=1,0,0)))))","v":0},0,"",null,null,null,null,null,null,null,null,{"$f":"IF(Entries!$K$20=5,MIN(EE28,EF28,EG28,EH28,EI28),IF(Entries!$K$20=4,MIN(EE28,EF28,EG28,EH28),IF(Entries!$K$20=3,MIN(EE28,EF28,EG28),IF(Entries!$K$20=2,MIN(EE28,EF28),IF(Entries!$K$20=1,0,0)))))","v":0},0,"",null,null,null,null,null,null,null,null,{"$f":"IF(Entries!$K$20=5,MIN(EP28,EQ28,ER28,ES28,ET28),IF(Entries!$K$20=4,MIN(EP28,EQ28,ER28,ES28),IF(Entries!$K$20=3,MIN(EP28,EQ28,ER28),IF(Entries!$K$20=2,MIN(EP28,EQ28),IF(Entries!$K$20=1,0,0)))))","v":0},0,"",null,null,null,null,null,null,null,null,{"$f":"IF(Entries!$K$20=5,MIN(FA28,FB28,FC28,FD28,FE28),IF(Entries!$K$20=4,MIN(FA28,FB28,FC28,FD28),IF(Entries!$K$20=3,MIN(FA28,FB28,FC28),IF(Entries!$K$20=2,MIN(FA28,FB28),IF(Entries!$K$20=1,0,0)))))","v":0},0,"",null,null,null,null,null,null,null,null,{"$f":"IF(Entries!$K$20=5,MIN(FL28,FM28,FN28,FO28,FP28),IF(Entries!$K$20=4,MIN(FL28,FM28,FN28,FO28),IF(Entries!$K$20=3,MIN(FL28,FM28,FN28),IF(Entries!$K$20=2,MIN(FL28,FM28),IF(Entries!$K$20=1,0,0)))))","v":0},0,"",null,null,null,null,null,null,null,null,{"$f":"IF(Entries!$K$20=5,MIN(FW28,FX28,FY28,FZ28,GA28),IF(Entries!$K$20=4,MIN(FW28,FX28,FY28,FZ28),IF(Entries!$K$20=3,MIN(FW28,FX28,FY28),IF(Entries!$K$20=2,MIN(FW28,FX28),IF(Entries!$K$20=1,0,0)))))","v":0},0,"",null,null,null,null,null,null,null,null,{"$f":"IF(Entries!$K$20=5,MIN(GH28,GI28,GJ28,GK28,GL28),IF(Entries!$K$20=4,MIN(GH28,GI28,GJ28,GK28),IF(Entries!$K$20=3,MIN(GH28,GI28,GJ28),IF(Entries!$K$20=2,MIN(GH28,GI28),IF(Entries!$K$20=1,0,0)))))","v":0},0,"",null,null,null,null,null,null,null,null,{"$f":"IF(Entries!$K$20=5,MIN(GS28,GT28,GU28,GV28,GW28),IF(Entries!$K$20=4,MIN(GS28,GT28,GU28,GV28),IF(Entries!$K$20=3,MIN(GS28,GT28,GU28),IF(Entries!$K$20=2,MIN(GS28,GT28),IF(Entries!$K$20=1,0,0)))))","v":0},0,"",null,null,null,null,null,null,null,null,{"$f":"IF(Entries!$K$20=5,MIN(HD28,HE28,HF28,HG28,HH28),IF(Entries!$K$20=4,MIN(HD28,HE28,HF28,HG28),IF(Entries!$K$20=3,MIN(HD28,HE28,HF28),IF(Entries!$K$20=2,MIN(HD28,HE28),IF(Entries!$K$20=1,0,0)))))","v":0},0,"",null,null,null,null,null,null,null,null,{"$f":"IF(Entries!$K$20=5,MIN(HO28,HP28,HQ28,HR28,HS28),IF(Entries!$K$20=4,MIN(HO28,HP28,HQ28,HR28),IF(Entries!$K$20=3,MIN(HO28,HP28,HQ28),IF(Entries!$K$20=2,MIN(HO28,HP28),IF(Entries!$K$20=1,0,0)))))","v":0},0,"",null,null,null,null,null,null,null,null,{"$f":"IF(Entries!$K$20=5,MIN(HZ28,IA28,IB28,IC28,ID28),IF(Entries!$K$20=4,MIN(HZ28,IA28,IB28,IC28),IF(Entries!$K$20=3,MIN(HZ28,IA28,IB28),IF(Entries!$K$20=2,MIN(HZ28,IA28),IF(Entries!$K$20=1,0,0)))))","v":0},0,""]
[null,null,null,null,null,null,null,null,{"$f":"IF(Entries!$K$20=5,MIN(C29,D29,E29,F29,G29),IF(Entries!$K$20=4,MIN(C29,D29,E29,F29),IF(Entries!$K$20=3,MIN(C29,D29,E29),IF(Entries!$K$20=2,MIN(C29,D29),IF(Entries!$K$20=1,0,0)))))","v":0},0,"",null,null,null,null,null,null,null,null,{"$f":"IF(Entries!$K$20=5,MIN(N29,O29,P29,Q29,R29),IF(Entries!$K$20=4,MIN(N29,O29,P29,Q29),IF(Entries!$K$20=3,MIN(N29,O29,P29),IF(Entries!$K$20=2,MIN(N29,O29),IF(Entries!$K$20=1,0,0)))))","v":0},0,"",null,null,null,null,null,null,null,null,{"$f":"IF(Entries!$K$20=5,MIN(Y29,Z29,AA29,AB29,AC29),IF(Entries!$K$20=4,MIN(Y29,Z29,AA29,AB29),IF(Entries!$K$20=3,MIN(Y29,Z29,AA29),IF(Entries!$K$20=2,MIN(Y29,Z29),IF(Entries!$K$20=1,0,0)))))","v":0},0,"",null,null,null,null,null,null,null,null,{"$f":"IF(Entries!$K$20=5,MIN(AJ29,AK29,AL29,AM29,AN29),IF(Entries!$K$20=4,MIN(AJ29,AK29,AL29,AM29),IF(Entries!$K$20=3,MIN(AJ29,AK29,AL29),IF(Entries!$K$20=2,MIN(AJ29,AK29),IF(Entries!$K$20=1,0,0)))))","v":0},0,"",null,null,null,null,null,null,null,null,{"$f":"IF(Entries!$K$20=5,MIN(AU29,AV29,AW29,AX29,AY29),IF(Entries!$K$20=4,MIN(AU29,AV29,AW29,AX29),IF(Entries!$K$20=3,MIN(AU29,AV29,AW29),IF(Entries!$K$20=2,MIN(AU29,AV29),IF(Entries!$K$20=1,0,0)))))","v":0},0,"",null,null,null,null,null,null,null,null,{"$f":"IF(Entries!$K$20=5,MIN(BF29,BG29,BH29,BI29,BJ29),IF(Entries!$K$20=4,MIN(BF29,BG29,BH29,BI29),IF(Entries!$K$20=3,MIN(BF29,BG29,BH29),IF(Entries!$K$20=2,MIN(BF29,BG29),IF(Entries!$K$20=1,0,0)))))","v":0},0,"",null,null,null,null,null,null,null,null,{"$f":"IF(Entries!$K$20=5,MIN(BQ29,BR29,BS29,BT29,BU29),IF(Entries!$K$20=4,MIN(BQ29,BR29,BS29,BT29),IF(Entries!$K$20=3,MIN(BQ29,BR29,BS29),IF(Entries!$K$20=2,MIN(BQ29,BR29),IF(Entries!$K$20=1,0,0)))))","v":0},0,"",null,null,null,null,null,null,null,null,{"$f":"IF(Entries!$K$20=5,MIN(CB29,CC29,CD29,CE29,CF29),IF(Entries!$K$20=4,MIN(CB29,CC29,CD29,CE29),IF(Entries!$K$20=3,MIN(CB29,CC29,CD29),IF(Entries!$K$20=2,MIN(CB29,CC29),IF(Entries!$K$20=1,0,0)))))","v":0},0,"",null,null,null,null,null,null,null,null,{"$f":"IF(Entries!$K$20=5,MIN(CM29,CN29,CO29,CP29,CQ29),IF(Entries!$K$20=4,MIN(CM29,CN29,CO29,CP29),IF(Entries!$K$20=3,MIN(CM29,CN29,CO29),IF(Entries!$K$20=2,MIN(CM29,CN29),IF(Entries!$K$20=1,0,0)))))","v":0},0,"",null,null,null,null,null,null,null,null,{"$f":"IF(Entries!$K$20=5,MIN(CX29,CY29,CZ29,DA29,DB29),IF(Entries!$K$20=4,MIN(CX29,CY29,CZ29,DA29),IF(Entries!$K$20=3,MIN(CX29,CY29,CZ29),IF(Entries!$K$20=2,MIN(CX29,CY29),IF(Entries!$K$20=1,0,0)))))","v":0},0,"",null,null,null,null,null,null,null,null,{"$f":"IF(Entries!$K$20=5,MIN(DI29,DJ29,DK29,DL29,DM29),IF(Entries!$K$20=4,MIN(DI29,DJ29,DK29,DL29),IF(Entries!$K$20=3,MIN(DI29,DJ29,DK29),IF(Entries!$K$20=2,MIN(DI29,DJ29),IF(Entries!$K$20=1,0,0)))))","v":0},0,"",null,null,null,null,null,null,null,null,{"$f":"IF(Entries!$K$20=5,MIN(DT29,DU29,DV29,DW29,DX29),IF(Entries!$K$20=4,MIN(DT29,DU29,DV29,DW29),IF(Entries!$K$20=3,MIN(DT29,DU29,DV29),IF(Entries!$K$20=2,MIN(DT29,DU29),IF(Entries!$K$20=1,0,0)))))","v":0},0,"",null,null,null,null,null,null,null,null,{"$f":"IF(Entries!$K$20=5,MIN(EE29,EF29,EG29,EH29,EI29),IF(Entries!$K$20=4,MIN(EE29,EF29,EG29,EH29),IF(Entries!$K$20=3,MIN(EE29,EF29,EG29),IF(Entries!$K$20=2,MIN(EE29,EF29),IF(Entries!$K$20=1,0,0)))))","v":0},0,"",null,null,null,null,null,null,null,null,{"$f":"IF(Entries!$K$20=5,MIN(EP29,EQ29,ER29,ES29,ET29),IF(Entries!$K$20=4,MIN(EP29,EQ29,ER29,ES29),IF(Entries!$K$20=3,MIN(EP29,EQ29,ER29),IF(Entries!$K$20=2,MIN(EP29,EQ29),IF(Entries!$K$20=1,0,0)))))","v":0},0,"",null,null,null,null,null,null,null,null,{"$f":"IF(Entries!$K$20=5,MIN(FA29,FB29,FC29,FD29,FE29),IF(Entries!$K$20=4,MIN(FA29,FB29,FC29,FD29),IF(Entries!$K$20=3,MIN(FA29,FB29,FC29),IF(Entries!$K$20=2,MIN(FA29,FB29),IF(Entries!$K$20=1,0,0)))))","v":0},0,"",null,null,null,null,null,null,null,null,{"$f":"IF(Entries!$K$20=5,MIN(FL29,FM29,FN29,FO29,FP29),IF(Entries!$K$20=4,MIN(FL29,FM29,FN29,FO29),IF(Entries!$K$20=3,MIN(FL29,FM29,FN29),IF(Entries!$K$20=2,MIN(FL29,FM29),IF(Entries!$K$20=1,0,0)))))","v":0},0,"",null,null,null,null,null,null,null,null,{"$f":"IF(Entries!$K$20=5,MIN(FW29,FX29,FY29,FZ29,GA29),IF(Entries!$K$20=4,MIN(FW29,FX29,FY29,FZ29),IF(Entries!$K$20=3,MIN(FW29,FX29,FY29),IF(Entries!$K$20=2,MIN(FW29,FX29),IF(Entries!$K$20=1,0,0)))))","v":0},0,"",null,null,null,null,null,null,null,null,{"$f":"IF(Entries!$K$20=5,MIN(GH29,GI29,GJ29,GK29,GL29),IF(Entries!$K$20=4,MIN(GH29,GI29,GJ29,GK29),IF(Entries!$K$20=3,MIN(GH29,GI29,GJ29),IF(Entries!$K$20=2,MIN(GH29,GI29),IF(Entries!$K$20=1,0,0)))))","v":0},0,"",null,null,null,null,null,null,null,null,{"$f":"IF(Entries!$K$20=5,MIN(GS29,GT29,GU29,GV29,GW29),IF(Entries!$K$20=4,MIN(GS29,GT29,GU29,GV29),IF(Entries!$K$20=3,MIN(GS29,GT29,GU29),IF(Entries!$K$20=2,MIN(GS29,GT29),IF(Entries!$K$20=1,0,0)))))","v":0},0,"",null,null,null,null,null,null,null,null,{"$f":"IF(Entries!$K$20=5,MIN(HD29,HE29,HF29,HG29,HH29),IF(Entries!$K$20=4,MIN(HD29,HE29,HF29,HG29),IF(Entries!$K$20=3,MIN(HD29,HE29,HF29),IF(Entries!$K$20=2,MIN(HD29,HE29),IF(Entries!$K$20=1,0,0)))))","v":0},0,"",null,null,null,null,null,null,null,null,{"$f":"IF(Entries!$K$20=5,MIN(HO29,HP29,HQ29,HR29,HS29),IF(Entries!$K$20=4,MIN(HO29,HP29,HQ29,HR29),IF(Entries!$K$20=3,MIN(HO29,HP29,HQ29),IF(Entries!$K$20=2,MIN(HO29,HP29),IF(Entries!$K$20=1,0,0)))))","v":0},0,"",null,null,null,null,null,null,null,null,{"$f":"IF(Entries!$K$20=5,MIN(HZ29,IA29,IB29,IC29,ID29),IF(Entries!$K$20=4,MIN(HZ29,IA29,IB29,IC29),IF(Entries!$K$20=3,MIN(HZ29,IA29,IB29),IF(Entries!$K$20=2,MIN(HZ29,IA29),IF(Entries!$K$20=1,0,0)))))","v":0},0,""]
[null,null,null,null,null,null,null,null,{"$f":"IF(Entries!$K$20=5,MIN(C30,D30,E30,F30,G30),IF(Entries!$K$20=4,MIN(C30,D30,E30,F30),IF(Entries!$K$20=3,MIN(C30,D30,E30),IF(Entries!$K$20=2,MIN(C30,D30),IF(Entries!$K$20=1,0,0)))))","v":0},0,"",null,null,null,null,null,null,null,null,{"$f":"IF(Entries!$K$20=5,MIN(N30,O30,P30,Q30,R30),IF(Entries!$K$20=4,MIN(N30,O30,P30,Q30),IF(Entries!$K$20=3,MIN(N30,O30,P30),IF(Entries!$K$20=2,MIN(N30,O30),IF(Entries!$K$20=1,0,0)))))","v":0},0,"",null,null,null,null,null,null,null,null,{"$f":"IF(Entries!$K$20=5,MIN(Y30,Z30,AA30,AB30,AC30),IF(Entries!$K$20=4,MIN(Y30,Z30,AA30,AB30),IF(Entries!$K$20=3,MIN(Y30,Z30,AA30),IF(Entries!$K$20=2,MIN(Y30,Z30),IF(Entries!$K$20=1,0,0)))))","v":0},0,"",null,null,null,null,null,null,null,null,{"$f":"IF(Entries!$K$20=5,MIN(AJ30,AK30,AL30,AM30,AN30),IF(Entries!$K$20=4,MIN(AJ30,AK30,AL30,AM30),IF(Entries!$K$20=3,MIN(AJ30,AK30,AL30),IF(Entries!$K$20=2,MIN(AJ30,AK30),IF(Entries!$K$20=1,0,0)))))","v":0},0,"",null,null,null,null,null,null,null,null,{"$f":"IF(Entries!$K$20=5,MIN(AU30,AV30,AW30,AX30,AY30),IF(Entries!$K$20=4,MIN(AU30,AV30,AW30,AX30),IF(Entries!$K$20=3,MIN(AU30,AV30,AW30),IF(Entries!$K$20=2,MIN(AU30,AV30),IF(Entries!$K$20=1,0,0)))))","v":0},0,"",null,null,null,null,null,null,null,null,{"$f":"IF(Entries!$K$20=5,MIN(BF30,BG30,BH30,BI30,BJ30),IF(Entries!$K$20=4,MIN(BF30,BG30,BH30,BI30),IF(Entries!$K$20=3,MIN(BF30,BG30,BH30),IF(Entries!$K$20=2,MIN(BF30,BG30),IF(Entries!$K$20=1,0,0)))))","v":0},0,"",null,null,null,null,null,null,null,null,{"$f":"IF(Entries!$K$20=5,MIN(BQ30,BR30,BS30,BT30,BU30),IF(Entries!$K$20=4,MIN(BQ30,BR30,BS30,BT30),IF(Entries!$K$20=3,MIN(BQ30,BR30,BS30),IF(Entries!$K$20=2,MIN(BQ30,BR30),IF(Entries!$K$20=1,0,0)))))","v":0},0,"",null,null,null,null,null,null,null,null,{"$f":"IF(Entries!$K$20=5,MIN(CB30,CC30,CD30,CE30,CF30),IF(Entries!$K$20=4,MIN(CB30,CC30,CD30,CE30),IF(Entries!$K$20=3,MIN(CB30,CC30,CD30),IF(Entries!$K$20=2,MIN(CB30,CC30),IF(Entries!$K$20=1,0,0)))))","v":0},0,"",null,null,null,null,null,null,null,null,{"$f":"IF(Entries!$K$20=5,MIN(CM30,CN30,CO30,CP30,CQ30),IF(Entries!$K$20=4,MIN(CM30,CN30,CO30,CP30),IF(Entries!$K$20=3,MIN(CM30,CN30,CO30),IF(Entries!$K$20=2,MIN(CM30,CN30),IF(Entries!$K$20=1,0,0)))))","v":0},0,"",null,null,null,null,null,null,null,null,{"$f":"IF(Entries!$K$20=5,MIN(CX30,CY30,CZ30,DA30,DB30),IF(Entries!$K$20=4,MIN(CX30,CY30,CZ30,DA30),IF(Entries!$K$20=3,MIN(CX30,CY30,CZ30),IF(Entries!$K$20=2,MIN(CX30,CY30),IF(Entries!$K$20=1,0,0)))))","v":0},0,"",null,null,null,null,null,null,null,null,{"$f":"IF(Entries!$K$20=5,MIN(DI30,DJ30,DK30,DL30,DM30),IF(Entries!$K$20=4,MIN(DI30,DJ30,DK30,DL30),IF(Entries!$K$20=3,MIN(DI30,DJ30,DK30),IF(Entries!$K$20=2,MIN(DI30,DJ30),IF(Entries!$K$20=1,0,0)))))","v":0},0,"",null,null,null,null,null,null,null,null,{"$f":"IF(Entries!$K$20=5,MIN(DT30,DU30,DV30,DW30,DX30),IF(Entries!$K$20=4,MIN(DT30,DU30,DV30,DW30),IF(Entries!$K$20=3,MIN(DT30,DU30,DV30),IF(Entries!$K$20=2,MIN(DT30,DU30),IF(Entries!$K$20=1,0,0)))))","v":0},0,"",null,null,null,null,null,null,null,null,{"$f":"IF(Entries!$K$20=5,MIN(EE30,EF30,EG30,EH30,EI30),IF(Entries!$K$20=4,MIN(EE30,EF30,EG30,EH30),IF(Entries!$K$20=3,MIN(EE30,EF30,EG30),IF(Entries!$K$20=2,MIN(EE30,EF30),IF(Entries!$K$20=1,0,0)))))","v":0},0,"",null,null,null,null,null,null,null,null,{"$f":"IF(Entries!$K$20=5,MIN(EP30,EQ30,ER30,ES30,ET30),IF(Entries!$K$20=4,MIN(EP30,EQ30,ER30,ES30),IF(Entries!$K$20=3,MIN(EP30,EQ30,ER30),IF(Entries!$K$20=2,MIN(EP30,EQ30),IF(Entries!$K$20=1,0,0)))))","v":0},0,"",null,null,null,null,null,null,null,null,{"$f":"IF(Entries!$K$20=5,MIN(FA30,FB30,FC30,FD30,FE30),IF(Entries!$K$20=4,MIN(FA30,FB30,FC30,FD30),IF(Entries!$K$20=3,MIN(FA30,FB30,FC30),IF(Entries!$K$20=2,MIN(FA30,FB30),IF(Entries!$K$20=1,0,0)))))","v":0},0,"",null,null,null,null,null,null,null,null,{"$f":"IF(Entries!$K$20=5,MIN(FL30,FM30,FN30,FO30,FP30),IF(Entries!$K$20=4,MIN(FL30,FM30,FN30,FO30),IF(Entries!$K$20=3,MIN(FL30,FM30,FN30),IF(Entries!$K$20=2,MIN(FL30,FM30),IF(Entries!$K$20=1,0,0)))))","v":0},0,"",null,null,null,null,null,null,null,null,{"$f":"IF(Entries!$K$20=5,MIN(FW30,FX30,FY30,FZ30,GA30),IF(Entries!$K$20=4,MIN(FW30,FX30,FY30,FZ30),IF(Entries!$K$20=3,MIN(FW30,FX30,FY30),IF(Entries!$K$20=2,MIN(FW30,FX30),IF(Entries!$K$20=1,0,0)))))","v":0},0,"",null,null,null,null,null,null,null,null,{"$f":"IF(Entries!$K$20=5,MIN(GH30,GI30,GJ30,GK30,GL30),IF(Entries!$K$20=4,MIN(GH30,GI30,GJ30,GK30),IF(Entries!$K$20=3,MIN(GH30,GI30,GJ30),IF(Entries!$K$20=2,MIN(GH30,GI30),IF(Entries!$K$20=1,0,0)))))","v":0},0,"",null,null,null,null,null,null,null,null,{"$f":"IF(Entries!$K$20=5,MIN(GS30,GT30,GU30,GV30,GW30),IF(Entries!$K$20=4,MIN(GS30,GT30,GU30,GV30),IF(Entries!$K$20=3,MIN(GS30,GT30,GU30),IF(Entries!$K$20=2,MIN(GS30,GT30),IF(Entries!$K$20=1,0,0)))))","v":0},0,"",null,null,null,null,null,null,null,null,{"$f":"IF(Entries!$K$20=5,MIN(HD30,HE30,HF30,HG30,HH30),IF(Entries!$K$20=4,MIN(HD30,HE30,HF30,HG30),IF(Entries!$K$20=3,MIN(HD30,HE30,HF30),IF(Entries!$K$20=2,MIN(HD30,HE30),IF(Entries!$K$20=1,0,0)))))","v":0},0,"",null,null,null,null,null,null,null,null,{"$f":"IF(Entries!$K$20=5,MIN(HO30,HP30,HQ30,HR30,HS30),IF(Entries!$K$20=4,MIN(HO30,HP30,HQ30,HR30),IF(Entries!$K$20=3,MIN(HO30,HP30,HQ30),IF(Entries!$K$20=2,MIN(HO30,HP30),IF(Entries!$K$20=1,0,0)))))","v":0},0,"",null,null,null,null,null,null,null,null,{"$f":"IF(Entries!$K$20=5,MIN(HZ30,IA30,IB30,IC30,ID30),IF(Entries!$K$20=4,MIN(HZ30,IA30,IB30,IC30),IF(Entries!$K$20=3,MIN(HZ30,IA30,IB30),IF(Entries!$K$20=2,MIN(HZ30,IA30),IF(Entries!$K$20=1,0,0)))))","v":0},0,""]
[null,null,null,null,null,null,null,null,{"$f":"IF(Entries!$K$20=5,MIN(C31,D31,E31,F31,G31),IF(Entries!$K$20=4,MIN(C31,D31,E31,F31),IF(Entries!$K$20=3,MIN(C31,D31,E31),IF(Entries!$K$20=2,MIN(C31,D31),IF(Entries!$K$20=1,0,0)))))","v":0},0,"",null,null,null,null,null,null,null,null,{"$f":"IF(Entries!$K$20=5,MIN(N31,O31,P31,Q31,R31),IF(Entries!$K$20=4,MIN(N31,O31,P31,Q31),IF(Entries!$K$20=3,MIN(N31,O31,P31),IF(Entries!$K$20=2,MIN(N31,O31),IF(Entries!$K$20=1,0,0)))))","v":0},0,"",null,null,null,null,null,null,null,null,{"$f":"IF(Entries!$K$20=5,MIN(Y31,Z31,AA31,AB31,AC31),IF(Entries!$K$20=4,MIN(Y31,Z31,AA31,AB31),IF(Entries!$K$20=3,MIN(Y31,Z31,AA31),IF(Entries!$K$20=2,MIN(Y31,Z31),IF(Entries!$K$20=1,0,0)))))","v":0},0,"",null,null,null,null,null,null,null,null,{"$f":"IF(Entries!$K$20=5,MIN(AJ31,AK31,AL31,AM31,AN31),IF(Entries!$K$20=4,MIN(AJ31,AK31,AL31,AM31),IF(Entries!$K$20=3,MIN(AJ31,AK31,AL31),IF(Entries!$K$20=2,MIN(AJ31,AK31),IF(Entries!$K$20=1,0,0)))))","v":0},0,"",null,null,null,null,null,null,null,null,{"$f":"IF(Entries!$K$20=5,MIN(AU31,AV31,AW31,AX31,AY31),IF(Entries!$K$20=4,MIN(AU31,AV31,AW31,AX31),IF(Entries!$K$20=3,MIN(AU31,AV31,AW31),IF(Entries!$K$20=2,MIN(AU31,AV31),IF(Entries!$K$20=1,0,0)))))","v":0},0,"",null,null,null,null,null,null,null,null,{"$f":"IF(Entries!$K$20=5,MIN(BF31,BG31,BH31,BI31,BJ31),IF(Entries!$K$20=4,MIN(BF31,BG31,BH31,BI31),IF(Entries!$K$20=3,MIN(BF31,BG31,BH31),IF(Entries!$K$20=2,MIN(BF31,BG31),IF(Entries!$K$20=1,0,0)))))","v":0},0,"",null,null,null,null,null,null,null,null,{"$f":"IF(Entries!$K$20=5,MIN(BQ31,BR31,BS31,BT31,BU31),IF(Entries!$K$20=4,MIN(BQ31,BR31,BS31,BT31),IF(Entries!$K$20=3,MIN(BQ31,BR31,BS31),IF(Entries!$K$20=2,MIN(BQ31,BR31),IF(Entries!$K$20=1,0,0)))))","v":0},0,"",null,null,null,null,null,null,null,null,{"$f":"IF(Entries!$K$20=5,MIN(CB31,CC31,CD31,CE31,CF31),IF(Entries!$K$20=4,MIN(CB31,CC31,CD31,CE31),IF(Entries!$K$20=3,MIN(CB31,CC31,CD31),IF(Entries!$K$20=2,MIN(CB31,CC31),IF(Entries!$K$20=1,0,0)))))","v":0},0,"",null,null,null,null,null,null,null,null,{"$f":"IF(Entries!$K$20=5,MIN(CM31,CN31,CO31,CP31,CQ31),IF(Entries!$K$20=4,MIN(CM31,CN31,CO31,CP31),IF(Entries!$K$20=3,MIN(CM31,CN31,CO31),IF(Entries!$K$20=2,MIN(CM31,CN31),IF(Entries!$K$20=1,0,0)))))","v":0},0,"",null,null,null,null,null,null,null,null,{"$f":"IF(Entries!$K$20=5,MIN(CX31,CY31,CZ31,DA31,DB31),IF(Entries!$K$20=4,MIN(CX31,CY31,CZ31,DA31),IF(Entries!$K$20=3,MIN(CX31,CY31,CZ31),IF(Entries!$K$20=2,MIN(CX31,CY31),IF(Entries!$K$20=1,0,0)))))","v":0},0,"",null,null,null,null,null,null,null,null,{"$f":"IF(Entries!$K$20=5,MIN(DI31,DJ31,DK31,DL31,DM31),IF(Entries!$K$20=4,MIN(DI31,DJ31,DK31,DL31),IF(Entries!$K$20=3,MIN(DI31,DJ31,DK31),IF(Entries!$K$20=2,MIN(DI31,DJ31),IF(Entries!$K$20=1,0,0)))))","v":0},0,"",null,null,null,null,null,null,null,null,{"$f":"IF(Entries!$K$20=5,MIN(DT31,DU31,DV31,DW31,DX31),IF(Entries!$K$20=4,MIN(DT31,DU31,DV31,DW31),IF(Entries!$K$20=3,MIN(DT31,DU31,DV31),IF(Entries!$K$20=2,MIN(DT31,DU31),IF(Entries!$K$20=1,0,0)))))","v":0},0,"",null,null,null,null,null,null,null,null,{"$f":"IF(Entries!$K$20=5,MIN(EE31,EF31,EG31,EH31,EI31),IF(Entries!$K$20=4,MIN(EE31,EF31,EG31,EH31),IF(Entries!$K$20=3,MIN(EE31,EF31,EG31),IF(Entries!$K$20=2,MIN(EE31,EF31),IF(Entries!$K$20=1,0,0)))))","v":0},0,"",null,null,null,null,null,null,null,null,{"$f":"IF(Entries!$K$20=5,MIN(EP31,EQ31,ER31,ES31,ET31),IF(Entries!$K$20=4,MIN(EP31,EQ31,ER31,ES31),IF(Entries!$K$20=3,MIN(EP31,EQ31,ER31),IF(Entries!$K$20=2,MIN(EP31,EQ31),IF(Entries!$K$20=1,0,0)))))","v":0},0,"",null,null,null,null,null,null,null,null,{"$f":"IF(Entries!$K$20=5,MIN(FA31,FB31,FC31,FD31,FE31),IF(Entries!$K$20=4,MIN(FA31,FB31,FC31,FD31),IF(Entries!$K$20=3,MIN(FA31,FB31,FC31),IF(Entries!$K$20=2,MIN(FA31,FB31),IF(Entries!$K$20=1,0,0)))))","v":0},0,"",null,null,null,null,null,null,null,null,{"$f":"IF(Entries!$K$20=5,MIN(FL31,FM31,FN31,FO31,FP31),IF(Entries!$K$20=4,MIN(FL31,FM31,FN31,FO31),IF(Entries!$K$20=3,MIN(FL31,FM31,FN31),IF(Entries!$K$20=2,MIN(FL31,FM31),IF(Entries!$K$20=1,0,0)))))","v":0},0,"",null,null,null,null,null,null,null,null,{"$f":"IF(Entries!$K$20=5,MIN(FW31,FX31,FY31,FZ31,GA31),IF(Entries!$K$20=4,MIN(FW31,FX31,FY31,FZ31),IF(Entries!$K$20=3,MIN(FW31,FX31,FY31),IF(Entries!$K$20=2,MIN(FW31,FX31),IF(Entries!$K$20=1,0,0)))))","v":0},0,"",null,null,null,null,null,null,null,null,{"$f":"IF(Entries!$K$20=5,MIN(GH31,GI31,GJ31,GK31,GL31),IF(Entries!$K$20=4,MIN(GH31,GI31,GJ31,GK31),IF(Entries!$K$20=3,MIN(GH31,GI31,GJ31),IF(Entries!$K$20=2,MIN(GH31,GI31),IF(Entries!$K$20=1,0,0)))))","v":0},0,"",null,null,null,null,null,null,null,null,{"$f":"IF(Entries!$K$20=5,MIN(GS31,GT31,GU31,GV31,GW31),IF(Entries!$K$20=4,MIN(GS31,GT31,GU31,GV31),IF(Entries!$K$20=3,MIN(GS31,GT31,GU31),IF(Entries!$K$20=2,MIN(GS31,GT31),IF(Entries!$K$20=1,0,0)))))","v":0},0,"",null,null,null,null,null,null,null,null,{"$f":"IF(Entries!$K$20=5,MIN(HD31,HE31,HF31,HG31,HH31),IF(Entries!$K$20=4,MIN(HD31,HE31,HF31,HG31),IF(Entries!$K$20=3,MIN(HD31,HE31,HF31),IF(Entries!$K$20=2,MIN(HD31,HE31),IF(Entries!$K$20=1,0,0)))))","v":0},0,"",null,null,null,null,null,null,null,null,{"$f":"IF(Entries!$K$20=5,MIN(HO31,HP31,HQ31,HR31,HS31),IF(Entries!$K$20=4,MIN(HO31,HP31,HQ31,HR31),IF(Entries!$K$20=3,MIN(HO31,HP31,HQ31),IF(Entries!$K$20=2,MIN(HO31,HP31),IF(Entries!$K$20=1,0,0)))))","v":0},0,"",null,null,null,null,null,null,null,null,{"$f":"IF(Entries!$K$20=5,MIN(HZ31,IA31,IB31,IC31,ID31),IF(Entries!$K$20=4,MIN(HZ31,IA31,IB31,IC31),IF(Entries!$K$20=3,MIN(HZ31,IA31,IB31),IF(Entries!$K$20=2,MIN(HZ31,IA31),IF(Entries!$K$20=1,0,0)))))","v":0},0,""]
[null,null,null,null,null,null,null,null,{"$f":"IF(Entries!$K$20=5,MIN(C32,D32,E32,F32,G32),IF(Entries!$K$20=4,MIN(C32,D32,E32,F32),IF(Entries!$K$20=3,MIN(C32,D32,E32),IF(Entries!$K$20=2,MIN(C32,D32),IF(Entries!$K$20=1,0,0)))))","v":0},0,"",null,null,null,null,null,null,null,null,{"$f":"IF(Entries!$K$20=5,MIN(N32,O32,P32,Q32,R32),IF(Entries!$K$20=4,MIN(N32,O32,P32,Q32),IF(Entries!$K$20=3,MIN(N32,O32,P32),IF(Entries!$K$20=2,MIN(N32,O32),IF(Entries!$K$20=1,0,0)))))","v":0},0,"",null,null,null,null,null,null,null,null,{"$f":"IF(Entries!$K$20=5,MIN(Y32,Z32,AA32,AB32,AC32),IF(Entries!$K$20=4,MIN(Y32,Z32,AA32,AB32),IF(Entries!$K$20=3,MIN(Y32,Z32,AA32),IF(Entries!$K$20=2,MIN(Y32,Z32),IF(Entries!$K$20=1,0,0)))))","v":0},0,"",null,null,null,null,null,null,null,null,{"$f":"IF(Entries!$K$20=5,MIN(AJ32,AK32,AL32,AM32,AN32),IF(Entries!$K$20=4,MIN(AJ32,AK32,AL32,AM32),IF(Entries!$K$20=3,MIN(AJ32,AK32,AL32),IF(Entries!$K$20=2,MIN(AJ32,AK32),IF(Entries!$K$20=1,0,0)))))","v":0},0,"",null,null,null,null,null,null,null,null,{"$f":"IF(Entries!$K$20=5,MIN(AU32,AV32,AW32,AX32,AY32),IF(Entries!$K$20=4,MIN(AU32,AV32,AW32,AX32),IF(Entries!$K$20=3,MIN(AU32,AV32,AW32),IF(Entries!$K$20=2,MIN(AU32,AV32),IF(Entries!$K$20=1,0,0)))))","v":0},0,"",null,null,null,null,null,null,null,null,{"$f":"IF(Entries!$K$20=5,MIN(BF32,BG32,BH32,BI32,BJ32),IF(Entries!$K$20=4,MIN(BF32,BG32,BH32,BI32),IF(Entries!$K$20=3,MIN(BF32,BG32,BH32),IF(Entries!$K$20=2,MIN(BF32,BG32),IF(Entries!$K$20=1,0,0)))))","v":0},0,"",null,null,null,null,null,null,null,null,{"$f":"IF(Entries!$K$20=5,MIN(BQ32,BR32,BS32,BT32,BU32),IF(Entries!$K$20=4,MIN(BQ32,BR32,BS32,BT32),IF(Entries!$K$20=3,MIN(BQ32,BR32,BS32),IF(Entries!$K$20=2,MIN(BQ32,BR32),IF(Entries!$K$20=1,0,0)))))","v":0},0,"",null,null,null,null,null,null,null,null,{"$f":"IF(Entries!$K$20=5,MIN(CB32,CC32,CD32,CE32,CF32),IF(Entries!$K$20=4,MIN(CB32,CC32,CD32,CE32),IF(Entries!$K$20=3,MIN(CB32,CC32,CD32),IF(Entries!$K$20=2,MIN(CB32,CC32),IF(Entries!$K$20=1,0,0)))))","v":0},0,"",null,null,null,null,null,null,null,null,{"$f":"IF(Entries!$K$20=5,MIN(CM32,CN32,CO32,CP32,CQ32),IF(Entries!$K$20=4,MIN(CM32,CN32,CO32,CP32),IF(Entries!$K$20=3,MIN(CM32,CN32,CO32),IF(Entries!$K$20=2,MIN(CM32,CN32),IF(Entries!$K$20=1,0,0)))))","v":0},0,"",null,null,null,null,null,null,null,null,{"$f":"IF(Entries!$K$20=5,MIN(CX32,CY32,CZ32,DA32,DB32),IF(Entries!$K$20=4,MIN(CX32,CY32,CZ32,DA32),IF(Entries!$K$20=3,MIN(CX32,CY32,CZ32),IF(Entries!$K$20=2,MIN(CX32,CY32),IF(Entries!$K$20=1,0,0)))))","v":0},0,"",null,null,null,null,null,null,null,null,{"$f":"IF(Entries!$K$20=5,MIN(DI32,DJ32,DK32,DL32,DM32),IF(Entries!$K$20=4,MIN(DI32,DJ32,DK32,DL32),IF(Entries!$K$20=3,MIN(DI32,DJ32,DK32),IF(Entries!$K$20=2,MIN(DI32,DJ32),IF(Entries!$K$20=1,0,0)))))","v":0},0,"",null,null,null,null,null,null,null,null,{"$f":"IF(Entries!$K$20=5,MIN(DT32,DU32,DV32,DW32,DX32),IF(Entries!$K$20=4,MIN(DT32,DU32,DV32,DW32),IF(Entries!$K$20=3,MIN(DT32,DU32,DV32),IF(Entries!$K$20=2,MIN(DT32,DU32),IF(Entries!$K$20=1,0,0)))))","v":0},0,"",null,null,null,null,null,null,null,null,{"$f":"IF(Entries!$K$20=5,MIN(EE32,EF32,EG32,EH32,EI32),IF(Entries!$K$20=4,MIN(EE32,EF32,EG32,EH32),IF(Entries!$K$20=3,MIN(EE32,EF32,EG32),IF(Entries!$K$20=2,MIN(EE32,EF32),IF(Entries!$K$20=1,0,0)))))","v":0},0,"",null,null,null,null,null,null,null,null,{"$f":"IF(Entries!$K$20=5,MIN(EP32,EQ32,ER32,ES32,ET32),IF(Entries!$K$20=4,MIN(EP32,EQ32,ER32,ES32),IF(Entries!$K$20=3,MIN(EP32,EQ32,ER32),IF(Entries!$K$20=2,MIN(EP32,EQ32),IF(Entries!$K$20=1,0,0)))))","v":0},0,"",null,null,null,null,null,null,null,null,{"$f":"IF(Entries!$K$20=5,MIN(FA32,FB32,FC32,FD32,FE32),IF(Entries!$K$20=4,MIN(FA32,FB32,FC32,FD32),IF(Entries!$K$20=3,MIN(FA32,FB32,FC32),IF(Entries!$K$20=2,MIN(FA32,FB32),IF(Entries!$K$20=1,0,0)))))","v":0},0,"",null,null,null,null,null,null,null,null,{"$f":"IF(Entries!$K$20=5,MIN(FL32,FM32,FN32,FO32,FP32),IF(Entries!$K$20=4,MIN(FL32,FM32,FN32,FO32),IF(Entries!$K$20=3,MIN(FL32,FM32,FN32),IF(Entries!$K$20=2,MIN(FL32,FM32),IF(Entries!$K$20=1,0,0)))))","v":0},0,"",null,null,null,null,null,null,null,null,{"$f":"IF(Entries!$K$20=5,MIN(FW32,FX32,FY32,FZ32,GA32),IF(Entries!$K$20=4,MIN(FW32,FX32,FY32,FZ32),IF(Entries!$K$20=3,MIN(FW32,FX32,FY32),IF(Entries!$K$20=2,MIN(FW32,FX32),IF(Entries!$K$20=1,0,0)))))","v":0},0,"",null,null,null,null,null,null,null,null,{"$f":"IF(Entries!$K$20=5,MIN(GH32,GI32,GJ32,GK32,GL32),IF(Entries!$K$20=4,MIN(GH32,GI32,GJ32,GK32),IF(Entries!$K$20=3,MIN(GH32,GI32,GJ32),IF(Entries!$K$20=2,MIN(GH32,GI32),IF(Entries!$K$20=1,0,0)))))","v":0},0,"",null,null,null,null,null,null,null,null,{"$f":"IF(Entries!$K$20=5,MIN(GS32,GT32,GU32,GV32,GW32),IF(Entries!$K$20=4,MIN(GS32,GT32,GU32,GV32),IF(Entries!$K$20=3,MIN(GS32,GT32,GU32),IF(Entries!$K$20=2,MIN(GS32,GT32),IF(Entries!$K$20=1,0,0)))))","v":0},0,"",null,null,null,null,null,null,null,null,{"$f":"IF(Entries!$K$20=5,MIN(HD32,HE32,HF32,HG32,HH32),IF(Entries!$K$20=4,MIN(HD32,HE32,HF32,HG32),IF(Entries!$K$20=3,MIN(HD32,HE32,HF32),IF(Entries!$K$20=2,MIN(HD32,HE32),IF(Entries!$K$20=1,0,0)))))","v":0},0,"",null,null,null,null,null,null,null,null,{"$f":"IF(Entries!$K$20=5,MIN(HO32,HP32,HQ32,HR32,HS32),IF(Entries!$K$20=4,MIN(HO32,HP32,HQ32,HR32),IF(Entries!$K$20=3,MIN(HO32,HP32,HQ32),IF(Entries!$K$20=2,MIN(HO32,HP32),IF(Entries!$K$20=1,0,0)))))","v":0},0,"",null,null,null,null,null,null,null,null,{"$f":"IF(Entries!$K$20=5,MIN(HZ32,IA32,IB32,IC32,ID32),IF(Entries!$K$20=4,MIN(HZ32,IA32,IB32,IC32),IF(Entries!$K$20=3,MIN(HZ32,IA32,IB32),IF(Entries!$K$20=2,MIN(HZ32,IA32),IF(Entries!$K$20=1,0,0)))))","v":0},0,""]
[null,null,null,null,null,null,null,null,{"$f":"IF(Entries!$K$20=5,MIN(C33,D33,E33,F33,G33),IF(Entries!$K$20=4,MIN(C33,D33,E33,F33),IF(Entries!$K$20=3,MIN(C33,D33,E33),IF(Entries!$K$20=2,MIN(C33,D33),IF(Entries!$K$20=1,0,0)))))","v":0},0,"",null,null,null,null,null,null,null,null,{"$f":"IF(Entries!$K$20=5,MIN(N33,O33,P33,Q33,R33),IF(Entries!$K$20=4,MIN(N33,O33,P33,Q33),IF(Entries!$K$20=3,MIN(N33,O33,P33),IF(Entries!$K$20=2,MIN(N33,O33),IF(Entries!$K$20=1,0,0)))))","v":0},0,"",null,null,null,null,null,null,null,null,{"$f":"IF(Entries!$K$20=5,MIN(Y33,Z33,AA33,AB33,AC33),IF(Entries!$K$20=4,MIN(Y33,Z33,AA33,AB33),IF(Entries!$K$20=3,MIN(Y33,Z33,AA33),IF(Entries!$K$20=2,MIN(Y33,Z33),IF(Entries!$K$20=1,0,0)))))","v":0},0,"",null,null,null,null,null,null,null,null,{"$f":"IF(Entries!$K$20=5,MIN(AJ33,AK33,AL33,AM33,AN33),IF(Entries!$K$20=4,MIN(AJ33,AK33,AL33,AM33),IF(Entries!$K$20=3,MIN(AJ33,AK33,AL33),IF(Entries!$K$20=2,MIN(AJ33,AK33),IF(Entries!$K$20=1,0,0)))))","v":0},0,"",null,null,null,null,null,null,null,null,{"$f":"IF(Entries!$K$20=5,MIN(AU33,AV33,AW33,AX33,AY33),IF(Entries!$K$20=4,MIN(AU33,AV33,AW33,AX33),IF(Entries!$K$20=3,MIN(AU33,AV33,AW33),IF(Entries!$K$20=2,MIN(AU33,AV33),IF(Entries!$K$20=1,0,0)))))","v":0},0,"",null,null,null,null,null,null,null,null,{"$f":"IF(Entries!$K$20=5,MIN(BF33,BG33,BH33,BI33,BJ33),IF(Entries!$K$20=4,MIN(BF33,BG33,BH33,BI33),IF(Entries!$K$20=3,MIN(BF33,BG33,BH33),IF(Entries!$K$20=2,MIN(BF33,BG33),IF(Entries!$K$20=1,0,0)))))","v":0},0,"",null,null,null,null,null,null,null,null,{"$f":"IF(Entries!$K$20=5,MIN(BQ33,BR33,BS33,BT33,BU33),IF(Entries!$K$20=4,MIN(BQ33,BR33,BS33,BT33),IF(Entries!$K$20=3,MIN(BQ33,BR33,BS33),IF(Entries!$K$20=2,MIN(BQ33,BR33),IF(Entries!$K$20=1,0,0)))))","v":0},0,"",null,null,null,null,null,null,null,null,{"$f":"IF(Entries!$K$20=5,MIN(CB33,CC33,CD33,CE33,CF33),IF(Entries!$K$20=4,MIN(CB33,CC33,CD33,CE33),IF(Entries!$K$20=3,MIN(CB33,CC33,CD33),IF(Entries!$K$20=2,MIN(CB33,CC33),IF(Entries!$K$20=1,0,0)))))","v":0},0,"",null,null,null,null,null,null,null,null,{"$f":"IF(Entries!$K$20=5,MIN(CM33,CN33,CO33,CP33,CQ33),IF(Entries!$K$20=4,MIN(CM33,CN33,CO33,CP33),IF(Entries!$K$20=3,MIN(CM33,CN33,CO33),IF(Entries!$K$20=2,MIN(CM33,CN33),IF(Entries!$K$20=1,0,0)))))","v":0},0,"",null,null,null,null,null,null,null,null,{"$f":"IF(Entries!$K$20=5,MIN(CX33,CY33,CZ33,DA33,DB33),IF(Entries!$K$20=4,MIN(CX33,CY33,CZ33,DA33),IF(Entries!$K$20=3,MIN(CX33,CY33,CZ33),IF(Entries!$K$20=2,MIN(CX33,CY33),IF(Entries!$K$20=1,0,0)))))","v":0},0,"",null,null,null,null,null,null,null,null,{"$f":"IF(Entries!$K$20=5,MIN(DI33,DJ33,DK33,DL33,DM33),IF(Entries!$K$20=4,MIN(DI33,DJ33,DK33,DL33),IF(Entries!$K$20=3,MIN(DI33,DJ33,DK33),IF(Entries!$K$20=2,MIN(DI33,DJ33),IF(Entries!$K$20=1,0,0)))))","v":0},0,"",null,null,null,null,null,null,null,null,{"$f":"IF(Entries!$K$20=5,MIN(DT33,DU33,DV33,DW33,DX33),IF(Entries!$K$20=4,MIN(DT33,DU33,DV33,DW33),IF(Entries!$K$20=3,MIN(DT33,DU33,DV33),IF(Entries!$K$20=2,MIN(DT33,DU33),IF(Entries!$K$20=1,0,0)))))","v":0},0,"",null,null,null,null,null,null,null,null,{"$f":"IF(Entries!$K$20=5,MIN(EE33,EF33,EG33,EH33,EI33),IF(Entries!$K$20=4,MIN(EE33,EF33,EG33,EH33),IF(Entries!$K$20=3,MIN(EE33,EF33,EG33),IF(Entries!$K$20=2,MIN(EE33,EF33),IF(Entries!$K$20=1,0,0)))))","v":0},0,"",null,null,null,null,null,null,null,null,{"$f":"IF(Entries!$K$20=5,MIN(EP33,EQ33,ER33,ES33,ET33),IF(Entries!$K$20=4,MIN(EP33,EQ33,ER33,ES33),IF(Entries!$K$20=3,MIN(EP33,EQ33,ER33),IF(Entries!$K$20=2,MIN(EP33,EQ33),IF(Entries!$K$20=1,0,0)))))","v":0},0,"",null,null,null,null,null,null,null,null,{"$f":"IF(Entries!$K$20=5,MIN(FA33,FB33,FC33,FD33,FE33),IF(Entries!$K$20=4,MIN(FA33,FB33,FC33,FD33),IF(Entries!$K$20=3,MIN(FA33,FB33,FC33),IF(Entries!$K$20=2,MIN(FA33,FB33),IF(Entries!$K$20=1,0,0)))))","v":0},0,"",null,null,null,null,null,null,null,null,{"$f":"IF(Entries!$K$20=5,MIN(FL33,FM33,FN33,FO33,FP33),IF(Entries!$K$20=4,MIN(FL33,FM33,FN33,FO33),IF(Entries!$K$20=3,MIN(FL33,FM33,FN33),IF(Entries!$K$20=2,MIN(FL33,FM33),IF(Entries!$K$20=1,0,0)))))","v":0},0,"",null,null,null,null,null,null,null,null,{"$f":"IF(Entries!$K$20=5,MIN(FW33,FX33,FY33,FZ33,GA33),IF(Entries!$K$20=4,MIN(FW33,FX33,FY33,FZ33),IF(Entries!$K$20=3,MIN(FW33,FX33,FY33),IF(Entries!$K$20=2,MIN(FW33,FX33),IF(Entries!$K$20=1,0,0)))))","v":0},0,"",null,null,null,null,null,null,null,null,{"$f":"IF(Entries!$K$20=5,MIN(GH33,GI33,GJ33,GK33,GL33),IF(Entries!$K$20=4,MIN(GH33,GI33,GJ33,GK33),IF(Entries!$K$20=3,MIN(GH33,GI33,GJ33),IF(Entries!$K$20=2,MIN(GH33,GI33),IF(Entries!$K$20=1,0,0)))))","v":0},0,"",null,null,null,null,null,null,null,null,{"$f":"IF(Entries!$K$20=5,MIN(GS33,GT33,GU33,GV33,GW33),IF(Entries!$K$20=4,MIN(GS33,GT33,GU33,GV33),IF(Entries!$K$20=3,MIN(GS33,GT33,GU33),IF(Entries!$K$20=2,MIN(GS33,GT33),IF(Entries!$K$20=1,0,0)))))","v":0},0,"",null,null,null,null,null,null,null,null,{"$f":"IF(Entries!$K$20=5,MIN(HD33,HE33,HF33,HG33,HH33),IF(Entries!$K$20=4,MIN(HD33,HE33,HF33,HG33),IF(Entries!$K$20=3,MIN(HD33,HE33,HF33),IF(Entries!$K$20=2,MIN(HD33,HE33),IF(Entries!$K$20=1,0,0)))))","v":0},0,"",null,null,null,null,null,null,null,null,{"$f":"IF(Entries!$K$20=5,MIN(HO33,HP33,HQ33,HR33,HS33),IF(Entries!$K$20=4,MIN(HO33,HP33,HQ33,HR33),IF(Entries!$K$20=3,MIN(HO33,HP33,HQ33),IF(Entries!$K$20=2,MIN(HO33,HP33),IF(Entries!$K$20=1,0,0)))))","v":0},0,"",null,null,null,null,null,null,null,null,{"$f":"IF(Entries!$K$20=5,MIN(HZ33,IA33,IB33,IC33,ID33),IF(Entries!$K$20=4,MIN(HZ33,IA33,IB33,IC33),IF(Entries!$K$20=3,MIN(HZ33,IA33,IB33),IF(Entries!$K$20=2,MIN(HZ33,IA33),IF(Entries!$K$20=1,0,0)))))","v":0},0,""]
[null,null,null,null,null,null,null,null,{"$f":"IF(Entries!$K$20=5,MIN(C34,D34,E34,F34,G34),IF(Entries!$K$20=4,MIN(C34,D34,E34,F34),IF(Entries!$K$20=3,MIN(C34,D34,E34),IF(Entries!$K$20=2,MIN(C34,D34),IF(Entries!$K$20=1,0,0)))))","v":0},0,"",null,null,null,null,null,null,null,null,{"$f":"IF(Entries!$K$20=5,MIN(N34,O34,P34,Q34,R34),IF(Entries!$K$20=4,MIN(N34,O34,P34,Q34),IF(Entries!$K$20=3,MIN(N34,O34,P34),IF(Entries!$K$20=2,MIN(N34,O34),IF(Entries!$K$20=1,0,0)))))","v":0},0,"",null,null,null,null,null,null,null,null,{"$f":"IF(Entries!$K$20=5,MIN(Y34,Z34,AA34,AB34,AC34),IF(Entries!$K$20=4,MIN(Y34,Z34,AA34,AB34),IF(Entries!$K$20=3,MIN(Y34,Z34,AA34),IF(Entries!$K$20=2,MIN(Y34,Z34),IF(Entries!$K$20=1,0,0)))))","v":0},0,"",null,null,null,null,null,null,null,null,{"$f":"IF(Entries!$K$20=5,MIN(AJ34,AK34,AL34,AM34,AN34),IF(Entries!$K$20=4,MIN(AJ34,AK34,AL34,AM34),IF(Entries!$K$20=3,MIN(AJ34,AK34,AL34),IF(Entries!$K$20=2,MIN(AJ34,AK34),IF(Entries!$K$20=1,0,0)))))","v":0},0,"",null,null,null,null,null,null,null,null,{"$f":"IF(Entries!$K$20=5,MIN(AU34,AV34,AW34,AX34,AY34),IF(Entries!$K$20=4,MIN(AU34,AV34,AW34,AX34),IF(Entries!$K$20=3,MIN(AU34,AV34,AW34),IF(Entries!$K$20=2,MIN(AU34,AV34),IF(Entries!$K$20=1,0,0)))))","v":0},0,"",null,null,null,null,null,null,null,null,{"$f":"IF(Entries!$K$20=5,MIN(BF34,BG34,BH34,BI34,BJ34),IF(Entries!$K$20=4,MIN(BF34,BG34,BH34,BI34),IF(Entries!$K$20=3,MIN(BF34,BG34,BH34),IF(Entries!$K$20=2,MIN(BF34,BG34),IF(Entries!$K$20=1,0,0)))))","v":0},0,"",null,null,null,null,null,null,null,null,{"$f":"IF(Entries!$K$20=5,MIN(BQ34,BR34,BS34,BT34,BU34),IF(Entries!$K$20=4,MIN(BQ34,BR34,BS34,BT34),IF(Entries!$K$20=3,MIN(BQ34,BR34,BS34),IF(Entries!$K$20=2,MIN(BQ34,BR34),IF(Entries!$K$20=1,0,0)))))","v":0},0,"",null,null,null,null,null,null,null,null,{"$f":"IF(Entries!$K$20=5,MIN(CB34,CC34,CD34,CE34,CF34),IF(Entries!$K$20=4,MIN(CB34,CC34,CD34,CE34),IF(Entries!$K$20=3,MIN(CB34,CC34,CD34),IF(Entries!$K$20=2,MIN(CB34,CC34),IF(Entries!$K$20=1,0,0)))))","v":0},0,"",null,null,null,null,null,null,null,null,{"$f":"IF(Entries!$K$20=5,MIN(CM34,CN34,CO34,CP34,CQ34),IF(Entries!$K$20=4,MIN(CM34,CN34,CO34,CP34),IF(Entries!$K$20=3,MIN(CM34,CN34,CO34),IF(Entries!$K$20=2,MIN(CM34,CN34),IF(Entries!$K$20=1,0,0)))))","v":0},0,"",null,null,null,null,null,null,null,null,{"$f":"IF(Entries!$K$20=5,MIN(CX34,CY34,CZ34,DA34,DB34),IF(Entries!$K$20=4,MIN(CX34,CY34,CZ34,DA34),IF(Entries!$K$20=3,MIN(CX34,CY34,CZ34),IF(Entries!$K$20=2,MIN(CX34,CY34),IF(Entries!$K$20=1,0,0)))))","v":0},0,"",null,null,null,null,null,null,null,null,{"$f":"IF(Entries!$K$20=5,MIN(DI34,DJ34,DK34,DL34,DM34),IF(Entries!$K$20=4,MIN(DI34,DJ34,DK34,DL34),IF(Entries!$K$20=3,MIN(DI34,DJ34,DK34),IF(Entries!$K$20=2,MIN(DI34,DJ34),IF(Entries!$K$20=1,0,0)))))","v":0},0,"",null,null,null,null,null,null,null,null,{"$f":"IF(Entries!$K$20=5,MIN(DT34,DU34,DV34,DW34,DX34),IF(Entries!$K$20=4,MIN(DT34,DU34,DV34,DW34),IF(Entries!$K$20=3,MIN(DT34,DU34,DV34),IF(Entries!$K$20=2,MIN(DT34,DU34),IF(Entries!$K$20=1,0,0)))))","v":0},0,"",null,null,null,null,null,null,null,null,{"$f":"IF(Entries!$K$20=5,MIN(EE34,EF34,EG34,EH34,EI34),IF(Entries!$K$20=4,MIN(EE34,EF34,EG34,EH34),IF(Entries!$K$20=3,MIN(EE34,EF34,EG34),IF(Entries!$K$20=2,MIN(EE34,EF34),IF(Entries!$K$20=1,0,0)))))","v":0},0,"",null,null,null,null,null,null,null,null,{"$f":"IF(Entries!$K$20=5,MIN(EP34,EQ34,ER34,ES34,ET34),IF(Entries!$K$20=4,MIN(EP34,EQ34,ER34,ES34),IF(Entries!$K$20=3,MIN(EP34,EQ34,ER34),IF(Entries!$K$20=2,MIN(EP34,EQ34),IF(Entries!$K$20=1,0,0)))))","v":0},0,"",null,null,null,null,null,null,null,null,{"$f":"IF(Entries!$K$20=5,MIN(FA34,FB34,FC34,FD34,FE34),IF(Entries!$K$20=4,MIN(FA34,FB34,FC34,FD34),IF(Entries!$K$20=3,MIN(FA34,FB34,FC34),IF(Entries!$K$20=2,MIN(FA34,FB34),IF(Entries!$K$20=1,0,0)))))","v":0},0,"",null,null,null,null,null,null,null,null,{"$f":"IF(Entries!$K$20=5,MIN(FL34,FM34,FN34,FO34,FP34),IF(Entries!$K$20=4,MIN(FL34,FM34,FN34,FO34),IF(Entries!$K$20=3,MIN(FL34,FM34,FN34),IF(Entries!$K$20=2,MIN(FL34,FM34),IF(Entries!$K$20=1,0,0)))))","v":0},0,"",null,null,null,null,null,null,null,null,{"$f":"IF(Entries!$K$20=5,MIN(FW34,FX34,FY34,FZ34,GA34),IF(Entries!$K$20=4,MIN(FW34,FX34,FY34,FZ34),IF(Entries!$K$20=3,MIN(FW34,FX34,FY34),IF(Entries!$K$20=2,MIN(FW34,FX34),IF(Entries!$K$20=1,0,0)))))","v":0},0,"",null,null,null,null,null,null,null,null,{"$f":"IF(Entries!$K$20=5,MIN(GH34,GI34,GJ34,GK34,GL34),IF(Entries!$K$20=4,MIN(GH34,GI34,GJ34,GK34),IF(Entries!$K$20=3,MIN(GH34,GI34,GJ34),IF(Entries!$K$20=2,MIN(GH34,GI34),IF(Entries!$K$20=1,0,0)))))","v":0},0,"",null,null,null,null,null,null,null,null,{"$f":"IF(Entries!$K$20=5,MIN(GS34,GT34,GU34,GV34,GW34),IF(Entries!$K$20=4,MIN(GS34,GT34,GU34,GV34),IF(Entries!$K$20=3,MIN(GS34,GT34,GU34),IF(Entries!$K$20=2,MIN(GS34,GT34),IF(Entries!$K$20=1,0,0)))))","v":0},0,"",null,null,null,null,null,null,null,null,{"$f":"IF(Entries!$K$20=5,MIN(HD34,HE34,HF34,HG34,HH34),IF(Entries!$K$20=4,MIN(HD34,HE34,HF34,HG34),IF(Entries!$K$20=3,MIN(HD34,HE34,HF34),IF(Entries!$K$20=2,MIN(HD34,HE34),IF(Entries!$K$20=1,0,0)))))","v":0},0,"",null,null,null,null,null,null,null,null,{"$f":"IF(Entries!$K$20=5,MIN(HO34,HP34,HQ34,HR34,HS34),IF(Entries!$K$20=4,MIN(HO34,HP34,HQ34,HR34),IF(Entries!$K$20=3,MIN(HO34,HP34,HQ34),IF(Entries!$K$20=2,MIN(HO34,HP34),IF(Entries!$K$20=1,0,0)))))","v":0},0,"",null,null,null,null,null,null,null,null,{"$f":"IF(Entries!$K$20=5,MIN(HZ34,IA34,IB34,IC34,ID34),IF(Entries!$K$20=4,MIN(HZ34,IA34,IB34,IC34),IF(Entries!$K$20=3,MIN(HZ34,IA34,IB34),IF(Entries!$K$20=2,MIN(HZ34,IA34),IF(Entries!$K$20=1,0,0)))))","v":0},0,""]
[null,null,null,null,null,null,null,null,{"$f":"IF(Entries!$K$20=5,MIN(C35,D35,E35,F35,G35),IF(Entries!$K$20=4,MIN(C35,D35,E35,F35),IF(Entries!$K$20=3,MIN(C35,D35,E35),IF(Entries!$K$20=2,MIN(C35,D35),IF(Entries!$K$20=1,0,0)))))","v":0},0,"",null,null,null,null,null,null,null,null,{"$f":"IF(Entries!$K$20=5,MIN(N35,O35,P35,Q35,R35),IF(Entries!$K$20=4,MIN(N35,O35,P35,Q35),IF(Entries!$K$20=3,MIN(N35,O35,P35),IF(Entries!$K$20=2,MIN(N35,O35),IF(Entries!$K$20=1,0,0)))))","v":0},0,"",null,null,null,null,null,null,null,null,{"$f":"IF(Entries!$K$20=5,MIN(Y35,Z35,AA35,AB35,AC35),IF(Entries!$K$20=4,MIN(Y35,Z35,AA35,AB35),IF(Entries!$K$20=3,MIN(Y35,Z35,AA35),IF(Entries!$K$20=2,MIN(Y35,Z35),IF(Entries!$K$20=1,0,0)))))","v":0},0,"",null,null,null,null,null,null,null,null,{"$f":"IF(Entries!$K$20=5,MIN(AJ35,AK35,AL35,AM35,AN35),IF(Entries!$K$20=4,MIN(AJ35,AK35,AL35,AM35),IF(Entries!$K$20=3,MIN(AJ35,AK35,AL35),IF(Entries!$K$20=2,MIN(AJ35,AK35),IF(Entries!$K$20=1,0,0)))))","v":0},0,"",null,null,null,null,null,null,null,null,{"$f":"IF(Entries!$K$20=5,MIN(AU35,AV35,AW35,AX35,AY35),IF(Entries!$K$20=4,MIN(AU35,AV35,AW35,AX35),IF(Entries!$K$20=3,MIN(AU35,AV35,AW35),IF(Entries!$K$20=2,MIN(AU35,AV35),IF(Entries!$K$20=1,0,0)))))","v":0},0,"",null,null,null,null,null,null,null,null,{"$f":"IF(Entries!$K$20=5,MIN(BF35,BG35,BH35,BI35,BJ35),IF(Entries!$K$20=4,MIN(BF35,BG35,BH35,BI35),IF(Entries!$K$20=3,MIN(BF35,BG35,BH35),IF(Entries!$K$20=2,MIN(BF35,BG35),IF(Entries!$K$20=1,0,0)))))","v":0},0,"",null,null,null,null,null,null,null,null,{"$f":"IF(Entries!$K$20=5,MIN(BQ35,BR35,BS35,BT35,BU35),IF(Entries!$K$20=4,MIN(BQ35,BR35,BS35,BT35),IF(Entries!$K$20=3,MIN(BQ35,BR35,BS35),IF(Entries!$K$20=2,MIN(BQ35,BR35),IF(Entries!$K$20=1,0,0)))))","v":0},0,"",null,null,null,null,null,null,null,null,{"$f":"IF(Entries!$K$20=5,MIN(CB35,CC35,CD35,CE35,CF35),IF(Entries!$K$20=4,MIN(CB35,CC35,CD35,CE35),IF(Entries!$K$20=3,MIN(CB35,CC35,CD35),IF(Entries!$K$20=2,MIN(CB35,CC35),IF(Entries!$K$20=1,0,0)))))","v":0},0,"",null,null,null,null,null,null,null,null,{"$f":"IF(Entries!$K$20=5,MIN(CM35,CN35,CO35,CP35,CQ35),IF(Entries!$K$20=4,MIN(CM35,CN35,CO35,CP35),IF(Entries!$K$20=3,MIN(CM35,CN35,CO35),IF(Entries!$K$20=2,MIN(CM35,CN35),IF(Entries!$K$20=1,0,0)))))","v":0},0,"",null,null,null,null,null,null,null,null,{"$f":"IF(Entries!$K$20=5,MIN(CX35,CY35,CZ35,DA35,DB35),IF(Entries!$K$20=4,MIN(CX35,CY35,CZ35,DA35),IF(Entries!$K$20=3,MIN(CX35,CY35,CZ35),IF(Entries!$K$20=2,MIN(CX35,CY35),IF(Entries!$K$20=1,0,0)))))","v":0},0,"",null,null,null,null,null,null,null,null,{"$f":"IF(Entries!$K$20=5,MIN(DI35,DJ35,DK35,DL35,DM35),IF(Entries!$K$20=4,MIN(DI35,DJ35,DK35,DL35),IF(Entries!$K$20=3,MIN(DI35,DJ35,DK35),IF(Entries!$K$20=2,MIN(DI35,DJ35),IF(Entries!$K$20=1,0,0)))))","v":0},0,"",null,null,null,null,null,null,null,null,{"$f":"IF(Entries!$K$20=5,MIN(DT35,DU35,DV35,DW35,DX35),IF(Entries!$K$20=4,MIN(DT35,DU35,DV35,DW35),IF(Entries!$K$20=3,MIN(DT35,DU35,DV35),IF(Entries!$K$20=2,MIN(DT35,DU35),IF(Entries!$K$20=1,0,0)))))","v":0},0,"",null,null,null,null,null,null,null,null,{"$f":"IF(Entries!$K$20=5,MIN(EE35,EF35,EG35,EH35,EI35),IF(Entries!$K$20=4,MIN(EE35,EF35,EG35,EH35),IF(Entries!$K$20=3,MIN(EE35,EF35,EG35),IF(Entries!$K$20=2,MIN(EE35,EF35),IF(Entries!$K$20=1,0,0)))))","v":0},0,"",null,null,null,null,null,null,null,null,{"$f":"IF(Entries!$K$20=5,MIN(EP35,EQ35,ER35,ES35,ET35),IF(Entries!$K$20=4,MIN(EP35,EQ35,ER35,ES35),IF(Entries!$K$20=3,MIN(EP35,EQ35,ER35),IF(Entries!$K$20=2,MIN(EP35,EQ35),IF(Entries!$K$20=1,0,0)))))","v":0},0,"",null,null,null,null,null,null,null,null,{"$f":"IF(Entries!$K$20=5,MIN(FA35,FB35,FC35,FD35,FE35),IF(Entries!$K$20=4,MIN(FA35,FB35,FC35,FD35),IF(Entries!$K$20=3,MIN(FA35,FB35,FC35),IF(Entries!$K$20=2,MIN(FA35,FB35),IF(Entries!$K$20=1,0,0)))))","v":0},0,"",null,null,null,null,null,null,null,null,{"$f":"IF(Entries!$K$20=5,MIN(FL35,FM35,FN35,FO35,FP35),IF(Entries!$K$20=4,MIN(FL35,FM35,FN35,FO35),IF(Entries!$K$20=3,MIN(FL35,FM35,FN35),IF(Entries!$K$20=2,MIN(FL35,FM35),IF(Entries!$K$20=1,0,0)))))","v":0},0,"",null,null,null,null,null,null,null,null,{"$f":"IF(Entries!$K$20=5,MIN(FW35,FX35,FY35,FZ35,GA35),IF(Entries!$K$20=4,MIN(FW35,FX35,FY35,FZ35),IF(Entries!$K$20=3,MIN(FW35,FX35,FY35),IF(Entries!$K$20=2,MIN(FW35,FX35),IF(Entries!$K$20=1,0,0)))))","v":0},0,"",null,null,null,null,null,null,null,null,{"$f":"IF(Entries!$K$20=5,MIN(GH35,GI35,GJ35,GK35,GL35),IF(Entries!$K$20=4,MIN(GH35,GI35,GJ35,GK35),IF(Entries!$K$20=3,MIN(GH35,GI35,GJ35),IF(Entries!$K$20=2,MIN(GH35,GI35),IF(Entries!$K$20=1,0,0)))))","v":0},0,"",null,null,null,null,null,null,null,null,{"$f":"IF(Entries!$K$20=5,MIN(GS35,GT35,GU35,GV35,GW35),IF(Entries!$K$20=4,MIN(GS35,GT35,GU35,GV35),IF(Entries!$K$20=3,MIN(GS35,GT35,GU35),IF(Entries!$K$20=2,MIN(GS35,GT35),IF(Entries!$K$20=1,0,0)))))","v":0},0,"",null,null,null,null,null,null,null,null,{"$f":"IF(Entries!$K$20=5,MIN(HD35,HE35,HF35,HG35,HH35),IF(Entries!$K$20=4,MIN(HD35,HE35,HF35,HG35),IF(Entries!$K$20=3,MIN(HD35,HE35,HF35),IF(Entries!$K$20=2,MIN(HD35,HE35),IF(Entries!$K$20=1,0,0)))))","v":0},0,"",null,null,null,null,null,null,null,null,{"$f":"IF(Entries!$K$20=5,MIN(HO35,HP35,HQ35,HR35,HS35),IF(Entries!$K$20=4,MIN(HO35,HP35,HQ35,HR35),IF(Entries!$K$20=3,MIN(HO35,HP35,HQ35),IF(Entries!$K$20=2,MIN(HO35,HP35),IF(Entries!$K$20=1,0,0)))))","v":0},0,"",null,null,null,null,null,null,null,null,{"$f":"IF(Entries!$K$20=5,MIN(HZ35,IA35,IB35,IC35,ID35),IF(Entries!$K$20=4,MIN(HZ35,IA35,IB35,IC35),IF(Entries!$K$20=3,MIN(HZ35,IA35,IB35),IF(Entries!$K$20=2,MIN(HZ35,IA35),IF(Entries!$K$20=1,0,0)))))","v":0},0,""]
[null,null,null,null,null,null,null,null,{"$f":"IF(Entries!$K$20=5,MIN(C36,D36,E36,F36,G36),IF(Entries!$K$20=4,MIN(C36,D36,E36,F36),IF(Entries!$K$20=3,MIN(C36,D36,E36),IF(Entries!$K$20=2,MIN(C36,D36),IF(Entries!$K$20=1,0,0)))))","v":0},0,"",null,null,null,null,null,null,null,null,{"$f":"IF(Entries!$K$20=5,MIN(N36,O36,P36,Q36,R36),IF(Entries!$K$20=4,MIN(N36,O36,P36,Q36),IF(Entries!$K$20=3,MIN(N36,O36,P36),IF(Entries!$K$20=2,MIN(N36,O36),IF(Entries!$K$20=1,0,0)))))","v":0},0,"",null,null,null,null,null,null,null,null,{"$f":"IF(Entries!$K$20=5,MIN(Y36,Z36,AA36,AB36,AC36),IF(Entries!$K$20=4,MIN(Y36,Z36,AA36,AB36),IF(Entries!$K$20=3,MIN(Y36,Z36,AA36),IF(Entries!$K$20=2,MIN(Y36,Z36),IF(Entries!$K$20=1,0,0)))))","v":0},0,"",null,null,null,null,null,null,null,null,{"$f":"IF(Entries!$K$20=5,MIN(AJ36,AK36,AL36,AM36,AN36),IF(Entries!$K$20=4,MIN(AJ36,AK36,AL36,AM36),IF(Entries!$K$20=3,MIN(AJ36,AK36,AL36),IF(Entries!$K$20=2,MIN(AJ36,AK36),IF(Entries!$K$20=1,0,0)))))","v":0},0,"",null,null,null,null,null,null,null,null,{"$f":"IF(Entries!$K$20=5,MIN(AU36,AV36,AW36,AX36,AY36),IF(Entries!$K$20=4,MIN(AU36,AV36,AW36,AX36),IF(Entries!$K$20=3,MIN(AU36,AV36,AW36),IF(Entries!$K$20=2,MIN(AU36,AV36),IF(Entries!$K$20=1,0,0)))))","v":0},0,"",null,null,null,null,null,null,null,null,{"$f":"IF(Entries!$K$20=5,MIN(BF36,BG36,BH36,BI36,BJ36),IF(Entries!$K$20=4,MIN(BF36,BG36,BH36,BI36),IF(Entries!$K$20=3,MIN(BF36,BG36,BH36),IF(Entries!$K$20=2,MIN(BF36,BG36),IF(Entries!$K$20=1,0,0)))))","v":0},0,"",null,null,null,null,null,null,null,null,{"$f":"IF(Entries!$K$20=5,MIN(BQ36,BR36,BS36,BT36,BU36),IF(Entries!$K$20=4,MIN(BQ36,BR36,BS36,BT36),IF(Entries!$K$20=3,MIN(BQ36,BR36,BS36),IF(Entries!$K$20=2,MIN(BQ36,BR36),IF(Entries!$K$20=1,0,0)))))","v":0},0,"",null,null,null,null,null,null,null,null,{"$f":"IF(Entries!$K$20=5,MIN(CB36,CC36,CD36,CE36,CF36),IF(Entries!$K$20=4,MIN(CB36,CC36,CD36,CE36),IF(Entries!$K$20=3,MIN(CB36,CC36,CD36),IF(Entries!$K$20=2,MIN(CB36,CC36),IF(Entries!$K$20=1,0,0)))))","v":0},0,"",null,null,null,null,null,null,null,null,{"$f":"IF(Entries!$K$20=5,MIN(CM36,CN36,CO36,CP36,CQ36),IF(Entries!$K$20=4,MIN(CM36,CN36,CO36,CP36),IF(Entries!$K$20=3,MIN(CM36,CN36,CO36),IF(Entries!$K$20=2,MIN(CM36,CN36),IF(Entries!$K$20=1,0,0)))))","v":0},0,"",null,null,null,null,null,null,null,null,{"$f":"IF(Entries!$K$20=5,MIN(CX36,CY36,CZ36,DA36,DB36),IF(Entries!$K$20=4,MIN(CX36,CY36,CZ36,DA36),IF(Entries!$K$20=3,MIN(CX36,CY36,CZ36),IF(Entries!$K$20=2,MIN(CX36,CY36),IF(Entries!$K$20=1,0,0)))))","v":0},0,"",null,null,null,null,null,null,null,null,{"$f":"IF(Entries!$K$20=5,MIN(DI36,DJ36,DK36,DL36,DM36),IF(Entries!$K$20=4,MIN(DI36,DJ36,DK36,DL36),IF(Entries!$K$20=3,MIN(DI36,DJ36,DK36),IF(Entries!$K$20=2,MIN(DI36,DJ36),IF(Entries!$K$20=1,0,0)))))","v":0},0,"",null,null,null,null,null,null,null,null,{"$f":"IF(Entries!$K$20=5,MIN(DT36,DU36,DV36,DW36,DX36),IF(Entries!$K$20=4,MIN(DT36,DU36,DV36,DW36),IF(Entries!$K$20=3,MIN(DT36,DU36,DV36),IF(Entries!$K$20=2,MIN(DT36,DU36),IF(Entries!$K$20=1,0,0)))))","v":0},0,"",null,null,null,null,null,null,null,null,{"$f":"IF(Entries!$K$20=5,MIN(EE36,EF36,EG36,EH36,EI36),IF(Entries!$K$20=4,MIN(EE36,EF36,EG36,EH36),IF(Entries!$K$20=3,MIN(EE36,EF36,EG36),IF(Entries!$K$20=2,MIN(EE36,EF36),IF(Entries!$K$20=1,0,0)))))","v":0},0,"",null,null,null,null,null,null,null,null,{"$f":"IF(Entries!$K$20=5,MIN(EP36,EQ36,ER36,ES36,ET36),IF(Entries!$K$20=4,MIN(EP36,EQ36,ER36,ES36),IF(Entries!$K$20=3,MIN(EP36,EQ36,ER36),IF(Entries!$K$20=2,MIN(EP36,EQ36),IF(Entries!$K$20=1,0,0)))))","v":0},0,"",null,null,null,null,null,null,null,null,{"$f":"IF(Entries!$K$20=5,MIN(FA36,FB36,FC36,FD36,FE36),IF(Entries!$K$20=4,MIN(FA36,FB36,FC36,FD36),IF(Entries!$K$20=3,MIN(FA36,FB36,FC36),IF(Entries!$K$20=2,MIN(FA36,FB36),IF(Entries!$K$20=1,0,0)))))","v":0},0,"",null,null,null,null,null,null,null,null,{"$f":"IF(Entries!$K$20=5,MIN(FL36,FM36,FN36,FO36,FP36),IF(Entries!$K$20=4,MIN(FL36,FM36,FN36,FO36),IF(Entries!$K$20=3,MIN(FL36,FM36,FN36),IF(Entries!$K$20=2,MIN(FL36,FM36),IF(Entries!$K$20=1,0,0)))))","v":0},0,"",null,null,null,null,null,null,null,null,{"$f":"IF(Entries!$K$20=5,MIN(FW36,FX36,FY36,FZ36,GA36),IF(Entries!$K$20=4,MIN(FW36,FX36,FY36,FZ36),IF(Entries!$K$20=3,MIN(FW36,FX36,FY36),IF(Entries!$K$20=2,MIN(FW36,FX36),IF(Entries!$K$20=1,0,0)))))","v":0},0,"",null,null,null,null,null,null,null,null,{"$f":"IF(Entries!$K$20=5,MIN(GH36,GI36,GJ36,GK36,GL36),IF(Entries!$K$20=4,MIN(GH36,GI36,GJ36,GK36),IF(Entries!$K$20=3,MIN(GH36,GI36,GJ36),IF(Entries!$K$20=2,MIN(GH36,GI36),IF(Entries!$K$20=1,0,0)))))","v":0},0,"",null,null,null,null,null,null,null,null,{"$f":"IF(Entries!$K$20=5,MIN(GS36,GT36,GU36,GV36,GW36),IF(Entries!$K$20=4,MIN(GS36,GT36,GU36,GV36),IF(Entries!$K$20=3,MIN(GS36,GT36,GU36),IF(Entries!$K$20=2,MIN(GS36,GT36),IF(Entries!$K$20=1,0,0)))))","v":0},0,"",null,null,null,null,null,null,null,null,{"$f":"IF(Entries!$K$20=5,MIN(HD36,HE36,HF36,HG36,HH36),IF(Entries!$K$20=4,MIN(HD36,HE36,HF36,HG36),IF(Entries!$K$20=3,MIN(HD36,HE36,HF36),IF(Entries!$K$20=2,MIN(HD36,HE36),IF(Entries!$K$20=1,0,0)))))","v":0},0,"",null,null,null,null,null,null,null,null,{"$f":"IF(Entries!$K$20=5,MIN(HO36,HP36,HQ36,HR36,HS36),IF(Entries!$K$20=4,MIN(HO36,HP36,HQ36,HR36),IF(Entries!$K$20=3,MIN(HO36,HP36,HQ36),IF(Entries!$K$20=2,MIN(HO36,HP36),IF(Entries!$K$20=1,0,0)))))","v":0},0,"",null,null,null,null,null,null,null,null,{"$f":"IF(Entries!$K$20=5,MIN(HZ36,IA36,IB36,IC36,ID36),IF(Entries!$K$20=4,MIN(HZ36,IA36,IB36,IC36),IF(Entries!$K$20=3,MIN(HZ36,IA36,IB36),IF(Entries!$K$20=2,MIN(HZ36,IA36),IF(Entries!$K$20=1,0,0)))))","v":0},0,""]
[null,null,null,null,null,null,null,null,{"$f":"IF(Entries!$K$20=5,MIN(C37,D37,E37,F37,G37),IF(Entries!$K$20=4,MIN(C37,D37,E37,F37),IF(Entries!$K$20=3,MIN(C37,D37,E37),IF(Entries!$K$20=2,MIN(C37,D37),IF(Entries!$K$20=1,0,0)))))","v":0},0,"",null,null,null,null,null,null,null,null,{"$f":"IF(Entries!$K$20=5,MIN(N37,O37,P37,Q37,R37),IF(Entries!$K$20=4,MIN(N37,O37,P37,Q37),IF(Entries!$K$20=3,MIN(N37,O37,P37),IF(Entries!$K$20=2,MIN(N37,O37),IF(Entries!$K$20=1,0,0)))))","v":0},0,"",null,null,null,null,null,null,null,null,{"$f":"IF(Entries!$K$20=5,MIN(Y37,Z37,AA37,AB37,AC37),IF(Entries!$K$20=4,MIN(Y37,Z37,AA37,AB37),IF(Entries!$K$20=3,MIN(Y37,Z37,AA37),IF(Entries!$K$20=2,MIN(Y37,Z37),IF(Entries!$K$20=1,0,0)))))","v":0},0,"",null,null,null,null,null,null,null,null,{"$f":"IF(Entries!$K$20=5,MIN(AJ37,AK37,AL37,AM37,AN37),IF(Entries!$K$20=4,MIN(AJ37,AK37,AL37,AM37),IF(Entries!$K$20=3,MIN(AJ37,AK37,AL37),IF(Entries!$K$20=2,MIN(AJ37,AK37),IF(Entries!$K$20=1,0,0)))))","v":0},0,"",null,null,null,null,null,null,null,null,{"$f":"IF(Entries!$K$20=5,MIN(AU37,AV37,AW37,AX37,AY37),IF(Entries!$K$20=4,MIN(AU37,AV37,AW37,AX37),IF(Entries!$K$20=3,MIN(AU37,AV37,AW37),IF(Entries!$K$20=2,MIN(AU37,AV37),IF(Entries!$K$20=1,0,0)))))","v":0},0,"",null,null,null,null,null,null,null,null,{"$f":"IF(Entries!$K$20=5,MIN(BF37,BG37,BH37,BI37,BJ37),IF(Entries!$K$20=4,MIN(BF37,BG37,BH37,BI37),IF(Entries!$K$20=3,MIN(BF37,BG37,BH37),IF(Entries!$K$20=2,MIN(BF37,BG37),IF(Entries!$K$20=1,0,0)))))","v":0},0,"",null,null,null,null,null,null,null,null,{"$f":"IF(Entries!$K$20=5,MIN(BQ37,BR37,BS37,BT37,BU37),IF(Entries!$K$20=4,MIN(BQ37,BR37,BS37,BT37),IF(Entries!$K$20=3,MIN(BQ37,BR37,BS37),IF(Entries!$K$20=2,MIN(BQ37,BR37),IF(Entries!$K$20=1,0,0)))))","v":0},0,"",null,null,null,null,null,null,null,null,{"$f":"IF(Entries!$K$20=5,MIN(CB37,CC37,CD37,CE37,CF37),IF(Entries!$K$20=4,MIN(CB37,CC37,CD37,CE37),IF(Entries!$K$20=3,MIN(CB37,CC37,CD37),IF(Entries!$K$20=2,MIN(CB37,CC37),IF(Entries!$K$20=1,0,0)))))","v":0},0,"",null,null,null,null,null,null,null,null,{"$f":"IF(Entries!$K$20=5,MIN(CM37,CN37,CO37,CP37,CQ37),IF(Entries!$K$20=4,MIN(CM37,CN37,CO37,CP37),IF(Entries!$K$20=3,MIN(CM37,CN37,CO37),IF(Entries!$K$20=2,MIN(CM37,CN37),IF(Entries!$K$20=1,0,0)))))","v":0},0,"",null,null,null,null,null,null,null,null,{"$f":"IF(Entries!$K$20=5,MIN(CX37,CY37,CZ37,DA37,DB37),IF(Entries!$K$20=4,MIN(CX37,CY37,CZ37,DA37),IF(Entries!$K$20=3,MIN(CX37,CY37,CZ37),IF(Entries!$K$20=2,MIN(CX37,CY37),IF(Entries!$K$20=1,0,0)))))","v":0},0,"",null,null,null,null,null,null,null,null,{"$f":"IF(Entries!$K$20=5,MIN(DI37,DJ37,DK37,DL37,DM37),IF(Entries!$K$20=4,MIN(DI37,DJ37,DK37,DL37),IF(Entries!$K$20=3,MIN(DI37,DJ37,DK37),IF(Entries!$K$20=2,MIN(DI37,DJ37),IF(Entries!$K$20=1,0,0)))))","v":0},0,"",null,null,null,null,null,null,null,null,{"$f":"IF(Entries!$K$20=5,MIN(DT37,DU37,DV37,DW37,DX37),IF(Entries!$K$20=4,MIN(DT37,DU37,DV37,DW37),IF(Entries!$K$20=3,MIN(DT37,DU37,DV37),IF(Entries!$K$20=2,MIN(DT37,DU37),IF(Entries!$K$20=1,0,0)))))","v":0},0,"",null,null,null,null,null,null,null,null,{"$f":"IF(Entries!$K$20=5,MIN(EE37,EF37,EG37,EH37,EI37),IF(Entries!$K$20=4,MIN(EE37,EF37,EG37,EH37),IF(Entries!$K$20=3,MIN(EE37,EF37,EG37),IF(Entries!$K$20=2,MIN(EE37,EF37),IF(Entries!$K$20=1,0,0)))))","v":0},0,"",null,null,null,null,null,null,null,null,{"$f":"IF(Entries!$K$20=5,MIN(EP37,EQ37,ER37,ES37,ET37),IF(Entries!$K$20=4,MIN(EP37,EQ37,ER37,ES37),IF(Entries!$K$20=3,MIN(EP37,EQ37,ER37),IF(Entries!$K$20=2,MIN(EP37,EQ37),IF(Entries!$K$20=1,0,0)))))","v":0},0,"",null,null,null,null,null,null,null,null,{"$f":"IF(Entries!$K$20=5,MIN(FA37,FB37,FC37,FD37,FE37),IF(Entries!$K$20=4,MIN(FA37,FB37,FC37,FD37),IF(Entries!$K$20=3,MIN(FA37,FB37,FC37),IF(Entries!$K$20=2,MIN(FA37,FB37),IF(Entries!$K$20=1,0,0)))))","v":0},0,"",null,null,null,null,null,null,null,null,{"$f":"IF(Entries!$K$20=5,MIN(FL37,FM37,FN37,FO37,FP37),IF(Entries!$K$20=4,MIN(FL37,FM37,FN37,FO37),IF(Entries!$K$20=3,MIN(FL37,FM37,FN37),IF(Entries!$K$20=2,MIN(FL37,FM37),IF(Entries!$K$20=1,0,0)))))","v":0},0,"",null,null,null,null,null,null,null,null,{"$f":"IF(Entries!$K$20=5,MIN(FW37,FX37,FY37,FZ37,GA37),IF(Entries!$K$20=4,MIN(FW37,FX37,FY37,FZ37),IF(Entries!$K$20=3,MIN(FW37,FX37,FY37),IF(Entries!$K$20=2,MIN(FW37,FX37),IF(Entries!$K$20=1,0,0)))))","v":0},0,"",null,null,null,null,null,null,null,null,{"$f":"IF(Entries!$K$20=5,MIN(GH37,GI37,GJ37,GK37,GL37),IF(Entries!$K$20=4,MIN(GH37,GI37,GJ37,GK37),IF(Entries!$K$20=3,MIN(GH37,GI37,GJ37),IF(Entries!$K$20=2,MIN(GH37,GI37),IF(Entries!$K$20=1,0,0)))))","v":0},0,"",null,null,null,null,null,null,null,null,{"$f":"IF(Entries!$K$20=5,MIN(GS37,GT37,GU37,GV37,GW37),IF(Entries!$K$20=4,MIN(GS37,GT37,GU37,GV37),IF(Entries!$K$20=3,MIN(GS37,GT37,GU37),IF(Entries!$K$20=2,MIN(GS37,GT37),IF(Entries!$K$20=1,0,0)))))","v":0},0,"",null,null,null,null,null,null,null,null,{"$f":"IF(Entries!$K$20=5,MIN(HD37,HE37,HF37,HG37,HH37),IF(Entries!$K$20=4,MIN(HD37,HE37,HF37,HG37),IF(Entries!$K$20=3,MIN(HD37,HE37,HF37),IF(Entries!$K$20=2,MIN(HD37,HE37),IF(Entries!$K$20=1,0,0)))))","v":0},0,"",null,null,null,null,null,null,null,null,{"$f":"IF(Entries!$K$20=5,MIN(HO37,HP37,HQ37,HR37,HS37),IF(Entries!$K$20=4,MIN(HO37,HP37,HQ37,HR37),IF(Entries!$K$20=3,MIN(HO37,HP37,HQ37),IF(Entries!$K$20=2,MIN(HO37,HP37),IF(Entries!$K$20=1,0,0)))))","v":0},0,"",null,null,null,null,null,null,null,null,{"$f":"IF(Entries!$K$20=5,MIN(HZ37,IA37,IB37,IC37,ID37),IF(Entries!$K$20=4,MIN(HZ37,IA37,IB37,IC37),IF(Entries!$K$20=3,MIN(HZ37,IA37,IB37),IF(Entries!$K$20=2,MIN(HZ37,IA37),IF(Entries!$K$20=1,0,0)))))","v":0},0,""]
[null,null,null,null,null,null,null,null,{"$f":"IF(Entries!$K$20=5,MIN(C38,D38,E38,F38,G38),IF(Entries!$K$20=4,MIN(C38,D38,E38,F38),IF(Entries!$K$20=3,MIN(C38,D38,E38),IF(Entries!$K$20=2,MIN(C38,D38),IF(Entries!$K$20=1,0,0)))))","v":0},0,"",null,null,null,null,null,null,null,null,{"$f":"IF(Entries!$K$20=5,MIN(N38,O38,P38,Q38,R38),IF(Entries!$K$20=4,MIN(N38,O38,P38,Q38),IF(Entries!$K$20=3,MIN(N38,O38,P38),IF(Entries!$K$20=2,MIN(N38,O38),IF(Entries!$K$20=1,0,0)))))","v":0},0,"",null,null,null,null,null,null,null,null,{"$f":"IF(Entries!$K$20=5,MIN(Y38,Z38,AA38,AB38,AC38),IF(Entries!$K$20=4,MIN(Y38,Z38,AA38,AB38),IF(Entries!$K$20=3,MIN(Y38,Z38,AA38),IF(Entries!$K$20=2,MIN(Y38,Z38),IF(Entries!$K$20=1,0,0)))))","v":0},0,"",null,null,null,null,null,null,null,null,{"$f":"IF(Entries!$K$20=5,MIN(AJ38,AK38,AL38,AM38,AN38),IF(Entries!$K$20=4,MIN(AJ38,AK38,AL38,AM38),IF(Entries!$K$20=3,MIN(AJ38,AK38,AL38),IF(Entries!$K$20=2,MIN(AJ38,AK38),IF(Entries!$K$20=1,0,0)))))","v":0},0,"",null,null,null,null,null,null,null,null,{"$f":"IF(Entries!$K$20=5,MIN(AU38,AV38,AW38,AX38,AY38),IF(Entries!$K$20=4,MIN(AU38,AV38,AW38,AX38),IF(Entries!$K$20=3,MIN(AU38,AV38,AW38),IF(Entries!$K$20=2,MIN(AU38,AV38),IF(Entries!$K$20=1,0,0)))))","v":0},0,"",null,null,null,null,null,null,null,null,{"$f":"IF(Entries!$K$20=5,MIN(BF38,BG38,BH38,BI38,BJ38),IF(Entries!$K$20=4,MIN(BF38,BG38,BH38,BI38),IF(Entries!$K$20=3,MIN(BF38,BG38,BH38),IF(Entries!$K$20=2,MIN(BF38,BG38),IF(Entries!$K$20=1,0,0)))))","v":0},0,"",null,null,null,null,null,null,null,null,{"$f":"IF(Entries!$K$20=5,MIN(BQ38,BR38,BS38,BT38,BU38),IF(Entries!$K$20=4,MIN(BQ38,BR38,BS38,BT38),IF(Entries!$K$20=3,MIN(BQ38,BR38,BS38),IF(Entries!$K$20=2,MIN(BQ38,BR38),IF(Entries!$K$20=1,0,0)))))","v":0},0,"",null,null,null,null,null,null,null,null,{"$f":"IF(Entries!$K$20=5,MIN(CB38,CC38,CD38,CE38,CF38),IF(Entries!$K$20=4,MIN(CB38,CC38,CD38,CE38),IF(Entries!$K$20=3,MIN(CB38,CC38,CD38),IF(Entries!$K$20=2,MIN(CB38,CC38),IF(Entries!$K$20=1,0,0)))))","v":0},0,"",null,null,null,null,null,null,null,null,{"$f":"IF(Entries!$K$20=5,MIN(CM38,CN38,CO38,CP38,CQ38),IF(Entries!$K$20=4,MIN(CM38,CN38,CO38,CP38),IF(Entries!$K$20=3,MIN(CM38,CN38,CO38),IF(Entries!$K$20=2,MIN(CM38,CN38),IF(Entries!$K$20=1,0,0)))))","v":0},0,"",null,null,null,null,null,null,null,null,{"$f":"IF(Entries!$K$20=5,MIN(CX38,CY38,CZ38,DA38,DB38),IF(Entries!$K$20=4,MIN(CX38,CY38,CZ38,DA38),IF(Entries!$K$20=3,MIN(CX38,CY38,CZ38),IF(Entries!$K$20=2,MIN(CX38,CY38),IF(Entries!$K$20=1,0,0)))))","v":0},0,"",null,null,null,null,null,null,null,null,{"$f":"IF(Entries!$K$20=5,MIN(DI38,DJ38,DK38,DL38,DM38),IF(Entries!$K$20=4,MIN(DI38,DJ38,DK38,DL38),IF(Entries!$K$20=3,MIN(DI38,DJ38,DK38),IF(Entries!$K$20=2,MIN(DI38,DJ38),IF(Entries!$K$20=1,0,0)))))","v":0},0,"",null,null,null,null,null,null,null,null,{"$f":"IF(Entries!$K$20=5,MIN(DT38,DU38,DV38,DW38,DX38),IF(Entries!$K$20=4,MIN(DT38,DU38,DV38,DW38),IF(Entries!$K$20=3,MIN(DT38,DU38,DV38),IF(Entries!$K$20=2,MIN(DT38,DU38),IF(Entries!$K$20=1,0,0)))))","v":0},0,"",null,null,null,null,null,null,null,null,{"$f":"IF(Entries!$K$20=5,MIN(EE38,EF38,EG38,EH38,EI38),IF(Entries!$K$20=4,MIN(EE38,EF38,EG38,EH38),IF(Entries!$K$20=3,MIN(EE38,EF38,EG38),IF(Entries!$K$20=2,MIN(EE38,EF38),IF(Entries!$K$20=1,0,0)))))","v":0},0,"",null,null,null,null,null,null,null,null,{"$f":"IF(Entries!$K$20=5,MIN(EP38,EQ38,ER38,ES38,ET38),IF(Entries!$K$20=4,MIN(EP38,EQ38,ER38,ES38),IF(Entries!$K$20=3,MIN(EP38,EQ38,ER38),IF(Entries!$K$20=2,MIN(EP38,EQ38),IF(Entries!$K$20=1,0,0)))))","v":0},0,"",null,null,null,null,null,null,null,null,{"$f":"IF(Entries!$K$20=5,MIN(FA38,FB38,FC38,FD38,FE38),IF(Entries!$K$20=4,MIN(FA38,FB38,FC38,FD38),IF(Entries!$K$20=3,MIN(FA38,FB38,FC38),IF(Entries!$K$20=2,MIN(FA38,FB38),IF(Entries!$K$20=1,0,0)))))","v":0},0,"",null,null,null,null,null,null,null,null,{"$f":"IF(Entries!$K$20=5,MIN(FL38,FM38,FN38,FO38,FP38),IF(Entries!$K$20=4,MIN(FL38,FM38,FN38,FO38),IF(Entries!$K$20=3,MIN(FL38,FM38,FN38),IF(Entries!$K$20=2,MIN(FL38,FM38),IF(Entries!$K$20=1,0,0)))))","v":0},0,"",null,null,null,null,null,null,null,null,{"$f":"IF(Entries!$K$20=5,MIN(FW38,FX38,FY38,FZ38,GA38),IF(Entries!$K$20=4,MIN(FW38,FX38,FY38,FZ38),IF(Entries!$K$20=3,MIN(FW38,FX38,FY38),IF(Entries!$K$20=2,MIN(FW38,FX38),IF(Entries!$K$20=1,0,0)))))","v":0},0,"",null,null,null,null,null,null,null,null,{"$f":"IF(Entries!$K$20=5,MIN(GH38,GI38,GJ38,GK38,GL38),IF(Entries!$K$20=4,MIN(GH38,GI38,GJ38,GK38),IF(Entries!$K$20=3,MIN(GH38,GI38,GJ38),IF(Entries!$K$20=2,MIN(GH38,GI38),IF(Entries!$K$20=1,0,0)))))","v":0},0,"",null,null,null,null,null,null,null,null,{"$f":"IF(Entries!$K$20=5,MIN(GS38,GT38,GU38,GV38,GW38),IF(Entries!$K$20=4,MIN(GS38,GT38,GU38,GV38),IF(Entries!$K$20=3,MIN(GS38,GT38,GU38),IF(Entries!$K$20=2,MIN(GS38,GT38),IF(Entries!$K$20=1,0,0)))))","v":0},0,"",null,null,null,null,null,null,null,null,{"$f":"IF(Entries!$K$20=5,MIN(HD38,HE38,HF38,HG38,HH38),IF(Entries!$K$20=4,MIN(HD38,HE38,HF38,HG38),IF(Entries!$K$20=3,MIN(HD38,HE38,HF38),IF(Entries!$K$20=2,MIN(HD38,HE38),IF(Entries!$K$20=1,0,0)))))","v":0},0,"",null,null,null,null,null,null,null,null,{"$f":"IF(Entries!$K$20=5,MIN(HO38,HP38,HQ38,HR38,HS38),IF(Entries!$K$20=4,MIN(HO38,HP38,HQ38,HR38),IF(Entries!$K$20=3,MIN(HO38,HP38,HQ38),IF(Entries!$K$20=2,MIN(HO38,HP38),IF(Entries!$K$20=1,0,0)))))","v":0},0,"",null,null,null,null,null,null,null,null,{"$f":"IF(Entries!$K$20=5,MIN(HZ38,IA38,IB38,IC38,ID38),IF(Entries!$K$20=4,MIN(HZ38,IA38,IB38,IC38),IF(Entries!$K$20=3,MIN(HZ38,IA38,IB38),IF(Entries!$K$20=2,MIN(HZ38,IA38),IF(Entries!$K$20=1,0,0)))))","v":0},0,""]
[null,null,null,null,null,null,null,null,{"$f":"IF(Entries!$K$20=5,MIN(C39,D39,E39,F39,G39),IF(Entries!$K$20=4,MIN(C39,D39,E39,F39),IF(Entries!$K$20=3,MIN(C39,D39,E39),IF(Entries!$K$20=2,MIN(C39,D39),IF(Entries!$K$20=1,0,0)))))","v":0},0,"",null,null,null,null,null,null,null,null,{"$f":"IF(Entries!$K$20=5,MIN(N39,O39,P39,Q39,R39),IF(Entries!$K$20=4,MIN(N39,O39,P39,Q39),IF(Entries!$K$20=3,MIN(N39,O39,P39),IF(Entries!$K$20=2,MIN(N39,O39),IF(Entries!$K$20=1,0,0)))))","v":0},0,"",null,null,null,null,null,null,null,null,{"$f":"IF(Entries!$K$20=5,MIN(Y39,Z39,AA39,AB39,AC39),IF(Entries!$K$20=4,MIN(Y39,Z39,AA39,AB39),IF(Entries!$K$20=3,MIN(Y39,Z39,AA39),IF(Entries!$K$20=2,MIN(Y39,Z39),IF(Entries!$K$20=1,0,0)))))","v":0},0,"",null,null,null,null,null,null,null,null,{"$f":"IF(Entries!$K$20=5,MIN(AJ39,AK39,AL39,AM39,AN39),IF(Entries!$K$20=4,MIN(AJ39,AK39,AL39,AM39),IF(Entries!$K$20=3,MIN(AJ39,AK39,AL39),IF(Entries!$K$20=2,MIN(AJ39,AK39),IF(Entries!$K$20=1,0,0)))))","v":0},0,"",null,null,null,null,null,null,null,null,{"$f":"IF(Entries!$K$20=5,MIN(AU39,AV39,AW39,AX39,AY39),IF(Entries!$K$20=4,MIN(AU39,AV39,AW39,AX39),IF(Entries!$K$20=3,MIN(AU39,AV39,AW39),IF(Entries!$K$20=2,MIN(AU39,AV39),IF(Entries!$K$20=1,0,0)))))","v":0},0,"",null,null,null,null,null,null,null,null,{"$f":"IF(Entries!$K$20=5,MIN(BF39,BG39,BH39,BI39,BJ39),IF(Entries!$K$20=4,MIN(BF39,BG39,BH39,BI39),IF(Entries!$K$20=3,MIN(BF39,BG39,BH39),IF(Entries!$K$20=2,MIN(BF39,BG39),IF(Entries!$K$20=1,0,0)))))","v":0},0,"",null,null,null,null,null,null,null,null,{"$f":"IF(Entries!$K$20=5,MIN(BQ39,BR39,BS39,BT39,BU39),IF(Entries!$K$20=4,MIN(BQ39,BR39,BS39,BT39),IF(Entries!$K$20=3,MIN(BQ39,BR39,BS39),IF(Entries!$K$20=2,MIN(BQ39,BR39),IF(Entries!$K$20=1,0,0)))))","v":0},0,"",null,null,null,null,null,null,null,null,{"$f":"IF(Entries!$K$20=5,MIN(CB39,CC39,CD39,CE39,CF39),IF(Entries!$K$20=4,MIN(CB39,CC39,CD39,CE39),IF(Entries!$K$20=3,MIN(CB39,CC39,CD39),IF(Entries!$K$20=2,MIN(CB39,CC39),IF(Entries!$K$20=1,0,0)))))","v":0},0,"",null,null,null,null,null,null,null,null,{"$f":"IF(Entries!$K$20=5,MIN(CM39,CN39,CO39,CP39,CQ39),IF(Entries!$K$20=4,MIN(CM39,CN39,CO39,CP39),IF(Entries!$K$20=3,MIN(CM39,CN39,CO39),IF(Entries!$K$20=2,MIN(CM39,CN39),IF(Entries!$K$20=1,0,0)))))","v":0},0,"",null,null,null,null,null,null,null,null,{"$f":"IF(Entries!$K$20=5,MIN(CX39,CY39,CZ39,DA39,DB39),IF(Entries!$K$20=4,MIN(CX39,CY39,CZ39,DA39),IF(Entries!$K$20=3,MIN(CX39,CY39,CZ39),IF(Entries!$K$20=2,MIN(CX39,CY39),IF(Entries!$K$20=1,0,0)))))","v":0},0,"",null,null,null,null,null,null,null,null,{"$f":"IF(Entries!$K$20=5,MIN(DI39,DJ39,DK39,DL39,DM39),IF(Entries!$K$20=4,MIN(DI39,DJ39,DK39,DL39),IF(Entries!$K$20=3,MIN(DI39,DJ39,DK39),IF(Entries!$K$20=2,MIN(DI39,DJ39),IF(Entries!$K$20=1,0,0)))))","v":0},0,"",null,null,null,null,null,null,null,null,{"$f":"IF(Entries!$K$20=5,MIN(DT39,DU39,DV39,DW39,DX39),IF(Entries!$K$20=4,MIN(DT39,DU39,DV39,DW39),IF(Entries!$K$20=3,MIN(DT39,DU39,DV39),IF(Entries!$K$20=2,MIN(DT39,DU39),IF(Entries!$K$20=1,0,0)))))","v":0},0,"",null,null,null,null,null,null,null,null,{"$f":"IF(Entries!$K$20=5,MIN(EE39,EF39,EG39,EH39,EI39),IF(Entries!$K$20=4,MIN(EE39,EF39,EG39,EH39),IF(Entries!$K$20=3,MIN(EE39,EF39,EG39),IF(Entries!$K$20=2,MIN(EE39,EF39),IF(Entries!$K$20=1,0,0)))))","v":0},0,"",null,null,null,null,null,null,null,null,{"$f":"IF(Entries!$K$20=5,MIN(EP39,EQ39,ER39,ES39,ET39),IF(Entries!$K$20=4,MIN(EP39,EQ39,ER39,ES39),IF(Entries!$K$20=3,MIN(EP39,EQ39,ER39),IF(Entries!$K$20=2,MIN(EP39,EQ39),IF(Entries!$K$20=1,0,0)))))","v":0},0,"",null,null,null,null,null,null,null,null,{"$f":"IF(Entries!$K$20=5,MIN(FA39,FB39,FC39,FD39,FE39),IF(Entries!$K$20=4,MIN(FA39,FB39,FC39,FD39),IF(Entries!$K$20=3,MIN(FA39,FB39,FC39),IF(Entries!$K$20=2,MIN(FA39,FB39),IF(Entries!$K$20=1,0,0)))))","v":0},0,"",null,null,null,null,null,null,null,null,{"$f":"IF(Entries!$K$20=5,MIN(FL39,FM39,FN39,FO39,FP39),IF(Entries!$K$20=4,MIN(FL39,FM39,FN39,FO39),IF(Entries!$K$20=3,MIN(FL39,FM39,FN39),IF(Entries!$K$20=2,MIN(FL39,FM39),IF(Entries!$K$20=1,0,0)))))","v":0},0,"",null,null,null,null,null,null,null,null,{"$f":"IF(Entries!$K$20=5,MIN(FW39,FX39,FY39,FZ39,GA39),IF(Entries!$K$20=4,MIN(FW39,FX39,FY39,FZ39),IF(Entries!$K$20=3,MIN(FW39,FX39,FY39),IF(Entries!$K$20=2,MIN(FW39,FX39),IF(Entries!$K$20=1,0,0)))))","v":0},0,"",null,null,null,null,null,null,null,null,{"$f":"IF(Entries!$K$20=5,MIN(GH39,GI39,GJ39,GK39,GL39),IF(Entries!$K$20=4,MIN(GH39,GI39,GJ39,GK39),IF(Entries!$K$20=3,MIN(GH39,GI39,GJ39),IF(Entries!$K$20=2,MIN(GH39,GI39),IF(Entries!$K$20=1,0,0)))))","v":0},0,"",null,null,null,null,null,null,null,null,{"$f":"IF(Entries!$K$20=5,MIN(GS39,GT39,GU39,GV39,GW39),IF(Entries!$K$20=4,MIN(GS39,GT39,GU39,GV39),IF(Entries!$K$20=3,MIN(GS39,GT39,GU39),IF(Entries!$K$20=2,MIN(GS39,GT39),IF(Entries!$K$20=1,0,0)))))","v":0},0,"",null,null,null,null,null,null,null,null,{"$f":"IF(Entries!$K$20=5,MIN(HD39,HE39,HF39,HG39,HH39),IF(Entries!$K$20=4,MIN(HD39,HE39,HF39,HG39),IF(Entries!$K$20=3,MIN(HD39,HE39,HF39),IF(Entries!$K$20=2,MIN(HD39,HE39),IF(Entries!$K$20=1,0,0)))))","v":0},0,"",null,null,null,null,null,null,null,null,{"$f":"IF(Entries!$K$20=5,MIN(HO39,HP39,HQ39,HR39,HS39),IF(Entries!$K$20=4,MIN(HO39,HP39,HQ39,HR39),IF(Entries!$K$20=3,MIN(HO39,HP39,HQ39),IF(Entries!$K$20=2,MIN(HO39,HP39),IF(Entries!$K$20=1,0,0)))))","v":0},0,"",null,null,null,null,null,null,null,null,{"$f":"IF(Entries!$K$20=5,MIN(HZ39,IA39,IB39,IC39,ID39),IF(Entries!$K$20=4,MIN(HZ39,IA39,IB39,IC39),IF(Entries!$K$20=3,MIN(HZ39,IA39,IB39),IF(Entries!$K$20=2,MIN(HZ39,IA39),IF(Entries!$K$20=1,0,0)))))","v":0},0,""]
[null,null,null,null,null,null,null,null,{"$f":"IF(Entries!$K$20=5,MIN(C40,D40,E40,F40,G40),IF(Entries!$K$20=4,MIN(C40,D40,E40,F40),IF(Entries!$K$20=3,MIN(C40,D40,E40),IF(Entries!$K$20=2,MIN(C40,D40),IF(Entries!$K$20=1,0,0)))))","v":0},0,"",null,null,null,null,null,null,null,null,{"$f":"IF(Entries!$K$20=5,MIN(N40,O40,P40,Q40,R40),IF(Entries!$K$20=4,MIN(N40,O40,P40,Q40),IF(Entries!$K$20=3,MIN(N40,O40,P40),IF(Entries!$K$20=2,MIN(N40,O40),IF(Entries!$K$20=1,0,0)))))","v":0},0,"",null,null,null,null,null,null,null,null,{"$f":"IF(Entries!$K$20=5,MIN(Y40,Z40,AA40,AB40,AC40),IF(Entries!$K$20=4,MIN(Y40,Z40,AA40,AB40),IF(Entries!$K$20=3,MIN(Y40,Z40,AA40),IF(Entries!$K$20=2,MIN(Y40,Z40),IF(Entries!$K$20=1,0,0)))))","v":0},0,"",null,null,null,null,null,null,null,null,{"$f":"IF(Entries!$K$20=5,MIN(AJ40,AK40,AL40,AM40,AN40),IF(Entries!$K$20=4,MIN(AJ40,AK40,AL40,AM40),IF(Entries!$K$20=3,MIN(AJ40,AK40,AL40),IF(Entries!$K$20=2,MIN(AJ40,AK40),IF(Entries!$K$20=1,0,0)))))","v":0},0,"",null,null,null,null,null,null,null,null,{"$f":"IF(Entries!$K$20=5,MIN(AU40,AV40,AW40,AX40,AY40),IF(Entries!$K$20=4,MIN(AU40,AV40,AW40,AX40),IF(Entries!$K$20=3,MIN(AU40,AV40,AW40),IF(Entries!$K$20=2,MIN(AU40,AV40),IF(Entries!$K$20=1,0,0)))))","v":0},0,"",null,null,null,null,null,null,null,null,{"$f":"IF(Entries!$K$20=5,MIN(BF40,BG40,BH40,BI40,BJ40),IF(Entries!$K$20=4,MIN(BF40,BG40,BH40,BI40),IF(Entries!$K$20=3,MIN(BF40,BG40,BH40),IF(Entries!$K$20=2,MIN(BF40,BG40),IF(Entries!$K$20=1,0,0)))))","v":0},0,"",null,null,null,null,null,null,null,null,{"$f":"IF(Entries!$K$20=5,MIN(BQ40,BR40,BS40,BT40,BU40),IF(Entries!$K$20=4,MIN(BQ40,BR40,BS40,BT40),IF(Entries!$K$20=3,MIN(BQ40,BR40,BS40),IF(Entries!$K$20=2,MIN(BQ40,BR40),IF(Entries!$K$20=1,0,0)))))","v":0},0,"",null,null,null,null,null,null,null,null,{"$f":"IF(Entries!$K$20=5,MIN(CB40,CC40,CD40,CE40,CF40),IF(Entries!$K$20=4,MIN(CB40,CC40,CD40,CE40),IF(Entries!$K$20=3,MIN(CB40,CC40,CD40),IF(Entries!$K$20=2,MIN(CB40,CC40),IF(Entries!$K$20=1,0,0)))))","v":0},0,"",null,null,null,null,null,null,null,null,{"$f":"IF(Entries!$K$20=5,MIN(CM40,CN40,CO40,CP40,CQ40),IF(Entries!$K$20=4,MIN(CM40,CN40,CO40,CP40),IF(Entries!$K$20=3,MIN(CM40,CN40,CO40),IF(Entries!$K$20=2,MIN(CM40,CN40),IF(Entries!$K$20=1,0,0)))))","v":0},0,"",null,null,null,null,null,null,null,null,{"$f":"IF(Entries!$K$20=5,MIN(CX40,CY40,CZ40,DA40,DB40),IF(Entries!$K$20=4,MIN(CX40,CY40,CZ40,DA40),IF(Entries!$K$20=3,MIN(CX40,CY40,CZ40),IF(Entries!$K$20=2,MIN(CX40,CY40),IF(Entries!$K$20=1,0,0)))))","v":0},0,"",null,null,null,null,null,null,null,null,{"$f":"IF(Entries!$K$20=5,MIN(DI40,DJ40,DK40,DL40,DM40),IF(Entries!$K$20=4,MIN(DI40,DJ40,DK40,DL40),IF(Entries!$K$20=3,MIN(DI40,DJ40,DK40),IF(Entries!$K$20=2,MIN(DI40,DJ40),IF(Entries!$K$20=1,0,0)))))","v":0},0,"",null,null,null,null,null,null,null,null,{"$f":"IF(Entries!$K$20=5,MIN(DT40,DU40,DV40,DW40,DX40),IF(Entries!$K$20=4,MIN(DT40,DU40,DV40,DW40),IF(Entries!$K$20=3,MIN(DT40,DU40,DV40),IF(Entries!$K$20=2,MIN(DT40,DU40),IF(Entries!$K$20=1,0,0)))))","v":0},0,"",null,null,null,null,null,null,null,null,{"$f":"IF(Entries!$K$20=5,MIN(EE40,EF40,EG40,EH40,EI40),IF(Entries!$K$20=4,MIN(EE40,EF40,EG40,EH40),IF(Entries!$K$20=3,MIN(EE40,EF40,EG40),IF(Entries!$K$20=2,MIN(EE40,EF40),IF(Entries!$K$20=1,0,0)))))","v":0},0,"",null,null,null,null,null,null,null,null,{"$f":"IF(Entries!$K$20=5,MIN(EP40,EQ40,ER40,ES40,ET40),IF(Entries!$K$20=4,MIN(EP40,EQ40,ER40,ES40),IF(Entries!$K$20=3,MIN(EP40,EQ40,ER40),IF(Entries!$K$20=2,MIN(EP40,EQ40),IF(Entries!$K$20=1,0,0)))))","v":0},0,"",null,null,null,null,null,null,null,null,{"$f":"IF(Entries!$K$20=5,MIN(FA40,FB40,FC40,FD40,FE40),IF(Entries!$K$20=4,MIN(FA40,FB40,FC40,FD40),IF(Entries!$K$20=3,MIN(FA40,FB40,FC40),IF(Entries!$K$20=2,MIN(FA40,FB40),IF(Entries!$K$20=1,0,0)))))","v":0},0,"",null,null,null,null,null,null,null,null,{"$f":"IF(Entries!$K$20=5,MIN(FL40,FM40,FN40,FO40,FP40),IF(Entries!$K$20=4,MIN(FL40,FM40,FN40,FO40),IF(Entries!$K$20=3,MIN(FL40,FM40,FN40),IF(Entries!$K$20=2,MIN(FL40,FM40),IF(Entries!$K$20=1,0,0)))))","v":0},0,"",null,null,null,null,null,null,null,null,{"$f":"IF(Entries!$K$20=5,MIN(FW40,FX40,FY40,FZ40,GA40),IF(Entries!$K$20=4,MIN(FW40,FX40,FY40,FZ40),IF(Entries!$K$20=3,MIN(FW40,FX40,FY40),IF(Entries!$K$20=2,MIN(FW40,FX40),IF(Entries!$K$20=1,0,0)))))","v":0},0,"",null,null,null,null,null,null,null,null,{"$f":"IF(Entries!$K$20=5,MIN(GH40,GI40,GJ40,GK40,GL40),IF(Entries!$K$20=4,MIN(GH40,GI40,GJ40,GK40),IF(Entries!$K$20=3,MIN(GH40,GI40,GJ40),IF(Entries!$K$20=2,MIN(GH40,GI40),IF(Entries!$K$20=1,0,0)))))","v":0},0,"",null,null,null,null,null,null,null,null,{"$f":"IF(Entries!$K$20=5,MIN(GS40,GT40,GU40,GV40,GW40),IF(Entries!$K$20=4,MIN(GS40,GT40,GU40,GV40),IF(Entries!$K$20=3,MIN(GS40,GT40,GU40),IF(Entries!$K$20=2,MIN(GS40,GT40),IF(Entries!$K$20=1,0,0)))))","v":0},0,"",null,null,null,null,null,null,null,null,{"$f":"IF(Entries!$K$20=5,MIN(HD40,HE40,HF40,HG40,HH40),IF(Entries!$K$20=4,MIN(HD40,HE40,HF40,HG40),IF(Entries!$K$20=3,MIN(HD40,HE40,HF40),IF(Entries!$K$20=2,MIN(HD40,HE40),IF(Entries!$K$20=1,0,0)))))","v":0},0,"",null,null,null,null,null,null,null,null,{"$f":"IF(Entries!$K$20=5,MIN(HO40,HP40,HQ40,HR40,HS40),IF(Entries!$K$20=4,MIN(HO40,HP40,HQ40,HR40),IF(Entries!$K$20=3,MIN(HO40,HP40,HQ40),IF(Entries!$K$20=2,MIN(HO40,HP40),IF(Entries!$K$20=1,0,0)))))","v":0},0,"",null,null,null,null,null,null,null,null,{"$f":"IF(Entries!$K$20=5,MIN(HZ40,IA40,IB40,IC40,ID40),IF(Entries!$K$20=4,MIN(HZ40,IA40,IB40,IC40),IF(Entries!$K$20=3,MIN(HZ40,IA40,IB40),IF(Entries!$K$20=2,MIN(HZ40,IA40),IF(Entries!$K$20=1,0,0)))))","v":0},0,""]
[]
[null,"College","DCU",{"$f":"LARGE(C49:C81,1)","v":422},null,null,null,null,null,null,null,null,"College","DIT",{"$f":"LARGE(N49:N81,1)","v":0},null,null,null,null,null,null,null,null,"College","DKIT",{"$f":"LARGE(Y49:Y81,1)","v":0},null,null,null,null,null,null,null,null,"College","DUAC",{"$f":"LARGE(AJ49:AJ81,1)","v":0},null,null,null,null,null,null,null,null,"College","GMIT",{"$f":"LARGE(AU49:AU81,1)","v":393},null,null,null,null,null,null,null,null,"College","GMITC",{"$f":"LARGE(BF49:BF81,1)","v":306},null,null,null,null,null,null,null,null,"College","IT Tallaght",{"$f":"LARGE(BQ49:BQ81,1)","v":380},null,null,null,null,null,null,null,null,"College","ITC",{"$f":"LARGE(CB49:CB81,1)","v":391},null,null,null,null,null,null,null,null,"College","MU",{"$f":"LARGE(CM49:CM81,1)","v":380},null,null,null,null,null,null,null,null,"College","NCAD",{"$f":"LARGE(CX49:CX81,1)","v":0},null,null,null,null,null,null,null,null,"College","NUIG",{"$f":"LARGE(DI49:DI81,1)","v":471},null,null,null,null,null,null,null,null,"College","RCSI",{"$f":"LARGE(DT49:DT81,1)","v":0},null,null,null,null,null,null,null,null,"College","UCC",{"$f":"LARGE(EE49:EE81,1)","v":0},null,null,null,null,null,null,null,null,"College","UCD",{"$f":"LARGE(EP49:EP81,1)","v":534},null,null,null,null,null,null,null,null,"College","UL",{"$f":"LARGE(FA49:FA81,1)","v":0},null,null,null,null,null,null,null,null,"College","UU",{"$f":"LARGE(FL49:FL81,1)","v":0},null,null,null,null,null,null,null,null,"College","(blank)",{"$f":"LARGE(FW49:FW81,1)","v":0},null,null,null,null,null,null,null,null,"College","AAA",{"$f":"LARGE(GH49:GH81,1)","v":0},null,null,null,null,null,null,null,null,"College","BBB",{"$f":"LARGE(GS49:GS81,1)","v":0},null,null,null,null,null,null,null,null,"College","CCC",{"$f":"LARGE(HD49:HD81,1)","v":0},null,null,null,null,null,null,null,null,"College","DDD",{"$f":"LARGE(HO49:HO81,1)","v":0},null,null,null,null,null,null,null,null,"College","EEE",{"$f":"LARGE(HZ49:HZ81,1)","v":0}]
[null,"Gender","(Multiple Items)",{"$f":"LARGE(D49:D81,1)","v":437},{"$f":"C42","v":"DCU"},null,null,null,{"$f":"C44","v":"Barebow"},null,null,null,"Gender","(Multiple Items)",{"$f":"LARGE(O49:O81,1)","v":0},{"$f":"N42","v":"DIT"},null,null,null,{"$f":"N44","v":"Barebow"},null,null,null,"Gender","(Multiple Items)",{"$f":"LARGE(Z49:Z81,1)","v":0},{"$f":"Y42","v":"DKIT"},null,null,null,{"$f":"Y44","v":"Barebow"},null,null,null,"Gender","(Multiple Items)",{"$f":"LARGE(AK49:AK81,1)","v":284},{"$f":"AJ42","v":"DUAC"},null,null,null,{"$f":"AJ44","v":"Barebow"},null,null,null,"Gender","(Multiple Items)",{"$f":"LARGE(AV49:AV81,1)","v":391},{"$f":"AU42","v":"GMIT"},null,null,null,{"$f":"AU44","v":"Barebow"},null,null,null,"Gender","(Multiple Items)",{"$f":"LARGE(BG49:BG81,1)","v":0},{"$f":"BF42","v":"GMITC"},null,null,null,{"$f":"BF44","v":"Barebow"},null,null,null,"Gender","(Multiple Items)",{"$f":"LARGE(BR49:BR81,1)","v":387},{"$f":"BQ42","v":"IT Tallaght"},null,null,null,{"$f":"BQ44","v":"Barebow"},null,null,null,"Gender","(Multiple Items)",{"$f":"LARGE(CC49:CC81,1)","v":403},{"$f":"CB42","v":"ITC"},null,null,null,{"$f":"CB44","v":"Barebow"},null,null,null,"Gender","(Multiple Items)",{"$f":"LARGE(CN49:CN81,1)","v":465},{"$f":"CM42","v":"MU"},null,null,null,{"$f":"CM44","v":"Barebow"},null,null,null,"Gender","(Multiple Items)",{"$f":"LARGE(CY49:CY81,1)","v":0},{"$f":"CX42","v":"NCAD"},null,null,null,{"$f":"CX44","v":"Barebow"},null,null,null,"Gender","(Multiple Items)",{"$f":"LARGE(DJ49:DJ81,1)","v":393},{"$f":"DI42","v":"NUIG"},null,null,null,{"$f":"DI44","v":"Barebow"},null,null,null,"Gender","(Multiple Items)",{"$f":"LARGE(DU49:DU81,1)","v":0},{"$f":"DT42","v":"RCSI"},null,null,null,{"$f":"DT44","v":"Barebow"},null,null,null,"Gender","(Multiple Items)",{"$f":"LARGE(EF49:EF81,1)","v":0},{"$f":"EE42","v":"UCC"},null,null,null,{"$f":"EE44","v":"Barebow"},null,null,null,"Gender","(Multiple Items)",{"$f":"LARGE(EQ49:EQ81,1)","v":0},{"$f":"EP42","v":"UCD"},null,null,null,{"$f":"EP44","v":"Barebow"},null,null,null,"Gender","(Multiple Items)",{"$f":"LARGE(FB49:FB81,1)","v":0},{"$f":"FA42","v":"UL"},null,null,null,{"$f":"FA44","v":"Barebow"},null,null,null,"Gender","(Multiple Items)",{"$f":"LARGE(FM49:FM81,1)","v":0},{"$f":"FL42","v":"UU"},null,null,null,{"$f":"FL44","v":"Barebow"},null,null,null,"Gender","(Multiple Items)",{"$f":"LARGE(FX49:FX81,1)","v":0},{"$f":"FW42","v":"(blank)"},null,null,null,{"$f":"FW44","v":"Barebow"},null,null,null,"Gender","(Multiple Items)",{"$f":"LARGE(GI49:GI81,1)","v":0},{"$f":"GH42","v":"AAA"},null,null,null,{"$f":"GH44","v":"Barebow"},null,null,null,"Gender","(Multiple Items)",{"$f":"LARGE(GT49:GT81,1)","v":0},{"$f":"GS42","v":"BBB"},null,null,null,{"$f":"GS44","v":"Barebow"},null,null,null,"Gender","(Multiple Items)",{"$f":"LARGE(HE49:HE81,1)","v":0},{"$f":"HD42","v":"CCC"},null,null,null,{"$f":"HD44","v":"Barebow"},null,null,null,"Gender","(Multiple Items)",{"$f":"LARGE(HP49:HP81,1)","v":0},{"$f":"HO42","v":"DDD"},null,null,null,{"$f":"HO44","v":"Barebow"},null,null,null,"Gender","(Multiple Items)",{"$f":"LARGE(IA49:IA81,1)","v":0},{"$f":"HZ42","v":"EEE"},null,null,null,{"$f":"HZ44","v":"Barebow"}]
[null,"Bow","Barebow",{"$f":"LARGE(E49:E81,1)","v":465},null,null,null,null,null,null,null,null,"Bow","Barebow",{"$f":"LARGE(P49:P81,1)","v":0},null,null,null,null,null,null,null,null,"Bow","Barebow",{"$f":"LARGE(AA49:AA81,1)","v":0},null,null,null,null,null,null,null,null,"Bow","Barebow",{"$f":"LARGE(AL49:AL81,1)","v":308},null,null,null,null,null,null,null,null,"Bow","Barebow",{"$f":"LARGE(AW49:AW81,1)","v":439},null,null,null,null,null,null,null,null,"Bow","Barebow",{"$f":"LARGE(BH49:BH81,1)","v":274},null,null,null,null,null,null,null,null,"Bow","Barebow",{"$f":"LARGE(BS49:BS81,1)","v":439},null,null,null,null,null,null,null,null,"Bow","Barebow",{"$f":"LARGE(CD49:CD81,1)","v":378},null,null,null,null,null,null,null,null,"Bow","Barebow",{"$f":"LARGE(CO49:CO81,1)","v":406},null,null,null,null,null,null,null,null,"Bow","Barebow",{"$f":"LARGE(CZ49:CZ81,1)","v":0},null,null,null,null,null,null,null,null,"Bow","Barebow",{"$f":"LARGE(DK49:DK81,1)","v":383},null,null,null,null,null,null,null,null,"Bow","Barebow",{"$f":"LARGE(DV49:DV81,1)","v":326},null,null,null,null,null,null,null,null,"Bow","Barebow",{"$f":"LARGE(EG49:EG81,1)","v":232},null,null,null,null,null,null,null,null,"Bow","Barebow",{"$f":"LARGE(ER49:ER81,1)","v":0},null,null,null,null,null,null,null,null,"Bow","Barebow",{"$f":"LARGE(FC49:FC81,1)","v":0},null,null,null,null,null,null,null,null,"Bow","Barebow",{"$f":"LARGE(FN49:FN81,1)","v":0},null,null,null,null,null,null,null,null,"Bow","Barebow",{"$f":"LARGE(FY49:FY81,1)","v":0},null,null,null,null,null,null,null,null,"Bow","Barebow",{"$f":"LARGE(GJ49:GJ81,1)","v":0},null,null,null,null,null,null,null,null,"Bow","Barebow",{"$f":"LARGE(GU49:GU81,1)","v":0},null,null,null,null,null,null,null,null,"Bow","Barebow",{"$f":"LARGE(HF49:HF81,1)","v":0},null,null,null,null,null,null,null,null,"Bow","Barebow",{"$f":"LARGE(HQ49:HQ81,1)","v":0},null,null,null,null,null,null,null,null,"Bow","Barebow",{"$f":"LARGE(IB49:IB81,1)","v":0}]
[null,"Level","(Multiple Items)",{"$f":"LARGE(F49:F81,1)","v":469},null,null,null,null,null,null,null,null,"Level","(Multiple Items)",{"$f":"LARGE(Q49:Q81,1)","v":0},null,null,null,null,null,null,null,null,"Level","(Multiple Items)",{"$f":"LARGE(AB49:AB81,1)","v":0},null,null,null,null,null,null,null,null,"Level","(Multiple Items)",{"$f":"LARGE(AM49:AM81,1)","v":152},null,null,null,null,null,null,null,null,"Level","(Multiple Items)",{"$f":"LARGE(AX49:AX81,1)","v":402},null,null,null,null,null,null,null,null,"Level","(Multiple Items)",{"$f":"LARGE(BI49:BI81,1)","v":353},null,null,null,null,null,null,null,null,"Level","(Multiple Items)",{"$f":"LARGE(BT49:BT81,1)","v":395},null,null,null,null,null,null,null,null,"Level","(Multiple Items)",{"$f":"LARGE(CE49:CE81,1)","v":395},null,null,null,null,null,null,null,null,"Level","(Multiple Items)",{"$f":"LARGE(CP49:CP81,1)","v":430},null,null,null,null,null,null,null,null,"Level","(Multiple Items)",{"$f":"LARGE(DA49:DA81,1)","v":0},null,null,null,null,null,null,null,null,"Level","(Multiple Items)",{"$f":"LARGE(DL49:DL81,1)","v":348},null,null,null,null,null,null,null,null,"Level","(Multiple Items)",{"$f":"LARGE(DW49:DW81,1)","v":0},null,null,null,null,null,null,null,null,"Level","(Multiple Items)",{"$f":"LARGE(EH49:EH81,1)","v":0},null,null,null,null,null,null,null,null,"Level","(Multiple Items)",{"$f":"LARGE(ES49:ES81,1)","v":299},null,null,null,null,null,null,null,null,"Level","(Multiple Items)",{"$f":"LARGE(FD49:FD81,1)","v":0},null,null,null,null,null,null,null,null,"Level","(Multiple Items)",{"$f":"LARGE(FO49:FO81,1)","v":351},null,null,null,null,null,null,null,null,"Level","(Multiple Items)",{"$f":"LARGE(FZ49:FZ81,1)","v":0},null,null,null,null,null,null,null,null,"Level","(Multiple Items)",{"$f":"LARGE(GK49:GK81,1)","v":0},null,null,null,null,null,null,null,null,"Level","(Multiple Items)",{"$f":"LARGE(GV49:GV81,1)","v":0},null,null,null,null,null,null,null,null,"Level","(Multiple Items)",{"$f":"LARGE(HG49:HG81,1)","v":0},null,null,null,null,null,null,null,null,"Level","(Multiple Items)",{"$f":"LARGE(HR49:HR81,1)","v":0},null,null,null,null,null,null,null,null,"Level","(Multiple Items)",{"$f":"LARGE(IC49:IC81,1)","v":0}]
[null,null,null,{"$f":"LARGE(G49:G81,1)","v":486},null,null,null,null,null,null,null,null,null,null,{"$f":"LARGE(R49:R81,1)","v":0},null,null,null,null,null,null,null,null,null,null,{"$f":"LARGE(AC49:AC81,1)","v":0},null,null,null,null,null,null,null,null,null,null,{"$f":"LARGE(AN49:AN81,1)","v":319},null,null,null,null,null,null,null,null,null,null,{"$f":"LARGE(AY49:AY81,1)","v":440},null,null,null,null,null,null,null,null,null,null,{"$f":"LARGE(BJ49:BJ81,1)","v":321},null,null,null,null,null,null,null,null,null,null,{"$f":"LARGE(BU49:BU81,1)","v":384},null,null,null,null,null,null,null,null,null,null,{"$f":"LARGE(CF49:CF81,1)","v":396},null,null,null,null,null,null,null,null,null,null,{"$f":"LARGE(CQ49:CQ81,1)","v":365},null,null,null,null,null,null,null,null,null,null,{"$f":"LARGE(DB49:DB81,1)","v":0},null,null,null,null,null,null,null,null,null,null,{"$f":"LARGE(DM49:DM81,1)","v":451},null,null,null,null,null,null,null,null,null,null,{"$f":"LARGE(DX49:DX81,1)","v":0},null,null,null,null,null,null,null,null,null,null,{"$f":"LARGE(EI49:EI81,1)","v":289},null,null,null,null,null,null,null,null,null,null,{"$f":"LARGE(ET49:ET81,1)","v":398},null,null,null,null,null,null,null,null,null,null,{"$f":"LARGE(FE49:FE81,1)","v":0},null,null,null,null,null,null,null,null,null,null,{"$f":"LARGE(FP49:FP81,1)","v":279},null,null,null,null,null,null,null,null,null,null,{"$f":"LARGE(GA49:GA81,1)","v":0},null,null,null,null,null,null,null,null,null,null,{"$f":"LARGE(GL49:GL81,1)","v":0},null,null,null,null,null,null,null,null,null,null,{"$f":"LARGE(GW49:GW81,1)","v":0},null,null,null,null,null,null,null,null,null,null,{"$f":"LARGE(HH49:HH81,1)","v":0},null,null,null,null,null,null,null,null,null,null,{"$f":"LARGE(HS49:HS81,1)","v":0},null,null,null,null,null,null,null,null,null,null,{"$f":"LARGE(ID49:ID81,1)","v":0}]
[null,"Sum of Points","Column Labels",null,null,null,null,null,null,"League Score","Rank",null,"Sum of Points","Column Labels",null,null,null,null,null,null,"League Score","Rank",null,"Sum of Points","Column Labels",null,null,null,null,null,null,"League Score","Rank",null,"Sum of Points","Column Labels",null,null,null,null,null,null,"League Score","Rank",null,"Sum of Points","Column Labels",null,null,null,null,null,null,"League Score","Rank",null,"Sum of Points","Column Labels",null,null,null,null,null,null,"League Score","Rank",null,"Sum of Points","Column Labels",null,null,null,null,null,null,"League Score","Rank",null,"Sum of Points","Column Labels",null,null,null,null,null,null,"League Score","Rank",null,"Sum of Points","Column Labels",null,null,null,null,null,null,"League Score","Rank",null,"Sum of Points","Column Labels",null,null,null,null,null,null,"League Score","Rank",null,"Sum of Points","Column Labels",null,null,null,null,null,null,"League Score","Rank",null,"Sum of Points","Column Labels",null,null,null,null,null,null,"League Score","Rank",null,"Sum of Points","Column Labels",null,null,null,null,null,null,"League Score","Rank",null,"Sum of Points","Column Labels",null,null,null,null,null,null,"League Score","Rank",null,"Sum of Points","Column Labels",null,null,null,null,null,null,"League Score","Rank",null,"Sum of Points","Column Labels",null,null,null,null,null,null,"League Score","Rank",null,"Sum of Points","Column Labels",null,null,null,null,null,null,"League Score","Rank",null,"Sum of Points","Column Labels",null,null,null,null,null,null,"League Score","Rank",null,"Sum of Points","Column Labels",null,null,null,null,null,null,"League Score","Rank",null,"Sum of Points","Column Labels",null,null,null,null,null,null,"League Score","Rank",null,"Sum of Points","Column Labels",null,null,null,null,null,null,"League Score","Rank",null,"Sum of Points","Column Labels",null,null,null,null,null,null,"League Score","Rank"]
[null,"Row Labels","UL","DkIT","GMIT","DCU","NUIG","Grand Total","Lowest",null,null,null,"Row Labels","UL","DkIT","GMIT","DCU","NUIG","Grand Total","Lowest",null,null,null,"Row Labels","UL","DkIT","GMIT","DCU","NUIG","Grand Total","Lowest",null,null,null,"Row Labels","UL","DkIT","GMIT","DCU","NUIG","Grand Total","Lowest",null,null,null,"Row Labels","UL","DkIT","GMIT","DCU","NUIG","Grand Total","Lowest",null,null,null,"Row Labels","UL","DkIT","GMIT","DCU","NUIG","Grand Total","Lowest",null,null,null,"Row Labels","UL","DkIT","GMIT","DCU","NUIG","Grand Total","Lowest",null,null,null,"Row Labels","UL","DkIT","GMIT","DCU","NUIG","Grand Total","Lowest",null,null,null,"Row Labels","UL","DkIT","GMIT","DCU","NUIG","Grand Total","Lowest",null,null,null,"Row Labels","UL","DkIT","GMIT","DCU","NUIG","Grand Total","Lowest",null,null,null,"Row Labels","UL","DkIT","GMIT","DCU","NUIG","Grand Total","Lowest",null,null,null,"Row Labels","UL","DkIT","GMIT","DCU","NUIG","Grand Total","Lowest",null,null,null,"Row Labels","UL","DkIT","GMIT","DCU","NUIG","Grand Total","Lowest",null,null,null,"Row Labels","UL","DkIT","GMIT","DCU","NUIG","Grand Total","Lowest",null,null,null,"Row Labels","UL","DkIT","GMIT","DCU","NUIG","Grand Total","Lowest",null,null,null,"Row Labels","UL","DkIT","GMIT","DCU","NUIG","Grand Total","Lowest",null,null,null,"Row Labels","DCU","MU","ITC","UCD","IT Tallaght","Grand Total","Lowest",null,null,null,"Row Labels","DCU","MU","ITC","UCD","IT Tallaght","Grand Total","Lowest",null,null,null,"Row Labels","DCU","MU","ITC","UCD","IT Tallaght","Grand Total","Lowest",null,null,null,"Row Labels","DCU","MU","ITC","UCD","IT Tallaght","Grand Total","Lowest",null,null,null,"Row Labels","DCU","MU","ITC","UCD","IT Tallaght","Grand Total","Lowest",null,null,null,"Row Labels","DCU","MU","ITC","UCD","IT Tallaght","Grand Total","Lowest"]
[null,"Dean Lalor",413,394,446,469,437,2159,{"$f":"IF(Entries!$K$20=5,MIN(C49,D49,E49,F49,G49),IF(Entries!$K$20=4,MIN(C49,D49,E49,F49),IF(Entries!$K$20=3,MIN(C49,D49,E49),IF(Entries!$K$20=2,MIN(C49,D49),IF(Entries!$K$20=1,0,0)))))","v":394},{"$f":"H49-I49","v":1765},{"$f":"IF(J49>1,RANK(J49,J$49:J$81,0),\"\")","v":2},null,null,0,0,0,0,0,null,{"$f":"IF(Entries!$K$20=5,MIN(N49,O49,P49,Q49,R49),IF(Entries!$K$20=4,MIN(N49,O49,P49,Q49),IF(Entries!$K$20=3,MIN(N49,O49,P49),IF(Entries!$K$20=2,MIN(N49,O49),IF(Entries!$K$20=1,0,0)))))","v":0},{"$f":"S49-T49","v":0},{"$f":"IF(U49>1,RANK(U49,U$49:U$81,0),\"\")","v":""},null,null,0,0,0,0,0,null,{"$f":"IF(Entries!$K$20=5,MIN(Y49,Z49,AA49,AB49,AC49),IF(Entries!$K$20=4,MIN(Y49,Z49,AA49,AB49),IF(Entries!$K$20=3,MIN(Y49,Z49,AA49),IF(Entries!$K$20=2,MIN(Y49,Z49),IF(Entries!$K$20=1,0,0)))))","v":0},{"$f":"AD49-AE49","v":0},{"$f":"IF(AF49>1,RANK(AF49,AF$49:AF$81,0),\"\")","v":""},null,"Cormac Begley",0,282,253,0,267,802,{"$f":"IF(Entries!$K$20=5,MIN(AJ49,AK49,AL49,AM49,AN49),IF(Entries!$K$20=4,MIN(AJ49,AK49,AL49,AM49),IF(Entries!$K$20=3,MIN(AJ49,AK49,AL49),IF(Entries!$K$20=2,MIN(AJ49,AK49),IF(Entries!$K$20=1,0,0)))))","v":0},{"$f":"AO49-AP49","v":802},{"$f":"IF(AQ49>1,RANK(AQ49,AQ$49:AQ$81,0),\"\")","v":1},null,"Andrew Fahey",393,391,439,307,360,1890,{"$f":"IF(Entries!$K$20=5,MIN(AU49,AV49,AW49,AX49,AY49),IF(Entries!$K$20=4,MIN(AU49,AV49,AW49,AX49),IF(Entries!$K$20=3,MIN(AU49,AV49,AW49),IF(Entries!$K$20=2,MIN(AU49,AV49),IF(Entries!$K$20=1,0,0)))))","v":307},{"$f":"AZ49-BA49","v":1583},{"$f":"IF(BB49>1,RANK(BB49,BB$49:BB$81,0),\"\")","v":1},null,"Andrew Warrington",306,0,274,0,321,901,{"$f":"IF(Entries!$K$20=5,MIN(BF49,BG49,BH49,BI49,BJ49),IF(Entries!$K$20=4,MIN(BF49,BG49,BH49,BI49),IF(Entries!$K$20=3,MIN(BF49,BG49,BH49),IF(Entries!$K$20=2,MIN(BF49,BG49),IF(Entries!$K$20=1,0,0)))))","v":0},{"$f":"BK49-BL49","v":901},{"$f":"IF(BM49>1,RANK(BM49,BM$49:BM$81,0),\"\")","v":1},null,"Jamie McMahon",380,383,431,331,271,1796,{"$f":"IF(Entries!$K$20=5,MIN(BQ49,BR49,BS49,BT49,BU49),IF(Entries!$K$20=4,MIN(BQ49,BR49,BS49,BT49),IF(Entries!$K$20=3,MIN(BQ49,BR49,BS49),IF(Entries!$K$20=2,MIN(BQ49,BR49),IF(Entries!$K$20=1,0,0)))))","v":271},{"$f":"BV49-BW49","v":1525},{"$f":"IF(BX49>1,RANK(BX49,BX$49:BX$81,0),\"\")","v":1},null,"Pawel Nalecz-Nieniewski",353,364,359,357,395,1828,{"$f":"IF(Entries!$K$20=5,MIN(CB49,CC49,CD49,CE49,CF49),IF(Entries!$K$20=4,MIN(CB49,CC49,CD49,CE49),IF(Entries!$K$20=3,MIN(CB49,CC49,CD49),IF(Entries!$K$20=2,MIN(CB49,CC49),IF(Entries!$K$20=1,0,0)))))","v":353},{"$f":"CG49-CH49","v":1475},{"$f":"IF(CI49>1,RANK(CI49,CI$49:CI$81,0),\"\")","v":1},null,"Elliot Barry",241,337,348,380,322,1628,{"$f":"IF(Entries!$K$20=5,MIN(CM49,CN49,CO49,CP49,CQ49),IF(Entries!$K$20=4,MIN(CM49,CN49,CO49,CP49),IF(Entries!$K$20=3,MIN(CM49,CN49,CO49),IF(Entries!$K$20=2,MIN(CM49,CN49),IF(Entries!$K$20=1,0,0)))))","v":241},{"$f":"CR49-CS49","v":1387},{"$f":"IF(CT49>1,RANK(CT49,CT$49:CT$81,0),\"\")","v":2},null,null,0,0,0,0,0,null,{"$f":"IF(Entries!$K$20=5,MIN(CX49,CY49,CZ49,DA49,DB49),IF(Entries!$K$20=4,MIN(CX49,CY49,CZ49,DA49),IF(Entries!$K$20=3,MIN(CX49,CY49,CZ49),IF(Entries!$K$20=2,MIN(CX49,CY49),IF(Entries!$K$20=1,0,0)))))","v":0},{"$f":"DC49-DD49","v":0},{"$f":"IF(DE49>1,RANK(DE49,DE$49:DE$81,0),\"\")","v":""},null,"Conor Ó Beoláin",471,393,0,340,0,1204,{"$f":"IF(Entries!$K$20=5,MIN(DI49,DJ49,DK49,DL49,DM49),IF(Entries!$K$20=4,MIN(DI49,DJ49,DK49,DL49),IF(Entries!$K$20=3,MIN(DI49,DJ49,DK49),IF(Entries!$K$20=2,MIN(DI49,DJ49),IF(Entries!$K$20=1,0,0)))))","v":0},{"$f":"DN49-DO49","v":1204},{"$f":"IF(DP49>1,RANK(DP49,DP$49:DP$81,0),\"\")","v":1},null,"Rashed Alfuzaie",0,0,326,0,0,326,{"$f":"IF(Entries!$K$20=5,MIN(DT49,DU49,DV49,DW49,DX49),IF(Entries!$K$20=4,MIN(DT49,DU49,DV49,DW49),IF(Entries!$K$20=3,MIN(DT49,DU49,DV49),IF(Entries!$K$20=2,MIN(DT49,DU49),IF(Entries!$K$20=1,0,0)))))","v":0},{"$f":"DY49-DZ49","v":326},{"$f":"IF(EA49>1,RANK(EA49,EA$49:EA$81,0),\"\")","v":1},null,"Maorgain Siede",0,0,232,0,202,434,{"$f":"IF(Entries!$K$20=5,MIN(EE49,EF49,EG49,EH49,EI49),IF(Entries!$K$20=4,MIN(EE49,EF49,EG49,EH49),IF(Entries!$K$20=3,MIN(EE49,EF49,EG49),IF(Entries!$K$20=2,MIN(EE49,EF49),IF(Entries!$K$20=1,0,0)))))","v":0},{"$f":"EJ49-EK49","v":434},{"$f":"IF(EL49>1,RANK(EL49,EL$49:EL$81,0),\"\")","v":1},null,"Blair Flinn",534,0,0,0,0,534,{"$f":"IF(Entries!$K$20=5,MIN(EP49,EQ49,ER49,ES49,ET49),IF(Entries!$K$20=4,MIN(EP49,EQ49,ER49,ES49),IF(Entries!$K$20=3,MIN(EP49,EQ49,ER49),IF(Entries!$K$20=2,MIN(EP49,EQ49),IF(Entries!$K$20=1,0,0)))))","v":0},{"$f":"EU49-EV49","v":534},{"$f":"IF(EW49>1,RANK(EW49,EW$49:EW$81,0),\"\")","v":1},null,null,0,0,0,0,0,null,{"$f":"IF(Entries!$K$20=5,MIN(FA49,FB49,FC49,FD49,FE49),IF(Entries!$K$20=4,MIN(FA49,FB49,FC49,FD49),IF(Entries!$K$20=3,MIN(FA49,FB49,FC49),IF(Entries!$K$20=2,MIN(FA49,FB49),IF(Entries!$K$20=1,0,0)))))","v":0},{"$f":"FF49-FG49","v":0},{"$f":"IF(FH49>1,RANK(FH49,FH$49:FH$81,0),\"\")","v":""},null,"Theo De Groot",0,0,0,351,0,351,{"$f":"IF(Entries!$K$20=5,MIN(FL49,FM49,FN49,FO49,FP49),IF(Entries!$K$20=4,MIN(FL49,FM49,FN49,FO49),IF(Entries!$K$20=3,MIN(FL49,FM49,FN49),IF(Entries!$K$20=2,MIN(FL49,FM49),IF(Entries!$K$20=1,0,0)))))","v":0},{"$f":"FQ49-FR49","v":351},{"$f":"IF(FS49>1,RANK(FS49,FS$49:FS$81,0),\"\")","v":1},null,null,0,0,0,0,0,null,{"$f":"IF(Entries!$K$20=5,MIN(FW49,FX49,FY49,FZ49,GA49),IF(Entries!$K$20=4,MIN(FW49,FX49,FY49,FZ49),IF(Entries!$K$20=3,MIN(FW49,FX49,FY49),IF(Entries!$K$20=2,MIN(FW49,FX49),IF(Entries!$K$20=1,0,0)))))","v":0},{"$f":"GB49-GC49","v":0},{"$f":"IF(GD49>1,RANK(GD49,GD$49:GD$81,0),\"\")","v":""},null,null,0,0,0,0,0,null,{"$f":"IF(Entries!$K$20=5,MIN(GH49,GI49,GJ49,GK49,GL49),IF(Entries!$K$20=4,MIN(GH49,GI49,GJ49,GK49),IF(Entries!$K$20=3,MIN(GH49,GI49,GJ49),IF(Entries!$K$20=2,MIN(GH49,GI49),IF(Entries!$K$20=1,0,0)))))","v":0},{"$f":"GM49-GN49","v":0},{"$f":"IF(GO49>1,RANK(GO49,GO$49:GO$81,0),\"\")","v":""},null,null,0,0,0,0,0,null,{"$f":"IF(Entries!$K$20=5,MIN(GS49,GT49,GU49,GV49,GW49),IF(Entries!$K$20=4,MIN(GS49,GT49,GU49,GV49),IF(Entries!$K$20=3,MIN(GS49,GT49,GU49),IF(Entries!$K$20=2,MIN(GS49,GT49),IF(Entries!$K$20=1,0,0)))))","v":0},{"$f":"GX49-GY49","v":0},{"$f":"IF(GZ49>1,RANK(GZ49,GZ$49:GZ$81,0),\"\")","v":""},null,null,0,0,0,0,0,null,{"$f":"IF(Entries!$K$20=5,MIN(HD49,HE49,HF49,HG49,HH49),IF(Entries!$K$20=4,MIN(HD49,HE49,HF49,HG49),IF(Entries!$K$20=3,MIN(HD49,HE49,HF49),IF(Entries!$K$20=2,MIN(HD49,HE49),IF(Entries!$K$20=1,0,0)))))","v":0},{"$f":"HI49-HJ49","v":0},{"$f":"IF(HK49>1,RANK(HK49,HK$49:HK$81,0),\"\")","v":""},null,null,0,0,0,0,0,null,{"$f":"IF(Entries!$K$20=5,MIN(HO49,HP49,HQ49,HR49,HS49),IF(Entries!$K$20=4,MIN(HO49,HP49,HQ49,HR49),IF(Entries!$K$20=3,MIN(HO49,HP49,HQ49),IF(Entries!$K$20=2,MIN(HO49,HP49),IF(Entries!$K$20=1,0,0)))))","v":0},{"$f":"HT49-HU49","v":0},{"$f":"IF(HV49>1,RANK(HV49,HV$49:HV$81,0),\"\")","v":""},null,null,0,0,0,0,0,null,{"$f":"IF(Entries!$K$20=5,MIN(HZ49,IA49,IB49,IC49,ID49),IF(Entries!$K$20=4,MIN(HZ49,IA49,IB49,IC49),IF(Entries!$K$20=3,MIN(HZ49,IA49,IB49),IF(Entries!$K$20=2,MIN(HZ49,IA49),IF(Entries!$K$20=1,0,0)))))","v":0},{"$f":"IE49-IF49","v":0},{"$f":"IF(IG49>1,RANK(IG49,IG$49:IG$81,0),\"\")","v":""}]
[null,"Bernard O'Connor",326,411,403,379,404,1923,{"$f":"IF(Entries!$K$20=5,MIN(C50,D50,E50,F50,G50),IF(Entries!$K$20=4,MIN(C50,D50,E50,F50),IF(Entries!$K$20=3,MIN(C50,D50,E50),IF(Entries!$K$20=2,MIN(C50,D50),IF(Entries!$K$20=1,0,0)))))","v":326},{"$f":"H50-I50","v":1597},{"$f":"IF(J50>1,RANK(J50,J$49:J$81,0),\"\")","v":3},null,null,0,0,0,0,0,null,{"$f":"IF(Entries!$K$20=5,MIN(N50,O50,P50,Q50,R50),IF(Entries!$K$20=4,MIN(N50,O50,P50,Q50),IF(Entries!$K$20=3,MIN(N50,O50,P50),IF(Entries!$K$20=2,MIN(N50,O50),IF(Entries!$K$20=1,0,0)))))","v":0},{"$f":"S50-T50","v":0},{"$f":"IF(U50>1,RANK(U50,U$49:U$81,0),\"\")","v":""},null,null,0,0,0,0,0,null,{"$f":"IF(Entries!$K$20=5,MIN(Y50,Z50,AA50,AB50,AC50),IF(Entries!$K$20=4,MIN(Y50,Z50,AA50,AB50),IF(Entries!$K$20=3,MIN(Y50,Z50,AA50),IF(Entries!$K$20=2,MIN(Y50,Z50),IF(Entries!$K$20=1,0,0)))))","v":0},{"$f":"AD50-AE50","v":0},{"$f":"IF(AF50>1,RANK(AF50,AF$49:AF$81,0),\"\")","v":""},null,"Jack Buttery",0,144,308,0,319,771,{"$f":"IF(Entries!$K$20=5,MIN(AJ50,AK50,AL50,AM50,AN50),IF(Entries!$K$20=4,MIN(AJ50,AK50,AL50,AM50),IF(Entries!$K$20=3,MIN(AJ50,AK50,AL50),IF(Entries!$K$20=2,MIN(AJ50,AK50),IF(Entries!$K$20=1,0,0)))))","v":0},{"$f":"AO50-AP50","v":771},{"$f":"IF(AQ50>1,RANK(AQ50,AQ$49:AQ$81,0),\"\")","v":2},null,"Siobhán Tuffy",365,388,420,234,201,1608,{"$f":"IF(Entries!$K$20=5,MIN(AU50,AV50,AW50,AX50,AY50),IF(Entries!$K$20=4,MIN(AU50,AV50,AW50,AX50),IF(Entries!$K$20=3,MIN(AU50,AV50,AW50),IF(Entries!$K$20=2,MIN(AU50,AV50),IF(Entries!$K$20=1,0,0)))))","v":201},{"$f":"AZ50-BA50","v":1407},{"$f":"IF(BB50>1,RANK(BB50,BB$49:BB$81,0),\"\")","v":3},null,"Caroline Clarke",283,0,167,181,260,891,{"$f":"IF(Entries!$K$20=5,MIN(BF50,BG50,BH50,BI50,BJ50),IF(Entries!$K$20=4,MIN(BF50,BG50,BH50,BI50),IF(Entries!$K$20=3,MIN(BF50,BG50,BH50),IF(Entries!$K$20=2,MIN(BF50,BG50),IF(Entries!$K$20=1,0,0)))))","v":0},{"$f":"BK50-BL50","v":891},{"$f":"IF(BM50>1,RANK(BM50,BM$49:BM$81,0),\"\")","v":2},null,"Shannon Birch",261,387,351,0,384,1383,{"$f":"IF(Entries!$K$20=5,MIN(BQ50,BR50,BS50,BT50,BU50),IF(Entries!$K$20=4,MIN(BQ50,BR50,BS50,BT50),IF(Entries!$K$20=3,MIN(BQ50,BR50,BS50),IF(Entries!$K$20=2,MIN(BQ50,BR50),IF(Entries!$K$20=1,0,0)))))","v":0},{"$f":"BV50-BW50","v":1383},{"$f":"IF(BX50>1,RANK(BX50,BX$49:BX$81,0),\"\")","v":2},null,"Yingbo Li",154,239,378,395,396,1562,{"$f":"IF(Entries!$K$20=5,MIN(CB50,CC50,CD50,CE50,CF50),IF(Entries!$K$20=4,MIN(CB50,CC50,CD50,CE50),IF(Entries!$K$20=3,MIN(CB50,CC50,CD50),IF(Entries!$K$20=2,MIN(CB50,CC50),IF(Entries!$K$20=1,0,0)))))","v":154},{"$f":"CG50-CH50","v":1408},{"$f":"IF(CI50>1,RANK(CI50,CI$49:CI$81,0),\"\")","v":2},null,"Sean Potts",0,327,406,325,365,1423,{"$f":"IF(Entries!$K$20=5,MIN(CM50,CN50,CO50,CP50,CQ50),IF(Entries!$K$20=4,MIN(CM50,CN50,CO50,CP50),IF(Entries!$K$20=3,MIN(CM50,CN50,CO50),IF(Entries!$K$20=2,MIN(CM50,CN50),IF(Entries!$K$20=1,0,0)))))","v":0},{"$f":"CR50-CS50","v":1423},{"$f":"IF(CT50>1,RANK(CT50,CT$49:CT$81,0),\"\")","v":1},null,null,0,0,0,0,0,null,{"$f":"IF(Entries!$K$20=5,MIN(CX50,CY50,CZ50,DA50,DB50),IF(Entries!$K$20=4,MIN(CX50,CY50,CZ50,DA50),IF(Entries!$K$20=3,MIN(CX50,CY50,CZ50),IF(Entries!$K$20=2,MIN(CX50,CY50),IF(Entries!$K$20=1,0,0)))))","v":0},{"$f":"DC50-DD50","v":0},{"$f":"IF(DE50>1,RANK(DE50,DE$49:DE$81,0),\"\")","v":""},null,"Katie Kruse",0,0,303,262,421,986,{"$f":"IF(Entries!$K$20=5,MIN(DI50,DJ50,DK50,DL50,DM50),IF(Entries!$K$20=4,MIN(DI50,DJ50,DK50,DL50),IF(Entries!$K$20=3,MIN(DI50,DJ50,DK50),IF(Entries!$K$20=2,MIN(DI50,DJ50),IF(Entries!$K$20=1,0,0)))))","v":0},{"$f":"DN50-DO50","v":986},{"$f":"IF(DP50>1,RANK(DP50,DP$49:DP$81,0),\"\")","v":2},null,"Nik Idlan Faiq",0,0,166,0,0,166,{"$f":"IF(Entries!$K$20=5,MIN(DT50,DU50,DV50,DW50,DX50),IF(Entries!$K$20=4,MIN(DT50,DU50,DV50,DW50),IF(Entries!$K$20=3,MIN(DT50,DU50,DV50),IF(Entries!$K$20=2,MIN(DT50,DU50),IF(Entries!$K$20=1,0,0)))))","v":0},{"$f":"DY50-DZ50","v":166},{"$f":"IF(EA50>1,RANK(EA50,EA$49:EA$81,0),\"\")","v":2},null,"Amy Garde",0,0,0,0,289,289,{"$f":"IF(Entries!$K$20=5,MIN(EE50,EF50,EG50,EH50,EI50),IF(Entries!$K$20=4,MIN(EE50,EF50,EG50,EH50),IF(Entries!$K$20=3,MIN(EE50,EF50,EG50),IF(Entries!$K$20=2,MIN(EE50,EF50),IF(Entries!$K$20=1,0,0)))))","v":0},{"$f":"EJ50-EK50","v":289},{"$f":"IF(EL50>1,RANK(EL50,EL$49:EL$81,0),\"\")","v":2},null,"Domagoj Kos",0,0,0,0,398,398,{"$f":"IF(Entries!$K$20=5,MIN(EP50,EQ50,ER50,ES50,ET50),IF(Entries!$K$20=4,MIN(EP50,EQ50,ER50,ES50),IF(Entries!$K$20=3,MIN(EP50,EQ50,ER50),IF(Entries!$K$20=2,MIN(EP50,EQ50),IF(Entries!$K$20=1,0,0)))))","v":0},{"$f":"EU50-EV50","v":398},{"$f":"IF(EW50>1,RANK(EW50,EW$49:EW$81,0),\"\")","v":2},null,null,0,0,0,0,0,null,{"$f":"IF(Entries!$K$20=5,MIN(FA50,FB50,FC50,FD50,FE50),IF(Entries!$K$20=4,MIN(FA50,FB50,FC50,FD50),IF(Entries!$K$20=3,MIN(FA50,FB50,FC50),IF(Entries!$K$20=2,MIN(FA50,FB50),IF(Entries!$K$20=1,0,0)))))","v":0},{"$f":"FF50-FG50","v":0},{"$f":"IF(FH50>1,RANK(FH50,FH$49:FH$81,0),\"\")","v":""},null,"Jonnie Swain",0,0,0,0,279,279,{"$f":"IF(Entries!$K$20=5,MIN(FL50,FM50,FN50,FO50,FP50),IF(Entries!$K$20=4,MIN(FL50,FM50,FN50,FO50),IF(Entries!$K$20=3,MIN(FL50,FM50,FN50),IF(Entries!$K$20=2,MIN(FL50,FM50),IF(Entries!$K$20=1,0,0)))))","v":0},{"$f":"FQ50-FR50","v":279},{"$f":"IF(FS50>1,RANK(FS50,FS$49:FS$81,0),\"\")","v":2},null,null,0,0,0,0,0,null,{"$f":"IF(Entries!$K$20=5,MIN(FW50,FX50,FY50,FZ50,GA50),IF(Entries!$K$20=4,MIN(FW50,FX50,FY50,FZ50),IF(Entries!$K$20=3,MIN(FW50,FX50,FY50),IF(Entries!$K$20=2,MIN(FW50,FX50),IF(Entries!$K$20=1,0,0)))))","v":0},{"$f":"GB50-GC50","v":0},{"$f":"IF(GD50>1,RANK(GD50,GD$49:GD$81,0),\"\")","v":""},null,null,0,0,0,0,0,null,{"$f":"IF(Entries!$K$20=5,MIN(GH50,GI50,GJ50,GK50,GL50),IF(Entries!$K$20=4,MIN(GH50,GI50,GJ50,GK50),IF(Entries!$K$20=3,MIN(GH50,GI50,GJ50),IF(Entries!$K$20=2,MIN(GH50,GI50),IF(Entries!$K$20=1,0,0)))))","v":0},{"$f":"GM50-GN50","v":0},{"$f":"IF(GO50>1,RANK(GO50,GO$49:GO$81,0),\"\")","v":""},null,null,0,0,0,0,0,null,{"$f":"IF(Entries!$K$20=5,MIN(GS50,GT50,GU50,GV50,GW50),IF(Entries!$K$20=4,MIN(GS50,GT50,GU50,GV50),IF(Entries!$K$20=3,MIN(GS50,GT50,GU50),IF(Entries!$K$20=2,MIN(GS50,GT50),IF(Entries!$K$20=1,0,0)))))","v":0},{"$f":"GX50-GY50","v":0},{"$f":"IF(GZ50>1,RANK(GZ50,GZ$49:GZ$81,0),\"\")","v":""},null,null,0,0,0,0,0,null,{"$f":"IF(Entries!$K$20=5,MIN(HD50,HE50,HF50,HG50,HH50),IF(Entries!$K$20=4,MIN(HD50,HE50,HF50,HG50),IF(Entries!$K$20=3,MIN(HD50,HE50,HF50),IF(Entries!$K$20=2,MIN(HD50,HE50),IF(Entries!$K$20=1,0,0)))))","v":0},{"$f":"HI50-HJ50","v":0},{"$f":"IF(HK50>1,RANK(HK50,HK$49:HK$81,0),\"\")","v":""},null,null,0,0,0,0,0,null,{"$f":"IF(Entries!$K$20=5,MIN(HO50,HP50,HQ50,HR50,HS50),IF(Entries!$K$20=4,MIN(HO50,HP50,HQ50,HR50),IF(Entries!$K$20=3,MIN(HO50,HP50,HQ50),IF(Entries!$K$20=2,MIN(HO50,HP50),IF(Entries!$K$20=1,0,0)))))","v":0},{"$f":"HT50-HU50","v":0},{"$f":"IF(HV50>1,RANK(HV50,HV$49:HV$81,0),\"\")","v":""},null,null,0,0,0,0,0,null,{"$f":"IF(Entries!$K$20=5,MIN(HZ50,IA50,IB50,IC50,ID50),IF(Entries!$K$20=4,MIN(HZ50,IA50,IB50,IC50),IF(Entries!$K$20=3,MIN(HZ50,IA50,IB50),IF(Entries!$K$20=2,MIN(HZ50,IA50),IF(Entries!$K$20=1,0,0)))))","v":0},{"$f":"IE50-IF50","v":0},{"$f":"IF(IG50>1,RANK(IG50,IG$49:IG$81,0),\"\")","v":""}]
[null,"Niall O'Hanlon",422,331,407,362,353,1875,{"$f":"IF(Entries!$K$20=5,MIN(C51,D51,E51,F51,G51),IF(Entries!$K$20=4,MIN(C51,D51,E51,F51),IF(Entries!$K$20=3,MIN(C51,D51,E51),IF(Entries!$K$20=2,MIN(C51,D51),IF(Entries!$K$20=1,0,0)))))","v":331},1544,4,null,null,0,0,0,0,0,null,{"$f":"IF(Entries!$K$20=5,MIN(N51,O51,P51,Q51,R51),IF(Entries!$K$20=4,MIN(N51,O51,P51,Q51),IF(Entries!$K$20=3,MIN(N51,O51,P51),IF(Entries!$K$20=2,MIN(N51,O51),IF(Entries!$K$20=1,0,0)))))","v":0},0,"",null,null,0,0,0,0,0,null,{"$f":"IF(Entries!$K$20=5,MIN(Y51,Z51,AA51,AB51,AC51),IF(Entries!$K$20=4,MIN(Y51,Z51,AA51,AB51),IF(Entries!$K$20=3,MIN(Y51,Z51,AA51),IF(Entries!$K$20=2,MIN(Y51,Z51),IF(Entries!$K$20=1,0,0)))))","v":0},0,"",null,"Conn De Barra",0,0,0,152,201,353,{"$f":"IF(Entries!$K$20=5,MIN(AJ51,AK51,AL51,AM51,AN51),IF(Entries!$K$20=4,MIN(AJ51,AK51,AL51,AM51),IF(Entries!$K$20=3,MIN(AJ51,AK51,AL51),IF(Entries!$K$20=2,MIN(AJ51,AK51),IF(Entries!$K$20=1,0,0)))))","v":0},353,3,null,"Hannah Cunniffe",170,320,329,402,365,1586,{"$f":"IF(Entries!$K$20=5,MIN(AU51,AV51,AW51,AX51,AY51),IF(Entries!$K$20=4,MIN(AU51,AV51,AW51,AX51),IF(Entries!$K$20=3,MIN(AU51,AV51,AW51),IF(Entries!$K$20=2,MIN(AU51,AV51),IF(Entries!$K$20=1,0,0)))))","v":170},1416,2,null,"Eoin Dwyer",243,0,0,353,188,784,{"$f":"IF(Entries!$K$20=5,MIN(BF51,BG51,BH51,BI51,BJ51),IF(Entries!$K$20=4,MIN(BF51,BG51,BH51,BI51),IF(Entries!$K$20=3,MIN(BF51,BG51,BH51),IF(Entries!$K$20=2,MIN(BF51,BG51),IF(Entries!$K$20=1,0,0)))))","v":0},784,3,null,"Christopher Balfe",0,0,439,395,369,1203,{"$f":"IF(Entries!$K$20=5,MIN(BQ51,BR51,BS51,BT51,BU51),IF(Entries!$K$20=4,MIN(BQ51,BR51,BS51,BT51),IF(Entries!$K$20=3,MIN(BQ51,BR51,BS51),IF(Entries!$K$20=2,MIN(BQ51,BR51),IF(Entries!$K$20=1,0,0)))))","v":0},1203,3,null,"David Price",391,403,370,0,0,1164,{"$f":"IF(Entries!$K$20=5,MIN(CB51,CC51,CD51,CE51,CF51),IF(Entries!$K$20=4,MIN(CB51,CC51,CD51,CE51),IF(Entries!$K$20=3,MIN(CB51,CC51,CD51),IF(Entries!$K$20=2,MIN(CB51,CC51),IF(Entries!$K$20=1,0,0)))))","v":0},1164,3,null,"Charlotte Lokko",206,275,306,267,307,1361,{"$f":"IF(Entries!$K$20=5,MIN(CM51,CN51,CO51,CP51,CQ51),IF(Entries!$K$20=4,MIN(CM51,CN51,CO51,CP51),IF(Entries!$K$20=3,MIN(CM51,CN51,CO51),IF(Entries!$K$20=2,MIN(CM51,CN51),IF(Entries!$K$20=1,0,0)))))","v":206},1155,5,null,null,0,0,0,0,0,null,{"$f":"IF(Entries!$K$20=5,MIN(CX51,CY51,CZ51,DA51,DB51),IF(Entries!$K$20=4,MIN(CX51,CY51,CZ51,DA51),IF(Entries!$K$20=3,MIN(CX51,CY51,CZ51),IF(Entries!$K$20=2,MIN(CX51,CY51),IF(Entries!$K$20=1,0,0)))))","v":0},0,"",null,"Mark Harrington",0,0,341,0,441,782,{"$f":"IF(Entries!$K$20=5,MIN(DI51,DJ51,DK51,DL51,DM51),IF(Entries!$K$20=4,MIN(DI51,DJ51,DK51,DL51),IF(Entries!$K$20=3,MIN(DI51,DJ51,DK51),IF(Entries!$K$20=2,MIN(DI51,DJ51),IF(Entries!$K$20=1,0,0)))))","v":0},782,3,null,null,0,0,0,0,0,null,{"$f":"IF(Entries!$K$20=5,MIN(DT51,DU51,DV51,DW51,DX51),IF(Entries!$K$20=4,MIN(DT51,DU51,DV51,DW51),IF(Entries!$K$20=3,MIN(DT51,DU51,DV51),IF(Entries!$K$20=2,MIN(DT51,DU51),IF(Entries!$K$20=1,0,0)))))","v":0},0,"",null,null,0,0,0,0,0,null,{"$f":"IF(Entries!$K$20=5,MIN(EE51,EF51,EG51,EH51,EI51),IF(Entries!$K$20=4,MIN(EE51,EF51,EG51,EH51),IF(Entries!$K$20=3,MIN(EE51,EF51,EG51),IF(Entries!$K$20=2,MIN(EE51,EF51),IF(Entries!$K$20=1,0,0)))))","v":0},0,"",null,"Conor Sheridan",0,0,0,299,0,299,{"$f":"IF(Entries!$K$20=5,MIN(EP51,EQ51,ER51,ES51,ET51),IF(Entries!$K$20=4,MIN(EP51,EQ51,ER51,ES51),IF(Entries!$K$20=3,MIN(EP51,EQ51,ER51),IF(Entries!$K$20=2,MIN(EP51,EQ51),IF(Entries!$K$20=1,0,0)))))","v":0},299,3,null,null,0,0,0,0,0,null,{"$f":"IF(Entries!$K$20=5,MIN(FA51,FB51,FC51,FD51,FE51),IF(Entries!$K$20=4,MIN(FA51,FB51,FC51,FD51),IF(Entries!$K$20=3,MIN(FA51,FB51,FC51),IF(Entries!$K$20=2,MIN(FA51,FB51),IF(Entries!$K$20=1,0,0)))))","v":0},0,"",null,null,0,0,0,0,0,null,{"$f":"IF(Entries!$K$20=5,MIN(FL51,FM51,FN51,FO51,FP51),IF(Entries!$K$20=4,MIN(FL51,FM51,FN51,FO51),IF(Entries!$K$20=3,MIN(FL51,FM51,FN51),IF(Entries!$K$20=2,MIN(FL51,FM51),IF(Entries!$K$20=1,0,0)))))","v":0},0,"",null,null,0,0,0,0,0,null,{"$f":"IF(Entries!$K$20=5,MIN(FW51,FX51,FY51,FZ51,GA51),IF(Entries!$K$20=4,MIN(FW51,FX51,FY51,FZ51),IF(Entries!$K$20=3,MIN(FW51,FX51,FY51),IF(Entries!$K$20=2,MIN(FW51,FX51),IF(Entries!$K$20=1,0,0)))))","v":0},0,"",null,null,0,0,0,0,0,null,{"$f":"IF(Entries!$K$20=5,MIN(GH51,GI51,GJ51,GK51,GL51),IF(Entries!$K$20=4,MIN(GH51,GI51,GJ51,GK51),IF(Entries!$K$20=3,MIN(GH51,GI51,GJ51),IF(Entries!$K$20=2,MIN(GH51,GI51),IF(Entries!$K$20=1,0,0)))))","v":0},0,"",null,null,0,0,0,0,0,null,{"$f":"IF(Entries!$K$20=5,MIN(GS51,GT51,GU51,GV51,GW51),IF(Entries!$K$20=4,MIN(GS51,GT51,GU51,GV51),IF(Entries!$K$20=3,MIN(GS51,GT51,GU51),IF(Entries!$K$20=2,MIN(GS51,GT51),IF(Entries!$K$20=1,0,0)))))","v":0},0,"",null,null,0,0,0,0,0,null,{"$f":"IF(Entries!$K$20=5,MIN(HD51,HE51,HF51,HG51,HH51),IF(Entries!$K$20=4,MIN(HD51,HE51,HF51,HG51),IF(Entries!$K$20=3,MIN(HD51,HE51,HF51),IF(Entries!$K$20=2,MIN(HD51,HE51),IF(Entries!$K$20=1,0,0)))))","v":0},0,"",null,null,0,0,0,0,0,null,{"$f":"IF(Entries!$K$20=5,MIN(HO51,HP51,HQ51,HR51,HS51),IF(Entries!$K$20=4,MIN(HO51,HP51,HQ51,HR51),IF(Entries!$K$20=3,MIN(HO51,HP51,HQ51),IF(Entries!$K$20=2,MIN(HO51,HP51),IF(Entries!$K$20=1,0,0)))))","v":0},0,"",null,null,0,0,0,0,0,null,{"$f":"IF(Entries!$K$20=5,MIN(HZ51,IA51,IB51,IC51,ID51),IF(Entries!$K$20=4,MIN(HZ51,IA51,IB51,IC51),IF(Entries!$K$20=3,MIN(HZ51,IA51,IB51),IF(Entries!$K$20=2,MIN(HZ51,IA51),IF(Entries!$K$20=1,0,0)))))","v":0},0,""]
[null,"Jericho Siababa",0,437,465,457,486,1845,{"$f":"IF(Entries!$K$20=5,MIN(C52,D52,E52,F52,G52),IF(Entries!$K$20=4,MIN(C52,D52,E52,F52),IF(Entries!$K$20=3,MIN(C52,D52,E52),IF(Entries!$K$20=2,MIN(C52,D52),IF(Entries!$K$20=1,0,0)))))","v":0},1845,1,null,null,null,null,null,null,null,null,{"$f":"IF(Entries!$K$20=5,MIN(N52,O52,P52,Q52,R52),IF(Entries!$K$20=4,MIN(N52,O52,P52,Q52),IF(Entries!$K$20=3,MIN(N52,O52,P52),IF(Entries!$K$20=2,MIN(N52,O52),IF(Entries!$K$20=1,0,0)))))","v":0},0,"",null,null,null,null,null,null,null,null,{"$f":"IF(Entries!$K$20=5,MIN(Y52,Z52,AA52,AB52,AC52),IF(Entries!$K$20=4,MIN(Y52,Z52,AA52,AB52),IF(Entries!$K$20=3,MIN(Y52,Z52,AA52),IF(Entries!$K$20=2,MIN(Y52,Z52),IF(Entries!$K$20=1,0,0)))))","v":0},0,"",null,"Siobhan Flynn",0,284,0,0,0,284,{"$f":"IF(Entries!$K$20=5,MIN(AJ52,AK52,AL52,AM52,AN52),IF(Entries!$K$20=4,MIN(AJ52,AK52,AL52,AM52),IF(Entries!$K$20=3,MIN(AJ52,AK52,AL52),IF(Entries!$K$20=2,MIN(AJ52,AK52),IF(Entries!$K$20=1,0,0)))))","v":0},284,4,null,"Darren Martyn",0,0,291,0,440,731,{"$f":"IF(Entries!$K$20=5,MIN(AU52,AV52,AW52,AX52,AY52),IF(Entries!$K$20=4,MIN(AU52,AV52,AW52,AX52),IF(Entries!$K$20=3,MIN(AU52,AV52,AW52),IF(Entries!$K$20=2,MIN(AU52,AV52),IF(Entries!$K$20=1,0,0)))))","v":0},731,4,null,"Thomas Ganley",255,0,0,267,0,522,{"$f":"IF(Entries!$K$20=5,MIN(BF52,BG52,BH52,BI52,BJ52),IF(Entries!$K$20=4,MIN(BF52,BG52,BH52,BI52),IF(Entries!$K$20=3,MIN(BF52,BG52,BH52),IF(Entries!$K$20=2,MIN(BF52,BG52),IF(Entries!$K$20=1,0,0)))))","v":0},522,4,null,"Brian McDonagh ITT",205,0,308,283,313,1109,{"$f":"IF(Entries!$K$20=5,MIN(BQ52,BR52,BS52,BT52,BU52),IF(Entries!$K$20=4,MIN(BQ52,BR52,BS52,BT52),IF(Entries!$K$20=3,MIN(BQ52,BR52,BS52),IF(Entries!$K$20=2,MIN(BQ52,BR52),IF(Entries!$K$20=1,0,0)))))","v":0},1109,4,null,"Richard Morrell",313,238,0,292,0,843,{"$f":"IF(Entries!$K$20=5,MIN(CB52,CC52,CD52,CE52,CF52),IF(Entries!$K$20=4,MIN(CB52,CC52,CD52,CE52),IF(Entries!$K$20=3,MIN(CB52,CC52,CD52),IF(Entries!$K$20=2,MIN(CB52,CC52),IF(Entries!$K$20=1,0,0)))))","v":0},843,4,null,"Sorcha Griffin",0,337,338,354,327,1356,{"$f":"IF(Entries!$K$20=5,MIN(CM52,CN52,CO52,CP52,CQ52),IF(Entries!$K$20=4,MIN(CM52,CN52,CO52,CP52),IF(Entries!$K$20=3,MIN(CM52,CN52,CO52),IF(Entries!$K$20=2,MIN(CM52,CN52),IF(Entries!$K$20=1,0,0)))))","v":0},1356,3,null,null,null,null,null,null,null,null,{"$f":"IF(Entries!$K$20=5,MIN(CX52,CY52,CZ52,DA52,DB52),IF(Entries!$K$20=4,MIN(CX52,CY52,CZ52,DA52),IF(Entries!$K$20=3,MIN(CX52,CY52,CZ52),IF(Entries!$K$20=2,MIN(CX52,CY52),IF(Entries!$K$20=1,0,0)))))","v":0},0,"",null,"Julie Saes",0,0,307,0,451,758,{"$f":"IF(Entries!$K$20=5,MIN(DI52,DJ52,DK52,DL52,DM52),IF(Entries!$K$20=4,MIN(DI52,DJ52,DK52,DL52),IF(Entries!$K$20=3,MIN(DI52,DJ52,DK52),IF(Entries!$K$20=2,MIN(DI52,DJ52),IF(Entries!$K$20=1,0,0)))))","v":0},758,4,null,null,null,null,null,null,null,null,{"$f":"IF(Entries!$K$20=5,MIN(DT52,DU52,DV52,DW52,DX52),IF(Entries!$K$20=4,MIN(DT52,DU52,DV52,DW52),IF(Entries!$K$20=3,MIN(DT52,DU52,DV52),IF(Entries!$K$20=2,MIN(DT52,DU52),IF(Entries!$K$20=1,0,0)))))","v":0},0,"",null,null,null,null,null,null,null,null,{"$f":"IF(Entries!$K$20=5,MIN(EE52,EF52,EG52,EH52,EI52),IF(Entries!$K$20=4,MIN(EE52,EF52,EG52,EH52),IF(Entries!$K$20=3,MIN(EE52,EF52,EG52),IF(Entries!$K$20=2,MIN(EE52,EF52),IF(Entries!$K$20=1,0,0)))))","v":0},0,"",null,"Andrew Fairbrother",242,0,0,0,0,242,{"$f":"IF(Entries!$K$20=5,MIN(EP52,EQ52,ER52,ES52,ET52),IF(Entries!$K$20=4,MIN(EP52,EQ52,ER52,ES52),IF(Entries!$K$20=3,MIN(EP52,EQ52,ER52),IF(Entries!$K$20=2,MIN(EP52,EQ52),IF(Entries!$K$20=1,0,0)))))","v":0},242,4,null,null,null,null,null,null,null,null,{"$f":"IF(Entries!$K$20=5,MIN(FA52,FB52,FC52,FD52,FE52),IF(Entries!$K$20=4,MIN(FA52,FB52,FC52,FD52),IF(Entries!$K$20=3,MIN(FA52,FB52,FC52),IF(Entries!$K$20=2,MIN(FA52,FB52),IF(Entries!$K$20=1,0,0)))))","v":0},0,"",null,null,null,null,null,null,null,null,{"$f":"IF(Entries!$K$20=5,MIN(FL52,FM52,FN52,FO52,FP52),IF(Entries!$K$20=4,MIN(FL52,FM52,FN52,FO52),IF(Entries!$K$20=3,MIN(FL52,FM52,FN52),IF(Entries!$K$20=2,MIN(FL52,FM52),IF(Entries!$K$20=1,0,0)))))","v":0},0,"",null,null,null,null,null,null,null,null,{"$f":"IF(Entries!$K$20=5,MIN(FW52,FX52,FY52,FZ52,GA52),IF(Entries!$K$20=4,MIN(FW52,FX52,FY52,FZ52),IF(Entries!$K$20=3,MIN(FW52,FX52,FY52),IF(Entries!$K$20=2,MIN(FW52,FX52),IF(Entries!$K$20=1,0,0)))))","v":0},0,"",null,null,null,null,null,null,null,null,{"$f":"IF(Entries!$K$20=5,MIN(GH52,GI52,GJ52,GK52,GL52),IF(Entries!$K$20=4,MIN(GH52,GI52,GJ52,GK52),IF(Entries!$K$20=3,MIN(GH52,GI52,GJ52),IF(Entries!$K$20=2,MIN(GH52,GI52),IF(Entries!$K$20=1,0,0)))))","v":0},0,"",null,null,null,null,null,null,null,null,{"$f":"IF(Entries!$K$20=5,MIN(GS52,GT52,GU52,GV52,GW52),IF(Entries!$K$20=4,MIN(GS52,GT52,GU52,GV52),IF(Entries!$K$20=3,MIN(GS52,GT52,GU52),IF(Entries!$K$20=2,MIN(GS52,GT52),IF(Entries!$K$20=1,0,0)))))","v":0},0,"",null,null,null,null,null,null,null,null,{"$f":"IF(Entries!$K$20=5,MIN(HD52,HE52,HF52,HG52,HH52),IF(Entries!$K$20=4,MIN(HD52,HE52,HF52,HG52),IF(Entries!$K$20=3,MIN(HD52,HE52,HF52),IF(Entries!$K$20=2,MIN(HD52,HE52),IF(Entries!$K$20=1,0,0)))))","v":0},0,"",null,null,null,null,null,null,null,null,{"$f":"IF(Entries!$K$20=5,MIN(HO52,HP52,HQ52,HR52,HS52),IF(Entries!$K$20=4,MIN(HO52,HP52,HQ52,HR52),IF(Entries!$K$20=3,MIN(HO52,HP52,HQ52),IF(Entries!$K$20=2,MIN(HO52,HP52),IF(Entries!$K$20=1,0,0)))))","v":0},0,"",null,null,null,null,null,null,null,null,{"$f":"IF(Entries!$K$20=5,MIN(HZ52,IA52,IB52,IC52,ID52),IF(Entries!$K$20=4,MIN(HZ52,IA52,IB52,IC52),IF(Entries!$K$20=3,MIN(HZ52,IA52,IB52),IF(Entries!$K$20=2,MIN(HZ52,IA52),IF(Entries!$K$20=1,0,0)))))","v":0},0,""]
[null,"Sarah Howard",296,357,0,296,342,1291,{"$f":"IF(Entries!$K$20=5,MIN(C53,D53,E53,F53,G53),IF(Entries!$K$20=4,MIN(C53,D53,E53,F53),IF(Entries!$K$20=3,MIN(C53,D53,E53),IF(Entries!$K$20=2,MIN(C53,D53),IF(Entries!$K$20=1,0,0)))))","v":0},1291,5,null,null,null,null,null,null,null,null,{"$f":"IF(Entries!$K$20=5,MIN(N53,O53,P53,Q53,R53),IF(Entries!$K$20=4,MIN(N53,O53,P53,Q53),IF(Entries!$K$20=3,MIN(N53,O53,P53),IF(Entries!$K$20=2,MIN(N53,O53),IF(Entries!$K$20=1,0,0)))))","v":0},0,"",null,null,null,null,null,null,null,null,{"$f":"IF(Entries!$K$20=5,MIN(Y53,Z53,AA53,AB53,AC53),IF(Entries!$K$20=4,MIN(Y53,Z53,AA53,AB53),IF(Entries!$K$20=3,MIN(Y53,Z53,AA53),IF(Entries!$K$20=2,MIN(Y53,Z53),IF(Entries!$K$20=1,0,0)))))","v":0},0,"",null,"Simon Bluett",0,0,0,0,248,248,{"$f":"IF(Entries!$K$20=5,MIN(AJ53,AK53,AL53,AM53,AN53),IF(Entries!$K$20=4,MIN(AJ53,AK53,AL53,AM53),IF(Entries!$K$20=3,MIN(AJ53,AK53,AL53),IF(Entries!$K$20=2,MIN(AJ53,AK53),IF(Entries!$K$20=1,0,0)))))","v":0},248,5,null,"Aoife Monaghan",0,0,0,156,307,463,{"$f":"IF(Entries!$K$20=5,MIN(AU53,AV53,AW53,AX53,AY53),IF(Entries!$K$20=4,MIN(AU53,AV53,AW53,AX53),IF(Entries!$K$20=3,MIN(AU53,AV53,AW53),IF(Entries!$K$20=2,MIN(AU53,AV53),IF(Entries!$K$20=1,0,0)))))","v":0},463,5,null,"Lee Nolan",0,0,0,211,291,502,{"$f":"IF(Entries!$K$20=5,MIN(BF53,BG53,BH53,BI53,BJ53),IF(Entries!$K$20=4,MIN(BF53,BG53,BH53,BI53),IF(Entries!$K$20=3,MIN(BF53,BG53,BH53),IF(Entries!$K$20=2,MIN(BF53,BG53),IF(Entries!$K$20=1,0,0)))))","v":0},502,5,null,"Emma-Jane Doyle",184,0,223,278,291,976,{"$f":"IF(Entries!$K$20=5,MIN(BQ53,BR53,BS53,BT53,BU53),IF(Entries!$K$20=4,MIN(BQ53,BR53,BS53,BT53),IF(Entries!$K$20=3,MIN(BQ53,BR53,BS53),IF(Entries!$K$20=2,MIN(BQ53,BR53),IF(Entries!$K$20=1,0,0)))))","v":0},976,5,null,"Melissa Gueey",0,0,0,0,317,317,{"$f":"IF(Entries!$K$20=5,MIN(CB53,CC53,CD53,CE53,CF53),IF(Entries!$K$20=4,MIN(CB53,CC53,CD53,CE53),IF(Entries!$K$20=3,MIN(CB53,CC53,CD53),IF(Entries!$K$20=2,MIN(CB53,CC53),IF(Entries!$K$20=1,0,0)))))","v":0},317,5,null,"Ciarán Martin",380,0,298,327,296,1301,{"$f":"IF(Entries!$K$20=5,MIN(CM53,CN53,CO53,CP53,CQ53),IF(Entries!$K$20=4,MIN(CM53,CN53,CO53,CP53),IF(Entries!$K$20=3,MIN(CM53,CN53,CO53),IF(Entries!$K$20=2,MIN(CM53,CN53),IF(Entries!$K$20=1,0,0)))))","v":0},1301,4,null,null,null,null,null,null,null,null,{"$f":"IF(Entries!$K$20=5,MIN(CX53,CY53,CZ53,DA53,DB53),IF(Entries!$K$20=4,MIN(CX53,CY53,CZ53,DA53),IF(Entries!$K$20=3,MIN(CX53,CY53,CZ53),IF(Entries!$K$20=2,MIN(CX53,CY53),IF(Entries!$K$20=1,0,0)))))","v":0},0,"",null,"Daniel Kelly",0,293,383,0,0,676,{"$f":"IF(Entries!$K$20=5,MIN(DI53,DJ53,DK53,DL53,DM53),IF(Entries!$K$20=4,MIN(DI53,DJ53,DK53,DL53),IF(Entries!$K$20=3,MIN(DI53,DJ53,DK53),IF(Entries!$K$20=2,MIN(DI53,DJ53),IF(Entries!$K$20=1,0,0)))))","v":0},676,5,null,null,null,null,null,null,null,null,{"$f":"IF(Entries!$K$20=5,MIN(DT53,DU53,DV53,DW53,DX53),IF(Entries!$K$20=4,MIN(DT53,DU53,DV53,DW53),IF(Entries!$K$20=3,MIN(DT53,DU53,DV53),IF(Entries!$K$20=2,MIN(DT53,DU53),IF(Entries!$K$20=1,0,0)))))","v":0},0,"",null,null,null,null,null,null,null,null,{"$f":"IF(Entries!$K$20=5,MIN(EE53,EF53,EG53,EH53,EI53),IF(Entries!$K$20=4,MIN(EE53,EF53,EG53,EH53),IF(Entries!$K$20=3,MIN(EE53,EF53,EG53),IF(Entries!$K$20=2,MIN(EE53,EF53),IF(Entries!$K$20=1,0,0)))))","v":0},0,"",null,"Ellis O'Sulliven",0,0,0,157,0,157,{"$f":"IF(Entries!$K$20=5,MIN(EP53,EQ53,ER53,ES53,ET53),IF(Entries!$K$20=4,MIN(EP53,EQ53,ER53,ES53),IF(Entries!$K$20=3,MIN(EP53,EQ53,ER53),IF(Entries!$K$20=2,MIN(EP53,EQ53),IF(Entries!$K$20=1,0,0)))))","v":0},157,5,null,null,null,null,null,null,null,null,{"$f":"IF(Entries!$K$20=5,MIN(FA53,FB53,FC53,FD53,FE53),IF(Entries!$K$20=4,MIN(FA53,FB53,FC53,FD53),IF(Entries!$K$20=3,MIN(FA53,FB53,FC53),IF(Entries!$K$20=2,MIN(FA53,FB53),IF(Entries!$K$20=1,0,0)))))","v":0},0,"",null,null,null,null,null,null,null,null,{"$f":"IF(Entries!$K$20=5,MIN(FL53,FM53,FN53,FO53,FP53),IF(Entries!$K$20=4,MIN(FL53,FM53,FN53,FO53),IF(Entries!$K$20=3,MIN(FL53,FM53,FN53),IF(Entries!$K$20=2,MIN(FL53,FM53),IF(Entries!$K$20=1,0,0)))))","v":0},0,"",null,null,null,null,null,null,null,null,{"$f":"IF(Entries!$K$20=5,MIN(FW53,FX53,FY53,FZ53,GA53),IF(Entries!$K$20=4,MIN(FW53,FX53,FY53,FZ53),IF(Entries!$K$20=3,MIN(FW53,FX53,FY53),IF(Entries!$K$20=2,MIN(FW53,FX53),IF(Entries!$K$20=1,0,0)))))","v":0},0,"",null,null,null,null,null,null,null,null,{"$f":"IF(Entries!$K$20=5,MIN(GH53,GI53,GJ53,GK53,GL53),IF(Entries!$K$20=4,MIN(GH53,GI53,GJ53,GK53),IF(Entries!$K$20=3,MIN(GH53,GI53,GJ53),IF(Entries!$K$20=2,MIN(GH53,GI53),IF(Entries!$K$20=1,0,0)))))","v":0},0,"",null,null,null,null,null,null,null,null,{"$f":"IF(Entries!$K$20=5,MIN(GS53,GT53,GU53,GV53,GW53),IF(Entries!$K$20=4,MIN(GS53,GT53,GU53,GV53),IF(Entries!$K$20=3,MIN(GS53,GT53,GU53),IF(Entries!$K$20=2,MIN(GS53,GT53),IF(Entries!$K$20=1,0,0)))))","v":0},0,"",null,null,null,null,null,null,null,null,{"$f":"IF(Entries!$K$20=5,MIN(HD53,HE53,HF53,HG53,HH53),IF(Entries!$K$20=4,MIN(HD53,HE53,HF53,HG53),IF(Entries!$K$20=3,MIN(HD53,HE53,HF53),IF(Entries!$K$20=2,MIN(HD53,HE53),IF(Entries!$K$20=1,0,0)))))","v":0},0,"",null,null,null,null,null,null,null,null,{"$f":"IF(Entries!$K$20=5,MIN(HO53,HP53,HQ53,HR53,HS53),IF(Entries!$K$20=4,MIN(HO53,HP53,HQ53,HR53),IF(Entries!$K$20=3,MIN(HO53,HP53,HQ53),IF(Entries!$K$20=2,MIN(HO53,HP53),IF(Entries!$K$20=1,0,0)))))","v":0},0,"",null,null,null,null,null,null,null,null,{"$f":"IF(Entries!$K$20=5,MIN(HZ53,IA53,IB53,IC53,ID53),IF(Entries!$K$20=4,MIN(HZ53,IA53,IB53,IC53),IF(Entries!$K$20=3,MIN(HZ53,IA53,IB53),IF(Entries!$K$20=2,MIN(HZ53,IA53),IF(Entries!$K$20=1,0,0)))))","v":0},0,""]
[null,"Dylan Do Couto",0,339,0,344,0,683,{"$f":"IF(Entries!$K$20=5,MIN(C54,D54,E54,F54,G54),IF(Entries!$K$20=4,MIN(C54,D54,E54,F54),IF(Entries!$K$20=3,MIN(C54,D54,E54),IF(Entries!$K$20=2,MIN(C54,D54),IF(Entries!$K$20=1,0,0)))))","v":0},683,6,null,null,null,null,null,null,null,null,{"$f":"IF(Entries!$K$20=5,MIN(N54,O54,P54,Q54,R54),IF(Entries!$K$20=4,MIN(N54,O54,P54,Q54),IF(Entries!$K$20=3,MIN(N54,O54,P54),IF(Entries!$K$20=2,MIN(N54,O54),IF(Entries!$K$20=1,0,0)))))","v":0},0,"",null,null,null,null,null,null,null,null,{"$f":"IF(Entries!$K$20=5,MIN(Y54,Z54,AA54,AB54,AC54),IF(Entries!$K$20=4,MIN(Y54,Z54,AA54,AB54),IF(Entries!$K$20=3,MIN(Y54,Z54,AA54),IF(Entries!$K$20=2,MIN(Y54,Z54),IF(Entries!$K$20=1,0,0)))))","v":0},0,"",null,"Nicole Maoirano",0,0,42,0,155,197,{"$f":"IF(Entries!$K$20=5,MIN(AJ54,AK54,AL54,AM54,AN54),IF(Entries!$K$20=4,MIN(AJ54,AK54,AL54,AM54),IF(Entries!$K$20=3,MIN(AJ54,AK54,AL54),IF(Entries!$K$20=2,MIN(AJ54,AK54),IF(Entries!$K$20=1,0,0)))))","v":0},197,6,null,"Ryan Claffey",0,0,0,0,371,371,{"$f":"IF(Entries!$K$20=5,MIN(AU54,AV54,AW54,AX54,AY54),IF(Entries!$K$20=4,MIN(AU54,AV54,AW54,AX54),IF(Entries!$K$20=3,MIN(AU54,AV54,AW54),IF(Entries!$K$20=2,MIN(AU54,AV54),IF(Entries!$K$20=1,0,0)))))","v":0},371,6,null,"Sophie Hunt",0,0,0,0,318,318,{"$f":"IF(Entries!$K$20=5,MIN(BF54,BG54,BH54,BI54,BJ54),IF(Entries!$K$20=4,MIN(BF54,BG54,BH54,BI54),IF(Entries!$K$20=3,MIN(BF54,BG54,BH54),IF(Entries!$K$20=2,MIN(BF54,BG54),IF(Entries!$K$20=1,0,0)))))","v":0},318,6,null,"Sean Flynn",0,0,0,276,245,521,{"$f":"IF(Entries!$K$20=5,MIN(BQ54,BR54,BS54,BT54,BU54),IF(Entries!$K$20=4,MIN(BQ54,BR54,BS54,BT54),IF(Entries!$K$20=3,MIN(BQ54,BR54,BS54),IF(Entries!$K$20=2,MIN(BQ54,BR54),IF(Entries!$K$20=1,0,0)))))","v":0},521,6,null,null,null,null,null,null,null,null,{"$f":"IF(Entries!$K$20=5,MIN(CB54,CC54,CD54,CE54,CF54),IF(Entries!$K$20=4,MIN(CB54,CC54,CD54,CE54),IF(Entries!$K$20=3,MIN(CB54,CC54,CD54),IF(Entries!$K$20=2,MIN(CB54,CC54),IF(Entries!$K$20=1,0,0)))))","v":0},0,"",null,"Eoin De Brit",0,0,0,422,336,758,{"$f":"IF(Entries!$K$20=5,MIN(CM54,CN54,CO54,CP54,CQ54),IF(Entries!$K$20=4,MIN(CM54,CN54,CO54,CP54),IF(Entries!$K$20=3,MIN(CM54,CN54,CO54),IF(Entries!$K$20=2,MIN(CM54,CN54),IF(Entries!$K$20=1,0,0)))))","v":0},758,6,null,null,null,null,null,null,null,null,{"$f":"IF(Entries!$K$20=5,MIN(CX54,CY54,CZ54,DA54,DB54),IF(Entries!$K$20=4,MIN(CX54,CY54,CZ54,DA54),IF(Entries!$K$20=3,MIN(CX54,CY54,CZ54),IF(Entries!$K$20=2,MIN(CX54,CY54),IF(Entries!$K$20=1,0,0)))))","v":0},0,"",null,"Raymond Conlin",0,326,313,0,0,639,{"$f":"IF(Entries!$K$20=5,MIN(DI54,DJ54,DK54,DL54,DM54),IF(Entries!$K$20=4,MIN(DI54,DJ54,DK54,DL54),IF(Entries!$K$20=3,MIN(DI54,DJ54,DK54),IF(Entries!$K$20=2,MIN(DI54,DJ54),IF(Entries!$K$20=1,0,0)))))","v":0},639,6,null,null,null,null,null,null,null,null,{"$f":"IF(Entries!$K$20=5,MIN(DT54,DU54,DV54,DW54,DX54),IF(Entries!$K$20=4,MIN(DT54,DU54,DV54,DW54),IF(Entries!$K$20=3,MIN(DT54,DU54,DV54),IF(Entries!$K$20=2,MIN(DT54,DU54),IF(Entries!$K$20=1,0,0)))))","v":0},0,"",null,null,null,null,null,null,null,null,{"$f":"IF(Entries!$K$20=5,MIN(EE54,EF54,EG54,EH54,EI54),IF(Entries!$K$20=4,MIN(EE54,EF54,EG54,EH54),IF(Entries!$K$20=3,MIN(EE54,EF54,EG54),IF(Entries!$K$20=2,MIN(EE54,EF54),IF(Entries!$K$20=1,0,0)))))","v":0},0,"",null,null,null,null,null,null,null,null,{"$f":"IF(Entries!$K$20=5,MIN(EP54,EQ54,ER54,ES54,ET54),IF(Entries!$K$20=4,MIN(EP54,EQ54,ER54,ES54),IF(Entries!$K$20=3,MIN(EP54,EQ54,ER54),IF(Entries!$K$20=2,MIN(EP54,EQ54),IF(Entries!$K$20=1,0,0)))))","v":0},0,"",null,null,null,null,null,null,null,null,{"$f":"IF(Entries!$K$20=5,MIN(FA54,FB54,FC54,FD54,FE54),IF(Entries!$K$20=4,MIN(FA54,FB54,FC54,FD54),IF(Entries!$K$20=3,MIN(FA54,FB54,FC54),IF(Entries!$K$20=2,MIN(FA54,FB54),IF(Entries!$K$20=1,0,0)))))","v":0},0,"",null,null,null,null,null,null,null,null,{"$f":"IF(Entries!$K$20=5,MIN(FL54,FM54,FN54,FO54,FP54),IF(Entries!$K$20=4,MIN(FL54,FM54,FN54,FO54),IF(Entries!$K$20=3,MIN(FL54,FM54,FN54),IF(Entries!$K$20=2,MIN(FL54,FM54),IF(Entries!$K$20=1,0,0)))))","v":0},0,"",null,null,null,null,null,null,null,null,{"$f":"IF(Entries!$K$20=5,MIN(FW54,FX54,FY54,FZ54,GA54),IF(Entries!$K$20=4,MIN(FW54,FX54,FY54,FZ54),IF(Entries!$K$20=3,MIN(FW54,FX54,FY54),IF(Entries!$K$20=2,MIN(FW54,FX54),IF(Entries!$K$20=1,0,0)))))","v":0},0,"",null,null,null,null,null,null,null,null,{"$f":"IF(Entries!$K$20=5,MIN(GH54,GI54,GJ54,GK54,GL54),IF(Entries!$K$20=4,MIN(GH54,GI54,GJ54,GK54),IF(Entries!$K$20=3,MIN(GH54,GI54,GJ54),IF(Entries!$K$20=2,MIN(GH54,GI54),IF(Entries!$K$20=1,0,0)))))","v":0},0,"",null,null,null,null,null,null,null,null,{"$f":"IF(Entries!$K$20=5,MIN(GS54,GT54,GU54,GV54,GW54),IF(Entries!$K$20=4,MIN(GS54,GT54,GU54,GV54),IF(Entries!$K$20=3,MIN(GS54,GT54,GU54),IF(Entries!$K$20=2,MIN(GS54,GT54),IF(Entries!$K$20=1,0,0)))))","v":0},0,"",null,null,null,null,null,null,null,null,{"$f":"IF(Entries!$K$20=5,MIN(HD54,HE54,HF54,HG54,HH54),IF(Entries!$K$20=4,MIN(HD54,HE54,HF54,HG54),IF(Entries!$K$20=3,MIN(HD54,HE54,HF54),IF(Entries!$K$20=2,MIN(HD54,HE54),IF(Entries!$K$20=1,0,0)))))","v":0},0,"",null,null,null,null,null,null,null,null,{"$f":"IF(Entries!$K$20=5,MIN(HO54,HP54,HQ54,HR54,HS54),IF(Entries!$K$20=4,MIN(HO54,HP54,HQ54,HR54),IF(Entries!$K$20=3,MIN(HO54,HP54,HQ54),IF(Entries!$K$20=2,MIN(HO54,HP54),IF(Entries!$K$20=1,0,0)))))","v":0},0,"",null,null,null,null,null,null,null,null,{"$f":"IF(Entries!$K$20=5,MIN(HZ54,IA54,IB54,IC54,ID54),IF(Entries!$K$20=4,MIN(HZ54,IA54,IB54,IC54),IF(Entries!$K$20=3,MIN(HZ54,IA54,IB54),IF(Entries!$K$20=2,MIN(HZ54,IA54),IF(Entries!$K$20=1,0,0)))))","v":0},0,""]
[null,"Gavin Munnelly",0,0,0,417,0,417,{"$f":"IF(Entries!$K$20=5,MIN(C55,D55,E55,F55,G55),IF(Entries!$K$20=4,MIN(C55,D55,E55,F55),IF(Entries!$K$20=3,MIN(C55,D55,E55),IF(Entries!$K$20=2,MIN(C55,D55),IF(Entries!$K$20=1,0,0)))))","v":0},417,7,null,null,null,null,null,null,null,null,{"$f":"IF(Entries!$K$20=5,MIN(N55,O55,P55,Q55,R55),IF(Entries!$K$20=4,MIN(N55,O55,P55,Q55),IF(Entries!$K$20=3,MIN(N55,O55,P55),IF(Entries!$K$20=2,MIN(N55,O55),IF(Entries!$K$20=1,0,0)))))","v":0},0,"",null,null,null,null,null,null,null,null,{"$f":"IF(Entries!$K$20=5,MIN(Y55,Z55,AA55,AB55,AC55),IF(Entries!$K$20=4,MIN(Y55,Z55,AA55,AB55),IF(Entries!$K$20=3,MIN(Y55,Z55,AA55),IF(Entries!$K$20=2,MIN(Y55,Z55),IF(Entries!$K$20=1,0,0)))))","v":0},0,"",null,"Max Fursman",0,106,0,0,0,106,{"$f":"IF(Entries!$K$20=5,MIN(AJ55,AK55,AL55,AM55,AN55),IF(Entries!$K$20=4,MIN(AJ55,AK55,AL55,AM55),IF(Entries!$K$20=3,MIN(AJ55,AK55,AL55),IF(Entries!$K$20=2,MIN(AJ55,AK55),IF(Entries!$K$20=1,0,0)))))","v":0},106,7,null,"Jay McCarron",0,0,62,0,0,62,{"$f":"IF(Entries!$K$20=5,MIN(AU55,AV55,AW55,AX55,AY55),IF(Entries!$K$20=4,MIN(AU55,AV55,AW55,AX55),IF(Entries!$K$20=3,MIN(AU55,AV55,AW55),IF(Entries!$K$20=2,MIN(AU55,AV55),IF(Entries!$K$20=1,0,0)))))","v":0},62,7,null,"Michaela Ní Mhurchú",0,0,77,0,200,277,{"$f":"IF(Entries!$K$20=5,MIN(BF55,BG55,BH55,BI55,BJ55),IF(Entries!$K$20=4,MIN(BF55,BG55,BH55,BI55),IF(Entries!$K$20=3,MIN(BF55,BG55,BH55),IF(Entries!$K$20=2,MIN(BF55,BG55),IF(Entries!$K$20=1,0,0)))))","v":0},277,7,null,"Heather Kelly",118,187,0,0,0,305,{"$f":"IF(Entries!$K$20=5,MIN(BQ55,BR55,BS55,BT55,BU55),IF(Entries!$K$20=4,MIN(BQ55,BR55,BS55,BT55),IF(Entries!$K$20=3,MIN(BQ55,BR55,BS55),IF(Entries!$K$20=2,MIN(BQ55,BR55),IF(Entries!$K$20=1,0,0)))))","v":0},305,7,null,null,null,null,null,null,null,null,{"$f":"IF(Entries!$K$20=5,MIN(CB55,CC55,CD55,CE55,CF55),IF(Entries!$K$20=4,MIN(CB55,CC55,CD55,CE55),IF(Entries!$K$20=3,MIN(CB55,CC55,CD55),IF(Entries!$K$20=2,MIN(CB55,CC55),IF(Entries!$K$20=1,0,0)))))","v":0},0,"",null,"Darren Watkin",0,287,0,380,0,667,{"$f":"IF(Entries!$K$20=5,MIN(CM55,CN55,CO55,CP55,CQ55),IF(Entries!$K$20=4,MIN(CM55,CN55,CO55,CP55),IF(Entries!$K$20=3,MIN(CM55,CN55,CO55),IF(Entries!$K$20=2,MIN(CM55,CN55),IF(Entries!$K$20=1,0,0)))))","v":0},667,7,null,null,null,null,null,null,null,null,{"$f":"IF(Entries!$K$20=5,MIN(CX55,CY55,CZ55,DA55,DB55),IF(Entries!$K$20=4,MIN(CX55,CY55,CZ55,DA55),IF(Entries!$K$20=3,MIN(CX55,CY55,CZ55),IF(Entries!$K$20=2,MIN(CX55,CY55),IF(Entries!$K$20=1,0,0)))))","v":0},0,"",null,"Gabrielle Zeman",0,0,193,0,429,622,{"$f":"IF(Entries!$K$20=5,MIN(DI55,DJ55,DK55,DL55,DM55),IF(Entries!$K$20=4,MIN(DI55,DJ55,DK55,DL55),IF(Entries!$K$20=3,MIN(DI55,DJ55,DK55),IF(Entries!$K$20=2,MIN(DI55,DJ55),IF(Entries!$K$20=1,0,0)))))","v":0},622,7,null,null,null,null,null,null,null,null,{"$f":"IF(Entries!$K$20=5,MIN(DT55,DU55,DV55,DW55,DX55),IF(Entries!$K$20=4,MIN(DT55,DU55,DV55,DW55),IF(Entries!$K$20=3,MIN(DT55,DU55,DV55),IF(Entries!$K$20=2,MIN(DT55,DU55),IF(Entries!$K$20=1,0,0)))))","v":0},0,"",null,null,null,null,null,null,null,null,{"$f":"IF(Entries!$K$20=5,MIN(EE55,EF55,EG55,EH55,EI55),IF(Entries!$K$20=4,MIN(EE55,EF55,EG55,EH55),IF(Entries!$K$20=3,MIN(EE55,EF55,EG55),IF(Entries!$K$20=2,MIN(EE55,EF55),IF(Entries!$K$20=1,0,0)))))","v":0},0,"",null,null,null,null,null,null,null,null,{"$f":"IF(Entries!$K$20=5,MIN(EP55,EQ55,ER55,ES55,ET55),IF(Entries!$K$20=4,MIN(EP55,EQ55,ER55,ES55),IF(Entries!$K$20=3,MIN(EP55,EQ55,ER55),IF(Entries!$K$20=2,MIN(EP55,EQ55),IF(Entries!$K$20=1,0,0)))))","v":0},0,"",null,null,null,null,null,null,null,null,{"$f":"IF(Entries!$K$20=5,MIN(FA55,FB55,FC55,FD55,FE55),IF(Entries!$K$20=4,MIN(FA55,FB55,FC55,FD55),IF(Entries!$K$20=3,MIN(FA55,FB55,FC55),IF(Entries!$K$20=2,MIN(FA55,FB55),IF(Entries!$K$20=1,0,0)))))","v":0},0,"",null,null,null,null,null,null,null,null,{"$f":"IF(Entries!$K$20=5,MIN(FL55,FM55,FN55,FO55,FP55),IF(Entries!$K$20=4,MIN(FL55,FM55,FN55,FO55),IF(Entries!$K$20=3,MIN(FL55,FM55,FN55),IF(Entries!$K$20=2,MIN(FL55,FM55),IF(Entries!$K$20=1,0,0)))))","v":0},0,"",null,null,null,null,null,null,null,null,{"$f":"IF(Entries!$K$20=5,MIN(FW55,FX55,FY55,FZ55,GA55),IF(Entries!$K$20=4,MIN(FW55,FX55,FY55,FZ55),IF(Entries!$K$20=3,MIN(FW55,FX55,FY55),IF(Entries!$K$20=2,MIN(FW55,FX55),IF(Entries!$K$20=1,0,0)))))","v":0},0,"",null,null,null,null,null,null,null,null,{"$f":"IF(Entries!$K$20=5,MIN(GH55,GI55,GJ55,GK55,GL55),IF(Entries!$K$20=4,MIN(GH55,GI55,GJ55,GK55),IF(Entries!$K$20=3,MIN(GH55,GI55,GJ55),IF(Entries!$K$20=2,MIN(GH55,GI55),IF(Entries!$K$20=1,0,0)))))","v":0},0,"",null,null,null,null,null,null,null,null,{"$f":"IF(Entries!$K$20=5,MIN(GS55,GT55,GU55,GV55,GW55),IF(Entries!$K$20=4,MIN(GS55,GT55,GU55,GV55),IF(Entries!$K$20=3,MIN(GS55,GT55,GU55),IF(Entries!$K$20=2,MIN(GS55,GT55),IF(Entries!$K$20=1,0,0)))))","v":0},0,"",null,null,null,null,null,null,null,null,{"$f":"IF(Entries!$K$20=5,MIN(HD55,HE55,HF55,HG55,HH55),IF(Entries!$K$20=4,MIN(HD55,HE55,HF55,HG55),IF(Entries!$K$20=3,MIN(HD55,HE55,HF55),IF(Entries!$K$20=2,MIN(HD55,HE55),IF(Entries!$K$20=1,0,0)))))","v":0},0,"",null,null,null,null,null,null,null,null,{"$f":"IF(Entries!$K$20=5,MIN(HO55,HP55,HQ55,HR55,HS55),IF(Entries!$K$20=4,MIN(HO55,HP55,HQ55,HR55),IF(Entries!$K$20=3,MIN(HO55,HP55,HQ55),IF(Entries!$K$20=2,MIN(HO55,HP55),IF(Entries!$K$20=1,0,0)))))","v":0},0,"",null,null,null,null,null,null,null,null,{"$f":"IF(Entries!$K$20=5,MIN(HZ55,IA55,IB55,IC55,ID55),IF(Entries!$K$20=4,MIN(HZ55,IA55,IB55,IC55),IF(Entries!$K$20=3,MIN(HZ55,IA55,IB55),IF(Entries!$K$20=2,MIN(HZ55,IA55),IF(Entries!$K$20=1,0,0)))))","v":0},0,""]
[null,null,null,null,null,null,null,null,{"$f":"IF(Entries!$K$20=5,MIN(C56,D56,E56,F56,G56),IF(Entries!$K$20=4,MIN(C56,D56,E56,F56),IF(Entries!$K$20=3,MIN(C56,D56,E56),IF(Entries!$K$20=2,MIN(C56,D56),IF(Entries!$K$20=1,0,0)))))","v":0},0,"",null,null,null,null,null,null,null,null,{"$f":"IF(Entries!$K$20=5,MIN(N56,O56,P56,Q56,R56),IF(Entries!$K$20=4,MIN(N56,O56,P56,Q56),IF(Entries!$K$20=3,MIN(N56,O56,P56),IF(Entries!$K$20=2,MIN(N56,O56),IF(Entries!$K$20=1,0,0)))))","v":0},0,"",null,null,null,null,null,null,null,null,{"$f":"IF(Entries!$K$20=5,MIN(Y56,Z56,AA56,AB56,AC56),IF(Entries!$K$20=4,MIN(Y56,Z56,AA56,AB56),IF(Entries!$K$20=3,MIN(Y56,Z56,AA56),IF(Entries!$K$20=2,MIN(Y56,Z56),IF(Entries!$K$20=1,0,0)))))","v":0},0,"",null,null,null,null,null,null,null,null,{"$f":"IF(Entries!$K$20=5,MIN(AJ56,AK56,AL56,AM56,AN56),IF(Entries!$K$20=4,MIN(AJ56,AK56,AL56,AM56),IF(Entries!$K$20=3,MIN(AJ56,AK56,AL56),IF(Entries!$K$20=2,MIN(AJ56,AK56),IF(Entries!$K$20=1,0,0)))))","v":0},0,"",null,null,null,null,null,null,null,null,{"$f":"IF(Entries!$K$20=5,MIN(AU56,AV56,AW56,AX56,AY56),IF(Entries!$K$20=4,MIN(AU56,AV56,AW56,AX56),IF(Entries!$K$20=3,MIN(AU56,AV56,AW56),IF(Entries!$K$20=2,MIN(AU56,AV56),IF(Entries!$K$20=1,0,0)))))","v":0},0,"",null,"Victor Agular",0,0,0,93,0,93,{"$f":"IF(Entries!$K$20=5,MIN(BF56,BG56,BH56,BI56,BJ56),IF(Entries!$K$20=4,MIN(BF56,BG56,BH56,BI56),IF(Entries!$K$20=3,MIN(BF56,BG56,BH56),IF(Entries!$K$20=2,MIN(BF56,BG56),IF(Entries!$K$20=1,0,0)))))","v":0},93,8,null,"David Melcher",0,285,0,0,0,285,{"$f":"IF(Entries!$K$20=5,MIN(BQ56,BR56,BS56,BT56,BU56),IF(Entries!$K$20=4,MIN(BQ56,BR56,BS56,BT56),IF(Entries!$K$20=3,MIN(BQ56,BR56,BS56),IF(Entries!$K$20=2,MIN(BQ56,BR56),IF(Entries!$K$20=1,0,0)))))","v":0},285,8,null,null,null,null,null,null,null,null,{"$f":"IF(Entries!$K$20=5,MIN(CB56,CC56,CD56,CE56,CF56),IF(Entries!$K$20=4,MIN(CB56,CC56,CD56,CE56),IF(Entries!$K$20=3,MIN(CB56,CC56,CD56),IF(Entries!$K$20=2,MIN(CB56,CC56),IF(Entries!$K$20=1,0,0)))))","v":0},0,"",null,"Matthew O'Connor",0,465,0,0,0,465,{"$f":"IF(Entries!$K$20=5,MIN(CM56,CN56,CO56,CP56,CQ56),IF(Entries!$K$20=4,MIN(CM56,CN56,CO56,CP56),IF(Entries!$K$20=3,MIN(CM56,CN56,CO56),IF(Entries!$K$20=2,MIN(CM56,CN56),IF(Entries!$K$20=1,0,0)))))","v":0},465,8,null,null,null,null,null,null,null,null,{"$f":"IF(Entries!$K$20=5,MIN(CX56,CY56,CZ56,DA56,DB56),IF(Entries!$K$20=4,MIN(CX56,CY56,CZ56,DA56),IF(Entries!$K$20=3,MIN(CX56,CY56,CZ56),IF(Entries!$K$20=2,MIN(CX56,CY56),IF(Entries!$K$20=1,0,0)))))","v":0},0,"",null,"Raizel Burstein-Frame",159,159,174,0,0,492,{"$f":"IF(Entries!$K$20=5,MIN(DI56,DJ56,DK56,DL56,DM56),IF(Entries!$K$20=4,MIN(DI56,DJ56,DK56,DL56),IF(Entries!$K$20=3,MIN(DI56,DJ56,DK56),IF(Entries!$K$20=2,MIN(DI56,DJ56),IF(Entries!$K$20=1,0,0)))))","v":0},492,8,null,null,null,null,null,null,null,null,{"$f":"IF(Entries!$K$20=5,MIN(DT56,DU56,DV56,DW56,DX56),IF(Entries!$K$20=4,MIN(DT56,DU56,DV56,DW56),IF(Entries!$K$20=3,MIN(DT56,DU56,DV56),IF(Entries!$K$20=2,MIN(DT56,DU56),IF(Entries!$K$20=1,0,0)))))","v":0},0,"",null,null,null,null,null,null,null,null,{"$f":"IF(Entries!$K$20=5,MIN(EE56,EF56,EG56,EH56,EI56),IF(Entries!$K$20=4,MIN(EE56,EF56,EG56,EH56),IF(Entries!$K$20=3,MIN(EE56,EF56,EG56),IF(Entries!$K$20=2,MIN(EE56,EF56),IF(Entries!$K$20=1,0,0)))))","v":0},0,"",null,null,null,null,null,null,null,null,{"$f":"IF(Entries!$K$20=5,MIN(EP56,EQ56,ER56,ES56,ET56),IF(Entries!$K$20=4,MIN(EP56,EQ56,ER56,ES56),IF(Entries!$K$20=3,MIN(EP56,EQ56,ER56),IF(Entries!$K$20=2,MIN(EP56,EQ56),IF(Entries!$K$20=1,0,0)))))","v":0},0,"",null,null,null,null,null,null,null,null,{"$f":"IF(Entries!$K$20=5,MIN(FA56,FB56,FC56,FD56,FE56),IF(Entries!$K$20=4,MIN(FA56,FB56,FC56,FD56),IF(Entries!$K$20=3,MIN(FA56,FB56,FC56),IF(Entries!$K$20=2,MIN(FA56,FB56),IF(Entries!$K$20=1,0,0)))))","v":0},0,"",null,null,null,null,null,null,null,null,{"$f":"IF(Entries!$K$20=5,MIN(FL56,FM56,FN56,FO56,FP56),IF(Entries!$K$20=4,MIN(FL56,FM56,FN56,FO56),IF(Entries!$K$20=3,MIN(FL56,FM56,FN56),IF(Entries!$K$20=2,MIN(FL56,FM56),IF(Entries!$K$20=1,0,0)))))","v":0},0,"",null,null,null,null,null,null,null,null,{"$f":"IF(Entries!$K$20=5,MIN(FW56,FX56,FY56,FZ56,GA56),IF(Entries!$K$20=4,MIN(FW56,FX56,FY56,FZ56),IF(Entries!$K$20=3,MIN(FW56,FX56,FY56),IF(Entries!$K$20=2,MIN(FW56,FX56),IF(Entries!$K$20=1,0,0)))))","v":0},0,"",null,null,null,null,null,null,null,null,{"$f":"IF(Entries!$K$20=5,MIN(GH56,GI56,GJ56,GK56,GL56),IF(Entries!$K$20=4,MIN(GH56,GI56,GJ56,GK56),IF(Entries!$K$20=3,MIN(GH56,GI56,GJ56),IF(Entries!$K$20=2,MIN(GH56,GI56),IF(Entries!$K$20=1,0,0)))))","v":0},0,"",null,null,null,null,null,null,null,null,{"$f":"IF(Entries!$K$20=5,MIN(GS56,GT56,GU56,GV56,GW56),IF(Entries!$K$20=4,MIN(GS56,GT56,GU56,GV56),IF(Entries!$K$20=3,MIN(GS56,GT56,GU56),IF(Entries!$K$20=2,MIN(GS56,GT56),IF(Entries!$K$20=1,0,0)))))","v":0},0,"",null,null,null,null,null,null,null,null,{"$f":"IF(Entries!$K$20=5,MIN(HD56,HE56,HF56,HG56,HH56),IF(Entries!$K$20=4,MIN(HD56,HE56,HF56,HG56),IF(Entries!$K$20=3,MIN(HD56,HE56,HF56),IF(Entries!$K$20=2,MIN(HD56,HE56),IF(Entries!$K$20=1,0,0)))))","v":0},0,"",null,null,null,null,null,null,null,null,{"$f":"IF(Entries!$K$20=5,MIN(HO56,HP56,HQ56,HR56,HS56),IF(Entries!$K$20=4,MIN(HO56,HP56,HQ56,HR56),IF(Entries!$K$20=3,MIN(HO56,HP56,HQ56),IF(Entries!$K$20=2,MIN(HO56,HP56),IF(Entries!$K$20=1,0,0)))))","v":0},0,"",null,null,null,null,null,null,null,null,{"$f":"IF(Entries!$K$20=5,MIN(HZ56,IA56,IB56,IC56,ID56),IF(Entries!$K$20=4,MIN(HZ56,IA56,IB56,IC56),IF(Entries!$K$20=3,MIN(HZ56,IA56,IB56),IF(Entries!$K$20=2,MIN(HZ56,IA56),IF(Entries!$K$20=1,0,0)))))","v":0},0,""]
[null,null,null,null,null,null,null,null,{"$f":"IF(Entries!$K$20=5,MIN(C57,D57,E57,F57,G57),IF(Entries!$K$20=4,MIN(C57,D57,E57,F57),IF(Entries!$K$20=3,MIN(C57,D57,E57),IF(Entries!$K$20=2,MIN(C57,D57),IF(Entries!$K$20=1,0,0)))))","v":0},0,"",null,null,null,null,null,null,null,null,{"$f":"IF(Entries!$K$20=5,MIN(N57,O57,P57,Q57,R57),IF(Entries!$K$20=4,MIN(N57,O57,P57,Q57),IF(Entries!$K$20=3,MIN(N57,O57,P57),IF(Entries!$K$20=2,MIN(N57,O57),IF(Entries!$K$20=1,0,0)))))","v":0},0,"",null,null,null,null,null,null,null,null,{"$f":"IF(Entries!$K$20=5,MIN(Y57,Z57,AA57,AB57,AC57),IF(Entries!$K$20=4,MIN(Y57,Z57,AA57,AB57),IF(Entries!$K$20=3,MIN(Y57,Z57,AA57),IF(Entries!$K$20=2,MIN(Y57,Z57),IF(Entries!$K$20=1,0,0)))))","v":0},0,"",null,null,null,null,null,null,null,null,{"$f":"IF(Entries!$K$20=5,MIN(AJ57,AK57,AL57,AM57,AN57),IF(Entries!$K$20=4,MIN(AJ57,AK57,AL57,AM57),IF(Entries!$K$20=3,MIN(AJ57,AK57,AL57),IF(Entries!$K$20=2,MIN(AJ57,AK57),IF(Entries!$K$20=1,0,0)))))","v":0},0,"",null,null,null,null,null,null,null,null,{"$f":"IF(Entries!$K$20=5,MIN(AU57,AV57,AW57,AX57,AY57),IF(Entries!$K$20=4,MIN(AU57,AV57,AW57,AX57),IF(Entries!$K$20=3,MIN(AU57,AV57,AW57),IF(Entries!$K$20=2,MIN(AU57,AV57),IF(Entries!$K$20=1,0,0)))))","v":0},0,"",null,null,null,null,null,null,null,null,{"$f":"IF(Entries!$K$20=5,MIN(BF57,BG57,BH57,BI57,BJ57),IF(Entries!$K$20=4,MIN(BF57,BG57,BH57,BI57),IF(Entries!$K$20=3,MIN(BF57,BG57,BH57),IF(Entries!$K$20=2,MIN(BF57,BG57),IF(Entries!$K$20=1,0,0)))))","v":0},0,"",null,null,null,null,null,null,null,null,{"$f":"IF(Entries!$K$20=5,MIN(BQ57,BR57,BS57,BT57,BU57),IF(Entries!$K$20=4,MIN(BQ57,BR57,BS57,BT57),IF(Entries!$K$20=3,MIN(BQ57,BR57,BS57),IF(Entries!$K$20=2,MIN(BQ57,BR57),IF(Entries!$K$20=1,0,0)))))","v":0},0,"",null,null,null,null,null,null,null,null,{"$f":"IF(Entries!$K$20=5,MIN(CB57,CC57,CD57,CE57,CF57),IF(Entries!$K$20=4,MIN(CB57,CC57,CD57,CE57),IF(Entries!$K$20=3,MIN(CB57,CC57,CD57),IF(Entries!$K$20=2,MIN(CB57,CC57),IF(Entries!$K$20=1,0,0)))))","v":0},0,"",null,"Brian McDonagh MU",0,0,0,430,0,430,{"$f":"IF(Entries!$K$20=5,MIN(CM57,CN57,CO57,CP57,CQ57),IF(Entries!$K$20=4,MIN(CM57,CN57,CO57,CP57),IF(Entries!$K$20=3,MIN(CM57,CN57,CO57),IF(Entries!$K$20=2,MIN(CM57,CN57),IF(Entries!$K$20=1,0,0)))))","v":0},430,9,null,null,null,null,null,null,null,null,{"$f":"IF(Entries!$K$20=5,MIN(CX57,CY57,CZ57,DA57,DB57),IF(Entries!$K$20=4,MIN(CX57,CY57,CZ57,DA57),IF(Entries!$K$20=3,MIN(CX57,CY57,CZ57),IF(Entries!$K$20=2,MIN(CX57,CY57),IF(Entries!$K$20=1,0,0)))))","v":0},0,"",null,"Nada Khaled-Abdo",367,0,0,0,0,367,{"$f":"IF(Entries!$K$20=5,MIN(DI57,DJ57,DK57,DL57,DM57),IF(Entries!$K$20=4,MIN(DI57,DJ57,DK57,DL57),IF(Entries!$K$20=3,MIN(DI57,DJ57,DK57),IF(Entries!$K$20=2,MIN(DI57,DJ57),IF(Entries!$K$20=1,0,0)))))","v":0},367,9,null,null,null,null,null,null,null,null,{"$f":"IF(Entries!$K$20=5,MIN(DT57,DU57,DV57,DW57,DX57),IF(Entries!$K$20=4,MIN(DT57,DU57,DV57,DW57),IF(Entries!$K$20=3,MIN(DT57,DU57,DV57),IF(Entries!$K$20=2,MIN(DT57,DU57),IF(Entries!$K$20=1,0,0)))))","v":0},0,"",null,null,null,null,null,null,null,null,{"$f":"IF(Entries!$K$20=5,MIN(EE57,EF57,EG57,EH57,EI57),IF(Entries!$K$20=4,MIN(EE57,EF57,EG57,EH57),IF(Entries!$K$20=3,MIN(EE57,EF57,EG57),IF(Entries!$K$20=2,MIN(EE57,EF57),IF(Entries!$K$20=1,0,0)))))","v":0},0,"",null,null,null,null,null,null,null,null,{"$f":"IF(Entries!$K$20=5,MIN(EP57,EQ57,ER57,ES57,ET57),IF(Entries!$K$20=4,MIN(EP57,EQ57,ER57,ES57),IF(Entries!$K$20=3,MIN(EP57,EQ57,ER57),IF(Entries!$K$20=2,MIN(EP57,EQ57),IF(Entries!$K$20=1,0,0)))))","v":0},0,"",null,null,null,null,null,null,null,null,{"$f":"IF(Entries!$K$20=5,MIN(FA57,FB57,FC57,FD57,FE57),IF(Entries!$K$20=4,MIN(FA57,FB57,FC57,FD57),IF(Entries!$K$20=3,MIN(FA57,FB57,FC57),IF(Entries!$K$20=2,MIN(FA57,FB57),IF(Entries!$K$20=1,0,0)))))","v":0},0,"",null,null,null,null,null,null,null,null,{"$f":"IF(Entries!$K$20=5,MIN(FL57,FM57,FN57,FO57,FP57),IF(Entries!$K$20=4,MIN(FL57,FM57,FN57,FO57),IF(Entries!$K$20=3,MIN(FL57,FM57,FN57),IF(Entries!$K$20=2,MIN(FL57,FM57),IF(Entries!$K$20=1,0,0)))))","v":0},0,"",null,null,null,null,null,null,null,null,{"$f":"IF(Entries!$K$20=5,MIN(FW57,FX57,FY57,FZ57,GA57),IF(Entries!$K$20=4,MIN(FW57,FX57,FY57,FZ57),IF(Entries!$K$20=3,MIN(FW57,FX57,FY57),IF(Entries!$K$20=2,MIN(FW57,FX57),IF(Entries!$K$20=1,0,0)))))","v":0},0,"",null,null,null,null,null,null,null,null,{"$f":"IF(Entries!$K$20=5,MIN(GH57,GI57,GJ57,GK57,GL57),IF(Entries!$K$20=4,MIN(GH57,GI57,GJ57,GK57),IF(Entries!$K$20=3,MIN(GH57,GI57,GJ57),IF(Entries!$K$20=2,MIN(GH57,GI57),IF(Entries!$K$20=1,0,0)))))","v":0},0,"",null,null,null,null,null,null,null,null,{"$f":"IF(Entries!$K$20=5,MIN(GS57,GT57,GU57,GV57,GW57),IF(Entries!$K$20=4,MIN(GS57,GT57,GU57,GV57),IF(Entries!$K$20=3,MIN(GS57,GT57,GU57),IF(Entries!$K$20=2,MIN(GS57,GT57),IF(Entries!$K$20=1,0,0)))))","v":0},0,"",null,null,null,null,null,null,null,null,{"$f":"IF(Entries!$K$20=5,MIN(HD57,HE57,HF57,HG57,HH57),IF(Entries!$K$20=4,MIN(HD57,HE57,HF57,HG57),IF(Entries!$K$20=3,MIN(HD57,HE57,HF57),IF(Entries!$K$20=2,MIN(HD57,HE57),IF(Entries!$K$20=1,0,0)))))","v":0},0,"",null,null,null,null,null,null,null,null,{"$f":"IF(Entries!$K$20=5,MIN(HO57,HP57,HQ57,HR57,HS57),IF(Entries!$K$20=4,MIN(HO57,HP57,HQ57,HR57),IF(Entries!$K$20=3,MIN(HO57,HP57,HQ57),IF(Entries!$K$20=2,MIN(HO57,HP57),IF(Entries!$K$20=1,0,0)))))","v":0},0,"",null,null,null,null,null,null,null,null,{"$f":"IF(Entries!$K$20=5,MIN(HZ57,IA57,IB57,IC57,ID57),IF(Entries!$K$20=4,MIN(HZ57,IA57,IB57,IC57),IF(Entries!$K$20=3,MIN(HZ57,IA57,IB57),IF(Entries!$K$20=2,MIN(HZ57,IA57),IF(Entries!$K$20=1,0,0)))))","v":0},0,""]
[null,null,null,null,null,null,null,null,{"$f":"IF(Entries!$K$20=5,MIN(C58,D58,E58,F58,G58),IF(Entries!$K$20=4,MIN(C58,D58,E58,F58),IF(Entries!$K$20=3,MIN(C58,D58,E58),IF(Entries!$K$20=2,MIN(C58,D58),IF(Entries!$K$20=1,0,0)))))","v":0},0,"",null,null,null,null,null,null,null,null,{"$f":"IF(Entries!$K$20=5,MIN(N58,O58,P58,Q58,R58),IF(Entries!$K$20=4,MIN(N58,O58,P58,Q58),IF(Entries!$K$20=3,MIN(N58,O58,P58),IF(Entries!$K$20=2,MIN(N58,O58),IF(Entries!$K$20=1,0,0)))))","v":0},0,"",null,null,null,null,null,null,null,null,{"$f":"IF(Entries!$K$20=5,MIN(Y58,Z58,AA58,AB58,AC58),IF(Entries!$K$20=4,MIN(Y58,Z58,AA58,AB58),IF(Entries!$K$20=3,MIN(Y58,Z58,AA58),IF(Entries!$K$20=2,MIN(Y58,Z58),IF(Entries!$K$20=1,0,0)))))","v":0},0,"",null,null,null,null,null,null,null,null,{"$f":"IF(Entries!$K$20=5,MIN(AJ58,AK58,AL58,AM58,AN58),IF(Entries!$K$20=4,MIN(AJ58,AK58,AL58,AM58),IF(Entries!$K$20=3,MIN(AJ58,AK58,AL58),IF(Entries!$K$20=2,MIN(AJ58,AK58),IF(Entries!$K$20=1,0,0)))))","v":0},0,"",null,null,null,null,null,null,null,null,{"$f":"IF(Entries!$K$20=5,MIN(AU58,AV58,AW58,AX58,AY58),IF(Entries!$K$20=4,MIN(AU58,AV58,AW58,AX58),IF(Entries!$K$20=3,MIN(AU58,AV58,AW58),IF(Entries!$K$20=2,MIN(AU58,AV58),IF(Entries!$K$20=1,0,0)))))","v":0},0,"",null,null,null,null,null,null,null,null,{"$f":"IF(Entries!$K$20=5,MIN(BF58,BG58,BH58,BI58,BJ58),IF(Entries!$K$20=4,MIN(BF58,BG58,BH58,BI58),IF(Entries!$K$20=3,MIN(BF58,BG58,BH58),IF(Entries!$K$20=2,MIN(BF58,BG58),IF(Entries!$K$20=1,0,0)))))","v":0},0,"",null,null,null,null,null,null,null,null,{"$f":"IF(Entries!$K$20=5,MIN(BQ58,BR58,BS58,BT58,BU58),IF(Entries!$K$20=4,MIN(BQ58,BR58,BS58,BT58),IF(Entries!$K$20=3,MIN(BQ58,BR58,BS58),IF(Entries!$K$20=2,MIN(BQ58,BR58),IF(Entries!$K$20=1,0,0)))))","v":0},0,"",null,null,null,null,null,null,null,null,{"$f":"IF(Entries!$K$20=5,MIN(CB58,CC58,CD58,CE58,CF58),IF(Entries!$K$20=4,MIN(CB58,CC58,CD58,CE58),IF(Entries!$K$20=3,MIN(CB58,CC58,CD58),IF(Entries!$K$20=2,MIN(CB58,CC58),IF(Entries!$K$20=1,0,0)))))","v":0},0,"",null,"Ciarán Martin ",0,413,0,0,0,413,{"$f":"IF(Entries!$K$20=5,MIN(CM58,CN58,CO58,CP58,CQ58),IF(Entries!$K$20=4,MIN(CM58,CN58,CO58,CP58),IF(Entries!$K$20=3,MIN(CM58,CN58,CO58),IF(Entries!$K$20=2,MIN(CM58,CN58),IF(Entries!$K$20=1,0,0)))))","v":0},413,10,null,null,null,null,null,null,null,null,{"$f":"IF(Entries!$K$20=5,MIN(CX58,CY58,CZ58,DA58,DB58),IF(Entries!$K$20=4,MIN(CX58,CY58,CZ58,DA58),IF(Entries!$K$20=3,MIN(CX58,CY58,CZ58),IF(Entries!$K$20=2,MIN(CX58,CY58),IF(Entries!$K$20=1,0,0)))))","v":0},0,"",null,"Niamh Meyler",0,0,0,348,0,348,{"$f":"IF(Entries!$K$20=5,MIN(DI58,DJ58,DK58,DL58,DM58),IF(Entries!$K$20=4,MIN(DI58,DJ58,DK58,DL58),IF(Entries!$K$20=3,MIN(DI58,DJ58,DK58),IF(Entries!$K$20=2,MIN(DI58,DJ58),IF(Entries!$K$20=1,0,0)))))","v":0},348,10,null,null,null,null,null,null,null,null,{"$f":"IF(Entries!$K$20=5,MIN(DT58,DU58,DV58,DW58,DX58),IF(Entries!$K$20=4,MIN(DT58,DU58,DV58,DW58),IF(Entries!$K$20=3,MIN(DT58,DU58,DV58),IF(Entries!$K$20=2,MIN(DT58,DU58),IF(Entries!$K$20=1,0,0)))))","v":0},0,"",null,null,null,null,null,null,null,null,{"$f":"IF(Entries!$K$20=5,MIN(EE58,EF58,EG58,EH58,EI58),IF(Entries!$K$20=4,MIN(EE58,EF58,EG58,EH58),IF(Entries!$K$20=3,MIN(EE58,EF58,EG58),IF(Entries!$K$20=2,MIN(EE58,EF58),IF(Entries!$K$20=1,0,0)))))","v":0},0,"",null,null,null,null,null,null,null,null,{"$f":"IF(Entries!$K$20=5,MIN(EP58,EQ58,ER58,ES58,ET58),IF(Entries!$K$20=4,MIN(EP58,EQ58,ER58,ES58),IF(Entries!$K$20=3,MIN(EP58,EQ58,ER58),IF(Entries!$K$20=2,MIN(EP58,EQ58),IF(Entries!$K$20=1,0,0)))))","v":0},0,"",null,null,null,null,null,null,null,null,{"$f":"IF(Entries!$K$20=5,MIN(FA58,FB58,FC58,FD58,FE58),IF(Entries!$K$20=4,MIN(FA58,FB58,FC58,FD58),IF(Entries!$K$20=3,MIN(FA58,FB58,FC58),IF(Entries!$K$20=2,MIN(FA58,FB58),IF(Entries!$K$20=1,0,0)))))","v":0},0,"",null,null,null,null,null,null,null,null,{"$f":"IF(Entries!$K$20=5,MIN(FL58,FM58,FN58,FO58,FP58),IF(Entries!$K$20=4,MIN(FL58,FM58,FN58,FO58),IF(Entries!$K$20=3,MIN(FL58,FM58,FN58),IF(Entries!$K$20=2,MIN(FL58,FM58),IF(Entries!$K$20=1,0,0)))))","v":0},0,"",null,null,null,null,null,null,null,null,{"$f":"IF(Entries!$K$20=5,MIN(FW58,FX58,FY58,FZ58,GA58),IF(Entries!$K$20=4,MIN(FW58,FX58,FY58,FZ58),IF(Entries!$K$20=3,MIN(FW58,FX58,FY58),IF(Entries!$K$20=2,MIN(FW58,FX58),IF(Entries!$K$20=1,0,0)))))","v":0},0,"",null,null,null,null,null,null,null,null,{"$f":"IF(Entries!$K$20=5,MIN(GH58,GI58,GJ58,GK58,GL58),IF(Entries!$K$20=4,MIN(GH58,GI58,GJ58,GK58),IF(Entries!$K$20=3,MIN(GH58,GI58,GJ58),IF(Entries!$K$20=2,MIN(GH58,GI58),IF(Entries!$K$20=1,0,0)))))","v":0},0,"",null,null,null,null,null,null,null,null,{"$f":"IF(Entries!$K$20=5,MIN(GS58,GT58,GU58,GV58,GW58),IF(Entries!$K$20=4,MIN(GS58,GT58,GU58,GV58),IF(Entries!$K$20=3,MIN(GS58,GT58,GU58),IF(Entries!$K$20=2,MIN(GS58,GT58),IF(Entries!$K$20=1,0,0)))))","v":0},0,"",null,null,null,null,null,null,null,null,{"$f":"IF(Entries!$K$20=5,MIN(HD58,HE58,HF58,HG58,HH58),IF(Entries!$K$20=4,MIN(HD58,HE58,HF58,HG58),IF(Entries!$K$20=3,MIN(HD58,HE58,HF58),IF(Entries!$K$20=2,MIN(HD58,HE58),IF(Entries!$K$20=1,0,0)))))","v":0},0,"",null,null,null,null,null,null,null,null,{"$f":"IF(Entries!$K$20=5,MIN(HO58,HP58,HQ58,HR58,HS58),IF(Entries!$K$20=4,MIN(HO58,HP58,HQ58,HR58),IF(Entries!$K$20=3,MIN(HO58,HP58,HQ58),IF(Entries!$K$20=2,MIN(HO58,HP58),IF(Entries!$K$20=1,0,0)))))","v":0},0,"",null,null,null,null,null,null,null,null,{"$f":"IF(Entries!$K$20=5,MIN(HZ58,IA58,IB58,IC58,ID58),IF(Entries!$K$20=4,MIN(HZ58,IA58,IB58,IC58),IF(Entries!$K$20=3,MIN(HZ58,IA58,IB58),IF(Entries!$K$20=2,MIN(HZ58,IA58),IF(Entries!$K$20=1,0,0)))))","v":0},0,""]
[null,null,null,null,null,null,null,null,{"$f":"IF(Entries!$K$20=5,MIN(C59,D59,E59,F59,G59),IF(Entries!$K$20=4,MIN(C59,D59,E59,F59),IF(Entries!$K$20=3,MIN(C59,D59,E59),IF(Entries!$K$20=2,MIN(C59,D59),IF(Entries!$K$20=1,0,0)))))","v":0},0,"",null,null,null,null,null,null,null,null,{"$f":"IF(Entries!$K$20=5,MIN(N59,O59,P59,Q59,R59),IF(Entries!$K$20=4,MIN(N59,O59,P59,Q59),IF(Entries!$K$20=3,MIN(N59,O59,P59),IF(Entries!$K$20=2,MIN(N59,O59),IF(Entries!$K$20=1,0,0)))))","v":0},0,"",null,null,null,null,null,null,null,null,{"$f":"IF(Entries!$K$20=5,MIN(Y59,Z59,AA59,AB59,AC59),IF(Entries!$K$20=4,MIN(Y59,Z59,AA59,AB59),IF(Entries!$K$20=3,MIN(Y59,Z59,AA59),IF(Entries!$K$20=2,MIN(Y59,Z59),IF(Entries!$K$20=1,0,0)))))","v":0},0,"",null,null,null,null,null,null,null,null,{"$f":"IF(Entries!$K$20=5,MIN(AJ59,AK59,AL59,AM59,AN59),IF(Entries!$K$20=4,MIN(AJ59,AK59,AL59,AM59),IF(Entries!$K$20=3,MIN(AJ59,AK59,AL59),IF(Entries!$K$20=2,MIN(AJ59,AK59),IF(Entries!$K$20=1,0,0)))))","v":0},0,"",null,null,null,null,null,null,null,null,{"$f":"IF(Entries!$K$20=5,MIN(AU59,AV59,AW59,AX59,AY59),IF(Entries!$K$20=4,MIN(AU59,AV59,AW59,AX59),IF(Entries!$K$20=3,MIN(AU59,AV59,AW59),IF(Entries!$K$20=2,MIN(AU59,AV59),IF(Entries!$K$20=1,0,0)))))","v":0},0,"",null,null,null,null,null,null,null,null,{"$f":"IF(Entries!$K$20=5,MIN(BF59,BG59,BH59,BI59,BJ59),IF(Entries!$K$20=4,MIN(BF59,BG59,BH59,BI59),IF(Entries!$K$20=3,MIN(BF59,BG59,BH59),IF(Entries!$K$20=2,MIN(BF59,BG59),IF(Entries!$K$20=1,0,0)))))","v":0},0,"",null,null,null,null,null,null,null,null,{"$f":"IF(Entries!$K$20=5,MIN(BQ59,BR59,BS59,BT59,BU59),IF(Entries!$K$20=4,MIN(BQ59,BR59,BS59,BT59),IF(Entries!$K$20=3,MIN(BQ59,BR59,BS59),IF(Entries!$K$20=2,MIN(BQ59,BR59),IF(Entries!$K$20=1,0,0)))))","v":0},0,"",null,null,null,null,null,null,null,null,{"$f":"IF(Entries!$K$20=5,MIN(CB59,CC59,CD59,CE59,CF59),IF(Entries!$K$20=4,MIN(CB59,CC59,CD59,CE59),IF(Entries!$K$20=3,MIN(CB59,CC59,CD59),IF(Entries!$K$20=2,MIN(CB59,CC59),IF(Entries!$K$20=1,0,0)))))","v":0},0,"",null,"Victor Stoian",0,377,0,0,0,377,{"$f":"IF(Entries!$K$20=5,MIN(CM59,CN59,CO59,CP59,CQ59),IF(Entries!$K$20=4,MIN(CM59,CN59,CO59,CP59),IF(Entries!$K$20=3,MIN(CM59,CN59,CO59),IF(Entries!$K$20=2,MIN(CM59,CN59),IF(Entries!$K$20=1,0,0)))))","v":0},377,11,null,null,null,null,null,null,null,null,{"$f":"IF(Entries!$K$20=5,MIN(CX59,CY59,CZ59,DA59,DB59),IF(Entries!$K$20=4,MIN(CX59,CY59,CZ59,DA59),IF(Entries!$K$20=3,MIN(CX59,CY59,CZ59),IF(Entries!$K$20=2,MIN(CX59,CY59),IF(Entries!$K$20=1,0,0)))))","v":0},0,"",null,"Emily Flanagan",286,0,0,0,0,286,{"$f":"IF(Entries!$K$20=5,MIN(DI59,DJ59,DK59,DL59,DM59),IF(Entries!$K$20=4,MIN(DI59,DJ59,DK59,DL59),IF(Entries!$K$20=3,MIN(DI59,DJ59,DK59),IF(Entries!$K$20=2,MIN(DI59,DJ59),IF(Entries!$K$20=1,0,0)))))","v":0},286,11,null,null,null,null,null,null,null,null,{"$f":"IF(Entries!$K$20=5,MIN(DT59,DU59,DV59,DW59,DX59),IF(Entries!$K$20=4,MIN(DT59,DU59,DV59,DW59),IF(Entries!$K$20=3,MIN(DT59,DU59,DV59),IF(Entries!$K$20=2,MIN(DT59,DU59),IF(Entries!$K$20=1,0,0)))))","v":0},0,"",null,null,null,null,null,null,null,null,{"$f":"IF(Entries!$K$20=5,MIN(EE59,EF59,EG59,EH59,EI59),IF(Entries!$K$20=4,MIN(EE59,EF59,EG59,EH59),IF(Entries!$K$20=3,MIN(EE59,EF59,EG59),IF(Entries!$K$20=2,MIN(EE59,EF59),IF(Entries!$K$20=1,0,0)))))","v":0},0,"",null,null,null,null,null,null,null,null,{"$f":"IF(Entries!$K$20=5,MIN(EP59,EQ59,ER59,ES59,ET59),IF(Entries!$K$20=4,MIN(EP59,EQ59,ER59,ES59),IF(Entries!$K$20=3,MIN(EP59,EQ59,ER59),IF(Entries!$K$20=2,MIN(EP59,EQ59),IF(Entries!$K$20=1,0,0)))))","v":0},0,"",null,null,null,null,null,null,null,null,{"$f":"IF(Entries!$K$20=5,MIN(FA59,FB59,FC59,FD59,FE59),IF(Entries!$K$20=4,MIN(FA59,FB59,FC59,FD59),IF(Entries!$K$20=3,MIN(FA59,FB59,FC59),IF(Entries!$K$20=2,MIN(FA59,FB59),IF(Entries!$K$20=1,0,0)))))","v":0},0,"",null,null,null,null,null,null,null,null,{"$f":"IF(Entries!$K$20=5,MIN(FL59,FM59,FN59,FO59,FP59),IF(Entries!$K$20=4,MIN(FL59,FM59,FN59,FO59),IF(Entries!$K$20=3,MIN(FL59,FM59,FN59),IF(Entries!$K$20=2,MIN(FL59,FM59),IF(Entries!$K$20=1,0,0)))))","v":0},0,"",null,null,null,null,null,null,null,null,{"$f":"IF(Entries!$K$20=5,MIN(FW59,FX59,FY59,FZ59,GA59),IF(Entries!$K$20=4,MIN(FW59,FX59,FY59,FZ59),IF(Entries!$K$20=3,MIN(FW59,FX59,FY59),IF(Entries!$K$20=2,MIN(FW59,FX59),IF(Entries!$K$20=1,0,0)))))","v":0},0,"",null,null,null,null,null,null,null,null,{"$f":"IF(Entries!$K$20=5,MIN(GH59,GI59,GJ59,GK59,GL59),IF(Entries!$K$20=4,MIN(GH59,GI59,GJ59,GK59),IF(Entries!$K$20=3,MIN(GH59,GI59,GJ59),IF(Entries!$K$20=2,MIN(GH59,GI59),IF(Entries!$K$20=1,0,0)))))","v":0},0,"",null,null,null,null,null,null,null,null,{"$f":"IF(Entries!$K$20=5,MIN(GS59,GT59,GU59,GV59,GW59),IF(Entries!$K$20=4,MIN(GS59,GT59,GU59,GV59),IF(Entries!$K$20=3,MIN(GS59,GT59,GU59),IF(Entries!$K$20=2,MIN(GS59,GT59),IF(Entries!$K$20=1,0,0)))))","v":0},0,"",null,null,null,null,null,null,null,null,{"$f":"IF(Entries!$K$20=5,MIN(HD59,HE59,HF59,HG59,HH59),IF(Entries!$K$20=4,MIN(HD59,HE59,HF59,HG59),IF(Entries!$K$20=3,MIN(HD59,HE59,HF59),IF(Entries!$K$20=2,MIN(HD59,HE59),IF(Entries!$K$20=1,0,0)))))","v":0},0,"",null,null,null,null,null,null,null,null,{"$f":"IF(Entries!$K$20=5,MIN(HO59,HP59,HQ59,HR59,HS59),IF(Entries!$K$20=4,MIN(HO59,HP59,HQ59,HR59),IF(Entries!$K$20=3,MIN(HO59,HP59,HQ59),IF(Entries!$K$20=2,MIN(HO59,HP59),IF(Entries!$K$20=1,0,0)))))","v":0},0,"",null,null,null,null,null,null,null,null,{"$f":"IF(Entries!$K$20=5,MIN(HZ59,IA59,IB59,IC59,ID59),IF(Entries!$K$20=4,MIN(HZ59,IA59,IB59,IC59),IF(Entries!$K$20=3,MIN(HZ59,IA59,IB59),IF(Entries!$K$20=2,MIN(HZ59,IA59),IF(Entries!$K$20=1,0,0)))))","v":0},0,""]
[null,null,null,null,null,null,null,null,{"$f":"IF(Entries!$K$20=5,MIN(C60,D60,E60,F60,G60),IF(Entries!$K$20=4,MIN(C60,D60,E60,F60),IF(Entries!$K$20=3,MIN(C60,D60,E60),IF(Entries!$K$20=2,MIN(C60,D60),IF(Entries!$K$20=1,0,0)))))","v":0},0,"",null,null,null,null,null,null,null,null,{"$f":"IF(Entries!$K$20=5,MIN(N60,O60,P60,Q60,R60),IF(Entries!$K$20=4,MIN(N60,O60,P60,Q60),IF(Entries!$K$20=3,MIN(N60,O60,P60),IF(Entries!$K$20=2,MIN(N60,O60),IF(Entries!$K$20=1,0,0)))))","v":0},0,"",null,null,null,null,null,null,null,null,{"$f":"IF(Entries!$K$20=5,MIN(Y60,Z60,AA60,AB60,AC60),IF(Entries!$K$20=4,MIN(Y60,Z60,AA60,AB60),IF(Entries!$K$20=3,MIN(Y60,Z60,AA60),IF(Entries!$K$20=2,MIN(Y60,Z60),IF(Entries!$K$20=1,0,0)))))","v":0},0,"",null,null,null,null,null,null,null,null,{"$f":"IF(Entries!$K$20=5,MIN(AJ60,AK60,AL60,AM60,AN60),IF(Entries!$K$20=4,MIN(AJ60,AK60,AL60,AM60),IF(Entries!$K$20=3,MIN(AJ60,AK60,AL60),IF(Entries!$K$20=2,MIN(AJ60,AK60),IF(Entries!$K$20=1,0,0)))))","v":0},0,"",null,null,null,null,null,null,null,null,{"$f":"IF(Entries!$K$20=5,MIN(AU60,AV60,AW60,AX60,AY60),IF(Entries!$K$20=4,MIN(AU60,AV60,AW60,AX60),IF(Entries!$K$20=3,MIN(AU60,AV60,AW60),IF(Entries!$K$20=2,MIN(AU60,AV60),IF(Entries!$K$20=1,0,0)))))","v":0},0,"",null,null,null,null,null,null,null,null,{"$f":"IF(Entries!$K$20=5,MIN(BF60,BG60,BH60,BI60,BJ60),IF(Entries!$K$20=4,MIN(BF60,BG60,BH60,BI60),IF(Entries!$K$20=3,MIN(BF60,BG60,BH60),IF(Entries!$K$20=2,MIN(BF60,BG60),IF(Entries!$K$20=1,0,0)))))","v":0},0,"",null,null,null,null,null,null,null,null,{"$f":"IF(Entries!$K$20=5,MIN(BQ60,BR60,BS60,BT60,BU60),IF(Entries!$K$20=4,MIN(BQ60,BR60,BS60,BT60),IF(Entries!$K$20=3,MIN(BQ60,BR60,BS60),IF(Entries!$K$20=2,MIN(BQ60,BR60),IF(Entries!$K$20=1,0,0)))))","v":0},0,"",null,null,null,null,null,null,null,null,{"$f":"IF(Entries!$K$20=5,MIN(CB60,CC60,CD60,CE60,CF60),IF(Entries!$K$20=4,MIN(CB60,CC60,CD60,CE60),IF(Entries!$K$20=3,MIN(CB60,CC60,CD60),IF(Entries!$K$20=2,MIN(CB60,CC60),IF(Entries!$K$20=1,0,0)))))","v":0},0,"",null,"Connor Newman",359,0,0,0,0,359,{"$f":"IF(Entries!$K$20=5,MIN(CM60,CN60,CO60,CP60,CQ60),IF(Entries!$K$20=4,MIN(CM60,CN60,CO60,CP60),IF(Entries!$K$20=3,MIN(CM60,CN60,CO60),IF(Entries!$K$20=2,MIN(CM60,CN60),IF(Entries!$K$20=1,0,0)))))","v":0},359,12,null,null,null,null,null,null,null,null,{"$f":"IF(Entries!$K$20=5,MIN(CX60,CY60,CZ60,DA60,DB60),IF(Entries!$K$20=4,MIN(CX60,CY60,CZ60,DA60),IF(Entries!$K$20=3,MIN(CX60,CY60,CZ60),IF(Entries!$K$20=2,MIN(CX60,CY60),IF(Entries!$K$20=1,0,0)))))","v":0},0,"",null,"Vojtěch Halama",0,271,0,0,0,271,{"$f":"IF(Entries!$K$20=5,MIN(DI60,DJ60,DK60,DL60,DM60),IF(Entries!$K$20=4,MIN(DI60,DJ60,DK60,DL60),IF(Entries!$K$20=3,MIN(DI60,DJ60,DK60),IF(Entries!$K$20=2,MIN(DI60,DJ60),IF(Entries!$K$20=1,0,0)))))","v":0},271,12,null,null,null,null,null,null,null,null,{"$f":"IF(Entries!$K$20=5,MIN(DT60,DU60,DV60,DW60,DX60),IF(Entries!$K$20=4,MIN(DT60,DU60,DV60,DW60),IF(Entries!$K$20=3,MIN(DT60,DU60,DV60),IF(Entries!$K$20=2,MIN(DT60,DU60),IF(Entries!$K$20=1,0,0)))))","v":0},0,"",null,null,null,null,null,null,null,null,{"$f":"IF(Entries!$K$20=5,MIN(EE60,EF60,EG60,EH60,EI60),IF(Entries!$K$20=4,MIN(EE60,EF60,EG60,EH60),IF(Entries!$K$20=3,MIN(EE60,EF60,EG60),IF(Entries!$K$20=2,MIN(EE60,EF60),IF(Entries!$K$20=1,0,0)))))","v":0},0,"",null,null,null,null,null,null,null,null,{"$f":"IF(Entries!$K$20=5,MIN(EP60,EQ60,ER60,ES60,ET60),IF(Entries!$K$20=4,MIN(EP60,EQ60,ER60,ES60),IF(Entries!$K$20=3,MIN(EP60,EQ60,ER60),IF(Entries!$K$20=2,MIN(EP60,EQ60),IF(Entries!$K$20=1,0,0)))))","v":0},0,"",null,null,null,null,null,null,null,null,{"$f":"IF(Entries!$K$20=5,MIN(FA60,FB60,FC60,FD60,FE60),IF(Entries!$K$20=4,MIN(FA60,FB60,FC60,FD60),IF(Entries!$K$20=3,MIN(FA60,FB60,FC60),IF(Entries!$K$20=2,MIN(FA60,FB60),IF(Entries!$K$20=1,0,0)))))","v":0},0,"",null,null,null,null,null,null,null,null,{"$f":"IF(Entries!$K$20=5,MIN(FL60,FM60,FN60,FO60,FP60),IF(Entries!$K$20=4,MIN(FL60,FM60,FN60,FO60),IF(Entries!$K$20=3,MIN(FL60,FM60,FN60),IF(Entries!$K$20=2,MIN(FL60,FM60),IF(Entries!$K$20=1,0,0)))))","v":0},0,"",null,null,null,null,null,null,null,null,{"$f":"IF(Entries!$K$20=5,MIN(FW60,FX60,FY60,FZ60,GA60),IF(Entries!$K$20=4,MIN(FW60,FX60,FY60,FZ60),IF(Entries!$K$20=3,MIN(FW60,FX60,FY60),IF(Entries!$K$20=2,MIN(FW60,FX60),IF(Entries!$K$20=1,0,0)))))","v":0},0,"",null,null,null,null,null,null,null,null,{"$f":"IF(Entries!$K$20=5,MIN(GH60,GI60,GJ60,GK60,GL60),IF(Entries!$K$20=4,MIN(GH60,GI60,GJ60,GK60),IF(Entries!$K$20=3,MIN(GH60,GI60,GJ60),IF(Entries!$K$20=2,MIN(GH60,GI60),IF(Entries!$K$20=1,0,0)))))","v":0},0,"",null,null,null,null,null,null,null,null,{"$f":"IF(Entries!$K$20=5,MIN(GS60,GT60,GU60,GV60,GW60),IF(Entries!$K$20=4,MIN(GS60,GT60,GU60,GV60),IF(Entries!$K$20=3,MIN(GS60,GT60,GU60),IF(Entries!$K$20=2,MIN(GS60,GT60),IF(Entries!$K$20=1,0,0)))))","v":0},0,"",null,null,null,null,null,null,null,null,{"$f":"IF(Entries!$K$20=5,MIN(HD60,HE60,HF60,HG60,HH60),IF(Entries!$K$20=4,MIN(HD60,HE60,HF60,HG60),IF(Entries!$K$20=3,MIN(HD60,HE60,HF60),IF(Entries!$K$20=2,MIN(HD60,HE60),IF(Entries!$K$20=1,0,0)))))","v":0},0,"",null,null,null,null,null,null,null,null,{"$f":"IF(Entries!$K$20=5,MIN(HO60,HP60,HQ60,HR60,HS60),IF(Entries!$K$20=4,MIN(HO60,HP60,HQ60,HR60),IF(Entries!$K$20=3,MIN(HO60,HP60,HQ60),IF(Entries!$K$20=2,MIN(HO60,HP60),IF(Entries!$K$20=1,0,0)))))","v":0},0,"",null,null,null,null,null,null,null,null,{"$f":"IF(Entries!$K$20=5,MIN(HZ60,IA60,IB60,IC60,ID60),IF(Entries!$K$20=4,MIN(HZ60,IA60,IB60,IC60),IF(Entries!$K$20=3,MIN(HZ60,IA60,IB60),IF(Entries!$K$20=2,MIN(HZ60,IA60),IF(Entries!$K$20=1,0,0)))))","v":0},0,""]
[null,null,null,null,null,null,null,null,{"$f":"IF(Entries!$K$20=5,MIN(C61,D61,E61,F61,G61),IF(Entries!$K$20=4,MIN(C61,D61,E61,F61),IF(Entries!$K$20=3,MIN(C61,D61,E61),IF(Entries!$K$20=2,MIN(C61,D61),IF(Entries!$K$20=1,0,0)))))","v":0},0,"",null,null,null,null,null,null,null,null,{"$f":"IF(Entries!$K$20=5,MIN(N61,O61,P61,Q61,R61),IF(Entries!$K$20=4,MIN(N61,O61,P61,Q61),IF(Entries!$K$20=3,MIN(N61,O61,P61),IF(Entries!$K$20=2,MIN(N61,O61),IF(Entries!$K$20=1,0,0)))))","v":0},0,"",null,null,null,null,null,null,null,null,{"$f":"IF(Entries!$K$20=5,MIN(Y61,Z61,AA61,AB61,AC61),IF(Entries!$K$20=4,MIN(Y61,Z61,AA61,AB61),IF(Entries!$K$20=3,MIN(Y61,Z61,AA61),IF(Entries!$K$20=2,MIN(Y61,Z61),IF(Entries!$K$20=1,0,0)))))","v":0},0,"",null,null,null,null,null,null,null,null,{"$f":"IF(Entries!$K$20=5,MIN(AJ61,AK61,AL61,AM61,AN61),IF(Entries!$K$20=4,MIN(AJ61,AK61,AL61,AM61),IF(Entries!$K$20=3,MIN(AJ61,AK61,AL61),IF(Entries!$K$20=2,MIN(AJ61,AK61),IF(Entries!$K$20=1,0,0)))))","v":0},0,"",null,null,null,null,null,null,null,null,{"$f":"IF(Entries!$K$20=5,MIN(AU61,AV61,AW61,AX61,AY61),IF(Entries!$K$20=4,MIN(AU61,AV61,AW61,AX61),IF(Entries!$K$20=3,MIN(AU61,AV61,AW61),IF(Entries!$K$20=2,MIN(AU61,AV61),IF(Entries!$K$20=1,0,0)))))","v":0},0,"",null,null,null,null,null,null,null,null,{"$f":"IF(Entries!$K$20=5,MIN(BF61,BG61,BH61,BI61,BJ61),IF(Entries!$K$20=4,MIN(BF61,BG61,BH61,BI61),IF(Entries!$K$20=3,MIN(BF61,BG61,BH61),IF(Entries!$K$20=2,MIN(BF61,BG61),IF(Entries!$K$20=1,0,0)))))","v":0},0,"",null,null,null,null,null,null,null,null,{"$f":"IF(Entries!$K$20=5,MIN(BQ61,BR61,BS61,BT61,BU61),IF(Entries!$K$20=4,MIN(BQ61,BR61,BS61,BT61),IF(Entries!$K$20=3,MIN(BQ61,BR61,BS61),IF(Entries!$K$20=2,MIN(BQ61,BR61),IF(Entries!$K$20=1,0,0)))))","v":0},0,"",null,null,null,null,null,null,null,null,{"$f":"IF(Entries!$K$20=5,MIN(CB61,CC61,CD61,CE61,CF61),IF(Entries!$K$20=4,MIN(CB61,CC61,CD61,CE61),IF(Entries!$K$20=3,MIN(CB61,CC61,CD61),IF(Entries!$K$20=2,MIN(CB61,CC61),IF(Entries!$K$20=1,0,0)))))","v":0},0,"",null,"Raymond Onwunali",0,0,0,0,334,334,{"$f":"IF(Entries!$K$20=5,MIN(CM61,CN61,CO61,CP61,CQ61),IF(Entries!$K$20=4,MIN(CM61,CN61,CO61,CP61),IF(Entries!$K$20=3,MIN(CM61,CN61,CO61),IF(Entries!$K$20=2,MIN(CM61,CN61),IF(Entries!$K$20=1,0,0)))))","v":0},334,13,null,null,null,null,null,null,null,null,{"$f":"IF(Entries!$K$20=5,MIN(CX61,CY61,CZ61,DA61,DB61),IF(Entries!$K$20=4,MIN(CX61,CY61,CZ61,DA61),IF(Entries!$K$20=3,MIN(CX61,CY61,CZ61),IF(Entries!$K$20=2,MIN(CX61,CY61),IF(Entries!$K$20=1,0,0)))))","v":0},0,"",null,"Anke Jaeger",0,250,0,0,0,250,{"$f":"IF(Entries!$K$20=5,MIN(DI61,DJ61,DK61,DL61,DM61),IF(Entries!$K$20=4,MIN(DI61,DJ61,DK61,DL61),IF(Entries!$K$20=3,MIN(DI61,DJ61,DK61),IF(Entries!$K$20=2,MIN(DI61,DJ61),IF(Entries!$K$20=1,0,0)))))","v":0},250,13,null,null,null,null,null,null,null,null,{"$f":"IF(Entries!$K$20=5,MIN(DT61,DU61,DV61,DW61,DX61),IF(Entries!$K$20=4,MIN(DT61,DU61,DV61,DW61),IF(Entries!$K$20=3,MIN(DT61,DU61,DV61),IF(Entries!$K$20=2,MIN(DT61,DU61),IF(Entries!$K$20=1,0,0)))))","v":0},0,"",null,null,null,null,null,null,null,null,{"$f":"IF(Entries!$K$20=5,MIN(EE61,EF61,EG61,EH61,EI61),IF(Entries!$K$20=4,MIN(EE61,EF61,EG61,EH61),IF(Entries!$K$20=3,MIN(EE61,EF61,EG61),IF(Entries!$K$20=2,MIN(EE61,EF61),IF(Entries!$K$20=1,0,0)))))","v":0},0,"",null,null,null,null,null,null,null,null,{"$f":"IF(Entries!$K$20=5,MIN(EP61,EQ61,ER61,ES61,ET61),IF(Entries!$K$20=4,MIN(EP61,EQ61,ER61,ES61),IF(Entries!$K$20=3,MIN(EP61,EQ61,ER61),IF(Entries!$K$20=2,MIN(EP61,EQ61),IF(Entries!$K$20=1,0,0)))))","v":0},0,"",null,null,null,null,null,null,null,null,{"$f":"IF(Entries!$K$20=5,MIN(FA61,FB61,FC61,FD61,FE61),IF(Entries!$K$20=4,MIN(FA61,FB61,FC61,FD61),IF(Entries!$K$20=3,MIN(FA61,FB61,FC61),IF(Entries!$K$20=2,MIN(FA61,FB61),IF(Entries!$K$20=1,0,0)))))","v":0},0,"",null,null,null,null,null,null,null,null,{"$f":"IF(Entries!$K$20=5,MIN(FL61,FM61,FN61,FO61,FP61),IF(Entries!$K$20=4,MIN(FL61,FM61,FN61,FO61),IF(Entries!$K$20=3,MIN(FL61,FM61,FN61),IF(Entries!$K$20=2,MIN(FL61,FM61),IF(Entries!$K$20=1,0,0)))))","v":0},0,"",null,null,null,null,null,null,null,null,{"$f":"IF(Entries!$K$20=5,MIN(FW61,FX61,FY61,FZ61,GA61),IF(Entries!$K$20=4,MIN(FW61,FX61,FY61,FZ61),IF(Entries!$K$20=3,MIN(FW61,FX61,FY61),IF(Entries!$K$20=2,MIN(FW61,FX61),IF(Entries!$K$20=1,0,0)))))","v":0},0,"",null,null,null,null,null,null,null,null,{"$f":"IF(Entries!$K$20=5,MIN(GH61,GI61,GJ61,GK61,GL61),IF(Entries!$K$20=4,MIN(GH61,GI61,GJ61,GK61),IF(Entries!$K$20=3,MIN(GH61,GI61,GJ61),IF(Entries!$K$20=2,MIN(GH61,GI61),IF(Entries!$K$20=1,0,0)))))","v":0},0,"",null,null,null,null,null,null,null,null,{"$f":"IF(Entries!$K$20=5,MIN(GS61,GT61,GU61,GV61,GW61),IF(Entries!$K$20=4,MIN(GS61,GT61,GU61,GV61),IF(Entries!$K$20=3,MIN(GS61,GT61,GU61),IF(Entries!$K$20=2,MIN(GS61,GT61),IF(Entries!$K$20=1,0,0)))))","v":0},0,"",null,null,null,null,null,null,null,null,{"$f":"IF(Entries!$K$20=5,MIN(HD61,HE61,HF61,HG61,HH61),IF(Entries!$K$20=4,MIN(HD61,HE61,HF61,HG61),IF(Entries!$K$20=3,MIN(HD61,HE61,HF61),IF(Entries!$K$20=2,MIN(HD61,HE61),IF(Entries!$K$20=1,0,0)))))","v":0},0,"",null,null,null,null,null,null,null,null,{"$f":"IF(Entries!$K$20=5,MIN(HO61,HP61,HQ61,HR61,HS61),IF(Entries!$K$20=4,MIN(HO61,HP61,HQ61,HR61),IF(Entries!$K$20=3,MIN(HO61,HP61,HQ61),IF(Entries!$K$20=2,MIN(HO61,HP61),IF(Entries!$K$20=1,0,0)))))","v":0},0,"",null,null,null,null,null,null,null,null,{"$f":"IF(Entries!$K$20=5,MIN(HZ61,IA61,IB61,IC61,ID61),IF(Entries!$K$20=4,MIN(HZ61,IA61,IB61,IC61),IF(Entries!$K$20=3,MIN(HZ61,IA61,IB61),IF(Entries!$K$20=2,MIN(HZ61,IA61),IF(Entries!$K$20=1,0,0)))))","v":0},0,""]
[null,null,null,null,null,null,null,null,{"$f":"IF(Entries!$K$20=5,MIN(C62,D62,E62,F62,G62),IF(Entries!$K$20=4,MIN(C62,D62,E62,F62),IF(Entries!$K$20=3,MIN(C62,D62,E62),IF(Entries!$K$20=2,MIN(C62,D62),IF(Entries!$K$20=1,0,0)))))","v":0},0,"",null,null,null,null,null,null,null,null,{"$f":"IF(Entries!$K$20=5,MIN(N62,O62,P62,Q62,R62),IF(Entries!$K$20=4,MIN(N62,O62,P62,Q62),IF(Entries!$K$20=3,MIN(N62,O62,P62),IF(Entries!$K$20=2,MIN(N62,O62),IF(Entries!$K$20=1,0,0)))))","v":0},0,"",null,null,null,null,null,null,null,null,{"$f":"IF(Entries!$K$20=5,MIN(Y62,Z62,AA62,AB62,AC62),IF(Entries!$K$20=4,MIN(Y62,Z62,AA62,AB62),IF(Entries!$K$20=3,MIN(Y62,Z62,AA62),IF(Entries!$K$20=2,MIN(Y62,Z62),IF(Entries!$K$20=1,0,0)))))","v":0},0,"",null,null,null,null,null,null,null,null,{"$f":"IF(Entries!$K$20=5,MIN(AJ62,AK62,AL62,AM62,AN62),IF(Entries!$K$20=4,MIN(AJ62,AK62,AL62,AM62),IF(Entries!$K$20=3,MIN(AJ62,AK62,AL62),IF(Entries!$K$20=2,MIN(AJ62,AK62),IF(Entries!$K$20=1,0,0)))))","v":0},0,"",null,null,null,null,null,null,null,null,{"$f":"IF(Entries!$K$20=5,MIN(AU62,AV62,AW62,AX62,AY62),IF(Entries!$K$20=4,MIN(AU62,AV62,AW62,AX62),IF(Entries!$K$20=3,MIN(AU62,AV62,AW62),IF(Entries!$K$20=2,MIN(AU62,AV62),IF(Entries!$K$20=1,0,0)))))","v":0},0,"",null,null,null,null,null,null,null,null,{"$f":"IF(Entries!$K$20=5,MIN(BF62,BG62,BH62,BI62,BJ62),IF(Entries!$K$20=4,MIN(BF62,BG62,BH62,BI62),IF(Entries!$K$20=3,MIN(BF62,BG62,BH62),IF(Entries!$K$20=2,MIN(BF62,BG62),IF(Entries!$K$20=1,0,0)))))","v":0},0,"",null,null,null,null,null,null,null,null,{"$f":"IF(Entries!$K$20=5,MIN(BQ62,BR62,BS62,BT62,BU62),IF(Entries!$K$20=4,MIN(BQ62,BR62,BS62,BT62),IF(Entries!$K$20=3,MIN(BQ62,BR62,BS62),IF(Entries!$K$20=2,MIN(BQ62,BR62),IF(Entries!$K$20=1,0,0)))))","v":0},0,"",null,null,null,null,null,null,null,null,{"$f":"IF(Entries!$K$20=5,MIN(CB62,CC62,CD62,CE62,CF62),IF(Entries!$K$20=4,MIN(CB62,CC62,CD62,CE62),IF(Entries!$K$20=3,MIN(CB62,CC62,CD62),IF(Entries!$K$20=2,MIN(CB62,CC62),IF(Entries!$K$20=1,0,0)))))","v":0},0,"",null,"Laury Despres",310,0,0,0,0,310,{"$f":"IF(Entries!$K$20=5,MIN(CM62,CN62,CO62,CP62,CQ62),IF(Entries!$K$20=4,MIN(CM62,CN62,CO62,CP62),IF(Entries!$K$20=3,MIN(CM62,CN62,CO62),IF(Entries!$K$20=2,MIN(CM62,CN62),IF(Entries!$K$20=1,0,0)))))","v":0},310,14,null,null,null,null,null,null,null,null,{"$f":"IF(Entries!$K$20=5,MIN(CX62,CY62,CZ62,DA62,DB62),IF(Entries!$K$20=4,MIN(CX62,CY62,CZ62,DA62),IF(Entries!$K$20=3,MIN(CX62,CY62,CZ62),IF(Entries!$K$20=2,MIN(CX62,CY62),IF(Entries!$K$20=1,0,0)))))","v":0},0,"",null,"Alessandra Pennesi",0,0,211,0,0,211,{"$f":"IF(Entries!$K$20=5,MIN(DI62,DJ62,DK62,DL62,DM62),IF(Entries!$K$20=4,MIN(DI62,DJ62,DK62,DL62),IF(Entries!$K$20=3,MIN(DI62,DJ62,DK62),IF(Entries!$K$20=2,MIN(DI62,DJ62),IF(Entries!$K$20=1,0,0)))))","v":0},211,14,null,null,null,null,null,null,null,null,{"$f":"IF(Entries!$K$20=5,MIN(DT62,DU62,DV62,DW62,DX62),IF(Entries!$K$20=4,MIN(DT62,DU62,DV62,DW62),IF(Entries!$K$20=3,MIN(DT62,DU62,DV62),IF(Entries!$K$20=2,MIN(DT62,DU62),IF(Entries!$K$20=1,0,0)))))","v":0},0,"",null,null,null,null,null,null,null,null,{"$f":"IF(Entries!$K$20=5,MIN(EE62,EF62,EG62,EH62,EI62),IF(Entries!$K$20=4,MIN(EE62,EF62,EG62,EH62),IF(Entries!$K$20=3,MIN(EE62,EF62,EG62),IF(Entries!$K$20=2,MIN(EE62,EF62),IF(Entries!$K$20=1,0,0)))))","v":0},0,"",null,null,null,null,null,null,null,null,{"$f":"IF(Entries!$K$20=5,MIN(EP62,EQ62,ER62,ES62,ET62),IF(Entries!$K$20=4,MIN(EP62,EQ62,ER62,ES62),IF(Entries!$K$20=3,MIN(EP62,EQ62,ER62),IF(Entries!$K$20=2,MIN(EP62,EQ62),IF(Entries!$K$20=1,0,0)))))","v":0},0,"",null,null,null,null,null,null,null,null,{"$f":"IF(Entries!$K$20=5,MIN(FA62,FB62,FC62,FD62,FE62),IF(Entries!$K$20=4,MIN(FA62,FB62,FC62,FD62),IF(Entries!$K$20=3,MIN(FA62,FB62,FC62),IF(Entries!$K$20=2,MIN(FA62,FB62),IF(Entries!$K$20=1,0,0)))))","v":0},0,"",null,null,null,null,null,null,null,null,{"$f":"IF(Entries!$K$20=5,MIN(FL62,FM62,FN62,FO62,FP62),IF(Entries!$K$20=4,MIN(FL62,FM62,FN62,FO62),IF(Entries!$K$20=3,MIN(FL62,FM62,FN62),IF(Entries!$K$20=2,MIN(FL62,FM62),IF(Entries!$K$20=1,0,0)))))","v":0},0,"",null,null,null,null,null,null,null,null,{"$f":"IF(Entries!$K$20=5,MIN(FW62,FX62,FY62,FZ62,GA62),IF(Entries!$K$20=4,MIN(FW62,FX62,FY62,FZ62),IF(Entries!$K$20=3,MIN(FW62,FX62,FY62),IF(Entries!$K$20=2,MIN(FW62,FX62),IF(Entries!$K$20=1,0,0)))))","v":0},0,"",null,null,null,null,null,null,null,null,{"$f":"IF(Entries!$K$20=5,MIN(GH62,GI62,GJ62,GK62,GL62),IF(Entries!$K$20=4,MIN(GH62,GI62,GJ62,GK62),IF(Entries!$K$20=3,MIN(GH62,GI62,GJ62),IF(Entries!$K$20=2,MIN(GH62,GI62),IF(Entries!$K$20=1,0,0)))))","v":0},0,"",null,null,null,null,null,null,null,null,{"$f":"IF(Entries!$K$20=5,MIN(GS62,GT62,GU62,GV62,GW62),IF(Entries!$K$20=4,MIN(GS62,GT62,GU62,GV62),IF(Entries!$K$20=3,MIN(GS62,GT62,GU62),IF(Entries!$K$20=2,MIN(GS62,GT62),IF(Entries!$K$20=1,0,0)))))","v":0},0,"",null,null,null,null,null,null,null,null,{"$f":"IF(Entries!$K$20=5,MIN(HD62,HE62,HF62,HG62,HH62),IF(Entries!$K$20=4,MIN(HD62,HE62,HF62,HG62),IF(Entries!$K$20=3,MIN(HD62,HE62,HF62),IF(Entries!$K$20=2,MIN(HD62,HE62),IF(Entries!$K$20=1,0,0)))))","v":0},0,"",null,null,null,null,null,null,null,null,{"$f":"IF(Entries!$K$20=5,MIN(HO62,HP62,HQ62,HR62,HS62),IF(Entries!$K$20=4,MIN(HO62,HP62,HQ62,HR62),IF(Entries!$K$20=3,MIN(HO62,HP62,HQ62),IF(Entries!$K$20=2,MIN(HO62,HP62),IF(Entries!$K$20=1,0,0)))))","v":0},0,"",null,null,null,null,null,null,null,null,{"$f":"IF(Entries!$K$20=5,MIN(HZ62,IA62,IB62,IC62,ID62),IF(Entries!$K$20=4,MIN(HZ62,IA62,IB62,IC62),IF(Entries!$K$20=3,MIN(HZ62,IA62,IB62),IF(Entries!$K$20=2,MIN(HZ62,IA62),IF(Entries!$K$20=1,0,0)))))","v":0},0,""]
[null,null,null,null,null,null,null,null,{"$f":"IF(Entries!$K$20=5,MIN(C63,D63,E63,F63,G63),IF(Entries!$K$20=4,MIN(C63,D63,E63,F63),IF(Entries!$K$20=3,MIN(C63,D63,E63),IF(Entries!$K$20=2,MIN(C63,D63),IF(Entries!$K$20=1,0,0)))))","v":0},0,"",null,null,null,null,null,null,null,null,{"$f":"IF(Entries!$K$20=5,MIN(N63,O63,P63,Q63,R63),IF(Entries!$K$20=4,MIN(N63,O63,P63,Q63),IF(Entries!$K$20=3,MIN(N63,O63,P63),IF(Entries!$K$20=2,MIN(N63,O63),IF(Entries!$K$20=1,0,0)))))","v":0},0,"",null,null,null,null,null,null,null,null,{"$f":"IF(Entries!$K$20=5,MIN(Y63,Z63,AA63,AB63,AC63),IF(Entries!$K$20=4,MIN(Y63,Z63,AA63,AB63),IF(Entries!$K$20=3,MIN(Y63,Z63,AA63),IF(Entries!$K$20=2,MIN(Y63,Z63),IF(Entries!$K$20=1,0,0)))))","v":0},0,"",null,null,null,null,null,null,null,null,{"$f":"IF(Entries!$K$20=5,MIN(AJ63,AK63,AL63,AM63,AN63),IF(Entries!$K$20=4,MIN(AJ63,AK63,AL63,AM63),IF(Entries!$K$20=3,MIN(AJ63,AK63,AL63),IF(Entries!$K$20=2,MIN(AJ63,AK63),IF(Entries!$K$20=1,0,0)))))","v":0},0,"",null,null,null,null,null,null,null,null,{"$f":"IF(Entries!$K$20=5,MIN(AU63,AV63,AW63,AX63,AY63),IF(Entries!$K$20=4,MIN(AU63,AV63,AW63,AX63),IF(Entries!$K$20=3,MIN(AU63,AV63,AW63),IF(Entries!$K$20=2,MIN(AU63,AV63),IF(Entries!$K$20=1,0,0)))))","v":0},0,"",null,null,null,null,null,null,null,null,{"$f":"IF(Entries!$K$20=5,MIN(BF63,BG63,BH63,BI63,BJ63),IF(Entries!$K$20=4,MIN(BF63,BG63,BH63,BI63),IF(Entries!$K$20=3,MIN(BF63,BG63,BH63),IF(Entries!$K$20=2,MIN(BF63,BG63),IF(Entries!$K$20=1,0,0)))))","v":0},0,"",null,null,null,null,null,null,null,null,{"$f":"IF(Entries!$K$20=5,MIN(BQ63,BR63,BS63,BT63,BU63),IF(Entries!$K$20=4,MIN(BQ63,BR63,BS63,BT63),IF(Entries!$K$20=3,MIN(BQ63,BR63,BS63),IF(Entries!$K$20=2,MIN(BQ63,BR63),IF(Entries!$K$20=1,0,0)))))","v":0},0,"",null,null,null,null,null,null,null,null,{"$f":"IF(Entries!$K$20=5,MIN(CB63,CC63,CD63,CE63,CF63),IF(Entries!$K$20=4,MIN(CB63,CC63,CD63,CE63),IF(Entries!$K$20=3,MIN(CB63,CC63,CD63),IF(Entries!$K$20=2,MIN(CB63,CC63),IF(Entries!$K$20=1,0,0)))))","v":0},0,"",null,"Sam Gibson ",224,0,0,0,0,224,{"$f":"IF(Entries!$K$20=5,MIN(CM63,CN63,CO63,CP63,CQ63),IF(Entries!$K$20=4,MIN(CM63,CN63,CO63,CP63),IF(Entries!$K$20=3,MIN(CM63,CN63,CO63),IF(Entries!$K$20=2,MIN(CM63,CN63),IF(Entries!$K$20=1,0,0)))))","v":0},224,15,null,null,null,null,null,null,null,null,{"$f":"IF(Entries!$K$20=5,MIN(CX63,CY63,CZ63,DA63,DB63),IF(Entries!$K$20=4,MIN(CX63,CY63,CZ63,DA63),IF(Entries!$K$20=3,MIN(CX63,CY63,CZ63),IF(Entries!$K$20=2,MIN(CX63,CY63),IF(Entries!$K$20=1,0,0)))))","v":0},0,"",null,null,null,null,null,null,null,null,{"$f":"IF(Entries!$K$20=5,MIN(DI63,DJ63,DK63,DL63,DM63),IF(Entries!$K$20=4,MIN(DI63,DJ63,DK63,DL63),IF(Entries!$K$20=3,MIN(DI63,DJ63,DK63),IF(Entries!$K$20=2,MIN(DI63,DJ63),IF(Entries!$K$20=1,0,0)))))","v":0},0,"",null,null,null,null,null,null,null,null,{"$f":"IF(Entries!$K$20=5,MIN(DT63,DU63,DV63,DW63,DX63),IF(Entries!$K$20=4,MIN(DT63,DU63,DV63,DW63),IF(Entries!$K$20=3,MIN(DT63,DU63,DV63),IF(Entries!$K$20=2,MIN(DT63,DU63),IF(Entries!$K$20=1,0,0)))))","v":0},0,"",null,null,null,null,null,null,null,null,{"$f":"IF(Entries!$K$20=5,MIN(EE63,EF63,EG63,EH63,EI63),IF(Entries!$K$20=4,MIN(EE63,EF63,EG63,EH63),IF(Entries!$K$20=3,MIN(EE63,EF63,EG63),IF(Entries!$K$20=2,MIN(EE63,EF63),IF(Entries!$K$20=1,0,0)))))","v":0},0,"",null,null,null,null,null,null,null,null,{"$f":"IF(Entries!$K$20=5,MIN(EP63,EQ63,ER63,ES63,ET63),IF(Entries!$K$20=4,MIN(EP63,EQ63,ER63,ES63),IF(Entries!$K$20=3,MIN(EP63,EQ63,ER63),IF(Entries!$K$20=2,MIN(EP63,EQ63),IF(Entries!$K$20=1,0,0)))))","v":0},0,"",null,null,null,null,null,null,null,null,{"$f":"IF(Entries!$K$20=5,MIN(FA63,FB63,FC63,FD63,FE63),IF(Entries!$K$20=4,MIN(FA63,FB63,FC63,FD63),IF(Entries!$K$20=3,MIN(FA63,FB63,FC63),IF(Entries!$K$20=2,MIN(FA63,FB63),IF(Entries!$K$20=1,0,0)))))","v":0},0,"",null,null,null,null,null,null,null,null,{"$f":"IF(Entries!$K$20=5,MIN(FL63,FM63,FN63,FO63,FP63),IF(Entries!$K$20=4,MIN(FL63,FM63,FN63,FO63),IF(Entries!$K$20=3,MIN(FL63,FM63,FN63),IF(Entries!$K$20=2,MIN(FL63,FM63),IF(Entries!$K$20=1,0,0)))))","v":0},0,"",null,null,null,null,null,null,null,null,{"$f":"IF(Entries!$K$20=5,MIN(FW63,FX63,FY63,FZ63,GA63),IF(Entries!$K$20=4,MIN(FW63,FX63,FY63,FZ63),IF(Entries!$K$20=3,MIN(FW63,FX63,FY63),IF(Entries!$K$20=2,MIN(FW63,FX63),IF(Entries!$K$20=1,0,0)))))","v":0},0,"",null,null,null,null,null,null,null,null,{"$f":"IF(Entries!$K$20=5,MIN(GH63,GI63,GJ63,GK63,GL63),IF(Entries!$K$20=4,MIN(GH63,GI63,GJ63,GK63),IF(Entries!$K$20=3,MIN(GH63,GI63,GJ63),IF(Entries!$K$20=2,MIN(GH63,GI63),IF(Entries!$K$20=1,0,0)))))","v":0},0,"",null,null,null,null,null,null,null,null,{"$f":"IF(Entries!$K$20=5,MIN(GS63,GT63,GU63,GV63,GW63),IF(Entries!$K$20=4,MIN(GS63,GT63,GU63,GV63),IF(Entries!$K$20=3,MIN(GS63,GT63,GU63),IF(Entries!$K$20=2,MIN(GS63,GT63),IF(Entries!$K$20=1,0,0)))))","v":0},0,"",null,null,null,null,null,null,null,null,{"$f":"IF(Entries!$K$20=5,MIN(HD63,HE63,HF63,HG63,HH63),IF(Entries!$K$20=4,MIN(HD63,HE63,HF63,HG63),IF(Entries!$K$20=3,MIN(HD63,HE63,HF63),IF(Entries!$K$20=2,MIN(HD63,HE63),IF(Entries!$K$20=1,0,0)))))","v":0},0,"",null,null,null,null,null,null,null,null,{"$f":"IF(Entries!$K$20=5,MIN(HO63,HP63,HQ63,HR63,HS63),IF(Entries!$K$20=4,MIN(HO63,HP63,HQ63,HR63),IF(Entries!$K$20=3,MIN(HO63,HP63,HQ63),IF(Entries!$K$20=2,MIN(HO63,HP63),IF(Entries!$K$20=1,0,0)))))","v":0},0,"",null,null,null,null,null,null,null,null,{"$f":"IF(Entries!$K$20=5,MIN(HZ63,IA63,IB63,IC63,ID63),IF(Entries!$K$20=4,MIN(HZ63,IA63,IB63,IC63),IF(Entries!$K$20=3,MIN(HZ63,IA63,IB63),IF(Entries!$K$20=2,MIN(HZ63,IA63),IF(Entries!$K$20=1,0,0)))))","v":0},0,""]
[null,null,null,null,null,null,null,null,{"$f":"IF(Entries!$K$20=5,MIN(C64,D64,E64,F64,G64),IF(Entries!$K$20=4,MIN(C64,D64,E64,F64),IF(Entries!$K$20=3,MIN(C64,D64,E64),IF(Entries!$K$20=2,MIN(C64,D64),IF(Entries!$K$20=1,0,0)))))","v":0},0,"",null,null,null,null,null,null,null,null,{"$f":"IF(Entries!$K$20=5,MIN(N64,O64,P64,Q64,R64),IF(Entries!$K$20=4,MIN(N64,O64,P64,Q64),IF(Entries!$K$20=3,MIN(N64,O64,P64),IF(Entries!$K$20=2,MIN(N64,O64),IF(Entries!$K$20=1,0,0)))))","v":0},0,"",null,null,null,null,null,null,null,null,{"$f":"IF(Entries!$K$20=5,MIN(Y64,Z64,AA64,AB64,AC64),IF(Entries!$K$20=4,MIN(Y64,Z64,AA64,AB64),IF(Entries!$K$20=3,MIN(Y64,Z64,AA64),IF(Entries!$K$20=2,MIN(Y64,Z64),IF(Entries!$K$20=1,0,0)))))","v":0},0,"",null,null,null,null,null,null,null,null,{"$f":"IF(Entries!$K$20=5,MIN(AJ64,AK64,AL64,AM64,AN64),IF(Entries!$K$20=4,MIN(AJ64,AK64,AL64,AM64),IF(Entries!$K$20=3,MIN(AJ64,AK64,AL64),IF(Entries!$K$20=2,MIN(AJ64,AK64),IF(Entries!$K$20=1,0,0)))))","v":0},0,"",null,null,null,null,null,null,null,null,{"$f":"IF(Entries!$K$20=5,MIN(AU64,AV64,AW64,AX64,AY64),IF(Entries!$K$20=4,MIN(AU64,AV64,AW64,AX64),IF(Entries!$K$20=3,MIN(AU64,AV64,AW64),IF(Entries!$K$20=2,MIN(AU64,AV64),IF(Entries!$K$20=1,0,0)))))","v":0},0,"",null,null,null,null,null,null,null,null,{"$f":"IF(Entries!$K$20=5,MIN(BF64,BG64,BH64,BI64,BJ64),IF(Entries!$K$20=4,MIN(BF64,BG64,BH64,BI64),IF(Entries!$K$20=3,MIN(BF64,BG64,BH64),IF(Entries!$K$20=2,MIN(BF64,BG64),IF(Entries!$K$20=1,0,0)))))","v":0},0,"",null,null,null,null,null,null,null,null,{"$f":"IF(Entries!$K$20=5,MIN(BQ64,BR64,BS64,BT64,BU64),IF(Entries!$K$20=4,MIN(BQ64,BR64,BS64,BT64),IF(Entries!$K$20=3,MIN(BQ64,BR64,BS64),IF(Entries!$K$20=2,MIN(BQ64,BR64),IF(Entries!$K$20=1,0,0)))))","v":0},0,"",null,null,null,null,null,null,null,null,{"$f":"IF(Entries!$K$20=5,MIN(CB64,CC64,CD64,CE64,CF64),IF(Entries!$K$20=4,MIN(CB64,CC64,CD64,CE64),IF(Entries!$K$20=3,MIN(CB64,CC64,CD64),IF(Entries!$K$20=2,MIN(CB64,CC64),IF(Entries!$K$20=1,0,0)))))","v":0},0,"",null,null,null,null,null,null,null,null,{"$f":"IF(Entries!$K$20=5,MIN(CM64,CN64,CO64,CP64,CQ64),IF(Entries!$K$20=4,MIN(CM64,CN64,CO64,CP64),IF(Entries!$K$20=3,MIN(CM64,CN64,CO64),IF(Entries!$K$20=2,MIN(CM64,CN64),IF(Entries!$K$20=1,0,0)))))","v":0},0,"",null,null,null,null,null,null,null,null,{"$f":"IF(Entries!$K$20=5,MIN(CX64,CY64,CZ64,DA64,DB64),IF(Entries!$K$20=4,MIN(CX64,CY64,CZ64,DA64),IF(Entries!$K$20=3,MIN(CX64,CY64,CZ64),IF(Entries!$K$20=2,MIN(CX64,CY64),IF(Entries!$K$20=1,0,0)))))","v":0},0,"",null,null,null,null,null,null,null,null,{"$f":"IF(Entries!$K$20=5,MIN(DI64,DJ64,DK64,DL64,DM64),IF(Entries!$K$20=4,MIN(DI64,DJ64,DK64,DL64),IF(Entries!$K$20=3,MIN(DI64,DJ64,DK64),IF(Entries!$K$20=2,MIN(DI64,DJ64),IF(Entries!$K$20=1,0,0)))))","v":0},0,"",null,null,null,null,null,null,null,null,{"$f":"IF(Entries!$K$20=5,MIN(DT64,DU64,DV64,DW64,DX64),IF(Entries!$K$20=4,MIN(DT64,DU64,DV64,DW64),IF(Entries!$K$20=3,MIN(DT64,DU64,DV64),IF(Entries!$K$20=2,MIN(DT64,DU64),IF(Entries!$K$20=1,0,0)))))","v":0},0,"",null,null,null,null,null,null,null,null,{"$f":"IF(Entries!$K$20=5,MIN(EE64,EF64,EG64,EH64,EI64),IF(Entries!$K$20=4,MIN(EE64,EF64,EG64,EH64),IF(Entries!$K$20=3,MIN(EE64,EF64,EG64),IF(Entries!$K$20=2,MIN(EE64,EF64),IF(Entries!$K$20=1,0,0)))))","v":0},0,"",null,null,null,null,null,null,null,null,{"$f":"IF(Entries!$K$20=5,MIN(EP64,EQ64,ER64,ES64,ET64),IF(Entries!$K$20=4,MIN(EP64,EQ64,ER64,ES64),IF(Entries!$K$20=3,MIN(EP64,EQ64,ER64),IF(Entries!$K$20=2,MIN(EP64,EQ64),IF(Entries!$K$20=1,0,0)))))","v":0},0,"",null,null,null,null,null,null,null,null,{"$f":"IF(Entries!$K$20=5,MIN(FA64,FB64,FC64,FD64,FE64),IF(Entries!$K$20=4,MIN(FA64,FB64,FC64,FD64),IF(Entries!$K$20=3,MIN(FA64,FB64,FC64),IF(Entries!$K$20=2,MIN(FA64,FB64),IF(Entries!$K$20=1,0,0)))))","v":0},0,"",null,null,null,null,null,null,null,null,{"$f":"IF(Entries!$K$20=5,MIN(FL64,FM64,FN64,FO64,FP64),IF(Entries!$K$20=4,MIN(FL64,FM64,FN64,FO64),IF(Entries!$K$20=3,MIN(FL64,FM64,FN64),IF(Entries!$K$20=2,MIN(FL64,FM64),IF(Entries!$K$20=1,0,0)))))","v":0},0,"",null,null,null,null,null,null,null,null,{"$f":"IF(Entries!$K$20=5,MIN(FW64,FX64,FY64,FZ64,GA64),IF(Entries!$K$20=4,MIN(FW64,FX64,FY64,FZ64),IF(Entries!$K$20=3,MIN(FW64,FX64,FY64),IF(Entries!$K$20=2,MIN(FW64,FX64),IF(Entries!$K$20=1,0,0)))))","v":0},0,"",null,null,null,null,null,null,null,null,{"$f":"IF(Entries!$K$20=5,MIN(GH64,GI64,GJ64,GK64,GL64),IF(Entries!$K$20=4,MIN(GH64,GI64,GJ64,GK64),IF(Entries!$K$20=3,MIN(GH64,GI64,GJ64),IF(Entries!$K$20=2,MIN(GH64,GI64),IF(Entries!$K$20=1,0,0)))))","v":0},0,"",null,null,null,null,null,null,null,null,{"$f":"IF(Entries!$K$20=5,MIN(GS64,GT64,GU64,GV64,GW64),IF(Entries!$K$20=4,MIN(GS64,GT64,GU64,GV64),IF(Entries!$K$20=3,MIN(GS64,GT64,GU64),IF(Entries!$K$20=2,MIN(GS64,GT64),IF(Entries!$K$20=1,0,0)))))","v":0},0,"",null,null,null,null,null,null,null,null,{"$f":"IF(Entries!$K$20=5,MIN(HD64,HE64,HF64,HG64,HH64),IF(Entries!$K$20=4,MIN(HD64,HE64,HF64,HG64),IF(Entries!$K$20=3,MIN(HD64,HE64,HF64),IF(Entries!$K$20=2,MIN(HD64,HE64),IF(Entries!$K$20=1,0,0)))))","v":0},0,"",null,null,null,null,null,null,null,null,{"$f":"IF(Entries!$K$20=5,MIN(HO64,HP64,HQ64,HR64,HS64),IF(Entries!$K$20=4,MIN(HO64,HP64,HQ64,HR64),IF(Entries!$K$20=3,MIN(HO64,HP64,HQ64),IF(Entries!$K$20=2,MIN(HO64,HP64),IF(Entries!$K$20=1,0,0)))))","v":0},0,"",null,null,null,null,null,null,null,null,{"$f":"IF(Entries!$K$20=5,MIN(HZ64,IA64,IB64,IC64,ID64),IF(Entries!$K$20=4,MIN(HZ64,IA64,IB64,IC64),IF(Entries!$K$20=3,MIN(HZ64,IA64,IB64),IF(Entries!$K$20=2,MIN(HZ64,IA64),IF(Entries!$K$20=1,0,0)))))","v":0},0,""]
[null,null,null,null,null,null,null,null,{"$f":"IF(Entries!$K$20=5,MIN(C65,D65,E65,F65,G65),IF(Entries!$K$20=4,MIN(C65,D65,E65,F65),IF(Entries!$K$20=3,MIN(C65,D65,E65),IF(Entries!$K$20=2,MIN(C65,D65),IF(Entries!$K$20=1,0,0)))))","v":0},0,"",null,null,null,null,null,null,null,null,{"$f":"IF(Entries!$K$20=5,MIN(N65,O65,P65,Q65,R65),IF(Entries!$K$20=4,MIN(N65,O65,P65,Q65),IF(Entries!$K$20=3,MIN(N65,O65,P65),IF(Entries!$K$20=2,MIN(N65,O65),IF(Entries!$K$20=1,0,0)))))","v":0},0,"",null,null,null,null,null,null,null,null,{"$f":"IF(Entries!$K$20=5,MIN(Y65,Z65,AA65,AB65,AC65),IF(Entries!$K$20=4,MIN(Y65,Z65,AA65,AB65),IF(Entries!$K$20=3,MIN(Y65,Z65,AA65),IF(Entries!$K$20=2,MIN(Y65,Z65),IF(Entries!$K$20=1,0,0)))))","v":0},0,"",null,null,null,null,null,null,null,null,{"$f":"IF(Entries!$K$20=5,MIN(AJ65,AK65,AL65,AM65,AN65),IF(Entries!$K$20=4,MIN(AJ65,AK65,AL65,AM65),IF(Entries!$K$20=3,MIN(AJ65,AK65,AL65),IF(Entries!$K$20=2,MIN(AJ65,AK65),IF(Entries!$K$20=1,0,0)))))","v":0},0,"",null,null,null,null,null,null,null,null,{"$f":"IF(Entries!$K$20=5,MIN(AU65,AV65,AW65,AX65,AY65),IF(Entries!$K$20=4,MIN(AU65,AV65,AW65,AX65),IF(Entries!$K$20=3,MIN(AU65,AV65,AW65),IF(Entries!$K$20=2,MIN(AU65,AV65),IF(Entries!$K$20=1,0,0)))))","v":0},0,"",null,null,null,null,null,null,null,null,{"$f":"IF(Entries!$K$20=5,MIN(BF65,BG65,BH65,BI65,BJ65),IF(Entries!$K$20=4,MIN(BF65,BG65,BH65,BI65),IF(Entries!$K$20=3,MIN(BF65,BG65,BH65),IF(Entries!$K$20=2,MIN(BF65,BG65),IF(Entries!$K$20=1,0,0)))))","v":0},0,"",null,null,null,null,null,null,null,null,{"$f":"IF(Entries!$K$20=5,MIN(BQ65,BR65,BS65,BT65,BU65),IF(Entries!$K$20=4,MIN(BQ65,BR65,BS65,BT65),IF(Entries!$K$20=3,MIN(BQ65,BR65,BS65),IF(Entries!$K$20=2,MIN(BQ65,BR65),IF(Entries!$K$20=1,0,0)))))","v":0},0,"",null,null,null,null,null,null,null,null,{"$f":"IF(Entries!$K$20=5,MIN(CB65,CC65,CD65,CE65,CF65),IF(Entries!$K$20=4,MIN(CB65,CC65,CD65,CE65),IF(Entries!$K$20=3,MIN(CB65,CC65,CD65),IF(Entries!$K$20=2,MIN(CB65,CC65),IF(Entries!$K$20=1,0,0)))))","v":0},0,"",null,null,null,null,null,null,null,null,{"$f":"IF(Entries!$K$20=5,MIN(CM65,CN65,CO65,CP65,CQ65),IF(Entries!$K$20=4,MIN(CM65,CN65,CO65,CP65),IF(Entries!$K$20=3,MIN(CM65,CN65,CO65),IF(Entries!$K$20=2,MIN(CM65,CN65),IF(Entries!$K$20=1,0,0)))))","v":0},0,"",null,null,null,null,null,null,null,null,{"$f":"IF(Entries!$K$20=5,MIN(CX65,CY65,CZ65,DA65,DB65),IF(Entries!$K$20=4,MIN(CX65,CY65,CZ65,DA65),IF(Entries!$K$20=3,MIN(CX65,CY65,CZ65),IF(Entries!$K$20=2,MIN(CX65,CY65),IF(Entries!$K$20=1,0,0)))))","v":0},0,"",null,null,null,null,null,null,null,null,{"$f":"IF(Entries!$K$20=5,MIN(DI65,DJ65,DK65,DL65,DM65),IF(Entries!$K$20=4,MIN(DI65,DJ65,DK65,DL65),IF(Entries!$K$20=3,MIN(DI65,DJ65,DK65),IF(Entries!$K$20=2,MIN(DI65,DJ65),IF(Entries!$K$20=1,0,0)))))","v":0},0,"",null,null,null,null,null,null,null,null,{"$f":"IF(Entries!$K$20=5,MIN(DT65,DU65,DV65,DW65,DX65),IF(Entries!$K$20=4,MIN(DT65,DU65,DV65,DW65),IF(Entries!$K$20=3,MIN(DT65,DU65,DV65),IF(Entries!$K$20=2,MIN(DT65,DU65),IF(Entries!$K$20=1,0,0)))))","v":0},0,"",null,null,null,null,null,null,null,null,{"$f":"IF(Entries!$K$20=5,MIN(EE65,EF65,EG65,EH65,EI65),IF(Entries!$K$20=4,MIN(EE65,EF65,EG65,EH65),IF(Entries!$K$20=3,MIN(EE65,EF65,EG65),IF(Entries!$K$20=2,MIN(EE65,EF65),IF(Entries!$K$20=1,0,0)))))","v":0},0,"",null,null,null,null,null,null,null,null,{"$f":"IF(Entries!$K$20=5,MIN(EP65,EQ65,ER65,ES65,ET65),IF(Entries!$K$20=4,MIN(EP65,EQ65,ER65,ES65),IF(Entries!$K$20=3,MIN(EP65,EQ65,ER65),IF(Entries!$K$20=2,MIN(EP65,EQ65),IF(Entries!$K$20=1,0,0)))))","v":0},0,"",null,null,null,null,null,null,null,null,{"$f":"IF(Entries!$K$20=5,MIN(FA65,FB65,FC65,FD65,FE65),IF(Entries!$K$20=4,MIN(FA65,FB65,FC65,FD65),IF(Entries!$K$20=3,MIN(FA65,FB65,FC65),IF(Entries!$K$20=2,MIN(FA65,FB65),IF(Entries!$K$20=1,0,0)))))","v":0},0,"",null,null,null,null,null,null,null,null,{"$f":"IF(Entries!$K$20=5,MIN(FL65,FM65,FN65,FO65,FP65),IF(Entries!$K$20=4,MIN(FL65,FM65,FN65,FO65),IF(Entries!$K$20=3,MIN(FL65,FM65,FN65),IF(Entries!$K$20=2,MIN(FL65,FM65),IF(Entries!$K$20=1,0,0)))))","v":0},0,"",null,null,null,null,null,null,null,null,{"$f":"IF(Entries!$K$20=5,MIN(FW65,FX65,FY65,FZ65,GA65),IF(Entries!$K$20=4,MIN(FW65,FX65,FY65,FZ65),IF(Entries!$K$20=3,MIN(FW65,FX65,FY65),IF(Entries!$K$20=2,MIN(FW65,FX65),IF(Entries!$K$20=1,0,0)))))","v":0},0,"",null,null,null,null,null,null,null,null,{"$f":"IF(Entries!$K$20=5,MIN(GH65,GI65,GJ65,GK65,GL65),IF(Entries!$K$20=4,MIN(GH65,GI65,GJ65,GK65),IF(Entries!$K$20=3,MIN(GH65,GI65,GJ65),IF(Entries!$K$20=2,MIN(GH65,GI65),IF(Entries!$K$20=1,0,0)))))","v":0},0,"",null,null,null,null,null,null,null,null,{"$f":"IF(Entries!$K$20=5,MIN(GS65,GT65,GU65,GV65,GW65),IF(Entries!$K$20=4,MIN(GS65,GT65,GU65,GV65),IF(Entries!$K$20=3,MIN(GS65,GT65,GU65),IF(Entries!$K$20=2,MIN(GS65,GT65),IF(Entries!$K$20=1,0,0)))))","v":0},0,"",null,null,null,null,null,null,null,null,{"$f":"IF(Entries!$K$20=5,MIN(HD65,HE65,HF65,HG65,HH65),IF(Entries!$K$20=4,MIN(HD65,HE65,HF65,HG65),IF(Entries!$K$20=3,MIN(HD65,HE65,HF65),IF(Entries!$K$20=2,MIN(HD65,HE65),IF(Entries!$K$20=1,0,0)))))","v":0},0,"",null,null,null,null,null,null,null,null,{"$f":"IF(Entries!$K$20=5,MIN(HO65,HP65,HQ65,HR65,HS65),IF(Entries!$K$20=4,MIN(HO65,HP65,HQ65,HR65),IF(Entries!$K$20=3,MIN(HO65,HP65,HQ65),IF(Entries!$K$20=2,MIN(HO65,HP65),IF(Entries!$K$20=1,0,0)))))","v":0},0,"",null,null,null,null,null,null,null,null,{"$f":"IF(Entries!$K$20=5,MIN(HZ65,IA65,IB65,IC65,ID65),IF(Entries!$K$20=4,MIN(HZ65,IA65,IB65,IC65),IF(Entries!$K$20=3,MIN(HZ65,IA65,IB65),IF(Entries!$K$20=2,MIN(HZ65,IA65),IF(Entries!$K$20=1,0,0)))))","v":0},0,""]
[null,null,null,null,null,null,null,null,{"$f":"IF(Entries!$K$20=5,MIN(C66,D66,E66,F66,G66),IF(Entries!$K$20=4,MIN(C66,D66,E66,F66),IF(Entries!$K$20=3,MIN(C66,D66,E66),IF(Entries!$K$20=2,MIN(C66,D66),IF(Entries!$K$20=1,0,0)))))","v":0},0,"",null,null,null,null,null,null,null,null,{"$f":"IF(Entries!$K$20=5,MIN(N66,O66,P66,Q66,R66),IF(Entries!$K$20=4,MIN(N66,O66,P66,Q66),IF(Entries!$K$20=3,MIN(N66,O66,P66),IF(Entries!$K$20=2,MIN(N66,O66),IF(Entries!$K$20=1,0,0)))))","v":0},0,"",null,null,null,null,null,null,null,null,{"$f":"IF(Entries!$K$20=5,MIN(Y66,Z66,AA66,AB66,AC66),IF(Entries!$K$20=4,MIN(Y66,Z66,AA66,AB66),IF(Entries!$K$20=3,MIN(Y66,Z66,AA66),IF(Entries!$K$20=2,MIN(Y66,Z66),IF(Entries!$K$20=1,0,0)))))","v":0},0,"",null,null,null,null,null,null,null,null,{"$f":"IF(Entries!$K$20=5,MIN(AJ66,AK66,AL66,AM66,AN66),IF(Entries!$K$20=4,MIN(AJ66,AK66,AL66,AM66),IF(Entries!$K$20=3,MIN(AJ66,AK66,AL66),IF(Entries!$K$20=2,MIN(AJ66,AK66),IF(Entries!$K$20=1,0,0)))))","v":0},0,"",null,null,null,null,null,null,null,null,{"$f":"IF(Entries!$K$20=5,MIN(AU66,AV66,AW66,AX66,AY66),IF(Entries!$K$20=4,MIN(AU66,AV66,AW66,AX66),IF(Entries!$K$20=3,MIN(AU66,AV66,AW66),IF(Entries!$K$20=2,MIN(AU66,AV66),IF(Entries!$K$20=1,0,0)))))","v":0},0,"",null,null,null,null,null,null,null,null,{"$f":"IF(Entries!$K$20=5,MIN(BF66,BG66,BH66,BI66,BJ66),IF(Entries!$K$20=4,MIN(BF66,BG66,BH66,BI66),IF(Entries!$K$20=3,MIN(BF66,BG66,BH66),IF(Entries!$K$20=2,MIN(BF66,BG66),IF(Entries!$K$20=1,0,0)))))","v":0},0,"",null,null,null,null,null,null,null,null,{"$f":"IF(Entries!$K$20=5,MIN(BQ66,BR66,BS66,BT66,BU66),IF(Entries!$K$20=4,MIN(BQ66,BR66,BS66,BT66),IF(Entries!$K$20=3,MIN(BQ66,BR66,BS66),IF(Entries!$K$20=2,MIN(BQ66,BR66),IF(Entries!$K$20=1,0,0)))))","v":0},0,"",null,null,null,null,null,null,null,null,{"$f":"IF(Entries!$K$20=5,MIN(CB66,CC66,CD66,CE66,CF66),IF(Entries!$K$20=4,MIN(CB66,CC66,CD66,CE66),IF(Entries!$K$20=3,MIN(CB66,CC66,CD66),IF(Entries!$K$20=2,MIN(CB66,CC66),IF(Entries!$K$20=1,0,0)))))","v":0},0,"",null,null,null,null,null,null,null,null,{"$f":"IF(Entries!$K$20=5,MIN(CM66,CN66,CO66,CP66,CQ66),IF(Entries!$K$20=4,MIN(CM66,CN66,CO66,CP66),IF(Entries!$K$20=3,MIN(CM66,CN66,CO66),IF(Entries!$K$20=2,MIN(CM66,CN66),IF(Entries!$K$20=1,0,0)))))","v":0},0,"",null,null,null,null,null,null,null,null,{"$f":"IF(Entries!$K$20=5,MIN(CX66,CY66,CZ66,DA66,DB66),IF(Entries!$K$20=4,MIN(CX66,CY66,CZ66,DA66),IF(Entries!$K$20=3,MIN(CX66,CY66,CZ66),IF(Entries!$K$20=2,MIN(CX66,CY66),IF(Entries!$K$20=1,0,0)))))","v":0},0,"",null,null,null,null,null,null,null,null,{"$f":"IF(Entries!$K$20=5,MIN(DI66,DJ66,DK66,DL66,DM66),IF(Entries!$K$20=4,MIN(DI66,DJ66,DK66,DL66),IF(Entries!$K$20=3,MIN(DI66,DJ66,DK66),IF(Entries!$K$20=2,MIN(DI66,DJ66),IF(Entries!$K$20=1,0,0)))))","v":0},0,"",null,null,null,null,null,null,null,null,{"$f":"IF(Entries!$K$20=5,MIN(DT66,DU66,DV66,DW66,DX66),IF(Entries!$K$20=4,MIN(DT66,DU66,DV66,DW66),IF(Entries!$K$20=3,MIN(DT66,DU66,DV66),IF(Entries!$K$20=2,MIN(DT66,DU66),IF(Entries!$K$20=1,0,0)))))","v":0},0,"",null,null,null,null,null,null,null,null,{"$f":"IF(Entries!$K$20=5,MIN(EE66,EF66,EG66,EH66,EI66),IF(Entries!$K$20=4,MIN(EE66,EF66,EG66,EH66),IF(Entries!$K$20=3,MIN(EE66,EF66,EG66),IF(Entries!$K$20=2,MIN(EE66,EF66),IF(Entries!$K$20=1,0,0)))))","v":0},0,"",null,null,null,null,null,null,null,null,{"$f":"IF(Entries!$K$20=5,MIN(EP66,EQ66,ER66,ES66,ET66),IF(Entries!$K$20=4,MIN(EP66,EQ66,ER66,ES66),IF(Entries!$K$20=3,MIN(EP66,EQ66,ER66),IF(Entries!$K$20=2,MIN(EP66,EQ66),IF(Entries!$K$20=1,0,0)))))","v":0},0,"",null,null,null,null,null,null,null,null,{"$f":"IF(Entries!$K$20=5,MIN(FA66,FB66,FC66,FD66,FE66),IF(Entries!$K$20=4,MIN(FA66,FB66,FC66,FD66),IF(Entries!$K$20=3,MIN(FA66,FB66,FC66),IF(Entries!$K$20=2,MIN(FA66,FB66),IF(Entries!$K$20=1,0,0)))))","v":0},0,"",null,null,null,null,null,null,null,null,{"$f":"IF(Entries!$K$20=5,MIN(FL66,FM66,FN66,FO66,FP66),IF(Entries!$K$20=4,MIN(FL66,FM66,FN66,FO66),IF(Entries!$K$20=3,MIN(FL66,FM66,FN66),IF(Entries!$K$20=2,MIN(FL66,FM66),IF(Entries!$K$20=1,0,0)))))","v":0},0,"",null,null,null,null,null,null,null,null,{"$f":"IF(Entries!$K$20=5,MIN(FW66,FX66,FY66,FZ66,GA66),IF(Entries!$K$20=4,MIN(FW66,FX66,FY66,FZ66),IF(Entries!$K$20=3,MIN(FW66,FX66,FY66),IF(Entries!$K$20=2,MIN(FW66,FX66),IF(Entries!$K$20=1,0,0)))))","v":0},0,"",null,null,null,null,null,null,null,null,{"$f":"IF(Entries!$K$20=5,MIN(GH66,GI66,GJ66,GK66,GL66),IF(Entries!$K$20=4,MIN(GH66,GI66,GJ66,GK66),IF(Entries!$K$20=3,MIN(GH66,GI66,GJ66),IF(Entries!$K$20=2,MIN(GH66,GI66),IF(Entries!$K$20=1,0,0)))))","v":0},0,"",null,null,null,null,null,null,null,null,{"$f":"IF(Entries!$K$20=5,MIN(GS66,GT66,GU66,GV66,GW66),IF(Entries!$K$20=4,MIN(GS66,GT66,GU66,GV66),IF(Entries!$K$20=3,MIN(GS66,GT66,GU66),IF(Entries!$K$20=2,MIN(GS66,GT66),IF(Entries!$K$20=1,0,0)))))","v":0},0,"",null,null,null,null,null,null,null,null,{"$f":"IF(Entries!$K$20=5,MIN(HD66,HE66,HF66,HG66,HH66),IF(Entries!$K$20=4,MIN(HD66,HE66,HF66,HG66),IF(Entries!$K$20=3,MIN(HD66,HE66,HF66),IF(Entries!$K$20=2,MIN(HD66,HE66),IF(Entries!$K$20=1,0,0)))))","v":0},0,"",null,null,null,null,null,null,null,null,{"$f":"IF(Entries!$K$20=5,MIN(HO66,HP66,HQ66,HR66,HS66),IF(Entries!$K$20=4,MIN(HO66,HP66,HQ66,HR66),IF(Entries!$K$20=3,MIN(HO66,HP66,HQ66),IF(Entries!$K$20=2,MIN(HO66,HP66),IF(Entries!$K$20=1,0,0)))))","v":0},0,"",null,null,null,null,null,null,null,null,{"$f":"IF(Entries!$K$20=5,MIN(HZ66,IA66,IB66,IC66,ID66),IF(Entries!$K$20=4,MIN(HZ66,IA66,IB66,IC66),IF(Entries!$K$20=3,MIN(HZ66,IA66,IB66),IF(Entries!$K$20=2,MIN(HZ66,IA66),IF(Entries!$K$20=1,0,0)))))","v":0},0,""]
[null,null,null,null,null,null,null,null,{"$f":"IF(Entries!$K$20=5,MIN(C67,D67,E67,F67,G67),IF(Entries!$K$20=4,MIN(C67,D67,E67,F67),IF(Entries!$K$20=3,MIN(C67,D67,E67),IF(Entries!$K$20=2,MIN(C67,D67),IF(Entries!$K$20=1,0,0)))))","v":0},0,"",null,null,null,null,null,null,null,null,{"$f":"IF(Entries!$K$20=5,MIN(N67,O67,P67,Q67,R67),IF(Entries!$K$20=4,MIN(N67,O67,P67,Q67),IF(Entries!$K$20=3,MIN(N67,O67,P67),IF(Entries!$K$20=2,MIN(N67,O67),IF(Entries!$K$20=1,0,0)))))","v":0},0,"",null,null,null,null,null,null,null,null,{"$f":"IF(Entries!$K$20=5,MIN(Y67,Z67,AA67,AB67,AC67),IF(Entries!$K$20=4,MIN(Y67,Z67,AA67,AB67),IF(Entries!$K$20=3,MIN(Y67,Z67,AA67),IF(Entries!$K$20=2,MIN(Y67,Z67),IF(Entries!$K$20=1,0,0)))))","v":0},0,"",null,null,null,null,null,null,null,null,{"$f":"IF(Entries!$K$20=5,MIN(AJ67,AK67,AL67,AM67,AN67),IF(Entries!$K$20=4,MIN(AJ67,AK67,AL67,AM67),IF(Entries!$K$20=3,MIN(AJ67,AK67,AL67),IF(Entries!$K$20=2,MIN(AJ67,AK67),IF(Entries!$K$20=1,0,0)))))","v":0},0,"",null,null,null,null,null,null,null,null,{"$f":"IF(Entries!$K$20=5,MIN(AU67,AV67,AW67,AX67,AY67),IF(Entries!$K$20=4,MIN(AU67,AV67,AW67,AX67),IF(Entries!$K$20=3,MIN(AU67,AV67,AW67),IF(Entries!$K$20=2,MIN(AU67,AV67),IF(Entries!$K$20=1,0,0)))))","v":0},0,"",null,null,null,null,null,null,null,null,{"$f":"IF(Entries!$K$20=5,MIN(BF67,BG67,BH67,BI67,BJ67),IF(Entries!$K$20=4,MIN(BF67,BG67,BH67,BI67),IF(Entries!$K$20=3,MIN(BF67,BG67,BH67),IF(Entries!$K$20=2,MIN(BF67,BG67),IF(Entries!$K$20=1,0,0)))))","v":0},0,"",null,null,null,null,null,null,null,null,{"$f":"IF(Entries!$K$20=5,MIN(BQ67,BR67,BS67,BT67,BU67),IF(Entries!$K$20=4,MIN(BQ67,BR67,BS67,BT67),IF(Entries!$K$20=3,MIN(BQ67,BR67,BS67),IF(Entries!$K$20=2,MIN(BQ67,BR67),IF(Entries!$K$20=1,0,0)))))","v":0},0,"",null,null,null,null,null,null,null,null,{"$f":"IF(Entries!$K$20=5,MIN(CB67,CC67,CD67,CE67,CF67),IF(Entries!$K$20=4,MIN(CB67,CC67,CD67,CE67),IF(Entries!$K$20=3,MIN(CB67,CC67,CD67),IF(Entries!$K$20=2,MIN(CB67,CC67),IF(Entries!$K$20=1,0,0)))))","v":0},0,"",null,null,null,null,null,null,null,null,{"$f":"IF(Entries!$K$20=5,MIN(CM67,CN67,CO67,CP67,CQ67),IF(Entries!$K$20=4,MIN(CM67,CN67,CO67,CP67),IF(Entries!$K$20=3,MIN(CM67,CN67,CO67),IF(Entries!$K$20=2,MIN(CM67,CN67),IF(Entries!$K$20=1,0,0)))))","v":0},0,"",null,null,null,null,null,null,null,null,{"$f":"IF(Entries!$K$20=5,MIN(CX67,CY67,CZ67,DA67,DB67),IF(Entries!$K$20=4,MIN(CX67,CY67,CZ67,DA67),IF(Entries!$K$20=3,MIN(CX67,CY67,CZ67),IF(Entries!$K$20=2,MIN(CX67,CY67),IF(Entries!$K$20=1,0,0)))))","v":0},0,"",null,null,null,null,null,null,null,null,{"$f":"IF(Entries!$K$20=5,MIN(DI67,DJ67,DK67,DL67,DM67),IF(Entries!$K$20=4,MIN(DI67,DJ67,DK67,DL67),IF(Entries!$K$20=3,MIN(DI67,DJ67,DK67),IF(Entries!$K$20=2,MIN(DI67,DJ67),IF(Entries!$K$20=1,0,0)))))","v":0},0,"",null,null,null,null,null,null,null,null,{"$f":"IF(Entries!$K$20=5,MIN(DT67,DU67,DV67,DW67,DX67),IF(Entries!$K$20=4,MIN(DT67,DU67,DV67,DW67),IF(Entries!$K$20=3,MIN(DT67,DU67,DV67),IF(Entries!$K$20=2,MIN(DT67,DU67),IF(Entries!$K$20=1,0,0)))))","v":0},0,"",null,null,null,null,null,null,null,null,{"$f":"IF(Entries!$K$20=5,MIN(EE67,EF67,EG67,EH67,EI67),IF(Entries!$K$20=4,MIN(EE67,EF67,EG67,EH67),IF(Entries!$K$20=3,MIN(EE67,EF67,EG67),IF(Entries!$K$20=2,MIN(EE67,EF67),IF(Entries!$K$20=1,0,0)))))","v":0},0,"",null,null,null,null,null,null,null,null,{"$f":"IF(Entries!$K$20=5,MIN(EP67,EQ67,ER67,ES67,ET67),IF(Entries!$K$20=4,MIN(EP67,EQ67,ER67,ES67),IF(Entries!$K$20=3,MIN(EP67,EQ67,ER67),IF(Entries!$K$20=2,MIN(EP67,EQ67),IF(Entries!$K$20=1,0,0)))))","v":0},0,"",null,null,null,null,null,null,null,null,{"$f":"IF(Entries!$K$20=5,MIN(FA67,FB67,FC67,FD67,FE67),IF(Entries!$K$20=4,MIN(FA67,FB67,FC67,FD67),IF(Entries!$K$20=3,MIN(FA67,FB67,FC67),IF(Entries!$K$20=2,MIN(FA67,FB67),IF(Entries!$K$20=1,0,0)))))","v":0},0,"",null,null,null,null,null,null,null,null,{"$f":"IF(Entries!$K$20=5,MIN(FL67,FM67,FN67,FO67,FP67),IF(Entries!$K$20=4,MIN(FL67,FM67,FN67,FO67),IF(Entries!$K$20=3,MIN(FL67,FM67,FN67),IF(Entries!$K$20=2,MIN(FL67,FM67),IF(Entries!$K$20=1,0,0)))))","v":0},0,"",null,null,null,null,null,null,null,null,{"$f":"IF(Entries!$K$20=5,MIN(FW67,FX67,FY67,FZ67,GA67),IF(Entries!$K$20=4,MIN(FW67,FX67,FY67,FZ67),IF(Entries!$K$20=3,MIN(FW67,FX67,FY67),IF(Entries!$K$20=2,MIN(FW67,FX67),IF(Entries!$K$20=1,0,0)))))","v":0},0,"",null,null,null,null,null,null,null,null,{"$f":"IF(Entries!$K$20=5,MIN(GH67,GI67,GJ67,GK67,GL67),IF(Entries!$K$20=4,MIN(GH67,GI67,GJ67,GK67),IF(Entries!$K$20=3,MIN(GH67,GI67,GJ67),IF(Entries!$K$20=2,MIN(GH67,GI67),IF(Entries!$K$20=1,0,0)))))","v":0},0,"",null,null,null,null,null,null,null,null,{"$f":"IF(Entries!$K$20=5,MIN(GS67,GT67,GU67,GV67,GW67),IF(Entries!$K$20=4,MIN(GS67,GT67,GU67,GV67),IF(Entries!$K$20=3,MIN(GS67,GT67,GU67),IF(Entries!$K$20=2,MIN(GS67,GT67),IF(Entries!$K$20=1,0,0)))))","v":0},0,"",null,null,null,null,null,null,null,null,{"$f":"IF(Entries!$K$20=5,MIN(HD67,HE67,HF67,HG67,HH67),IF(Entries!$K$20=4,MIN(HD67,HE67,HF67,HG67),IF(Entries!$K$20=3,MIN(HD67,HE67,HF67),IF(Entries!$K$20=2,MIN(HD67,HE67),IF(Entries!$K$20=1,0,0)))))","v":0},0,"",null,null,null,null,null,null,null,null,{"$f":"IF(Entries!$K$20=5,MIN(HO67,HP67,HQ67,HR67,HS67),IF(Entries!$K$20=4,MIN(HO67,HP67,HQ67,HR67),IF(Entries!$K$20=3,MIN(HO67,HP67,HQ67),IF(Entries!$K$20=2,MIN(HO67,HP67),IF(Entries!$K$20=1,0,0)))))","v":0},0,"",null,null,null,null,null,null,null,null,{"$f":"IF(Entries!$K$20=5,MIN(HZ67,IA67,IB67,IC67,ID67),IF(Entries!$K$20=4,MIN(HZ67,IA67,IB67,IC67),IF(Entries!$K$20=3,MIN(HZ67,IA67,IB67),IF(Entries!$K$20=2,MIN(HZ67,IA67),IF(Entries!$K$20=1,0,0)))))","v":0},0,""]
[null,null,null,null,null,null,null,null,{"$f":"IF(Entries!$K$20=5,MIN(C68,D68,E68,F68,G68),IF(Entries!$K$20=4,MIN(C68,D68,E68,F68),IF(Entries!$K$20=3,MIN(C68,D68,E68),IF(Entries!$K$20=2,MIN(C68,D68),IF(Entries!$K$20=1,0,0)))))","v":0},0,"",null,null,null,null,null,null,null,null,{"$f":"IF(Entries!$K$20=5,MIN(N68,O68,P68,Q68,R68),IF(Entries!$K$20=4,MIN(N68,O68,P68,Q68),IF(Entries!$K$20=3,MIN(N68,O68,P68),IF(Entries!$K$20=2,MIN(N68,O68),IF(Entries!$K$20=1,0,0)))))","v":0},0,"",null,null,null,null,null,null,null,null,{"$f":"IF(Entries!$K$20=5,MIN(Y68,Z68,AA68,AB68,AC68),IF(Entries!$K$20=4,MIN(Y68,Z68,AA68,AB68),IF(Entries!$K$20=3,MIN(Y68,Z68,AA68),IF(Entries!$K$20=2,MIN(Y68,Z68),IF(Entries!$K$20=1,0,0)))))","v":0},0,"",null,null,null,null,null,null,null,null,{"$f":"IF(Entries!$K$20=5,MIN(AJ68,AK68,AL68,AM68,AN68),IF(Entries!$K$20=4,MIN(AJ68,AK68,AL68,AM68),IF(Entries!$K$20=3,MIN(AJ68,AK68,AL68),IF(Entries!$K$20=2,MIN(AJ68,AK68),IF(Entries!$K$20=1,0,0)))))","v":0},0,"",null,null,null,null,null,null,null,null,{"$f":"IF(Entries!$K$20=5,MIN(AU68,AV68,AW68,AX68,AY68),IF(Entries!$K$20=4,MIN(AU68,AV68,AW68,AX68),IF(Entries!$K$20=3,MIN(AU68,AV68,AW68),IF(Entries!$K$20=2,MIN(AU68,AV68),IF(Entries!$K$20=1,0,0)))))","v":0},0,"",null,null,null,null,null,null,null,null,{"$f":"IF(Entries!$K$20=5,MIN(BF68,BG68,BH68,BI68,BJ68),IF(Entries!$K$20=4,MIN(BF68,BG68,BH68,BI68),IF(Entries!$K$20=3,MIN(BF68,BG68,BH68),IF(Entries!$K$20=2,MIN(BF68,BG68),IF(Entries!$K$20=1,0,0)))))","v":0},0,"",null,null,null,null,null,null,null,null,{"$f":"IF(Entries!$K$20=5,MIN(BQ68,BR68,BS68,BT68,BU68),IF(Entries!$K$20=4,MIN(BQ68,BR68,BS68,BT68),IF(Entries!$K$20=3,MIN(BQ68,BR68,BS68),IF(Entries!$K$20=2,MIN(BQ68,BR68),IF(Entries!$K$20=1,0,0)))))","v":0},0,"",null,null,null,null,null,null,null,null,{"$f":"IF(Entries!$K$20=5,MIN(CB68,CC68,CD68,CE68,CF68),IF(Entries!$K$20=4,MIN(CB68,CC68,CD68,CE68),IF(Entries!$K$20=3,MIN(CB68,CC68,CD68),IF(Entries!$K$20=2,MIN(CB68,CC68),IF(Entries!$K$20=1,0,0)))))","v":0},0,"",null,null,null,null,null,null,null,null,{"$f":"IF(Entries!$K$20=5,MIN(CM68,CN68,CO68,CP68,CQ68),IF(Entries!$K$20=4,MIN(CM68,CN68,CO68,CP68),IF(Entries!$K$20=3,MIN(CM68,CN68,CO68),IF(Entries!$K$20=2,MIN(CM68,CN68),IF(Entries!$K$20=1,0,0)))))","v":0},0,"",null,null,null,null,null,null,null,null,{"$f":"IF(Entries!$K$20=5,MIN(CX68,CY68,CZ68,DA68,DB68),IF(Entries!$K$20=4,MIN(CX68,CY68,CZ68,DA68),IF(Entries!$K$20=3,MIN(CX68,CY68,CZ68),IF(Entries!$K$20=2,MIN(CX68,CY68),IF(Entries!$K$20=1,0,0)))))","v":0},0,"",null,null,null,null,null,null,null,null,{"$f":"IF(Entries!$K$20=5,MIN(DI68,DJ68,DK68,DL68,DM68),IF(Entries!$K$20=4,MIN(DI68,DJ68,DK68,DL68),IF(Entries!$K$20=3,MIN(DI68,DJ68,DK68),IF(Entries!$K$20=2,MIN(DI68,DJ68),IF(Entries!$K$20=1,0,0)))))","v":0},0,"",null,null,null,null,null,null,null,null,{"$f":"IF(Entries!$K$20=5,MIN(DT68,DU68,DV68,DW68,DX68),IF(Entries!$K$20=4,MIN(DT68,DU68,DV68,DW68),IF(Entries!$K$20=3,MIN(DT68,DU68,DV68),IF(Entries!$K$20=2,MIN(DT68,DU68),IF(Entries!$K$20=1,0,0)))))","v":0},0,"",null,null,null,null,null,null,null,null,{"$f":"IF(Entries!$K$20=5,MIN(EE68,EF68,EG68,EH68,EI68),IF(Entries!$K$20=4,MIN(EE68,EF68,EG68,EH68),IF(Entries!$K$20=3,MIN(EE68,EF68,EG68),IF(Entries!$K$20=2,MIN(EE68,EF68),IF(Entries!$K$20=1,0,0)))))","v":0},0,"",null,null,null,null,null,null,null,null,{"$f":"IF(Entries!$K$20=5,MIN(EP68,EQ68,ER68,ES68,ET68),IF(Entries!$K$20=4,MIN(EP68,EQ68,ER68,ES68),IF(Entries!$K$20=3,MIN(EP68,EQ68,ER68),IF(Entries!$K$20=2,MIN(EP68,EQ68),IF(Entries!$K$20=1,0,0)))))","v":0},0,"",null,null,null,null,null,null,null,null,{"$f":"IF(Entries!$K$20=5,MIN(FA68,FB68,FC68,FD68,FE68),IF(Entries!$K$20=4,MIN(FA68,FB68,FC68,FD68),IF(Entries!$K$20=3,MIN(FA68,FB68,FC68),IF(Entries!$K$20=2,MIN(FA68,FB68),IF(Entries!$K$20=1,0,0)))))","v":0},0,"",null,null,null,null,null,null,null,null,{"$f":"IF(Entries!$K$20=5,MIN(FL68,FM68,FN68,FO68,FP68),IF(Entries!$K$20=4,MIN(FL68,FM68,FN68,FO68),IF(Entries!$K$20=3,MIN(FL68,FM68,FN68),IF(Entries!$K$20=2,MIN(FL68,FM68),IF(Entries!$K$20=1,0,0)))))","v":0},0,"",null,null,null,null,null,null,null,null,{"$f":"IF(Entries!$K$20=5,MIN(FW68,FX68,FY68,FZ68,GA68),IF(Entries!$K$20=4,MIN(FW68,FX68,FY68,FZ68),IF(Entries!$K$20=3,MIN(FW68,FX68,FY68),IF(Entries!$K$20=2,MIN(FW68,FX68),IF(Entries!$K$20=1,0,0)))))","v":0},0,"",null,null,null,null,null,null,null,null,{"$f":"IF(Entries!$K$20=5,MIN(GH68,GI68,GJ68,GK68,GL68),IF(Entries!$K$20=4,MIN(GH68,GI68,GJ68,GK68),IF(Entries!$K$20=3,MIN(GH68,GI68,GJ68),IF(Entries!$K$20=2,MIN(GH68,GI68),IF(Entries!$K$20=1,0,0)))))","v":0},0,"",null,null,null,null,null,null,null,null,{"$f":"IF(Entries!$K$20=5,MIN(GS68,GT68,GU68,GV68,GW68),IF(Entries!$K$20=4,MIN(GS68,GT68,GU68,GV68),IF(Entries!$K$20=3,MIN(GS68,GT68,GU68),IF(Entries!$K$20=2,MIN(GS68,GT68),IF(Entries!$K$20=1,0,0)))))","v":0},0,"",null,null,null,null,null,null,null,null,{"$f":"IF(Entries!$K$20=5,MIN(HD68,HE68,HF68,HG68,HH68),IF(Entries!$K$20=4,MIN(HD68,HE68,HF68,HG68),IF(Entries!$K$20=3,MIN(HD68,HE68,HF68),IF(Entries!$K$20=2,MIN(HD68,HE68),IF(Entries!$K$20=1,0,0)))))","v":0},0,"",null,null,null,null,null,null,null,null,{"$f":"IF(Entries!$K$20=5,MIN(HO68,HP68,HQ68,HR68,HS68),IF(Entries!$K$20=4,MIN(HO68,HP68,HQ68,HR68),IF(Entries!$K$20=3,MIN(HO68,HP68,HQ68),IF(Entries!$K$20=2,MIN(HO68,HP68),IF(Entries!$K$20=1,0,0)))))","v":0},0,"",null,null,null,null,null,null,null,null,{"$f":"IF(Entries!$K$20=5,MIN(HZ68,IA68,IB68,IC68,ID68),IF(Entries!$K$20=4,MIN(HZ68,IA68,IB68,IC68),IF(Entries!$K$20=3,MIN(HZ68,IA68,IB68),IF(Entries!$K$20=2,MIN(HZ68,IA68),IF(Entries!$K$20=1,0,0)))))","v":0},0,""]
[null,null,null,null,null,null,null,null,{"$f":"IF(Entries!$K$20=5,MIN(C69,D69,E69,F69,G69),IF(Entries!$K$20=4,MIN(C69,D69,E69,F69),IF(Entries!$K$20=3,MIN(C69,D69,E69),IF(Entries!$K$20=2,MIN(C69,D69),IF(Entries!$K$20=1,0,0)))))","v":0},0,"",null,null,null,null,null,null,null,null,{"$f":"IF(Entries!$K$20=5,MIN(N69,O69,P69,Q69,R69),IF(Entries!$K$20=4,MIN(N69,O69,P69,Q69),IF(Entries!$K$20=3,MIN(N69,O69,P69),IF(Entries!$K$20=2,MIN(N69,O69),IF(Entries!$K$20=1,0,0)))))","v":0},0,"",null,null,null,null,null,null,null,null,{"$f":"IF(Entries!$K$20=5,MIN(Y69,Z69,AA69,AB69,AC69),IF(Entries!$K$20=4,MIN(Y69,Z69,AA69,AB69),IF(Entries!$K$20=3,MIN(Y69,Z69,AA69),IF(Entries!$K$20=2,MIN(Y69,Z69),IF(Entries!$K$20=1,0,0)))))","v":0},0,"",null,null,null,null,null,null,null,null,{"$f":"IF(Entries!$K$20=5,MIN(AJ69,AK69,AL69,AM69,AN69),IF(Entries!$K$20=4,MIN(AJ69,AK69,AL69,AM69),IF(Entries!$K$20=3,MIN(AJ69,AK69,AL69),IF(Entries!$K$20=2,MIN(AJ69,AK69),IF(Entries!$K$20=1,0,0)))))","v":0},0,"",null,null,null,null,null,null,null,null,{"$f":"IF(Entries!$K$20=5,MIN(AU69,AV69,AW69,AX69,AY69),IF(Entries!$K$20=4,MIN(AU69,AV69,AW69,AX69),IF(Entries!$K$20=3,MIN(AU69,AV69,AW69),IF(Entries!$K$20=2,MIN(AU69,AV69),IF(Entries!$K$20=1,0,0)))))","v":0},0,"",null,null,null,null,null,null,null,null,{"$f":"IF(Entries!$K$20=5,MIN(BF69,BG69,BH69,BI69,BJ69),IF(Entries!$K$20=4,MIN(BF69,BG69,BH69,BI69),IF(Entries!$K$20=3,MIN(BF69,BG69,BH69),IF(Entries!$K$20=2,MIN(BF69,BG69),IF(Entries!$K$20=1,0,0)))))","v":0},0,"",null,null,null,null,null,null,null,null,{"$f":"IF(Entries!$K$20=5,MIN(BQ69,BR69,BS69,BT69,BU69),IF(Entries!$K$20=4,MIN(BQ69,BR69,BS69,BT69),IF(Entries!$K$20=3,MIN(BQ69,BR69,BS69),IF(Entries!$K$20=2,MIN(BQ69,BR69),IF(Entries!$K$20=1,0,0)))))","v":0},0,"",null,null,null,null,null,null,null,null,{"$f":"IF(Entries!$K$20=5,MIN(CB69,CC69,CD69,CE69,CF69),IF(Entries!$K$20=4,MIN(CB69,CC69,CD69,CE69),IF(Entries!$K$20=3,MIN(CB69,CC69,CD69),IF(Entries!$K$20=2,MIN(CB69,CC69),IF(Entries!$K$20=1,0,0)))))","v":0},0,"",null,null,null,null,null,null,null,null,{"$f":"IF(Entries!$K$20=5,MIN(CM69,CN69,CO69,CP69,CQ69),IF(Entries!$K$20=4,MIN(CM69,CN69,CO69,CP69),IF(Entries!$K$20=3,MIN(CM69,CN69,CO69),IF(Entries!$K$20=2,MIN(CM69,CN69),IF(Entries!$K$20=1,0,0)))))","v":0},0,"",null,null,null,null,null,null,null,null,{"$f":"IF(Entries!$K$20=5,MIN(CX69,CY69,CZ69,DA69,DB69),IF(Entries!$K$20=4,MIN(CX69,CY69,CZ69,DA69),IF(Entries!$K$20=3,MIN(CX69,CY69,CZ69),IF(Entries!$K$20=2,MIN(CX69,CY69),IF(Entries!$K$20=1,0,0)))))","v":0},0,"",null,null,null,null,null,null,null,null,{"$f":"IF(Entries!$K$20=5,MIN(DI69,DJ69,DK69,DL69,DM69),IF(Entries!$K$20=4,MIN(DI69,DJ69,DK69,DL69),IF(Entries!$K$20=3,MIN(DI69,DJ69,DK69),IF(Entries!$K$20=2,MIN(DI69,DJ69),IF(Entries!$K$20=1,0,0)))))","v":0},0,"",null,null,null,null,null,null,null,null,{"$f":"IF(Entries!$K$20=5,MIN(DT69,DU69,DV69,DW69,DX69),IF(Entries!$K$20=4,MIN(DT69,DU69,DV69,DW69),IF(Entries!$K$20=3,MIN(DT69,DU69,DV69),IF(Entries!$K$20=2,MIN(DT69,DU69),IF(Entries!$K$20=1,0,0)))))","v":0},0,"",null,null,null,null,null,null,null,null,{"$f":"IF(Entries!$K$20=5,MIN(EE69,EF69,EG69,EH69,EI69),IF(Entries!$K$20=4,MIN(EE69,EF69,EG69,EH69),IF(Entries!$K$20=3,MIN(EE69,EF69,EG69),IF(Entries!$K$20=2,MIN(EE69,EF69),IF(Entries!$K$20=1,0,0)))))","v":0},0,"",null,null,null,null,null,null,null,null,{"$f":"IF(Entries!$K$20=5,MIN(EP69,EQ69,ER69,ES69,ET69),IF(Entries!$K$20=4,MIN(EP69,EQ69,ER69,ES69),IF(Entries!$K$20=3,MIN(EP69,EQ69,ER69),IF(Entries!$K$20=2,MIN(EP69,EQ69),IF(Entries!$K$20=1,0,0)))))","v":0},0,"",null,null,null,null,null,null,null,null,{"$f":"IF(Entries!$K$20=5,MIN(FA69,FB69,FC69,FD69,FE69),IF(Entries!$K$20=4,MIN(FA69,FB69,FC69,FD69),IF(Entries!$K$20=3,MIN(FA69,FB69,FC69),IF(Entries!$K$20=2,MIN(FA69,FB69),IF(Entries!$K$20=1,0,0)))))","v":0},0,"",null,null,null,null,null,null,null,null,{"$f":"IF(Entries!$K$20=5,MIN(FL69,FM69,FN69,FO69,FP69),IF(Entries!$K$20=4,MIN(FL69,FM69,FN69,FO69),IF(Entries!$K$20=3,MIN(FL69,FM69,FN69),IF(Entries!$K$20=2,MIN(FL69,FM69),IF(Entries!$K$20=1,0,0)))))","v":0},0,"",null,null,null,null,null,null,null,null,{"$f":"IF(Entries!$K$20=5,MIN(FW69,FX69,FY69,FZ69,GA69),IF(Entries!$K$20=4,MIN(FW69,FX69,FY69,FZ69),IF(Entries!$K$20=3,MIN(FW69,FX69,FY69),IF(Entries!$K$20=2,MIN(FW69,FX69),IF(Entries!$K$20=1,0,0)))))","v":0},0,"",null,null,null,null,null,null,null,null,{"$f":"IF(Entries!$K$20=5,MIN(GH69,GI69,GJ69,GK69,GL69),IF(Entries!$K$20=4,MIN(GH69,GI69,GJ69,GK69),IF(Entries!$K$20=3,MIN(GH69,GI69,GJ69),IF(Entries!$K$20=2,MIN(GH69,GI69),IF(Entries!$K$20=1,0,0)))))","v":0},0,"",null,null,null,null,null,null,null,null,{"$f":"IF(Entries!$K$20=5,MIN(GS69,GT69,GU69,GV69,GW69),IF(Entries!$K$20=4,MIN(GS69,GT69,GU69,GV69),IF(Entries!$K$20=3,MIN(GS69,GT69,GU69),IF(Entries!$K$20=2,MIN(GS69,GT69),IF(Entries!$K$20=1,0,0)))))","v":0},0,"",null,null,null,null,null,null,null,null,{"$f":"IF(Entries!$K$20=5,MIN(HD69,HE69,HF69,HG69,HH69),IF(Entries!$K$20=4,MIN(HD69,HE69,HF69,HG69),IF(Entries!$K$20=3,MIN(HD69,HE69,HF69),IF(Entries!$K$20=2,MIN(HD69,HE69),IF(Entries!$K$20=1,0,0)))))","v":0},0,"",null,null,null,null,null,null,null,null,{"$f":"IF(Entries!$K$20=5,MIN(HO69,HP69,HQ69,HR69,HS69),IF(Entries!$K$20=4,MIN(HO69,HP69,HQ69,HR69),IF(Entries!$K$20=3,MIN(HO69,HP69,HQ69),IF(Entries!$K$20=2,MIN(HO69,HP69),IF(Entries!$K$20=1,0,0)))))","v":0},0,"",null,null,null,null,null,null,null,null,{"$f":"IF(Entries!$K$20=5,MIN(HZ69,IA69,IB69,IC69,ID69),IF(Entries!$K$20=4,MIN(HZ69,IA69,IB69,IC69),IF(Entries!$K$20=3,MIN(HZ69,IA69,IB69),IF(Entries!$K$20=2,MIN(HZ69,IA69),IF(Entries!$K$20=1,0,0)))))","v":0},0,""]
[null,null,null,null,null,null,null,null,{"$f":"IF(Entries!$K$20=5,MIN(C70,D70,E70,F70,G70),IF(Entries!$K$20=4,MIN(C70,D70,E70,F70),IF(Entries!$K$20=3,MIN(C70,D70,E70),IF(Entries!$K$20=2,MIN(C70,D70),IF(Entries!$K$20=1,0,0)))))","v":0},0,"",null,null,null,null,null,null,null,null,{"$f":"IF(Entries!$K$20=5,MIN(N70,O70,P70,Q70,R70),IF(Entries!$K$20=4,MIN(N70,O70,P70,Q70),IF(Entries!$K$20=3,MIN(N70,O70,P70),IF(Entries!$K$20=2,MIN(N70,O70),IF(Entries!$K$20=1,0,0)))))","v":0},0,"",null,null,null,null,null,null,null,null,{"$f":"IF(Entries!$K$20=5,MIN(Y70,Z70,AA70,AB70,AC70),IF(Entries!$K$20=4,MIN(Y70,Z70,AA70,AB70),IF(Entries!$K$20=3,MIN(Y70,Z70,AA70),IF(Entries!$K$20=2,MIN(Y70,Z70),IF(Entries!$K$20=1,0,0)))))","v":0},0,"",null,null,null,null,null,null,null,null,{"$f":"IF(Entries!$K$20=5,MIN(AJ70,AK70,AL70,AM70,AN70),IF(Entries!$K$20=4,MIN(AJ70,AK70,AL70,AM70),IF(Entries!$K$20=3,MIN(AJ70,AK70,AL70),IF(Entries!$K$20=2,MIN(AJ70,AK70),IF(Entries!$K$20=1,0,0)))))","v":0},0,"",null,null,null,null,null,null,null,null,{"$f":"IF(Entries!$K$20=5,MIN(AU70,AV70,AW70,AX70,AY70),IF(Entries!$K$20=4,MIN(AU70,AV70,AW70,AX70),IF(Entries!$K$20=3,MIN(AU70,AV70,AW70),IF(Entries!$K$20=2,MIN(AU70,AV70),IF(Entries!$K$20=1,0,0)))))","v":0},0,"",null,null,null,null,null,null,null,null,{"$f":"IF(Entries!$K$20=5,MIN(BF70,BG70,BH70,BI70,BJ70),IF(Entries!$K$20=4,MIN(BF70,BG70,BH70,BI70),IF(Entries!$K$20=3,MIN(BF70,BG70,BH70),IF(Entries!$K$20=2,MIN(BF70,BG70),IF(Entries!$K$20=1,0,0)))))","v":0},0,"",null,null,null,null,null,null,null,null,{"$f":"IF(Entries!$K$20=5,MIN(BQ70,BR70,BS70,BT70,BU70),IF(Entries!$K$20=4,MIN(BQ70,BR70,BS70,BT70),IF(Entries!$K$20=3,MIN(BQ70,BR70,BS70),IF(Entries!$K$20=2,MIN(BQ70,BR70),IF(Entries!$K$20=1,0,0)))))","v":0},0,"",null,null,null,null,null,null,null,null,{"$f":"IF(Entries!$K$20=5,MIN(CB70,CC70,CD70,CE70,CF70),IF(Entries!$K$20=4,MIN(CB70,CC70,CD70,CE70),IF(Entries!$K$20=3,MIN(CB70,CC70,CD70),IF(Entries!$K$20=2,MIN(CB70,CC70),IF(Entries!$K$20=1,0,0)))))","v":0},0,"",null,null,null,null,null,null,null,null,{"$f":"IF(Entries!$K$20=5,MIN(CM70,CN70,CO70,CP70,CQ70),IF(Entries!$K$20=4,MIN(CM70,CN70,CO70,CP70),IF(Entries!$K$20=3,MIN(CM70,CN70,CO70),IF(Entries!$K$20=2,MIN(CM70,CN70),IF(Entries!$K$20=1,0,0)))))","v":0},0,"",null,null,null,null,null,null,null,null,{"$f":"IF(Entries!$K$20=5,MIN(CX70,CY70,CZ70,DA70,DB70),IF(Entries!$K$20=4,MIN(CX70,CY70,CZ70,DA70),IF(Entries!$K$20=3,MIN(CX70,CY70,CZ70),IF(Entries!$K$20=2,MIN(CX70,CY70),IF(Entries!$K$20=1,0,0)))))","v":0},0,"",null,null,null,null,null,null,null,null,{"$f":"IF(Entries!$K$20=5,MIN(DI70,DJ70,DK70,DL70,DM70),IF(Entries!$K$20=4,MIN(DI70,DJ70,DK70,DL70),IF(Entries!$K$20=3,MIN(DI70,DJ70,DK70),IF(Entries!$K$20=2,MIN(DI70,DJ70),IF(Entries!$K$20=1,0,0)))))","v":0},0,"",null,null,null,null,null,null,null,null,{"$f":"IF(Entries!$K$20=5,MIN(DT70,DU70,DV70,DW70,DX70),IF(Entries!$K$20=4,MIN(DT70,DU70,DV70,DW70),IF(Entries!$K$20=3,MIN(DT70,DU70,DV70),IF(Entries!$K$20=2,MIN(DT70,DU70),IF(Entries!$K$20=1,0,0)))))","v":0},0,"",null,null,null,null,null,null,null,null,{"$f":"IF(Entries!$K$20=5,MIN(EE70,EF70,EG70,EH70,EI70),IF(Entries!$K$20=4,MIN(EE70,EF70,EG70,EH70),IF(Entries!$K$20=3,MIN(EE70,EF70,EG70),IF(Entries!$K$20=2,MIN(EE70,EF70),IF(Entries!$K$20=1,0,0)))))","v":0},0,"",null,null,null,null,null,null,null,null,{"$f":"IF(Entries!$K$20=5,MIN(EP70,EQ70,ER70,ES70,ET70),IF(Entries!$K$20=4,MIN(EP70,EQ70,ER70,ES70),IF(Entries!$K$20=3,MIN(EP70,EQ70,ER70),IF(Entries!$K$20=2,MIN(EP70,EQ70),IF(Entries!$K$20=1,0,0)))))","v":0},0,"",null,null,null,null,null,null,null,null,{"$f":"IF(Entries!$K$20=5,MIN(FA70,FB70,FC70,FD70,FE70),IF(Entries!$K$20=4,MIN(FA70,FB70,FC70,FD70),IF(Entries!$K$20=3,MIN(FA70,FB70,FC70),IF(Entries!$K$20=2,MIN(FA70,FB70),IF(Entries!$K$20=1,0,0)))))","v":0},0,"",null,null,null,null,null,null,null,null,{"$f":"IF(Entries!$K$20=5,MIN(FL70,FM70,FN70,FO70,FP70),IF(Entries!$K$20=4,MIN(FL70,FM70,FN70,FO70),IF(Entries!$K$20=3,MIN(FL70,FM70,FN70),IF(Entries!$K$20=2,MIN(FL70,FM70),IF(Entries!$K$20=1,0,0)))))","v":0},0,"",null,null,null,null,null,null,null,null,{"$f":"IF(Entries!$K$20=5,MIN(FW70,FX70,FY70,FZ70,GA70),IF(Entries!$K$20=4,MIN(FW70,FX70,FY70,FZ70),IF(Entries!$K$20=3,MIN(FW70,FX70,FY70),IF(Entries!$K$20=2,MIN(FW70,FX70),IF(Entries!$K$20=1,0,0)))))","v":0},0,"",null,null,null,null,null,null,null,null,{"$f":"IF(Entries!$K$20=5,MIN(GH70,GI70,GJ70,GK70,GL70),IF(Entries!$K$20=4,MIN(GH70,GI70,GJ70,GK70),IF(Entries!$K$20=3,MIN(GH70,GI70,GJ70),IF(Entries!$K$20=2,MIN(GH70,GI70),IF(Entries!$K$20=1,0,0)))))","v":0},0,"",null,null,null,null,null,null,null,null,{"$f":"IF(Entries!$K$20=5,MIN(GS70,GT70,GU70,GV70,GW70),IF(Entries!$K$20=4,MIN(GS70,GT70,GU70,GV70),IF(Entries!$K$20=3,MIN(GS70,GT70,GU70),IF(Entries!$K$20=2,MIN(GS70,GT70),IF(Entries!$K$20=1,0,0)))))","v":0},0,"",null,null,null,null,null,null,null,null,{"$f":"IF(Entries!$K$20=5,MIN(HD70,HE70,HF70,HG70,HH70),IF(Entries!$K$20=4,MIN(HD70,HE70,HF70,HG70),IF(Entries!$K$20=3,MIN(HD70,HE70,HF70),IF(Entries!$K$20=2,MIN(HD70,HE70),IF(Entries!$K$20=1,0,0)))))","v":0},0,"",null,null,null,null,null,null,null,null,{"$f":"IF(Entries!$K$20=5,MIN(HO70,HP70,HQ70,HR70,HS70),IF(Entries!$K$20=4,MIN(HO70,HP70,HQ70,HR70),IF(Entries!$K$20=3,MIN(HO70,HP70,HQ70),IF(Entries!$K$20=2,MIN(HO70,HP70),IF(Entries!$K$20=1,0,0)))))","v":0},0,"",null,null,null,null,null,null,null,null,{"$f":"IF(Entries!$K$20=5,MIN(HZ70,IA70,IB70,IC70,ID70),IF(Entries!$K$20=4,MIN(HZ70,IA70,IB70,IC70),IF(Entries!$K$20=3,MIN(HZ70,IA70,IB70),IF(Entries!$K$20=2,MIN(HZ70,IA70),IF(Entries!$K$20=1,0,0)))))","v":0},0,""]
[null,null,null,null,null,null,null,null,{"$f":"IF(Entries!$K$20=5,MIN(C71,D71,E71,F71,G71),IF(Entries!$K$20=4,MIN(C71,D71,E71,F71),IF(Entries!$K$20=3,MIN(C71,D71,E71),IF(Entries!$K$20=2,MIN(C71,D71),IF(Entries!$K$20=1,0,0)))))","v":0},0,"",null,null,null,null,null,null,null,null,{"$f":"IF(Entries!$K$20=5,MIN(N71,O71,P71,Q71,R71),IF(Entries!$K$20=4,MIN(N71,O71,P71,Q71),IF(Entries!$K$20=3,MIN(N71,O71,P71),IF(Entries!$K$20=2,MIN(N71,O71),IF(Entries!$K$20=1,0,0)))))","v":0},0,"",null,null,null,null,null,null,null,null,{"$f":"IF(Entries!$K$20=5,MIN(Y71,Z71,AA71,AB71,AC71),IF(Entries!$K$20=4,MIN(Y71,Z71,AA71,AB71),IF(Entries!$K$20=3,MIN(Y71,Z71,AA71),IF(Entries!$K$20=2,MIN(Y71,Z71),IF(Entries!$K$20=1,0,0)))))","v":0},0,"",null,null,null,null,null,null,null,null,{"$f":"IF(Entries!$K$20=5,MIN(AJ71,AK71,AL71,AM71,AN71),IF(Entries!$K$20=4,MIN(AJ71,AK71,AL71,AM71),IF(Entries!$K$20=3,MIN(AJ71,AK71,AL71),IF(Entries!$K$20=2,MIN(AJ71,AK71),IF(Entries!$K$20=1,0,0)))))","v":0},0,"",null,null,null,null,null,null,null,null,{"$f":"IF(Entries!$K$20=5,MIN(AU71,AV71,AW71,AX71,AY71),IF(Entries!$K$20=4,MIN(AU71,AV71,AW71,AX71),IF(Entries!$K$20=3,MIN(AU71,AV71,AW71),IF(Entries!$K$20=2,MIN(AU71,AV71),IF(Entries!$K$20=1,0,0)))))","v":0},0,"",null,null,null,null,null,null,null,null,{"$f":"IF(Entries!$K$20=5,MIN(BF71,BG71,BH71,BI71,BJ71),IF(Entries!$K$20=4,MIN(BF71,BG71,BH71,BI71),IF(Entries!$K$20=3,MIN(BF71,BG71,BH71),IF(Entries!$K$20=2,MIN(BF71,BG71),IF(Entries!$K$20=1,0,0)))))","v":0},0,"",null,null,null,null,null,null,null,null,{"$f":"IF(Entries!$K$20=5,MIN(BQ71,BR71,BS71,BT71,BU71),IF(Entries!$K$20=4,MIN(BQ71,BR71,BS71,BT71),IF(Entries!$K$20=3,MIN(BQ71,BR71,BS71),IF(Entries!$K$20=2,MIN(BQ71,BR71),IF(Entries!$K$20=1,0,0)))))","v":0},0,"",null,null,null,null,null,null,null,null,{"$f":"IF(Entries!$K$20=5,MIN(CB71,CC71,CD71,CE71,CF71),IF(Entries!$K$20=4,MIN(CB71,CC71,CD71,CE71),IF(Entries!$K$20=3,MIN(CB71,CC71,CD71),IF(Entries!$K$20=2,MIN(CB71,CC71),IF(Entries!$K$20=1,0,0)))))","v":0},0,"",null,null,null,null,null,null,null,null,{"$f":"IF(Entries!$K$20=5,MIN(CM71,CN71,CO71,CP71,CQ71),IF(Entries!$K$20=4,MIN(CM71,CN71,CO71,CP71),IF(Entries!$K$20=3,MIN(CM71,CN71,CO71),IF(Entries!$K$20=2,MIN(CM71,CN71),IF(Entries!$K$20=1,0,0)))))","v":0},0,"",null,null,null,null,null,null,null,null,{"$f":"IF(Entries!$K$20=5,MIN(CX71,CY71,CZ71,DA71,DB71),IF(Entries!$K$20=4,MIN(CX71,CY71,CZ71,DA71),IF(Entries!$K$20=3,MIN(CX71,CY71,CZ71),IF(Entries!$K$20=2,MIN(CX71,CY71),IF(Entries!$K$20=1,0,0)))))","v":0},0,"",null,null,null,null,null,null,null,null,{"$f":"IF(Entries!$K$20=5,MIN(DI71,DJ71,DK71,DL71,DM71),IF(Entries!$K$20=4,MIN(DI71,DJ71,DK71,DL71),IF(Entries!$K$20=3,MIN(DI71,DJ71,DK71),IF(Entries!$K$20=2,MIN(DI71,DJ71),IF(Entries!$K$20=1,0,0)))))","v":0},0,"",null,null,null,null,null,null,null,null,{"$f":"IF(Entries!$K$20=5,MIN(DT71,DU71,DV71,DW71,DX71),IF(Entries!$K$20=4,MIN(DT71,DU71,DV71,DW71),IF(Entries!$K$20=3,MIN(DT71,DU71,DV71),IF(Entries!$K$20=2,MIN(DT71,DU71),IF(Entries!$K$20=1,0,0)))))","v":0},0,"",null,null,null,null,null,null,null,null,{"$f":"IF(Entries!$K$20=5,MIN(EE71,EF71,EG71,EH71,EI71),IF(Entries!$K$20=4,MIN(EE71,EF71,EG71,EH71),IF(Entries!$K$20=3,MIN(EE71,EF71,EG71),IF(Entries!$K$20=2,MIN(EE71,EF71),IF(Entries!$K$20=1,0,0)))))","v":0},0,"",null,null,null,null,null,null,null,null,{"$f":"IF(Entries!$K$20=5,MIN(EP71,EQ71,ER71,ES71,ET71),IF(Entries!$K$20=4,MIN(EP71,EQ71,ER71,ES71),IF(Entries!$K$20=3,MIN(EP71,EQ71,ER71),IF(Entries!$K$20=2,MIN(EP71,EQ71),IF(Entries!$K$20=1,0,0)))))","v":0},0,"",null,null,null,null,null,null,null,null,{"$f":"IF(Entries!$K$20=5,MIN(FA71,FB71,FC71,FD71,FE71),IF(Entries!$K$20=4,MIN(FA71,FB71,FC71,FD71),IF(Entries!$K$20=3,MIN(FA71,FB71,FC71),IF(Entries!$K$20=2,MIN(FA71,FB71),IF(Entries!$K$20=1,0,0)))))","v":0},0,"",null,null,null,null,null,null,null,null,{"$f":"IF(Entries!$K$20=5,MIN(FL71,FM71,FN71,FO71,FP71),IF(Entries!$K$20=4,MIN(FL71,FM71,FN71,FO71),IF(Entries!$K$20=3,MIN(FL71,FM71,FN71),IF(Entries!$K$20=2,MIN(FL71,FM71),IF(Entries!$K$20=1,0,0)))))","v":0},0,"",null,null,null,null,null,null,null,null,{"$f":"IF(Entries!$K$20=5,MIN(FW71,FX71,FY71,FZ71,GA71),IF(Entries!$K$20=4,MIN(FW71,FX71,FY71,FZ71),IF(Entries!$K$20=3,MIN(FW71,FX71,FY71),IF(Entries!$K$20=2,MIN(FW71,FX71),IF(Entries!$K$20=1,0,0)))))","v":0},0,"",null,null,null,null,null,null,null,null,{"$f":"IF(Entries!$K$20=5,MIN(GH71,GI71,GJ71,GK71,GL71),IF(Entries!$K$20=4,MIN(GH71,GI71,GJ71,GK71),IF(Entries!$K$20=3,MIN(GH71,GI71,GJ71),IF(Entries!$K$20=2,MIN(GH71,GI71),IF(Entries!$K$20=1,0,0)))))","v":0},0,"",null,null,null,null,null,null,null,null,{"$f":"IF(Entries!$K$20=5,MIN(GS71,GT71,GU71,GV71,GW71),IF(Entries!$K$20=4,MIN(GS71,GT71,GU71,GV71),IF(Entries!$K$20=3,MIN(GS71,GT71,GU71),IF(Entries!$K$20=2,MIN(GS71,GT71),IF(Entries!$K$20=1,0,0)))))","v":0},0,"",null,null,null,null,null,null,null,null,{"$f":"IF(Entries!$K$20=5,MIN(HD71,HE71,HF71,HG71,HH71),IF(Entries!$K$20=4,MIN(HD71,HE71,HF71,HG71),IF(Entries!$K$20=3,MIN(HD71,HE71,HF71),IF(Entries!$K$20=2,MIN(HD71,HE71),IF(Entries!$K$20=1,0,0)))))","v":0},0,"",null,null,null,null,null,null,null,null,{"$f":"IF(Entries!$K$20=5,MIN(HO71,HP71,HQ71,HR71,HS71),IF(Entries!$K$20=4,MIN(HO71,HP71,HQ71,HR71),IF(Entries!$K$20=3,MIN(HO71,HP71,HQ71),IF(Entries!$K$20=2,MIN(HO71,HP71),IF(Entries!$K$20=1,0,0)))))","v":0},0,"",null,null,null,null,null,null,null,null,{"$f":"IF(Entries!$K$20=5,MIN(HZ71,IA71,IB71,IC71,ID71),IF(Entries!$K$20=4,MIN(HZ71,IA71,IB71,IC71),IF(Entries!$K$20=3,MIN(HZ71,IA71,IB71),IF(Entries!$K$20=2,MIN(HZ71,IA71),IF(Entries!$K$20=1,0,0)))))","v":0},0,""]
[null,null,null,null,null,null,null,null,{"$f":"IF(Entries!$K$20=5,MIN(C72,D72,E72,F72,G72),IF(Entries!$K$20=4,MIN(C72,D72,E72,F72),IF(Entries!$K$20=3,MIN(C72,D72,E72),IF(Entries!$K$20=2,MIN(C72,D72),IF(Entries!$K$20=1,0,0)))))","v":0},0,"",null,null,null,null,null,null,null,null,{"$f":"IF(Entries!$K$20=5,MIN(N72,O72,P72,Q72,R72),IF(Entries!$K$20=4,MIN(N72,O72,P72,Q72),IF(Entries!$K$20=3,MIN(N72,O72,P72),IF(Entries!$K$20=2,MIN(N72,O72),IF(Entries!$K$20=1,0,0)))))","v":0},0,"",null,null,null,null,null,null,null,null,{"$f":"IF(Entries!$K$20=5,MIN(Y72,Z72,AA72,AB72,AC72),IF(Entries!$K$20=4,MIN(Y72,Z72,AA72,AB72),IF(Entries!$K$20=3,MIN(Y72,Z72,AA72),IF(Entries!$K$20=2,MIN(Y72,Z72),IF(Entries!$K$20=1,0,0)))))","v":0},0,"",null,null,null,null,null,null,null,null,{"$f":"IF(Entries!$K$20=5,MIN(AJ72,AK72,AL72,AM72,AN72),IF(Entries!$K$20=4,MIN(AJ72,AK72,AL72,AM72),IF(Entries!$K$20=3,MIN(AJ72,AK72,AL72),IF(Entries!$K$20=2,MIN(AJ72,AK72),IF(Entries!$K$20=1,0,0)))))","v":0},0,"",null,null,null,null,null,null,null,null,{"$f":"IF(Entries!$K$20=5,MIN(AU72,AV72,AW72,AX72,AY72),IF(Entries!$K$20=4,MIN(AU72,AV72,AW72,AX72),IF(Entries!$K$20=3,MIN(AU72,AV72,AW72),IF(Entries!$K$20=2,MIN(AU72,AV72),IF(Entries!$K$20=1,0,0)))))","v":0},0,"",null,null,null,null,null,null,null,null,{"$f":"IF(Entries!$K$20=5,MIN(BF72,BG72,BH72,BI72,BJ72),IF(Entries!$K$20=4,MIN(BF72,BG72,BH72,BI72),IF(Entries!$K$20=3,MIN(BF72,BG72,BH72),IF(Entries!$K$20=2,MIN(BF72,BG72),IF(Entries!$K$20=1,0,0)))))","v":0},0,"",null,null,null,null,null,null,null,null,{"$f":"IF(Entries!$K$20=5,MIN(BQ72,BR72,BS72,BT72,BU72),IF(Entries!$K$20=4,MIN(BQ72,BR72,BS72,BT72),IF(Entries!$K$20=3,MIN(BQ72,BR72,BS72),IF(Entries!$K$20=2,MIN(BQ72,BR72),IF(Entries!$K$20=1,0,0)))))","v":0},0,"",null,null,null,null,null,null,null,null,{"$f":"IF(Entries!$K$20=5,MIN(CB72,CC72,CD72,CE72,CF72),IF(Entries!$K$20=4,MIN(CB72,CC72,CD72,CE72),IF(Entries!$K$20=3,MIN(CB72,CC72,CD72),IF(Entries!$K$20=2,MIN(CB72,CC72),IF(Entries!$K$20=1,0,0)))))","v":0},0,"",null,null,null,null,null,null,null,null,{"$f":"IF(Entries!$K$20=5,MIN(CM72,CN72,CO72,CP72,CQ72),IF(Entries!$K$20=4,MIN(CM72,CN72,CO72,CP72),IF(Entries!$K$20=3,MIN(CM72,CN72,CO72),IF(Entries!$K$20=2,MIN(CM72,CN72),IF(Entries!$K$20=1,0,0)))))","v":0},0,"",null,null,null,null,null,null,null,null,{"$f":"IF(Entries!$K$20=5,MIN(CX72,CY72,CZ72,DA72,DB72),IF(Entries!$K$20=4,MIN(CX72,CY72,CZ72,DA72),IF(Entries!$K$20=3,MIN(CX72,CY72,CZ72),IF(Entries!$K$20=2,MIN(CX72,CY72),IF(Entries!$K$20=1,0,0)))))","v":0},0,"",null,null,null,null,null,null,null,null,{"$f":"IF(Entries!$K$20=5,MIN(DI72,DJ72,DK72,DL72,DM72),IF(Entries!$K$20=4,MIN(DI72,DJ72,DK72,DL72),IF(Entries!$K$20=3,MIN(DI72,DJ72,DK72),IF(Entries!$K$20=2,MIN(DI72,DJ72),IF(Entries!$K$20=1,0,0)))))","v":0},0,"",null,null,null,null,null,null,null,null,{"$f":"IF(Entries!$K$20=5,MIN(DT72,DU72,DV72,DW72,DX72),IF(Entries!$K$20=4,MIN(DT72,DU72,DV72,DW72),IF(Entries!$K$20=3,MIN(DT72,DU72,DV72),IF(Entries!$K$20=2,MIN(DT72,DU72),IF(Entries!$K$20=1,0,0)))))","v":0},0,"",null,null,null,null,null,null,null,null,{"$f":"IF(Entries!$K$20=5,MIN(EE72,EF72,EG72,EH72,EI72),IF(Entries!$K$20=4,MIN(EE72,EF72,EG72,EH72),IF(Entries!$K$20=3,MIN(EE72,EF72,EG72),IF(Entries!$K$20=2,MIN(EE72,EF72),IF(Entries!$K$20=1,0,0)))))","v":0},0,"",null,null,null,null,null,null,null,null,{"$f":"IF(Entries!$K$20=5,MIN(EP72,EQ72,ER72,ES72,ET72),IF(Entries!$K$20=4,MIN(EP72,EQ72,ER72,ES72),IF(Entries!$K$20=3,MIN(EP72,EQ72,ER72),IF(Entries!$K$20=2,MIN(EP72,EQ72),IF(Entries!$K$20=1,0,0)))))","v":0},0,"",null,null,null,null,null,null,null,null,{"$f":"IF(Entries!$K$20=5,MIN(FA72,FB72,FC72,FD72,FE72),IF(Entries!$K$20=4,MIN(FA72,FB72,FC72,FD72),IF(Entries!$K$20=3,MIN(FA72,FB72,FC72),IF(Entries!$K$20=2,MIN(FA72,FB72),IF(Entries!$K$20=1,0,0)))))","v":0},0,"",null,null,null,null,null,null,null,null,{"$f":"IF(Entries!$K$20=5,MIN(FL72,FM72,FN72,FO72,FP72),IF(Entries!$K$20=4,MIN(FL72,FM72,FN72,FO72),IF(Entries!$K$20=3,MIN(FL72,FM72,FN72),IF(Entries!$K$20=2,MIN(FL72,FM72),IF(Entries!$K$20=1,0,0)))))","v":0},0,"",null,null,null,null,null,null,null,null,{"$f":"IF(Entries!$K$20=5,MIN(FW72,FX72,FY72,FZ72,GA72),IF(Entries!$K$20=4,MIN(FW72,FX72,FY72,FZ72),IF(Entries!$K$20=3,MIN(FW72,FX72,FY72),IF(Entries!$K$20=2,MIN(FW72,FX72),IF(Entries!$K$20=1,0,0)))))","v":0},0,"",null,null,null,null,null,null,null,null,{"$f":"IF(Entries!$K$20=5,MIN(GH72,GI72,GJ72,GK72,GL72),IF(Entries!$K$20=4,MIN(GH72,GI72,GJ72,GK72),IF(Entries!$K$20=3,MIN(GH72,GI72,GJ72),IF(Entries!$K$20=2,MIN(GH72,GI72),IF(Entries!$K$20=1,0,0)))))","v":0},0,"",null,null,null,null,null,null,null,null,{"$f":"IF(Entries!$K$20=5,MIN(GS72,GT72,GU72,GV72,GW72),IF(Entries!$K$20=4,MIN(GS72,GT72,GU72,GV72),IF(Entries!$K$20=3,MIN(GS72,GT72,GU72),IF(Entries!$K$20=2,MIN(GS72,GT72),IF(Entries!$K$20=1,0,0)))))","v":0},0,"",null,null,null,null,null,null,null,null,{"$f":"IF(Entries!$K$20=5,MIN(HD72,HE72,HF72,HG72,HH72),IF(Entries!$K$20=4,MIN(HD72,HE72,HF72,HG72),IF(Entries!$K$20=3,MIN(HD72,HE72,HF72),IF(Entries!$K$20=2,MIN(HD72,HE72),IF(Entries!$K$20=1,0,0)))))","v":0},0,"",null,null,null,null,null,null,null,null,{"$f":"IF(Entries!$K$20=5,MIN(HO72,HP72,HQ72,HR72,HS72),IF(Entries!$K$20=4,MIN(HO72,HP72,HQ72,HR72),IF(Entries!$K$20=3,MIN(HO72,HP72,HQ72),IF(Entries!$K$20=2,MIN(HO72,HP72),IF(Entries!$K$20=1,0,0)))))","v":0},0,"",null,null,null,null,null,null,null,null,{"$f":"IF(Entries!$K$20=5,MIN(HZ72,IA72,IB72,IC72,ID72),IF(Entries!$K$20=4,MIN(HZ72,IA72,IB72,IC72),IF(Entries!$K$20=3,MIN(HZ72,IA72,IB72),IF(Entries!$K$20=2,MIN(HZ72,IA72),IF(Entries!$K$20=1,0,0)))))","v":0},0,""]
[null,null,null,null,null,null,null,null,{"$f":"IF(Entries!$K$20=5,MIN(C73,D73,E73,F73,G73),IF(Entries!$K$20=4,MIN(C73,D73,E73,F73),IF(Entries!$K$20=3,MIN(C73,D73,E73),IF(Entries!$K$20=2,MIN(C73,D73),IF(Entries!$K$20=1,0,0)))))","v":0},0,"",null,null,null,null,null,null,null,null,{"$f":"IF(Entries!$K$20=5,MIN(N73,O73,P73,Q73,R73),IF(Entries!$K$20=4,MIN(N73,O73,P73,Q73),IF(Entries!$K$20=3,MIN(N73,O73,P73),IF(Entries!$K$20=2,MIN(N73,O73),IF(Entries!$K$20=1,0,0)))))","v":0},0,"",null,null,null,null,null,null,null,null,{"$f":"IF(Entries!$K$20=5,MIN(Y73,Z73,AA73,AB73,AC73),IF(Entries!$K$20=4,MIN(Y73,Z73,AA73,AB73),IF(Entries!$K$20=3,MIN(Y73,Z73,AA73),IF(Entries!$K$20=2,MIN(Y73,Z73),IF(Entries!$K$20=1,0,0)))))","v":0},0,"",null,null,null,null,null,null,null,null,{"$f":"IF(Entries!$K$20=5,MIN(AJ73,AK73,AL73,AM73,AN73),IF(Entries!$K$20=4,MIN(AJ73,AK73,AL73,AM73),IF(Entries!$K$20=3,MIN(AJ73,AK73,AL73),IF(Entries!$K$20=2,MIN(AJ73,AK73),IF(Entries!$K$20=1,0,0)))))","v":0},0,"",null,null,null,null,null,null,null,null,{"$f":"IF(Entries!$K$20=5,MIN(AU73,AV73,AW73,AX73,AY73),IF(Entries!$K$20=4,MIN(AU73,AV73,AW73,AX73),IF(Entries!$K$20=3,MIN(AU73,AV73,AW73),IF(Entries!$K$20=2,MIN(AU73,AV73),IF(Entries!$K$20=1,0,0)))))","v":0},0,"",null,null,null,null,null,null,null,null,{"$f":"IF(Entries!$K$20=5,MIN(BF73,BG73,BH73,BI73,BJ73),IF(Entries!$K$20=4,MIN(BF73,BG73,BH73,BI73),IF(Entries!$K$20=3,MIN(BF73,BG73,BH73),IF(Entries!$K$20=2,MIN(BF73,BG73),IF(Entries!$K$20=1,0,0)))))","v":0},0,"",null,null,null,null,null,null,null,null,{"$f":"IF(Entries!$K$20=5,MIN(BQ73,BR73,BS73,BT73,BU73),IF(Entries!$K$20=4,MIN(BQ73,BR73,BS73,BT73),IF(Entries!$K$20=3,MIN(BQ73,BR73,BS73),IF(Entries!$K$20=2,MIN(BQ73,BR73),IF(Entries!$K$20=1,0,0)))))","v":0},0,"",null,null,null,null,null,null,null,null,{"$f":"IF(Entries!$K$20=5,MIN(CB73,CC73,CD73,CE73,CF73),IF(Entries!$K$20=4,MIN(CB73,CC73,CD73,CE73),IF(Entries!$K$20=3,MIN(CB73,CC73,CD73),IF(Entries!$K$20=2,MIN(CB73,CC73),IF(Entries!$K$20=1,0,0)))))","v":0},0,"",null,null,null,null,null,null,null,null,{"$f":"IF(Entries!$K$20=5,MIN(CM73,CN73,CO73,CP73,CQ73),IF(Entries!$K$20=4,MIN(CM73,CN73,CO73,CP73),IF(Entries!$K$20=3,MIN(CM73,CN73,CO73),IF(Entries!$K$20=2,MIN(CM73,CN73),IF(Entries!$K$20=1,0,0)))))","v":0},0,"",null,null,null,null,null,null,null,null,{"$f":"IF(Entries!$K$20=5,MIN(CX73,CY73,CZ73,DA73,DB73),IF(Entries!$K$20=4,MIN(CX73,CY73,CZ73,DA73),IF(Entries!$K$20=3,MIN(CX73,CY73,CZ73),IF(Entries!$K$20=2,MIN(CX73,CY73),IF(Entries!$K$20=1,0,0)))))","v":0},0,"",null,null,null,null,null,null,null,null,{"$f":"IF(Entries!$K$20=5,MIN(DI73,DJ73,DK73,DL73,DM73),IF(Entries!$K$20=4,MIN(DI73,DJ73,DK73,DL73),IF(Entries!$K$20=3,MIN(DI73,DJ73,DK73),IF(Entries!$K$20=2,MIN(DI73,DJ73),IF(Entries!$K$20=1,0,0)))))","v":0},0,"",null,null,null,null,null,null,null,null,{"$f":"IF(Entries!$K$20=5,MIN(DT73,DU73,DV73,DW73,DX73),IF(Entries!$K$20=4,MIN(DT73,DU73,DV73,DW73),IF(Entries!$K$20=3,MIN(DT73,DU73,DV73),IF(Entries!$K$20=2,MIN(DT73,DU73),IF(Entries!$K$20=1,0,0)))))","v":0},0,"",null,null,null,null,null,null,null,null,{"$f":"IF(Entries!$K$20=5,MIN(EE73,EF73,EG73,EH73,EI73),IF(Entries!$K$20=4,MIN(EE73,EF73,EG73,EH73),IF(Entries!$K$20=3,MIN(EE73,EF73,EG73),IF(Entries!$K$20=2,MIN(EE73,EF73),IF(Entries!$K$20=1,0,0)))))","v":0},0,"",null,null,null,null,null,null,null,null,{"$f":"IF(Entries!$K$20=5,MIN(EP73,EQ73,ER73,ES73,ET73),IF(Entries!$K$20=4,MIN(EP73,EQ73,ER73,ES73),IF(Entries!$K$20=3,MIN(EP73,EQ73,ER73),IF(Entries!$K$20=2,MIN(EP73,EQ73),IF(Entries!$K$20=1,0,0)))))","v":0},0,"",null,null,null,null,null,null,null,null,{"$f":"IF(Entries!$K$20=5,MIN(FA73,FB73,FC73,FD73,FE73),IF(Entries!$K$20=4,MIN(FA73,FB73,FC73,FD73),IF(Entries!$K$20=3,MIN(FA73,FB73,FC73),IF(Entries!$K$20=2,MIN(FA73,FB73),IF(Entries!$K$20=1,0,0)))))","v":0},0,"",null,null,null,null,null,null,null,null,{"$f":"IF(Entries!$K$20=5,MIN(FL73,FM73,FN73,FO73,FP73),IF(Entries!$K$20=4,MIN(FL73,FM73,FN73,FO73),IF(Entries!$K$20=3,MIN(FL73,FM73,FN73),IF(Entries!$K$20=2,MIN(FL73,FM73),IF(Entries!$K$20=1,0,0)))))","v":0},0,"",null,null,null,null,null,null,null,null,{"$f":"IF(Entries!$K$20=5,MIN(FW73,FX73,FY73,FZ73,GA73),IF(Entries!$K$20=4,MIN(FW73,FX73,FY73,FZ73),IF(Entries!$K$20=3,MIN(FW73,FX73,FY73),IF(Entries!$K$20=2,MIN(FW73,FX73),IF(Entries!$K$20=1,0,0)))))","v":0},0,"",null,null,null,null,null,null,null,null,{"$f":"IF(Entries!$K$20=5,MIN(GH73,GI73,GJ73,GK73,GL73),IF(Entries!$K$20=4,MIN(GH73,GI73,GJ73,GK73),IF(Entries!$K$20=3,MIN(GH73,GI73,GJ73),IF(Entries!$K$20=2,MIN(GH73,GI73),IF(Entries!$K$20=1,0,0)))))","v":0},0,"",null,null,null,null,null,null,null,null,{"$f":"IF(Entries!$K$20=5,MIN(GS73,GT73,GU73,GV73,GW73),IF(Entries!$K$20=4,MIN(GS73,GT73,GU73,GV73),IF(Entries!$K$20=3,MIN(GS73,GT73,GU73),IF(Entries!$K$20=2,MIN(GS73,GT73),IF(Entries!$K$20=1,0,0)))))","v":0},0,"",null,null,null,null,null,null,null,null,{"$f":"IF(Entries!$K$20=5,MIN(HD73,HE73,HF73,HG73,HH73),IF(Entries!$K$20=4,MIN(HD73,HE73,HF73,HG73),IF(Entries!$K$20=3,MIN(HD73,HE73,HF73),IF(Entries!$K$20=2,MIN(HD73,HE73),IF(Entries!$K$20=1,0,0)))))","v":0},0,"",null,null,null,null,null,null,null,null,{"$f":"IF(Entries!$K$20=5,MIN(HO73,HP73,HQ73,HR73,HS73),IF(Entries!$K$20=4,MIN(HO73,HP73,HQ73,HR73),IF(Entries!$K$20=3,MIN(HO73,HP73,HQ73),IF(Entries!$K$20=2,MIN(HO73,HP73),IF(Entries!$K$20=1,0,0)))))","v":0},0,"",null,null,null,null,null,null,null,null,{"$f":"IF(Entries!$K$20=5,MIN(HZ73,IA73,IB73,IC73,ID73),IF(Entries!$K$20=4,MIN(HZ73,IA73,IB73,IC73),IF(Entries!$K$20=3,MIN(HZ73,IA73,IB73),IF(Entries!$K$20=2,MIN(HZ73,IA73),IF(Entries!$K$20=1,0,0)))))","v":0},0,""]
[null,null,null,null,null,null,null,null,{"$f":"IF(Entries!$K$20=5,MIN(C74,D74,E74,F74,G74),IF(Entries!$K$20=4,MIN(C74,D74,E74,F74),IF(Entries!$K$20=3,MIN(C74,D74,E74),IF(Entries!$K$20=2,MIN(C74,D74),IF(Entries!$K$20=1,0,0)))))","v":0},0,"",null,null,null,null,null,null,null,null,{"$f":"IF(Entries!$K$20=5,MIN(N74,O74,P74,Q74,R74),IF(Entries!$K$20=4,MIN(N74,O74,P74,Q74),IF(Entries!$K$20=3,MIN(N74,O74,P74),IF(Entries!$K$20=2,MIN(N74,O74),IF(Entries!$K$20=1,0,0)))))","v":0},0,"",null,null,null,null,null,null,null,null,{"$f":"IF(Entries!$K$20=5,MIN(Y74,Z74,AA74,AB74,AC74),IF(Entries!$K$20=4,MIN(Y74,Z74,AA74,AB74),IF(Entries!$K$20=3,MIN(Y74,Z74,AA74),IF(Entries!$K$20=2,MIN(Y74,Z74),IF(Entries!$K$20=1,0,0)))))","v":0},0,"",null,null,null,null,null,null,null,null,{"$f":"IF(Entries!$K$20=5,MIN(AJ74,AK74,AL74,AM74,AN74),IF(Entries!$K$20=4,MIN(AJ74,AK74,AL74,AM74),IF(Entries!$K$20=3,MIN(AJ74,AK74,AL74),IF(Entries!$K$20=2,MIN(AJ74,AK74),IF(Entries!$K$20=1,0,0)))))","v":0},0,"",null,null,null,null,null,null,null,null,{"$f":"IF(Entries!$K$20=5,MIN(AU74,AV74,AW74,AX74,AY74),IF(Entries!$K$20=4,MIN(AU74,AV74,AW74,AX74),IF(Entries!$K$20=3,MIN(AU74,AV74,AW74),IF(Entries!$K$20=2,MIN(AU74,AV74),IF(Entries!$K$20=1,0,0)))))","v":0},0,"",null,null,null,null,null,null,null,null,{"$f":"IF(Entries!$K$20=5,MIN(BF74,BG74,BH74,BI74,BJ74),IF(Entries!$K$20=4,MIN(BF74,BG74,BH74,BI74),IF(Entries!$K$20=3,MIN(BF74,BG74,BH74),IF(Entries!$K$20=2,MIN(BF74,BG74),IF(Entries!$K$20=1,0,0)))))","v":0},0,"",null,null,null,null,null,null,null,null,{"$f":"IF(Entries!$K$20=5,MIN(BQ74,BR74,BS74,BT74,BU74),IF(Entries!$K$20=4,MIN(BQ74,BR74,BS74,BT74),IF(Entries!$K$20=3,MIN(BQ74,BR74,BS74),IF(Entries!$K$20=2,MIN(BQ74,BR74),IF(Entries!$K$20=1,0,0)))))","v":0},0,"",null,null,null,null,null,null,null,null,{"$f":"IF(Entries!$K$20=5,MIN(CB74,CC74,CD74,CE74,CF74),IF(Entries!$K$20=4,MIN(CB74,CC74,CD74,CE74),IF(Entries!$K$20=3,MIN(CB74,CC74,CD74),IF(Entries!$K$20=2,MIN(CB74,CC74),IF(Entries!$K$20=1,0,0)))))","v":0},0,"",null,null,null,null,null,null,null,null,{"$f":"IF(Entries!$K$20=5,MIN(CM74,CN74,CO74,CP74,CQ74),IF(Entries!$K$20=4,MIN(CM74,CN74,CO74,CP74),IF(Entries!$K$20=3,MIN(CM74,CN74,CO74),IF(Entries!$K$20=2,MIN(CM74,CN74),IF(Entries!$K$20=1,0,0)))))","v":0},0,"",null,null,null,null,null,null,null,null,{"$f":"IF(Entries!$K$20=5,MIN(CX74,CY74,CZ74,DA74,DB74),IF(Entries!$K$20=4,MIN(CX74,CY74,CZ74,DA74),IF(Entries!$K$20=3,MIN(CX74,CY74,CZ74),IF(Entries!$K$20=2,MIN(CX74,CY74),IF(Entries!$K$20=1,0,0)))))","v":0},0,"",null,null,null,null,null,null,null,null,{"$f":"IF(Entries!$K$20=5,MIN(DI74,DJ74,DK74,DL74,DM74),IF(Entries!$K$20=4,MIN(DI74,DJ74,DK74,DL74),IF(Entries!$K$20=3,MIN(DI74,DJ74,DK74),IF(Entries!$K$20=2,MIN(DI74,DJ74),IF(Entries!$K$20=1,0,0)))))","v":0},0,"",null,null,null,null,null,null,null,null,{"$f":"IF(Entries!$K$20=5,MIN(DT74,DU74,DV74,DW74,DX74),IF(Entries!$K$20=4,MIN(DT74,DU74,DV74,DW74),IF(Entries!$K$20=3,MIN(DT74,DU74,DV74),IF(Entries!$K$20=2,MIN(DT74,DU74),IF(Entries!$K$20=1,0,0)))))","v":0},0,"",null,null,null,null,null,null,null,null,{"$f":"IF(Entries!$K$20=5,MIN(EE74,EF74,EG74,EH74,EI74),IF(Entries!$K$20=4,MIN(EE74,EF74,EG74,EH74),IF(Entries!$K$20=3,MIN(EE74,EF74,EG74),IF(Entries!$K$20=2,MIN(EE74,EF74),IF(Entries!$K$20=1,0,0)))))","v":0},0,"",null,null,null,null,null,null,null,null,{"$f":"IF(Entries!$K$20=5,MIN(EP74,EQ74,ER74,ES74,ET74),IF(Entries!$K$20=4,MIN(EP74,EQ74,ER74,ES74),IF(Entries!$K$20=3,MIN(EP74,EQ74,ER74),IF(Entries!$K$20=2,MIN(EP74,EQ74),IF(Entries!$K$20=1,0,0)))))","v":0},0,"",null,null,null,null,null,null,null,null,{"$f":"IF(Entries!$K$20=5,MIN(FA74,FB74,FC74,FD74,FE74),IF(Entries!$K$20=4,MIN(FA74,FB74,FC74,FD74),IF(Entries!$K$20=3,MIN(FA74,FB74,FC74),IF(Entries!$K$20=2,MIN(FA74,FB74),IF(Entries!$K$20=1,0,0)))))","v":0},0,"",null,null,null,null,null,null,null,null,{"$f":"IF(Entries!$K$20=5,MIN(FL74,FM74,FN74,FO74,FP74),IF(Entries!$K$20=4,MIN(FL74,FM74,FN74,FO74),IF(Entries!$K$20=3,MIN(FL74,FM74,FN74),IF(Entries!$K$20=2,MIN(FL74,FM74),IF(Entries!$K$20=1,0,0)))))","v":0},0,"",null,null,null,null,null,null,null,null,{"$f":"IF(Entries!$K$20=5,MIN(FW74,FX74,FY74,FZ74,GA74),IF(Entries!$K$20=4,MIN(FW74,FX74,FY74,FZ74),IF(Entries!$K$20=3,MIN(FW74,FX74,FY74),IF(Entries!$K$20=2,MIN(FW74,FX74),IF(Entries!$K$20=1,0,0)))))","v":0},0,"",null,null,null,null,null,null,null,null,{"$f":"IF(Entries!$K$20=5,MIN(GH74,GI74,GJ74,GK74,GL74),IF(Entries!$K$20=4,MIN(GH74,GI74,GJ74,GK74),IF(Entries!$K$20=3,MIN(GH74,GI74,GJ74),IF(Entries!$K$20=2,MIN(GH74,GI74),IF(Entries!$K$20=1,0,0)))))","v":0},0,"",null,null,null,null,null,null,null,null,{"$f":"IF(Entries!$K$20=5,MIN(GS74,GT74,GU74,GV74,GW74),IF(Entries!$K$20=4,MIN(GS74,GT74,GU74,GV74),IF(Entries!$K$20=3,MIN(GS74,GT74,GU74),IF(Entries!$K$20=2,MIN(GS74,GT74),IF(Entries!$K$20=1,0,0)))))","v":0},0,"",null,null,null,null,null,null,null,null,{"$f":"IF(Entries!$K$20=5,MIN(HD74,HE74,HF74,HG74,HH74),IF(Entries!$K$20=4,MIN(HD74,HE74,HF74,HG74),IF(Entries!$K$20=3,MIN(HD74,HE74,HF74),IF(Entries!$K$20=2,MIN(HD74,HE74),IF(Entries!$K$20=1,0,0)))))","v":0},0,"",null,null,null,null,null,null,null,null,{"$f":"IF(Entries!$K$20=5,MIN(HO74,HP74,HQ74,HR74,HS74),IF(Entries!$K$20=4,MIN(HO74,HP74,HQ74,HR74),IF(Entries!$K$20=3,MIN(HO74,HP74,HQ74),IF(Entries!$K$20=2,MIN(HO74,HP74),IF(Entries!$K$20=1,0,0)))))","v":0},0,"",null,null,null,null,null,null,null,null,{"$f":"IF(Entries!$K$20=5,MIN(HZ74,IA74,IB74,IC74,ID74),IF(Entries!$K$20=4,MIN(HZ74,IA74,IB74,IC74),IF(Entries!$K$20=3,MIN(HZ74,IA74,IB74),IF(Entries!$K$20=2,MIN(HZ74,IA74),IF(Entries!$K$20=1,0,0)))))","v":0},0,""]
[null,null,null,null,null,null,null,null,{"$f":"IF(Entries!$K$20=5,MIN(C75,D75,E75,F75,G75),IF(Entries!$K$20=4,MIN(C75,D75,E75,F75),IF(Entries!$K$20=3,MIN(C75,D75,E75),IF(Entries!$K$20=2,MIN(C75,D75),IF(Entries!$K$20=1,0,0)))))","v":0},0,"",null,null,null,null,null,null,null,null,{"$f":"IF(Entries!$K$20=5,MIN(N75,O75,P75,Q75,R75),IF(Entries!$K$20=4,MIN(N75,O75,P75,Q75),IF(Entries!$K$20=3,MIN(N75,O75,P75),IF(Entries!$K$20=2,MIN(N75,O75),IF(Entries!$K$20=1,0,0)))))","v":0},0,"",null,null,null,null,null,null,null,null,{"$f":"IF(Entries!$K$20=5,MIN(Y75,Z75,AA75,AB75,AC75),IF(Entries!$K$20=4,MIN(Y75,Z75,AA75,AB75),IF(Entries!$K$20=3,MIN(Y75,Z75,AA75),IF(Entries!$K$20=2,MIN(Y75,Z75),IF(Entries!$K$20=1,0,0)))))","v":0},0,"",null,null,null,null,null,null,null,null,{"$f":"IF(Entries!$K$20=5,MIN(AJ75,AK75,AL75,AM75,AN75),IF(Entries!$K$20=4,MIN(AJ75,AK75,AL75,AM75),IF(Entries!$K$20=3,MIN(AJ75,AK75,AL75),IF(Entries!$K$20=2,MIN(AJ75,AK75),IF(Entries!$K$20=1,0,0)))))","v":0},0,"",null,null,null,null,null,null,null,null,{"$f":"IF(Entries!$K$20=5,MIN(AU75,AV75,AW75,AX75,AY75),IF(Entries!$K$20=4,MIN(AU75,AV75,AW75,AX75),IF(Entries!$K$20=3,MIN(AU75,AV75,AW75),IF(Entries!$K$20=2,MIN(AU75,AV75),IF(Entries!$K$20=1,0,0)))))","v":0},0,"",null,null,null,null,null,null,null,null,{"$f":"IF(Entries!$K$20=5,MIN(BF75,BG75,BH75,BI75,BJ75),IF(Entries!$K$20=4,MIN(BF75,BG75,BH75,BI75),IF(Entries!$K$20=3,MIN(BF75,BG75,BH75),IF(Entries!$K$20=2,MIN(BF75,BG75),IF(Entries!$K$20=1,0,0)))))","v":0},0,"",null,null,null,null,null,null,null,null,{"$f":"IF(Entries!$K$20=5,MIN(BQ75,BR75,BS75,BT75,BU75),IF(Entries!$K$20=4,MIN(BQ75,BR75,BS75,BT75),IF(Entries!$K$20=3,MIN(BQ75,BR75,BS75),IF(Entries!$K$20=2,MIN(BQ75,BR75),IF(Entries!$K$20=1,0,0)))))","v":0},0,"",null,null,null,null,null,null,null,null,{"$f":"IF(Entries!$K$20=5,MIN(CB75,CC75,CD75,CE75,CF75),IF(Entries!$K$20=4,MIN(CB75,CC75,CD75,CE75),IF(Entries!$K$20=3,MIN(CB75,CC75,CD75),IF(Entries!$K$20=2,MIN(CB75,CC75),IF(Entries!$K$20=1,0,0)))))","v":0},0,"",null,null,null,null,null,null,null,null,{"$f":"IF(Entries!$K$20=5,MIN(CM75,CN75,CO75,CP75,CQ75),IF(Entries!$K$20=4,MIN(CM75,CN75,CO75,CP75),IF(Entries!$K$20=3,MIN(CM75,CN75,CO75),IF(Entries!$K$20=2,MIN(CM75,CN75),IF(Entries!$K$20=1,0,0)))))","v":0},0,"",null,null,null,null,null,null,null,null,{"$f":"IF(Entries!$K$20=5,MIN(CX75,CY75,CZ75,DA75,DB75),IF(Entries!$K$20=4,MIN(CX75,CY75,CZ75,DA75),IF(Entries!$K$20=3,MIN(CX75,CY75,CZ75),IF(Entries!$K$20=2,MIN(CX75,CY75),IF(Entries!$K$20=1,0,0)))))","v":0},0,"",null,null,null,null,null,null,null,null,{"$f":"IF(Entries!$K$20=5,MIN(DI75,DJ75,DK75,DL75,DM75),IF(Entries!$K$20=4,MIN(DI75,DJ75,DK75,DL75),IF(Entries!$K$20=3,MIN(DI75,DJ75,DK75),IF(Entries!$K$20=2,MIN(DI75,DJ75),IF(Entries!$K$20=1,0,0)))))","v":0},0,"",null,null,null,null,null,null,null,null,{"$f":"IF(Entries!$K$20=5,MIN(DT75,DU75,DV75,DW75,DX75),IF(Entries!$K$20=4,MIN(DT75,DU75,DV75,DW75),IF(Entries!$K$20=3,MIN(DT75,DU75,DV75),IF(Entries!$K$20=2,MIN(DT75,DU75),IF(Entries!$K$20=1,0,0)))))","v":0},0,"",null,null,null,null,null,null,null,null,{"$f":"IF(Entries!$K$20=5,MIN(EE75,EF75,EG75,EH75,EI75),IF(Entries!$K$20=4,MIN(EE75,EF75,EG75,EH75),IF(Entries!$K$20=3,MIN(EE75,EF75,EG75),IF(Entries!$K$20=2,MIN(EE75,EF75),IF(Entries!$K$20=1,0,0)))))","v":0},0,"",null,null,null,null,null,null,null,null,{"$f":"IF(Entries!$K$20=5,MIN(EP75,EQ75,ER75,ES75,ET75),IF(Entries!$K$20=4,MIN(EP75,EQ75,ER75,ES75),IF(Entries!$K$20=3,MIN(EP75,EQ75,ER75),IF(Entries!$K$20=2,MIN(EP75,EQ75),IF(Entries!$K$20=1,0,0)))))","v":0},0,"",null,null,null,null,null,null,null,null,{"$f":"IF(Entries!$K$20=5,MIN(FA75,FB75,FC75,FD75,FE75),IF(Entries!$K$20=4,MIN(FA75,FB75,FC75,FD75),IF(Entries!$K$20=3,MIN(FA75,FB75,FC75),IF(Entries!$K$20=2,MIN(FA75,FB75),IF(Entries!$K$20=1,0,0)))))","v":0},0,"",null,null,null,null,null,null,null,null,{"$f":"IF(Entries!$K$20=5,MIN(FL75,FM75,FN75,FO75,FP75),IF(Entries!$K$20=4,MIN(FL75,FM75,FN75,FO75),IF(Entries!$K$20=3,MIN(FL75,FM75,FN75),IF(Entries!$K$20=2,MIN(FL75,FM75),IF(Entries!$K$20=1,0,0)))))","v":0},0,"",null,null,null,null,null,null,null,null,{"$f":"IF(Entries!$K$20=5,MIN(FW75,FX75,FY75,FZ75,GA75),IF(Entries!$K$20=4,MIN(FW75,FX75,FY75,FZ75),IF(Entries!$K$20=3,MIN(FW75,FX75,FY75),IF(Entries!$K$20=2,MIN(FW75,FX75),IF(Entries!$K$20=1,0,0)))))","v":0},0,"",null,null,null,null,null,null,null,null,{"$f":"IF(Entries!$K$20=5,MIN(GH75,GI75,GJ75,GK75,GL75),IF(Entries!$K$20=4,MIN(GH75,GI75,GJ75,GK75),IF(Entries!$K$20=3,MIN(GH75,GI75,GJ75),IF(Entries!$K$20=2,MIN(GH75,GI75),IF(Entries!$K$20=1,0,0)))))","v":0},0,"",null,null,null,null,null,null,null,null,{"$f":"IF(Entries!$K$20=5,MIN(GS75,GT75,GU75,GV75,GW75),IF(Entries!$K$20=4,MIN(GS75,GT75,GU75,GV75),IF(Entries!$K$20=3,MIN(GS75,GT75,GU75),IF(Entries!$K$20=2,MIN(GS75,GT75),IF(Entries!$K$20=1,0,0)))))","v":0},0,"",null,null,null,null,null,null,null,null,{"$f":"IF(Entries!$K$20=5,MIN(HD75,HE75,HF75,HG75,HH75),IF(Entries!$K$20=4,MIN(HD75,HE75,HF75,HG75),IF(Entries!$K$20=3,MIN(HD75,HE75,HF75),IF(Entries!$K$20=2,MIN(HD75,HE75),IF(Entries!$K$20=1,0,0)))))","v":0},0,"",null,null,null,null,null,null,null,null,{"$f":"IF(Entries!$K$20=5,MIN(HO75,HP75,HQ75,HR75,HS75),IF(Entries!$K$20=4,MIN(HO75,HP75,HQ75,HR75),IF(Entries!$K$20=3,MIN(HO75,HP75,HQ75),IF(Entries!$K$20=2,MIN(HO75,HP75),IF(Entries!$K$20=1,0,0)))))","v":0},0,"",null,null,null,null,null,null,null,null,{"$f":"IF(Entries!$K$20=5,MIN(HZ75,IA75,IB75,IC75,ID75),IF(Entries!$K$20=4,MIN(HZ75,IA75,IB75,IC75),IF(Entries!$K$20=3,MIN(HZ75,IA75,IB75),IF(Entries!$K$20=2,MIN(HZ75,IA75),IF(Entries!$K$20=1,0,0)))))","v":0},0,""]
[null,null,null,null,null,null,null,null,{"$f":"IF(Entries!$K$20=5,MIN(C76,D76,E76,F76,G76),IF(Entries!$K$20=4,MIN(C76,D76,E76,F76),IF(Entries!$K$20=3,MIN(C76,D76,E76),IF(Entries!$K$20=2,MIN(C76,D76),IF(Entries!$K$20=1,0,0)))))","v":0},0,"",null,null,null,null,null,null,null,null,{"$f":"IF(Entries!$K$20=5,MIN(N76,O76,P76,Q76,R76),IF(Entries!$K$20=4,MIN(N76,O76,P76,Q76),IF(Entries!$K$20=3,MIN(N76,O76,P76),IF(Entries!$K$20=2,MIN(N76,O76),IF(Entries!$K$20=1,0,0)))))","v":0},0,"",null,null,null,null,null,null,null,null,{"$f":"IF(Entries!$K$20=5,MIN(Y76,Z76,AA76,AB76,AC76),IF(Entries!$K$20=4,MIN(Y76,Z76,AA76,AB76),IF(Entries!$K$20=3,MIN(Y76,Z76,AA76),IF(Entries!$K$20=2,MIN(Y76,Z76),IF(Entries!$K$20=1,0,0)))))","v":0},0,"",null,null,null,null,null,null,null,null,{"$f":"IF(Entries!$K$20=5,MIN(AJ76,AK76,AL76,AM76,AN76),IF(Entries!$K$20=4,MIN(AJ76,AK76,AL76,AM76),IF(Entries!$K$20=3,MIN(AJ76,AK76,AL76),IF(Entries!$K$20=2,MIN(AJ76,AK76),IF(Entries!$K$20=1,0,0)))))","v":0},0,"",null,null,null,null,null,null,null,null,{"$f":"IF(Entries!$K$20=5,MIN(AU76,AV76,AW76,AX76,AY76),IF(Entries!$K$20=4,MIN(AU76,AV76,AW76,AX76),IF(Entries!$K$20=3,MIN(AU76,AV76,AW76),IF(Entries!$K$20=2,MIN(AU76,AV76),IF(Entries!$K$20=1,0,0)))))","v":0},0,"",null,null,null,null,null,null,null,null,{"$f":"IF(Entries!$K$20=5,MIN(BF76,BG76,BH76,BI76,BJ76),IF(Entries!$K$20=4,MIN(BF76,BG76,BH76,BI76),IF(Entries!$K$20=3,MIN(BF76,BG76,BH76),IF(Entries!$K$20=2,MIN(BF76,BG76),IF(Entries!$K$20=1,0,0)))))","v":0},0,"",null,null,null,null,null,null,null,null,{"$f":"IF(Entries!$K$20=5,MIN(BQ76,BR76,BS76,BT76,BU76),IF(Entries!$K$20=4,MIN(BQ76,BR76,BS76,BT76),IF(Entries!$K$20=3,MIN(BQ76,BR76,BS76),IF(Entries!$K$20=2,MIN(BQ76,BR76),IF(Entries!$K$20=1,0,0)))))","v":0},0,"",null,null,null,null,null,null,null,null,{"$f":"IF(Entries!$K$20=5,MIN(CB76,CC76,CD76,CE76,CF76),IF(Entries!$K$20=4,MIN(CB76,CC76,CD76,CE76),IF(Entries!$K$20=3,MIN(CB76,CC76,CD76),IF(Entries!$K$20=2,MIN(CB76,CC76),IF(Entries!$K$20=1,0,0)))))","v":0},0,"",null,null,null,null,null,null,null,null,{"$f":"IF(Entries!$K$20=5,MIN(CM76,CN76,CO76,CP76,CQ76),IF(Entries!$K$20=4,MIN(CM76,CN76,CO76,CP76),IF(Entries!$K$20=3,MIN(CM76,CN76,CO76),IF(Entries!$K$20=2,MIN(CM76,CN76),IF(Entries!$K$20=1,0,0)))))","v":0},0,"",null,null,null,null,null,null,null,null,{"$f":"IF(Entries!$K$20=5,MIN(CX76,CY76,CZ76,DA76,DB76),IF(Entries!$K$20=4,MIN(CX76,CY76,CZ76,DA76),IF(Entries!$K$20=3,MIN(CX76,CY76,CZ76),IF(Entries!$K$20=2,MIN(CX76,CY76),IF(Entries!$K$20=1,0,0)))))","v":0},0,"",null,null,null,null,null,null,null,null,{"$f":"IF(Entries!$K$20=5,MIN(DI76,DJ76,DK76,DL76,DM76),IF(Entries!$K$20=4,MIN(DI76,DJ76,DK76,DL76),IF(Entries!$K$20=3,MIN(DI76,DJ76,DK76),IF(Entries!$K$20=2,MIN(DI76,DJ76),IF(Entries!$K$20=1,0,0)))))","v":0},0,"",null,null,null,null,null,null,null,null,{"$f":"IF(Entries!$K$20=5,MIN(DT76,DU76,DV76,DW76,DX76),IF(Entries!$K$20=4,MIN(DT76,DU76,DV76,DW76),IF(Entries!$K$20=3,MIN(DT76,DU76,DV76),IF(Entries!$K$20=2,MIN(DT76,DU76),IF(Entries!$K$20=1,0,0)))))","v":0},0,"",null,null,null,null,null,null,null,null,{"$f":"IF(Entries!$K$20=5,MIN(EE76,EF76,EG76,EH76,EI76),IF(Entries!$K$20=4,MIN(EE76,EF76,EG76,EH76),IF(Entries!$K$20=3,MIN(EE76,EF76,EG76),IF(Entries!$K$20=2,MIN(EE76,EF76),IF(Entries!$K$20=1,0,0)))))","v":0},0,"",null,null,null,null,null,null,null,null,{"$f":"IF(Entries!$K$20=5,MIN(EP76,EQ76,ER76,ES76,ET76),IF(Entries!$K$20=4,MIN(EP76,EQ76,ER76,ES76),IF(Entries!$K$20=3,MIN(EP76,EQ76,ER76),IF(Entries!$K$20=2,MIN(EP76,EQ76),IF(Entries!$K$20=1,0,0)))))","v":0},0,"",null,null,null,null,null,null,null,null,{"$f":"IF(Entries!$K$20=5,MIN(FA76,FB76,FC76,FD76,FE76),IF(Entries!$K$20=4,MIN(FA76,FB76,FC76,FD76),IF(Entries!$K$20=3,MIN(FA76,FB76,FC76),IF(Entries!$K$20=2,MIN(FA76,FB76),IF(Entries!$K$20=1,0,0)))))","v":0},0,"",null,null,null,null,null,null,null,null,{"$f":"IF(Entries!$K$20=5,MIN(FL76,FM76,FN76,FO76,FP76),IF(Entries!$K$20=4,MIN(FL76,FM76,FN76,FO76),IF(Entries!$K$20=3,MIN(FL76,FM76,FN76),IF(Entries!$K$20=2,MIN(FL76,FM76),IF(Entries!$K$20=1,0,0)))))","v":0},0,"",null,null,null,null,null,null,null,null,{"$f":"IF(Entries!$K$20=5,MIN(FW76,FX76,FY76,FZ76,GA76),IF(Entries!$K$20=4,MIN(FW76,FX76,FY76,FZ76),IF(Entries!$K$20=3,MIN(FW76,FX76,FY76),IF(Entries!$K$20=2,MIN(FW76,FX76),IF(Entries!$K$20=1,0,0)))))","v":0},0,"",null,null,null,null,null,null,null,null,{"$f":"IF(Entries!$K$20=5,MIN(GH76,GI76,GJ76,GK76,GL76),IF(Entries!$K$20=4,MIN(GH76,GI76,GJ76,GK76),IF(Entries!$K$20=3,MIN(GH76,GI76,GJ76),IF(Entries!$K$20=2,MIN(GH76,GI76),IF(Entries!$K$20=1,0,0)))))","v":0},0,"",null,null,null,null,null,null,null,null,{"$f":"IF(Entries!$K$20=5,MIN(GS76,GT76,GU76,GV76,GW76),IF(Entries!$K$20=4,MIN(GS76,GT76,GU76,GV76),IF(Entries!$K$20=3,MIN(GS76,GT76,GU76),IF(Entries!$K$20=2,MIN(GS76,GT76),IF(Entries!$K$20=1,0,0)))))","v":0},0,"",null,null,null,null,null,null,null,null,{"$f":"IF(Entries!$K$20=5,MIN(HD76,HE76,HF76,HG76,HH76),IF(Entries!$K$20=4,MIN(HD76,HE76,HF76,HG76),IF(Entries!$K$20=3,MIN(HD76,HE76,HF76),IF(Entries!$K$20=2,MIN(HD76,HE76),IF(Entries!$K$20=1,0,0)))))","v":0},0,"",null,null,null,null,null,null,null,null,{"$f":"IF(Entries!$K$20=5,MIN(HO76,HP76,HQ76,HR76,HS76),IF(Entries!$K$20=4,MIN(HO76,HP76,HQ76,HR76),IF(Entries!$K$20=3,MIN(HO76,HP76,HQ76),IF(Entries!$K$20=2,MIN(HO76,HP76),IF(Entries!$K$20=1,0,0)))))","v":0},0,"",null,null,null,null,null,null,null,null,{"$f":"IF(Entries!$K$20=5,MIN(HZ76,IA76,IB76,IC76,ID76),IF(Entries!$K$20=4,MIN(HZ76,IA76,IB76,IC76),IF(Entries!$K$20=3,MIN(HZ76,IA76,IB76),IF(Entries!$K$20=2,MIN(HZ76,IA76),IF(Entries!$K$20=1,0,0)))))","v":0},0,""]
[null,null,null,null,null,null,null,null,{"$f":"IF(Entries!$K$20=5,MIN(C77,D77,E77,F77,G77),IF(Entries!$K$20=4,MIN(C77,D77,E77,F77),IF(Entries!$K$20=3,MIN(C77,D77,E77),IF(Entries!$K$20=2,MIN(C77,D77),IF(Entries!$K$20=1,0,0)))))","v":0},0,"",null,null,null,null,null,null,null,null,{"$f":"IF(Entries!$K$20=5,MIN(N77,O77,P77,Q77,R77),IF(Entries!$K$20=4,MIN(N77,O77,P77,Q77),IF(Entries!$K$20=3,MIN(N77,O77,P77),IF(Entries!$K$20=2,MIN(N77,O77),IF(Entries!$K$20=1,0,0)))))","v":0},0,"",null,null,null,null,null,null,null,null,{"$f":"IF(Entries!$K$20=5,MIN(Y77,Z77,AA77,AB77,AC77),IF(Entries!$K$20=4,MIN(Y77,Z77,AA77,AB77),IF(Entries!$K$20=3,MIN(Y77,Z77,AA77),IF(Entries!$K$20=2,MIN(Y77,Z77),IF(Entries!$K$20=1,0,0)))))","v":0},0,"",null,null,null,null,null,null,null,null,{"$f":"IF(Entries!$K$20=5,MIN(AJ77,AK77,AL77,AM77,AN77),IF(Entries!$K$20=4,MIN(AJ77,AK77,AL77,AM77),IF(Entries!$K$20=3,MIN(AJ77,AK77,AL77),IF(Entries!$K$20=2,MIN(AJ77,AK77),IF(Entries!$K$20=1,0,0)))))","v":0},0,"",null,null,null,null,null,null,null,null,{"$f":"IF(Entries!$K$20=5,MIN(AU77,AV77,AW77,AX77,AY77),IF(Entries!$K$20=4,MIN(AU77,AV77,AW77,AX77),IF(Entries!$K$20=3,MIN(AU77,AV77,AW77),IF(Entries!$K$20=2,MIN(AU77,AV77),IF(Entries!$K$20=1,0,0)))))","v":0},0,"",null,null,null,null,null,null,null,null,{"$f":"IF(Entries!$K$20=5,MIN(BF77,BG77,BH77,BI77,BJ77),IF(Entries!$K$20=4,MIN(BF77,BG77,BH77,BI77),IF(Entries!$K$20=3,MIN(BF77,BG77,BH77),IF(Entries!$K$20=2,MIN(BF77,BG77),IF(Entries!$K$20=1,0,0)))))","v":0},0,"",null,null,null,null,null,null,null,null,{"$f":"IF(Entries!$K$20=5,MIN(BQ77,BR77,BS77,BT77,BU77),IF(Entries!$K$20=4,MIN(BQ77,BR77,BS77,BT77),IF(Entries!$K$20=3,MIN(BQ77,BR77,BS77),IF(Entries!$K$20=2,MIN(BQ77,BR77),IF(Entries!$K$20=1,0,0)))))","v":0},0,"",null,null,null,null,null,null,null,null,{"$f":"IF(Entries!$K$20=5,MIN(CB77,CC77,CD77,CE77,CF77),IF(Entries!$K$20=4,MIN(CB77,CC77,CD77,CE77),IF(Entries!$K$20=3,MIN(CB77,CC77,CD77),IF(Entries!$K$20=2,MIN(CB77,CC77),IF(Entries!$K$20=1,0,0)))))","v":0},0,"",null,null,null,null,null,null,null,null,{"$f":"IF(Entries!$K$20=5,MIN(CM77,CN77,CO77,CP77,CQ77),IF(Entries!$K$20=4,MIN(CM77,CN77,CO77,CP77),IF(Entries!$K$20=3,MIN(CM77,CN77,CO77),IF(Entries!$K$20=2,MIN(CM77,CN77),IF(Entries!$K$20=1,0,0)))))","v":0},0,"",null,null,null,null,null,null,null,null,{"$f":"IF(Entries!$K$20=5,MIN(CX77,CY77,CZ77,DA77,DB77),IF(Entries!$K$20=4,MIN(CX77,CY77,CZ77,DA77),IF(Entries!$K$20=3,MIN(CX77,CY77,CZ77),IF(Entries!$K$20=2,MIN(CX77,CY77),IF(Entries!$K$20=1,0,0)))))","v":0},0,"",null,null,null,null,null,null,null,null,{"$f":"IF(Entries!$K$20=5,MIN(DI77,DJ77,DK77,DL77,DM77),IF(Entries!$K$20=4,MIN(DI77,DJ77,DK77,DL77),IF(Entries!$K$20=3,MIN(DI77,DJ77,DK77),IF(Entries!$K$20=2,MIN(DI77,DJ77),IF(Entries!$K$20=1,0,0)))))","v":0},0,"",null,null,null,null,null,null,null,null,{"$f":"IF(Entries!$K$20=5,MIN(DT77,DU77,DV77,DW77,DX77),IF(Entries!$K$20=4,MIN(DT77,DU77,DV77,DW77),IF(Entries!$K$20=3,MIN(DT77,DU77,DV77),IF(Entries!$K$20=2,MIN(DT77,DU77),IF(Entries!$K$20=1,0,0)))))","v":0},0,"",null,null,null,null,null,null,null,null,{"$f":"IF(Entries!$K$20=5,MIN(EE77,EF77,EG77,EH77,EI77),IF(Entries!$K$20=4,MIN(EE77,EF77,EG77,EH77),IF(Entries!$K$20=3,MIN(EE77,EF77,EG77),IF(Entries!$K$20=2,MIN(EE77,EF77),IF(Entries!$K$20=1,0,0)))))","v":0},0,"",null,null,null,null,null,null,null,null,{"$f":"IF(Entries!$K$20=5,MIN(EP77,EQ77,ER77,ES77,ET77),IF(Entries!$K$20=4,MIN(EP77,EQ77,ER77,ES77),IF(Entries!$K$20=3,MIN(EP77,EQ77,ER77),IF(Entries!$K$20=2,MIN(EP77,EQ77),IF(Entries!$K$20=1,0,0)))))","v":0},0,"",null,null,null,null,null,null,null,null,{"$f":"IF(Entries!$K$20=5,MIN(FA77,FB77,FC77,FD77,FE77),IF(Entries!$K$20=4,MIN(FA77,FB77,FC77,FD77),IF(Entries!$K$20=3,MIN(FA77,FB77,FC77),IF(Entries!$K$20=2,MIN(FA77,FB77),IF(Entries!$K$20=1,0,0)))))","v":0},0,"",null,null,null,null,null,null,null,null,{"$f":"IF(Entries!$K$20=5,MIN(FL77,FM77,FN77,FO77,FP77),IF(Entries!$K$20=4,MIN(FL77,FM77,FN77,FO77),IF(Entries!$K$20=3,MIN(FL77,FM77,FN77),IF(Entries!$K$20=2,MIN(FL77,FM77),IF(Entries!$K$20=1,0,0)))))","v":0},0,"",null,null,null,null,null,null,null,null,{"$f":"IF(Entries!$K$20=5,MIN(FW77,FX77,FY77,FZ77,GA77),IF(Entries!$K$20=4,MIN(FW77,FX77,FY77,FZ77),IF(Entries!$K$20=3,MIN(FW77,FX77,FY77),IF(Entries!$K$20=2,MIN(FW77,FX77),IF(Entries!$K$20=1,0,0)))))","v":0},0,"",null,null,null,null,null,null,null,null,{"$f":"IF(Entries!$K$20=5,MIN(GH77,GI77,GJ77,GK77,GL77),IF(Entries!$K$20=4,MIN(GH77,GI77,GJ77,GK77),IF(Entries!$K$20=3,MIN(GH77,GI77,GJ77),IF(Entries!$K$20=2,MIN(GH77,GI77),IF(Entries!$K$20=1,0,0)))))","v":0},0,"",null,null,null,null,null,null,null,null,{"$f":"IF(Entries!$K$20=5,MIN(GS77,GT77,GU77,GV77,GW77),IF(Entries!$K$20=4,MIN(GS77,GT77,GU77,GV77),IF(Entries!$K$20=3,MIN(GS77,GT77,GU77),IF(Entries!$K$20=2,MIN(GS77,GT77),IF(Entries!$K$20=1,0,0)))))","v":0},0,"",null,null,null,null,null,null,null,null,{"$f":"IF(Entries!$K$20=5,MIN(HD77,HE77,HF77,HG77,HH77),IF(Entries!$K$20=4,MIN(HD77,HE77,HF77,HG77),IF(Entries!$K$20=3,MIN(HD77,HE77,HF77),IF(Entries!$K$20=2,MIN(HD77,HE77),IF(Entries!$K$20=1,0,0)))))","v":0},0,"",null,null,null,null,null,null,null,null,{"$f":"IF(Entries!$K$20=5,MIN(HO77,HP77,HQ77,HR77,HS77),IF(Entries!$K$20=4,MIN(HO77,HP77,HQ77,HR77),IF(Entries!$K$20=3,MIN(HO77,HP77,HQ77),IF(Entries!$K$20=2,MIN(HO77,HP77),IF(Entries!$K$20=1,0,0)))))","v":0},0,"",null,null,null,null,null,null,null,null,{"$f":"IF(Entries!$K$20=5,MIN(HZ77,IA77,IB77,IC77,ID77),IF(Entries!$K$20=4,MIN(HZ77,IA77,IB77,IC77),IF(Entries!$K$20=3,MIN(HZ77,IA77,IB77),IF(Entries!$K$20=2,MIN(HZ77,IA77),IF(Entries!$K$20=1,0,0)))))","v":0},0,""]
[null,null,null,null,null,null,null,null,{"$f":"IF(Entries!$K$20=5,MIN(C78,D78,E78,F78,G78),IF(Entries!$K$20=4,MIN(C78,D78,E78,F78),IF(Entries!$K$20=3,MIN(C78,D78,E78),IF(Entries!$K$20=2,MIN(C78,D78),IF(Entries!$K$20=1,0,0)))))","v":0},0,"",null,null,null,null,null,null,null,null,{"$f":"IF(Entries!$K$20=5,MIN(N78,O78,P78,Q78,R78),IF(Entries!$K$20=4,MIN(N78,O78,P78,Q78),IF(Entries!$K$20=3,MIN(N78,O78,P78),IF(Entries!$K$20=2,MIN(N78,O78),IF(Entries!$K$20=1,0,0)))))","v":0},0,"",null,null,null,null,null,null,null,null,{"$f":"IF(Entries!$K$20=5,MIN(Y78,Z78,AA78,AB78,AC78),IF(Entries!$K$20=4,MIN(Y78,Z78,AA78,AB78),IF(Entries!$K$20=3,MIN(Y78,Z78,AA78),IF(Entries!$K$20=2,MIN(Y78,Z78),IF(Entries!$K$20=1,0,0)))))","v":0},0,"",null,null,null,null,null,null,null,null,{"$f":"IF(Entries!$K$20=5,MIN(AJ78,AK78,AL78,AM78,AN78),IF(Entries!$K$20=4,MIN(AJ78,AK78,AL78,AM78),IF(Entries!$K$20=3,MIN(AJ78,AK78,AL78),IF(Entries!$K$20=2,MIN(AJ78,AK78),IF(Entries!$K$20=1,0,0)))))","v":0},0,"",null,null,null,null,null,null,null,null,{"$f":"IF(Entries!$K$20=5,MIN(AU78,AV78,AW78,AX78,AY78),IF(Entries!$K$20=4,MIN(AU78,AV78,AW78,AX78),IF(Entries!$K$20=3,MIN(AU78,AV78,AW78),IF(Entries!$K$20=2,MIN(AU78,AV78),IF(Entries!$K$20=1,0,0)))))","v":0},0,"",null,null,null,null,null,null,null,null,{"$f":"IF(Entries!$K$20=5,MIN(BF78,BG78,BH78,BI78,BJ78),IF(Entries!$K$20=4,MIN(BF78,BG78,BH78,BI78),IF(Entries!$K$20=3,MIN(BF78,BG78,BH78),IF(Entries!$K$20=2,MIN(BF78,BG78),IF(Entries!$K$20=1,0,0)))))","v":0},0,"",null,null,null,null,null,null,null,null,{"$f":"IF(Entries!$K$20=5,MIN(BQ78,BR78,BS78,BT78,BU78),IF(Entries!$K$20=4,MIN(BQ78,BR78,BS78,BT78),IF(Entries!$K$20=3,MIN(BQ78,BR78,BS78),IF(Entries!$K$20=2,MIN(BQ78,BR78),IF(Entries!$K$20=1,0,0)))))","v":0},0,"",null,null,null,null,null,null,null,null,{"$f":"IF(Entries!$K$20=5,MIN(CB78,CC78,CD78,CE78,CF78),IF(Entries!$K$20=4,MIN(CB78,CC78,CD78,CE78),IF(Entries!$K$20=3,MIN(CB78,CC78,CD78),IF(Entries!$K$20=2,MIN(CB78,CC78),IF(Entries!$K$20=1,0,0)))))","v":0},0,"",null,null,null,null,null,null,null,null,{"$f":"IF(Entries!$K$20=5,MIN(CM78,CN78,CO78,CP78,CQ78),IF(Entries!$K$20=4,MIN(CM78,CN78,CO78,CP78),IF(Entries!$K$20=3,MIN(CM78,CN78,CO78),IF(Entries!$K$20=2,MIN(CM78,CN78),IF(Entries!$K$20=1,0,0)))))","v":0},0,"",null,null,null,null,null,null,null,null,{"$f":"IF(Entries!$K$20=5,MIN(CX78,CY78,CZ78,DA78,DB78),IF(Entries!$K$20=4,MIN(CX78,CY78,CZ78,DA78),IF(Entries!$K$20=3,MIN(CX78,CY78,CZ78),IF(Entries!$K$20=2,MIN(CX78,CY78),IF(Entries!$K$20=1,0,0)))))","v":0},0,"",null,null,null,null,null,null,null,null,{"$f":"IF(Entries!$K$20=5,MIN(DI78,DJ78,DK78,DL78,DM78),IF(Entries!$K$20=4,MIN(DI78,DJ78,DK78,DL78),IF(Entries!$K$20=3,MIN(DI78,DJ78,DK78),IF(Entries!$K$20=2,MIN(DI78,DJ78),IF(Entries!$K$20=1,0,0)))))","v":0},0,"",null,null,null,null,null,null,null,null,{"$f":"IF(Entries!$K$20=5,MIN(DT78,DU78,DV78,DW78,DX78),IF(Entries!$K$20=4,MIN(DT78,DU78,DV78,DW78),IF(Entries!$K$20=3,MIN(DT78,DU78,DV78),IF(Entries!$K$20=2,MIN(DT78,DU78),IF(Entries!$K$20=1,0,0)))))","v":0},0,"",null,null,null,null,null,null,null,null,{"$f":"IF(Entries!$K$20=5,MIN(EE78,EF78,EG78,EH78,EI78),IF(Entries!$K$20=4,MIN(EE78,EF78,EG78,EH78),IF(Entries!$K$20=3,MIN(EE78,EF78,EG78),IF(Entries!$K$20=2,MIN(EE78,EF78),IF(Entries!$K$20=1,0,0)))))","v":0},0,"",null,null,null,null,null,null,null,null,{"$f":"IF(Entries!$K$20=5,MIN(EP78,EQ78,ER78,ES78,ET78),IF(Entries!$K$20=4,MIN(EP78,EQ78,ER78,ES78),IF(Entries!$K$20=3,MIN(EP78,EQ78,ER78),IF(Entries!$K$20=2,MIN(EP78,EQ78),IF(Entries!$K$20=1,0,0)))))","v":0},0,"",null,null,null,null,null,null,null,null,{"$f":"IF(Entries!$K$20=5,MIN(FA78,FB78,FC78,FD78,FE78),IF(Entries!$K$20=4,MIN(FA78,FB78,FC78,FD78),IF(Entries!$K$20=3,MIN(FA78,FB78,FC78),IF(Entries!$K$20=2,MIN(FA78,FB78),IF(Entries!$K$20=1,0,0)))))","v":0},0,"",null,null,null,null,null,null,null,null,{"$f":"IF(Entries!$K$20=5,MIN(FL78,FM78,FN78,FO78,FP78),IF(Entries!$K$20=4,MIN(FL78,FM78,FN78,FO78),IF(Entries!$K$20=3,MIN(FL78,FM78,FN78),IF(Entries!$K$20=2,MIN(FL78,FM78),IF(Entries!$K$20=1,0,0)))))","v":0},0,"",null,null,null,null,null,null,null,null,{"$f":"IF(Entries!$K$20=5,MIN(FW78,FX78,FY78,FZ78,GA78),IF(Entries!$K$20=4,MIN(FW78,FX78,FY78,FZ78),IF(Entries!$K$20=3,MIN(FW78,FX78,FY78),IF(Entries!$K$20=2,MIN(FW78,FX78),IF(Entries!$K$20=1,0,0)))))","v":0},0,"",null,null,null,null,null,null,null,null,{"$f":"IF(Entries!$K$20=5,MIN(GH78,GI78,GJ78,GK78,GL78),IF(Entries!$K$20=4,MIN(GH78,GI78,GJ78,GK78),IF(Entries!$K$20=3,MIN(GH78,GI78,GJ78),IF(Entries!$K$20=2,MIN(GH78,GI78),IF(Entries!$K$20=1,0,0)))))","v":0},0,"",null,null,null,null,null,null,null,null,{"$f":"IF(Entries!$K$20=5,MIN(GS78,GT78,GU78,GV78,GW78),IF(Entries!$K$20=4,MIN(GS78,GT78,GU78,GV78),IF(Entries!$K$20=3,MIN(GS78,GT78,GU78),IF(Entries!$K$20=2,MIN(GS78,GT78),IF(Entries!$K$20=1,0,0)))))","v":0},0,"",null,null,null,null,null,null,null,null,{"$f":"IF(Entries!$K$20=5,MIN(HD78,HE78,HF78,HG78,HH78),IF(Entries!$K$20=4,MIN(HD78,HE78,HF78,HG78),IF(Entries!$K$20=3,MIN(HD78,HE78,HF78),IF(Entries!$K$20=2,MIN(HD78,HE78),IF(Entries!$K$20=1,0,0)))))","v":0},0,"",null,null,null,null,null,null,null,null,{"$f":"IF(Entries!$K$20=5,MIN(HO78,HP78,HQ78,HR78,HS78),IF(Entries!$K$20=4,MIN(HO78,HP78,HQ78,HR78),IF(Entries!$K$20=3,MIN(HO78,HP78,HQ78),IF(Entries!$K$20=2,MIN(HO78,HP78),IF(Entries!$K$20=1,0,0)))))","v":0},0,"",null,null,null,null,null,null,null,null,{"$f":"IF(Entries!$K$20=5,MIN(HZ78,IA78,IB78,IC78,ID78),IF(Entries!$K$20=4,MIN(HZ78,IA78,IB78,IC78),IF(Entries!$K$20=3,MIN(HZ78,IA78,IB78),IF(Entries!$K$20=2,MIN(HZ78,IA78),IF(Entries!$K$20=1,0,0)))))","v":0},0,""]
[null,null,null,null,null,null,null,null,{"$f":"IF(Entries!$K$20=5,MIN(C79,D79,E79,F79,G79),IF(Entries!$K$20=4,MIN(C79,D79,E79,F79),IF(Entries!$K$20=3,MIN(C79,D79,E79),IF(Entries!$K$20=2,MIN(C79,D79),IF(Entries!$K$20=1,0,0)))))","v":0},0,"",null,null,null,null,null,null,null,null,{"$f":"IF(Entries!$K$20=5,MIN(N79,O79,P79,Q79,R79),IF(Entries!$K$20=4,MIN(N79,O79,P79,Q79),IF(Entries!$K$20=3,MIN(N79,O79,P79),IF(Entries!$K$20=2,MIN(N79,O79),IF(Entries!$K$20=1,0,0)))))","v":0},0,"",null,null,null,null,null,null,null,null,{"$f":"IF(Entries!$K$20=5,MIN(Y79,Z79,AA79,AB79,AC79),IF(Entries!$K$20=4,MIN(Y79,Z79,AA79,AB79),IF(Entries!$K$20=3,MIN(Y79,Z79,AA79),IF(Entries!$K$20=2,MIN(Y79,Z79),IF(Entries!$K$20=1,0,0)))))","v":0},0,"",null,null,null,null,null,null,null,null,{"$f":"IF(Entries!$K$20=5,MIN(AJ79,AK79,AL79,AM79,AN79),IF(Entries!$K$20=4,MIN(AJ79,AK79,AL79,AM79),IF(Entries!$K$20=3,MIN(AJ79,AK79,AL79),IF(Entries!$K$20=2,MIN(AJ79,AK79),IF(Entries!$K$20=1,0,0)))))","v":0},0,"",null,null,null,null,null,null,null,null,{"$f":"IF(Entries!$K$20=5,MIN(AU79,AV79,AW79,AX79,AY79),IF(Entries!$K$20=4,MIN(AU79,AV79,AW79,AX79),IF(Entries!$K$20=3,MIN(AU79,AV79,AW79),IF(Entries!$K$20=2,MIN(AU79,AV79),IF(Entries!$K$20=1,0,0)))))","v":0},0,"",null,null,null,null,null,null,null,null,{"$f":"IF(Entries!$K$20=5,MIN(BF79,BG79,BH79,BI79,BJ79),IF(Entries!$K$20=4,MIN(BF79,BG79,BH79,BI79),IF(Entries!$K$20=3,MIN(BF79,BG79,BH79),IF(Entries!$K$20=2,MIN(BF79,BG79),IF(Entries!$K$20=1,0,0)))))","v":0},0,"",null,null,null,null,null,null,null,null,{"$f":"IF(Entries!$K$20=5,MIN(BQ79,BR79,BS79,BT79,BU79),IF(Entries!$K$20=4,MIN(BQ79,BR79,BS79,BT79),IF(Entries!$K$20=3,MIN(BQ79,BR79,BS79),IF(Entries!$K$20=2,MIN(BQ79,BR79),IF(Entries!$K$20=1,0,0)))))","v":0},0,"",null,null,null,null,null,null,null,null,{"$f":"IF(Entries!$K$20=5,MIN(CB79,CC79,CD79,CE79,CF79),IF(Entries!$K$20=4,MIN(CB79,CC79,CD79,CE79),IF(Entries!$K$20=3,MIN(CB79,CC79,CD79),IF(Entries!$K$20=2,MIN(CB79,CC79),IF(Entries!$K$20=1,0,0)))))","v":0},0,"",null,null,null,null,null,null,null,null,{"$f":"IF(Entries!$K$20=5,MIN(CM79,CN79,CO79,CP79,CQ79),IF(Entries!$K$20=4,MIN(CM79,CN79,CO79,CP79),IF(Entries!$K$20=3,MIN(CM79,CN79,CO79),IF(Entries!$K$20=2,MIN(CM79,CN79),IF(Entries!$K$20=1,0,0)))))","v":0},0,"",null,null,null,null,null,null,null,null,{"$f":"IF(Entries!$K$20=5,MIN(CX79,CY79,CZ79,DA79,DB79),IF(Entries!$K$20=4,MIN(CX79,CY79,CZ79,DA79),IF(Entries!$K$20=3,MIN(CX79,CY79,CZ79),IF(Entries!$K$20=2,MIN(CX79,CY79),IF(Entries!$K$20=1,0,0)))))","v":0},0,"",null,null,null,null,null,null,null,null,{"$f":"IF(Entries!$K$20=5,MIN(DI79,DJ79,DK79,DL79,DM79),IF(Entries!$K$20=4,MIN(DI79,DJ79,DK79,DL79),IF(Entries!$K$20=3,MIN(DI79,DJ79,DK79),IF(Entries!$K$20=2,MIN(DI79,DJ79),IF(Entries!$K$20=1,0,0)))))","v":0},0,"",null,null,null,null,null,null,null,null,{"$f":"IF(Entries!$K$20=5,MIN(DT79,DU79,DV79,DW79,DX79),IF(Entries!$K$20=4,MIN(DT79,DU79,DV79,DW79),IF(Entries!$K$20=3,MIN(DT79,DU79,DV79),IF(Entries!$K$20=2,MIN(DT79,DU79),IF(Entries!$K$20=1,0,0)))))","v":0},0,"",null,null,null,null,null,null,null,null,{"$f":"IF(Entries!$K$20=5,MIN(EE79,EF79,EG79,EH79,EI79),IF(Entries!$K$20=4,MIN(EE79,EF79,EG79,EH79),IF(Entries!$K$20=3,MIN(EE79,EF79,EG79),IF(Entries!$K$20=2,MIN(EE79,EF79),IF(Entries!$K$20=1,0,0)))))","v":0},0,"",null,null,null,null,null,null,null,null,{"$f":"IF(Entries!$K$20=5,MIN(EP79,EQ79,ER79,ES79,ET79),IF(Entries!$K$20=4,MIN(EP79,EQ79,ER79,ES79),IF(Entries!$K$20=3,MIN(EP79,EQ79,ER79),IF(Entries!$K$20=2,MIN(EP79,EQ79),IF(Entries!$K$20=1,0,0)))))","v":0},0,"",null,null,null,null,null,null,null,null,{"$f":"IF(Entries!$K$20=5,MIN(FA79,FB79,FC79,FD79,FE79),IF(Entries!$K$20=4,MIN(FA79,FB79,FC79,FD79),IF(Entries!$K$20=3,MIN(FA79,FB79,FC79),IF(Entries!$K$20=2,MIN(FA79,FB79),IF(Entries!$K$20=1,0,0)))))","v":0},0,"",null,null,null,null,null,null,null,null,{"$f":"IF(Entries!$K$20=5,MIN(FL79,FM79,FN79,FO79,FP79),IF(Entries!$K$20=4,MIN(FL79,FM79,FN79,FO79),IF(Entries!$K$20=3,MIN(FL79,FM79,FN79),IF(Entries!$K$20=2,MIN(FL79,FM79),IF(Entries!$K$20=1,0,0)))))","v":0},0,"",null,null,null,null,null,null,null,null,{"$f":"IF(Entries!$K$20=5,MIN(FW79,FX79,FY79,FZ79,GA79),IF(Entries!$K$20=4,MIN(FW79,FX79,FY79,FZ79),IF(Entries!$K$20=3,MIN(FW79,FX79,FY79),IF(Entries!$K$20=2,MIN(FW79,FX79),IF(Entries!$K$20=1,0,0)))))","v":0},0,"",null,null,null,null,null,null,null,null,{"$f":"IF(Entries!$K$20=5,MIN(GH79,GI79,GJ79,GK79,GL79),IF(Entries!$K$20=4,MIN(GH79,GI79,GJ79,GK79),IF(Entries!$K$20=3,MIN(GH79,GI79,GJ79),IF(Entries!$K$20=2,MIN(GH79,GI79),IF(Entries!$K$20=1,0,0)))))","v":0},0,"",null,null,null,null,null,null,null,null,{"$f":"IF(Entries!$K$20=5,MIN(GS79,GT79,GU79,GV79,GW79),IF(Entries!$K$20=4,MIN(GS79,GT79,GU79,GV79),IF(Entries!$K$20=3,MIN(GS79,GT79,GU79),IF(Entries!$K$20=2,MIN(GS79,GT79),IF(Entries!$K$20=1,0,0)))))","v":0},0,"",null,null,null,null,null,null,null,null,{"$f":"IF(Entries!$K$20=5,MIN(HD79,HE79,HF79,HG79,HH79),IF(Entries!$K$20=4,MIN(HD79,HE79,HF79,HG79),IF(Entries!$K$20=3,MIN(HD79,HE79,HF79),IF(Entries!$K$20=2,MIN(HD79,HE79),IF(Entries!$K$20=1,0,0)))))","v":0},0,"",null,null,null,null,null,null,null,null,{"$f":"IF(Entries!$K$20=5,MIN(HO79,HP79,HQ79,HR79,HS79),IF(Entries!$K$20=4,MIN(HO79,HP79,HQ79,HR79),IF(Entries!$K$20=3,MIN(HO79,HP79,HQ79),IF(Entries!$K$20=2,MIN(HO79,HP79),IF(Entries!$K$20=1,0,0)))))","v":0},0,"",null,null,null,null,null,null,null,null,{"$f":"IF(Entries!$K$20=5,MIN(HZ79,IA79,IB79,IC79,ID79),IF(Entries!$K$20=4,MIN(HZ79,IA79,IB79,IC79),IF(Entries!$K$20=3,MIN(HZ79,IA79,IB79),IF(Entries!$K$20=2,MIN(HZ79,IA79),IF(Entries!$K$20=1,0,0)))))","v":0},0,""]
[null,null,null,null,null,null,null,null,{"$f":"IF(Entries!$K$20=5,MIN(C80,D80,E80,F80,G80),IF(Entries!$K$20=4,MIN(C80,D80,E80,F80),IF(Entries!$K$20=3,MIN(C80,D80,E80),IF(Entries!$K$20=2,MIN(C80,D80),IF(Entries!$K$20=1,0,0)))))","v":0},0,"",null,null,null,null,null,null,null,null,{"$f":"IF(Entries!$K$20=5,MIN(N80,O80,P80,Q80,R80),IF(Entries!$K$20=4,MIN(N80,O80,P80,Q80),IF(Entries!$K$20=3,MIN(N80,O80,P80),IF(Entries!$K$20=2,MIN(N80,O80),IF(Entries!$K$20=1,0,0)))))","v":0},0,"",null,null,null,null,null,null,null,null,{"$f":"IF(Entries!$K$20=5,MIN(Y80,Z80,AA80,AB80,AC80),IF(Entries!$K$20=4,MIN(Y80,Z80,AA80,AB80),IF(Entries!$K$20=3,MIN(Y80,Z80,AA80),IF(Entries!$K$20=2,MIN(Y80,Z80),IF(Entries!$K$20=1,0,0)))))","v":0},0,"",null,null,null,null,null,null,null,null,{"$f":"IF(Entries!$K$20=5,MIN(AJ80,AK80,AL80,AM80,AN80),IF(Entries!$K$20=4,MIN(AJ80,AK80,AL80,AM80),IF(Entries!$K$20=3,MIN(AJ80,AK80,AL80),IF(Entries!$K$20=2,MIN(AJ80,AK80),IF(Entries!$K$20=1,0,0)))))","v":0},0,"",null,null,null,null,null,null,null,null,{"$f":"IF(Entries!$K$20=5,MIN(AU80,AV80,AW80,AX80,AY80),IF(Entries!$K$20=4,MIN(AU80,AV80,AW80,AX80),IF(Entries!$K$20=3,MIN(AU80,AV80,AW80),IF(Entries!$K$20=2,MIN(AU80,AV80),IF(Entries!$K$20=1,0,0)))))","v":0},0,"",null,null,null,null,null,null,null,null,{"$f":"IF(Entries!$K$20=5,MIN(BF80,BG80,BH80,BI80,BJ80),IF(Entries!$K$20=4,MIN(BF80,BG80,BH80,BI80),IF(Entries!$K$20=3,MIN(BF80,BG80,BH80),IF(Entries!$K$20=2,MIN(BF80,BG80),IF(Entries!$K$20=1,0,0)))))","v":0},0,"",null,null,null,null,null,null,null,null,{"$f":"IF(Entries!$K$20=5,MIN(BQ80,BR80,BS80,BT80,BU80),IF(Entries!$K$20=4,MIN(BQ80,BR80,BS80,BT80),IF(Entries!$K$20=3,MIN(BQ80,BR80,BS80),IF(Entries!$K$20=2,MIN(BQ80,BR80),IF(Entries!$K$20=1,0,0)))))","v":0},0,"",null,null,null,null,null,null,null,null,{"$f":"IF(Entries!$K$20=5,MIN(CB80,CC80,CD80,CE80,CF80),IF(Entries!$K$20=4,MIN(CB80,CC80,CD80,CE80),IF(Entries!$K$20=3,MIN(CB80,CC80,CD80),IF(Entries!$K$20=2,MIN(CB80,CC80),IF(Entries!$K$20=1,0,0)))))","v":0},0,"",null,null,null,null,null,null,null,null,{"$f":"IF(Entries!$K$20=5,MIN(CM80,CN80,CO80,CP80,CQ80),IF(Entries!$K$20=4,MIN(CM80,CN80,CO80,CP80),IF(Entries!$K$20=3,MIN(CM80,CN80,CO80),IF(Entries!$K$20=2,MIN(CM80,CN80),IF(Entries!$K$20=1,0,0)))))","v":0},0,"",null,null,null,null,null,null,null,null,{"$f":"IF(Entries!$K$20=5,MIN(CX80,CY80,CZ80,DA80,DB80),IF(Entries!$K$20=4,MIN(CX80,CY80,CZ80,DA80),IF(Entries!$K$20=3,MIN(CX80,CY80,CZ80),IF(Entries!$K$20=2,MIN(CX80,CY80),IF(Entries!$K$20=1,0,0)))))","v":0},0,"",null,null,null,null,null,null,null,null,{"$f":"IF(Entries!$K$20=5,MIN(DI80,DJ80,DK80,DL80,DM80),IF(Entries!$K$20=4,MIN(DI80,DJ80,DK80,DL80),IF(Entries!$K$20=3,MIN(DI80,DJ80,DK80),IF(Entries!$K$20=2,MIN(DI80,DJ80),IF(Entries!$K$20=1,0,0)))))","v":0},0,"",null,null,null,null,null,null,null,null,{"$f":"IF(Entries!$K$20=5,MIN(DT80,DU80,DV80,DW80,DX80),IF(Entries!$K$20=4,MIN(DT80,DU80,DV80,DW80),IF(Entries!$K$20=3,MIN(DT80,DU80,DV80),IF(Entries!$K$20=2,MIN(DT80,DU80),IF(Entries!$K$20=1,0,0)))))","v":0},0,"",null,null,null,null,null,null,null,null,{"$f":"IF(Entries!$K$20=5,MIN(EE80,EF80,EG80,EH80,EI80),IF(Entries!$K$20=4,MIN(EE80,EF80,EG80,EH80),IF(Entries!$K$20=3,MIN(EE80,EF80,EG80),IF(Entries!$K$20=2,MIN(EE80,EF80),IF(Entries!$K$20=1,0,0)))))","v":0},0,"",null,null,null,null,null,null,null,null,{"$f":"IF(Entries!$K$20=5,MIN(EP80,EQ80,ER80,ES80,ET80),IF(Entries!$K$20=4,MIN(EP80,EQ80,ER80,ES80),IF(Entries!$K$20=3,MIN(EP80,EQ80,ER80),IF(Entries!$K$20=2,MIN(EP80,EQ80),IF(Entries!$K$20=1,0,0)))))","v":0},0,"",null,null,null,null,null,null,null,null,{"$f":"IF(Entries!$K$20=5,MIN(FA80,FB80,FC80,FD80,FE80),IF(Entries!$K$20=4,MIN(FA80,FB80,FC80,FD80),IF(Entries!$K$20=3,MIN(FA80,FB80,FC80),IF(Entries!$K$20=2,MIN(FA80,FB80),IF(Entries!$K$20=1,0,0)))))","v":0},0,"",null,null,null,null,null,null,null,null,{"$f":"IF(Entries!$K$20=5,MIN(FL80,FM80,FN80,FO80,FP80),IF(Entries!$K$20=4,MIN(FL80,FM80,FN80,FO80),IF(Entries!$K$20=3,MIN(FL80,FM80,FN80),IF(Entries!$K$20=2,MIN(FL80,FM80),IF(Entries!$K$20=1,0,0)))))","v":0},0,"",null,null,null,null,null,null,null,null,{"$f":"IF(Entries!$K$20=5,MIN(FW80,FX80,FY80,FZ80,GA80),IF(Entries!$K$20=4,MIN(FW80,FX80,FY80,FZ80),IF(Entries!$K$20=3,MIN(FW80,FX80,FY80),IF(Entries!$K$20=2,MIN(FW80,FX80),IF(Entries!$K$20=1,0,0)))))","v":0},0,"",null,null,null,null,null,null,null,null,{"$f":"IF(Entries!$K$20=5,MIN(GH80,GI80,GJ80,GK80,GL80),IF(Entries!$K$20=4,MIN(GH80,GI80,GJ80,GK80),IF(Entries!$K$20=3,MIN(GH80,GI80,GJ80),IF(Entries!$K$20=2,MIN(GH80,GI80),IF(Entries!$K$20=1,0,0)))))","v":0},0,"",null,null,null,null,null,null,null,null,{"$f":"IF(Entries!$K$20=5,MIN(GS80,GT80,GU80,GV80,GW80),IF(Entries!$K$20=4,MIN(GS80,GT80,GU80,GV80),IF(Entries!$K$20=3,MIN(GS80,GT80,GU80),IF(Entries!$K$20=2,MIN(GS80,GT80),IF(Entries!$K$20=1,0,0)))))","v":0},0,"",null,null,null,null,null,null,null,null,{"$f":"IF(Entries!$K$20=5,MIN(HD80,HE80,HF80,HG80,HH80),IF(Entries!$K$20=4,MIN(HD80,HE80,HF80,HG80),IF(Entries!$K$20=3,MIN(HD80,HE80,HF80),IF(Entries!$K$20=2,MIN(HD80,HE80),IF(Entries!$K$20=1,0,0)))))","v":0},0,"",null,null,null,null,null,null,null,null,{"$f":"IF(Entries!$K$20=5,MIN(HO80,HP80,HQ80,HR80,HS80),IF(Entries!$K$20=4,MIN(HO80,HP80,HQ80,HR80),IF(Entries!$K$20=3,MIN(HO80,HP80,HQ80),IF(Entries!$K$20=2,MIN(HO80,HP80),IF(Entries!$K$20=1,0,0)))))","v":0},0,"",null,null,null,null,null,null,null,null,{"$f":"IF(Entries!$K$20=5,MIN(HZ80,IA80,IB80,IC80,ID80),IF(Entries!$K$20=4,MIN(HZ80,IA80,IB80,IC80),IF(Entries!$K$20=3,MIN(HZ80,IA80,IB80),IF(Entries!$K$20=2,MIN(HZ80,IA80),IF(Entries!$K$20=1,0,0)))))","v":0},0,""]
[null,null,null,null,null,null,null,null,{"$f":"IF(Entries!$K$20=5,MIN(C81,D81,E81,F81,G81),IF(Entries!$K$20=4,MIN(C81,D81,E81,F81),IF(Entries!$K$20=3,MIN(C81,D81,E81),IF(Entries!$K$20=2,MIN(C81,D81),IF(Entries!$K$20=1,0,0)))))","v":0},0,"",null,null,null,null,null,null,null,null,{"$f":"IF(Entries!$K$20=5,MIN(N81,O81,P81,Q81,R81),IF(Entries!$K$20=4,MIN(N81,O81,P81,Q81),IF(Entries!$K$20=3,MIN(N81,O81,P81),IF(Entries!$K$20=2,MIN(N81,O81),IF(Entries!$K$20=1,0,0)))))","v":0},0,"",null,null,null,null,null,null,null,null,{"$f":"IF(Entries!$K$20=5,MIN(Y81,Z81,AA81,AB81,AC81),IF(Entries!$K$20=4,MIN(Y81,Z81,AA81,AB81),IF(Entries!$K$20=3,MIN(Y81,Z81,AA81),IF(Entries!$K$20=2,MIN(Y81,Z81),IF(Entries!$K$20=1,0,0)))))","v":0},0,"",null,null,null,null,null,null,null,null,{"$f":"IF(Entries!$K$20=5,MIN(AJ81,AK81,AL81,AM81,AN81),IF(Entries!$K$20=4,MIN(AJ81,AK81,AL81,AM81),IF(Entries!$K$20=3,MIN(AJ81,AK81,AL81),IF(Entries!$K$20=2,MIN(AJ81,AK81),IF(Entries!$K$20=1,0,0)))))","v":0},0,"",null,null,null,null,null,null,null,null,{"$f":"IF(Entries!$K$20=5,MIN(AU81,AV81,AW81,AX81,AY81),IF(Entries!$K$20=4,MIN(AU81,AV81,AW81,AX81),IF(Entries!$K$20=3,MIN(AU81,AV81,AW81),IF(Entries!$K$20=2,MIN(AU81,AV81),IF(Entries!$K$20=1,0,0)))))","v":0},0,"",null,null,null,null,null,null,null,null,{"$f":"IF(Entries!$K$20=5,MIN(BF81,BG81,BH81,BI81,BJ81),IF(Entries!$K$20=4,MIN(BF81,BG81,BH81,BI81),IF(Entries!$K$20=3,MIN(BF81,BG81,BH81),IF(Entries!$K$20=2,MIN(BF81,BG81),IF(Entries!$K$20=1,0,0)))))","v":0},0,"",null,null,null,null,null,null,null,null,{"$f":"IF(Entries!$K$20=5,MIN(BQ81,BR81,BS81,BT81,BU81),IF(Entries!$K$20=4,MIN(BQ81,BR81,BS81,BT81),IF(Entries!$K$20=3,MIN(BQ81,BR81,BS81),IF(Entries!$K$20=2,MIN(BQ81,BR81),IF(Entries!$K$20=1,0,0)))))","v":0},0,"",null,null,null,null,null,null,null,null,{"$f":"IF(Entries!$K$20=5,MIN(CB81,CC81,CD81,CE81,CF81),IF(Entries!$K$20=4,MIN(CB81,CC81,CD81,CE81),IF(Entries!$K$20=3,MIN(CB81,CC81,CD81),IF(Entries!$K$20=2,MIN(CB81,CC81),IF(Entries!$K$20=1,0,0)))))","v":0},0,"",null,null,null,null,null,null,null,null,{"$f":"IF(Entries!$K$20=5,MIN(CM81,CN81,CO81,CP81,CQ81),IF(Entries!$K$20=4,MIN(CM81,CN81,CO81,CP81),IF(Entries!$K$20=3,MIN(CM81,CN81,CO81),IF(Entries!$K$20=2,MIN(CM81,CN81),IF(Entries!$K$20=1,0,0)))))","v":0},0,"",null,null,null,null,null,null,null,null,{"$f":"IF(Entries!$K$20=5,MIN(CX81,CY81,CZ81,DA81,DB81),IF(Entries!$K$20=4,MIN(CX81,CY81,CZ81,DA81),IF(Entries!$K$20=3,MIN(CX81,CY81,CZ81),IF(Entries!$K$20=2,MIN(CX81,CY81),IF(Entries!$K$20=1,0,0)))))","v":0},0,"",null,null,null,null,null,null,null,null,{"$f":"IF(Entries!$K$20=5,MIN(DI81,DJ81,DK81,DL81,DM81),IF(Entries!$K$20=4,MIN(DI81,DJ81,DK81,DL81),IF(Entries!$K$20=3,MIN(DI81,DJ81,DK81),IF(Entries!$K$20=2,MIN(DI81,DJ81),IF(Entries!$K$20=1,0,0)))))","v":0},0,"",null,null,null,null,null,null,null,null,{"$f":"IF(Entries!$K$20=5,MIN(DT81,DU81,DV81,DW81,DX81),IF(Entries!$K$20=4,MIN(DT81,DU81,DV81,DW81),IF(Entries!$K$20=3,MIN(DT81,DU81,DV81),IF(Entries!$K$20=2,MIN(DT81,DU81),IF(Entries!$K$20=1,0,0)))))","v":0},0,"",null,null,null,null,null,null,null,null,{"$f":"IF(Entries!$K$20=5,MIN(EE81,EF81,EG81,EH81,EI81),IF(Entries!$K$20=4,MIN(EE81,EF81,EG81,EH81),IF(Entries!$K$20=3,MIN(EE81,EF81,EG81),IF(Entries!$K$20=2,MIN(EE81,EF81),IF(Entries!$K$20=1,0,0)))))","v":0},0,"",null,null,null,null,null,null,null,null,{"$f":"IF(Entries!$K$20=5,MIN(EP81,EQ81,ER81,ES81,ET81),IF(Entries!$K$20=4,MIN(EP81,EQ81,ER81,ES81),IF(Entries!$K$20=3,MIN(EP81,EQ81,ER81),IF(Entries!$K$20=2,MIN(EP81,EQ81),IF(Entries!$K$20=1,0,0)))))","v":0},0,"",null,null,null,null,null,null,null,null,{"$f":"IF(Entries!$K$20=5,MIN(FA81,FB81,FC81,FD81,FE81),IF(Entries!$K$20=4,MIN(FA81,FB81,FC81,FD81),IF(Entries!$K$20=3,MIN(FA81,FB81,FC81),IF(Entries!$K$20=2,MIN(FA81,FB81),IF(Entries!$K$20=1,0,0)))))","v":0},0,"",null,null,null,null,null,null,null,null,{"$f":"IF(Entries!$K$20=5,MIN(FL81,FM81,FN81,FO81,FP81),IF(Entries!$K$20=4,MIN(FL81,FM81,FN81,FO81),IF(Entries!$K$20=3,MIN(FL81,FM81,FN81),IF(Entries!$K$20=2,MIN(FL81,FM81),IF(Entries!$K$20=1,0,0)))))","v":0},0,"",null,null,null,null,null,null,null,null,{"$f":"IF(Entries!$K$20=5,MIN(FW81,FX81,FY81,FZ81,GA81),IF(Entries!$K$20=4,MIN(FW81,FX81,FY81,FZ81),IF(Entries!$K$20=3,MIN(FW81,FX81,FY81),IF(Entries!$K$20=2,MIN(FW81,FX81),IF(Entries!$K$20=1,0,0)))))","v":0},0,"",null,null,null,null,null,null,null,null,{"$f":"IF(Entries!$K$20=5,MIN(GH81,GI81,GJ81,GK81,GL81),IF(Entries!$K$20=4,MIN(GH81,GI81,GJ81,GK81),IF(Entries!$K$20=3,MIN(GH81,GI81,GJ81),IF(Entries!$K$20=2,MIN(GH81,GI81),IF(Entries!$K$20=1,0,0)))))","v":0},0,"",null,null,null,null,null,null,null,null,{"$f":"IF(Entries!$K$20=5,MIN(GS81,GT81,GU81,GV81,GW81),IF(Entries!$K$20=4,MIN(GS81,GT81,GU81,GV81),IF(Entries!$K$20=3,MIN(GS81,GT81,GU81),IF(Entries!$K$20=2,MIN(GS81,GT81),IF(Entries!$K$20=1,0,0)))))","v":0},0,"",null,null,null,null,null,null,null,null,{"$f":"IF(Entries!$K$20=5,MIN(HD81,HE81,HF81,HG81,HH81),IF(Entries!$K$20=4,MIN(HD81,HE81,HF81,HG81),IF(Entries!$K$20=3,MIN(HD81,HE81,HF81),IF(Entries!$K$20=2,MIN(HD81,HE81),IF(Entries!$K$20=1,0,0)))))","v":0},0,"",null,null,null,null,null,null,null,null,{"$f":"IF(Entries!$K$20=5,MIN(HO81,HP81,HQ81,HR81,HS81),IF(Entries!$K$20=4,MIN(HO81,HP81,HQ81,HR81),IF(Entries!$K$20=3,MIN(HO81,HP81,HQ81),IF(Entries!$K$20=2,MIN(HO81,HP81),IF(Entries!$K$20=1,0,0)))))","v":0},0,"",null,null,null,null,null,null,null,null,{"$f":"IF(Entries!$K$20=5,MIN(HZ81,IA81,IB81,IC81,ID81),IF(Entries!$K$20=4,MIN(HZ81,IA81,IB81,IC81),IF(Entries!$K$20=3,MIN(HZ81,IA81,IB81),IF(Entries!$K$20=2,MIN(HZ81,IA81),IF(Entries!$K$20=1,0,0)))))","v":0},0,""]
[]
[]
[]
[null,"College","DCU",{"$f":"LARGE(C92:C124,1)","v":544},null,null,null,null,null,null,null,null,"College","DIT",{"$f":"LARGE(N92:N124,1)","v":0},null,null,null,null,null,null,null,null,"College","DKIT",{"$f":"LARGE(Y92:Y124,1)","v":0},null,null,null,null,null,null,null,null,"College","DUAC",{"$f":"LARGE(AJ92:AJ124,1)","v":0},null,null,null,null,null,null,null,null,"College","GMIT",{"$f":"LARGE(AU92:AU124,1)","v":539},null,null,null,null,null,null,null,null,"College","GMITC",{"$f":"LARGE(BF92:BF124,1)","v":0},null,null,null,null,null,null,null,null,"College","IT Tallaght",{"$f":"LARGE(BQ92:BQ124,1)","v":568},null,null,null,null,null,null,null,null,"College","ITC",{"$f":"LARGE(CB92:CB124,1)","v":0},null,null,null,null,null,null,null,null,"College","MU",{"$f":"LARGE(CM92:CM124,1)","v":537},null,null,null,null,null,null,null,null,"College","NCAD",{"$f":"LARGE(CX92:CX124,1)","v":0},null,null,null,null,null,null,null,null,"College","NUIG",{"$f":"LARGE(DI92:DI124,1)","v":565},null,null,null,null,null,null,null,null,"College","RCSI",{"$f":"LARGE(DT92:DT124,1)","v":0},null,null,null,null,null,null,null,null,"College","UCC",{"$f":"LARGE(EE92:EE124,1)","v":0},null,null,null,null,null,null,null,null,"College","UCD",{"$f":"LARGE(EP92:EP124,1)","v":0},null,null,null,null,null,null,null,null,"College","UL",{"$f":"LARGE(FA92:FA124,1)","v":0},null,null,null,null,null,null,null,null,"College","UU",{"$f":"LARGE(FL92:FL124,1)","v":0},null,null,null,null,null,null,null,null,"College","(blank)",{"$f":"LARGE(FW92:FW124,1)","v":0},null,null,null,null,null,null,null,null,"College","AAA",{"$f":"LARGE(GH92:GH124,1)","v":0},null,null,null,null,null,null,null,null,"College","BBB",{"$f":"LARGE(GS92:GS124,1)","v":0},null,null,null,null,null,null,null,null,"College","CCC",{"$f":"LARGE(HD92:HD124,1)","v":0},null,null,null,null,null,null,null,null,"College","DDD",{"$f":"LARGE(HO92:HO124,1)","v":0},null,null,null,null,null,null,null,null,"College","EEE",{"$f":"LARGE(HZ92:HZ124,1)","v":0}]
[null,"Gender","(Multiple Items)",{"$f":"LARGE(D92:D124,1)","v":547},{"$f":"C85","v":"DCU"},null,null,null,{"$f":"C87","v":"Compound"},null,null,null,"Gender","(Multiple Items)",{"$f":"LARGE(O92:O124,1)","v":0},{"$f":"N85","v":"DIT"},null,null,null,{"$f":"N87","v":"Compound"},null,null,null,"Gender","(Multiple Items)",{"$f":"LARGE(Z92:Z124,1)","v":0},{"$f":"Y85","v":"DKIT"},null,null,null,{"$f":"Y87","v":"Compound"},null,null,null,"Gender","(Multiple Items)",{"$f":"LARGE(AK92:AK124,1)","v":0},{"$f":"AJ85","v":"DUAC"},null,null,null,{"$f":"AJ87","v":"Compound"},null,null,null,"Gender","(Multiple Items)",{"$f":"LARGE(AV92:AV124,1)","v":548},{"$f":"AU85","v":"GMIT"},null,null,null,{"$f":"AU87","v":"Compound"},null,null,null,"Gender","(Multiple Items)",{"$f":"LARGE(BG92:BG124,1)","v":0},{"$f":"BF85","v":"GMITC"},null,null,null,{"$f":"BF87","v":"Compound"},null,null,null,"Gender","(Multiple Items)",{"$f":"LARGE(BR92:BR124,1)","v":564},{"$f":"BQ85","v":"IT Tallaght"},null,null,null,{"$f":"BQ87","v":"Compound"},null,null,null,"Gender","(Multiple Items)",{"$f":"LARGE(CC92:CC124,1)","v":0},{"$f":"CB85","v":"ITC"},null,null,null,{"$f":"CB87","v":"Compound"},null,null,null,"Gender","(Multiple Items)",{"$f":"LARGE(CN92:CN124,1)","v":0},{"$f":"CM85","v":"MU"},null,null,null,{"$f":"CM87","v":"Compound"},null,null,null,"Gender","(Multiple Items)",{"$f":"LARGE(CY92:CY124,1)","v":0},{"$f":"CX85","v":"NCAD"},null,null,null,{"$f":"CX87","v":"Compound"},null,null,null,"Gender","(Multiple Items)",{"$f":"LARGE(DJ92:DJ124,1)","v":549},{"$f":"DI85","v":"NUIG"},null,null,null,{"$f":"DI87","v":"Compound"},null,null,null,"Gender","(Multiple Items)",{"$f":"LARGE(DU92:DU124,1)","v":0},{"$f":"DT85","v":"RCSI"},null,null,null,{"$f":"DT87","v":"Compound"},null,null,null,"Gender","(Multiple Items)",{"$f":"LARGE(EF92:EF124,1)","v":0},{"$f":"EE85","v":"UCC"},null,null,null,{"$f":"EE87","v":"Compound"},null,null,null,"Gender","(Multiple Items)",{"$f":"LARGE(EQ92:EQ124,1)","v":0},{"$f":"EP85","v":"UCD"},null,null,null,{"$f":"EP87","v":"Compound"},null,null,null,"Gender","(Multiple Items)",{"$f":"LARGE(FB92:FB124,1)","v":0},{"$f":"FA85","v":"UL"},null,null,null,{"$f":"FA87","v":"Compound"},null,null,null,"Gender","(Multiple Items)",{"$f":"LARGE(FM92:FM124,1)","v":0},{"$f":"FL85","v":"UU"},null,null,null,{"$f":"FL87","v":"Compound"},null,null,null,"Gender","(Multiple Items)",{"$f":"LARGE(FX92:FX124,1)","v":0},{"$f":"FW85","v":"(blank)"},null,null,null,{"$f":"FW87","v":"Compound"},null,null,null,"Gender","(Multiple Items)",{"$f":"LARGE(GI92:GI124,1)","v":0},{"$f":"GH85","v":"AAA"},null,null,null,{"$f":"GH87","v":"Compound"},null,null,null,"Gender","(Multiple Items)",{"$f":"LARGE(GT92:GT124,1)","v":0},{"$f":"GS85","v":"BBB"},null,null,null,{"$f":"GS87","v":"Compound"},null,null,null,"Gender","(Multiple Items)",{"$f":"LARGE(HE92:HE124,1)","v":0},{"$f":"HD85","v":"CCC"},null,null,null,{"$f":"HD87","v":"Compound"},null,null,null,"Gender","(Multiple Items)",{"$f":"LARGE(HP92:HP124,1)","v":0},{"$f":"HO85","v":"DDD"},null,null,null,{"$f":"HO87","v":"Compound"},null,null,null,"Gender","(Multiple Items)",{"$f":"LARGE(IA92:IA124,1)","v":0},{"$f":"HZ85","v":"EEE"},null,null,null,{"$f":"HZ87","v":"Compound"}]
[null,"Bow","Compound",{"$f":"LARGE(E92:E124,1)","v":539},null,null,null,null,null,null,null,null,"Bow","Compound",{"$f":"LARGE(P92:P124,1)","v":0},null,null,null,null,null,null,null,null,"Bow","Compound",{"$f":"LARGE(AA92:AA124,1)","v":0},null,null,null,null,null,null,null,null,"Bow","Compound",{"$f":"LARGE(AL92:AL124,1)","v":0},null,null,null,null,null,null,null,null,"Bow","Compound",{"$f":"LARGE(AW92:AW124,1)","v":548},null,null,null,null,null,null,null,null,"Bow","Compound",{"$f":"LARGE(BH92:BH124,1)","v":0},null,null,null,null,null,null,null,null,"Bow","Compound",{"$f":"LARGE(BS92:BS124,1)","v":537},null,null,null,null,null,null,null,null,"Bow","Compound",{"$f":"LARGE(CD92:CD124,1)","v":0},null,null,null,null,null,null,null,null,"Bow","Compound",{"$f":"LARGE(CO92:CO124,1)","v":507},null,null,null,null,null,null,null,null,"Bow","Compound",{"$f":"LARGE(CZ92:CZ124,1)","v":0},null,null,null,null,null,null,null,null,"Bow","Compound",{"$f":"LARGE(DK92:DK124,1)","v":560},null,null,null,null,null,null,null,null,"Bow","Compound",{"$f":"LARGE(DV92:DV124,1)","v":0},null,null,null,null,null,null,null,null,"Bow","Compound",{"$f":"LARGE(EG92:EG124,1)","v":0},null,null,null,null,null,null,null,null,"Bow","Compound",{"$f":"LARGE(ER92:ER124,1)","v":0},null,null,null,null,null,null,null,null,"Bow","Compound",{"$f":"LARGE(FC92:FC124,1)","v":520},null,null,null,null,null,null,null,null,"Bow","Compound",{"$f":"LARGE(FN92:FN124,1)","v":0},null,null,null,null,null,null,null,null,"Bow","Compound",{"$f":"LARGE(FY92:FY124,1)","v":0},null,null,null,null,null,null,null,null,"Bow","Compound",{"$f":"LARGE(GJ92:GJ124,1)","v":0},null,null,null,null,null,null,null,null,"Bow","Compound",{"$f":"LARGE(GU92:GU124,1)","v":0},null,null,null,null,null,null,null,null,"Bow","Compound",{"$f":"LARGE(HF92:HF124,1)","v":0},null,null,null,null,null,null,null,null,"Bow","Compound",{"$f":"LARGE(HQ92:HQ124,1)","v":0},null,null,null,null,null,null,null,null,"Bow","Compound",{"$f":"LARGE(IB92:IB124,1)","v":0}]
[null,"Level","(Multiple Items)",{"$f":"LARGE(F92:F124,1)","v":540},null,null,null,null,null,null,null,null,"Level","(Multiple Items)",{"$f":"LARGE(Q92:Q124,1)","v":0},null,null,null,null,null,null,null,null,"Level","(Multiple Items)",{"$f":"LARGE(AB92:AB124,1)","v":0},null,null,null,null,null,null,null,null,"Level","(Multiple Items)",{"$f":"LARGE(AM92:AM124,1)","v":0},null,null,null,null,null,null,null,null,"Level","(Multiple Items)",{"$f":"LARGE(AX92:AX124,1)","v":559},null,null,null,null,null,null,null,null,"Level","(Multiple Items)",{"$f":"LARGE(BI92:BI124,1)","v":0},null,null,null,null,null,null,null,null,"Level","(Multiple Items)",{"$f":"LARGE(BT92:BT124,1)","v":565},null,null,null,null,null,null,null,null,"Level","(Multiple Items)",{"$f":"LARGE(CE92:CE124,1)","v":0},null,null,null,null,null,null,null,null,"Level","(Multiple Items)",{"$f":"LARGE(CP92:CP124,1)","v":0},null,null,null,null,null,null,null,null,"Level","(Multiple Items)",{"$f":"LARGE(DA92:DA124,1)","v":0},null,null,null,null,null,null,null,null,"Level","(Multiple Items)",{"$f":"LARGE(DL92:DL124,1)","v":543},null,null,null,null,null,null,null,null,"Level","(Multiple Items)",{"$f":"LARGE(DW92:DW124,1)","v":0},null,null,null,null,null,null,null,null,"Level","(Multiple Items)",{"$f":"LARGE(EH92:EH124,1)","v":0},null,null,null,null,null,null,null,null,"Level","(Multiple Items)",{"$f":"LARGE(ES92:ES124,1)","v":0},null,null,null,null,null,null,null,null,"Level","(Multiple Items)",{"$f":"LARGE(FD92:FD124,1)","v":520},null,null,null,null,null,null,null,null,"Level","(Multiple Items)",{"$f":"LARGE(FO92:FO124,1)","v":523},null,null,null,null,null,null,null,null,"Level","(Multiple Items)",{"$f":"LARGE(FZ92:FZ124,1)","v":0},null,null,null,null,null,null,null,null,"Level","(Multiple Items)",{"$f":"LARGE(GK92:GK124,1)","v":0},null,null,null,null,null,null,null,null,"Level","(Multiple Items)",{"$f":"LARGE(GV92:GV124,1)","v":0},null,null,null,null,null,null,null,null,"Level","(Multiple Items)",{"$f":"LARGE(HG92:HG124,1)","v":0},null,null,null,null,null,null,null,null,"Level","(Multiple Items)",{"$f":"LARGE(HR92:HR124,1)","v":0},null,null,null,null,null,null,null,null,"Level","(Multiple Items)",{"$f":"LARGE(IC92:IC124,1)","v":0}]
[null,null,null,{"$f":"LARGE(G92:G124,1)","v":535},null,null,null,null,null,null,null,null,null,null,{"$f":"LARGE(R92:R124,1)","v":0},null,null,null,null,null,null,null,null,null,null,{"$f":"LARGE(AC92:AC124,1)","v":0},null,null,null,null,null,null,null,null,null,null,{"$f":"LARGE(AN92:AN124,1)","v":0},null,null,null,null,null,null,null,null,null,null,{"$f":"LARGE(AY92:AY124,1)","v":566},null,null,null,null,null,null,null,null,null,null,{"$f":"LARGE(BJ92:BJ124,1)","v":0},null,null,null,null,null,null,null,null,null,null,{"$f":"LARGE(BU92:BU124,1)","v":567},null,null,null,null,null,null,null,null,null,null,{"$f":"LARGE(CF92:CF124,1)","v":0},null,null,null,null,null,null,null,null,null,null,{"$f":"LARGE(CQ92:CQ124,1)","v":510},null,null,null,null,null,null,null,null,null,null,{"$f":"LARGE(DB92:DB124,1)","v":0},null,null,null,null,null,null,null,null,null,null,{"$f":"LARGE(DM92:DM124,1)","v":561},null,null,null,null,null,null,null,null,null,null,{"$f":"LARGE(DX92:DX124,1)","v":0},null,null,null,null,null,null,null,null,null,null,{"$f":"LARGE(EI92:EI124,1)","v":0},null,null,null,null,null,null,null,null,null,null,{"$f":"LARGE(ET92:ET124,1)","v":0},null,null,null,null,null,null,null,null,null,null,{"$f":"LARGE(FE92:FE124,1)","v":0},null,null,null,null,null,null,null,null,null,null,{"$f":"LARGE(FP92:FP124,1)","v":0},null,null,null,null,null,null,null,null,null,null,{"$f":"LARGE(GA92:GA124,1)","v":0},null,null,null,null,null,null,null,null,null,null,{"$f":"LARGE(GL92:GL124,1)","v":0},null,null,null,null,null,null,null,null,null,null,{"$f":"LARGE(GW92:GW124,1)","v":0},null,null,null,null,null,null,null,null,null,null,{"$f":"LARGE(HH92:HH124,1)","v":0},null,null,null,null,null,null,null,null,null,null,{"$f":"LARGE(HS92:HS124,1)","v":0},null,null,null,null,null,null,null,null,null,null,{"$f":"LARGE(ID92:ID124,1)","v":0}]
[null,"Sum of Points","Column Labels",null,null,null,null,null,null,"League Score","Rank",null,"Sum of Points","Column Labels",null,null,null,null,null,null,"League Score","Rank",null,"Sum of Points","Column Labels",null,null,null,null,null,null,"League Score","Rank",null,"Sum of Points","Column Labels",null,null,null,null,null,null,"League Score","Rank",null,"Sum of Points","Column Labels",null,null,null,null,null,null,"League Score","Rank",null,"Sum of Points","Column Labels",null,null,null,null,null,null,"League Score","Rank",null,"Sum of Points","Column Labels",null,null,null,null,null,null,"League Score","Rank",null,"Sum of Points","Column Labels",null,null,null,null,null,null,"League Score","Rank",null,"Sum of Points","Column Labels",null,null,null,null,null,null,"League Score","Rank",null,"Sum of Points","Column Labels",null,null,null,null,null,null,"League Score","Rank",null,"Sum of Points","Column Labels",null,null,null,null,null,null,"League Score","Rank",null,"Sum of Points","Column Labels",null,null,null,null,null,null,"League Score","Rank",null,"Sum of Points","Column Labels",null,null,null,null,null,null,"League Score","Rank",null,"Sum of Points","Column Labels",null,null,null,null,null,null,"League Score","Rank",null,"Sum of Points","Column Labels",null,null,null,null,null,null,"League Score","Rank",null,"Sum of Points","Column Labels",null,null,null,null,null,null,"League Score","Rank",null,"Sum of Points","Column Labels",null,null,null,null,null,null,"League Score","Rank",null,"Sum of Points","Column Labels",null,null,null,null,null,null,"League Score","Rank",null,"Sum of Points","Column Labels",null,null,null,null,null,null,"League Score","Rank",null,"Sum of Points","Column Labels",null,null,null,null,null,null,"League Score","Rank",null,"Sum of Points","Column Labels",null,null,null,null,null,null,"League Score","Rank",null,"Sum of Points","Column Labels",null,null,null,null,null,null,"League Score","Rank"]
[null,"Row Labels","UL","DkIT","GMIT","DCU","NUIG","Grand Total","Lowest",null,null,null,"Row Labels","UL","DkIT","GMIT","DCU","NUIG","Grand Total","Lowest",null,null,null,"Row Labels","UL","DkIT","GMIT","DCU","NUIG","Grand Total","Lowest",null,null,null,"Row Labels","UL","DkIT","GMIT","DCU","NUIG","Grand Total","Lowest",null,null,null,"Row Labels","UL","DkIT","GMIT","DCU","NUIG","Grand Total","Lowest",null,null,null,"Row Labels","UL","DkIT","GMIT","DCU","NUIG","Grand Total","Lowest",null,null,null,"Row Labels","UL","DkIT","GMIT","DCU","NUIG","Grand Total","Lowest",null,null,null,"Row Labels","UL","DkIT","GMIT","DCU","NUIG","Grand Total","Lowest",null,null,null,"Row Labels","UL","DkIT","GMIT","DCU","NUIG","Grand Total","Lowest",null,null,null,"Row Labels","UL","DkIT","GMIT","DCU","NUIG","Grand Total","Lowest",null,null,null,"Row Labels","UL","DkIT","GMIT","DCU","NUIG","Grand Total","Lowest",null,null,null,"Row Labels","UL","DkIT","GMIT","DCU","NUIG","Grand Total","Lowest",null,null,null,"Row Labels","UL","DkIT","GMIT","DCU","NUIG","Grand Total","Lowest",null,null,null,"Row Labels","UL","DkIT","GMIT","DCU","NUIG","Grand Total","Lowest",null,null,null,"Row Labels","UL","DkIT","GMIT","DCU","NUIG","Grand Total","Lowest",null,null,null,"Row Labels","UL","DkIT","GMIT","DCU","NUIG","Grand Total","Lowest",null,null,null,"Row Labels","DCU","MU","ITC","UCD","IT Tallaght","Grand Total","Lowest",null,null,null,"Row Labels","DCU","MU","ITC","UCD","IT Tallaght","Grand Total","Lowest",null,null,null,"Row Labels","DCU","MU","ITC","UCD","IT Tallaght","Grand Total","Lowest",null,null,null,"Row Labels","DCU","MU","ITC","UCD","IT Tallaght","Grand Total","Lowest",null,null,null,"Row Labels","DCU","MU","ITC","UCD","IT Tallaght","Grand Total","Lowest",null,null,null,"Row Labels","DCU","MU","ITC","UCD","IT Tallaght","Grand Total","Lowest"]
[null,"Cillian Byrne",544,547,539,540,535,2705,{"$f":"IF(Entries!$K$20=5,MIN(C92,D92,E92,F92,G92),IF(Entries!$K$20=4,MIN(C92,D92,E92,F92),IF(Entries!$K$20=3,MIN(C92,D92,E92),IF(Entries!$K$20=2,MIN(C92,D92),IF(Entries!$K$20=1,0,0)))))","v":535},{"$f":"H92-I92","v":2170},{"$f":"IF(J92>1,RANK(J92,J$92:J$101,0),\"\")","v":1},null,null,0,0,0,0,0,null,{"$f":"IF(Entries!$K$20=5,MIN(N92,O92,P92,Q92,R92),IF(Entries!$K$20=4,MIN(N92,O92,P92,Q92),IF(Entries!$K$20=3,MIN(N92,O92,P92),IF(Entries!$K$20=2,MIN(N92,O92),IF(Entries!$K$20=1,0,0)))))","v":0},{"$f":"S92-T92","v":0},{"$f":"IF(U92>1,RANK(U92,U$92:U$101,0),\"\")","v":""},null,null,0,0,0,0,0,null,{"$f":"IF(Entries!$K$20=5,MIN(Y92,Z92,AA92,AB92,AC92),IF(Entries!$K$20=4,MIN(Y92,Z92,AA92,AB92),IF(Entries!$K$20=3,MIN(Y92,Z92,AA92),IF(Entries!$K$20=2,MIN(Y92,Z92),IF(Entries!$K$20=1,0,0)))))","v":0},{"$f":"AD92-AE92","v":0},{"$f":"IF(AF92>1,RANK(AF92,AF$92:AF$101,0),\"\")","v":""},null,null,0,0,0,0,0,null,{"$f":"IF(Entries!$K$20=5,MIN(AJ92,AK92,AL92,AM92,AN92),IF(Entries!$K$20=4,MIN(AJ92,AK92,AL92,AM92),IF(Entries!$K$20=3,MIN(AJ92,AK92,AL92),IF(Entries!$K$20=2,MIN(AJ92,AK92),IF(Entries!$K$20=1,0,0)))))","v":0},{"$f":"AO92-AP92","v":0},{"$f":"IF(AQ92>1,RANK(AQ92,AQ$92:AQ$101,0),\"\")","v":""},null,"Marko Kovacevic",539,548,0,547,542,2176,{"$f":"IF(Entries!$K$20=5,MIN(AU92,AV92,AW92,AX92,AY92),IF(Entries!$K$20=4,MIN(AU92,AV92,AW92,AX92),IF(Entries!$K$20=3,MIN(AU92,AV92,AW92),IF(Entries!$K$20=2,MIN(AU92,AV92),IF(Entries!$K$20=1,0,0)))))","v":0},{"$f":"AZ92-BA92","v":2176},{"$f":"IF(BB92>1,RANK(BB92,BB$92:BB$101,0),\"\")","v":1},null,null,0,0,0,0,0,null,{"$f":"IF(Entries!$K$20=5,MIN(BF92,BG92,BH92,BI92,BJ92),IF(Entries!$K$20=4,MIN(BF92,BG92,BH92,BI92),IF(Entries!$K$20=3,MIN(BF92,BG92,BH92),IF(Entries!$K$20=2,MIN(BF92,BG92),IF(Entries!$K$20=1,0,0)))))","v":0},{"$f":"BK92-BL92","v":0},{"$f":"IF(BM92>1,RANK(BM92,BM$92:BM$101,0),\"\")","v":""},null,"Glen Conway",568,564,537,565,567,2801,{"$f":"IF(Entries!$K$20=5,MIN(BQ92,BR92,BS92,BT92,BU92),IF(Entries!$K$20=4,MIN(BQ92,BR92,BS92,BT92),IF(Entries!$K$20=3,MIN(BQ92,BR92,BS92),IF(Entries!$K$20=2,MIN(BQ92,BR92),IF(Entries!$K$20=1,0,0)))))","v":537},{"$f":"BV92-BW92","v":2264},{"$f":"IF(BX92>1,RANK(BX92,BX$92:BX$101,0),\"\")","v":1},null,null,0,0,0,0,0,null,{"$f":"IF(Entries!$K$20=5,MIN(CB92,CC92,CD92,CE92,CF92),IF(Entries!$K$20=4,MIN(CB92,CC92,CD92,CE92),IF(Entries!$K$20=3,MIN(CB92,CC92,CD92),IF(Entries!$K$20=2,MIN(CB92,CC92),IF(Entries!$K$20=1,0,0)))))","v":0},{"$f":"CG92-CH92","v":0},{"$f":"IF(CI92>1,RANK(CI92,CI$92:CI$101,0),\"\")","v":""},null,"James Floyd",0,0,507,0,510,1017,{"$f":"IF(Entries!$K$20=5,MIN(CM92,CN92,CO92,CP92,CQ92),IF(Entries!$K$20=4,MIN(CM92,CN92,CO92,CP92),IF(Entries!$K$20=3,MIN(CM92,CN92,CO92),IF(Entries!$K$20=2,MIN(CM92,CN92),IF(Entries!$K$20=1,0,0)))))","v":0},{"$f":"CR92-CS92","v":1017},{"$f":"IF(CT92>1,RANK(CT92,CT$92:CT$101,0),\"\")","v":1},null,null,0,0,0,0,0,null,{"$f":"IF(Entries!$K$20=5,MIN(CX92,CY92,CZ92,DA92,DB92),IF(Entries!$K$20=4,MIN(CX92,CY92,CZ92,DA92),IF(Entries!$K$20=3,MIN(CX92,CY92,CZ92),IF(Entries!$K$20=2,MIN(CX92,CY92),IF(Entries!$K$20=1,0,0)))))","v":0},{"$f":"DC92-DD92","v":0},{"$f":"IF(DE92>1,RANK(DE92,DE$92:DE$101,0),\"\")","v":""},null,"Niamh Kenny",529,541,538,543,517,2668,{"$f":"IF(Entries!$K$20=5,MIN(DI92,DJ92,DK92,DL92,DM92),IF(Entries!$K$20=4,MIN(DI92,DJ92,DK92,DL92),IF(Entries!$K$20=3,MIN(DI92,DJ92,DK92),IF(Entries!$K$20=2,MIN(DI92,DJ92),IF(Entries!$K$20=1,0,0)))))","v":517},{"$f":"DN92-DO92","v":2151},{"$f":"IF(DP92>1,RANK(DP92,DP$92:DP$101,0),\"\")","v":1},null,null,0,0,0,0,0,null,{"$f":"IF(Entries!$K$20=5,MIN(DT92,DU92,DV92,DW92,DX92),IF(Entries!$K$20=4,MIN(DT92,DU92,DV92,DW92),IF(Entries!$K$20=3,MIN(DT92,DU92,DV92),IF(Entries!$K$20=2,MIN(DT92,DU92),IF(Entries!$K$20=1,0,0)))))","v":0},{"$f":"DY92-DZ92","v":0},{"$f":"IF(EA92>1,RANK(EA92,EA$92:EA$101,0),\"\")","v":""},null,null,0,0,0,0,0,null,{"$f":"IF(Entries!$K$20=5,MIN(EE92,EF92,EG92,EH92,EI92),IF(Entries!$K$20=4,MIN(EE92,EF92,EG92,EH92),IF(Entries!$K$20=3,MIN(EE92,EF92,EG92),IF(Entries!$K$20=2,MIN(EE92,EF92),IF(Entries!$K$20=1,0,0)))))","v":0},{"$f":"EJ92-EK92","v":0},{"$f":"IF(EL92>1,RANK(EL92,EL$92:EL$101,0),\"\")","v":""},null,null,0,0,0,0,0,null,{"$f":"IF(Entries!$K$20=5,MIN(EP92,EQ92,ER92,ES92,ET92),IF(Entries!$K$20=4,MIN(EP92,EQ92,ER92,ES92),IF(Entries!$K$20=3,MIN(EP92,EQ92,ER92),IF(Entries!$K$20=2,MIN(EP92,EQ92),IF(Entries!$K$20=1,0,0)))))","v":0},{"$f":"EU92-EV92","v":0},{"$f":"IF(EW92>1,RANK(EW92,EW$92:EW$101,0),\"\")","v":""},null,"Devon Long",0,0,520,520,0,1040,{"$f":"IF(Entries!$K$20=5,MIN(FA92,FB92,FC92,FD92,FE92),IF(Entries!$K$20=4,MIN(FA92,FB92,FC92,FD92),IF(Entries!$K$20=3,MIN(FA92,FB92,FC92),IF(Entries!$K$20=2,MIN(FA92,FB92),IF(Entries!$K$20=1,0,0)))))","v":0},{"$f":"FF92-FG92","v":1040},{"$f":"IF(FH92>1,RANK(FH92,FH$92:FH$101,0),\"\")","v":1},null,"Morgan Russell-Cowan",0,0,0,523,0,523,{"$f":"IF(Entries!$K$20=5,MIN(FL92,FM92,FN92,FO92,FP92),IF(Entries!$K$20=4,MIN(FL92,FM92,FN92,FO92),IF(Entries!$K$20=3,MIN(FL92,FM92,FN92),IF(Entries!$K$20=2,MIN(FL92,FM92),IF(Entries!$K$20=1,0,0)))))","v":0},{"$f":"FQ92-FR92","v":523},{"$f":"IF(FS92>1,RANK(FS92,FS$92:FS$101,0),\"\")","v":1},null,null,0,0,0,0,0,null,{"$f":"IF(Entries!$K$20=5,MIN(FW92,FX92,FY92,FZ92,GA92),IF(Entries!$K$20=4,MIN(FW92,FX92,FY92,FZ92),IF(Entries!$K$20=3,MIN(FW92,FX92,FY92),IF(Entries!$K$20=2,MIN(FW92,FX92),IF(Entries!$K$20=1,0,0)))))","v":0},{"$f":"GB92-GC92","v":0},{"$f":"IF(GD92>1,RANK(GD92,GD$92:GD$101,0),\"\")","v":""},null,null,0,0,0,0,0,null,{"$f":"IF(Entries!$K$20=5,MIN(GH92,GI92,GJ92,GK92,GL92),IF(Entries!$K$20=4,MIN(GH92,GI92,GJ92,GK92),IF(Entries!$K$20=3,MIN(GH92,GI92,GJ92),IF(Entries!$K$20=2,MIN(GH92,GI92),IF(Entries!$K$20=1,0,0)))))","v":0},{"$f":"GM92-GN92","v":0},{"$f":"IF(GO92>1,RANK(GO92,GO$92:GO$101,0),\"\")","v":""},null,null,0,0,0,0,0,null,{"$f":"IF(Entries!$K$20=5,MIN(GS92,GT92,GU92,GV92,GW92),IF(Entries!$K$20=4,MIN(GS92,GT92,GU92,GV92),IF(Entries!$K$20=3,MIN(GS92,GT92,GU92),IF(Entries!$K$20=2,MIN(GS92,GT92),IF(Entries!$K$20=1,0,0)))))","v":0},{"$f":"GX92-GY92","v":0},{"$f":"IF(GZ92>1,RANK(GZ92,GZ$92:GZ$101,0),\"\")","v":""},null,null,0,0,0,0,0,null,{"$f":"IF(Entries!$K$20=5,MIN(HD92,HE92,HF92,HG92,HH92),IF(Entries!$K$20=4,MIN(HD92,HE92,HF92,HG92),IF(Entries!$K$20=3,MIN(HD92,HE92,HF92),IF(Entries!$K$20=2,MIN(HD92,HE92),IF(Entries!$K$20=1,0,0)))))","v":0},{"$f":"HI92-HJ92","v":0},{"$f":"IF(HK92>1,RANK(HK92,HK$92:HK$101,0),\"\")","v":""},null,null,0,0,0,0,0,null,{"$f":"IF(Entries!$K$20=5,MIN(HO92,HP92,HQ92,HR92,HS92),IF(Entries!$K$20=4,MIN(HO92,HP92,HQ92,HR92),IF(Entries!$K$20=3,MIN(HO92,HP92,HQ92),IF(Entries!$K$20=2,MIN(HO92,HP92),IF(Entries!$K$20=1,0,0)))))","v":0},{"$f":"HT92-HU92","v":0},{"$f":"IF(HV92>1,RANK(HV92,HV$92:HV$101,0),\"\")","v":""},null,null,0,0,0,0,0,null,{"$f":"IF(Entries!$K$20=5,MIN(HZ92,IA92,IB92,IC92,ID92),IF(Entries!$K$20=4,MIN(HZ92,IA92,IB92,IC92),IF(Entries!$K$20=3,MIN(HZ92,IA92,IB92),IF(Entries!$K$20=2,MIN(HZ92,IA92),IF(Entries!$K$20=1,0,0)))))","v":0},{"$f":"IE92-IF92","v":0},{"$f":"IF(IG92>1,RANK(IG92,IG$92:IG$101,0),\"\")","v":""}]
[null,"Niamh Merry",361,516,523,513,386,2299,{"$f":"IF(Entries!$K$20=5,MIN(C93,D93,E93,F93,G93),IF(Entries!$K$20=4,MIN(C93,D93,E93,F93),IF(Entries!$K$20=3,MIN(C93,D93,E93),IF(Entries!$K$20=2,MIN(C93,D93),IF(Entries!$K$20=1,0,0)))))","v":361},{"$f":"H93-I93","v":1938},{"$f":"IF(J93>1,RANK(J93,J$92:J$101,0),\"\")","v":3},null,null,0,0,0,0,0,null,{"$f":"IF(Entries!$K$20=5,MIN(N93,O93,P93,Q93,R93),IF(Entries!$K$20=4,MIN(N93,O93,P93,Q93),IF(Entries!$K$20=3,MIN(N93,O93,P93),IF(Entries!$K$20=2,MIN(N93,O93),IF(Entries!$K$20=1,0,0)))))","v":0},{"$f":"S93-T93","v":0},{"$f":"IF(U93>1,RANK(U93,U$92:U$101,0),\"\")","v":""},null,null,0,0,0,0,0,null,{"$f":"IF(Entries!$K$20=5,MIN(Y93,Z93,AA93,AB93,AC93),IF(Entries!$K$20=4,MIN(Y93,Z93,AA93,AB93),IF(Entries!$K$20=3,MIN(Y93,Z93,AA93),IF(Entries!$K$20=2,MIN(Y93,Z93),IF(Entries!$K$20=1,0,0)))))","v":0},{"$f":"AD93-AE93","v":0},{"$f":"IF(AF93>1,RANK(AF93,AF$92:AF$101,0),\"\")","v":""},null,null,0,0,0,0,0,null,{"$f":"IF(Entries!$K$20=5,MIN(AJ93,AK93,AL93,AM93,AN93),IF(Entries!$K$20=4,MIN(AJ93,AK93,AL93,AM93),IF(Entries!$K$20=3,MIN(AJ93,AK93,AL93),IF(Entries!$K$20=2,MIN(AJ93,AK93),IF(Entries!$K$20=1,0,0)))))","v":0},{"$f":"AO93-AP93","v":0},{"$f":"IF(AQ93>1,RANK(AQ93,AQ$92:AQ$101,0),\"\")","v":""},null,"Brendan Browne",532,0,548,545,547,2172,{"$f":"IF(Entries!$K$20=5,MIN(AU93,AV93,AW93,AX93,AY93),IF(Entries!$K$20=4,MIN(AU93,AV93,AW93,AX93),IF(Entries!$K$20=3,MIN(AU93,AV93,AW93),IF(Entries!$K$20=2,MIN(AU93,AV93),IF(Entries!$K$20=1,0,0)))))","v":0},{"$f":"AZ93-BA93","v":2172},{"$f":"IF(BB93>1,RANK(BB93,BB$92:BB$101,0),\"\")","v":2},null,null,0,0,0,0,0,null,{"$f":"IF(Entries!$K$20=5,MIN(BF93,BG93,BH93,BI93,BJ93),IF(Entries!$K$20=4,MIN(BF93,BG93,BH93,BI93),IF(Entries!$K$20=3,MIN(BF93,BG93,BH93),IF(Entries!$K$20=2,MIN(BF93,BG93),IF(Entries!$K$20=1,0,0)))))","v":0},{"$f":"BK93-BL93","v":0},{"$f":"IF(BM93>1,RANK(BM93,BM$92:BM$101,0),\"\")","v":""},null,null,0,0,0,0,0,null,{"$f":"IF(Entries!$K$20=5,MIN(BQ93,BR93,BS93,BT93,BU93),IF(Entries!$K$20=4,MIN(BQ93,BR93,BS93,BT93),IF(Entries!$K$20=3,MIN(BQ93,BR93,BS93),IF(Entries!$K$20=2,MIN(BQ93,BR93),IF(Entries!$K$20=1,0,0)))))","v":0},{"$f":"BV93-BW93","v":0},{"$f":"IF(BX93>1,RANK(BX93,BX$92:BX$101,0),\"\")","v":""},null,null,0,0,0,0,0,null,{"$f":"IF(Entries!$K$20=5,MIN(CB93,CC93,CD93,CE93,CF93),IF(Entries!$K$20=4,MIN(CB93,CC93,CD93,CE93),IF(Entries!$K$20=3,MIN(CB93,CC93,CD93),IF(Entries!$K$20=2,MIN(CB93,CC93),IF(Entries!$K$20=1,0,0)))))","v":0},{"$f":"CG93-CH93","v":0},{"$f":"IF(CI93>1,RANK(CI93,CI$92:CI$101,0),\"\")","v":""},null,"Kerrie Leonard",537,0,0,0,0,537,{"$f":"IF(Entries!$K$20=5,MIN(CM93,CN93,CO93,CP93,CQ93),IF(Entries!$K$20=4,MIN(CM93,CN93,CO93,CP93),IF(Entries!$K$20=3,MIN(CM93,CN93,CO93),IF(Entries!$K$20=2,MIN(CM93,CN93),IF(Entries!$K$20=1,0,0)))))","v":0},{"$f":"CR93-CS93","v":537},{"$f":"IF(CT93>1,RANK(CT93,CT$92:CT$101,0),\"\")","v":2},null,null,0,0,0,0,0,null,{"$f":"IF(Entries!$K$20=5,MIN(CX93,CY93,CZ93,DA93,DB93),IF(Entries!$K$20=4,MIN(CX93,CY93,CZ93,DA93),IF(Entries!$K$20=3,MIN(CX93,CY93,CZ93),IF(Entries!$K$20=2,MIN(CX93,CY93),IF(Entries!$K$20=1,0,0)))))","v":0},{"$f":"DC93-DD93","v":0},{"$f":"IF(DE93>1,RANK(DE93,DE$92:DE$101,0),\"\")","v":""},null,"Joao Vitor",380,0,405,430,495,1710,{"$f":"IF(Entries!$K$20=5,MIN(DI93,DJ93,DK93,DL93,DM93),IF(Entries!$K$20=4,MIN(DI93,DJ93,DK93,DL93),IF(Entries!$K$20=3,MIN(DI93,DJ93,DK93),IF(Entries!$K$20=2,MIN(DI93,DJ93),IF(Entries!$K$20=1,0,0)))))","v":0},{"$f":"DN93-DO93","v":1710},{"$f":"IF(DP93>1,RANK(DP93,DP$92:DP$101,0),\"\")","v":2},null,null,0,0,0,0,0,null,{"$f":"IF(Entries!$K$20=5,MIN(DT93,DU93,DV93,DW93,DX93),IF(Entries!$K$20=4,MIN(DT93,DU93,DV93,DW93),IF(Entries!$K$20=3,MIN(DT93,DU93,DV93),IF(Entries!$K$20=2,MIN(DT93,DU93),IF(Entries!$K$20=1,0,0)))))","v":0},{"$f":"DY93-DZ93","v":0},{"$f":"IF(EA93>1,RANK(EA93,EA$92:EA$101,0),\"\")","v":""},null,null,0,0,0,0,0,null,{"$f":"IF(Entries!$K$20=5,MIN(EE93,EF93,EG93,EH93,EI93),IF(Entries!$K$20=4,MIN(EE93,EF93,EG93,EH93),IF(Entries!$K$20=3,MIN(EE93,EF93,EG93),IF(Entries!$K$20=2,MIN(EE93,EF93),IF(Entries!$K$20=1,0,0)))))","v":0},{"$f":"EJ93-EK93","v":0},{"$f":"IF(EL93>1,RANK(EL93,EL$92:EL$101,0),\"\")","v":""},null,null,0,0,0,0,0,null,{"$f":"IF(Entries!$K$20=5,MIN(EP93,EQ93,ER93,ES93,ET93),IF(Entries!$K$20=4,MIN(EP93,EQ93,ER93,ES93),IF(Entries!$K$20=3,MIN(EP93,EQ93,ER93),IF(Entries!$K$20=2,MIN(EP93,EQ93),IF(Entries!$K$20=1,0,0)))))","v":0},{"$f":"EU93-EV93","v":0},"",null,null,0,0,0,0,0,null,{"$f":"IF(Entries!$K$20=5,MIN(FA93,FB93,FC93,FD93,FE93),IF(Entries!$K$20=4,MIN(FA93,FB93,FC93,FD93),IF(Entries!$K$20=3,MIN(FA93,FB93,FC93),IF(Entries!$K$20=2,MIN(FA93,FB93),IF(Entries!$K$20=1,0,0)))))","v":0},{"$f":"FF93-FG93","v":0},{"$f":"IF(FH93>1,RANK(FH93,FH$92:FH$101,0),\"\")","v":""},null,"Ross McQuade",0,0,0,261,0,261,{"$f":"IF(Entries!$K$20=5,MIN(FL93,FM93,FN93,FO93,FP93),IF(Entries!$K$20=4,MIN(FL93,FM93,FN93,FO93),IF(Entries!$K$20=3,MIN(FL93,FM93,FN93),IF(Entries!$K$20=2,MIN(FL93,FM93),IF(Entries!$K$20=1,0,0)))))","v":0},{"$f":"FQ93-FR93","v":261},{"$f":"IF(FS93>1,RANK(FS93,FS$92:FS$101,0),\"\")","v":2},null,null,0,0,0,0,0,null,{"$f":"IF(Entries!$K$20=5,MIN(FW93,FX93,FY93,FZ93,GA93),IF(Entries!$K$20=4,MIN(FW93,FX93,FY93,FZ93),IF(Entries!$K$20=3,MIN(FW93,FX93,FY93),IF(Entries!$K$20=2,MIN(FW93,FX93),IF(Entries!$K$20=1,0,0)))))","v":0},{"$f":"GB93-GC93","v":0},{"$f":"IF(GD93>1,RANK(GD93,GD$92:GD$101,0),\"\")","v":""},null,null,0,0,0,0,0,null,{"$f":"IF(Entries!$K$20=5,MIN(GH93,GI93,GJ93,GK93,GL93),IF(Entries!$K$20=4,MIN(GH93,GI93,GJ93,GK93),IF(Entries!$K$20=3,MIN(GH93,GI93,GJ93),IF(Entries!$K$20=2,MIN(GH93,GI93),IF(Entries!$K$20=1,0,0)))))","v":0},{"$f":"GM93-GN93","v":0},{"$f":"IF(GO93>1,RANK(GO93,GO$92:GO$101,0),\"\")","v":""},null,null,0,0,0,0,0,null,{"$f":"IF(Entries!$K$20=5,MIN(GS93,GT93,GU93,GV93,GW93),IF(Entries!$K$20=4,MIN(GS93,GT93,GU93,GV93),IF(Entries!$K$20=3,MIN(GS93,GT93,GU93),IF(Entries!$K$20=2,MIN(GS93,GT93),IF(Entries!$K$20=1,0,0)))))","v":0},{"$f":"GX93-GY93","v":0},{"$f":"IF(GZ93>1,RANK(GZ93,GZ$92:GZ$101,0),\"\")","v":""},null,null,0,0,0,0,0,null,{"$f":"IF(Entries!$K$20=5,MIN(HD93,HE93,HF93,HG93,HH93),IF(Entries!$K$20=4,MIN(HD93,HE93,HF93,HG93),IF(Entries!$K$20=3,MIN(HD93,HE93,HF93),IF(Entries!$K$20=2,MIN(HD93,HE93),IF(Entries!$K$20=1,0,0)))))","v":0},{"$f":"HI93-HJ93","v":0},{"$f":"IF(HK93>1,RANK(HK93,HK$92:HK$101,0),\"\")","v":""},null,null,0,0,0,0,0,null,{"$f":"IF(Entries!$K$20=5,MIN(HO93,HP93,HQ93,HR93,HS93),IF(Entries!$K$20=4,MIN(HO93,HP93,HQ93,HR93),IF(Entries!$K$20=3,MIN(HO93,HP93,HQ93),IF(Entries!$K$20=2,MIN(HO93,HP93),IF(Entries!$K$20=1,0,0)))))","v":0},{"$f":"HT93-HU93","v":0},{"$f":"IF(HV93>1,RANK(HV93,HV$92:HV$101,0),\"\")","v":""},null,null,0,0,0,0,0,null,{"$f":"IF(Entries!$K$20=5,MIN(HZ93,IA93,IB93,IC93,ID93),IF(Entries!$K$20=4,MIN(HZ93,IA93,IB93,IC93),IF(Entries!$K$20=3,MIN(HZ93,IA93,IB93),IF(Entries!$K$20=2,MIN(HZ93,IA93),IF(Entries!$K$20=1,0,0)))))","v":0},{"$f":"IE93-IF93","v":0},{"$f":"IF(IG93>1,RANK(IG93,IG$92:IG$101,0),\"\")","v":""}]
[null,"Luke Oonan",265,394,497,520,506,2182,{"$f":"IF(Entries!$K$20=5,MIN(C94,D94,E94,F94,G94),IF(Entries!$K$20=4,MIN(C94,D94,E94,F94),IF(Entries!$K$20=3,MIN(C94,D94,E94),IF(Entries!$K$20=2,MIN(C94,D94),IF(Entries!$K$20=1,0,0)))))","v":265},1917,4,null,null,0,0,0,0,0,null,{"$f":"IF(Entries!$K$20=5,MIN(N94,O94,P94,Q94,R94),IF(Entries!$K$20=4,MIN(N94,O94,P94,Q94),IF(Entries!$K$20=3,MIN(N94,O94,P94),IF(Entries!$K$20=2,MIN(N94,O94),IF(Entries!$K$20=1,0,0)))))","v":0},0,"",null,null,0,0,0,0,0,null,{"$f":"IF(Entries!$K$20=5,MIN(Y94,Z94,AA94,AB94,AC94),IF(Entries!$K$20=4,MIN(Y94,Z94,AA94,AB94),IF(Entries!$K$20=3,MIN(Y94,Z94,AA94),IF(Entries!$K$20=2,MIN(Y94,Z94),IF(Entries!$K$20=1,0,0)))))","v":0},0,"",null,null,0,0,0,0,0,null,{"$f":"IF(Entries!$K$20=5,MIN(AJ94,AK94,AL94,AM94,AN94),IF(Entries!$K$20=4,MIN(AJ94,AK94,AL94,AM94),IF(Entries!$K$20=3,MIN(AJ94,AK94,AL94),IF(Entries!$K$20=2,MIN(AJ94,AK94),IF(Entries!$K$20=1,0,0)))))","v":0},0,"",null,"Eimhin Gaynor",0,0,0,559,566,1125,{"$f":"IF(Entries!$K$20=5,MIN(AU94,AV94,AW94,AX94,AY94),IF(Entries!$K$20=4,MIN(AU94,AV94,AW94,AX94),IF(Entries!$K$20=3,MIN(AU94,AV94,AW94),IF(Entries!$K$20=2,MIN(AU94,AV94),IF(Entries!$K$20=1,0,0)))))","v":0},1125,3,null,null,0,0,0,0,0,null,{"$f":"IF(Entries!$K$20=5,MIN(BF94,BG94,BH94,BI94,BJ94),IF(Entries!$K$20=4,MIN(BF94,BG94,BH94,BI94),IF(Entries!$K$20=3,MIN(BF94,BG94,BH94),IF(Entries!$K$20=2,MIN(BF94,BG94),IF(Entries!$K$20=1,0,0)))))","v":0},0,"",null,null,0,0,0,0,0,null,{"$f":"IF(Entries!$K$20=5,MIN(BQ94,BR94,BS94,BT94,BU94),IF(Entries!$K$20=4,MIN(BQ94,BR94,BS94,BT94),IF(Entries!$K$20=3,MIN(BQ94,BR94,BS94),IF(Entries!$K$20=2,MIN(BQ94,BR94),IF(Entries!$K$20=1,0,0)))))","v":0},0,"",null,null,0,0,0,0,0,null,{"$f":"IF(Entries!$K$20=5,MIN(CB94,CC94,CD94,CE94,CF94),IF(Entries!$K$20=4,MIN(CB94,CC94,CD94,CE94),IF(Entries!$K$20=3,MIN(CB94,CC94,CD94),IF(Entries!$K$20=2,MIN(CB94,CC94),IF(Entries!$K$20=1,0,0)))))","v":0},0,"",null,null,0,0,0,0,0,null,{"$f":"IF(Entries!$K$20=5,MIN(CM94,CN94,CO94,CP94,CQ94),IF(Entries!$K$20=4,MIN(CM94,CN94,CO94,CP94),IF(Entries!$K$20=3,MIN(CM94,CN94,CO94),IF(Entries!$K$20=2,MIN(CM94,CN94),IF(Entries!$K$20=1,0,0)))))","v":0},0,"",null,null,0,0,0,0,0,null,{"$f":"IF(Entries!$K$20=5,MIN(CX94,CY94,CZ94,DA94,DB94),IF(Entries!$K$20=4,MIN(CX94,CY94,CZ94,DA94),IF(Entries!$K$20=3,MIN(CX94,CY94,CZ94),IF(Entries!$K$20=2,MIN(CX94,CY94),IF(Entries!$K$20=1,0,0)))))","v":0},0,"",null,"Christopher Ryan",565,549,0,0,561,1675,{"$f":"IF(Entries!$K$20=5,MIN(DI94,DJ94,DK94,DL94,DM94),IF(Entries!$K$20=4,MIN(DI94,DJ94,DK94,DL94),IF(Entries!$K$20=3,MIN(DI94,DJ94,DK94),IF(Entries!$K$20=2,MIN(DI94,DJ94),IF(Entries!$K$20=1,0,0)))))","v":0},1675,3,null,null,0,0,0,0,0,null,{"$f":"IF(Entries!$K$20=5,MIN(DT94,DU94,DV94,DW94,DX94),IF(Entries!$K$20=4,MIN(DT94,DU94,DV94,DW94),IF(Entries!$K$20=3,MIN(DT94,DU94,DV94),IF(Entries!$K$20=2,MIN(DT94,DU94),IF(Entries!$K$20=1,0,0)))))","v":0},0,"",null,null,0,0,0,0,0,null,{"$f":"IF(Entries!$K$20=5,MIN(EE94,EF94,EG94,EH94,EI94),IF(Entries!$K$20=4,MIN(EE94,EF94,EG94,EH94),IF(Entries!$K$20=3,MIN(EE94,EF94,EG94),IF(Entries!$K$20=2,MIN(EE94,EF94),IF(Entries!$K$20=1,0,0)))))","v":0},0,"",null,null,0,0,0,0,0,null,{"$f":"IF(Entries!$K$20=5,MIN(EP94,EQ94,ER94,ES94,ET94),IF(Entries!$K$20=4,MIN(EP94,EQ94,ER94,ES94),IF(Entries!$K$20=3,MIN(EP94,EQ94,ER94),IF(Entries!$K$20=2,MIN(EP94,EQ94),IF(Entries!$K$20=1,0,0)))))","v":0},0,"",null,null,0,0,0,0,0,null,{"$f":"IF(Entries!$K$20=5,MIN(FA94,FB94,FC94,FD94,FE94),IF(Entries!$K$20=4,MIN(FA94,FB94,FC94,FD94),IF(Entries!$K$20=3,MIN(FA94,FB94,FC94),IF(Entries!$K$20=2,MIN(FA94,FB94),IF(Entries!$K$20=1,0,0)))))","v":0},0,"",null,null,0,0,0,0,0,null,{"$f":"IF(Entries!$K$20=5,MIN(FL94,FM94,FN94,FO94,FP94),IF(Entries!$K$20=4,MIN(FL94,FM94,FN94,FO94),IF(Entries!$K$20=3,MIN(FL94,FM94,FN94),IF(Entries!$K$20=2,MIN(FL94,FM94),IF(Entries!$K$20=1,0,0)))))","v":0},0,"",null,null,0,0,0,0,0,null,{"$f":"IF(Entries!$K$20=5,MIN(FW94,FX94,FY94,FZ94,GA94),IF(Entries!$K$20=4,MIN(FW94,FX94,FY94,FZ94),IF(Entries!$K$20=3,MIN(FW94,FX94,FY94),IF(Entries!$K$20=2,MIN(FW94,FX94),IF(Entries!$K$20=1,0,0)))))","v":0},0,"",null,null,0,0,0,0,0,null,{"$f":"IF(Entries!$K$20=5,MIN(GH94,GI94,GJ94,GK94,GL94),IF(Entries!$K$20=4,MIN(GH94,GI94,GJ94,GK94),IF(Entries!$K$20=3,MIN(GH94,GI94,GJ94),IF(Entries!$K$20=2,MIN(GH94,GI94),IF(Entries!$K$20=1,0,0)))))","v":0},0,"",null,null,0,0,0,0,0,null,{"$f":"IF(Entries!$K$20=5,MIN(GS94,GT94,GU94,GV94,GW94),IF(Entries!$K$20=4,MIN(GS94,GT94,GU94,GV94),IF(Entries!$K$20=3,MIN(GS94,GT94,GU94),IF(Entries!$K$20=2,MIN(GS94,GT94),IF(Entries!$K$20=1,0,0)))))","v":0},0,"",null,null,0,0,0,0,0,null,{"$f":"IF(Entries!$K$20=5,MIN(HD94,HE94,HF94,HG94,HH94),IF(Entries!$K$20=4,MIN(HD94,HE94,HF94,HG94),IF(Entries!$K$20=3,MIN(HD94,HE94,HF94),IF(Entries!$K$20=2,MIN(HD94,HE94),IF(Entries!$K$20=1,0,0)))))","v":0},0,"",null,null,0,0,0,0,0,null,{"$f":"IF(Entries!$K$20=5,MIN(HO94,HP94,HQ94,HR94,HS94),IF(Entries!$K$20=4,MIN(HO94,HP94,HQ94,HR94),IF(Entries!$K$20=3,MIN(HO94,HP94,HQ94),IF(Entries!$K$20=2,MIN(HO94,HP94),IF(Entries!$K$20=1,0,0)))))","v":0},0,"",null,null,0,0,0,0,0,null,{"$f":"IF(Entries!$K$20=5,MIN(HZ94,IA94,IB94,IC94,ID94),IF(Entries!$K$20=4,MIN(HZ94,IA94,IB94,IC94),IF(Entries!$K$20=3,MIN(HZ94,IA94,IB94),IF(Entries!$K$20=2,MIN(HZ94,IA94),IF(Entries!$K$20=1,0,0)))))","v":0},0,""]
[null,"Beth Freeman",494,517,0,526,517,2054,{"$f":"IF(Entries!$K$20=5,MIN(C95,D95,E95,F95,G95),IF(Entries!$K$20=4,MIN(C95,D95,E95,F95),IF(Entries!$K$20=3,MIN(C95,D95,E95),IF(Entries!$K$20=2,MIN(C95,D95),IF(Entries!$K$20=1,0,0)))))","v":0},2054,2,null,null,null,null,null,null,null,null,{"$f":"IF(Entries!$K$20=5,MIN(N95,O95,P95,Q95,R95),IF(Entries!$K$20=4,MIN(N95,O95,P95,Q95),IF(Entries!$K$20=3,MIN(N95,O95,P95),IF(Entries!$K$20=2,MIN(N95,O95),IF(Entries!$K$20=1,0,0)))))","v":0},0,"",null,null,null,null,null,null,null,null,{"$f":"IF(Entries!$K$20=5,MIN(Y95,Z95,AA95,AB95,AC95),IF(Entries!$K$20=4,MIN(Y95,Z95,AA95,AB95),IF(Entries!$K$20=3,MIN(Y95,Z95,AA95),IF(Entries!$K$20=2,MIN(Y95,Z95),IF(Entries!$K$20=1,0,0)))))","v":0},0,"",null,null,null,null,null,null,null,null,{"$f":"IF(Entries!$K$20=5,MIN(AJ95,AK95,AL95,AM95,AN95),IF(Entries!$K$20=4,MIN(AJ95,AK95,AL95,AM95),IF(Entries!$K$20=3,MIN(AJ95,AK95,AL95),IF(Entries!$K$20=2,MIN(AJ95,AK95),IF(Entries!$K$20=1,0,0)))))","v":0},0,"",null,"Shane McGloin",0,0,538,548,0,1086,{"$f":"IF(Entries!$K$20=5,MIN(AU95,AV95,AW95,AX95,AY95),IF(Entries!$K$20=4,MIN(AU95,AV95,AW95,AX95),IF(Entries!$K$20=3,MIN(AU95,AV95,AW95),IF(Entries!$K$20=2,MIN(AU95,AV95),IF(Entries!$K$20=1,0,0)))))","v":0},1086,4,null,null,null,null,null,null,null,null,{"$f":"IF(Entries!$K$20=5,MIN(BF95,BG95,BH95,BI95,BJ95),IF(Entries!$K$20=4,MIN(BF95,BG95,BH95,BI95),IF(Entries!$K$20=3,MIN(BF95,BG95,BH95),IF(Entries!$K$20=2,MIN(BF95,BG95),IF(Entries!$K$20=1,0,0)))))","v":0},0,"",null,null,null,null,null,null,null,null,{"$f":"IF(Entries!$K$20=5,MIN(BQ95,BR95,BS95,BT95,BU95),IF(Entries!$K$20=4,MIN(BQ95,BR95,BS95,BT95),IF(Entries!$K$20=3,MIN(BQ95,BR95,BS95),IF(Entries!$K$20=2,MIN(BQ95,BR95),IF(Entries!$K$20=1,0,0)))))","v":0},0,"",null,null,null,null,null,null,null,null,{"$f":"IF(Entries!$K$20=5,MIN(CB95,CC95,CD95,CE95,CF95),IF(Entries!$K$20=4,MIN(CB95,CC95,CD95,CE95),IF(Entries!$K$20=3,MIN(CB95,CC95,CD95),IF(Entries!$K$20=2,MIN(CB95,CC95),IF(Entries!$K$20=1,0,0)))))","v":0},0,"",null,null,null,null,null,null,null,null,{"$f":"IF(Entries!$K$20=5,MIN(CM95,CN95,CO95,CP95,CQ95),IF(Entries!$K$20=4,MIN(CM95,CN95,CO95,CP95),IF(Entries!$K$20=3,MIN(CM95,CN95,CO95),IF(Entries!$K$20=2,MIN(CM95,CN95),IF(Entries!$K$20=1,0,0)))))","v":0},0,"",null,null,null,null,null,null,null,null,{"$f":"IF(Entries!$K$20=5,MIN(CX95,CY95,CZ95,DA95,DB95),IF(Entries!$K$20=4,MIN(CX95,CY95,CZ95,DA95),IF(Entries!$K$20=3,MIN(CX95,CY95,CZ95),IF(Entries!$K$20=2,MIN(CX95,CY95),IF(Entries!$K$20=1,0,0)))))","v":0},0,"",null,"Carl Byrne",0,0,560,0,0,560,{"$f":"IF(Entries!$K$20=5,MIN(DI95,DJ95,DK95,DL95,DM95),IF(Entries!$K$20=4,MIN(DI95,DJ95,DK95,DL95),IF(Entries!$K$20=3,MIN(DI95,DJ95,DK95),IF(Entries!$K$20=2,MIN(DI95,DJ95),IF(Entries!$K$20=1,0,0)))))","v":0},560,4,null,null,null,null,null,null,null,null,{"$f":"IF(Entries!$K$20=5,MIN(DT95,DU95,DV95,DW95,DX95),IF(Entries!$K$20=4,MIN(DT95,DU95,DV95,DW95),IF(Entries!$K$20=3,MIN(DT95,DU95,DV95),IF(Entries!$K$20=2,MIN(DT95,DU95),IF(Entries!$K$20=1,0,0)))))","v":0},0,"",null,null,null,null,null,null,null,null,{"$f":"IF(Entries!$K$20=5,MIN(EE95,EF95,EG95,EH95,EI95),IF(Entries!$K$20=4,MIN(EE95,EF95,EG95,EH95),IF(Entries!$K$20=3,MIN(EE95,EF95,EG95),IF(Entries!$K$20=2,MIN(EE95,EF95),IF(Entries!$K$20=1,0,0)))))","v":0},0,"",null,null,null,null,null,null,null,null,{"$f":"IF(Entries!$K$20=5,MIN(EP95,EQ95,ER95,ES95,ET95),IF(Entries!$K$20=4,MIN(EP95,EQ95,ER95,ES95),IF(Entries!$K$20=3,MIN(EP95,EQ95,ER95),IF(Entries!$K$20=2,MIN(EP95,EQ95),IF(Entries!$K$20=1,0,0)))))","v":0},0,"",null,null,null,null,null,null,null,null,{"$f":"IF(Entries!$K$20=5,MIN(FA95,FB95,FC95,FD95,FE95),IF(Entries!$K$20=4,MIN(FA95,FB95,FC95,FD95),IF(Entries!$K$20=3,MIN(FA95,FB95,FC95),IF(Entries!$K$20=2,MIN(FA95,FB95),IF(Entries!$K$20=1,0,0)))))","v":0},0,"",null,null,null,null,null,null,null,null,{"$f":"IF(Entries!$K$20=5,MIN(FL95,FM95,FN95,FO95,FP95),IF(Entries!$K$20=4,MIN(FL95,FM95,FN95,FO95),IF(Entries!$K$20=3,MIN(FL95,FM95,FN95),IF(Entries!$K$20=2,MIN(FL95,FM95),IF(Entries!$K$20=1,0,0)))))","v":0},0,"",null,null,null,null,null,null,null,null,{"$f":"IF(Entries!$K$20=5,MIN(FW95,FX95,FY95,FZ95,GA95),IF(Entries!$K$20=4,MIN(FW95,FX95,FY95,FZ95),IF(Entries!$K$20=3,MIN(FW95,FX95,FY95),IF(Entries!$K$20=2,MIN(FW95,FX95),IF(Entries!$K$20=1,0,0)))))","v":0},0,"",null,null,null,null,null,null,null,null,{"$f":"IF(Entries!$K$20=5,MIN(GH95,GI95,GJ95,GK95,GL95),IF(Entries!$K$20=4,MIN(GH95,GI95,GJ95,GK95),IF(Entries!$K$20=3,MIN(GH95,GI95,GJ95),IF(Entries!$K$20=2,MIN(GH95,GI95),IF(Entries!$K$20=1,0,0)))))","v":0},0,"",null,null,null,null,null,null,null,null,{"$f":"IF(Entries!$K$20=5,MIN(GS95,GT95,GU95,GV95,GW95),IF(Entries!$K$20=4,MIN(GS95,GT95,GU95,GV95),IF(Entries!$K$20=3,MIN(GS95,GT95,GU95),IF(Entries!$K$20=2,MIN(GS95,GT95),IF(Entries!$K$20=1,0,0)))))","v":0},0,"",null,null,null,null,null,null,null,null,{"$f":"IF(Entries!$K$20=5,MIN(HD95,HE95,HF95,HG95,HH95),IF(Entries!$K$20=4,MIN(HD95,HE95,HF95,HG95),IF(Entries!$K$20=3,MIN(HD95,HE95,HF95),IF(Entries!$K$20=2,MIN(HD95,HE95),IF(Entries!$K$20=1,0,0)))))","v":0},0,"",null,null,null,null,null,null,null,null,{"$f":"IF(Entries!$K$20=5,MIN(HO95,HP95,HQ95,HR95,HS95),IF(Entries!$K$20=4,MIN(HO95,HP95,HQ95,HR95),IF(Entries!$K$20=3,MIN(HO95,HP95,HQ95),IF(Entries!$K$20=2,MIN(HO95,HP95),IF(Entries!$K$20=1,0,0)))))","v":0},0,"",null,null,null,null,null,null,null,null,{"$f":"IF(Entries!$K$20=5,MIN(HZ95,IA95,IB95,IC95,ID95),IF(Entries!$K$20=4,MIN(HZ95,IA95,IB95,IC95),IF(Entries!$K$20=3,MIN(HZ95,IA95,IB95),IF(Entries!$K$20=2,MIN(HZ95,IA95),IF(Entries!$K$20=1,0,0)))))","v":0},0,""]
[null,null,null,null,null,null,null,null,{"$f":"IF(Entries!$K$20=5,MIN(C96,D96,E96,F96,G96),IF(Entries!$K$20=4,MIN(C96,D96,E96,F96),IF(Entries!$K$20=3,MIN(C96,D96,E96),IF(Entries!$K$20=2,MIN(C96,D96),IF(Entries!$K$20=1,0,0)))))","v":0},0,"",null,null,null,null,null,null,null,null,{"$f":"IF(Entries!$K$20=5,MIN(N96,O96,P96,Q96,R96),IF(Entries!$K$20=4,MIN(N96,O96,P96,Q96),IF(Entries!$K$20=3,MIN(N96,O96,P96),IF(Entries!$K$20=2,MIN(N96,O96),IF(Entries!$K$20=1,0,0)))))","v":0},0,"",null,null,null,null,null,null,null,null,{"$f":"IF(Entries!$K$20=5,MIN(Y96,Z96,AA96,AB96,AC96),IF(Entries!$K$20=4,MIN(Y96,Z96,AA96,AB96),IF(Entries!$K$20=3,MIN(Y96,Z96,AA96),IF(Entries!$K$20=2,MIN(Y96,Z96),IF(Entries!$K$20=1,0,0)))))","v":0},0,"",null,null,null,null,null,null,null,null,{"$f":"IF(Entries!$K$20=5,MIN(AJ96,AK96,AL96,AM96,AN96),IF(Entries!$K$20=4,MIN(AJ96,AK96,AL96,AM96),IF(Entries!$K$20=3,MIN(AJ96,AK96,AL96),IF(Entries!$K$20=2,MIN(AJ96,AK96),IF(Entries!$K$20=1,0,0)))))","v":0},0,"",null,null,null,null,null,null,null,null,{"$f":"IF(Entries!$K$20=5,MIN(AU96,AV96,AW96,AX96,AY96),IF(Entries!$K$20=4,MIN(AU96,AV96,AW96,AX96),IF(Entries!$K$20=3,MIN(AU96,AV96,AW96),IF(Entries!$K$20=2,MIN(AU96,AV96),IF(Entries!$K$20=1,0,0)))))","v":0},0,"",null,null,null,null,null,null,null,null,{"$f":"IF(Entries!$K$20=5,MIN(BF96,BG96,BH96,BI96,BJ96),IF(Entries!$K$20=4,MIN(BF96,BG96,BH96,BI96),IF(Entries!$K$20=3,MIN(BF96,BG96,BH96),IF(Entries!$K$20=2,MIN(BF96,BG96),IF(Entries!$K$20=1,0,0)))))","v":0},0,"",null,null,null,null,null,null,null,null,{"$f":"IF(Entries!$K$20=5,MIN(BQ96,BR96,BS96,BT96,BU96),IF(Entries!$K$20=4,MIN(BQ96,BR96,BS96,BT96),IF(Entries!$K$20=3,MIN(BQ96,BR96,BS96),IF(Entries!$K$20=2,MIN(BQ96,BR96),IF(Entries!$K$20=1,0,0)))))","v":0},0,"",null,null,null,null,null,null,null,null,{"$f":"IF(Entries!$K$20=5,MIN(CB96,CC96,CD96,CE96,CF96),IF(Entries!$K$20=4,MIN(CB96,CC96,CD96,CE96),IF(Entries!$K$20=3,MIN(CB96,CC96,CD96),IF(Entries!$K$20=2,MIN(CB96,CC96),IF(Entries!$K$20=1,0,0)))))","v":0},0,"",null,null,null,null,null,null,null,null,{"$f":"IF(Entries!$K$20=5,MIN(CM96,CN96,CO96,CP96,CQ96),IF(Entries!$K$20=4,MIN(CM96,CN96,CO96,CP96),IF(Entries!$K$20=3,MIN(CM96,CN96,CO96),IF(Entries!$K$20=2,MIN(CM96,CN96),IF(Entries!$K$20=1,0,0)))))","v":0},0,"",null,null,null,null,null,null,null,null,{"$f":"IF(Entries!$K$20=5,MIN(CX96,CY96,CZ96,DA96,DB96),IF(Entries!$K$20=4,MIN(CX96,CY96,CZ96,DA96),IF(Entries!$K$20=3,MIN(CX96,CY96,CZ96),IF(Entries!$K$20=2,MIN(CX96,CY96),IF(Entries!$K$20=1,0,0)))))","v":0},0,"",null,null,null,null,null,null,null,null,{"$f":"IF(Entries!$K$20=5,MIN(DI96,DJ96,DK96,DL96,DM96),IF(Entries!$K$20=4,MIN(DI96,DJ96,DK96,DL96),IF(Entries!$K$20=3,MIN(DI96,DJ96,DK96),IF(Entries!$K$20=2,MIN(DI96,DJ96),IF(Entries!$K$20=1,0,0)))))","v":0},0,"",null,null,null,null,null,null,null,null,{"$f":"IF(Entries!$K$20=5,MIN(DT96,DU96,DV96,DW96,DX96),IF(Entries!$K$20=4,MIN(DT96,DU96,DV96,DW96),IF(Entries!$K$20=3,MIN(DT96,DU96,DV96),IF(Entries!$K$20=2,MIN(DT96,DU96),IF(Entries!$K$20=1,0,0)))))","v":0},0,"",null,null,null,null,null,null,null,null,{"$f":"IF(Entries!$K$20=5,MIN(EE96,EF96,EG96,EH96,EI96),IF(Entries!$K$20=4,MIN(EE96,EF96,EG96,EH96),IF(Entries!$K$20=3,MIN(EE96,EF96,EG96),IF(Entries!$K$20=2,MIN(EE96,EF96),IF(Entries!$K$20=1,0,0)))))","v":0},0,"",null,null,null,null,null,null,null,null,{"$f":"IF(Entries!$K$20=5,MIN(EP96,EQ96,ER96,ES96,ET96),IF(Entries!$K$20=4,MIN(EP96,EQ96,ER96,ES96),IF(Entries!$K$20=3,MIN(EP96,EQ96,ER96),IF(Entries!$K$20=2,MIN(EP96,EQ96),IF(Entries!$K$20=1,0,0)))))","v":0},0,"",null,null,null,null,null,null,null,null,{"$f":"IF(Entries!$K$20=5,MIN(FA96,FB96,FC96,FD96,FE96),IF(Entries!$K$20=4,MIN(FA96,FB96,FC96,FD96),IF(Entries!$K$20=3,MIN(FA96,FB96,FC96),IF(Entries!$K$20=2,MIN(FA96,FB96),IF(Entries!$K$20=1,0,0)))))","v":0},0,"",null,null,null,null,null,null,null,null,{"$f":"IF(Entries!$K$20=5,MIN(FL96,FM96,FN96,FO96,FP96),IF(Entries!$K$20=4,MIN(FL96,FM96,FN96,FO96),IF(Entries!$K$20=3,MIN(FL96,FM96,FN96),IF(Entries!$K$20=2,MIN(FL96,FM96),IF(Entries!$K$20=1,0,0)))))","v":0},0,"",null,null,null,null,null,null,null,null,{"$f":"IF(Entries!$K$20=5,MIN(FW96,FX96,FY96,FZ96,GA96),IF(Entries!$K$20=4,MIN(FW96,FX96,FY96,FZ96),IF(Entries!$K$20=3,MIN(FW96,FX96,FY96),IF(Entries!$K$20=2,MIN(FW96,FX96),IF(Entries!$K$20=1,0,0)))))","v":0},0,"",null,null,null,null,null,null,null,null,{"$f":"IF(Entries!$K$20=5,MIN(GH96,GI96,GJ96,GK96,GL96),IF(Entries!$K$20=4,MIN(GH96,GI96,GJ96,GK96),IF(Entries!$K$20=3,MIN(GH96,GI96,GJ96),IF(Entries!$K$20=2,MIN(GH96,GI96),IF(Entries!$K$20=1,0,0)))))","v":0},0,"",null,null,null,null,null,null,null,null,{"$f":"IF(Entries!$K$20=5,MIN(GS96,GT96,GU96,GV96,GW96),IF(Entries!$K$20=4,MIN(GS96,GT96,GU96,GV96),IF(Entries!$K$20=3,MIN(GS96,GT96,GU96),IF(Entries!$K$20=2,MIN(GS96,GT96),IF(Entries!$K$20=1,0,0)))))","v":0},0,"",null,null,null,null,null,null,null,null,{"$f":"IF(Entries!$K$20=5,MIN(HD96,HE96,HF96,HG96,HH96),IF(Entries!$K$20=4,MIN(HD96,HE96,HF96,HG96),IF(Entries!$K$20=3,MIN(HD96,HE96,HF96),IF(Entries!$K$20=2,MIN(HD96,HE96),IF(Entries!$K$20=1,0,0)))))","v":0},0,"",null,null,null,null,null,null,null,null,{"$f":"IF(Entries!$K$20=5,MIN(HO96,HP96,HQ96,HR96,HS96),IF(Entries!$K$20=4,MIN(HO96,HP96,HQ96,HR96),IF(Entries!$K$20=3,MIN(HO96,HP96,HQ96),IF(Entries!$K$20=2,MIN(HO96,HP96),IF(Entries!$K$20=1,0,0)))))","v":0},0,"",null,null,null,null,null,null,null,null,{"$f":"IF(Entries!$K$20=5,MIN(HZ96,IA96,IB96,IC96,ID96),IF(Entries!$K$20=4,MIN(HZ96,IA96,IB96,IC96),IF(Entries!$K$20=3,MIN(HZ96,IA96,IB96),IF(Entries!$K$20=2,MIN(HZ96,IA96),IF(Entries!$K$20=1,0,0)))))","v":0},0,""]
[null,null,null,null,null,null,null,null,{"$f":"IF(Entries!$K$20=5,MIN(C97,D97,E97,F97,G97),IF(Entries!$K$20=4,MIN(C97,D97,E97,F97),IF(Entries!$K$20=3,MIN(C97,D97,E97),IF(Entries!$K$20=2,MIN(C97,D97),IF(Entries!$K$20=1,0,0)))))","v":0},0,"",null,null,null,null,null,null,null,null,{"$f":"IF(Entries!$K$20=5,MIN(N97,O97,P97,Q97,R97),IF(Entries!$K$20=4,MIN(N97,O97,P97,Q97),IF(Entries!$K$20=3,MIN(N97,O97,P97),IF(Entries!$K$20=2,MIN(N97,O97),IF(Entries!$K$20=1,0,0)))))","v":0},0,"",null,null,null,null,null,null,null,null,{"$f":"IF(Entries!$K$20=5,MIN(Y97,Z97,AA97,AB97,AC97),IF(Entries!$K$20=4,MIN(Y97,Z97,AA97,AB97),IF(Entries!$K$20=3,MIN(Y97,Z97,AA97),IF(Entries!$K$20=2,MIN(Y97,Z97),IF(Entries!$K$20=1,0,0)))))","v":0},0,"",null,null,null,null,null,null,null,null,{"$f":"IF(Entries!$K$20=5,MIN(AJ97,AK97,AL97,AM97,AN97),IF(Entries!$K$20=4,MIN(AJ97,AK97,AL97,AM97),IF(Entries!$K$20=3,MIN(AJ97,AK97,AL97),IF(Entries!$K$20=2,MIN(AJ97,AK97),IF(Entries!$K$20=1,0,0)))))","v":0},0,"",null,null,null,null,null,null,null,null,{"$f":"IF(Entries!$K$20=5,MIN(AU97,AV97,AW97,AX97,AY97),IF(Entries!$K$20=4,MIN(AU97,AV97,AW97,AX97),IF(Entries!$K$20=3,MIN(AU97,AV97,AW97),IF(Entries!$K$20=2,MIN(AU97,AV97),IF(Entries!$K$20=1,0,0)))))","v":0},0,"",null,null,null,null,null,null,null,null,{"$f":"IF(Entries!$K$20=5,MIN(BF97,BG97,BH97,BI97,BJ97),IF(Entries!$K$20=4,MIN(BF97,BG97,BH97,BI97),IF(Entries!$K$20=3,MIN(BF97,BG97,BH97),IF(Entries!$K$20=2,MIN(BF97,BG97),IF(Entries!$K$20=1,0,0)))))","v":0},0,"",null,null,null,null,null,null,null,null,{"$f":"IF(Entries!$K$20=5,MIN(BQ97,BR97,BS97,BT97,BU97),IF(Entries!$K$20=4,MIN(BQ97,BR97,BS97,BT97),IF(Entries!$K$20=3,MIN(BQ97,BR97,BS97),IF(Entries!$K$20=2,MIN(BQ97,BR97),IF(Entries!$K$20=1,0,0)))))","v":0},0,"",null,null,null,null,null,null,null,null,{"$f":"IF(Entries!$K$20=5,MIN(CB97,CC97,CD97,CE97,CF97),IF(Entries!$K$20=4,MIN(CB97,CC97,CD97,CE97),IF(Entries!$K$20=3,MIN(CB97,CC97,CD97),IF(Entries!$K$20=2,MIN(CB97,CC97),IF(Entries!$K$20=1,0,0)))))","v":0},0,"",null,null,null,null,null,null,null,null,{"$f":"IF(Entries!$K$20=5,MIN(CM97,CN97,CO97,CP97,CQ97),IF(Entries!$K$20=4,MIN(CM97,CN97,CO97,CP97),IF(Entries!$K$20=3,MIN(CM97,CN97,CO97),IF(Entries!$K$20=2,MIN(CM97,CN97),IF(Entries!$K$20=1,0,0)))))","v":0},0,"",null,null,null,null,null,null,null,null,{"$f":"IF(Entries!$K$20=5,MIN(CX97,CY97,CZ97,DA97,DB97),IF(Entries!$K$20=4,MIN(CX97,CY97,CZ97,DA97),IF(Entries!$K$20=3,MIN(CX97,CY97,CZ97),IF(Entries!$K$20=2,MIN(CX97,CY97),IF(Entries!$K$20=1,0,0)))))","v":0},0,"",null,null,null,null,null,null,null,null,{"$f":"IF(Entries!$K$20=5,MIN(DI97,DJ97,DK97,DL97,DM97),IF(Entries!$K$20=4,MIN(DI97,DJ97,DK97,DL97),IF(Entries!$K$20=3,MIN(DI97,DJ97,DK97),IF(Entries!$K$20=2,MIN(DI97,DJ97),IF(Entries!$K$20=1,0,0)))))","v":0},0,"",null,null,null,null,null,null,null,null,{"$f":"IF(Entries!$K$20=5,MIN(DT97,DU97,DV97,DW97,DX97),IF(Entries!$K$20=4,MIN(DT97,DU97,DV97,DW97),IF(Entries!$K$20=3,MIN(DT97,DU97,DV97),IF(Entries!$K$20=2,MIN(DT97,DU97),IF(Entries!$K$20=1,0,0)))))","v":0},0,"",null,null,null,null,null,null,null,null,{"$f":"IF(Entries!$K$20=5,MIN(EE97,EF97,EG97,EH97,EI97),IF(Entries!$K$20=4,MIN(EE97,EF97,EG97,EH97),IF(Entries!$K$20=3,MIN(EE97,EF97,EG97),IF(Entries!$K$20=2,MIN(EE97,EF97),IF(Entries!$K$20=1,0,0)))))","v":0},0,"",null,null,null,null,null,null,null,null,{"$f":"IF(Entries!$K$20=5,MIN(EP97,EQ97,ER97,ES97,ET97),IF(Entries!$K$20=4,MIN(EP97,EQ97,ER97,ES97),IF(Entries!$K$20=3,MIN(EP97,EQ97,ER97),IF(Entries!$K$20=2,MIN(EP97,EQ97),IF(Entries!$K$20=1,0,0)))))","v":0},0,"",null,null,null,null,null,null,null,null,{"$f":"IF(Entries!$K$20=5,MIN(FA97,FB97,FC97,FD97,FE97),IF(Entries!$K$20=4,MIN(FA97,FB97,FC97,FD97),IF(Entries!$K$20=3,MIN(FA97,FB97,FC97),IF(Entries!$K$20=2,MIN(FA97,FB97),IF(Entries!$K$20=1,0,0)))))","v":0},0,"",null,null,null,null,null,null,null,null,{"$f":"IF(Entries!$K$20=5,MIN(FL97,FM97,FN97,FO97,FP97),IF(Entries!$K$20=4,MIN(FL97,FM97,FN97,FO97),IF(Entries!$K$20=3,MIN(FL97,FM97,FN97),IF(Entries!$K$20=2,MIN(FL97,FM97),IF(Entries!$K$20=1,0,0)))))","v":0},0,"",null,null,null,null,null,null,null,null,{"$f":"IF(Entries!$K$20=5,MIN(FW97,FX97,FY97,FZ97,GA97),IF(Entries!$K$20=4,MIN(FW97,FX97,FY97,FZ97),IF(Entries!$K$20=3,MIN(FW97,FX97,FY97),IF(Entries!$K$20=2,MIN(FW97,FX97),IF(Entries!$K$20=1,0,0)))))","v":0},0,"",null,null,null,null,null,null,null,null,{"$f":"IF(Entries!$K$20=5,MIN(GH97,GI97,GJ97,GK97,GL97),IF(Entries!$K$20=4,MIN(GH97,GI97,GJ97,GK97),IF(Entries!$K$20=3,MIN(GH97,GI97,GJ97),IF(Entries!$K$20=2,MIN(GH97,GI97),IF(Entries!$K$20=1,0,0)))))","v":0},0,"",null,null,null,null,null,null,null,null,{"$f":"IF(Entries!$K$20=5,MIN(GS97,GT97,GU97,GV97,GW97),IF(Entries!$K$20=4,MIN(GS97,GT97,GU97,GV97),IF(Entries!$K$20=3,MIN(GS97,GT97,GU97),IF(Entries!$K$20=2,MIN(GS97,GT97),IF(Entries!$K$20=1,0,0)))))","v":0},0,"",null,null,null,null,null,null,null,null,{"$f":"IF(Entries!$K$20=5,MIN(HD97,HE97,HF97,HG97,HH97),IF(Entries!$K$20=4,MIN(HD97,HE97,HF97,HG97),IF(Entries!$K$20=3,MIN(HD97,HE97,HF97),IF(Entries!$K$20=2,MIN(HD97,HE97),IF(Entries!$K$20=1,0,0)))))","v":0},0,"",null,null,null,null,null,null,null,null,{"$f":"IF(Entries!$K$20=5,MIN(HO97,HP97,HQ97,HR97,HS97),IF(Entries!$K$20=4,MIN(HO97,HP97,HQ97,HR97),IF(Entries!$K$20=3,MIN(HO97,HP97,HQ97),IF(Entries!$K$20=2,MIN(HO97,HP97),IF(Entries!$K$20=1,0,0)))))","v":0},0,"",null,null,null,null,null,null,null,null,{"$f":"IF(Entries!$K$20=5,MIN(HZ97,IA97,IB97,IC97,ID97),IF(Entries!$K$20=4,MIN(HZ97,IA97,IB97,IC97),IF(Entries!$K$20=3,MIN(HZ97,IA97,IB97),IF(Entries!$K$20=2,MIN(HZ97,IA97),IF(Entries!$K$20=1,0,0)))))","v":0},0,""]
[null,null,null,null,null,null,null,null,{"$f":"IF(Entries!$K$20=5,MIN(C98,D98,E98,F98,G98),IF(Entries!$K$20=4,MIN(C98,D98,E98,F98),IF(Entries!$K$20=3,MIN(C98,D98,E98),IF(Entries!$K$20=2,MIN(C98,D98),IF(Entries!$K$20=1,0,0)))))","v":0},0,"",null,null,null,null,null,null,null,null,{"$f":"IF(Entries!$K$20=5,MIN(N98,O98,P98,Q98,R98),IF(Entries!$K$20=4,MIN(N98,O98,P98,Q98),IF(Entries!$K$20=3,MIN(N98,O98,P98),IF(Entries!$K$20=2,MIN(N98,O98),IF(Entries!$K$20=1,0,0)))))","v":0},0,"",null,null,null,null,null,null,null,null,{"$f":"IF(Entries!$K$20=5,MIN(Y98,Z98,AA98,AB98,AC98),IF(Entries!$K$20=4,MIN(Y98,Z98,AA98,AB98),IF(Entries!$K$20=3,MIN(Y98,Z98,AA98),IF(Entries!$K$20=2,MIN(Y98,Z98),IF(Entries!$K$20=1,0,0)))))","v":0},0,"",null,null,null,null,null,null,null,null,{"$f":"IF(Entries!$K$20=5,MIN(AJ98,AK98,AL98,AM98,AN98),IF(Entries!$K$20=4,MIN(AJ98,AK98,AL98,AM98),IF(Entries!$K$20=3,MIN(AJ98,AK98,AL98),IF(Entries!$K$20=2,MIN(AJ98,AK98),IF(Entries!$K$20=1,0,0)))))","v":0},0,"",null,null,null,null,null,null,null,null,{"$f":"IF(Entries!$K$20=5,MIN(AU98,AV98,AW98,AX98,AY98),IF(Entries!$K$20=4,MIN(AU98,AV98,AW98,AX98),IF(Entries!$K$20=3,MIN(AU98,AV98,AW98),IF(Entries!$K$20=2,MIN(AU98,AV98),IF(Entries!$K$20=1,0,0)))))","v":0},0,"",null,null,null,null,null,null,null,null,{"$f":"IF(Entries!$K$20=5,MIN(BF98,BG98,BH98,BI98,BJ98),IF(Entries!$K$20=4,MIN(BF98,BG98,BH98,BI98),IF(Entries!$K$20=3,MIN(BF98,BG98,BH98),IF(Entries!$K$20=2,MIN(BF98,BG98),IF(Entries!$K$20=1,0,0)))))","v":0},0,"",null,null,null,null,null,null,null,null,{"$f":"IF(Entries!$K$20=5,MIN(BQ98,BR98,BS98,BT98,BU98),IF(Entries!$K$20=4,MIN(BQ98,BR98,BS98,BT98),IF(Entries!$K$20=3,MIN(BQ98,BR98,BS98),IF(Entries!$K$20=2,MIN(BQ98,BR98),IF(Entries!$K$20=1,0,0)))))","v":0},0,"",null,null,null,null,null,null,null,null,{"$f":"IF(Entries!$K$20=5,MIN(CB98,CC98,CD98,CE98,CF98),IF(Entries!$K$20=4,MIN(CB98,CC98,CD98,CE98),IF(Entries!$K$20=3,MIN(CB98,CC98,CD98),IF(Entries!$K$20=2,MIN(CB98,CC98),IF(Entries!$K$20=1,0,0)))))","v":0},0,"",null,null,null,null,null,null,null,null,{"$f":"IF(Entries!$K$20=5,MIN(CM98,CN98,CO98,CP98,CQ98),IF(Entries!$K$20=4,MIN(CM98,CN98,CO98,CP98),IF(Entries!$K$20=3,MIN(CM98,CN98,CO98),IF(Entries!$K$20=2,MIN(CM98,CN98),IF(Entries!$K$20=1,0,0)))))","v":0},0,"",null,null,null,null,null,null,null,null,{"$f":"IF(Entries!$K$20=5,MIN(CX98,CY98,CZ98,DA98,DB98),IF(Entries!$K$20=4,MIN(CX98,CY98,CZ98,DA98),IF(Entries!$K$20=3,MIN(CX98,CY98,CZ98),IF(Entries!$K$20=2,MIN(CX98,CY98),IF(Entries!$K$20=1,0,0)))))","v":0},0,"",null,null,null,null,null,null,null,null,{"$f":"IF(Entries!$K$20=5,MIN(DI98,DJ98,DK98,DL98,DM98),IF(Entries!$K$20=4,MIN(DI98,DJ98,DK98,DL98),IF(Entries!$K$20=3,MIN(DI98,DJ98,DK98),IF(Entries!$K$20=2,MIN(DI98,DJ98),IF(Entries!$K$20=1,0,0)))))","v":0},0,"",null,null,null,null,null,null,null,null,{"$f":"IF(Entries!$K$20=5,MIN(DT98,DU98,DV98,DW98,DX98),IF(Entries!$K$20=4,MIN(DT98,DU98,DV98,DW98),IF(Entries!$K$20=3,MIN(DT98,DU98,DV98),IF(Entries!$K$20=2,MIN(DT98,DU98),IF(Entries!$K$20=1,0,0)))))","v":0},0,"",null,null,null,null,null,null,null,null,{"$f":"IF(Entries!$K$20=5,MIN(EE98,EF98,EG98,EH98,EI98),IF(Entries!$K$20=4,MIN(EE98,EF98,EG98,EH98),IF(Entries!$K$20=3,MIN(EE98,EF98,EG98),IF(Entries!$K$20=2,MIN(EE98,EF98),IF(Entries!$K$20=1,0,0)))))","v":0},0,"",null,null,null,null,null,null,null,null,{"$f":"IF(Entries!$K$20=5,MIN(EP98,EQ98,ER98,ES98,ET98),IF(Entries!$K$20=4,MIN(EP98,EQ98,ER98,ES98),IF(Entries!$K$20=3,MIN(EP98,EQ98,ER98),IF(Entries!$K$20=2,MIN(EP98,EQ98),IF(Entries!$K$20=1,0,0)))))","v":0},0,"",null,null,null,null,null,null,null,null,{"$f":"IF(Entries!$K$20=5,MIN(FA98,FB98,FC98,FD98,FE98),IF(Entries!$K$20=4,MIN(FA98,FB98,FC98,FD98),IF(Entries!$K$20=3,MIN(FA98,FB98,FC98),IF(Entries!$K$20=2,MIN(FA98,FB98),IF(Entries!$K$20=1,0,0)))))","v":0},0,"",null,null,null,null,null,null,null,null,{"$f":"IF(Entries!$K$20=5,MIN(FL98,FM98,FN98,FO98,FP98),IF(Entries!$K$20=4,MIN(FL98,FM98,FN98,FO98),IF(Entries!$K$20=3,MIN(FL98,FM98,FN98),IF(Entries!$K$20=2,MIN(FL98,FM98),IF(Entries!$K$20=1,0,0)))))","v":0},0,"",null,null,null,null,null,null,null,null,{"$f":"IF(Entries!$K$20=5,MIN(FW98,FX98,FY98,FZ98,GA98),IF(Entries!$K$20=4,MIN(FW98,FX98,FY98,FZ98),IF(Entries!$K$20=3,MIN(FW98,FX98,FY98),IF(Entries!$K$20=2,MIN(FW98,FX98),IF(Entries!$K$20=1,0,0)))))","v":0},0,"",null,null,null,null,null,null,null,null,{"$f":"IF(Entries!$K$20=5,MIN(GH98,GI98,GJ98,GK98,GL98),IF(Entries!$K$20=4,MIN(GH98,GI98,GJ98,GK98),IF(Entries!$K$20=3,MIN(GH98,GI98,GJ98),IF(Entries!$K$20=2,MIN(GH98,GI98),IF(Entries!$K$20=1,0,0)))))","v":0},0,"",null,null,null,null,null,null,null,null,{"$f":"IF(Entries!$K$20=5,MIN(GS98,GT98,GU98,GV98,GW98),IF(Entries!$K$20=4,MIN(GS98,GT98,GU98,GV98),IF(Entries!$K$20=3,MIN(GS98,GT98,GU98),IF(Entries!$K$20=2,MIN(GS98,GT98),IF(Entries!$K$20=1,0,0)))))","v":0},0,"",null,null,null,null,null,null,null,null,{"$f":"IF(Entries!$K$20=5,MIN(HD98,HE98,HF98,HG98,HH98),IF(Entries!$K$20=4,MIN(HD98,HE98,HF98,HG98),IF(Entries!$K$20=3,MIN(HD98,HE98,HF98),IF(Entries!$K$20=2,MIN(HD98,HE98),IF(Entries!$K$20=1,0,0)))))","v":0},0,"",null,null,null,null,null,null,null,null,{"$f":"IF(Entries!$K$20=5,MIN(HO98,HP98,HQ98,HR98,HS98),IF(Entries!$K$20=4,MIN(HO98,HP98,HQ98,HR98),IF(Entries!$K$20=3,MIN(HO98,HP98,HQ98),IF(Entries!$K$20=2,MIN(HO98,HP98),IF(Entries!$K$20=1,0,0)))))","v":0},0,"",null,null,null,null,null,null,null,null,{"$f":"IF(Entries!$K$20=5,MIN(HZ98,IA98,IB98,IC98,ID98),IF(Entries!$K$20=4,MIN(HZ98,IA98,IB98,IC98),IF(Entries!$K$20=3,MIN(HZ98,IA98,IB98),IF(Entries!$K$20=2,MIN(HZ98,IA98),IF(Entries!$K$20=1,0,0)))))","v":0},0,""]
[null,null,null,null,null,null,null,null,{"$f":"IF(Entries!$K$20=5,MIN(C99,D99,E99,F99,G99),IF(Entries!$K$20=4,MIN(C99,D99,E99,F99),IF(Entries!$K$20=3,MIN(C99,D99,E99),IF(Entries!$K$20=2,MIN(C99,D99),IF(Entries!$K$20=1,0,0)))))","v":0},0,"",null,null,null,null,null,null,null,null,{"$f":"IF(Entries!$K$20=5,MIN(N99,O99,P99,Q99,R99),IF(Entries!$K$20=4,MIN(N99,O99,P99,Q99),IF(Entries!$K$20=3,MIN(N99,O99,P99),IF(Entries!$K$20=2,MIN(N99,O99),IF(Entries!$K$20=1,0,0)))))","v":0},0,"",null,null,null,null,null,null,null,null,{"$f":"IF(Entries!$K$20=5,MIN(Y99,Z99,AA99,AB99,AC99),IF(Entries!$K$20=4,MIN(Y99,Z99,AA99,AB99),IF(Entries!$K$20=3,MIN(Y99,Z99,AA99),IF(Entries!$K$20=2,MIN(Y99,Z99),IF(Entries!$K$20=1,0,0)))))","v":0},0,"",null,null,null,null,null,null,null,null,{"$f":"IF(Entries!$K$20=5,MIN(AJ99,AK99,AL99,AM99,AN99),IF(Entries!$K$20=4,MIN(AJ99,AK99,AL99,AM99),IF(Entries!$K$20=3,MIN(AJ99,AK99,AL99),IF(Entries!$K$20=2,MIN(AJ99,AK99),IF(Entries!$K$20=1,0,0)))))","v":0},0,"",null,null,null,null,null,null,null,null,{"$f":"IF(Entries!$K$20=5,MIN(AU99,AV99,AW99,AX99,AY99),IF(Entries!$K$20=4,MIN(AU99,AV99,AW99,AX99),IF(Entries!$K$20=3,MIN(AU99,AV99,AW99),IF(Entries!$K$20=2,MIN(AU99,AV99),IF(Entries!$K$20=1,0,0)))))","v":0},0,"",null,null,null,null,null,null,null,null,{"$f":"IF(Entries!$K$20=5,MIN(BF99,BG99,BH99,BI99,BJ99),IF(Entries!$K$20=4,MIN(BF99,BG99,BH99,BI99),IF(Entries!$K$20=3,MIN(BF99,BG99,BH99),IF(Entries!$K$20=2,MIN(BF99,BG99),IF(Entries!$K$20=1,0,0)))))","v":0},0,"",null,null,null,null,null,null,null,null,{"$f":"IF(Entries!$K$20=5,MIN(BQ99,BR99,BS99,BT99,BU99),IF(Entries!$K$20=4,MIN(BQ99,BR99,BS99,BT99),IF(Entries!$K$20=3,MIN(BQ99,BR99,BS99),IF(Entries!$K$20=2,MIN(BQ99,BR99),IF(Entries!$K$20=1,0,0)))))","v":0},0,"",null,null,null,null,null,null,null,null,{"$f":"IF(Entries!$K$20=5,MIN(CB99,CC99,CD99,CE99,CF99),IF(Entries!$K$20=4,MIN(CB99,CC99,CD99,CE99),IF(Entries!$K$20=3,MIN(CB99,CC99,CD99),IF(Entries!$K$20=2,MIN(CB99,CC99),IF(Entries!$K$20=1,0,0)))))","v":0},0,"",null,null,null,null,null,null,null,null,{"$f":"IF(Entries!$K$20=5,MIN(CM99,CN99,CO99,CP99,CQ99),IF(Entries!$K$20=4,MIN(CM99,CN99,CO99,CP99),IF(Entries!$K$20=3,MIN(CM99,CN99,CO99),IF(Entries!$K$20=2,MIN(CM99,CN99),IF(Entries!$K$20=1,0,0)))))","v":0},0,"",null,null,null,null,null,null,null,null,{"$f":"IF(Entries!$K$20=5,MIN(CX99,CY99,CZ99,DA99,DB99),IF(Entries!$K$20=4,MIN(CX99,CY99,CZ99,DA99),IF(Entries!$K$20=3,MIN(CX99,CY99,CZ99),IF(Entries!$K$20=2,MIN(CX99,CY99),IF(Entries!$K$20=1,0,0)))))","v":0},0,"",null,null,null,null,null,null,null,null,{"$f":"IF(Entries!$K$20=5,MIN(DI99,DJ99,DK99,DL99,DM99),IF(Entries!$K$20=4,MIN(DI99,DJ99,DK99,DL99),IF(Entries!$K$20=3,MIN(DI99,DJ99,DK99),IF(Entries!$K$20=2,MIN(DI99,DJ99),IF(Entries!$K$20=1,0,0)))))","v":0},0,"",null,null,null,null,null,null,null,null,{"$f":"IF(Entries!$K$20=5,MIN(DT99,DU99,DV99,DW99,DX99),IF(Entries!$K$20=4,MIN(DT99,DU99,DV99,DW99),IF(Entries!$K$20=3,MIN(DT99,DU99,DV99),IF(Entries!$K$20=2,MIN(DT99,DU99),IF(Entries!$K$20=1,0,0)))))","v":0},0,"",null,null,null,null,null,null,null,null,{"$f":"IF(Entries!$K$20=5,MIN(EE99,EF99,EG99,EH99,EI99),IF(Entries!$K$20=4,MIN(EE99,EF99,EG99,EH99),IF(Entries!$K$20=3,MIN(EE99,EF99,EG99),IF(Entries!$K$20=2,MIN(EE99,EF99),IF(Entries!$K$20=1,0,0)))))","v":0},0,"",null,null,null,null,null,null,null,null,{"$f":"IF(Entries!$K$20=5,MIN(EP99,EQ99,ER99,ES99,ET99),IF(Entries!$K$20=4,MIN(EP99,EQ99,ER99,ES99),IF(Entries!$K$20=3,MIN(EP99,EQ99,ER99),IF(Entries!$K$20=2,MIN(EP99,EQ99),IF(Entries!$K$20=1,0,0)))))","v":0},0,"",null,null,null,null,null,null,null,null,{"$f":"IF(Entries!$K$20=5,MIN(FA99,FB99,FC99,FD99,FE99),IF(Entries!$K$20=4,MIN(FA99,FB99,FC99,FD99),IF(Entries!$K$20=3,MIN(FA99,FB99,FC99),IF(Entries!$K$20=2,MIN(FA99,FB99),IF(Entries!$K$20=1,0,0)))))","v":0},0,"",null,null,null,null,null,null,null,null,{"$f":"IF(Entries!$K$20=5,MIN(FL99,FM99,FN99,FO99,FP99),IF(Entries!$K$20=4,MIN(FL99,FM99,FN99,FO99),IF(Entries!$K$20=3,MIN(FL99,FM99,FN99),IF(Entries!$K$20=2,MIN(FL99,FM99),IF(Entries!$K$20=1,0,0)))))","v":0},0,"",null,null,null,null,null,null,null,null,{"$f":"IF(Entries!$K$20=5,MIN(FW99,FX99,FY99,FZ99,GA99),IF(Entries!$K$20=4,MIN(FW99,FX99,FY99,FZ99),IF(Entries!$K$20=3,MIN(FW99,FX99,FY99),IF(Entries!$K$20=2,MIN(FW99,FX99),IF(Entries!$K$20=1,0,0)))))","v":0},0,"",null,null,null,null,null,null,null,null,{"$f":"IF(Entries!$K$20=5,MIN(GH99,GI99,GJ99,GK99,GL99),IF(Entries!$K$20=4,MIN(GH99,GI99,GJ99,GK99),IF(Entries!$K$20=3,MIN(GH99,GI99,GJ99),IF(Entries!$K$20=2,MIN(GH99,GI99),IF(Entries!$K$20=1,0,0)))))","v":0},0,"",null,null,null,null,null,null,null,null,{"$f":"IF(Entries!$K$20=5,MIN(GS99,GT99,GU99,GV99,GW99),IF(Entries!$K$20=4,MIN(GS99,GT99,GU99,GV99),IF(Entries!$K$20=3,MIN(GS99,GT99,GU99),IF(Entries!$K$20=2,MIN(GS99,GT99),IF(Entries!$K$20=1,0,0)))))","v":0},0,"",null,null,null,null,null,null,null,null,{"$f":"IF(Entries!$K$20=5,MIN(HD99,HE99,HF99,HG99,HH99),IF(Entries!$K$20=4,MIN(HD99,HE99,HF99,HG99),IF(Entries!$K$20=3,MIN(HD99,HE99,HF99),IF(Entries!$K$20=2,MIN(HD99,HE99),IF(Entries!$K$20=1,0,0)))))","v":0},0,"",null,null,null,null,null,null,null,null,{"$f":"IF(Entries!$K$20=5,MIN(HO99,HP99,HQ99,HR99,HS99),IF(Entries!$K$20=4,MIN(HO99,HP99,HQ99,HR99),IF(Entries!$K$20=3,MIN(HO99,HP99,HQ99),IF(Entries!$K$20=2,MIN(HO99,HP99),IF(Entries!$K$20=1,0,0)))))","v":0},0,"",null,null,null,null,null,null,null,null,{"$f":"IF(Entries!$K$20=5,MIN(HZ99,IA99,IB99,IC99,ID99),IF(Entries!$K$20=4,MIN(HZ99,IA99,IB99,IC99),IF(Entries!$K$20=3,MIN(HZ99,IA99,IB99),IF(Entries!$K$20=2,MIN(HZ99,IA99),IF(Entries!$K$20=1,0,0)))))","v":0},0,""]
[null,null,null,null,null,null,null,null,{"$f":"IF(Entries!$K$20=5,MIN(C100,D100,E100,F100,G100),IF(Entries!$K$20=4,MIN(C100,D100,E100,F100),IF(Entries!$K$20=3,MIN(C100,D100,E100),IF(Entries!$K$20=2,MIN(C100,D100),IF(Entries!$K$20=1,0,0)))))","v":0},0,"",null,null,null,null,null,null,null,null,{"$f":"IF(Entries!$K$20=5,MIN(N100,O100,P100,Q100,R100),IF(Entries!$K$20=4,MIN(N100,O100,P100,Q100),IF(Entries!$K$20=3,MIN(N100,O100,P100),IF(Entries!$K$20=2,MIN(N100,O100),IF(Entries!$K$20=1,0,0)))))","v":0},0,"",null,null,null,null,null,null,null,null,{"$f":"IF(Entries!$K$20=5,MIN(Y100,Z100,AA100,AB100,AC100),IF(Entries!$K$20=4,MIN(Y100,Z100,AA100,AB100),IF(Entries!$K$20=3,MIN(Y100,Z100,AA100),IF(Entries!$K$20=2,MIN(Y100,Z100),IF(Entries!$K$20=1,0,0)))))","v":0},0,"",null,null,null,null,null,null,null,null,{"$f":"IF(Entries!$K$20=5,MIN(AJ100,AK100,AL100,AM100,AN100),IF(Entries!$K$20=4,MIN(AJ100,AK100,AL100,AM100),IF(Entries!$K$20=3,MIN(AJ100,AK100,AL100),IF(Entries!$K$20=2,MIN(AJ100,AK100),IF(Entries!$K$20=1,0,0)))))","v":0},0,"",null,null,null,null,null,null,null,null,{"$f":"IF(Entries!$K$20=5,MIN(AU100,AV100,AW100,AX100,AY100),IF(Entries!$K$20=4,MIN(AU100,AV100,AW100,AX100),IF(Entries!$K$20=3,MIN(AU100,AV100,AW100),IF(Entries!$K$20=2,MIN(AU100,AV100),IF(Entries!$K$20=1,0,0)))))","v":0},0,"",null,null,null,null,null,null,null,null,{"$f":"IF(Entries!$K$20=5,MIN(BF100,BG100,BH100,BI100,BJ100),IF(Entries!$K$20=4,MIN(BF100,BG100,BH100,BI100),IF(Entries!$K$20=3,MIN(BF100,BG100,BH100),IF(Entries!$K$20=2,MIN(BF100,BG100),IF(Entries!$K$20=1,0,0)))))","v":0},0,"",null,null,null,null,null,null,null,null,{"$f":"IF(Entries!$K$20=5,MIN(BQ100,BR100,BS100,BT100,BU100),IF(Entries!$K$20=4,MIN(BQ100,BR100,BS100,BT100),IF(Entries!$K$20=3,MIN(BQ100,BR100,BS100),IF(Entries!$K$20=2,MIN(BQ100,BR100),IF(Entries!$K$20=1,0,0)))))","v":0},0,"",null,null,null,null,null,null,null,null,{"$f":"IF(Entries!$K$20=5,MIN(CB100,CC100,CD100,CE100,CF100),IF(Entries!$K$20=4,MIN(CB100,CC100,CD100,CE100),IF(Entries!$K$20=3,MIN(CB100,CC100,CD100),IF(Entries!$K$20=2,MIN(CB100,CC100),IF(Entries!$K$20=1,0,0)))))","v":0},0,"",null,null,null,null,null,null,null,null,{"$f":"IF(Entries!$K$20=5,MIN(CM100,CN100,CO100,CP100,CQ100),IF(Entries!$K$20=4,MIN(CM100,CN100,CO100,CP100),IF(Entries!$K$20=3,MIN(CM100,CN100,CO100),IF(Entries!$K$20=2,MIN(CM100,CN100),IF(Entries!$K$20=1,0,0)))))","v":0},0,"",null,null,null,null,null,null,null,null,{"$f":"IF(Entries!$K$20=5,MIN(CX100,CY100,CZ100,DA100,DB100),IF(Entries!$K$20=4,MIN(CX100,CY100,CZ100,DA100),IF(Entries!$K$20=3,MIN(CX100,CY100,CZ100),IF(Entries!$K$20=2,MIN(CX100,CY100),IF(Entries!$K$20=1,0,0)))))","v":0},0,"",null,null,null,null,null,null,null,null,{"$f":"IF(Entries!$K$20=5,MIN(DI100,DJ100,DK100,DL100,DM100),IF(Entries!$K$20=4,MIN(DI100,DJ100,DK100,DL100),IF(Entries!$K$20=3,MIN(DI100,DJ100,DK100),IF(Entries!$K$20=2,MIN(DI100,DJ100),IF(Entries!$K$20=1,0,0)))))","v":0},0,"",null,null,null,null,null,null,null,null,{"$f":"IF(Entries!$K$20=5,MIN(DT100,DU100,DV100,DW100,DX100),IF(Entries!$K$20=4,MIN(DT100,DU100,DV100,DW100),IF(Entries!$K$20=3,MIN(DT100,DU100,DV100),IF(Entries!$K$20=2,MIN(DT100,DU100),IF(Entries!$K$20=1,0,0)))))","v":0},0,"",null,null,null,null,null,null,null,null,{"$f":"IF(Entries!$K$20=5,MIN(EE100,EF100,EG100,EH100,EI100),IF(Entries!$K$20=4,MIN(EE100,EF100,EG100,EH100),IF(Entries!$K$20=3,MIN(EE100,EF100,EG100),IF(Entries!$K$20=2,MIN(EE100,EF100),IF(Entries!$K$20=1,0,0)))))","v":0},0,"",null,null,null,null,null,null,null,null,{"$f":"IF(Entries!$K$20=5,MIN(EP100,EQ100,ER100,ES100,ET100),IF(Entries!$K$20=4,MIN(EP100,EQ100,ER100,ES100),IF(Entries!$K$20=3,MIN(EP100,EQ100,ER100),IF(Entries!$K$20=2,MIN(EP100,EQ100),IF(Entries!$K$20=1,0,0)))))","v":0},0,"",null,null,null,null,null,null,null,null,{"$f":"IF(Entries!$K$20=5,MIN(FA100,FB100,FC100,FD100,FE100),IF(Entries!$K$20=4,MIN(FA100,FB100,FC100,FD100),IF(Entries!$K$20=3,MIN(FA100,FB100,FC100),IF(Entries!$K$20=2,MIN(FA100,FB100),IF(Entries!$K$20=1,0,0)))))","v":0},0,"",null,null,null,null,null,null,null,null,{"$f":"IF(Entries!$K$20=5,MIN(FL100,FM100,FN100,FO100,FP100),IF(Entries!$K$20=4,MIN(FL100,FM100,FN100,FO100),IF(Entries!$K$20=3,MIN(FL100,FM100,FN100),IF(Entries!$K$20=2,MIN(FL100,FM100),IF(Entries!$K$20=1,0,0)))))","v":0},0,"",null,null,null,null,null,null,null,null,{"$f":"IF(Entries!$K$20=5,MIN(FW100,FX100,FY100,FZ100,GA100),IF(Entries!$K$20=4,MIN(FW100,FX100,FY100,FZ100),IF(Entries!$K$20=3,MIN(FW100,FX100,FY100),IF(Entries!$K$20=2,MIN(FW100,FX100),IF(Entries!$K$20=1,0,0)))))","v":0},0,"",null,null,null,null,null,null,null,null,{"$f":"IF(Entries!$K$20=5,MIN(GH100,GI100,GJ100,GK100,GL100),IF(Entries!$K$20=4,MIN(GH100,GI100,GJ100,GK100),IF(Entries!$K$20=3,MIN(GH100,GI100,GJ100),IF(Entries!$K$20=2,MIN(GH100,GI100),IF(Entries!$K$20=1,0,0)))))","v":0},0,"",null,null,null,null,null,null,null,null,{"$f":"IF(Entries!$K$20=5,MIN(GS100,GT100,GU100,GV100,GW100),IF(Entries!$K$20=4,MIN(GS100,GT100,GU100,GV100),IF(Entries!$K$20=3,MIN(GS100,GT100,GU100),IF(Entries!$K$20=2,MIN(GS100,GT100),IF(Entries!$K$20=1,0,0)))))","v":0},0,"",null,null,null,null,null,null,null,null,{"$f":"IF(Entries!$K$20=5,MIN(HD100,HE100,HF100,HG100,HH100),IF(Entries!$K$20=4,MIN(HD100,HE100,HF100,HG100),IF(Entries!$K$20=3,MIN(HD100,HE100,HF100),IF(Entries!$K$20=2,MIN(HD100,HE100),IF(Entries!$K$20=1,0,0)))))","v":0},0,"",null,null,null,null,null,null,null,null,{"$f":"IF(Entries!$K$20=5,MIN(HO100,HP100,HQ100,HR100,HS100),IF(Entries!$K$20=4,MIN(HO100,HP100,HQ100,HR100),IF(Entries!$K$20=3,MIN(HO100,HP100,HQ100),IF(Entries!$K$20=2,MIN(HO100,HP100),IF(Entries!$K$20=1,0,0)))))","v":0},0,"",null,null,null,null,null,null,null,null,{"$f":"IF(Entries!$K$20=5,MIN(HZ100,IA100,IB100,IC100,ID100),IF(Entries!$K$20=4,MIN(HZ100,IA100,IB100,IC100),IF(Entries!$K$20=3,MIN(HZ100,IA100,IB100),IF(Entries!$K$20=2,MIN(HZ100,IA100),IF(Entries!$K$20=1,0,0)))))","v":0},0,""]
[null,null,null,null,null,null,null,null,{"$f":"IF(Entries!$K$20=5,MIN(C101,D101,E101,F101,G101),IF(Entries!$K$20=4,MIN(C101,D101,E101,F101),IF(Entries!$K$20=3,MIN(C101,D101,E101),IF(Entries!$K$20=2,MIN(C101,D101),IF(Entries!$K$20=1,0,0)))))","v":0},0,"",null,null,null,null,null,null,null,null,{"$f":"IF(Entries!$K$20=5,MIN(N101,O101,P101,Q101,R101),IF(Entries!$K$20=4,MIN(N101,O101,P101,Q101),IF(Entries!$K$20=3,MIN(N101,O101,P101),IF(Entries!$K$20=2,MIN(N101,O101),IF(Entries!$K$20=1,0,0)))))","v":0},0,"",null,null,null,null,null,null,null,null,{"$f":"IF(Entries!$K$20=5,MIN(Y101,Z101,AA101,AB101,AC101),IF(Entries!$K$20=4,MIN(Y101,Z101,AA101,AB101),IF(Entries!$K$20=3,MIN(Y101,Z101,AA101),IF(Entries!$K$20=2,MIN(Y101,Z101),IF(Entries!$K$20=1,0,0)))))","v":0},0,"",null,null,null,null,null,null,null,null,{"$f":"IF(Entries!$K$20=5,MIN(AJ101,AK101,AL101,AM101,AN101),IF(Entries!$K$20=4,MIN(AJ101,AK101,AL101,AM101),IF(Entries!$K$20=3,MIN(AJ101,AK101,AL101),IF(Entries!$K$20=2,MIN(AJ101,AK101),IF(Entries!$K$20=1,0,0)))))","v":0},0,"",null,null,null,null,null,null,null,null,{"$f":"IF(Entries!$K$20=5,MIN(AU101,AV101,AW101,AX101,AY101),IF(Entries!$K$20=4,MIN(AU101,AV101,AW101,AX101),IF(Entries!$K$20=3,MIN(AU101,AV101,AW101),IF(Entries!$K$20=2,MIN(AU101,AV101),IF(Entries!$K$20=1,0,0)))))","v":0},0,"",null,null,null,null,null,null,null,null,{"$f":"IF(Entries!$K$20=5,MIN(BF101,BG101,BH101,BI101,BJ101),IF(Entries!$K$20=4,MIN(BF101,BG101,BH101,BI101),IF(Entries!$K$20=3,MIN(BF101,BG101,BH101),IF(Entries!$K$20=2,MIN(BF101,BG101),IF(Entries!$K$20=1,0,0)))))","v":0},0,"",null,null,null,null,null,null,null,null,{"$f":"IF(Entries!$K$20=5,MIN(BQ101,BR101,BS101,BT101,BU101),IF(Entries!$K$20=4,MIN(BQ101,BR101,BS101,BT101),IF(Entries!$K$20=3,MIN(BQ101,BR101,BS101),IF(Entries!$K$20=2,MIN(BQ101,BR101),IF(Entries!$K$20=1,0,0)))))","v":0},0,"",null,null,null,null,null,null,null,null,{"$f":"IF(Entries!$K$20=5,MIN(CB101,CC101,CD101,CE101,CF101),IF(Entries!$K$20=4,MIN(CB101,CC101,CD101,CE101),IF(Entries!$K$20=3,MIN(CB101,CC101,CD101),IF(Entries!$K$20=2,MIN(CB101,CC101),IF(Entries!$K$20=1,0,0)))))","v":0},0,"",null,null,null,null,null,null,null,null,{"$f":"IF(Entries!$K$20=5,MIN(CM101,CN101,CO101,CP101,CQ101),IF(Entries!$K$20=4,MIN(CM101,CN101,CO101,CP101),IF(Entries!$K$20=3,MIN(CM101,CN101,CO101),IF(Entries!$K$20=2,MIN(CM101,CN101),IF(Entries!$K$20=1,0,0)))))","v":0},0,"",null,null,null,null,null,null,null,null,{"$f":"IF(Entries!$K$20=5,MIN(CX101,CY101,CZ101,DA101,DB101),IF(Entries!$K$20=4,MIN(CX101,CY101,CZ101,DA101),IF(Entries!$K$20=3,MIN(CX101,CY101,CZ101),IF(Entries!$K$20=2,MIN(CX101,CY101),IF(Entries!$K$20=1,0,0)))))","v":0},0,"",null,null,null,null,null,null,null,null,{"$f":"IF(Entries!$K$20=5,MIN(DI101,DJ101,DK101,DL101,DM101),IF(Entries!$K$20=4,MIN(DI101,DJ101,DK101,DL101),IF(Entries!$K$20=3,MIN(DI101,DJ101,DK101),IF(Entries!$K$20=2,MIN(DI101,DJ101),IF(Entries!$K$20=1,0,0)))))","v":0},0,"",null,null,null,null,null,null,null,null,{"$f":"IF(Entries!$K$20=5,MIN(DT101,DU101,DV101,DW101,DX101),IF(Entries!$K$20=4,MIN(DT101,DU101,DV101,DW101),IF(Entries!$K$20=3,MIN(DT101,DU101,DV101),IF(Entries!$K$20=2,MIN(DT101,DU101),IF(Entries!$K$20=1,0,0)))))","v":0},0,"",null,null,null,null,null,null,null,null,{"$f":"IF(Entries!$K$20=5,MIN(EE101,EF101,EG101,EH101,EI101),IF(Entries!$K$20=4,MIN(EE101,EF101,EG101,EH101),IF(Entries!$K$20=3,MIN(EE101,EF101,EG101),IF(Entries!$K$20=2,MIN(EE101,EF101),IF(Entries!$K$20=1,0,0)))))","v":0},0,"",null,null,null,null,null,null,null,null,{"$f":"IF(Entries!$K$20=5,MIN(EP101,EQ101,ER101,ES101,ET101),IF(Entries!$K$20=4,MIN(EP101,EQ101,ER101,ES101),IF(Entries!$K$20=3,MIN(EP101,EQ101,ER101),IF(Entries!$K$20=2,MIN(EP101,EQ101),IF(Entries!$K$20=1,0,0)))))","v":0},0,"",null,null,null,null,null,null,null,null,{"$f":"IF(Entries!$K$20=5,MIN(FA101,FB101,FC101,FD101,FE101),IF(Entries!$K$20=4,MIN(FA101,FB101,FC101,FD101),IF(Entries!$K$20=3,MIN(FA101,FB101,FC101),IF(Entries!$K$20=2,MIN(FA101,FB101),IF(Entries!$K$20=1,0,0)))))","v":0},0,"",null,null,null,null,null,null,null,null,{"$f":"IF(Entries!$K$20=5,MIN(FL101,FM101,FN101,FO101,FP101),IF(Entries!$K$20=4,MIN(FL101,FM101,FN101,FO101),IF(Entries!$K$20=3,MIN(FL101,FM101,FN101),IF(Entries!$K$20=2,MIN(FL101,FM101),IF(Entries!$K$20=1,0,0)))))","v":0},0,"",null,null,null,null,null,null,null,null,{"$f":"IF(Entries!$K$20=5,MIN(FW101,FX101,FY101,FZ101,GA101),IF(Entries!$K$20=4,MIN(FW101,FX101,FY101,FZ101),IF(Entries!$K$20=3,MIN(FW101,FX101,FY101),IF(Entries!$K$20=2,MIN(FW101,FX101),IF(Entries!$K$20=1,0,0)))))","v":0},0,"",null,null,null,null,null,null,null,null,{"$f":"IF(Entries!$K$20=5,MIN(GH101,GI101,GJ101,GK101,GL101),IF(Entries!$K$20=4,MIN(GH101,GI101,GJ101,GK101),IF(Entries!$K$20=3,MIN(GH101,GI101,GJ101),IF(Entries!$K$20=2,MIN(GH101,GI101),IF(Entries!$K$20=1,0,0)))))","v":0},0,"",null,null,null,null,null,null,null,null,{"$f":"IF(Entries!$K$20=5,MIN(GS101,GT101,GU101,GV101,GW101),IF(Entries!$K$20=4,MIN(GS101,GT101,GU101,GV101),IF(Entries!$K$20=3,MIN(GS101,GT101,GU101),IF(Entries!$K$20=2,MIN(GS101,GT101),IF(Entries!$K$20=1,0,0)))))","v":0},0,"",null,null,null,null,null,null,null,null,{"$f":"IF(Entries!$K$20=5,MIN(HD101,HE101,HF101,HG101,HH101),IF(Entries!$K$20=4,MIN(HD101,HE101,HF101,HG101),IF(Entries!$K$20=3,MIN(HD101,HE101,HF101),IF(Entries!$K$20=2,MIN(HD101,HE101),IF(Entries!$K$20=1,0,0)))))","v":0},0,"",null,null,null,null,null,null,null,null,{"$f":"IF(Entries!$K$20=5,MIN(HO101,HP101,HQ101,HR101,HS101),IF(Entries!$K$20=4,MIN(HO101,HP101,HQ101,HR101),IF(Entries!$K$20=3,MIN(HO101,HP101,HQ101),IF(Entries!$K$20=2,MIN(HO101,HP101),IF(Entries!$K$20=1,0,0)))))","v":0},0,"",null,null,null,null,null,null,null,null,{"$f":"IF(Entries!$K$20=5,MIN(HZ101,IA101,IB101,IC101,ID101),IF(Entries!$K$20=4,MIN(HZ101,IA101,IB101,IC101),IF(Entries!$K$20=3,MIN(HZ101,IA101,IB101),IF(Entries!$K$20=2,MIN(HZ101,IA101),IF(Entries!$K$20=1,0,0)))))","v":0},0,""]
[]
[]
[]
[]
[]
[]
[]
[]
[]
[]
[]
[]
[]
[]
[]
[]
[]
[]
[]
[]
[]
[]
[]
[]
[]
[]
[]
[]
[]
[{"$f":"J8","v":1812},{"$f":"B8","v":"Brendan McManus"},"DCU Recurve"]
[1795,{"$f":"B9","v":"Ciara O'Sullivan"}]
[1449,"Philip Early"]
[1417,"Aishling Dignam"]
[1271,"Lorenzo Diago"]
[976,"Emma Goodwin"]
[964,"Gary Kelly"]
[890,"Yuji Okubo"]
[829,"Andy Canavan"]
[681,"Issabele Mayumi"]
[224,"Cian Butler"]
[0,0]
[0,0]
[0,0]
[0,0]
[0,0]
[0,0]
[0,0]
[0,0]
[0,0]
[0,0]
[]
[]
[]
[]
[{"$f":"U8","v":2049},{"$f":"M8","v":"Brendan Forde"},"DIT Recurve"]
[1967,"James Byrne "]
[{"$f":"U10","v":1714},{"$f":"M10","v":"Kristian Bongo"}]
[1632,"Joshua Tracey"]
[1870,"Jen Daly"]
[1484,"Siun Collins"]
[929,"Nathan Tracey"]
[821,"Minni Hiltunen"]
[724,"Bruna Duarte"]
[444,"Vanessa Flood"]
[285,"Hugh Carrol"]
[225,"Jacob Byrne"]
[0,0]
[0,0]
[0,0]
[0,0]
[0,0]
[0,0]
[0,0]
[0,0]
[0,0]
[]
[]
[]
[]
[{"$f":"AF8","v":2101},{"$f":"X8","v":"Yeo Eng Jet"},"DkIT Recurve"]
[{"$f":"AF9","v":2000},{"$f":"X9","v":"Kevin Kok Zhi Hao"}]
[1804,"See Qui Ren"]
[1754,"Wai Hong Keet"]
[1701,"Victoria Shen Fen Tan"]
[1959,"Eunice Kiew Ying Sing"]
[1937,"Conor Winters"]
[1762,"Chua Wei Kwan"]
[1663,"Sim Jia Cheng"]
[1660,"Jane Meehan"]
[1508,"Zoe Nicholson"]
[1389,"Aaron Wong Siu Zhen"]
[1347,"Jocelyn Yee"]
[1265,"Wai Jian Keet"]
[1142,"Lim Cheng Bin"]
[840,"Kelvin Yee"]
[479,"Sven Radatz"]
[383,"Anna Bergert"]
[0,0]
[0,0]
[0,0]
[]
[]
[]
[]
[{"$f":"AQ8","v":1178},{"$f":"AI8","v":"Dáire Healy"},"DUAC Recurve"]
[{"$f":"AQ9","v":867},{"$f":"AI9","v":"Oskar Ronan"}]
[774,"Clarke-Ng Choy-Ping"]
[653,"Eve Kearney"]
[290,"Christo Pretorious"]
[284,"Marta Jurczak"]
[121,"Bronwyn Berkeley"]
[0,0]
[0,0]
[0,0]
[0,0]
[0,0]
[0,0]
[0,0]
[0,0]
[0,0]
[0,0]
[0,0]
[0,0]
[0,0]
[0,0]
[]
[]
[]
[]
[{"$f":"BB8","v":2030},{"$f":"AT8","v":"Dale Burke"},"GMIT Recurve"]
[{"$f":"BB9","v":1558},{"$f":"AT9","v":"Conor McCann"}]
[1460,"Mark Sherlock"]
[1396,"Asia Tayyab"]
[1501,"Aaron Downes"]
[1270,"Lynda Miller"]
[0,0]
[0,0]
[0,0]
[0,0]
[0,0]
[0,0]
[0,0]
[0,0]
[0,0]
[0,0]
[0,0]
[0,0]
[0,0]
[0,0]
[0,0]
[]
[]
[]
[]
[{"$f":"BM8","v":1592},{"$f":"BE8","v":"Sinead Naughton"},"GMITC Recurve"]
[{"$f":"BM9","v":0},{"$f":"BE9","v":0}]
[0,0]
[0,0]
[0,0]
[0,0]
[0,0]
[0,0]
[0,0]
[0,0]
[0,0]
[0,0]
[0,0]
[0,0]
[0,0]
[0,0]
[0,0]
[0,0]
[0,0]
[0,0]
[0,0]
[]
[]
[]
[]
[{"$f":"CI8","v":1194},{"$f":"CA8","v":"Leo Byrne"},"ITC Recurve"]
[{"$f":"CI9","v":0},{"$f":"CA9","v":0}]
[0,0]
[0,0]
[0,0]
[0,0]
[0,0]
[0,0]
[0,0]
[0,0]
[0,0]
[0,0]
[0,0]
[0,0]
[0,0]
[0,0]
[0,0]
[0,0]
[0,0]
[0,0]
[0,0]
[]
[]
[]
[]
[{"$f":"BX8","v":1989},{"$f":"BP8","v":"Aidan Darcy"},"ITT Recurve"]
[{"$f":"BX9","v":0},{"$f":"BP9","v":0}]
[0,0]
[0,0]
[0,0]
[0,0]
[0,0]
[0,0]
[0,0]
[0,0]
[0,0]
[0,0]
[0,0]
[0,0]
[0,0]
[0,0]
[0,0]
[0,0]
[0,0]
[0,0]
[0,0]
[]
[]
[]
[]
[{"$f":"CT8","v":2089},{"$f":"CL8","v":"Diego Coyle Diez"},"MU Recurve"]
[{"$f":"CT9","v":2001},{"$f":"CL9","v":"Hugh Farrell"}]
[1954,"Domhnall Ò Póil"]
[1713,"Connor Newman"]
[1651,"Sam Gibson"]
[1587,"Laury Despres"]
[306,"DJ Roche"]
[0,0]
[0,0]
[0,0]
[0,0]
[0,0]
[0,0]
[0,0]
[0,0]
[0,0]
[0,0]
[0,0]
[0,0]
[0,0]
[0,0]
[]
[]
[]
[]
[{"$f":"DE8","v":1037},{"$f":"CW8","v":"Rachael Foley"},"NCAD Recurve"]
[{"$f":"DE9","v":0},{"$f":"CW9","v":0}]
[0,0]
[0,0]
[0,0]
[0,0]
[0,0]
[0,0]
[0,0]
[0,0]
[0,0]
[0,0]
[0,0]
[0,0]
[0,0]
[0,0]
[0,0]
[0,0]
[0,0]
[0,0]
[0,0]
[]
[]
[]
[]
[{"$f":"DP8","v":1936},{"$f":"DH8","v":"Patrick Molloy"},"NUIG Recurve"]
[{"$f":"DP9","v":1697},{"$f":"DH9","v":"Mary Aherne"}]
[1563,"Helen Lacey"]
[1490,"Chris Riddell"]
[1485,"Eric Moore"]
[1362,"James Burke"]
[802,"Julia Obara"]
[685,"Jack Deane"]
[569,"Darren Wallace"]
[482,"Kieran Cullinane"]
[470,"Jonas Seesing"]
[441,"Mark Walsh"]
[371,"Thijs Siebt"]
[0,0]
[0,0]
[0,0]
[0,0]
[0,0]
[0,0]
[0,0]
[0,0]
[]
[]
[]
[]
[{"$f":"EA8","v":382},{"$f":"DS8","v":"Zahratulfatin Mohd Mahfoz"},"RCSI Recurve"]
[{"$f":"EA9","v":372},{"$f":"DS9","v":"Ahmad Nasree M Khairuddin Lim"}]
[311,"Muhammad Hakim Mohd Nasir"]
[267,"Nor Fatin Farhani"]
[190,"Raja Nur Iyliani"]
[0,0]
[0,0]
[0,0]
[0,0]
[0,0]
[0,0]
[0,0]
[0,0]
[0,0]
[0,0]
[0,0]
[0,0]
[0,0]
[0,0]
[0,0]
[0,0]
[]
[]
[]
[]
[{"$f":"EL8","v":1768},{"$f":"ED8","v":"Cormac O'Callaghan"},"UCC Recurve"]
[{"$f":"EL9","v":1481},{"$f":"ED9","v":"Carla Reinhardt"}]
[1343,"Brendan O'Sullivan"]
[1281,"Brian Swayne"]
[801,"Chris O'Leary"]
[725,"Shane Fitzgerald"]
[659,"Brian Conroy"]
[533,"Yusuf Fauzi"]
[471,"Simon Henleywillis"]
[303,"Shane O'Sulliven"]
[0,0]
[0,0]
[0,0]
[0,0]
[0,0]
[0,0]
[0,0]
[0,0]
[0,0]
[0,0]
[0,0]
[]
[]
[]
[]
[{"$f":"EW8","v":2096},{"$f":"EO8","v":"Carl McCaffery"},"UCD Recurve"]
[{"$f":"EW9","v":1987},{"$f":"EO9","v":"Ines Rauch"}]
[1805,"Charles O'Dowd"]
[1729,"Maria Jacob"]
[1820,"Paul Beirne"]
[1335,"Katie Doyle"]
[1146,"Bruna Mota"]
[898,"Fiona Maguire"]
[799,"James Greer"]
[723,"Kyle Rosso"]
[398,"Gordon Cowpar"]
[387,"Aonghus Condren"]
[339,"Thomas Joyce"]
[335,"Azeem Mohd Elias"]
[261,"Casey Patmore"]
[168,"Caoimhe Lalor"]
[70,"Maeve Ruan"]
[0,0]
[0,0]
[0,0]
[0,0]
[]
[]
[]
[]
[{"$f":"FH8","v":1753},{"$f":"EZ8","v":"Frank Stafford"},"UL Recurve"]
[{"$f":"FH9","v":1309},{"$f":"EZ9","v":"Conor O'Brien"}]
[1385,"Liam Higgins"]
[1270,"Ciara Fergus"]
[1269,"Luke Blake"]
[1039,"Darragh Kellegher"]
[865,"John Hally"]
[702,"Maria Borck"]
[473,"Devon Long"]
[453,"Laura Ciesa"]
[405,"Artem Semenov"]
[385,"Sean Sinnott"]
[358,"Liam Doyle"]
[288,"Ozeane Zeis"]
[257,"Conor Moran"]
[249,"Ian Nora"]
[98,"Eoin Hartigan"]
[0,0]
[0,0]
[0,0]
[0,0]
[]
[]
[]
[]
[{"$f":"FS8","v":1897},{"$f":"FK8","v":"Jordan McCord"},"UU Recurve"]
[{"$f":"FS9","v":1127},{"$f":"FK9","v":"Judith Bell"}]
[745,"Andrew Neville"]
[349,"Jordan McMullan"]
[201,"Martha Chege"]
[200,"Apoorva Kashyap"]
[187,"Nadia Rodgers"]
[0,0]
[0,0]
[0,0]
[0,0]
[0,0]
[0,0]
[0,0]
[0,0]
[0,0]
[0,0]
[0,0]
[0,0]
[0,0]
[0,0]
[]
[]
[]
[]
[{"$f":"GD8","v":0},{"$f":"FV8","v":0},"WIT Recurve"]
[{"$f":"GD9","v":0},{"$f":"FV9","v":0}]
[0,0]
[0,0]
[0,0]
[0,0]
[0,0]
[0,0]
[0,0]
[0,0]
[0,0]
[0,0]
[0,0]
[0,0]
[0,0]
[0,0]
[0,0]
[0,0]
[0,0]
[0,0]
[0,0]
[]
[]
[]
[]
[]
[{"$f":"J49","v":1765},{"$f":"B49","v":"Dean Lalor"},"DCU Barebow"]
[{"$f":"J50","v":1597},{"$f":"B50","v":"Bernard O'Connor"}]
[1544,"Niall O'Hanlon"]
[1845,"Jericho Siababa"]
[1291,"Sarah Howard"]
[683,"Dylan Do Couto"]
[417,"Gavin Munnelly"]
[0,0]
[0,0]
[0,0]
[0,0]
[0,0]
[0,0]
[0,0]
[0,0]
[0,0]
[0,0]
[0,0]
[0,0]
[0,0]
[]
[]
[]
[]
[{"$f":"U49","v":0},{"$f":"M49","v":0},"DIT Barebow"]
[{"$f":"U50","v":0},{"$f":"M50","v":0}]
[0,0]
[0,0]
[0,0]
[0,0]
[0,0]
[0,0]
[0,0]
[0,0]
[0,0]
[0,0]
[0,0]
[0,0]
[0,0]
[0,0]
[0,0]
[0,0]
[0,0]
[0,0]
[0,0]
[]
[]
[]
[]
[{"$f":"AF49","v":0},{"$f":"X49","v":0},"DkIT Barebow"]
[{"$f":"AF50","v":0},{"$f":"X50","v":0}]
[0,0]
[0,0]
[0,0]
[0,0]
[0,0]
[0,0]
[0,0]
[0,0]
[0,0]
[0,0]
[0,0]
[0,0]
[0,0]
[0,0]
[0,0]
[0,0]
[0,0]
[0,0]
[0,0]
[]
[]
[]
[]
[{"$f":"AQ49","v":802},{"$f":"AI49","v":"Cormac Begley"},"DUAC Barebow"]
[{"$f":"AQ50","v":771},{"$f":"AI50","v":"Jack Buttery"}]
[353,"Conn De Barra"]
[284,"Siobhan Flynn"]
[248,"Simon Bluett"]
[197,"Nicole Maoirano"]
[106,"Max Fursman"]
[0,0]
[0,0]
[0,0]
[0,0]
[0,0]
[0,0]
[0,0]
[0,0]
[0,0]
[0,0]
[0,0]
[0,0]
[0,0]
[0,0]
[]
[]
[]
[]
[{"$f":"BB49","v":1583},{"$f":"AT49","v":"Andrew Fahey"},"GMIT Barebow"]
[{"$f":"BB50","v":1407},{"$f":"AT50","v":"Siobhán Tuffy"}]
[1416,"Hannah Cunniffe"]
[731,"Darren Martyn"]
[463,"Aoife Monaghan"]
[371,"Ryan Claffey"]
[62,"Jay McCarron"]
[0,0]
[0,0]
[0,0]
[0,0]
[0,0]
[0,0]
[0,0]
[0,0]
[0,0]
[0,0]
[0,0]
[0,0]
[0,0]
[0,0]
[]
[]
[]
[]
[{"$f":"BM49","v":901},{"$f":"BE49","v":"Andrew Warrington"},"GMITC Barebow"]
[{"$f":"BM50","v":891},{"$f":"BE50","v":"Caroline Clarke"}]
[784,"Eoin Dwyer"]
[522,"Thomas Ganley"]
[502,"Lee Nolan"]
[318,"Sophie Hunt"]
[277,"Michaela Ní Mhurchú"]
[93,"Victor Agular"]
[0,0]
[0,0]
[0,0]
[0,0]
[0,0]
[0,0]
[0,0]
[0,0]
[0,0]
[0,0]
[0,0]
[0,0]
[0,0]
[]
[]
[]
[]
[{"$f":"CI49","v":1475},{"$f":"CA49","v":"Pawel Nalecz-Nieniewski"},"ITC Barebow"]
[{"$f":"CI50","v":1408},{"$f":"CA50","v":"Yingbo Li"}]
[1164,"David Price"]
[843,"Richard Morrell"]
[317,"Melissa Gueey"]
[0,0]
[0,0]
[0,0]
[0,0]
[0,0]
[0,0]
[0,0]
[0,0]
[0,0]
[0,0]
[0,0]
[0,0]
[0,0]
[0,0]
[0,0]
[0,0]
[]
[]
[]
[]
[{"$f":"BX49","v":1525},{"$f":"BP49","v":"Jamie McMahon"},"ITT Barebow"]
[{"$f":"BX50","v":1383},{"$f":"BP50","v":"Shannon Birch"}]
[1203,"Christopher Balfe"]
[1109,"Brian McDonagh ITT"]
[976,"Emma-Jane Doyle"]
[521,"Sean Flynn"]
[305,"Heather Kelly"]
[285,"David Melcher"]
[0,0]
[0,0]
[0,0]
[0,0]
[0,0]
[0,0]
[0,0]
[0,0]
[0,0]
[0,0]
[0,0]
[0,0]
[0,0]
[]
[]
[]
[]
[{"$f":"CT49","v":1387},{"$f":"CL49","v":"Elliot Barry"},"MU Barebow"]
[{"$f":"CT50","v":1423},{"$f":"CL50","v":"Sean Potts"}]
[1155,"Charlotte Lokko"]
[1356,"Sorcha Griffin"]
[1301,"Ciarán Martin"]
[758,"Eoin De Brit"]
[667,"Darren Watkin"]
[465,"Matthew O'Connor"]
[430,"Brian McDonagh MU"]
[413,"Ciarán Martin "]
[377,"Victor Stoian"]
[359,"Connor Newman"]
[334,"Raymond Onwunali"]
[310,"Laury Despres"]
[224,"Sam Gibson "]
[0,0]
[0,0]
[0,0]
[0,0]
[0,0]
[0,0]
[]
[]
[]
[]
[{"$f":"DE49","v":0},{"$f":"CW49","v":0},"NCAD Barebow"]
[{"$f":"DE50","v":0},{"$f":"CW50","v":0}]
[0,0]
[0,0]
[0,0]
[0,0]
[0,0]
[0,0]
[0,0]
[0,0]
[0,0]
[0,0]
[0,0]
[0,0]
[0,0]
[0,0]
[0,0]
[0,0]
[0,0]
[0,0]
[0,0]
[]
[]
[]
[]
[{"$f":"DP49","v":1204},{"$f":"DH49","v":"Conor Ó Beoláin"},"NUIG Barebow"]
[{"$f":"DP50","v":986},{"$f":"DH50","v":"Katie Kruse"}]
[782,"Mark Harrington"]
[758,"Julie Saes"]
[676,"Daniel Kelly"]
[639,"Raymond Conlin"]
[622,"Gabrielle Zeman"]
[492,"Raizel Burstein-Frame"]
[367,"Nada Khaled-Abdo"]
[348,"Niamh Meyler"]
[286,"Emily Flanagan"]
[271,"Vojtěch Halama"]
[250,"Anke Jaeger"]
[211,"Alessandra Pennesi"]
[0,0]
[0,0]
[0,0]
[0,0]
[0,0]
[0,0]
[0,0]
[]
[]
[]
[]
[{"$f":"EA49","v":326},{"$f":"DS49","v":"Rashed Alfuzaie"},"RCSI Barebow"]
[{"$f":"EA50","v":166},{"$f":"DS50","v":"Nik Idlan Faiq"}]
[0,0]
[0,0]
[0,0]
[0,0]
[0,0]
[0,0]
[0,0]
[0,0]
[0,0]
[0,0]
[0,0]
[0,0]
[0,0]
[0,0]
[0,0]
[0,0]
[0,0]
[0,0]
[0,0]
[]
[]
[]
[]
[{"$f":"EL49","v":434},{"$f":"ED49","v":"Maorgain Siede"},"UCC Barebow"]
[{"$f":"EL50","v":289},{"$f":"ED50","v":"Amy Garde"}]
[0,0]
[0,0]
[0,0]
[0,0]
[0,0]
[0,0]
[0,0]
[0,0]
[0,0]
[0,0]
[0,0]
[0,0]
[0,0]
[0,0]
[0,0]
[0,0]
[0,0]
[0,0]
[0,0]
[]
[]
[]
[]
[{"$f":"EW49","v":534},{"$f":"EO49","v":"Blair Flinn"},"UCD Barebow"]
[{"$f":"EW50","v":398},{"$f":"EO50","v":"Domagoj Kos"}]
[299,"Conor Sheridan"]
[242,"Andrew Fairbrother"]
[157,"Ellis O'Sulliven"]
[0,0]
[0,0]
[0,0]
[0,0]
[0,0]
[0,0]
[0,0]
[0,0]
[0,0]
[0,0]
[0,0]
[0,0]
[0,0]
[0,0]
[0,0]
[0,0]
[]
[]
[]
[]
[{"$f":"FH49","v":0},{"$f":"EZ49","v":0},"UL Barebow"]
[{"$f":"FH50","v":0},{"$f":"EZ50","v":0}]
[0,0]
[0,0]
[0,0]
[0,0]
[0,0]
[0,0]
[0,0]
[0,0]
[0,0]
[0,0]
[0,0]
[0,0]
[0,0]
[0,0]
[0,0]
[0,0]
[0,0]
[0,0]
[0,0]
[]
[]
[]
[]
[{"$f":"FS49","v":351},{"$f":"FK49","v":"Theo De Groot"},"UU Barebow"]
[{"$f":"FS50","v":279},{"$f":"FK50","v":"Jonnie Swain"}]
[0,0]
[0,0]
[0,0]
[0,0]
[0,0]
[0,0]
[0,0]
[0,0]
[0,0]
[0,0]
[0,0]
[0,0]
[0,0]
[0,0]
[0,0]
[0,0]
[0,0]
[0,0]
[0,0]
[]
[]
[]
[]
[{"$f":"GD49","v":0},{"$f":"FV49","v":0},"WIT Barebow"]
[{"$f":"GD50","v":0},{"$f":"FV50","v":0}]
[0,0]
[0,0]
[0,0]
[0,0]
[0,0]
[0,0]
[0,0]
[0,0]
[0,0]
[0,0]
[0,0]
[0,0]
[0,0]
[0,0]
[0,0]
[0,0]
[0,0]
[0,0]
[0,0]
[]
[]
[]
[]
[{"$f":"J92","v":2170},{"$f":"B92","v":"Cillian Byrne"},"DCU Compound "]
[{"$f":"J93","v":1938},{"$f":"B93","v":"Niamh Merry"}]
[1917,"Luke Oonan"]
[2054,"Beth Freeman"]
[0,0]
[]
[]
[]
[]
[]
[{"$f":"U92","v":0},{"$f":"M92","v":0},"DIT Compound "]
[{"$f":"U93","v":0},{"$f":"M93","v":0}]
[0,0]
[0,0]
[0,0]
[]
[]
[]
[]
[]
[{"$f":"AF92","v":0},{"$f":"X92","v":0},"DkIT Compound "]
[{"$f":"AF93","v":0},{"$f":"X93","v":0}]
[0,0]
[0,0]
[0,0]
[]
[]
[]
[]
[]
[{"$f":"AQ92","v":0},{"$f":"AI92","v":0},"DUAC Compound "]
[{"$f":"AQ93","v":0},{"$f":"AI93","v":0}]
[0,0]
[0,0]
[0,0]
[]
[]
[]
[]
[]
[{"$f":"BB92","v":2176},{"$f":"AT92","v":"Marko Kovacevic"},"GMIT Compound "]
[{"$f":"BB93","v":2172},{"$f":"AT93","v":"Brendan Browne"}]
[1125,"Eimhin Gaynor"]
[1086,"Shane McGloin"]
[0,0]
[]
[]
[]
[]
[]
[{"$f":"BM92","v":0},{"$f":"BE92","v":0},"GMITC Compound "]
[{"$f":"BM93","v":0},{"$f":"BE93","v":0}]
[0,0]
[0,0]
[0,0]
[]
[]
[]
[]
[]
[{"$f":"CI92","v":0},{"$f":"CA92","v":0},"ITC Compound "]
[{"$f":"CI93","v":0},{"$f":"CA93","v":0}]
[0,0]
[0,0]
[0,0]
[]
[]
[]
[]
[]
[{"$f":"BX92","v":2264},{"$f":"BP92","v":"Glen Conway"},"ITT Compound "]
[{"$f":"BX93","v":0},{"$f":"BP93","v":0}]
[0,0]
[0,0]
[0,0]
[]
[]
[]
[]
[]
[{"$f":"CT92","v":1017},{"$f":"CL92","v":"James Floyd"},"MU Compound "]
[{"$f":"CT93","v":537},{"$f":"CL93","v":"Kerrie Leonard"}]
[0,0]
[0,0]
[0,0]
[]
[]
[]
[]
[]
[{"$f":"DE92","v":0},{"$f":"CW92","v":0},"NCAD Compound "]
[{"$f":"DE93","v":0},{"$f":"CW93","v":0}]
[0,0]
[0,0]
[0,0]
[]
[]
[]
[]
[]
[{"$f":"DP92","v":2151},{"$f":"DH92","v":"Niamh Kenny"},"NUIG Compound "]
[{"$f":"DP93","v":1710},{"$f":"DH93","v":"Joao Vitor"}]
[1675,"Christopher Ryan"]
[560,"Carl Byrne"]
[0,0]
[]
[]
[]
[]
[]
[{"$f":"EA92","v":0},{"$f":"DS92","v":0},"RCSI Compound "]
[{"$f":"EA93","v":0},{"$f":"DS93","v":0}]
[0,0]
[0,0]
[0,0]
[]
[]
[]
[]
[]
[{"$f":"EL92","v":0},{"$f":"ED92","v":0},"UCC Compound "]
[{"$f":"EL93","v":0},{"$f":"ED93","v":0}]
[0,0]
[0,0]
[0,0]
[]
[]
[]
[]
[]
[{"$f":"EW92","v":0},{"$f":"EO92","v":0},"UCD Compound "]
[{"$f":"EW93","v":0},{"$f":"EO93","v":0}]
[0,0]
[0,0]
[0,0]
[]
[]
[]
[]
[]
[{"$f":"FH92","v":1040},{"$f":"EZ92","v":"Devon Long"},"UL Compound "]
[{"$f":"FH93","v":0},{"$f":"EZ93","v":0}]
[0,0]
[0,0]
[0,0]
[]
[]
[]
[]
[]
[{"$f":"FS92","v":523},{"$f":"FK92","v":"Morgan Russell-Cowan"},"UU Compound "]
[{"$f":"FS93","v":261},{"$f":"FK93","v":"Ross McQuade"}]
[0,0]
[0,0]
[0,0]
[]
[]
[]
[]
[]
[{"$f":"GD92","v":0},{"$f":"FV92","v":0},"WIT Compound "]
[{"$f":"GD93","v":0},{"$f":"FV93","v":0}]
[0,0]
[0,0]
[{"$f":"GD96","v":0},{"$f":"FV96","v":0}]
[]
[]
[]
[]
[]
[{"$f":"GO8","v":0},{"$f":"GG8","v":0},"AAA Recurve"]
[{"$f":"GO9","v":0},{"$f":"GG9","v":0}]
[0,0]
[0,0]
[0,0]
[0,0]
[0,0]
[0,0]
[0,0]
[0,0]
[0,0]
[0,0]
[0,0]
[0,0]
[0,0]
[0,0]
[0,0]
[0,0]
[0,0]
[0,0]
[0,0]
[]
[]
[]
[]
[{"$f":"GZ8","v":0},{"$f":"GR8","v":0},"BBB Recurve"]
[{"$f":"GZ9","v":0},{"$f":"GR9","v":0}]
[0,0]
[0,0]
[0,0]
[0,0]
[0,0]
[0,0]
[0,0]
[0,0]
[0,0]
[0,0]
[0,0]
[0,0]
[0,0]
[0,0]
[0,0]
[0,0]
[0,0]
[0,0]
[0,0]
[]
[]
[]
[]
[{"$f":"HK8","v":0},{"$f":"HC8","v":0},"CCC Recurve"]
[{"$f":"HK9","v":0},{"$f":"HC9","v":0}]
[0,0]
[0,0]
[0,0]
[0,0]
[0,0]
[0,0]
[0,0]
[0,0]
[0,0]
[0,0]
[0,0]
[0,0]
[0,0]
[0,0]
[0,0]
[0,0]
[0,0]
[0,0]
[0,0]
[]
[]
[]
[]
[{"$f":"HV8","v":0},{"$f":"HN8","v":0},"DDD Recurve"]
[{"$f":"HV9","v":0},{"$f":"HN9","v":0}]
[0,0]
[0,0]
[0,0]
[0,0]
[0,0]
[0,0]
[0,0]
[0,0]
[0,0]
[0,0]
[0,0]
[0,0]
[0,0]
[0,0]
[0,0]
[0,0]
[0,0]
[0,0]
[0,0]
[]
[]
[]
[]
[{"$f":"IG8","v":0},{"$f":"HY8","v":0},"EEE Recurve"]
[{"$f":"IG9","v":0},{"$f":"HY9","v":0}]
[0,0]
[0,0]
[0,0]
[0,0]
[0,0]
[0,0]
[0,0]
[0,0]
[0,0]
[0,0]
[0,0]
[0,0]
[0,0]
[0,0]
[0,0]
[0,0]
[0,0]
[0,0]
[0,0]
[]
[]
[]
[]
[{"$f":"GO49","v":0},{"$f":"GG49","v":0},"AAA Barebow"]
[{"$f":"GO50","v":0},{"$f":"GG50","v":0}]
[0,0]
[0,0]
[0,0]
[0,0]
[0,0]
[0,0]
[0,0]
[0,0]
[0,0]
[0,0]
[0,0]
[0,0]
[0,0]
[0,0]
[0,0]
[0,0]
[0,0]
[0,0]
[0,0]
[]
[]
[]
[]
[{"$f":"GZ49","v":0},{"$f":"GR49","v":0},"BBB Barebow"]
[{"$f":"GZ50","v":0},{"$f":"GR50","v":0}]
[0,0]
[0,0]
[0,0]
[0,0]
[0,0]
[0,0]
[0,0]
[0,0]
[0,0]
[0,0]
[0,0]
[0,0]
[0,0]
[0,0]
[0,0]
[0,0]
[0,0]
[0,0]
[0,0]
[]
[]
[]
[]
[{"$f":"HK49","v":0},{"$f":"HC49","v":0},"CCC Barebow"]
[{"$f":"HK50","v":0},{"$f":"HC50","v":0}]
[0,0]
[0,0]
[0,0]
[0,0]
[0,0]
[0,0]
[0,0]
[0,0]
[0,0]
[0,0]
[0,0]
[0,0]
[0,0]
[0,0]
[0,0]
[0,0]
[0,0]
[0,0]
[0,0]
[]
[]
[]
[]
[{"$f":"HV49","v":0},{"$f":"HN49","v":0},"DDD Barebow"]
[{"$f":"HV50","v":0},{"$f":"HN50","v":0}]
[0,0]
[0,0]
[0,0]
[0,0]
[0,0]
[0,0]
[0,0]
[0,0]
[0,0]
[0,0]
[0,0]
[0,0]
[0,0]
[0,0]
[0,0]
[0,0]
[0,0]
[0,0]
[0,0]
[]
[]
[]
[]
[{"$f":"IG49","v":0},{"$f":"HY49","v":0},"EEE Barebow"]
[{"$f":"IG50","v":0},{"$f":"HY50","v":0}]
[0,0]
[0,0]
[0,0]
[0,0]
[0,0]
[0,0]
[0,0]
[0,0]
[0,0]
[0,0]
[0,0]
[0,0]
[0,0]
[0,0]
[0,0]
[0,0]
[0,0]
[0,0]
[0,0]
[]
[]
[]
[]
[{"$f":"GO92","v":0},{"$f":"GG92","v":0},"AAA Compound "]
[{"$f":"GO93","v":0},{"$f":"GG93","v":0}]
[0,0]
[0,0]
[0,0]
[]
[]
[]
[]
[]
[{"$f":"GZ92","v":0},{"$f":"GR92","v":0},"BBB Compound "]
[{"$f":"GZ93","v":0},{"$f":"GR93","v":0}]
[0,0]
[0,0]
[0,0]
[]
[]
[]
[]
[]
[{"$f":"HK92","v":0},{"$f":"HC92","v":0},"CCC Compound "]
[{"$f":"HK93","v":0},{"$f":"HC93","v":0}]
[0,0]
[0,0]
[0,0]
[]
[]
[]
[]
[]
[{"$f":"HV92","v":0},{"$f":"HN92","v":0},"DDD Compound "]
[{"$f":"HV93","v":0},{"$f":"HN93","v":0}]
[0,0]
[0,0]
[0,0]
[]
[]
[]
[]
[]
[{"$f":"IG92","v":0},{"$f":"HY92","v":0},"EEE Compound "]
[{"$f":"IG93","v":0},{"$f":"HY93","v":0}]
[0,0]
[0,0]
[0,0]

{"sheet":"Rec' List","index":15,"n_rows":23,"n_cols":35,"rows_kept":23,"cut":false,"hidden":false,"merged":[]}
["Recurve ",null,1,null,null,null,null,2,null,null,null,null,3,null,null,null,null,4,null,null,null,null,5,null,null,null,null,1,2,3,4,5,"total","lowest","league"]
[null,"DkIT",{"$f":"IF($C$1>Entries!$K$20,\"TBC\",LARGE(Tables!$Y$8:$Y$40,1))","v":514},{"$f":"IF($C$1>Entries!$K$20,\"TBC\",LARGE(Tables!$Y$8:$Y$40,2))","v":501},{"$f":"IF($C$1>Entries!$K$20,\"TBC\",LARGE(Tables!$Y$8:$Y$40,3))","v":499},{"$f":"IF($C$1>Entries!$K$20,\"TBC\",LARGE(Tables!$Y$8:$Y$40,4))","v":467},{"$f":"IF($C$1>Entries!$K$20,\"TBC\",SUM(C2:F2))","v":1981},{"$f":"IF($H$1>Entries!$K$20,\"TBC\",LARGE(Tables!$Z$8:$Z$40,1))","v":527},{"$f":"IF($H$1>Entries!$K$20,\"TBC\",LARGE(Tables!$Z$8:$Z$40,2))","v":510},{"$f":"IF($H$1>Entries!$K$20,\"TBC\",LARGE(Tables!$Z$8:$Z$40,3))","v":479},{"$f":"IF($H$1>Entries!$K$20,\"TBC\",LARGE(Tables!$Z$8:$Z$40,4))","v":470},{"$f":"IF($H$1>Entries!$K$20,\"TBC\",SUM(H2:K2))","v":1986},{"$f":"IF($M$1>Entries!$K$20,\"TBC\",LARGE(Tables!$AA$8:$AA$40,1))","v":507},{"$f":"IF($M$1>Entries!$K$20,\"TBC\",LARGE(Tables!$AA$8:$AA$40,2))","v":488},{"$f":"IF($M$1>Entries!$K$20,\"TBC\",LARGE(Tables!$AA$8:$AA$40,3))","v":486},{"$f":"IF($M$1>Entries!$K$20,\"TBC\",LARGE(Tables!$AA$8:$AA$40,4))","v":458},{"$f":"IF($M$1>Entries!$K$20,\"TBC\",SUM(M2:P2))","v":1939},{"$f":"IF($R$1>Entries!$K$20,\"TBC\",LARGE(Tables!$AB$8:$AB$40,1))","v":520},{"$f":"IF($R$1>Entries!$K$20,\"TBC\",LARGE(Tables!$AB$8:$AB$40,2))","v":509},{"$f":"IF($R$1>Entries!$K$20,\"TBC\",LARGE(Tables!$AB$8:$AB$40,3))","v":495},{"$f":"IF($R$1>Entries!$K$20,\"TBC\",LARGE(Tables!$AB$8:$AB$40,4))","v":486},{"$f":"IF($R$1>Entries!$K$20,\"TBC\",SUM(R2:U2))","v":2010},{"$f":"IF($W$1>Entries!$K$20,\"TBC\",LARGE(Tables!$AC$8:$AC$40,1))","v":540},{"$f":"IF($W$1>Entries!$K$20,\"TBC\",LARGE(Tables!$AC$8:$AC$40,2))","v":508},{"$f":"IF($W$1>Entries!$K$20,\"TBC\",LARGE(Tables!$AC$8:$AC$40,3))","v":496},{"$f":"IF($W$1>Entries!$K$20,\"TBC\",LARGE(Tables!$AC$8:$AC$40,4))","v":486},{"$f":"IF($W$1>Entries!$K$20,\"TBC\",SUM(W2:Z2))","v":2030},{"$f":"G2","v":1981},{"$f":"L2","v":1986},{"$f":"Q2","v":1939},{"$f":"V2","v":2010},{"$f":"AA2","v":2030},{"$f":"SUM(AB2:AF2)","v":9946},{"$f":"MIN(AB2:AF2)","v":1939},{"$f":"AG2-AH2+(LARGE(AB2:AF2,1)/10000)+(LARGE(AB2:AF2,2)/100000000)","v":8007.2030201000007}]
[null,"MU",{"$f":"IF($C$1>Entries!$K$20,\"TBC\",LARGE(Tables!$CM$8:$CM$40,1))","v":523},{"$f":"IF($C$1>Entries!$K$20,\"TBC\",LARGE(Tables!$CM$8:$CM$40,2))","v":495},{"$f":"IF($C$1>Entries!$K$20,\"TBC\",LARGE(Tables!$CM$8:$CM$40,3))","v":489},{"$f":"IF($C$1>Entries!$K$20,\"TBC\",LARGE(Tables!$CM$8:$CM$40,4))","v":0},{"$f":"IF($C$1>Entries!$K$20,\"TBC\",SUM(C3:F3))","v":1507},{"$f":"IF($H$1>Entries!$K$20,\"TBC\",LARGE(Tables!$CN$8:$CN$40,1))","v":495},{"$f":"IF($H$1>Entries!$K$20,\"TBC\",LARGE(Tables!$CN$8:$CN$40,2))","v":486},{"$f":"IF($H$1>Entries!$K$20,\"TBC\",LARGE(Tables!$CN$8:$CN$40,3))","v":460},{"$f":"IF($H$1>Entries!$K$20,\"TBC\",LARGE(Tables!$CN$8:$CN$40,4))","v":398},{"$f":"IF($H$1>Entries!$K$20,\"TBC\",SUM(H3:K3))","v":1839},{"$f":"IF($M$1>Entries!$K$20,\"TBC\",LARGE(Tables!$CO$8:$CO$40,1))","v":530},{"$f":"IF($M$1>Entries!$K$20,\"TBC\",LARGE(Tables!$CO$8:$CO$40,2))","v":511},{"$f":"IF($M$1>Entries!$K$20,\"TBC\",LARGE(Tables!$CO$8:$CO$40,3))","v":509},{"$f":"IF($M$1>Entries!$K$20,\"TBC\",LARGE(Tables!$CO$8:$CO$40,4))","v":466},{"$f":"IF($M$1>Entries!$K$20,\"TBC\",SUM(M3:P3))","v":2016},{"$f":"IF($R$1>Entries!$K$20,\"TBC\",LARGE(Tables!$CP$8:$CP$40,1))","v":512},{"$f":"IF($R$1>Entries!$K$20,\"TBC\",LARGE(Tables!$CP$8:$CP$40,2))","v":482},{"$f":"IF($R$1>Entries!$K$20,\"TBC\",LARGE(Tables!$CP$8:$CP$40,3))","v":468},{"$f":"IF($R$1>Entries!$K$20,\"TBC\",LARGE(Tables!$CP$8:$CP$40,4))","v":424},{"$f":"IF($R$1>Entries!$K$20,\"TBC\",SUM(R3:U3))","v":1886},{"$f":"IF($W$1>Entries!$K$20,\"TBC\",LARGE(Tables!$CQ$8:$CQ$40,1))","v":524},{"$f":"IF($W$1>Entries!$K$20,\"TBC\",LARGE(Tables!$CQ$8:$CQ$40,2))","v":502},{"$f":"IF($W$1>Entries!$K$20,\"TBC\",LARGE(Tables!$CQ$8:$CQ$40,3))","v":486},{"$f":"IF($W$1>Entries!$K$20,\"TBC\",LARGE(Tables!$CQ$8:$CQ$40,4))","v":452},{"$f":"IF($W$1>Entries!$K$20,\"TBC\",SUM(W3:Z3))","v":1964},1507,1839,2016,1886,1964,9212,1507,7705.20161964]
[null,"DIT",{"$f":"IF($C$1>Entries!$K$20,\"TBC\",LARGE(Tables!$N$8:$N$40,1))","v":509},{"$f":"IF($C$1>Entries!$K$20,\"TBC\",LARGE(Tables!$N$8:$N$40,2))","v":477},{"$f":"IF($C$1>Entries!$K$20,\"TBC\",LARGE(Tables!$N$8:$N$40,3))","v":423},{"$f":"IF($C$1>Entries!$K$20,\"TBC\",LARGE(Tables!$N$8:$N$40,4))","v":409},{"$f":"IF($C$1>Entries!$K$20,\"TBC\",SUM(C4:F4))","v":1818},{"$f":"IF($H$1>Entries!$K$20,\"TBC\",LARGE(Tables!$O$8:$O$40,1))","v":506},{"$f":"IF($H$1>Entries!$K$20,\"TBC\",LARGE(Tables!$O$8:$O$40,2))","v":497},{"$f":"IF($H$1>Entries!$K$20,\"TBC\",LARGE(Tables!$O$8:$O$40,3))","v":412},{"$f":"IF($H$1>Entries!$K$20,\"TBC\",LARGE(Tables!$O$8:$O$40,4))","v":378},{"$f":"IF($H$1>Entries!$K$20,\"TBC\",SUM(H4:K4))","v":1793},{"$f":"IF($M$1>Entries!$K$20,\"TBC\",LARGE(Tables!$P$8:$P$40,1))","v":515},{"$f":"IF($M$1>Entries!$K$20,\"TBC\",LARGE(Tables!$P$8:$P$40,2))","v":482},{"$f":"IF($M$1>Entries!$K$20,\"TBC\",LARGE(Tables!$P$8:$P$40,3))","v":479},{"$f":"IF($M$1>Entries!$K$20,\"TBC\",LARGE(Tables!$P$8:$P$40,4))","v":440},{"$f":"IF($M$1>Entries!$K$20,\"TBC\",SUM(M4:P4))","v":1916},{"$f":"IF($R$1>Entries!$K$20,\"TBC\",LARGE(Tables!$Q$8:$Q$40,1))","v":515},{"$f":"IF($R$1>Entries!$K$20,\"TBC\",LARGE(Tables!$Q$8:$Q$40,2))","v":513},{"$f":"IF($R$1>Entries!$K$20,\"TBC\",LARGE(Tables!$Q$8:$Q$40,3))","v":498},{"$f":"IF($R$1>Entries!$K$20,\"TBC\",LARGE(Tables!$Q$8:$Q$40,4))","v":481},{"$f":"IF($R$1>Entries!$K$20,\"TBC\",SUM(R4:U4))","v":2007},{"$f":"IF($W$1>Entries!$K$20,\"TBC\",LARGE(Tables!$R$8:$R$40,1))","v":512},{"$f":"IF($W$1>Entries!$K$20,\"TBC\",LARGE(Tables!$R$8:$R$40,2))","v":510},{"$f":"IF($W$1>Entries!$K$20,\"TBC\",LARGE(Tables!$R$8:$R$40,3))","v":481},{"$f":"IF($W$1>Entries!$K$20,\"TBC\",LARGE(Tables!$R$8:$R$40,4))","v":457},{"$f":"IF($W$1>Entries!$K$20,\"TBC\",SUM(W4:Z4))","v":1960},1818,1793,1916,2007,1960,9494,1793,7701.2007196000004]
[null,"UCD",{"$f":"IF($C$1>Entries!$K$20,\"TBC\",LARGE(Tables!$EP$8:$EP$40,1))","v":522},{"$f":"IF($C$1>Entries!$K$20,\"TBC\",LARGE(Tables!$EP$8:$EP$40,2))","v":454},{"$f":"IF($C$1>Entries!$K$20,\"TBC\",LARGE(Tables!$EP$8:$EP$40,3))","v":439},{"$f":"IF($C$1>Entries!$K$20,\"TBC\",LARGE(Tables!$EP$8:$EP$40,4))","v":439},{"$f":"IF($C$1>Entries!$K$20,\"TBC\",SUM(C5:F5))","v":1854},{"$f":"IF($H$1>Entries!$K$20,\"TBC\",LARGE(Tables!$EQ$8:$EQ$40,1))","v":517},{"$f":"IF($H$1>Entries!$K$20,\"TBC\",LARGE(Tables!$EQ$8:$EQ$40,2))","v":481},{"$f":"IF($H$1>Entries!$K$20,\"TBC\",LARGE(Tables!$EQ$8:$EQ$40,3))","v":438},{"$f":"IF($H$1>Entries!$K$20,\"TBC\",LARGE(Tables!$EQ$8:$EQ$40,4))","v":426},{"$f":"IF($H$1>Entries!$K$20,\"TBC\",SUM(H5:K5))","v":1862},{"$f":"IF($M$1>Entries!$K$20,\"TBC\",LARGE(Tables!$ER$8:$ER$40,1))","v":529},{"$f":"IF($M$1>Entries!$K$20,\"TBC\",LARGE(Tables!$ER$8:$ER$40,2))","v":482},{"$f":"IF($M$1>Entries!$K$20,\"TBC\",LARGE(Tables!$ER$8:$ER$40,3))","v":473},{"$f":"IF($M$1>Entries!$K$20,\"TBC\",LARGE(Tables!$ER$8:$ER$40,4))","v":440},{"$f":"IF($M$1>Entries!$K$20,\"TBC\",SUM(M5:P5))","v":1924},{"$f":"IF($R$1>Entries!$K$20,\"TBC\",LARGE(Tables!$ES$8:$ES$40,1))","v":528},{"$f":"IF($R$1>Entries!$K$20,\"TBC\",LARGE(Tables!$ES$8:$ES$40,2))","v":517},{"$f":"IF($R$1>Entries!$K$20,\"TBC\",LARGE(Tables!$ES$8:$ES$40,3))","v":436},{"$f":"IF($R$1>Entries!$K$20,\"TBC\",LARGE(Tables!$ES$8:$ES$40,4))","v":435},{"$f":"IF($R$1>Entries!$K$20,\"TBC\",SUM(R5:U5))","v":1916},{"$f":"IF($W$1>Entries!$K$20,\"TBC\",LARGE(Tables!$ET$8:$ET$40,1))","v":516},{"$f":"IF($W$1>Entries!$K$20,\"TBC\",LARGE(Tables!$ET$8:$ET$40,2))","v":503},{"$f":"IF($W$1>Entries!$K$20,\"TBC\",LARGE(Tables!$ET$8:$ET$40,3))","v":500},{"$f":"IF($W$1>Entries!$K$20,\"TBC\",LARGE(Tables!$ET$8:$ET$40,4))","v":465},{"$f":"IF($W$1>Entries!$K$20,\"TBC\",SUM(W5:Z5))","v":1984},1854,1862,1924,1916,1984,9540,1854,7686.1984192400005]
[null,"NUIG",{"$f":"IF($C$1>Entries!$K$20,\"TBC\",LARGE(Tables!$DI$8:$DI$40,1))","v":482},{"$f":"IF($C$1>Entries!$K$20,\"TBC\",LARGE(Tables!$DI$8:$DI$40,2))","v":470},{"$f":"IF($C$1>Entries!$K$20,\"TBC\",LARGE(Tables!$DI$8:$DI$40,3))","v":438},{"$f":"IF($C$1>Entries!$K$20,\"TBC\",LARGE(Tables!$DI$8:$DI$40,4))","v":413},{"$f":"IF($C$1>Entries!$K$20,\"TBC\",SUM(C6:F6))","v":1803},{"$f":"IF($H$1>Entries!$K$20,\"TBC\",LARGE(Tables!$DJ$8:$DJ$40,1))","v":465},{"$f":"IF($H$1>Entries!$K$20,\"TBC\",LARGE(Tables!$DJ$8:$DJ$40,2))","v":430},{"$f":"IF($H$1>Entries!$K$20,\"TBC\",LARGE(Tables!$DJ$8:$DJ$40,3))","v":386},{"$f":"IF($H$1>Entries!$K$20,\"TBC\",LARGE(Tables!$DJ$8:$DJ$40,4))","v":380},{"$f":"IF($H$1>Entries!$K$20,\"TBC\",SUM(H6:K6))","v":1661},{"$f":"IF($M$1>Entries!$K$20,\"TBC\",LARGE(Tables!$DK$8:$DK$40,1))","v":569},{"$f":"IF($M$1>Entries!$K$20,\"TBC\",LARGE(Tables!$DK$8:$DK$40,2))","v":507},{"$f":"IF($M$1>Entries!$K$20,\"TBC\",LARGE(Tables!$DK$8:$DK$40,3))","v":464},{"$f":"IF($M$1>Entries!$K$20,\"TBC\",LARGE(Tables!$DK$8:$DK$40,4))","v":424},{"$f":"IF($M$1>Entries!$K$20,\"TBC\",SUM(M6:P6))","v":1964},{"$f":"IF($R$1>Entries!$K$20,\"TBC\",LARGE(Tables!$DL$8:$DL$40,1))","v":483},{"$f":"IF($R$1>Entries!$K$20,\"TBC\",LARGE(Tables!$DL$8:$DL$40,2))","v":434},{"$f":"IF($R$1>Entries!$K$20,\"TBC\",LARGE(Tables!$DL$8:$DL$40,3))","v":400},{"$f":"IF($R$1>Entries!$K$20,\"TBC\",LARGE(Tables!$DL$8:$DL$40,4))","v":355},{"$f":"IF($R$1>Entries!$K$20,\"TBC\",SUM(R6:U6))","v":1672},{"$f":"IF($W$1>Entries!$K$20,\"TBC\",LARGE(Tables!$DM$8:$DM$40,1))","v":516},{"$f":"IF($W$1>Entries!$K$20,\"TBC\",LARGE(Tables!$DM$8:$DM$40,2))","v":459},{"$f":"IF($W$1>Entries!$K$20,\"TBC\",LARGE(Tables!$DM$8:$DM$40,3))","v":441},{"$f":"IF($W$1>Entries!$K$20,\"TBC\",LARGE(Tables!$DM$8:$DM$40,4))","v":420},{"$f":"IF($W$1>Entries!$K$20,\"TBC\",SUM(W6:Z6))","v":1836},1803,1661,1964,1672,1836,8936,1661,7275.1964183599994]
[null,"DCU",{"$f":"IF($C$1>Entries!$K$20,\"TBC\",LARGE(Tables!$C$8:$C$40,1))","v":484},{"$f":"IF($C$1>Entries!$K$20,\"TBC\",LARGE(Tables!$C$8:$C$40,2))","v":471},{"$f":"IF($C$1>Entries!$K$20,\"TBC\",LARGE(Tables!$C$8:$C$40,3))","v":458},{"$f":"IF($C$1>Entries!$K$20,\"TBC\",LARGE(Tables!$C$8:$C$40,4))","v":429},{"$f":"IF($C$1>Entries!$K$20,\"TBC\",SUM(C7:F7))","v":1842},{"$f":"IF($H$1>Entries!$K$20,\"TBC\",LARGE(Tables!$D$8:$D$40,1))","v":480},{"$f":"IF($H$1>Entries!$K$20,\"TBC\",LARGE(Tables!$D$8:$D$40,2))","v":480},{"$f":"IF($H$1>Entries!$K$20,\"TBC\",LARGE(Tables!$D$8:$D$40,3))","v":443},{"$f":"IF($H$1>Entries!$K$20,\"TBC\",LARGE(Tables!$D$8:$D$40,4))","v":443},{"$f":"IF($H$1>Entries!$K$20,\"TBC\",SUM(H7:K7))","v":1846},{"$f":"IF($M$1>Entries!$K$20,\"TBC\",LARGE(Tables!$E$8:$E$40,1))","v":472},{"$f":"IF($M$1>Entries!$K$20,\"TBC\",LARGE(Tables!$E$8:$E$40,2))","v":371},{"$f":"IF($M$1>Entries!$K$20,\"TBC\",LARGE(Tables!$E$8:$E$40,3))","v":314},{"$f":"IF($M$1>Entries!$K$20,\"TBC\",LARGE(Tables!$E$8:$E$40,4))","v":290},{"$f":"IF($M$1>Entries!$K$20,\"TBC\",SUM(M7:P7))","v":1447},{"$f":"IF($R$1>Entries!$K$20,\"TBC\",LARGE(Tables!$F$8:$F$40,1))","v":420},{"$f":"IF($R$1>Entries!$K$20,\"TBC\",LARGE(Tables!$F$8:$F$40,2))","v":411},{"$f":"IF($R$1>Entries!$K$20,\"TBC\",LARGE(Tables!$F$8:$F$40,3))","v":402},{"$f":"IF($R$1>Entries!$K$20,\"TBC\",LARGE(Tables!$F$8:$F$40,4))","v":372},{"$f":"IF($R$1>Entries!$K$20,\"TBC\",SUM(R7:U7))","v":1605},{"$f":"IF($W$1>Entries!$K$20,\"TBC\",LARGE(Tables!$G$8:$G$40,1))","v":496},{"$f":"IF($W$1>Entries!$K$20,\"TBC\",LARGE(Tables!$G$8:$G$40,2))","v":469},{"$f":"IF($W$1>Entries!$K$20,\"TBC\",LARGE(Tables!$G$8:$G$40,3))","v":398},{"$f":"IF($W$1>Entries!$K$20,\"TBC\",LARGE(Tables!$G$8:$G$40,4))","v":344},{"$f":"IF($W$1>Entries!$K$20,\"TBC\",SUM(W7:Z7))","v":1707},1842,1846,1447,1605,1707,8447,1447,7000.1846184199994]
[null,"UCC",{"$f":"IF($C$1>Entries!$K$20,\"TBC\",LARGE(Tables!$EE$8:$EE$40,1))","v":483},{"$f":"IF($C$1>Entries!$K$20,\"TBC\",LARGE(Tables!$EE$8:$EE$40,2))","v":471},{"$f":"IF($C$1>Entries!$K$20,\"TBC\",LARGE(Tables!$EE$8:$EE$40,3))","v":397},{"$f":"IF($C$1>Entries!$K$20,\"TBC\",LARGE(Tables!$EE$8:$EE$40,4))","v":378},{"$f":"IF($C$1>Entries!$K$20,\"TBC\",SUM(C8:F8))","v":1729},{"$f":"IF($H$1>Entries!$K$20,\"TBC\",LARGE(Tables!$EF$8:$EF$40,1))","v":0},{"$f":"IF($H$1>Entries!$K$20,\"TBC\",LARGE(Tables!$EF$8:$EF$40,2))","v":0},{"$f":"IF($H$1>Entries!$K$20,\"TBC\",LARGE(Tables!$EF$8:$EF$40,3))","v":0},{"$f":"IF($H$1>Entries!$K$20,\"TBC\",LARGE(Tables!$EF$8:$EF$40,4))","v":0},{"$f":"IF($H$1>Entries!$K$20,\"TBC\",SUM(H8:K8))","v":0},{"$f":"IF($M$1>Entries!$K$20,\"TBC\",LARGE(Tables!$EG$8:$EG$40,1))","v":453},{"$f":"IF($M$1>Entries!$K$20,\"TBC\",LARGE(Tables!$EG$8:$EG$40,2))","v":448},{"$f":"IF($M$1>Entries!$K$20,\"TBC\",LARGE(Tables!$EG$8:$EG$40,3))","v":424},{"$f":"IF($M$1>Entries!$K$20,\"TBC\",LARGE(Tables!$EG$8:$EG$40,4))","v":325},{"$f":"IF($M$1>Entries!$K$20,\"TBC\",SUM(M8:P8))","v":1650},{"$f":"IF($R$1>Entries!$K$20,\"TBC\",LARGE(Tables!$EH$8:$EH$40,1))","v":455},{"$f":"IF($R$1>Entries!$K$20,\"TBC\",LARGE(Tables!$EH$8:$EH$40,2))","v":452},{"$f":"IF($R$1>Entries!$K$20,\"TBC\",LARGE(Tables!$EH$8:$EH$40,3))","v":447},{"$f":"IF($R$1>Entries!$K$20,\"TBC\",LARGE(Tables!$EH$8:$EH$40,4))","v":399},{"$f":"IF($R$1>Entries!$K$20,\"TBC\",SUM(R8:U8))","v":1753},{"$f":"IF($W$1>Entries!$K$20,\"TBC\",LARGE(Tables!$EI$8:$EI$40,1))","v":466},{"$f":"IF($W$1>Entries!$K$20,\"TBC\",LARGE(Tables!$EI$8:$EI$40,2))","v":413},{"$f":"IF($W$1>Entries!$K$20,\"TBC\",LARGE(Tables!$EI$8:$EI$40,3))","v":411},{"$f":"IF($W$1>Entries!$K$20,\"TBC\",LARGE(Tables!$EI$8:$EI$40,4))","v":400},{"$f":"IF($W$1>Entries!$K$20,\"TBC\",SUM(W8:Z8))","v":1690},1729,0,1650,1753,1690,6822,0,6822.1753172899998]
[null,"GMIT",{"$f":"IF($C$1>Entries!$K$20,\"TBC\",LARGE(Tables!$AU$8:$AU$40,1))","v":524},{"$f":"IF($C$1>Entries!$K$20,\"TBC\",LARGE(Tables!$AU$8:$AU$40,2))","v":435},{"$f":"IF($C$1>Entries!$K$20,\"TBC\",LARGE(Tables!$AU$8:$AU$40,3))","v":393},{"$f":"IF($C$1>Entries!$K$20,\"TBC\",LARGE(Tables!$AU$8:$AU$40,4))","v":330},{"$f":"IF($C$1>Entries!$K$20,\"TBC\",SUM(C9:F9))","v":1682},{"$f":"IF($H$1>Entries!$K$20,\"TBC\",LARGE(Tables!$AV$8:$AV$40,1))","v":488},{"$f":"IF($H$1>Entries!$K$20,\"TBC\",LARGE(Tables!$AV$8:$AV$40,2))","v":392},{"$f":"IF($H$1>Entries!$K$20,\"TBC\",LARGE(Tables!$AV$8:$AV$40,3))","v":371},{"$f":"IF($H$1>Entries!$K$20,\"TBC\",LARGE(Tables!$AV$8:$AV$40,4))","v":283},{"$f":"IF($H$1>Entries!$K$20,\"TBC\",SUM(H9:K9))","v":1534},{"$f":"IF($M$1>Entries!$K$20,\"TBC\",LARGE(Tables!$AW$8:$AW$40,1))","v":517},{"$f":"IF($M$1>Entries!$K$20,\"TBC\",LARGE(Tables!$AW$8:$AW$40,2))","v":459},{"$f":"IF($M$1>Entries!$K$20,\"TBC\",LARGE(Tables!$AW$8:$AW$40,3))","v":401},{"$f":"IF($M$1>Entries!$K$20,\"TBC\",LARGE(Tables!$AW$8:$AW$40,4))","v":391},{"$f":"IF($M$1>Entries!$K$20,\"TBC\",SUM(M9:P9))","v":1768},{"$f":"IF($R$1>Entries!$K$20,\"TBC\",LARGE(Tables!$AX$8:$AX$40,1))","v":407},{"$f":"IF($R$1>Entries!$K$20,\"TBC\",LARGE(Tables!$AX$8:$AX$40,2))","v":398},{"$f":"IF($R$1>Entries!$K$20,\"TBC\",LARGE(Tables!$AX$8:$AX$40,3))","v":388},{"$f":"IF($R$1>Entries!$K$20,\"TBC\",LARGE(Tables!$AX$8:$AX$40,4))","v":358},{"$f":"IF($R$1>Entries!$K$20,\"TBC\",SUM(R9:U9))","v":1551},{"$f":"IF($W$1>Entries!$K$20,\"TBC\",LARGE(Tables!$AY$8:$AY$40,1))","v":501},{"$f":"IF($W$1>Entries!$K$20,\"TBC\",LARGE(Tables!$AY$8:$AY$40,2))","v":444},{"$f":"IF($W$1>Entries!$K$20,\"TBC\",LARGE(Tables!$AY$8:$AY$40,3))","v":338},{"$f":"IF($W$1>Entries!$K$20,\"TBC\",LARGE(Tables!$AY$8:$AY$40,4))","v":330},{"$f":"IF($W$1>Entries!$K$20,\"TBC\",SUM(W9:Z9))","v":1613},1682,1534,1768,1551,1613,8148,1534,6614.1768168200006]
[null,"UL",{"$f":"IF($C$1>Entries!$K$20,\"TBC\",LARGE(Tables!$FA$8:$FA$40,1))","v":473},{"$f":"IF($C$1>Entries!$K$20,\"TBC\",LARGE(Tables!$FA$8:$FA$40,2))","v":440},{"$f":"IF($C$1>Entries!$K$20,\"TBC\",LARGE(Tables!$FA$8:$FA$40,3))","v":400},{"$f":"IF($C$1>Entries!$K$20,\"TBC\",LARGE(Tables!$FA$8:$FA$40,4))","v":335},{"$f":"IF($C$1>Entries!$K$20,\"TBC\",SUM(C10:F10))","v":1648},{"$f":"IF($H$1>Entries!$K$20,\"TBC\",LARGE(Tables!$FB$8:$FB$40,1))","v":436},{"$f":"IF($H$1>Entries!$K$20,\"TBC\",LARGE(Tables!$FB$8:$FB$40,2))","v":432},{"$f":"IF($H$1>Entries!$K$20,\"TBC\",LARGE(Tables!$FB$8:$FB$40,3))","v":385},{"$f":"IF($H$1>Entries!$K$20,\"TBC\",LARGE(Tables!$FB$8:$FB$40,4))","v":358},{"$f":"IF($H$1>Entries!$K$20,\"TBC\",SUM(H10:K10))","v":1611},{"$f":"IF($M$1>Entries!$K$20,\"TBC\",LARGE(Tables!$FC$8:$FC$40,1))","v":448},{"$f":"IF($M$1>Entries!$K$20,\"TBC\",LARGE(Tables!$FC$8:$FC$40,2))","v":429},{"$f":"IF($M$1>Entries!$K$20,\"TBC\",LARGE(Tables!$FC$8:$FC$40,3))","v":405},{"$f":"IF($M$1>Entries!$K$20,\"TBC\",LARGE(Tables!$FC$8:$FC$40,4))","v":340},{"$f":"IF($M$1>Entries!$K$20,\"TBC\",SUM(M10:P10))","v":1622},{"$f":"IF($R$1>Entries!$K$20,\"TBC\",LARGE(Tables!$FD$8:$FD$40,1))","v":432},{"$f":"IF($R$1>Entries!$K$20,\"TBC\",LARGE(Tables!$FD$8:$FD$40,2))","v":375},{"$f":"IF($R$1>Entries!$K$20,\"TBC\",LARGE(Tables!$FD$8:$FD$40,3))","v":331},{"$f":"IF($R$1>Entries!$K$20,\"TBC\",LARGE(Tables!$FD$8:$FD$40,4))","v":308},{"$f":"IF($R$1>Entries!$K$20,\"TBC\",SUM(R10:U10))","v":1446},{"$f":"IF($W$1>Entries!$K$20,\"TBC\",LARGE(Tables!$FE$8:$FE$40,1))","v":453},{"$f":"IF($W$1>Entries!$K$20,\"TBC\",LARGE(Tables!$FE$8:$FE$40,2))","v":433},{"$f":"IF($W$1>Entries!$K$20,\"TBC\",LARGE(Tables!$FE$8:$FE$40,3))","v":405},{"$f":"IF($W$1>Entries!$K$20,\"TBC\",LARGE(Tables!$FE$8:$FE$40,4))","v":353},{"$f":"IF($W$1>Entries!$K$20,\"TBC\",SUM(W10:Z10))","v":1644},1648,1611,1622,1446,1644,7971,1446,6525.1648164399994]
[null,"UU",{"$f":"IF($C$1>Entries!$K$20,\"TBC\",LARGE(Tables!$FL$8:$FL$40,1))","v":0},{"$f":"IF($C$1>Entries!$K$20,\"TBC\",LARGE(Tables!$FL$8:$FL$40,2))","v":0},{"$f":"IF($C$1>Entries!$K$20,\"TBC\",LARGE(Tables!$FL$8:$FL$40,3))","v":0},{"$f":"IF($C$1>Entries!$K$20,\"TBC\",LARGE(Tables!$FL$8:$FL$40,4))","v":0},{"$f":"IF($C$1>Entries!$K$20,\"TBC\",SUM(C11:F11))","v":0},{"$f":"IF($H$1>Entries!$K$20,\"TBC\",LARGE(Tables!$FM$8:$FM$40,1))","v":418},{"$f":"IF($H$1>Entries!$K$20,\"TBC\",LARGE(Tables!$FM$8:$FM$40,2))","v":239},{"$f":"IF($H$1>Entries!$K$20,\"TBC\",LARGE(Tables!$FM$8:$FM$40,3))","v":0},{"$f":"IF($H$1>Entries!$K$20,\"TBC\",LARGE(Tables!$FM$8:$FM$40,4))","v":0},{"$f":"IF($H$1>Entries!$K$20,\"TBC\",SUM(H11:K11))","v":657},{"$f":"IF($M$1>Entries!$K$20,\"TBC\",LARGE(Tables!$FN$8:$FN$40,1))","v":505},{"$f":"IF($M$1>Entries!$K$20,\"TBC\",LARGE(Tables!$FN$8:$FN$40,2))","v":380},{"$f":"IF($M$1>Entries!$K$20,\"TBC\",LARGE(Tables!$FN$8:$FN$40,3))","v":378},{"$f":"IF($M$1>Entries!$K$20,\"TBC\",LARGE(Tables!$FN$8:$FN$40,4))","v":0},{"$f":"IF($M$1>Entries!$K$20,\"TBC\",SUM(M11:P11))","v":1263},{"$f":"IF($R$1>Entries!$K$20,\"TBC\",LARGE(Tables!$FO$8:$FO$40,1))","v":478},{"$f":"IF($R$1>Entries!$K$20,\"TBC\",LARGE(Tables!$FO$8:$FO$40,2))","v":376},{"$f":"IF($R$1>Entries!$K$20,\"TBC\",LARGE(Tables!$FO$8:$FO$40,3))","v":365},{"$f":"IF($R$1>Entries!$K$20,\"TBC\",LARGE(Tables!$FO$8:$FO$40,4))","v":349},{"$f":"IF($R$1>Entries!$K$20,\"TBC\",SUM(R11:U11))","v":1568},{"$f":"IF($W$1>Entries!$K$20,\"TBC\",LARGE(Tables!$FP$8:$FP$40,1))","v":496},{"$f":"IF($W$1>Entries!$K$20,\"TBC\",LARGE(Tables!$FP$8:$FP$40,2))","v":134},{"$f":"IF($W$1>Entries!$K$20,\"TBC\",LARGE(Tables!$FP$8:$FP$40,3))","v":0},{"$f":"IF($W$1>Entries!$K$20,\"TBC\",LARGE(Tables!$FP$8:$FP$40,4))","v":0},{"$f":"IF($W$1>Entries!$K$20,\"TBC\",SUM(W11:Z11))","v":630},0,657,1263,1568,630,4118,0,4118.1568126299999]
[null,"DUAC",{"$f":"IF($C$1>Entries!$K$20,\"TBC\",LARGE(Tables!$AJ$8:$AJ$40,1))","v":0},{"$f":"IF($C$1>Entries!$K$20,\"TBC\",LARGE(Tables!$AJ$8:$AJ$40,2))","v":0},{"$f":"IF($C$1>Entries!$K$20,\"TBC\",LARGE(Tables!$AJ$8:$AJ$40,3))","v":0},{"$f":"IF($C$1>Entries!$K$20,\"TBC\",LARGE(Tables!$AJ$8:$AJ$40,4))","v":0},{"$f":"IF($C$1>Entries!$K$20,\"TBC\",SUM(C12:F12))","v":0},{"$f":"IF($H$1>Entries!$K$20,\"TBC\",LARGE(Tables!$AK$8:$AK$40,1))","v":464},{"$f":"IF($H$1>Entries!$K$20,\"TBC\",LARGE(Tables!$AK$8:$AK$40,2))","v":389},{"$f":"IF($H$1>Entries!$K$20,\"TBC\",LARGE(Tables!$AK$8:$AK$40,3))","v":367},{"$f":"IF($H$1>Entries!$K$20,\"TBC\",LARGE(Tables!$AK$8:$AK$40,4))","v":290},{"$f":"IF($H$1>Entries!$K$20,\"TBC\",SUM(H12:K12))","v":1510},{"$f":"IF($M$1>Entries!$K$20,\"TBC\",LARGE(Tables!$AL$8:$AL$40,1))","v":0},{"$f":"IF($M$1>Entries!$K$20,\"TBC\",LARGE(Tables!$AL$8:$AL$40,2))","v":0},{"$f":"IF($M$1>Entries!$K$20,\"TBC\",LARGE(Tables!$AL$8:$AL$40,3))","v":0},{"$f":"IF($M$1>Entries!$K$20,\"TBC\",LARGE(Tables!$AL$8:$AL$40,4))","v":0},{"$f":"IF($M$1>Entries!$K$20,\"TBC\",SUM(M12:P12))","v":0},{"$f":"IF($R$1>Entries!$K$20,\"TBC\",LARGE(Tables!$AM$8:$AM$40,1))","v":407},{"$f":"IF($R$1>Entries!$K$20,\"TBC\",LARGE(Tables!$AM$8:$AM$40,2))","v":403},{"$f":"IF($R$1>Entries!$K$20,\"TBC\",LARGE(Tables!$AM$8:$AM$40,3))","v":379},{"$f":"IF($R$1>Entries!$K$20,\"TBC\",LARGE(Tables!$AM$8:$AM$40,4))","v":0},{"$f":"IF($R$1>Entries!$K$20,\"TBC\",SUM(R12:U12))","v":1189},{"$f":"IF($W$1>Entries!$K$20,\"TBC\",LARGE(Tables!$AN$8:$AN$40,1))","v":410},{"$f":"IF($W$1>Entries!$K$20,\"TBC\",LARGE(Tables!$AN$8:$AN$40,2))","v":380},{"$f":"IF($W$1>Entries!$K$20,\"TBC\",LARGE(Tables!$AN$8:$AN$40,3))","v":284},{"$f":"IF($W$1>Entries!$K$20,\"TBC\",LARGE(Tables!$AN$8:$AN$40,4))","v":0},{"$f":"IF($W$1>Entries!$K$20,\"TBC\",SUM(W12:Z12))","v":1074},0,1510,0,1189,1074,3773,0,3773.1510118900001]
[null,"IT Tallaght",{"$f":"IF($C$1>Entries!$K$20,\"TBC\",LARGE(Tables!$BQ$8:$BQ$40,1))","v":401},{"$f":"IF($C$1>Entries!$K$20,\"TBC\",LARGE(Tables!$BQ$8:$BQ$40,2))","v":0},{"$f":"IF($C$1>Entries!$K$20,\"TBC\",LARGE(Tables!$BQ$8:$BQ$40,3))","v":0},{"$f":"IF($C$1>Entries!$K$20,\"TBC\",LARGE(Tables!$BQ$8:$BQ$40,4))","v":0},{"$f":"IF($C$1>Entries!$K$20,\"TBC\",SUM(C13:F13))","v":401},{"$f":"IF($H$1>Entries!$K$20,\"TBC\",LARGE(Tables!$BR$8:$BR$40,1))","v":488},{"$f":"IF($H$1>Entries!$K$20,\"TBC\",LARGE(Tables!$BR$8:$BR$40,2))","v":0},{"$f":"IF($H$1>Entries!$K$20,\"TBC\",LARGE(Tables!$BR$8:$BR$40,3))","v":0},{"$f":"IF($H$1>Entries!$K$20,\"TBC\",LARGE(Tables!$BR$8:$BR$40,4))","v":0},{"$f":"IF($H$1>Entries!$K$20,\"TBC\",SUM(H13:K13))","v":488},{"$f":"IF($M$1>Entries!$K$20,\"TBC\",LARGE(Tables!$BS$8:$BS$40,1))","v":525},{"$f":"IF($M$1>Entries!$K$20,\"TBC\",LARGE(Tables!$BS$8:$BS$40,2))","v":0},{"$f":"IF($M$1>Entries!$K$20,\"TBC\",LARGE(Tables!$BS$8:$BS$40,3))","v":0},{"$f":"IF($M$1>Entries!$K$20,\"TBC\",LARGE(Tables!$BS$8:$BS$40,4))","v":0},{"$f":"IF($M$1>Entries!$K$20,\"TBC\",SUM(M13:P13))","v":525},{"$f":"IF($R$1>Entries!$K$20,\"TBC\",LARGE(Tables!$BT$8:$BT$40,1))","v":473},{"$f":"IF($R$1>Entries!$K$20,\"TBC\",LARGE(Tables!$BT$8:$BT$40,2))","v":0},{"$f":"IF($R$1>Entries!$K$20,\"TBC\",LARGE(Tables!$BT$8:$BT$40,3))","v":0},{"$f":"IF($R$1>Entries!$K$20,\"TBC\",LARGE(Tables!$BT$8:$BT$40,4))","v":0},{"$f":"IF($R$1>Entries!$K$20,\"TBC\",SUM(R13:U13))","v":473},{"$f":"IF($W$1>Entries!$K$20,\"TBC\",LARGE(Tables!$BU$8:$BU$40,1))","v":503},{"$f":"IF($W$1>Entries!$K$20,\"TBC\",LARGE(Tables!$BU$8:$BU$40,2))","v":0},{"$f":"IF($W$1>Entries!$K$20,\"TBC\",LARGE(Tables!$BU$8:$BU$40,3))","v":0},{"$f":"IF($W$1>Entries!$K$20,\"TBC\",LARGE(Tables!$BU$8:$BU$40,4))","v":0},{"$f":"IF($W$1>Entries!$K$20,\"TBC\",SUM(W13:Z13))","v":503},401,488,525,473,503,2390,401,1989.05250503]
[null,"GMITC",{"$f":"IF($C$1>Entries!$K$20,\"TBC\",LARGE(Tables!$BF$8:$BF$40,1))","v":387},{"$f":"IF($C$1>Entries!$K$20,\"TBC\",LARGE(Tables!$BF$8:$BF$40,2))","v":0},{"$f":"IF($C$1>Entries!$K$20,\"TBC\",LARGE(Tables!$BF$8:$BF$40,3))","v":0},{"$f":"IF($C$1>Entries!$K$20,\"TBC\",LARGE(Tables!$BF$8:$BF$40,4))","v":0},{"$f":"IF($C$1>Entries!$K$20,\"TBC\",SUM(C14:F14))","v":387},{"$f":"IF($H$1>Entries!$K$20,\"TBC\",LARGE(Tables!$BG$8:$BG$40,1))","v":0},{"$f":"IF($H$1>Entries!$K$20,\"TBC\",LARGE(Tables!$BG$8:$BG$40,2))","v":0},{"$f":"IF($H$1>Entries!$K$20,\"TBC\",LARGE(Tables!$BG$8:$BG$40,3))","v":0},{"$f":"IF($H$1>Entries!$K$20,\"TBC\",LARGE(Tables!$BG$8:$BG$40,4))","v":0},{"$f":"IF($H$1>Entries!$K$20,\"TBC\",SUM(H14:K14))","v":0},{"$f":"IF($M$1>Entries!$K$20,\"TBC\",LARGE(Tables!$BH$8:$BH$40,1))","v":397},{"$f":"IF($M$1>Entries!$K$20,\"TBC\",LARGE(Tables!$BH$8:$BH$40,2))","v":0},{"$f":"IF($M$1>Entries!$K$20,\"TBC\",LARGE(Tables!$BH$8:$BH$40,3))","v":0},{"$f":"IF($M$1>Entries!$K$20,\"TBC\",LARGE(Tables!$BH$8:$BH$40,4))","v":0},{"$f":"IF($M$1>Entries!$K$20,\"TBC\",SUM(M14:P14))","v":397},{"$f":"IF($R$1>Entries!$K$20,\"TBC\",LARGE(Tables!$BI$8:$BI$40,1))","v":372},{"$f":"IF($R$1>Entries!$K$20,\"TBC\",LARGE(Tables!$BI$8:$BI$40,2))","v":0},{"$f":"IF($R$1>Entries!$K$20,\"TBC\",LARGE(Tables!$BI$8:$BI$40,3))","v":0},{"$f":"IF($R$1>Entries!$K$20,\"TBC\",LARGE(Tables!$BI$8:$BI$40,4))","v":0},{"$f":"IF($R$1>Entries!$K$20,\"TBC\",SUM(R14:U14))","v":372},{"$f":"IF($W$1>Entries!$K$20,\"TBC\",LARGE(Tables!$BJ$8:$BJ$40,1))","v":436},{"$f":"IF($W$1>Entries!$K$20,\"TBC\",LARGE(Tables!$BJ$8:$BJ$40,2))","v":0},{"$f":"IF($W$1>Entries!$K$20,\"TBC\",LARGE(Tables!$BJ$8:$BJ$40,3))","v":0},{"$f":"IF($W$1>Entries!$K$20,\"TBC\",LARGE(Tables!$BJ$8:$BJ$40,4))","v":0},{"$f":"IF($W$1>Entries!$K$20,\"TBC\",SUM(W14:Z14))","v":436},387,0,397,372,436,1592,0,1592.04360397]
[null,"RCSI",{"$f":"IF($C$1>Entries!$K$20,\"TBC\",LARGE(Tables!$DT$8:$DT$40,1))","v":382},{"$f":"IF($C$1>Entries!$K$20,\"TBC\",LARGE(Tables!$DT$8:$DT$40,2))","v":372},{"$f":"IF($C$1>Entries!$K$20,\"TBC\",LARGE(Tables!$DT$8:$DT$40,3))","v":0},{"$f":"IF($C$1>Entries!$K$20,\"TBC\",LARGE(Tables!$DT$8:$DT$40,4))","v":0},{"$f":"IF($C$1>Entries!$K$20,\"TBC\",SUM(C15:F15))","v":754},{"$f":"IF($H$1>Entries!$K$20,\"TBC\",LARGE(Tables!$DU$8:$DU$40,1))","v":0},{"$f":"IF($H$1>Entries!$K$20,\"TBC\",LARGE(Tables!$DU$8:$DU$40,2))","v":0},{"$f":"IF($H$1>Entries!$K$20,\"TBC\",LARGE(Tables!$DU$8:$DU$40,3))","v":0},{"$f":"IF($H$1>Entries!$K$20,\"TBC\",LARGE(Tables!$DU$8:$DU$40,4))","v":0},{"$f":"IF($H$1>Entries!$K$20,\"TBC\",SUM(H15:K15))","v":0},{"$f":"IF($M$1>Entries!$K$20,\"TBC\",LARGE(Tables!$DV$8:$DV$40,1))","v":311},{"$f":"IF($M$1>Entries!$K$20,\"TBC\",LARGE(Tables!$DV$8:$DV$40,2))","v":267},{"$f":"IF($M$1>Entries!$K$20,\"TBC\",LARGE(Tables!$DV$8:$DV$40,3))","v":190},{"$f":"IF($M$1>Entries!$K$20,\"TBC\",LARGE(Tables!$DV$8:$DV$40,4))","v":0},{"$f":"IF($M$1>Entries!$K$20,\"TBC\",SUM(M15:P15))","v":768},{"$f":"IF($R$1>Entries!$K$20,\"TBC\",LARGE(Tables!$DW$8:$DW$40,1))","v":0},{"$f":"IF($R$1>Entries!$K$20,\"TBC\",LARGE(Tables!$DW$8:$DW$40,2))","v":0},{"$f":"IF($R$1>Entries!$K$20,\"TBC\",LARGE(Tables!$DW$8:$DW$40,3))","v":0},{"$f":"IF($R$1>Entries!$K$20,\"TBC\",LARGE(Tables!$DW$8:$DW$40,4))","v":0},{"$f":"IF($R$1>Entries!$K$20,\"TBC\",SUM(R15:U15))","v":0},{"$f":"IF($W$1>Entries!$K$20,\"TBC\",LARGE(Tables!$DX$8:$DX$40,1))","v":0},{"$f":"IF($W$1>Entries!$K$20,\"TBC\",LARGE(Tables!$DX$8:$DX$40,2))","v":0},{"$f":"IF($W$1>Entries!$K$20,\"TBC\",LARGE(Tables!$DX$8:$DX$40,3))","v":0},{"$f":"IF($W$1>Entries!$K$20,\"TBC\",LARGE(Tables!$DX$8:$DX$40,4))","v":0},{"$f":"IF($W$1>Entries!$K$20,\"TBC\",SUM(W15:Z15))","v":0},754,0,768,0,0,1522,0,1522.0768075400001]
[null,"ITC",{"$f":"IF($C$1>Entries!$K$20,\"TBC\",LARGE(Tables!$CB$8:$CB$40,1))","v":332},{"$f":"IF($C$1>Entries!$K$20,\"TBC\",LARGE(Tables!$CB$8:$CB$40,2))","v":0},{"$f":"IF($C$1>Entries!$K$20,\"TBC\",LARGE(Tables!$CB$8:$CB$40,3))","v":0},{"$f":"IF($C$1>Entries!$K$20,\"TBC\",LARGE(Tables!$CB$8:$CB$40,4))","v":0},{"$f":"IF($C$1>Entries!$K$20,\"TBC\",SUM(C16:F16))","v":332},{"$f":"IF($H$1>Entries!$K$20,\"TBC\",LARGE(Tables!$CC$8:$CC$40,1))","v":306},{"$f":"IF($H$1>Entries!$K$20,\"TBC\",LARGE(Tables!$CC$8:$CC$40,2))","v":0},{"$f":"IF($H$1>Entries!$K$20,\"TBC\",LARGE(Tables!$CC$8:$CC$40,3))","v":0},{"$f":"IF($H$1>Entries!$K$20,\"TBC\",LARGE(Tables!$CC$8:$CC$40,4))","v":0},{"$f":"IF($H$1>Entries!$K$20,\"TBC\",SUM(H16:K16))","v":306},{"$f":"IF($M$1>Entries!$K$20,\"TBC\",LARGE(Tables!$CD$8:$CD$40,1))","v":275},{"$f":"IF($M$1>Entries!$K$20,\"TBC\",LARGE(Tables!$CD$8:$CD$40,2))","v":0},{"$f":"IF($M$1>Entries!$K$20,\"TBC\",LARGE(Tables!$CD$8:$CD$40,3))","v":0},{"$f":"IF($M$1>Entries!$K$20,\"TBC\",LARGE(Tables!$CD$8:$CD$40,4))","v":0},{"$f":"IF($M$1>Entries!$K$20,\"TBC\",SUM(M16:P16))","v":275},{"$f":"IF($R$1>Entries!$K$20,\"TBC\",LARGE(Tables!$CE$8:$CE$40,1))","v":281},{"$f":"IF($R$1>Entries!$K$20,\"TBC\",LARGE(Tables!$CE$8:$CE$40,2))","v":0},{"$f":"IF($R$1>Entries!$K$20,\"TBC\",LARGE(Tables!$CE$8:$CE$40,3))","v":0},{"$f":"IF($R$1>Entries!$K$20,\"TBC\",LARGE(Tables!$CE$8:$CE$40,4))","v":0},{"$f":"IF($R$1>Entries!$K$20,\"TBC\",SUM(R16:U16))","v":281},{"$f":"IF($W$1>Entries!$K$20,\"TBC\",LARGE(Tables!$CF$8:$CF$40,1))","v":233},{"$f":"IF($W$1>Entries!$K$20,\"TBC\",LARGE(Tables!$CF$8:$CF$40,2))","v":0},{"$f":"IF($W$1>Entries!$K$20,\"TBC\",LARGE(Tables!$CF$8:$CF$40,3))","v":0},{"$f":"IF($W$1>Entries!$K$20,\"TBC\",LARGE(Tables!$CF$8:$CF$40,4))","v":0},{"$f":"IF($W$1>Entries!$K$20,\"TBC\",SUM(W16:Z16))","v":233},332,306,275,281,233,1427,233,1194.03320306]
[null,"NCAD",{"$f":"IF($C$1>Entries!$K$20,\"TBC\",LARGE(Tables!$CX$8:$CX$40,1))","v":0},{"$f":"IF($C$1>Entries!$K$20,\"TBC\",LARGE(Tables!$CX$8:$CX$40,2))","v":0},{"$f":"IF($C$1>Entries!$K$20,\"TBC\",LARGE(Tables!$CX$8:$CX$40,3))","v":0},{"$f":"IF($C$1>Entries!$K$20,\"TBC\",LARGE(Tables!$CX$8:$CX$40,4))","v":0},{"$f":"IF($C$1>Entries!$K$20,\"TBC\",SUM(C17:F17))","v":0},{"$f":"IF($H$1>Entries!$K$20,\"TBC\",LARGE(Tables!$CY$8:$CY$40,1))","v":0},{"$f":"IF($H$1>Entries!$K$20,\"TBC\",LARGE(Tables!$CY$8:$CY$40,2))","v":0},{"$f":"IF($H$1>Entries!$K$20,\"TBC\",LARGE(Tables!$CY$8:$CY$40,3))","v":0},{"$f":"IF($H$1>Entries!$K$20,\"TBC\",LARGE(Tables!$CY$8:$CY$40,4))","v":0},{"$f":"IF($H$1>Entries!$K$20,\"TBC\",SUM(H17:K17))","v":0},{"$f":"IF($M$1>Entries!$K$20,\"TBC\",LARGE(Tables!$CZ$8:$CZ$40,1))","v":515},{"$f":"IF($M$1>Entries!$K$20,\"TBC\",LARGE(Tables!$CZ$8:$CZ$40,2))","v":0},{"$f":"IF($M$1>Entries!$K$20,\"TBC\",LARGE(Tables!$CZ$8:$CZ$40,3))","v":0},{"$f":"IF($M$1>Entries!$K$20,\"TBC\",LARGE(Tables!$CZ$8:$CZ$40,4))","v":0},{"$f":"IF($M$1>Entries!$K$20,\"TBC\",SUM(M17:P17))","v":515},{"$f":"IF($R$1>Entries!$K$20,\"TBC\",LARGE(Tables!$DA$8:$DA$40,1))","v":0},{"$f":"IF($R$1>Entries!$K$20,\"TBC\",LARGE(Tables!$DA$8:$DA$40,2))","v":0},{"$f":"IF($R$1>Entries!$K$20,\"TBC\",LARGE(Tables!$DA$8:$DA$40,3))","v":0},{"$f":"IF($R$1>Entries!$K$20,\"TBC\",LARGE(Tables!$DA$8:$DA$40,4))","v":0},{"$f":"IF($R$1>Entries!$K$20,\"TBC\",SUM(R17:U17))","v":0},{"$f":"IF($W$1>Entries!$K$20,\"TBC\",LARGE(Tables!$DB$8:$DB$40,1))","v":522},{"$f":"IF($W$1>Entries!$K$20,\"TBC\",LARGE(Tables!$DB$8:$DB$40,2))","v":0},{"$f":"IF($W$1>Entries!$K$20,\"TBC\",LARGE(Tables!$DB$8:$DB$40,3))","v":0},{"$f":"IF($W$1>Entries!$K$20,\"TBC\",LARGE(Tables!$DB$8:$DB$40,4))","v":0},{"$f":"IF($W$1>Entries!$K$20,\"TBC\",SUM(W17:Z17))","v":522},0,0,515,0,522,1037,0,1037.0522051500002]
[null,"WIT",{"$f":"IF($C$1>Entries!$K$20,\"TBC\",LARGE(Tables!$FW$8:$FW$40,1))","v":0},{"$f":"IF($C$1>Entries!$K$20,\"TBC\",LARGE(Tables!$FW$8:$FW$40,2))","v":0},{"$f":"IF($C$1>Entries!$K$20,\"TBC\",LARGE(Tables!$FW$8:$FW$40,3))","v":0},{"$f":"IF($C$1>Entries!$K$20,\"TBC\",LARGE(Tables!$FW$8:$FW$40,4))","v":0},{"$f":"IF($C$1>Entries!$K$20,\"TBC\",SUM(C18:F18))","v":0},{"$f":"IF($H$1>Entries!$K$20,\"TBC\",LARGE(Tables!$FX$8:$FX$40,1))","v":0},{"$f":"IF($H$1>Entries!$K$20,\"TBC\",LARGE(Tables!$FX$8:$FX$40,2))","v":0},{"$f":"IF($H$1>Entries!$K$20,\"TBC\",LARGE(Tables!$FX$8:$FX$40,3))","v":0},{"$f":"IF($H$1>Entries!$K$20,\"TBC\",LARGE(Tables!$FX$8:$FX$40,4))","v":0},{"$f":"IF($H$1>Entries!$K$20,\"TBC\",SUM(H18:K18))","v":0},{"$f":"IF($M$1>Entries!$K$20,\"TBC\",LARGE(Tables!$FY$8:$FY$40,1))","v":0},{"$f":"IF($M$1>Entries!$K$20,\"TBC\",LARGE(Tables!$FY$8:$FY$40,2))","v":0},{"$f":"IF($M$1>Entries!$K$20,\"TBC\",LARGE(Tables!$FY$8:$FY$40,3))","v":0},{"$f":"IF($M$1>Entries!$K$20,\"TBC\",LARGE(Tables!$FY$8:$FY$40,4))","v":0},{"$f":"IF($M$1>Entries!$K$20,\"TBC\",SUM(M18:P18))","v":0},{"$f":"IF($R$1>Entries!$K$20,\"TBC\",LARGE(Tables!$FZ$8:$FZ$40,1))","v":0},{"$f":"IF($R$1>Entries!$K$20,\"TBC\",LARGE(Tables!$FZ$8:$FZ$40,2))","v":0},{"$f":"IF($R$1>Entries!$K$20,\"TBC\",LARGE(Tables!$FZ$8:$FZ$40,3))","v":0},{"$f":"IF($R$1>Entries!$K$20,\"TBC\",LARGE(Tables!$FZ$8:$FZ$40,4))","v":0},{"$f":"IF($R$1>Entries!$K$20,\"TBC\",SUM(R18:U18))","v":0},{"$f":"IF($W$1>Entries!$K$20,\"TBC\",LARGE(Tables!$GA$8:$GA$40,1))","v":0},{"$f":"IF($W$1>Entries!$K$20,\"TBC\",LARGE(Tables!$GA$8:$GA$40,2))","v":0},{"$f":"IF($W$1>Entries!$K$20,\"TBC\",LARGE(Tables!$GA$8:$GA$40,3))","v":0},{"$f":"IF($W$1>Entries!$K$20,\"TBC\",LARGE(Tables!$GA$8:$GA$40,4))","v":0},{"$f":"IF($W$1>Entries!$K$20,\"TBC\",SUM(W18:Z18))","v":0},0,0,0,0,0,0,0,0]
[null,"AAA",{"$f":"IF($C$1>Entries!$K$20,\"TBC\",LARGE(Tables!$GH$8:$GH$40,1))","v":0},{"$f":"IF($C$1>Entries!$K$20,\"TBC\",LARGE(Tables!$GH$8:$GH$40,2))","v":0},{"$f":"IF($C$1>Entries!$K$20,\"TBC\",LARGE(Tables!$GH$8:$GH$40,3))","v":0},{"$f":"IF($C$1>Entries!$K$20,\"TBC\",LARGE(Tables!$GH$8:$GH$40,4))","v":0},{"$f":"IF($C$1>Entries!$K$20,\"TBC\",SUM(C19:F19))","v":0},{"$f":"IF($H$1>Entries!$K$20,\"TBC\",LARGE(Tables!$GI$8:$GI$40,1))","v":0},{"$f":"IF($H$1>Entries!$K$20,\"TBC\",LARGE(Tables!$GI$8:$GI$40,2))","v":0},{"$f":"IF($H$1>Entries!$K$20,\"TBC\",LARGE(Tables!$GI$8:$GI$40,3))","v":0},{"$f":"IF($H$1>Entries!$K$20,\"TBC\",LARGE(Tables!$GI$8:$GI$40,4))","v":0},{"$f":"IF($H$1>Entries!$K$20,\"TBC\",SUM(H19:K19))","v":0},{"$f":"IF($M$1>Entries!$K$20,\"TBC\",LARGE(Tables!$GJ$8:$GJ$40,1))","v":0},{"$f":"IF($M$1>Entries!$K$20,\"TBC\",LARGE(Tables!$GJ$8:$GJ$40,2))","v":0},{"$f":"IF($M$1>Entries!$K$20,\"TBC\",LARGE(Tables!$GJ$8:$GJ$40,3))","v":0},{"$f":"IF($M$1>Entries!$K$20,\"TBC\",LARGE(Tables!$GJ$8:$GJ$40,4))","v":0},{"$f":"IF($M$1>Entries!$K$20,\"TBC\",SUM(M19:P19))","v":0},{"$f":"IF($R$1>Entries!$K$20,\"TBC\",LARGE(Tables!$GK$8:$GK$40,1))","v":0},{"$f":"IF($R$1>Entries!$K$20,\"TBC\",LARGE(Tables!$GK$8:$GK$40,2))","v":0},{"$f":"IF($R$1>Entries!$K$20,\"TBC\",LARGE(Tables!$GK$8:$GK$40,3))","v":0},{"$f":"IF($R$1>Entries!$K$20,\"TBC\",LARGE(Tables!$GK$8:$GK$40,4))","v":0},{"$f":"IF($R$1>Entries!$K$20,\"TBC\",SUM(R19:U19))","v":0},{"$f":"IF($W$1>Entries!$K$20,\"TBC\",LARGE(Tables!$GL$8:$GL$40,1))","v":0},{"$f":"IF($W$1>Entries!$K$20,\"TBC\",LARGE(Tables!$GL$8:$GL$40,2))","v":0},{"$f":"IF($W$1>Entries!$K$20,\"TBC\",LARGE(Tables!$GL$8:$GL$40,3))","v":0},{"$f":"IF($W$1>Entries!$K$20,\"TBC\",LARGE(Tables!$GL$8:$GL$40,4))","v":0},{"$f":"IF($W$1>Entries!$K$20,\"TBC\",SUM(W19:Z19))","v":0},0,0,0,0,0,0,0,0]
[null,"BBB",{"$f":"IF($C$1>Entries!$K$20,\"TBC\",LARGE(Tables!$GS$8:$GS$40,1))","v":0},{"$f":"IF($C$1>Entries!$K$20,\"TBC\",LARGE(Tables!$GS$8:$GS$40,2))","v":0},{"$f":"IF($C$1>Entries!$K$20,\"TBC\",LARGE(Tables!$GS$8:$GS$40,3))","v":0},{"$f":"IF($C$1>Entries!$K$20,\"TBC\",LARGE(Tables!$GS$8:$GS$40,4))","v":0},{"$f":"IF($C$1>Entries!$K$20,\"TBC\",SUM(C20:F20))","v":0},{"$f":"IF($H$1>Entries!$K$20,\"TBC\",LARGE(Tables!$GT$8:$GT$40,1))","v":0},{"$f":"IF($H$1>Entries!$K$20,\"TBC\",LARGE(Tables!$GT$8:$GT$40,2))","v":0},{"$f":"IF($H$1>Entries!$K$20,\"TBC\",LARGE(Tables!$GT$8:$GT$40,3))","v":0},{"$f":"IF($H$1>Entries!$K$20,\"TBC\",LARGE(Tables!$GT$8:$GT$40,4))","v":0},{"$f":"IF($H$1>Entries!$K$20,\"TBC\",SUM(H20:K20))","v":0},{"$f":"IF($M$1>Entries!$K$20,\"TBC\",LARGE(Tables!$GU$8:$GU$40,1))","v":0},{"$f":"IF($M$1>Entries!$K$20,\"TBC\",LARGE(Tables!$GU$8:$GU$40,2))","v":0},{"$f":"IF($M$1>Entries!$K$20,\"TBC\",LARGE(Tables!$GU$8:$GU$40,3))","v":0},{"$f":"IF($M$1>Entries!$K$20,\"TBC\",LARGE(Tables!$GU$8:$GU$40,4))","v":0},{"$f":"IF($M$1>Entries!$K$20,\"TBC\",SUM(M20:P20))","v":0},{"$f":"IF($R$1>Entries!$K$20,\"TBC\",LARGE(Tables!$GV$8:$GV$40,1))","v":0},{"$f":"IF($R$1>Entries!$K$20,\"TBC\",LARGE(Tables!$GV$8:$GV$40,2))","v":0},{"$f":"IF($R$1>Entries!$K$20,\"TBC\",LARGE(Tables!$GV$8:$GV$40,3))","v":0},{"$f":"IF($R$1>Entries!$K$20,\"TBC\",LARGE(Tables!$GV$8:$GV$40,4))","v":0},{"$f":"IF($R$1>Entries!$K$20,\"TBC\",SUM(R20:U20))","v":0},{"$f":"IF($W$1>Entries!$K$20,\"TBC\",LARGE(Tables!$GW$8:$GW$40,1))","v":0},{"$f":"IF($W$1>Entries!$K$20,\"TBC\",LARGE(Tables!$GW$8:$GW$40,2))","v":0},{"$f":"IF($W$1>Entries!$K$20,\"TBC\",LARGE(Tables!$GW$8:$GW$40,3))","v":0},{"$f":"IF($W$1>Entries!$K$20,\"TBC\",LARGE(Tables!$GW$8:$GW$40,4))","v":0},{"$f":"IF($W$1>Entries!$K$20,\"TBC\",SUM(W20:Z20))","v":0},0,0,0,0,0,0,0,0]
[null,"CCC",{"$f":"IF($C$1>Entries!$K$20,\"TBC\",LARGE(Tables!$HD$8:$HD$40,1))","v":0},{"$f":"IF($C$1>Entries!$K$20,\"TBC\",LARGE(Tables!$HD$8:$HD$40,2))","v":0},{"$f":"IF($C$1>Entries!$K$20,\"TBC\",LARGE(Tables!$HD$8:$HD$40,3))","v":0},{"$f":"IF($C$1>Entries!$K$20,\"TBC\",LARGE(Tables!$HD$8:$HD$40,4))","v":0},{"$f":"IF($C$1>Entries!$K$20,\"TBC\",SUM(C21:F21))","v":0},{"$f":"IF($H$1>Entries!$K$20,\"TBC\",LARGE(Tables!$HE$8:$HE$40,1))","v":0},{"$f":"IF($H$1>Entries!$K$20,\"TBC\",LARGE(Tables!$HE$8:$HE$40,2))","v":0},{"$f":"IF($H$1>Entries!$K$20,\"TBC\",LARGE(Tables!$HE$8:$HE$40,3))","v":0},{"$f":"IF($H$1>Entries!$K$20,\"TBC\",LARGE(Tables!$HE$8:$HE$40,4))","v":0},{"$f":"IF($H$1>Entries!$K$20,\"TBC\",SUM(H21:K21))","v":0},{"$f":"IF($M$1>Entries!$K$20,\"TBC\",LARGE(Tables!$HF$8:$HF$40,1))","v":0},{"$f":"IF($M$1>Entries!$K$20,\"TBC\",LARGE(Tables!$HF$8:$HF$40,2))","v":0},{"$f":"IF($M$1>Entries!$K$20,\"TBC\",LARGE(Tables!$HF$8:$HF$40,3))","v":0},{"$f":"IF($M$1>Entries!$K$20,\"TBC\",LARGE(Tables!$HF$8:$HF$40,4))","v":0},{"$f":"IF($M$1>Entries!$K$20,\"TBC\",SUM(M21:P21))","v":0},{"$f":"IF($R$1>Entries!$K$20,\"TBC\",LARGE(Tables!$HG$8:$HG$40,1))","v":0},{"$f":"IF($R$1>Entries!$K$20,\"TBC\",LARGE(Tables!$HG$8:$HG$40,2))","v":0},{"$f":"IF($R$1>Entries!$K$20,\"TBC\",LARGE(Tables!$HG$8:$HG$40,3))","v":0},{"$f":"IF($R$1>Entries!$K$20,\"TBC\",LARGE(Tables!$HG$8:$HG$40,4))","v":0},{"$f":"IF($R$1>Entries!$K$20,\"TBC\",SUM(R21:U21))","v":0},{"$f":"IF($W$1>Entries!$K$20,\"TBC\",LARGE(Tables!$HH$8:$HH$40,1))","v":0},{"$f":"IF($W$1>Entries!$K$20,\"TBC\",LARGE(Tables!$HH$8:$HH$40,2))","v":0},{"$f":"IF($W$1>Entries!$K$20,\"TBC\",LARGE(Tables!$HH$8:$HH$40,3))","v":0},{"$f":"IF($W$1>Entries!$K$20,\"TBC\",LARGE(Tables!$HH$8:$HH$40,4))","v":0},{"$f":"IF($W$1>Entries!$K$20,\"TBC\",SUM(W21:Z21))","v":0},0,0,0,0,0,0,0,0]
[null,"DDD",{"$f":"IF($C$1>Entries!$K$20,\"TBC\",LARGE(Tables!$HO$8:$HO$40,1))","v":0},{"$f":"IF($C$1>Entries!$K$20,\"TBC\",LARGE(Tables!$HO$8:$HO$40,2))","v":0},{"$f":"IF($C$1>Entries!$K$20,\"TBC\",LARGE(Tables!$HO$8:$HO$40,3))","v":0},{"$f":"IF($C$1>Entries!$K$20,\"TBC\",LARGE(Tables!$HO$8:$HO$40,4))","v":0},{"$f":"IF($C$1>Entries!$K$20,\"TBC\",SUM(C22:F22))","v":0},{"$f":"IF($H$1>Entries!$K$20,\"TBC\",LARGE(Tables!$HP$8:$HP$40,1))","v":0},{"$f":"IF($H$1>Entries!$K$20,\"TBC\",LARGE(Tables!$HP$8:$HP$40,2))","v":0},{"$f":"IF($H$1>Entries!$K$20,\"TBC\",LARGE(Tables!$HP$8:$HP$40,3))","v":0},{"$f":"IF($H$1>Entries!$K$20,\"TBC\",LARGE(Tables!$HP$8:$HP$40,4))","v":0},{"$f":"IF($H$1>Entries!$K$20,\"TBC\",SUM(H22:K22))","v":0},{"$f":"IF($M$1>Entries!$K$20,\"TBC\",LARGE(Tables!$HQ$8:$HQ$40,1))","v":0},{"$f":"IF($M$1>Entries!$K$20,\"TBC\",LARGE(Tables!$HQ$8:$HQ$40,2))","v":0},{"$f":"IF($M$1>Entries!$K$20,\"TBC\",LARGE(Tables!$HQ$8:$HQ$40,3))","v":0},{"$f":"IF($M$1>Entries!$K$20,\"TBC\",LARGE(Tables!$HQ$8:$HQ$40,4))","v":0},{"$f":"IF($M$1>Entries!$K$20,\"TBC\",SUM(M22:P22))","v":0},{"$f":"IF($R$1>Entries!$K$20,\"TBC\",LARGE(Tables!$HR$8:$HR$40,1))","v":0},{"$f":"IF($R$1>Entries!$K$20,\"TBC\",LARGE(Tables!$HR$8:$HR$40,2))","v":0},{"$f":"IF($R$1>Entries!$K$20,\"TBC\",LARGE(Tables!$HR$8:$HR$40,3))","v":0},{"$f":"IF($R$1>Entries!$K$20,\"TBC\",LARGE(Tables!$HR$8:$HR$40,4))","v":0},{"$f":"IF($R$1>Entries!$K$20,\"TBC\",SUM(R22:U22))","v":0},{"$f":"IF($W$1>Entries!$K$20,\"TBC\",LARGE(Tables!$HS$8:$HS$40,1))","v":0},{"$f":"IF($W$1>Entries!$K$20,\"TBC\",LARGE(Tables!$HS$8:$HS$40,2))","v":0},{"$f":"IF($W$1>Entries!$K$20,\"TBC\",LARGE(Tables!$HS$8:$HS$40,3))","v":0},{"$f":"IF($W$1>Entries!$K$20,\"TBC\",LARGE(Tables!$HS$8:$HS$40,4))","v":0},{"$f":"IF($W$1>Entries!$K$20,\"TBC\",SUM(W22:Z22))","v":0},0,0,0,0,0,0,0,0]
[null,"EEE",{"$f":"IF($C$1>Entries!$K$20,\"TBC\",LARGE(Tables!$HZ$8:$HZ$40,1))","v":0},{"$f":"IF($C$1>Entries!$K$20,\"TBC\",)","v":0},{"$f":"IF($C$1>Entries!$K$20,\"TBC\",LARGE(Tables!$HZ$8:$HZ$40,3))","v":0},{"$f":"IF($C$1>Entries!$K$20,\"TBC\",LARGE(Tables!$HZ$8:$HZ$40,4))","v":0},{"$f":"IF($C$1>Entries!$K$20,\"TBC\",SUM(C23:F23))","v":0},{"$f":"IF($H$1>Entries!$K$20,\"TBC\",LARGE(Tables!$IA$8:$IA$40,1))","v":0},{"$f":"IF($H$1>Entries!$K$20,\"TBC\",LARGE(Tables!$IA$8:$IA$40,2))","v":0},{"$f":"IF($H$1>Entries!$K$20,\"TBC\",LARGE(Tables!$IA$8:$IA$40,3))","v":0},{"$f":"IF($H$1>Entries!$K$20,\"TBC\",LARGE(Tables!$IA$8:$IA$40,4))","v":0},{"$f":"IF($H$1>Entries!$K$20,\"TBC\",SUM(H23:K23))","v":0},{"$f":"IF($M$1>Entries!$K$20,\"TBC\",LARGE(Tables!$IB$8:$IB$40,1))","v":0},{"$f":"IF($M$1>Entries!$K$20,\"TBC\",LARGE(Tables!$IB$8:$IB$40,2))","v":0},{"$f":"IF($M$1>Entries!$K$20,\"TBC\",LARGE(Tables!$IB$8:$IB$40,3))","v":0},{"$f":"IF($M$1>Entries!$K$20,\"TBC\",LARGE(Tables!$IB$8:$IB$40,4))","v":0},{"$f":"IF($M$1>Entries!$K$20,\"TBC\",SUM(M23:P23))","v":0},{"$f":"IF($R$1>Entries!$K$20,\"TBC\",LARGE(Tables!$IC$8:$IC$40,1))","v":0},{"$f":"IF($R$1>Entries!$K$20,\"TBC\",LARGE(Tables!$IC$8:$IC$40,2))","v":0},{"$f":"IF($R$1>Entries!$K$20,\"TBC\",LARGE(Tables!$IC$8:$IC$40,3))","v":0},{"$f":"IF($R$1>Entries!$K$20,\"TBC\",LARGE(Tables!$IC$8:$IC$40,4))","v":0},{"$f":"IF($R$1>Entries!$K$20,\"TBC\",SUM(R23:U23))","v":0},{"$f":"IF($W$1>Entries!$K$20,\"TBC\",LARGE(Tables!$ID$8:$ID$40,1))","v":0},{"$f":"IF($W$1>Entries!$K$20,\"TBC\",LARGE(Tables!$ID$8:$ID$40,2))","v":0},{"$f":"IF($W$1>Entries!$K$20,\"TBC\",LARGE(Tables!$ID$8:$ID$40,3))","v":0},{"$f":"IF($W$1>Entries!$K$20,\"TBC\",LARGE(Tables!$ID$8:$ID$40,4))","v":0},{"$f":"IF($W$1>Entries!$K$20,\"TBC\",SUM(W23:Z23))","v":0},0,0,0,0,0,0,0,0]

{"sheet":"Bare' List","index":16,"n_rows":23,"n_cols":30,"rows_kept":23,"cut":false,"hidden":false,"merged":[]}
["Barebow",null,1,null,null,null,2,null,null,null,3,null,null,null,4,null,null,null,5,null,null,null,1,2,3,4,5,"total","Lowest","league"]
[null,"DCU",{"$f":"IF($C$1>Entries!$K$20,\"TBC\",LARGE(Tables!$C$49:$C$81,1))","v":422},{"$f":"IF($C$1>Entries!$K$20,\"TBC\",LARGE(Tables!$C$49:$C$81,2))","v":413},{"$f":"IF($C$1>Entries!$K$20,\"TBC\",LARGE(Tables!$C$49:$C$81,3))","v":326},{"$f":"IF($C$1>Entries!$K$20,\"TBC\",SUM(C2:E2))","v":1161},{"$f":"IF($G$1>Entries!$K$20,\"TBC\",LARGE(Tables!$D$49:$D$81,1))","v":437},{"$f":"IF($G$1>Entries!$K$20,\"TBC\",LARGE(Tables!$D$49:$D$81,2))","v":411},{"$f":"IF($G$1>Entries!$K$20,\"TBC\",LARGE(Tables!$D$49:$D$81,3))","v":394},{"$f":"IF($G$1>Entries!$K$20,\"TBC\",SUM(G2:I2))","v":1242},{"$f":"IF($K$1>Entries!$K$20,\"TBC\",LARGE(Tables!$E$49:$E$81,1))","v":465},{"$f":"IF($K$1>Entries!$K$20,\"TBC\",LARGE(Tables!$E$49:$E$81,2))","v":446},{"$f":"IF($K$1>Entries!$K$20,\"TBC\",LARGE(Tables!$E$49:$E$81,3))","v":407},{"$f":"IF($K$1>Entries!$K$20,\"TBC\",SUM(K2:M2))","v":1318},{"$f":"IF($O$1>Entries!$K$20,\"TBC\",LARGE(Tables!$F$49:$F$81,1))","v":469},{"$f":"IF($O$1>Entries!$K$20,\"TBC\",LARGE(Tables!$F$49:$F$81,2))","v":457},{"$f":"IF($O$1>Entries!$K$20,\"TBC\",LARGE(Tables!$F$49:$F$81,3))","v":417},{"$f":"IF($O$1>Entries!$K$20,\"TBC\",SUM(O2:Q2))","v":1343},{"$f":"IF($S$1>Entries!$K$20,\"TBC\",LARGE(Tables!$G$49:$G$81,1))","v":486},{"$f":"IF($S$1>Entries!$K$20,\"TBC\",LARGE(Tables!$G$49:$G$81,2))","v":437},{"$f":"IF($S$1>Entries!$K$20,\"TBC\",LARGE(Tables!$G$49:$G$81,3))","v":404},{"$f":"IF($S$1>Entries!$K$20,\"TBC\",SUM(S2:U2))","v":1327},{"$f":"F2","v":1161},{"$f":"J2","v":1242},{"$f":"N2","v":1318},{"$f":"R2","v":1343},{"$f":"V2","v":1327},{"$f":"SUM(W2:AA2)","v":6391},{"$f":"MIN(W2:AA2)","v":1161},{"$f":"AB2-AC2+(LARGE(W2:AA2,1)/10000)+(LARGE(W2:AA2,2)/100000000)","v":5230.1343132699994}]
[null,"MU",{"$f":"IF($C$1>Entries!$K$20,\"TBC\",LARGE(Tables!$CM$49:$CM$81,1))","v":380},{"$f":"IF($C$1>Entries!$K$20,\"TBC\",LARGE(Tables!$CM$49:$CM$81,2))","v":359},{"$f":"IF($C$1>Entries!$K$20,\"TBC\",LARGE(Tables!$CM$49:$CM$81,3))","v":310},{"$f":"IF($C$1>Entries!$K$20,\"TBC\",SUM(C3:E3))","v":1049},{"$f":"IF($G$1>Entries!$K$20,\"TBC\",LARGE(Tables!$CN$49:$CN$81,1))","v":465},{"$f":"IF($G$1>Entries!$K$20,\"TBC\",LARGE(Tables!$CN$49:$CN$81,2))","v":413},{"$f":"IF($G$1>Entries!$K$20,\"TBC\",LARGE(Tables!$CN$49:$CN$81,3))","v":377},{"$f":"IF($G$1>Entries!$K$20,\"TBC\",SUM(G3:I3))","v":1255},{"$f":"IF($K$1>Entries!$K$20,\"TBC\",LARGE(Tables!$CO$49:$CO$81,1))","v":406},{"$f":"IF($K$1>Entries!$K$20,\"TBC\",LARGE(Tables!$CO$49:$CO$81,2))","v":348},{"$f":"IF($K$1>Entries!$K$20,\"TBC\",LARGE(Tables!$CO$49:$CO$81,3))","v":338},{"$f":"IF($K$1>Entries!$K$20,\"TBC\",SUM(K3:M3))","v":1092},{"$f":"IF($O$1>Entries!$K$20,\"TBC\",LARGE(Tables!$CP$49:$CP$81,1))","v":430},{"$f":"IF($O$1>Entries!$K$20,\"TBC\",LARGE(Tables!$CP$49:$CP$81,2))","v":422},{"$f":"IF($O$1>Entries!$K$20,\"TBC\",LARGE(Tables!$CP$49:$CP$81,3))","v":380},{"$f":"IF($O$1>Entries!$K$20,\"TBC\",SUM(O3:Q3))","v":1232},{"$f":"IF($S$1>Entries!$K$20,\"TBC\",LARGE(Tables!$CQ$49:$CQ$81,1))","v":365},{"$f":"IF($S$1>Entries!$K$20,\"TBC\",LARGE(Tables!$CQ$49:$CQ$81,2))","v":336},{"$f":"IF($S$1>Entries!$K$20,\"TBC\",LARGE(Tables!$CQ$49:$CQ$81,3))","v":334},{"$f":"IF($S$1>Entries!$K$20,\"TBC\",SUM(S3:U3))","v":1035},1049,1255,1092,1232,1035,5663,1035,4628.1255123199999]
[null,"NUIG",{"$f":"IF($C$1>Entries!$K$20,\"TBC\",LARGE(Tables!$DI$49:$DI$81,1))","v":471},{"$f":"IF($C$1>Entries!$K$20,\"TBC\",LARGE(Tables!$DI$49:$DI$81,2))","v":367},{"$f":"IF($C$1>Entries!$K$20,\"TBC\",LARGE(Tables!$DI$49:$DI$81,3))","v":286},{"$f":"IF($C$1>Entries!$K$20,\"TBC\",SUM(C4:E4))","v":1124},{"$f":"IF($G$1>Entries!$K$20,\"TBC\",LARGE(Tables!$DJ$49:$DJ$81,1))","v":393},{"$f":"IF($G$1>Entries!$K$20,\"TBC\",LARGE(Tables!$DJ$49:$DJ$81,2))","v":326},{"$f":"IF($G$1>Entries!$K$20,\"TBC\",LARGE(Tables!$DJ$49:$DJ$81,3))","v":293},{"$f":"IF($G$1>Entries!$K$20,\"TBC\",SUM(G4:I4))","v":1012},{"$f":"IF($K$1>Entries!$K$20,\"TBC\",LARGE(Tables!$DK$49:$DK$81,1))","v":383},{"$f":"IF($K$1>Entries!$K$20,\"TBC\",LARGE(Tables!$DK$49:$DK$81,2))","v":341},{"$f":"IF($K$1>Entries!$K$20,\"TBC\",LARGE(Tables!$DK$49:$DK$81,3))","v":313},{"$f":"IF($K$1>Entries!$K$20,\"TBC\",SUM(K4:M4))","v":1037},{"$f":"IF($O$1>Entries!$K$20,\"TBC\",LARGE(Tables!$DL$49:$DL$81,1))","v":348},{"$f":"IF($O$1>Entries!$K$20,\"TBC\",LARGE(Tables!$DL$49:$DL$81,2))","v":340},{"$f":"IF($O$1>Entries!$K$20,\"TBC\",LARGE(Tables!$DL$49:$DL$81,3))","v":262},{"$f":"IF($O$1>Entries!$K$20,\"TBC\",SUM(O4:Q4))","v":950},{"$f":"IF($S$1>Entries!$K$20,\"TBC\",LARGE(Tables!$DM$49:$DM$81,1))","v":451},{"$f":"IF($S$1>Entries!$K$20,\"TBC\",LARGE(Tables!$DM$49:$DM$81,2))","v":441},{"$f":"IF($S$1>Entries!$K$20,\"TBC\",LARGE(Tables!$DM$49:$DM$81,3))","v":429},{"$f":"IF($S$1>Entries!$K$20,\"TBC\",SUM(S4:U4))","v":1321},1124,1012,1037,950,1321,5444,950,4494.1321112400001]
[null,"GMIT",{"$f":"IF($C$1>Entries!$K$20,\"TBC\",LARGE(Tables!$AU$49:$AU$81,1))","v":393},{"$f":"IF($C$1>Entries!$K$20,\"TBC\",LARGE(Tables!$AU$49:$AU$81,2))","v":365},{"$f":"IF($C$1>Entries!$K$20,\"TBC\",LARGE(Tables!$AU$49:$AU$81,3))","v":170},{"$f":"IF($C$1>Entries!$K$20,\"TBC\",SUM(C5:E5))","v":928},{"$f":"IF($G$1>Entries!$K$20,\"TBC\",LARGE(Tables!$AV$49:$AV$81,1))","v":391},{"$f":"IF($G$1>Entries!$K$20,\"TBC\",LARGE(Tables!$AV$49:$AV$81,2))","v":388},{"$f":"IF($G$1>Entries!$K$20,\"TBC\",LARGE(Tables!$AV$49:$AV$81,3))","v":320},{"$f":"IF($G$1>Entries!$K$20,\"TBC\",SUM(G5:I5))","v":1099},{"$f":"IF($K$1>Entries!$K$20,\"TBC\",LARGE(Tables!$AW$49:$AW$81,1))","v":439},{"$f":"IF($K$1>Entries!$K$20,\"TBC\",LARGE(Tables!$AW$49:$AW$81,2))","v":420},{"$f":"IF($K$1>Entries!$K$20,\"TBC\",LARGE(Tables!$AW$49:$AW$81,3))","v":329},{"$f":"IF($K$1>Entries!$K$20,\"TBC\",SUM(K5:M5))","v":1188},{"$f":"IF($O$1>Entries!$K$20,\"TBC\",LARGE(Tables!$AX$49:$AX$81,1))","v":402},{"$f":"IF($O$1>Entries!$K$20,\"TBC\",LARGE(Tables!$AX$49:$AX$81,2))","v":307},{"$f":"IF($O$1>Entries!$K$20,\"TBC\",LARGE(Tables!$AX$49:$AX$81,3))","v":234},{"$f":"IF($O$1>Entries!$K$20,\"TBC\",SUM(O5:Q5))","v":943},{"$f":"IF($S$1>Entries!$K$20,\"TBC\",LARGE(Tables!$AY$49:$AY$81,1))","v":440},{"$f":"IF($S$1>Entries!$K$20,\"TBC\",LARGE(Tables!$AY$49:$AY$81,2))","v":371},{"$f":"IF($S$1>Entries!$K$20,\"TBC\",LARGE(Tables!$AY$49:$AY$81,3))","v":365},{"$f":"IF($S$1>Entries!$K$20,\"TBC\",SUM(S5:U5))","v":1176},928,1099,1188,943,1176,5334,928,4406.1188117600004]
[null,"IT Tallaght",{"$f":"IF($C$1>Entries!$K$20,\"TBC\",LARGE(Tables!$BQ$49:$BQ$81,1))","v":380},{"$f":"IF($C$1>Entries!$K$20,\"TBC\",LARGE(Tables!$BQ$49:$BQ$81,2))","v":261},{"$f":"IF($C$1>Entries!$K$20,\"TBC\",LARGE(Tables!$BQ$49:$BQ$81,3))","v":205},{"$f":"IF($C$1>Entries!$K$20,\"TBC\",SUM(C6:E6))","v":846},{"$f":"IF($G$1>Entries!$K$20,\"TBC\",LARGE(Tables!$BR$49:$BR$81,1))","v":387},{"$f":"IF($G$1>Entries!$K$20,\"TBC\",LARGE(Tables!$BR$49:$BR$81,2))","v":383},{"$f":"IF($G$1>Entries!$K$20,\"TBC\",LARGE(Tables!$BR$49:$BR$81,3))","v":285},{"$f":"IF($G$1>Entries!$K$20,\"TBC\",SUM(G6:I6))","v":1055},{"$f":"IF($K$1>Entries!$K$20,\"TBC\",LARGE(Tables!$BS$49:$BS$81,1))","v":439},{"$f":"IF($K$1>Entries!$K$20,\"TBC\",LARGE(Tables!$BS$49:$BS$81,2))","v":431},{"$f":"IF($K$1>Entries!$K$20,\"TBC\",LARGE(Tables!$BS$49:$BS$81,3))","v":351},{"$f":"IF($K$1>Entries!$K$20,\"TBC\",SUM(K6:M6))","v":1221},{"$f":"IF($O$1>Entries!$K$20,\"TBC\",LARGE(Tables!$BT$49:$BT$81,1))","v":395},{"$f":"IF($O$1>Entries!$K$20,\"TBC\",LARGE(Tables!$BT$49:$BT$81,2))","v":331},{"$f":"IF($O$1>Entries!$K$20,\"TBC\",LARGE(Tables!$BT$49:$BT$81,3))","v":283},{"$f":"IF($O$1>Entries!$K$20,\"TBC\",SUM(O6:Q6))","v":1009},{"$f":"IF($S$1>Entries!$K$20,\"TBC\",LARGE(Tables!$BU$49:$BU$81,1))","v":384},{"$f":"IF($S$1>Entries!$K$20,\"TBC\",LARGE(Tables!$BU$49:$BU$81,2))","v":369},{"$f":"IF($S$1>Entries!$K$20,\"TBC\",LARGE(Tables!$BU$49:$BU$81,3))","v":313},{"$f":"IF($S$1>Entries!$K$20,\"TBC\",SUM(S6:U6))","v":1066},846,1055,1221,1009,1066,5197,846,4351.1221106599996]
[null,"ITC",{"$f":"IF($C$1>Entries!$K$20,\"TBC\",LARGE(Tables!$CB$49:$CB$81,1))","v":391},{"$f":"IF($C$1>Entries!$K$20,\"TBC\",LARGE(Tables!$CB$49:$CB$81,2))","v":353},{"$f":"IF($C$1>Entries!$K$20,\"TBC\",LARGE(Tables!$CB$49:$CB$81,3))","v":313},{"$f":"IF($C$1>Entries!$K$20,\"TBC\",SUM(C7:E7))","v":1057},{"$f":"IF($G$1>Entries!$K$20,\"TBC\",LARGE(Tables!$CC$49:$CC$81,1))","v":403},{"$f":"IF($G$1>Entries!$K$20,\"TBC\",LARGE(Tables!$CC$49:$CC$81,2))","v":364},{"$f":"IF($G$1>Entries!$K$20,\"TBC\",LARGE(Tables!$CC$49:$CC$81,3))","v":239},{"$f":"IF($G$1>Entries!$K$20,\"TBC\",SUM(G7:I7))","v":1006},{"$f":"IF($K$1>Entries!$K$20,\"TBC\",LARGE(Tables!$CD$49:$CD$81,1))","v":378},{"$f":"IF($K$1>Entries!$K$20,\"TBC\",LARGE(Tables!$CD$49:$CD$81,2))","v":370},{"$f":"IF($K$1>Entries!$K$20,\"TBC\",LARGE(Tables!$CD$49:$CD$81,3))","v":359},{"$f":"IF($K$1>Entries!$K$20,\"TBC\",SUM(K7:M7))","v":1107},{"$f":"IF($O$1>Entries!$K$20,\"TBC\",LARGE(Tables!$CE$49:$CE$81,1))","v":395},{"$f":"IF($O$1>Entries!$K$20,\"TBC\",LARGE(Tables!$CE$49:$CE$81,2))","v":357},{"$f":"IF($O$1>Entries!$K$20,\"TBC\",LARGE(Tables!$CE$49:$CE$81,3))","v":292},{"$f":"IF($O$1>Entries!$K$20,\"TBC\",SUM(O7:Q7))","v":1044},{"$f":"IF($S$1>Entries!$K$20,\"TBC\",LARGE(Tables!$CF$49:$CF$81,1))","v":396},{"$f":"IF($S$1>Entries!$K$20,\"TBC\",LARGE(Tables!$CF$49:$CF$81,2))","v":395},{"$f":"IF($S$1>Entries!$K$20,\"TBC\",LARGE(Tables!$CF$49:$CF$81,3))","v":317},{"$f":"IF($S$1>Entries!$K$20,\"TBC\",SUM(S7:U7))","v":1108},1057,1006,1107,1044,1108,5322,1006,4316.1108110700006]
[null,"GMITC",{"$f":"IF($C$1>Entries!$K$20,\"TBC\",LARGE(Tables!$BF$49:$BF$81,1))","v":306},{"$f":"IF($C$1>Entries!$K$20,\"TBC\",LARGE(Tables!$BF$49:$BF$81,2))","v":283},{"$f":"IF($C$1>Entries!$K$20,\"TBC\",LARGE(Tables!$BF$49:$BF$81,3))","v":255},{"$f":"IF($C$1>Entries!$K$20,\"TBC\",SUM(C8:E8))","v":844},{"$f":"IF($G$1>Entries!$K$20,\"TBC\",LARGE(Tables!$BG$49:$BG$81,1))","v":0},{"$f":"IF($G$1>Entries!$K$20,\"TBC\",LARGE(Tables!$BG$49:$BG$81,2))","v":0},{"$f":"IF($G$1>Entries!$K$20,\"TBC\",LARGE(Tables!$BG$49:$BG$81,3))","v":0},{"$f":"IF($G$1>Entries!$K$20,\"TBC\",SUM(G8:I8))","v":0},{"$f":"IF($K$1>Entries!$K$20,\"TBC\",LARGE(Tables!$BH$49:$BH$81,1))","v":274},{"$f":"IF($K$1>Entries!$K$20,\"TBC\",LARGE(Tables!$BH$49:$BH$81,2))","v":167},{"$f":"IF($K$1>Entries!$K$20,\"TBC\",LARGE(Tables!$BH$49:$BH$81,3))","v":77},{"$f":"IF($K$1>Entries!$K$20,\"TBC\",SUM(K8:M8))","v":518},{"$f":"IF($O$1>Entries!$K$20,\"TBC\",LARGE(Tables!$BI$49:$BI$81,1))","v":353},{"$f":"IF($O$1>Entries!$K$20,\"TBC\",LARGE(Tables!$BI$49:$BI$81,2))","v":267},{"$f":"IF($O$1>Entries!$K$20,\"TBC\",LARGE(Tables!$BI$49:$BI$81,3))","v":211},{"$f":"IF($O$1>Entries!$K$20,\"TBC\",SUM(O8:Q8))","v":831},{"$f":"IF($S$1>Entries!$K$20,\"TBC\",LARGE(Tables!$BJ$49:$BJ$81,1))","v":321},{"$f":"IF($S$1>Entries!$K$20,\"TBC\",LARGE(Tables!$BJ$49:$BJ$81,2))","v":318},{"$f":"IF($S$1>Entries!$K$20,\"TBC\",LARGE(Tables!$BJ$49:$BJ$81,3))","v":291},{"$f":"IF($S$1>Entries!$K$20,\"TBC\",SUM(S8:U8))","v":930},844,0,518,831,930,3123,0,3123.0930084399997]
[null,"DUAC",{"$f":"IF($C$1>Entries!$K$20,\"TBC\",LARGE(Tables!$AJ$49:$AJ$81,1))","v":0},{"$f":"IF($C$1>Entries!$K$20,\"TBC\",LARGE(Tables!$AJ$49:$AJ$81,2))","v":0},{"$f":"IF($C$1>Entries!$K$20,\"TBC\",LARGE(Tables!$AJ$49:$AJ$81,3))","v":0},{"$f":"IF($C$1>Entries!$K$20,\"TBC\",SUM(C9:E9))","v":0},{"$f":"IF($G$1>Entries!$K$20,\"TBC\",LARGE(Tables!$AK$49:$AK$81,1))","v":284},{"$f":"IF($G$1>Entries!$K$20,\"TBC\",LARGE(Tables!$AK$49:$AK$81,2))","v":282},{"$f":"IF($G$1>Entries!$K$20,\"TBC\",LARGE(Tables!$AK$49:$AK$81,3))","v":144},{"$f":"IF($G$1>Entries!$K$20,\"TBC\",SUM(G9:I9))","v":710},{"$f":"IF($K$1>Entries!$K$20,\"TBC\",LARGE(Tables!$AL$49:$AL$81,1))","v":308},{"$f":"IF($K$1>Entries!$K$20,\"TBC\",LARGE(Tables!$AL$49:$AL$81,2))","v":253},{"$f":"IF($K$1>Entries!$K$20,\"TBC\",LARGE(Tables!$AL$49:$AL$81,3))","v":42},{"$f":"IF($K$1>Entries!$K$20,\"TBC\",SUM(K9:M9))","v":603},{"$f":"IF($O$1>Entries!$K$20,\"TBC\",LARGE(Tables!$AM$49:$AM$81,1))","v":152},{"$f":"IF($O$1>Entries!$K$20,\"TBC\",LARGE(Tables!$AM$49:$AM$81,2))","v":0},{"$f":"IF($O$1>Entries!$K$20,\"TBC\",LARGE(Tables!$AM$49:$AM$81,3))","v":0},{"$f":"IF($O$1>Entries!$K$20,\"TBC\",SUM(O9:Q9))","v":152},{"$f":"IF($S$1>Entries!$K$20,\"TBC\",LARGE(Tables!$AN$49:$AN$81,1))","v":319},{"$f":"IF($S$1>Entries!$K$20,\"TBC\",LARGE(Tables!$AN$49:$AN$81,2))","v":267},{"$f":"IF($S$1>Entries!$K$20,\"TBC\",LARGE(Tables!$AN$49:$AN$81,3))","v":248},{"$f":"IF($S$1>Entries!$K$20,\"TBC\",SUM(S9:U9))","v":834},0,710,603,152,834,2299,0,2299.0834070999999]
[null,"UCD",{"$f":"IF($C$1>Entries!$K$20,\"TBC\",LARGE(Tables!$EP$49:$EP$81,1))","v":534},{"$f":"IF($C$1>Entries!$K$20,\"TBC\",LARGE(Tables!$EP$49:$EP$81,2))","v":242},{"$f":"IF($C$1>Entries!$K$20,\"TBC\",LARGE(Tables!$EP$49:$EP$81,3))","v":0},{"$f":"IF($C$1>Entries!$K$20,\"TBC\",SUM(C10:E10))","v":776},{"$f":"IF($G$1>Entries!$K$20,\"TBC\",LARGE(Tables!$EQ$49:$EQ$81,1))","v":0},{"$f":"IF($G$1>Entries!$K$20,\"TBC\",LARGE(Tables!$EQ$49:$EQ$81,2))","v":0},{"$f":"IF($G$1>Entries!$K$20,\"TBC\",LARGE(Tables!$EQ$49:$EQ$81,3))","v":0},{"$f":"IF($G$1>Entries!$K$20,\"TBC\",SUM(G10:I10))","v":0},{"$f":"IF($K$1>Entries!$K$20,\"TBC\",LARGE(Tables!$ER$49:$ER$81,1))","v":0},{"$f":"IF($K$1>Entries!$K$20,\"TBC\",LARGE(Tables!$ER$49:$ER$81,2))","v":0},{"$f":"IF($K$1>Entries!$K$20,\"TBC\",LARGE(Tables!$ER$49:$ER$81,3))","v":0},{"$f":"IF($K$1>Entries!$K$20,\"TBC\",SUM(K10:M10))","v":0},{"$f":"IF($O$1>Entries!$K$20,\"TBC\",LARGE(Tables!$ES$49:$ES$81,1))","v":299},{"$f":"IF($O$1>Entries!$K$20,\"TBC\",LARGE(Tables!$ES$49:$ES$81,2))","v":157},{"$f":"IF($O$1>Entries!$K$20,\"TBC\",LARGE(Tables!$ES$49:$ES$81,3))","v":0},{"$f":"IF($O$1>Entries!$K$20,\"TBC\",SUM(O10:Q10))","v":456},{"$f":"IF($S$1>Entries!$K$20,\"TBC\",LARGE(Tables!$ET$49:$ET$81,1))","v":398},{"$f":"IF($S$1>Entries!$K$20,\"TBC\",LARGE(Tables!$ET$49:$ET$81,2))","v":0},{"$f":"IF($S$1>Entries!$K$20,\"TBC\",LARGE(Tables!$ET$49:$ET$81,3))","v":0},{"$f":"IF($S$1>Entries!$K$20,\"TBC\",SUM(S10:U10))","v":398},776,0,0,456,398,1630,0,1630.0776045600001]
[null,"UCC",{"$f":"IF($C$1>Entries!$K$20,\"TBC\",LARGE(Tables!$EE$49:$EE$81,1))","v":0},{"$f":"IF($C$1>Entries!$K$20,\"TBC\",LARGE(Tables!$EE$49:$EE$81,2))","v":0},{"$f":"IF($C$1>Entries!$K$20,\"TBC\",LARGE(Tables!$EE$49:$EE$81,3))","v":0},{"$f":"IF($C$1>Entries!$K$20,\"TBC\",SUM(C11:E11))","v":0},{"$f":"IF($G$1>Entries!$K$20,\"TBC\",LARGE(Tables!$EF$49:$EF$81,1))","v":0},{"$f":"IF($G$1>Entries!$K$20,\"TBC\",LARGE(Tables!$EF$49:$EF$81,2))","v":0},{"$f":"IF($G$1>Entries!$K$20,\"TBC\",LARGE(Tables!$EF$49:$EF$81,3))","v":0},{"$f":"IF($G$1>Entries!$K$20,\"TBC\",SUM(G11:I11))","v":0},{"$f":"IF($K$1>Entries!$K$20,\"TBC\",LARGE(Tables!$EG$49:$EG$81,1))","v":232},{"$f":"IF($K$1>Entries!$K$20,\"TBC\",LARGE(Tables!$EG$49:$EG$81,2))","v":0},{"$f":"IF($K$1>Entries!$K$20,\"TBC\",LARGE(Tables!$EG$49:$EG$81,3))","v":0},{"$f":"IF($K$1>Entries!$K$20,\"TBC\",SUM(K11:M11))","v":232},{"$f":"IF($O$1>Entries!$K$20,\"TBC\",LARGE(Tables!$EH$49:$EH$81,1))","v":0},{"$f":"IF($O$1>Entries!$K$20,\"TBC\",LARGE(Tables!$EH$49:$EH$81,2))","v":0},{"$f":"IF($O$1>Entries!$K$20,\"TBC\",LARGE(Tables!$EH$49:$EH$81,3))","v":0},{"$f":"IF($O$1>Entries!$K$20,\"TBC\",SUM(O11:Q11))","v":0},{"$f":"IF($S$1>Entries!$K$20,\"TBC\",LARGE(Tables!$EI$49:$EI$81,1))","v":289},{"$f":"IF($S$1>Entries!$K$20,\"TBC\",LARGE(Tables!$EI$49:$EI$81,2))","v":202},{"$f":"IF($S$1>Entries!$K$20,\"TBC\",LARGE(Tables!$EI$49:$EI$81,3))","v":0},{"$f":"IF($S$1>Entries!$K$20,\"TBC\",SUM(S11:U11))","v":491},0,0,232,0,491,723,0,723.04910231999997]
[null,"UU",{"$f":"IF($C$1>Entries!$K$20,\"TBC\",LARGE(Tables!$FL$49:$FL$81,1))","v":0},{"$f":"IF($C$1>Entries!$K$20,\"TBC\",LARGE(Tables!$FL$49:$FL$81,2))","v":0},{"$f":"IF($C$1>Entries!$K$20,\"TBC\",LARGE(Tables!$FL$49:$FL$81,3))","v":0},{"$f":"IF($C$1>Entries!$K$20,\"TBC\",SUM(C12:E12))","v":0},{"$f":"IF($G$1>Entries!$K$20,\"TBC\",LARGE(Tables!$FM$49:$FM$81,1))","v":0},{"$f":"IF($G$1>Entries!$K$20,\"TBC\",LARGE(Tables!$FM$49:$FM$81,2))","v":0},{"$f":"IF($G$1>Entries!$K$20,\"TBC\",LARGE(Tables!$FM$49:$FM$81,3))","v":0},{"$f":"IF($G$1>Entries!$K$20,\"TBC\",SUM(G12:I12))","v":0},{"$f":"IF($K$1>Entries!$K$20,\"TBC\",LARGE(Tables!$FN$49:$FN$81,1))","v":0},{"$f":"IF($K$1>Entries!$K$20,\"TBC\",LARGE(Tables!$FN$49:$FN$81,2))","v":0},{"$f":"IF($K$1>Entries!$K$20,\"TBC\",LARGE(Tables!$FN$49:$FN$81,3))","v":0},{"$f":"IF($K$1>Entries!$K$20,\"TBC\",SUM(K12:M12))","v":0},{"$f":"IF($O$1>Entries!$K$20,\"TBC\",LARGE(Tables!$FO$49:$FO$81,1))","v":351},{"$f":"IF($O$1>Entries!$K$20,\"TBC\",LARGE(Tables!$FO$49:$FO$81,2))","v":0},{"$f":"IF($O$1>Entries!$K$20,\"TBC\",LARGE(Tables!$FO$49:$FO$81,3))","v":0},{"$f":"IF($O$1>Entries!$K$20,\"TBC\",SUM(O12:Q12))","v":351},{"$f":"IF($S$1>Entries!$K$20,\"TBC\",LARGE(Tables!$FP$49:$FP$81,1))","v":279},{"$f":"IF($S$1>Entries!$K$20,\"TBC\",LARGE(Tables!$FP$49:$FP$81,2))","v":0},{"$f":"IF($S$1>Entries!$K$20,\"TBC\",LARGE(Tables!$FP$49:$FP$81,3))","v":0},{"$f":"IF($S$1>Entries!$K$20,\"TBC\",SUM(S12:U12))","v":279},0,0,0,351,279,630,0,630.03510279000011]
[null,"RCSI",{"$f":"IF($C$1>Entries!$K$20,\"TBC\",LARGE(Tables!$DT$49:$DT$81,1))","v":0},{"$f":"IF($C$1>Entries!$K$20,\"TBC\",LARGE(Tables!$DT$49:$DT$81,2))","v":0},{"$f":"IF($C$1>Entries!$K$20,\"TBC\",LARGE(Tables!$DT$49:$DT$81,3))","v":0},{"$f":"IF($C$1>Entries!$K$20,\"TBC\",SUM(C13:E13))","v":0},{"$f":"IF($G$1>Entries!$K$20,\"TBC\",LARGE(Tables!$DU$49:$DU$81,1))","v":0},{"$f":"IF($G$1>Entries!$K$20,\"TBC\",LARGE(Tables!$DU$49:$DU$81,2))","v":0},{"$f":"IF($G$1>Entries!$K$20,\"TBC\",LARGE(Tables!$DU$49:$DU$81,3))","v":0},{"$f":"IF($G$1>Entries!$K$20,\"TBC\",SUM(G13:I13))","v":0},{"$f":"IF($K$1>Entries!$K$20,\"TBC\",LARGE(Tables!$DV$49:$DV$81,1))","v":326},{"$f":"IF($K$1>Entries!$K$20,\"TBC\",LARGE(Tables!$DV$49:$DV$81,2))","v":166},{"$f":"IF($K$1>Entries!$K$20,\"TBC\",LARGE(Tables!$DV$49:$DV$81,3))","v":0},{"$f":"IF($K$1>Entries!$K$20,\"TBC\",SUM(K13:M13))","v":492},{"$f":"IF($O$1>Entries!$K$20,\"TBC\",LARGE(Tables!$DW$49:$DW$81,1))","v":0},{"$f":"IF($O$1>Entries!$K$20,\"TBC\",LARGE(Tables!$DW$49:$DW$81,2))","v":0},{"$f":"IF($O$1>Entries!$K$20,\"TBC\",LARGE(Tables!$DW$49:$DW$81,3))","v":0},{"$f":"IF($O$1>Entries!$K$20,\"TBC\",SUM(O13:Q13))","v":0},{"$f":"IF($S$1>Entries!$K$20,\"TBC\",LARGE(Tables!$DX$49:$DX$81,1))","v":0},{"$f":"IF($S$1>Entries!$K$20,\"TBC\",LARGE(Tables!$DX$49:$DX$81,2))","v":0},{"$f":"IF($S$1>Entries!$K$20,\"TBC\",LARGE(Tables!$DX$49:$DX$81,3))","v":0},{"$f":"IF($S$1>Entries!$K$20,\"TBC\",SUM(S13:U13))","v":0},0,0,492,0,0,492,0,492.04919999999998]
[null,"NCAD",{"$f":"IF($C$1>Entries!$K$20,\"TBC\",LARGE(Tables!$CX$49:$CX$81,1))","v":0},{"$f":"IF($C$1>Entries!$K$20,\"TBC\",LARGE(Tables!$CX$49:$CX$81,2))","v":0},{"$f":"IF($C$1>Entries!$K$20,\"TBC\",LARGE(Tables!$CX$49:$CX$81,3))","v":0},{"$f":"IF($C$1>Entries!$K$20,\"TBC\",SUM(C14:E14))","v":0},{"$f":"IF($G$1>Entries!$K$20,\"TBC\",LARGE(Tables!$CY$49:$CY$81,1))","v":0},{"$f":"IF($G$1>Entries!$K$20,\"TBC\",LARGE(Tables!$CY$49:$CY$81,2))","v":0},{"$f":"IF($G$1>Entries!$K$20,\"TBC\",LARGE(Tables!$CY$49:$CY$81,3))","v":0},{"$f":"IF($G$1>Entries!$K$20,\"TBC\",SUM(G14:I14))","v":0},{"$f":"IF($K$1>Entries!$K$20,\"TBC\",LARGE(Tables!$CZ$49:$CZ$81,1))","v":0},{"$f":"IF($K$1>Entries!$K$20,\"TBC\",LARGE(Tables!$CZ$49:$CZ$81,2))","v":0},{"$f":"IF($K$1>Entries!$K$20,\"TBC\",LARGE(Tables!$CZ$49:$CZ$81,3))","v":0},{"$f":"IF($K$1>Entries!$K$20,\"TBC\",SUM(K14:M14))","v":0},{"$f":"IF($O$1>Entries!$K$20,\"TBC\",LARGE(Tables!$DA$49:$DA$81,1))","v":0},{"$f":"IF($O$1>Entries!$K$20,\"TBC\",LARGE(Tables!$DA$49:$DA$81,2))","v":0},{"$f":"IF($O$1>Entries!$K$20,\"TBC\",LARGE(Tables!$DA$49:$DA$81,3))","v":0},{"$f":"IF($O$1>Entries!$K$20,\"TBC\",SUM(O14:Q14))","v":0},{"$f":"IF($S$1>Entries!$K$20,\"TBC\",LARGE(Tables!$DB$49:$DB$81,1))","v":0},{"$f":"IF($S$1>Entries!$K$20,\"TBC\",LARGE(Tables!$DB$49:$DB$81,2))","v":0},{"$f":"IF($S$1>Entries!$K$20,\"TBC\",LARGE(Tables!$DB$49:$DB$81,3))","v":0},{"$f":"IF($S$1>Entries!$K$20,\"TBC\",SUM(S14:U14))","v":0},0,0,0,0,0,0,0,0]
[null,"UL",{"$f":"IF($C$1>Entries!$K$20,\"TBC\",LARGE(Tables!$FA$49:$FA$81,1))","v":0},{"$f":"IF($C$1>Entries!$K$20,\"TBC\",LARGE(Tables!$FA$49:$FA$81,2))","v":0},{"$f":"IF($C$1>Entries!$K$20,\"TBC\",LARGE(Tables!$FA$49:$FA$81,3))","v":0},{"$f":"IF($C$1>Entries!$K$20,\"TBC\",SUM(C15:E15))","v":0},{"$f":"IF($G$1>Entries!$K$20,\"TBC\",LARGE(Tables!$FB$49:$FB$81,1))","v":0},{"$f":"IF($G$1>Entries!$K$20,\"TBC\",LARGE(Tables!$FB$49:$FB$81,2))","v":0},{"$f":"IF($G$1>Entries!$K$20,\"TBC\",LARGE(Tables!$FB$49:$FB$81,3))","v":0},{"$f":"IF($G$1>Entries!$K$20,\"TBC\",SUM(G15:I15))","v":0},{"$f":"IF($K$1>Entries!$K$20,\"TBC\",LARGE(Tables!$FC$49:$FC$81,1))","v":0},{"$f":"IF($K$1>Entries!$K$20,\"TBC\",LARGE(Tables!$FC$49:$FC$81,2))","v":0},{"$f":"IF($K$1>Entries!$K$20,\"TBC\",LARGE(Tables!$FC$49:$FC$81,3))","v":0},{"$f":"IF($K$1>Entries!$K$20,\"TBC\",SUM(K15:M15))","v":0},{"$f":"IF($O$1>Entries!$K$20,\"TBC\",LARGE(Tables!$FD$49:$FD$81,1))","v":0},{"$f":"IF($O$1>Entries!$K$20,\"TBC\",LARGE(Tables!$FD$49:$FD$81,2))","v":0},{"$f":"IF($O$1>Entries!$K$20,\"TBC\",LARGE(Tables!$FD$49:$FD$81,3))","v":0},{"$f":"IF($O$1>Entries!$K$20,\"TBC\",SUM(O15:Q15))","v":0},{"$f":"IF($S$1>Entries!$K$20,\"TBC\",LARGE(Tables!$FE$49:$FE$81,1))","v":0},{"$f":"IF($S$1>Entries!$K$20,\"TBC\",LARGE(Tables!$FE$49:$FE$81,2))","v":0},{"$f":"IF($S$1>Entries!$K$20,\"TBC\",LARGE(Tables!$FE$49:$FE$81,3))","v":0},{"$f":"IF($S$1>Entries!$K$20,\"TBC\",SUM(S15:U15))","v":0},0,0,0,0,0,0,0,0]
[null,"DIT",{"$f":"IF($C$1>Entries!$K$20,\"TBC\",LARGE(Tables!$N$49:$N$81,1))","v":0},{"$f":"IF($C$1>Entries!$K$20,\"TBC\",LARGE(Tables!$N$49:$N$81,2))","v":0},{"$f":"IF($C$1>Entries!$K$20,\"TBC\",LARGE(Tables!$N$49:$N$81,3))","v":0},{"$f":"IF($C$1>Entries!$K$20,\"TBC\",SUM(C16:E16))","v":0},{"$f":"IF($G$1>Entries!$K$20,\"TBC\",LARGE(Tables!$O$49:$O$81,1))","v":0},{"$f":"IF($G$1>Entries!$K$20,\"TBC\",LARGE(Tables!$O$49:$O$81,2))","v":0},{"$f":"IF($G$1>Entries!$K$20,\"TBC\",LARGE(Tables!$O$49:$O$81,3))","v":0},{"$f":"IF($G$1>Entries!$K$20,\"TBC\",SUM(G16:I16))","v":0},{"$f":"IF($K$1>Entries!$K$20,\"TBC\",LARGE(Tables!$P$49:$P$81,1))","v":0},{"$f":"IF($K$1>Entries!$K$20,\"TBC\",LARGE(Tables!$P$49:$P$81,2))","v":0},{"$f":"IF($K$1>Entries!$K$20,\"TBC\",LARGE(Tables!$P$49:$P$81,3))","v":0},{"$f":"IF($K$1>Entries!$K$20,\"TBC\",SUM(K16:M16))","v":0},{"$f":"IF($O$1>Entries!$K$20,\"TBC\",LARGE(Tables!$Q$49:$Q$81,1))","v":0},{"$f":"IF($O$1>Entries!$K$20,\"TBC\",LARGE(Tables!$Q$49:$Q$81,2))","v":0},{"$f":"IF($O$1>Entries!$K$20,\"TBC\",LARGE(Tables!$Q$49:$Q$81,3))","v":0},{"$f":"IF($O$1>Entries!$K$20,\"TBC\",SUM(O16:Q16))","v":0},{"$f":"IF($S$1>Entries!$K$20,\"TBC\",LARGE(Tables!$R$49:$R$81,1))","v":0},{"$f":"IF($S$1>Entries!$K$20,\"TBC\",LARGE(Tables!$R$49:$R$81,2))","v":0},{"$f":"IF($S$1>Entries!$K$20,\"TBC\",LARGE(Tables!$R$49:$R$81,3))","v":0},{"$f":"IF($S$1>Entries!$K$20,\"TBC\",SUM(S16:U16))","v":0},0,0,0,0,0,0,0,0]
[null,"DKIT",{"$f":"IF($C$1>Entries!$K$20,\"TBC\",LARGE(Tables!$Y$49:$Y$81,1))","v":0},{"$f":"IF($C$1>Entries!$K$20,\"TBC\",LARGE(Tables!$Y$49:$Y$81,2))","v":0},{"$f":"IF($C$1>Entries!$K$20,\"TBC\",LARGE(Tables!$Y$49:$Y$81,3))","v":0},{"$f":"IF($C$1>Entries!$K$20,\"TBC\",SUM(C17:E17))","v":0},{"$f":"IF($G$1>Entries!$K$20,\"TBC\",LARGE(Tables!$Z$49:$Z$81,1))","v":0},{"$f":"IF($G$1>Entries!$K$20,\"TBC\",LARGE(Tables!$Z$49:$Z$81,2))","v":0},{"$f":"IF($G$1>Entries!$K$20,\"TBC\",LARGE(Tables!$Z$49:$Z$81,3))","v":0},{"$f":"IF($G$1>Entries!$K$20,\"TBC\",SUM(G17:I17))","v":0},{"$f":"IF($K$1>Entries!$K$20,\"TBC\",LARGE(Tables!$AA$49:$AA$81,1))","v":0},{"$f":"IF($K$1>Entries!$K$20,\"TBC\",LARGE(Tables!$AA$49:$AA$81,2))","v":0},{"$f":"IF($K$1>Entries!$K$20,\"TBC\",LARGE(Tables!$AA$49:$AA$81,3))","v":0},{"$f":"IF($K$1>Entries!$K$20,\"TBC\",SUM(K17:M17))","v":0},{"$f":"IF($O$1>Entries!$K$20,\"TBC\",LARGE(Tables!$AB$49:$AB$81,1))","v":0},{"$f":"IF($O$1>Entries!$K$20,\"TBC\",LARGE(Tables!$AB$49:$AB$81,2))","v":0},{"$f":"IF($O$1>Entries!$K$20,\"TBC\",LARGE(Tables!$AB$49:$AB$81,3))","v":0},{"$f":"IF($O$1>Entries!$K$20,\"TBC\",SUM(O17:Q17))","v":0},{"$f":"IF($S$1>Entries!$K$20,\"TBC\",LARGE(Tables!$AC$49:$AC$81,1))","v":0},{"$f":"IF($S$1>Entries!$K$20,\"TBC\",LARGE(Tables!$AC$49:$AC$81,2))","v":0},{"$f":"IF($S$1>Entries!$K$20,\"TBC\",LARGE(Tables!$AC$49:$AC$81,3))","v":0},{"$f":"IF($S$1>Entries!$K$20,\"TBC\",SUM(S17:U17))","v":0},0,0,0,0,0,0,0,0]
[null,"AAA",{"$f":"IF($C$1>Entries!$K$20,\"TBC\",LARGE(Tables!$GH$49:$GH$81,1))","v":0},{"$f":"IF($C$1>Entries!$K$20,\"TBC\",LARGE(Tables!$GH$49:$GH$81,2))","v":0},{"$f":"IF($C$1>Entries!$K$20,\"TBC\",LARGE(Tables!$GH$49:$GH$81,3))","v":0},{"$f":"IF($C$1>Entries!$K$20,\"TBC\",SUM(C18:E18))","v":0},{"$f":"IF($G$1>Entries!$K$20,\"TBC\",LARGE(Tables!$GI$49:$GI$81,1))","v":0},{"$f":"IF($G$1>Entries!$K$20,\"TBC\",LARGE(Tables!$GI$49:$GI$81,2))","v":0},{"$f":"IF($G$1>Entries!$K$20,\"TBC\",LARGE(Tables!$GI$49:$GI$81,3))","v":0},{"$f":"IF($G$1>Entries!$K$20,\"TBC\",SUM(G18:I18))","v":0},{"$f":"IF($K$1>Entries!$K$20,\"TBC\",LARGE(Tables!$GJ$49:$GJ$81,1))","v":0},{"$f":"IF($K$1>Entries!$K$20,\"TBC\",LARGE(Tables!$GJ$49:$GJ$81,2))","v":0},{"$f":"IF($K$1>Entries!$K$20,\"TBC\",LARGE(Tables!$GJ$49:$GJ$81,3))","v":0},{"$f":"IF($K$1>Entries!$K$20,\"TBC\",SUM(K18:M18))","v":0},{"$f":"IF($O$1>Entries!$K$20,\"TBC\",LARGE(Tables!$GK$49:$GK$81,1))","v":0},{"$f":"IF($O$1>Entries!$K$20,\"TBC\",LARGE(Tables!$GK$49:$GK$81,2))","v":0},{"$f":"IF($O$1>Entries!$K$20,\"TBC\",LARGE(Tables!$GK$49:$GK$81,3))","v":0},{"$f":"IF($O$1>Entries!$K$20,\"TBC\",SUM(O18:Q18))","v":0},{"$f":"IF($S$1>Entries!$K$20,\"TBC\",LARGE(Tables!$GL$49:$GL$81,1))","v":0},{"$f":"IF($S$1>Entries!$K$20,\"TBC\",LARGE(Tables!$GL$49:$GL$81,2))","v":0},{"$f":"IF($S$1>Entries!$K$20,\"TBC\",LARGE(Tables!$GL$49:$GL$81,3))","v":0},{"$f":"IF($S$1>Entries!$K$20,\"TBC\",SUM(S18:U18))","v":0},0,0,0,0,0,0,0,0]
[null,"BBB",{"$f":"IF($C$1>Entries!$K$20,\"TBC\",LARGE(Tables!$GS$49:$GS$81,1))","v":0},{"$f":"IF($C$1>Entries!$K$20,\"TBC\",LARGE(Tables!$GS$49:$GS$81,2))","v":0},{"$f":"IF($C$1>Entries!$K$20,\"TBC\",LARGE(Tables!$GS$49:$GS$81,3))","v":0},{"$f":"IF($C$1>Entries!$K$20,\"TBC\",SUM(C19:E19))","v":0},{"$f":"IF($G$1>Entries!$K$20,\"TBC\",LARGE(Tables!$GT$49:$GT$81,1))","v":0},{"$f":"IF($G$1>Entries!$K$20,\"TBC\",LARGE(Tables!$GT$49:$GT$81,2))","v":0},{"$f":"IF($G$1>Entries!$K$20,\"TBC\",LARGE(Tables!$GT$49:$GT$81,3))","v":0},{"$f":"IF($G$1>Entries!$K$20,\"TBC\",SUM(G19:I19))","v":0},{"$f":"IF($K$1>Entries!$K$20,\"TBC\",LARGE(Tables!$GU$49:$GU$81,1))","v":0},{"$f":"IF($K$1>Entries!$K$20,\"TBC\",LARGE(Tables!$GU$49:$GU$81,2))","v":0},{"$f":"IF($K$1>Entries!$K$20,\"TBC\",LARGE(Tables!$GU$49:$GU$81,3))","v":0},{"$f":"IF($K$1>Entries!$K$20,\"TBC\",SUM(K19:M19))","v":0},{"$f":"IF($O$1>Entries!$K$20,\"TBC\",LARGE(Tables!$GV$49:$GV$81,1))","v":0},{"$f":"IF($O$1>Entries!$K$20,\"TBC\",LARGE(Tables!$GV$49:$GV$81,2))","v":0},{"$f":"IF($O$1>Entries!$K$20,\"TBC\",LARGE(Tables!$GV$49:$GV$81,3))","v":0},{"$f":"IF($O$1>Entries!$K$20,\"TBC\",SUM(O19:Q19))","v":0},{"$f":"IF($S$1>Entries!$K$20,\"TBC\",LARGE(Tables!$GW$49:$GW$81,1))","v":0},{"$f":"IF($S$1>Entries!$K$20,\"TBC\",LARGE(Tables!$GW$49:$GW$81,2))","v":0},{"$f":"IF($S$1>Entries!$K$20,\"TBC\",LARGE(Tables!$GW$49:$GW$81,3))","v":0},{"$f":"IF($S$1>Entries!$K$20,\"TBC\",SUM(S19:U19))","v":0},0,0,0,0,0,0,0,0]
[null,"CCC",{"$f":"IF($C$1>Entries!$K$20,\"TBC\",LARGE(Tables!$HD$49:$HD$81,1))","v":0},{"$f":"IF($C$1>Entries!$K$20,\"TBC\",LARGE(Tables!$HD$49:$HD$81,2))","v":0},{"$f":"IF($C$1>Entries!$K$20,\"TBC\",LARGE(Tables!$HD$49:$HD$81,3))","v":0},{"$f":"IF($C$1>Entries!$K$20,\"TBC\",SUM(C20:E20))","v":0},{"$f":"IF($G$1>Entries!$K$20,\"TBC\",LARGE(Tables!$HE$49:$HE$81,1))","v":0},{"$f":"IF($G$1>Entries!$K$20,\"TBC\",LARGE(Tables!$HE$49:$HE$81,2))","v":0},{"$f":"IF($G$1>Entries!$K$20,\"TBC\",LARGE(Tables!$HE$49:$HE$81,3))","v":0},{"$f":"IF($G$1>Entries!$K$20,\"TBC\",SUM(G20:I20))","v":0},{"$f":"IF($K$1>Entries!$K$20,\"TBC\",LARGE(Tables!$HF$49:$HF$81,1))","v":0},{"$f":"IF($K$1>Entries!$K$20,\"TBC\",LARGE(Tables!$HF$49:$HF$81,2))","v":0},{"$f":"IF($K$1>Entries!$K$20,\"TBC\",LARGE(Tables!$HF$49:$HF$81,3))","v":0},{"$f":"IF($K$1>Entries!$K$20,\"TBC\",SUM(K20:M20))","v":0},{"$f":"IF($O$1>Entries!$K$20,\"TBC\",LARGE(Tables!$HG$49:$HG$81,1))","v":0},{"$f":"IF($O$1>Entries!$K$20,\"TBC\",LARGE(Tables!$HG$49:$HG$81,2))","v":0},{"$f":"IF($O$1>Entries!$K$20,\"TBC\",LARGE(Tables!$HG$49:$HG$81,3))","v":0},{"$f":"IF($O$1>Entries!$K$20,\"TBC\",SUM(O20:Q20))","v":0},{"$f":"IF($S$1>Entries!$K$20,\"TBC\",LARGE(Tables!$HH$49:$HH$81,1))","v":0},{"$f":"IF($S$1>Entries!$K$20,\"TBC\",LARGE(Tables!$HH$49:$HH$81,2))","v":0},{"$f":"IF($S$1>Entries!$K$20,\"TBC\",LARGE(Tables!$HH$49:$HH$81,3))","v":0},{"$f":"IF($S$1>Entries!$K$20,\"TBC\",SUM(S20:U20))","v":0},0,0,0,0,0,0,0,0]
[null,"DDD",{"$f":"IF($C$1>Entries!$K$20,\"TBC\",LARGE(Tables!$HO$49:$HO$81,1))","v":0},{"$f":"IF($C$1>Entries!$K$20,\"TBC\",LARGE(Tables!$HO$49:$HO$81,2))","v":0},{"$f":"IF($C$1>Entries!$K$20,\"TBC\",LARGE(Tables!$HO$49:$HO$81,3))","v":0},{"$f":"IF($C$1>Entries!$K$20,\"TBC\",SUM(C21:E21))","v":0},{"$f":"IF($G$1>Entries!$K$20,\"TBC\",LARGE(Tables!$HP$49:$HP$81,1))","v":0},{"$f":"IF($G$1>Entries!$K$20,\"TBC\",LARGE(Tables!$HP$49:$HP$81,2))","v":0},{"$f":"IF($G$1>Entries!$K$20,\"TBC\",LARGE(Tables!$HP$49:$HP$81,3))","v":0},{"$f":"IF($G$1>Entries!$K$20,\"TBC\",SUM(G21:I21))","v":0},{"$f":"IF($K$1>Entries!$K$20,\"TBC\",LARGE(Tables!$HQ$49:$HQ$81,1))","v":0},{"$f":"IF($K$1>Entries!$K$20,\"TBC\",LARGE(Tables!$HQ$49:$HQ$81,2))","v":0},{"$f":"IF($K$1>Entries!$K$20,\"TBC\",LARGE(Tables!$HQ$49:$HQ$81,3))","v":0},{"$f":"IF($K$1>Entries!$K$20,\"TBC\",SUM(K21:M21))","v":0},{"$f":"IF($O$1>Entries!$K$20,\"TBC\",LARGE(Tables!$HR$49:$HR$81,1))","v":0},{"$f":"IF($O$1>Entries!$K$20,\"TBC\",LARGE(Tables!$HR$49:$HR$81,2))","v":0},{"$f":"IF($O$1>Entries!$K$20,\"TBC\",LARGE(Tables!$HR$49:$HR$81,3))","v":0},{"$f":"IF($O$1>Entries!$K$20,\"TBC\",SUM(O21:Q21))","v":0},{"$f":"IF($S$1>Entries!$K$20,\"TBC\",LARGE(Tables!$HS$49:$HS$81,1))","v":0},{"$f":"IF($S$1>Entries!$K$20,\"TBC\",LARGE(Tables!$HS$49:$HS$81,2))","v":0},{"$f":"IF($S$1>Entries!$K$20,\"TBC\",LARGE(Tables!$HS$49:$HS$81,3))","v":0},{"$f":"IF($S$1>Entries!$K$20,\"TBC\",SUM(S21:U21))","v":0},0,0,0,0,0,0,0,0]
[null,"EEE",{"$f":"IF($C$1>Entries!$K$20,\"TBC\",LARGE(Tables!$HZ$49:$HZ$81,1))","v":0},{"$f":"IF($C$1>Entries!$K$20,\"TBC\",LARGE(Tables!$HZ$49:$HZ$81,2))","v":0},{"$f":"IF($C$1>Entries!$K$20,\"TBC\",LARGE(Tables!$HZ$49:$HZ$81,3))","v":0},{"$f":"IF($C$1>Entries!$K$20,\"TBC\",SUM(C22:E22))","v":0},{"$f":"IF($G$1>Entries!$K$20,\"TBC\",LARGE(Tables!$IA$49:$IA$81,1))","v":0},{"$f":"IF($G$1>Entries!$K$20,\"TBC\",LARGE(Tables!$IA$49:$IA$81,2))","v":0},{"$f":"IF($G$1>Entries!$K$20,\"TBC\",LARGE(Tables!$IA$49:$IA$81,3))","v":0},{"$f":"IF($G$1>Entries!$K$20,\"TBC\",SUM(G22:I22))","v":0},{"$f":"IF($K$1>Entries!$K$20,\"TBC\",LARGE(Tables!$IB$49:$IB$81,1))","v":0},{"$f":"IF($K$1>Entries!$K$20,\"TBC\",LARGE(Tables!$IB$49:$IB$81,2))","v":0},{"$f":"IF($K$1>Entries!$K$20,\"TBC\",LARGE(Tables!$IB$49:$IB$81,3))","v":0},{"$f":"IF($K$1>Entries!$K$20,\"TBC\",SUM(K22:M22))","v":0},{"$f":"IF($O$1>Entries!$K$20,\"TBC\",LARGE(Tables!$IC$49:$IC$81,1))","v":0},{"$f":"IF($O$1>Entries!$K$20,\"TBC\",LARGE(Tables!$IC$49:$IC$81,2))","v":0},{"$f":"IF($O$1>Entries!$K$20,\"TBC\",LARGE(Tables!$IC$49:$IC$81,3))","v":0},{"$f":"IF($O$1>Entries!$K$20,\"TBC\",SUM(O22:Q22))","v":0},{"$f":"IF($S$1>Entries!$K$20,\"TBC\",LARGE(Tables!$ID$49:$ID$81,1))","v":0},{"$f":"IF($S$1>Entries!$K$20,\"TBC\",LARGE(Tables!$ID$49:$ID$81,2))","v":0},{"$f":"IF($S$1>Entries!$K$20,\"TBC\",LARGE(Tables!$ID$49:$ID$81,3))","v":0},{"$f":"IF($S$1>Entries!$K$20,\"TBC\",SUM(S22:U22))","v":0},0,0,0,0,0,0,0,0]
[null,"WIT",{"$f":"IF($C$1>Entries!$K$20,\"TBC\",LARGE(Tables!$FW$49:$FW$81,1))","v":0},{"$f":"IF($C$1>Entries!$K$20,\"TBC\",LARGE(Tables!$FW$49:$FW$81,2))","v":0},{"$f":"IF($C$1>Entries!$K$20,\"TBC\",LARGE(Tables!$FW$49:$FW$81,3))","v":0},{"$f":"IF($C$1>Entries!$K$20,\"TBC\",SUM(C23:E23))","v":0},{"$f":"IF($G$1>Entries!$K$20,\"TBC\",LARGE(Tables!$FX$49:$FX$81,1))","v":0},{"$f":"IF($G$1>Entries!$K$20,\"TBC\",LARGE(Tables!$FX$49:$FX$81,2))","v":0},{"$f":"IF($G$1>Entries!$K$20,\"TBC\",LARGE(Tables!$FX$49:$FX$81,3))","v":0},{"$f":"IF($G$1>Entries!$K$20,\"TBC\",SUM(G23:I23))","v":0},{"$f":"IF($K$1>Entries!$K$20,\"TBC\",LARGE(Tables!$FY$49:$FY$81,1))","v":0},{"$f":"IF($K$1>Entries!$K$20,\"TBC\",LARGE(Tables!$FY$49:$FY$81,2))","v":0},{"$f":"IF($K$1>Entries!$K$20,\"TBC\",LARGE(Tables!$FY$49:$FY$81,3))","v":0},{"$f":"IF($K$1>Entries!$K$20,\"TBC\",SUM(K23:M23))","v":0},{"$f":"IF($O$1>Entries!$K$20,\"TBC\",LARGE(Tables!$FZ$49:$FZ$81,1))","v":0},{"$f":"IF($O$1>Entries!$K$20,\"TBC\",LARGE(Tables!$FZ$49:$FZ$81,2))","v":0},{"$f":"IF($O$1>Entries!$K$20,\"TBC\",LARGE(Tables!$FZ$49:$FZ$81,3))","v":0},{"$f":"IF($O$1>Entries!$K$20,\"TBC\",SUM(O23:Q23))","v":0},{"$f":"IF($S$1>Entries!$K$20,\"TBC\",LARGE(Tables!$GA$49:$GA$81,1))","v":0},{"$f":"IF($S$1>Entries!$K$20,\"TBC\",LARGE(Tables!$GA$49:$GA$81,2))","v":0},{"$f":"IF($S$1>Entries!$K$20,\"TBC\",LARGE(Tables!$GA$49:$GA$81,3))","v":0},{"$f":"IF($S$1>Entries!$K$20,\"TBC\",SUM(S23:U23))","v":0},0,0,0,0,0,0,0,-0.7]

{"sheet":"Com' List","index":17,"n_rows":23,"n_cols":30,"rows_kept":23,"cut":false,"hidden":false,"merged":[]}
["Compound",null,1,null,null,null,2,null,null,null,3,null,null,null,4,null,null,null,5,null,null,null,1,2,3,4,5,"total","minimum","league"]
[null,"DCU",{"$f":"IF($C$1>Entries!$K$20,\"TBC\",LARGE(Tables!$C$92:$C$124,1))","v":544},{"$f":"IF($C$1>Entries!$K$20,\"TBC\",LARGE(Tables!$C$92:$C$124,2))","v":494},{"$f":"IF($C$1>Entries!$K$20,\"TBC\",LARGE(Tables!$C$92:$C$124,3))","v":361},{"$f":"IF($C$1>Entries!$K$20,\"TBC\",SUM(C2:E2))","v":1399},{"$f":"IF($G$1>Entries!$K$20,\"TBC\",LARGE(Tables!$D$92:$D$124,1))","v":547},{"$f":"IF($G$1>Entries!$K$20,\"TBC\",LARGE(Tables!$D$92:$D$124,2))","v":517},{"$f":"IF($G$1>Entries!$K$20,\"TBC\",LARGE(Tables!$D$92:$D$124,3))","v":516},{"$f":"IF($G$1>Entries!$K$20,\"TBC\",SUM(G2:I2))","v":1580},{"$f":"IF($K$1>Entries!$K$20,\"TBC\",LARGE(Tables!$E$92:$E$124,1))","v":539},{"$f":"IF($K$1>Entries!$K$20,\"TBC\",LARGE(Tables!$E$92:$E$124,2))","v":523},{"$f":"IF($K$1>Entries!$K$20,\"TBC\",LARGE(Tables!$E$92:$E$124,3))","v":497},{"$f":"IF($K$1>Entries!$K$20,\"TBC\",SUM(K2:M2))","v":1559},{"$f":"IF($O$1>Entries!$K$20,\"TBC\",LARGE(Tables!$F$92:$F$124,1))","v":540},{"$f":"IF($O$1>Entries!$K$20,\"TBC\",LARGE(Tables!$F$92:$F$124,2))","v":526},{"$f":"IF($O$1>Entries!$K$20,\"TBC\",LARGE(Tables!$F$92:$F$124,3))","v":520},{"$f":"IF($O$1>Entries!$K$20,\"TBC\",SUM(O2:Q2))","v":1586},{"$f":"IF($S$1>Entries!$K$20,\"TBC\",LARGE(Tables!$G$92:$G$124,1))","v":535},{"$f":"IF($S$1>Entries!$K$20,\"TBC\",LARGE(Tables!$G$92:$G$124,2))","v":517},{"$f":"IF($S$1>Entries!$K$20,\"TBC\",LARGE(Tables!$G$92:$G$124,3))","v":506},{"$f":"IF($S$1>Entries!$K$20,\"TBC\",SUM(S2:U2))","v":1558},{"$f":"F2","v":1399},{"$f":"J2","v":1580},{"$f":"N2","v":1559},{"$f":"R2","v":1586},{"$f":"V2","v":1558},{"$f":"SUM(W2:AA2)","v":7682},{"$f":"MIN(W2:AA2)","v":1399},{"$f":"AB2-AC2+(LARGE(W2:AA2,1)/10000)+(LARGE(W2:AA2,2)/100000000)","v":6283.1586158}]
[null,"NUIG",{"$f":"IF($C$1>Entries!$K$20,\"TBC\",LARGE(Tables!$DI$92:$DI$124,1))","v":565},{"$f":"IF($C$1>Entries!$K$20,\"TBC\",LARGE(Tables!$DI$92:$DI$124,2))","v":529},{"$f":"IF($C$1>Entries!$K$20,\"TBC\",LARGE(Tables!$DI$92:$DI$124,3))","v":380},{"$f":"IF($C$1>Entries!$K$20,\"TBC\",SUM(C3:E3))","v":1474},{"$f":"IF($G$1>Entries!$K$20,\"TBC\",LARGE(Tables!$DJ$92:$DJ$124,1))","v":549},{"$f":"IF($G$1>Entries!$K$20,\"TBC\",LARGE(Tables!$DJ$92:$DJ$124,2))","v":541},{"$f":"IF($G$1>Entries!$K$20,\"TBC\",LARGE(Tables!$DJ$92:$DJ$124,3))","v":0},{"$f":"IF($G$1>Entries!$K$20,\"TBC\",SUM(G3:I3))","v":1090},{"$f":"IF($K$1>Entries!$K$20,\"TBC\",LARGE(Tables!$DK$92:$DK$124,1))","v":560},{"$f":"IF($K$1>Entries!$K$20,\"TBC\",LARGE(Tables!$DK$92:$DK$124,2))","v":538},{"$f":"IF($K$1>Entries!$K$20,\"TBC\",LARGE(Tables!$DK$92:$DK$124,3))","v":405},{"$f":"IF($K$1>Entries!$K$20,\"TBC\",SUM(K3:M3))","v":1503},{"$f":"IF($O$1>Entries!$K$20,\"TBC\",LARGE(Tables!$DL$92:$DL$124,1))","v":543},{"$f":"IF($O$1>Entries!$K$20,\"TBC\",LARGE(Tables!$DL$92:$DL$124,2))","v":430},{"$f":"IF($O$1>Entries!$K$20,\"TBC\",LARGE(Tables!$DL$92:$DL$124,3))","v":0},{"$f":"IF($O$1>Entries!$K$20,\"TBC\",SUM(O3:Q3))","v":973},{"$f":"IF($S$1>Entries!$K$20,\"TBC\",LARGE(Tables!$DM$92:$DM$124,1))","v":561},{"$f":"IF($S$1>Entries!$K$20,\"TBC\",LARGE(Tables!$DM$92:$DM$124,2))","v":517},{"$f":"IF($S$1>Entries!$K$20,\"TBC\",LARGE(Tables!$DM$92:$DM$124,3))","v":495},{"$f":"IF($S$1>Entries!$K$20,\"TBC\",SUM(S3:U3))","v":1573},1474,1090,1503,973,1573,6613,973,5640.1573150300001]
[null,"GMIT",{"$f":"IF($C$1>Entries!$K$20,\"TBC\",LARGE(Tables!$AU$92:$AU$124,1))","v":539},{"$f":"IF($C$1>Entries!$K$20,\"TBC\",LARGE(Tables!$AU$92:$AU$124,2))","v":532},{"$f":"IF($C$1>Entries!$K$20,\"TBC\",LARGE(Tables!$AU$92:$AU$124,3))","v":0},{"$f":"IF($C$1>Entries!$K$20,\"TBC\",SUM(C4:E4))","v":1071},{"$f":"IF($G$1>Entries!$K$20,\"TBC\",LARGE(Tables!$AV$92:$AV$124,1))","v":548},{"$f":"IF($G$1>Entries!$K$20,\"TBC\",LARGE(Tables!$AV$92:$AV$124,2))","v":0},{"$f":"IF($G$1>Entries!$K$20,\"TBC\",LARGE(Tables!$AV$92:$AV$124,3))","v":0},{"$f":"IF($G$1>Entries!$K$20,\"TBC\",SUM(G4:I4))","v":548},{"$f":"IF($K$1>Entries!$K$20,\"TBC\",LARGE(Tables!$AW$92:$AW$124,1))","v":548},{"$f":"IF($K$1>Entries!$K$20,\"TBC\",LARGE(Tables!$AW$92:$AW$124,2))","v":538},{"$f":"IF($K$1>Entries!$K$20,\"TBC\",LARGE(Tables!$AW$92:$AW$124,3))","v":0},{"$f":"IF($K$1>Entries!$K$20,\"TBC\",SUM(K4:M4))","v":1086},{"$f":"IF($O$1>Entries!$K$20,\"TBC\",LARGE(Tables!$AX$92:$AX$124,1))","v":559},{"$f":"IF($O$1>Entries!$K$20,\"TBC\",LARGE(Tables!$AX$92:$AX$124,2))","v":548},{"$f":"IF($O$1>Entries!$K$20,\"TBC\",LARGE(Tables!$AX$92:$AX$124,3))","v":547},{"$f":"IF($O$1>Entries!$K$20,\"TBC\",SUM(O4:Q4))","v":1654},{"$f":"IF($S$1>Entries!$K$20,\"TBC\",LARGE(Tables!$AY$92:$AY$124,1))","v":566},{"$f":"IF($S$1>Entries!$K$20,\"TBC\",LARGE(Tables!$AY$92:$AY$124,2))","v":547},{"$f":"IF($S$1>Entries!$K$20,\"TBC\",LARGE(Tables!$AY$92:$AY$124,3))","v":542},{"$f":"IF($S$1>Entries!$K$20,\"TBC\",SUM(S4:U4))","v":1655},1071,548,1086,1654,1655,6014,548,5466.1655165399998]
[null,"IT Tallaght",{"$f":"IF($C$1>Entries!$K$20,\"TBC\",LARGE(Tables!$BQ$92:$BQ$124,1))","v":568},{"$f":"IF($C$1>Entries!$K$20,\"TBC\",LARGE(Tables!$BQ$92:$BQ$124,2))","v":0},{"$f":"IF($C$1>Entries!$K$20,\"TBC\",LARGE(Tables!$BQ$92:$BQ$124,3))","v":0},{"$f":"IF($C$1>Entries!$K$20,\"TBC\",SUM(C5:E5))","v":568},{"$f":"IF($G$1>Entries!$K$20,\"TBC\",LARGE(Tables!$BR$92:$BR$124,1))","v":564},{"$f":"IF($G$1>Entries!$K$20,\"TBC\",LARGE(Tables!$BR$92:$BR$124,2))","v":0},{"$f":"IF($G$1>Entries!$K$20,\"TBC\",LARGE(Tables!$BR$92:$BR$124,3))","v":0},{"$f":"IF($G$1>Entries!$K$20,\"TBC\",SUM(G5:I5))","v":564},{"$f":"IF($K$1>Entries!$K$20,\"TBC\",LARGE(Tables!$BS$92:$BS$124,1))","v":537},{"$f":"IF($K$1>Entries!$K$20,\"TBC\",LARGE(Tables!$BS$92:$BS$124,2))","v":0},{"$f":"IF($K$1>Entries!$K$20,\"TBC\",LARGE(Tables!$BS$92:$BS$124,3))","v":0},{"$f":"IF($K$1>Entries!$K$20,\"TBC\",SUM(K5:M5))","v":537},{"$f":"IF($O$1>Entries!$K$20,\"TBC\",LARGE(Tables!$BT$92:$BT$124,1))","v":565},{"$f":"IF($O$1>Entries!$K$20,\"TBC\",LARGE(Tables!$BT$92:$BT$124,2))","v":0},{"$f":"IF($O$1>Entries!$K$20,\"TBC\",LARGE(Tables!$BT$92:$BT$124,3))","v":0},{"$f":"IF($O$1>Entries!$K$20,\"TBC\",SUM(O5:Q5))","v":565},{"$f":"IF($S$1>Entries!$K$20,\"TBC\",LARGE(Tables!$BU$92:$BU$124,1))","v":567},{"$f":"IF($S$1>Entries!$K$20,\"TBC\",LARGE(Tables!$BU$92:$BU$124,2))","v":0},{"$f":"IF($S$1>Entries!$K$20,\"TBC\",LARGE(Tables!$BU$92:$BU$124,3))","v":0},{"$f":"IF($S$1>Entries!$K$20,\"TBC\",SUM(S5:U5))","v":567},568,564,537,565,567,2801,537,2264.0568056699999]
[null,"MU",{"$f":"IF($C$1>Entries!$K$20,\"TBC\",LARGE(Tables!$CM$92:$CM$124,1))","v":537},{"$f":"IF($C$1>Entries!$K$20,\"TBC\",LARGE(Tables!$CM$92:$CM$124,2))","v":0},{"$f":"IF($C$1>Entries!$K$20,\"TBC\",LARGE(Tables!$CM$92:$CM$124,3))","v":0},{"$f":"IF($C$1>Entries!$K$20,\"TBC\",SUM(C6:E6))","v":537},{"$f":"IF($G$1>Entries!$K$20,\"TBC\",LARGE(Tables!$CN$92:$CN$124,1))","v":0},{"$f":"IF($G$1>Entries!$K$20,\"TBC\",LARGE(Tables!$CN$92:$CN$124,2))","v":0},{"$f":"IF($G$1>Entries!$K$20,\"TBC\",LARGE(Tables!$CN$92:$CN$124,3))","v":0},{"$f":"IF($G$1>Entries!$K$20,\"TBC\",SUM(G6:I6))","v":0},{"$f":"IF($K$1>Entries!$K$20,\"TBC\",LARGE(Tables!$CO$92:$CO$124,1))","v":507},{"$f":"IF($K$1>Entries!$K$20,\"TBC\",LARGE(Tables!$CO$92:$CO$124,2))","v":0},{"$f":"IF($K$1>Entries!$K$20,\"TBC\",LARGE(Tables!$CO$92:$CO$124,3))","v":0},{"$f":"IF($K$1>Entries!$K$20,\"TBC\",SUM(K6:M6))","v":507},{"$f":"IF($O$1>Entries!$K$20,\"TBC\",LARGE(Tables!$CP$92:$CP$124,1))","v":0},{"$f":"IF($O$1>Entries!$K$20,\"TBC\",LARGE(Tables!$CP$92:$CP$124,2))","v":0},{"$f":"IF($O$1>Entries!$K$20,\"TBC\",LARGE(Tables!$CP$92:$CP$124,3))","v":0},{"$f":"IF($O$1>Entries!$K$20,\"TBC\",SUM(O6:Q6))","v":0},{"$f":"IF($S$1>Entries!$K$20,\"TBC\",LARGE(Tables!$CQ$92:$CQ$124,1))","v":510},{"$f":"IF($S$1>Entries!$K$20,\"TBC\",LARGE(Tables!$CQ$92:$CQ$124,2))","v":0},{"$f":"IF($S$1>Entries!$K$20,\"TBC\",LARGE(Tables!$CQ$92:$CQ$124,3))","v":0},{"$f":"IF($S$1>Entries!$K$20,\"TBC\",SUM(S6:U6))","v":510},537,0,507,0,510,1554,0,1554.0537050999999]
[null,"UL",{"$f":"IF($C$1>Entries!$K$20,\"TBC\",LARGE(Tables!$FA$92:$FA$124,1))","v":0},{"$f":"IF($C$1>Entries!$K$20,\"TBC\",LARGE(Tables!$FA$92:$FA$124,2))","v":0},{"$f":"IF($C$1>Entries!$K$20,\"TBC\",LARGE(Tables!$FA$92:$FA$124,3))","v":0},{"$f":"IF($C$1>Entries!$K$20,\"TBC\",SUM(C7:E7))","v":0},{"$f":"IF($G$1>Entries!$K$20,\"TBC\",LARGE(Tables!$FB$92:$FB$124,1))","v":0},{"$f":"IF($G$1>Entries!$K$20,\"TBC\",LARGE(Tables!$FB$92:$FB$124,2))","v":0},{"$f":"IF($G$1>Entries!$K$20,\"TBC\",LARGE(Tables!$FB$92:$FB$124,3))","v":0},{"$f":"IF($G$1>Entries!$K$20,\"TBC\",SUM(G7:I7))","v":0},{"$f":"IF($K$1>Entries!$K$20,\"TBC\",LARGE(Tables!$FC$92:$FC$124,1))","v":520},{"$f":"IF($K$1>Entries!$K$20,\"TBC\",LARGE(Tables!$FC$92:$FC$124,2))","v":0},{"$f":"IF($K$1>Entries!$K$20,\"TBC\",LARGE(Tables!$FC$92:$FC$124,3))","v":0},{"$f":"IF($K$1>Entries!$K$20,\"TBC\",SUM(K7:M7))","v":520},{"$f":"IF($O$1>Entries!$K$20,\"TBC\",LARGE(Tables!$FD$92:$FD$124,1))","v":520},{"$f":"IF($O$1>Entries!$K$20,\"TBC\",LARGE(Tables!$FD$92:$FD$124,2))","v":0},{"$f":"IF($O$1>Entries!$K$20,\"TBC\",LARGE(Tables!$FD$92:$FD$124,3))","v":0},{"$f":"IF($O$1>Entries!$K$20,\"TBC\",SUM(O7:Q7))","v":520},{"$f":"IF($S$1>Entries!$K$20,\"TBC\",LARGE(Tables!$FE$92:$FE$124,1))","v":0},{"$f":"IF($S$1>Entries!$K$20,\"TBC\",LARGE(Tables!$FE$92:$FE$124,2))","v":0},{"$f":"IF($S$1>Entries!$K$20,\"TBC\",LARGE(Tables!$FE$92:$FE$124,3))","v":0},{"$f":"IF($S$1>Entries!$K$20,\"TBC\",SUM(S7:U7))","v":0},0,0,520,520,0,1040,0,1040.0520051999999]
[null,"UU",{"$f":"IF($C$1>Entries!$K$20,\"TBC\",LARGE(Tables!$FL$92:$FL$124,1))","v":0},{"$f":"IF($C$1>Entries!$K$20,\"TBC\",LARGE(Tables!$FL$92:$FL$124,2))","v":0},{"$f":"IF($C$1>Entries!$K$20,\"TBC\",LARGE(Tables!$FL$92:$FL$124,3))","v":0},{"$f":"IF($C$1>Entries!$K$20,\"TBC\",SUM(C8:E8))","v":0},{"$f":"IF($G$1>Entries!$K$20,\"TBC\",LARGE(Tables!$FM$92:$FM$124,1))","v":0},{"$f":"IF($G$1>Entries!$K$20,\"TBC\",LARGE(Tables!$FM$92:$FM$124,2))","v":0},{"$f":"IF($G$1>Entries!$K$20,\"TBC\",LARGE(Tables!$FM$92:$FM$124,3))","v":0},{"$f":"IF($G$1>Entries!$K$20,\"TBC\",SUM(G8:I8))","v":0},{"$f":"IF($K$1>Entries!$K$20,\"TBC\",LARGE(Tables!$FN$92:$FN$124,1))","v":0},{"$f":"IF($K$1>Entries!$K$20,\"TBC\",LARGE(Tables!$FN$92:$FN$124,2))","v":0},{"$f":"IF($K$1>Entries!$K$20,\"TBC\",LARGE(Tables!$FN$92:$FN$124,3))","v":0},{"$f":"IF($K$1>Entries!$K$20,\"TBC\",SUM(K8:M8))","v":0},{"$f":"IF($O$1>Entries!$K$20,\"TBC\",LARGE(Tables!$FO$92:$FO$124,1))","v":523},{"$f":"IF($O$1>Entries!$K$20,\"TBC\",LARGE(Tables!$FO$92:$FO$124,2))","v":261},{"$f":"IF($O$1>Entries!$K$20,\"TBC\",LARGE(Tables!$FO$92:$FO$124,3))","v":0},{"$f":"IF($O$1>Entries!$K$20,\"TBC\",SUM(O8:Q8))","v":784},{"$f":"IF($S$1>Entries!$K$20,\"TBC\",LARGE(Tables!$FP$92:$FP$124,1))","v":0},{"$f":"IF($S$1>Entries!$K$20,\"TBC\",LARGE(Tables!$FP$92:$FP$124,2))","v":0},{"$f":"IF($S$1>Entries!$K$20,\"TBC\",LARGE(Tables!$FP$92:$FP$124,3))","v":0},{"$f":"IF($S$1>Entries!$K$20,\"TBC\",SUM(S8:U8))","v":0},0,0,0,784,0,784,0,784.07839999999999]
[null,"DUAC",{"$f":"IF($C$1>Entries!$K$20,\"TBC\",LARGE(Tables!$AJ$92:$AJ$124,1))","v":0},{"$f":"IF($C$1>Entries!$K$20,\"TBC\",LARGE(Tables!$AJ$92:$AJ$124,2))","v":0},{"$f":"IF($C$1>Entries!$K$20,\"TBC\",LARGE(Tables!$AJ$92:$AJ$124,3))","v":0},{"$f":"IF($C$1>Entries!$K$20,\"TBC\",SUM(C9:E9))","v":0},{"$f":"IF($G$1>Entries!$K$20,\"TBC\",LARGE(Tables!$AK$92:$AK$124,1))","v":0},{"$f":"IF($G$1>Entries!$K$20,\"TBC\",LARGE(Tables!$AK$92:$AK$124,2))","v":0},{"$f":"IF($G$1>Entries!$K$20,\"TBC\",LARGE(Tables!$AK$92:$AK$124,3))","v":0},{"$f":"IF($G$1>Entries!$K$20,\"TBC\",SUM(G9:I9))","v":0},{"$f":"IF($K$1>Entries!$K$20,\"TBC\",LARGE(Tables!$AL$92:$AL$124,1))","v":0},{"$f":"IF($K$1>Entries!$K$20,\"TBC\",LARGE(Tables!$AL$92:$AL$124,2))","v":0},{"$f":"IF($K$1>Entries!$K$20,\"TBC\",LARGE(Tables!$AL$92:$AL$124,3))","v":0},{"$f":"IF($K$1>Entries!$K$20,\"TBC\",SUM(K9:M9))","v":0},{"$f":"IF($O$1>Entries!$K$20,\"TBC\",LARGE(Tables!$AM$92:$AM$124,1))","v":0},{"$f":"IF($O$1>Entries!$K$20,\"TBC\",LARGE(Tables!$AM$92:$AM$124,2))","v":0},{"$f":"IF($O$1>Entries!$K$20,\"TBC\",LARGE(Tables!$AM$92:$AM$124,3))","v":0},{"$f":"IF($O$1>Entries!$K$20,\"TBC\",SUM(O9:Q9))","v":0},{"$f":"IF($S$1>Entries!$K$20,\"TBC\",LARGE(Tables!$AN$92:$AN$124,1))","v":0},{"$f":"IF($S$1>Entries!$K$20,\"TBC\",LARGE(Tables!$AN$92:$AN$124,2))","v":0},{"$f":"IF($S$1>Entries!$K$20,\"TBC\",LARGE(Tables!$AN$92:$AN$124,3))","v":0},{"$f":"IF($S$1>Entries!$K$20,\"TBC\",SUM(S9:U9))","v":0},0,0,0,0,0,0,0,0]
[null,"UCD",{"$f":"IF($C$1>Entries!$K$20,\"TBC\",LARGE(Tables!$EP$92:$EP$124,1))","v":0},{"$f":"IF($C$1>Entries!$K$20,\"TBC\",LARGE(Tables!$EP$92:$EP$124,2))","v":0},{"$f":"IF($C$1>Entries!$K$20,\"TBC\",LARGE(Tables!$EP$92:$EP$124,3))","v":0},{"$f":"IF($C$1>Entries!$K$20,\"TBC\",SUM(C10:E10))","v":0},{"$f":"IF($G$1>Entries!$K$20,\"TBC\",LARGE(Tables!$EQ$92:$EQ$124,1))","v":0},{"$f":"IF($G$1>Entries!$K$20,\"TBC\",LARGE(Tables!$EQ$92:$EQ$124,2))","v":0},{"$f":"IF($G$1>Entries!$K$20,\"TBC\",LARGE(Tables!$EQ$92:$EQ$124,3))","v":0},{"$f":"IF($G$1>Entries!$K$20,\"TBC\",SUM(G10:I10))","v":0},{"$f":"IF($K$1>Entries!$K$20,\"TBC\",LARGE(Tables!$ER$92:$ER$124,1))","v":0},{"$f":"IF($K$1>Entries!$K$20,\"TBC\",LARGE(Tables!$ER$92:$ER$124,2))","v":0},{"$f":"IF($K$1>Entries!$K$20,\"TBC\",LARGE(Tables!$ER$92:$ER$124,3))","v":0},{"$f":"IF($K$1>Entries!$K$20,\"TBC\",SUM(K10:M10))","v":0},{"$f":"IF($O$1>Entries!$K$20,\"TBC\",LARGE(Tables!$ES$92:$ES$124,1))","v":0},{"$f":"IF($O$1>Entries!$K$20,\"TBC\",LARGE(Tables!$ES$92:$ES$124,2))","v":0},{"$f":"IF($O$1>Entries!$K$20,\"TBC\",LARGE(Tables!$ES$92:$ES$124,3))","v":0},{"$f":"IF($O$1>Entries!$K$20,\"TBC\",SUM(O10:Q10))","v":0},{"$f":"IF($S$1>Entries!$K$20,\"TBC\",LARGE(Tables!$ET$92:$ET$124,1))","v":0},{"$f":"IF($S$1>Entries!$K$20,\"TBC\",LARGE(Tables!$ET$92:$ET$124,2))","v":0},{"$f":"IF($S$1>Entries!$K$20,\"TBC\",LARGE(Tables!$ET$92:$ET$124,3))","v":0},{"$f":"IF($S$1>Entries!$K$20,\"TBC\",SUM(S10:U10))","v":0},0,0,0,0,0,0,0,0]
[null,"DKIT",{"$f":"IF($C$1>Entries!$K$20,\"TBC\",LARGE(Tables!$Y$92:$Y$124,1))","v":0},{"$f":"IF($C$1>Entries!$K$20,\"TBC\",LARGE(Tables!$Y$92:$Y$124,2))","v":0},{"$f":"IF($C$1>Entries!$K$20,\"TBC\",LARGE(Tables!$Y$92:$Y$124,3))","v":0},{"$f":"IF($C$1>Entries!$K$20,\"TBC\",SUM(C11:E11))","v":0},{"$f":"IF($G$1>Entries!$K$20,\"TBC\",LARGE(Tables!$Z$92:$Z$124,1))","v":0},{"$f":"IF($G$1>Entries!$K$20,\"TBC\",LARGE(Tables!$Z$92:$Z$124,2))","v":0},{"$f":"IF($G$1>Entries!$K$20,\"TBC\",LARGE(Tables!$Z$92:$Z$124,3))","v":0},{"$f":"IF($G$1>Entries!$K$20,\"TBC\",SUM(G11:I11))","v":0},{"$f":"IF($K$1>Entries!$K$20,\"TBC\",LARGE(Tables!$AA$92:$AA$124,1))","v":0},{"$f":"IF($K$1>Entries!$K$20,\"TBC\",LARGE(Tables!$AA$92:$AA$124,2))","v":0},{"$f":"IF($K$1>Entries!$K$20,\"TBC\",LARGE(Tables!$AA$92:$AA$124,3))","v":0},{"$f":"IF($K$1>Entries!$K$20,\"TBC\",SUM(K11:M11))","v":0},{"$f":"IF($O$1>Entries!$K$20,\"TBC\",LARGE(Tables!$AB$92:$AB$124,1))","v":0},{"$f":"IF($O$1>Entries!$K$20,\"TBC\",LARGE(Tables!$AB$92:$AB$124,2))","v":0},{"$f":"IF($O$1>Entries!$K$20,\"TBC\",LARGE(Tables!$AB$92:$AB$124,3))","v":0},{"$f":"IF($O$1>Entries!$K$20,\"TBC\",SUM(O11:Q11))","v":0},{"$f":"IF($S$1>Entries!$K$20,\"TBC\",LARGE(Tables!$AC$92:$AC$124,1))","v":0},{"$f":"IF($S$1>Entries!$K$20,\"TBC\",LARGE(Tables!$AC$92:$AC$124,2))","v":0},{"$f":"IF($S$1>Entries!$K$20,\"TBC\",LARGE(Tables!$AC$92:$AC$124,3))","v":0},{"$f":"IF($S$1>Entries!$K$20,\"TBC\",SUM(S11:U11))","v":0},0,0,0,0,0,0,0,0]
[null,"DIT",{"$f":"IF($C$1>Entries!$K$20,\"TBC\",LARGE(Tables!$N$92:$N$124,1))","v":0},{"$f":"IF($C$1>Entries!$K$20,\"TBC\",LARGE(Tables!$N$92:$N$124,2))","v":0},{"$f":"IF($C$1>Entries!$K$20,\"TBC\",LARGE(Tables!$N$92:$N$124,3))","v":0},{"$f":"IF($C$1>Entries!$K$20,\"TBC\",SUM(C12:E12))","v":0},{"$f":"IF($G$1>Entries!$K$20,\"TBC\",LARGE(Tables!$O$92:$O$124,1))","v":0},{"$f":"IF($G$1>Entries!$K$20,\"TBC\",LARGE(Tables!$O$92:$O$124,2))","v":0},{"$f":"IF($G$1>Entries!$K$20,\"TBC\",LARGE(Tables!$O$92:$O$124,3))","v":0},{"$f":"IF($G$1>Entries!$K$20,\"TBC\",SUM(G12:I12))","v":0},{"$f":"IF($K$1>Entries!$K$20,\"TBC\",LARGE(Tables!$P$92:$P$124,1))","v":0},{"$f":"IF($K$1>Entries!$K$20,\"TBC\",LARGE(Tables!$P$92:$P$124,2))","v":0},{"$f":"IF($K$1>Entries!$K$20,\"TBC\",LARGE(Tables!$P$92:$P$124,3))","v":0},{"$f":"IF($K$1>Entries!$K$20,\"TBC\",SUM(K12:M12))","v":0},{"$f":"IF($O$1>Entries!$K$20,\"TBC\",LARGE(Tables!$Q$92:$Q$124,1))","v":0},{"$f":"IF($O$1>Entries!$K$20,\"TBC\",LARGE(Tables!$Q$92:$Q$124,2))","v":0},{"$f":"IF($O$1>Entries!$K$20,\"TBC\",LARGE(Tables!$Q$92:$Q$124,3))","v":0},{"$f":"IF($O$1>Entries!$K$20,\"TBC\",SUM(O12:Q12))","v":0},{"$f":"IF($S$1>Entries!$K$20,\"TBC\",LARGE(Tables!$R$92:$R$124,1))","v":0},{"$f":"IF($S$1>Entries!$K$20,\"TBC\",LARGE(Tables!$R$92:$R$124,2))","v":0},{"$f":"IF($S$1>Entries!$K$20,\"TBC\",LARGE(Tables!$R$92:$R$124,3))","v":0},{"$f":"IF($S$1>Entries!$K$20,\"TBC\",SUM(S12:U12))","v":0},0,0,0,0,0,0,0,0]
[null,"GMITC",{"$f":"IF($C$1>Entries!$K$20,\"TBC\",LARGE(Tables!$BF$92:$BF$124,1))","v":0},{"$f":"IF($C$1>Entries!$K$20,\"TBC\",LARGE(Tables!$BF$92:$BF$124,2))","v":0},{"$f":"IF($C$1>Entries!$K$20,\"TBC\",LARGE(Tables!$BF$92:$BF$124,3))","v":0},{"$f":"IF($C$1>Entries!$K$20,\"TBC\",SUM(C13:E13))","v":0},{"$f":"IF($G$1>Entries!$K$20,\"TBC\",LARGE(Tables!$BG$92:$BG$124,1))","v":0},{"$f":"IF($G$1>Entries!$K$20,\"TBC\",LARGE(Tables!$BG$92:$BG$124,2))","v":0},{"$f":"IF($G$1>Entries!$K$20,\"TBC\",LARGE(Tables!$BG$92:$BG$124,3))","v":0},{"$f":"IF($G$1>Entries!$K$20,\"TBC\",SUM(G13:I13))","v":0},{"$f":"IF($K$1>Entries!$K$20,\"TBC\",LARGE(Tables!$BH$92:$BH$124,1))","v":0},{"$f":"IF($K$1>Entries!$K$20,\"TBC\",LARGE(Tables!$BH$92:$BH$124,2))","v":0},{"$f":"IF($K$1>Entries!$K$20,\"TBC\",LARGE(Tables!$BH$92:$BH$124,3))","v":0},{"$f":"IF($K$1>Entries!$K$20,\"TBC\",SUM(K13:M13))","v":0},{"$f":"IF($O$1>Entries!$K$20,\"TBC\",LARGE(Tables!$BI$92:$BI$124,1))","v":0},{"$f":"IF($O$1>Entries!$K$20,\"TBC\",LARGE(Tables!$BI$92:$BI$124,2))","v":0},{"$f":"IF($O$1>Entries!$K$20,\"TBC\",LARGE(Tables!$BI$92:$BI$124,3))","v":0},{"$f":"IF($O$1>Entries!$K$20,\"TBC\",SUM(O13:Q13))","v":0},{"$f":"IF($S$1>Entries!$K$20,\"TBC\",LARGE(Tables!$BJ$92:$BJ$124,1))","v":0},{"$f":"IF($S$1>Entries!$K$20,\"TBC\",LARGE(Tables!$BJ$92:$BJ$124,2))","v":0},{"$f":"IF($S$1>Entries!$K$20,\"TBC\",LARGE(Tables!$BJ$92:$BJ$124,3))","v":0},{"$f":"IF($S$1>Entries!$K$20,\"TBC\",SUM(S13:U13))","v":0},0,0,0,0,0,0,0,0]
[null,"ITC",{"$f":"IF($C$1>Entries!$K$20,\"TBC\",LARGE(Tables!$CB$92:$CB$124,1))","v":0},{"$f":"IF($C$1>Entries!$K$20,\"TBC\",LARGE(Tables!$CB$92:$CB$124,2))","v":0},{"$f":"IF($C$1>Entries!$K$20,\"TBC\",LARGE(Tables!$CB$92:$CB$124,3))","v":0},{"$f":"IF($C$1>Entries!$K$20,\"TBC\",SUM(C14:E14))","v":0},{"$f":"IF($G$1>Entries!$K$20,\"TBC\",LARGE(Tables!$CC$92:$CC$124,1))","v":0},{"$f":"IF($G$1>Entries!$K$20,\"TBC\",LARGE(Tables!$CC$92:$CC$124,2))","v":0},{"$f":"IF($G$1>Entries!$K$20,\"TBC\",LARGE(Tables!$CC$92:$CC$124,3))","v":0},{"$f":"IF($G$1>Entries!$K$20,\"TBC\",SUM(G14:I14))","v":0},{"$f":"IF($K$1>Entries!$K$20,\"TBC\",LARGE(Tables!$CD$92:$CD$124,1))","v":0},{"$f":"IF($K$1>Entries!$K$20,\"TBC\",LARGE(Tables!$CD$92:$CD$124,2))","v":0},{"$f":"IF($K$1>Entries!$K$20,\"TBC\",LARGE(Tables!$CD$92:$CD$124,3))","v":0},{"$f":"IF($K$1>Entries!$K$20,\"TBC\",SUM(K14:M14))","v":0},{"$f":"IF($O$1>Entries!$K$20,\"TBC\",LARGE(Tables!$CE$92:$CE$124,1))","v":0},{"$f":"IF($O$1>Entries!$K$20,\"TBC\",LARGE(Tables!$CE$92:$CE$124,2))","v":0},{"$f":"IF($O$1>Entries!$K$20,\"TBC\",LARGE(Tables!$CE$92:$CE$124,3))","v":0},{"$f":"IF($O$1>Entries!$K$20,\"TBC\",SUM(O14:Q14))","v":0},{"$f":"IF($S$1>Entries!$K$20,\"TBC\",LARGE(Tables!$CF$92:$CF$124,1))","v":0},{"$f":"IF($S$1>Entries!$K$20,\"TBC\",LARGE(Tables!$CF$92:$CF$124,2))","v":0},{"$f":"IF($S$1>Entries!$K$20,\"TBC\",LARGE(Tables!$CF$92:$CF$124,3))","v":0},{"$f":"IF($S$1>Entries!$K$20,\"TBC\",SUM(S14:U14))","v":0},0,0,0,0,0,0,0,0]
[null,"NCAD",{"$f":"IF($C$1>Entries!$K$20,\"TBC\",LARGE(Tables!$CX$92:$CX$124,1))","v":0},{"$f":"IF($C$1>Entries!$K$20,\"TBC\",LARGE(Tables!$CX$92:$CX$124,2))","v":0},{"$f":"IF($C$1>Entries!$K$20,\"TBC\",LARGE(Tables!$CX$92:$CX$124,3))","v":0},{"$f":"IF($C$1>Entries!$K$20,\"TBC\",SUM(C15:E15))","v":0},{"$f":"IF($G$1>Entries!$K$20,\"TBC\",LARGE(Tables!$CY$92:$CY$124,1))","v":0},{"$f":"IF($G$1>Entries!$K$20,\"TBC\",LARGE(Tables!$CY$92:$CY$124,2))","v":0},{"$f":"IF($G$1>Entries!$K$20,\"TBC\",LARGE(Tables!$CY$92:$CY$124,3))","v":0},{"$f":"IF($G$1>Entries!$K$20,\"TBC\",SUM(G15:I15))","v":0},{"$f":"IF($K$1>Entries!$K$20,\"TBC\",LARGE(Tables!$CZ$92:$CZ$124,1))","v":0},{"$f":"IF($K$1>Entries!$K$20,\"TBC\",LARGE(Tables!$CZ$92:$CZ$124,2))","v":0},{"$f":"IF($K$1>Entries!$K$20,\"TBC\",LARGE(Tables!$CZ$92:$CZ$124,3))","v":0},{"$f":"IF($K$1>Entries!$K$20,\"TBC\",SUM(K15:M15))","v":0},{"$f":"IF($O$1>Entries!$K$20,\"TBC\",LARGE(Tables!$DA$92:$DA$124,1))","v":0},{"$f":"IF($O$1>Entries!$K$20,\"TBC\",LARGE(Tables!$DA$92:$DA$124,2))","v":0},{"$f":"IF($O$1>Entries!$K$20,\"TBC\",LARGE(Tables!$DA$92:$DA$124,3))","v":0},{"$f":"IF($O$1>Entries!$K$20,\"TBC\",SUM(O15:Q15))","v":0},{"$f":"IF($S$1>Entries!$K$20,\"TBC\",LARGE(Tables!$DB$92:$DB$124,1))","v":0},{"$f":"IF($S$1>Entries!$K$20,\"TBC\",LARGE(Tables!$DB$92:$DB$124,2))","v":0},{"$f":"IF($S$1>Entries!$K$20,\"TBC\",LARGE(Tables!$DB$92:$DB$124,3))","v":0},{"$f":"IF($S$1>Entries!$K$20,\"TBC\",SUM(S15:U15))","v":0},0,0,0,0,0,0,0,0]
[null,"RCSI",{"$f":"IF($C$1>Entries!$K$20,\"TBC\",LARGE(Tables!$DT$92:$DT$124,1))","v":0},{"$f":"IF($C$1>Entries!$K$20,\"TBC\",LARGE(Tables!$DT$92:$DT$124,2))","v":0},{"$f":"IF($C$1>Entries!$K$20,\"TBC\",LARGE(Tables!$DT$92:$DT$124,3))","v":0},{"$f":"IF($C$1>Entries!$K$20,\"TBC\",SUM(C16:E16))","v":0},{"$f":"IF($G$1>Entries!$K$20,\"TBC\",LARGE(Tables!$DU$92:$DU$124,1))","v":0},{"$f":"IF($G$1>Entries!$K$20,\"TBC\",LARGE(Tables!$DU$92:$DU$124,2))","v":0},{"$f":"IF($G$1>Entries!$K$20,\"TBC\",LARGE(Tables!$DU$92:$DU$124,3))","v":0},{"$f":"IF($G$1>Entries!$K$20,\"TBC\",SUM(G16:I16))","v":0},{"$f":"IF($K$1>Entries!$K$20,\"TBC\",LARGE(Tables!$DV$92:$DV$124,1))","v":0},{"$f":"IF($K$1>Entries!$K$20,\"TBC\",LARGE(Tables!$DV$92:$DV$124,2))","v":0},{"$f":"IF($K$1>Entries!$K$20,\"TBC\",LARGE(Tables!$DV$92:$DV$124,3))","v":0},{"$f":"IF($K$1>Entries!$K$20,\"TBC\",SUM(K16:M16))","v":0},{"$f":"IF($O$1>Entries!$K$20,\"TBC\",LARGE(Tables!$DW$92:$DW$124,1))","v":0},{"$f":"IF($O$1>Entries!$K$20,\"TBC\",LARGE(Tables!$DW$92:$DW$124,2))","v":0},{"$f":"IF($O$1>Entries!$K$20,\"TBC\",LARGE(Tables!$DW$92:$DW$124,3))","v":0},{"$f":"IF($O$1>Entries!$K$20,\"TBC\",SUM(O16:Q16))","v":0},{"$f":"IF($S$1>Entries!$K$20,\"TBC\",LARGE(Tables!$DX$92:$DX$124,1))","v":0},{"$f":"IF($S$1>Entries!$K$20,\"TBC\",LARGE(Tables!$DX$92:$DX$124,2))","v":0},{"$f":"IF($S$1>Entries!$K$20,\"TBC\",LARGE(Tables!$DX$92:$DX$124,3))","v":0},{"$f":"IF($S$1>Entries!$K$20,\"TBC\",SUM(S16:U16))","v":0},0,0,0,0,0,0,0,0]
[null,"UCC",{"$f":"IF($C$1>Entries!$K$20,\"TBC\",LARGE(Tables!$EE$92:$EE$124,1))","v":0},{"$f":"IF($C$1>Entries!$K$20,\"TBC\",LARGE(Tables!$EE$92:$EE$124,2))","v":0},{"$f":"IF($C$1>Entries!$K$20,\"TBC\",LARGE(Tables!$EE$92:$EE$124,3))","v":0},{"$f":"IF($C$1>Entries!$K$20,\"TBC\",SUM(C17:E17))","v":0},{"$f":"IF($G$1>Entries!$K$20,\"TBC\",LARGE(Tables!$EF$92:$EF$124,1))","v":0},{"$f":"IF($G$1>Entries!$K$20,\"TBC\",LARGE(Tables!$EF$92:$EF$124,2))","v":0},{"$f":"IF($G$1>Entries!$K$20,\"TBC\",LARGE(Tables!$EF$92:$EF$124,3))","v":0},{"$f":"IF($G$1>Entries!$K$20,\"TBC\",SUM(G17:I17))","v":0},{"$f":"IF($K$1>Entries!$K$20,\"TBC\",LARGE(Tables!$EG$92:$EG$124,1))","v":0},{"$f":"IF($K$1>Entries!$K$20,\"TBC\",LARGE(Tables!$EG$92:$EG$124,2))","v":0},{"$f":"IF($K$1>Entries!$K$20,\"TBC\",LARGE(Tables!$EG$92:$EG$124,3))","v":0},{"$f":"IF($K$1>Entries!$K$20,\"TBC\",SUM(K17:M17))","v":0},{"$f":"IF($O$1>Entries!$K$20,\"TBC\",LARGE(Tables!$EH$92:$EH$124,1))","v":0},{"$f":"IF($O$1>Entries!$K$20,\"TBC\",LARGE(Tables!$EH$92:$EH$124,2))","v":0},{"$f":"IF($O$1>Entries!$K$20,\"TBC\",LARGE(Tables!$EH$92:$EH$124,3))","v":0},{"$f":"IF($O$1>Entries!$K$20,\"TBC\",SUM(O17:Q17))","v":0},{"$f":"IF($S$1>Entries!$K$20,\"TBC\",LARGE(Tables!$EI$92:$EI$124,1))","v":0},{"$f":"IF($S$1>Entries!$K$20,\"TBC\",LARGE(Tables!$EI$92:$EI$124,2))","v":0},{"$f":"IF($S$1>Entries!$K$20,\"TBC\",LARGE(Tables!$EI$92:$EI$124,3))","v":0},{"$f":"IF($S$1>Entries!$K$20,\"TBC\",SUM(S17:U17))","v":0},0,0,0,0,0,0,0,0]
[null,"WIT",{"$f":"IF($C$1>Entries!$K$20,\"TBC\",LARGE(Tables!$FW$92:$FW$124,1))","v":0},{"$f":"IF($C$1>Entries!$K$20,\"TBC\",LARGE(Tables!$FW$92:$FW$124,2))","v":0},{"$f":"IF($C$1>Entries!$K$20,\"TBC\",LARGE(Tables!$FW$92:$FW$124,3))","v":0},{"$f":"IF($C$1>Entries!$K$20,\"TBC\",SUM(C18:E18))","v":0},{"$f":"IF($G$1>Entries!$K$20,\"TBC\",LARGE(Tables!$FX$92:$FX$124,1))","v":0},{"$f":"IF($G$1>Entries!$K$20,\"TBC\",LARGE(Tables!$FX$92:$FX$124,2))","v":0},{"$f":"IF($G$1>Entries!$K$20,\"TBC\",LARGE(Tables!$FX$92:$FX$124,3))","v":0},{"$f":"IF($G$1>Entries!$K$20,\"TBC\",SUM(G18:I18))","v":0},{"$f":"IF($K$1>Entries!$K$20,\"TBC\",LARGE(Tables!$FY$92:$FY$124,1))","v":0},{"$f":"IF($K$1>Entries!$K$20,\"TBC\",LARGE(Tables!$FY$92:$FY$124,2))","v":0},{"$f":"IF($K$1>Entries!$K$20,\"TBC\",LARGE(Tables!$FY$92:$FY$124,3))","v":0},{"$f":"IF($K$1>Entries!$K$20,\"TBC\",SUM(K18:M18))","v":0},{"$f":"IF($O$1>Entries!$K$20,\"TBC\",LARGE(Tables!$FZ$92:$FZ$124,1))","v":0},{"$f":"IF($O$1>Entries!$K$20,\"TBC\",LARGE(Tables!$FZ$92:$FZ$124,2))","v":0},{"$f":"IF($O$1>Entries!$K$20,\"TBC\",LARGE(Tables!$FZ$92:$FZ$124,3))","v":0},{"$f":"IF($O$1>Entries!$K$20,\"TBC\",SUM(O18:Q18))","v":0},{"$f":"IF($S$1>Entries!$K$20,\"TBC\",LARGE(Tables!$GA$92:$GA$124,1))","v":0},{"$f":"IF($S$1>Entries!$K$20,\"TBC\",LARGE(Tables!$GA$92:$GA$124,2))","v":0},{"$f":"IF($S$1>Entries!$K$20,\"TBC\",LARGE(Tables!$GA$92:$GA$124,3))","v":0},{"$f":"IF($S$1>Entries!$K$20,\"TBC\",SUM(S18:U18))","v":0},0,0,0,0,0,0,0,0]
[null,"AAA",{"$f":"IF($C$1>Entries!$K$20,\"TBC\",LARGE(Tables!$GH$92:$GH$124,1))","v":0},{"$f":"IF($C$1>Entries!$K$20,\"TBC\",LARGE(Tables!$GH$92:$GH$124,2))","v":0},{"$f":"IF($C$1>Entries!$K$20,\"TBC\",LARGE(Tables!$GH$92:$GH$124,3))","v":0},{"$f":"IF($C$1>Entries!$K$20,\"TBC\",SUM(C19:E19))","v":0},{"$f":"IF($G$1>Entries!$K$20,\"TBC\",LARGE(Tables!$GI$92:$GI$124,1))","v":0},{"$f":"IF($G$1>Entries!$K$20,\"TBC\",LARGE(Tables!$GI$92:$GI$124,2))","v":0},{"$f":"IF($G$1>Entries!$K$20,\"TBC\",LARGE(Tables!$GI$92:$GI$124,3))","v":0},{"$f":"IF($G$1>Entries!$K$20,\"TBC\",SUM(G19:I19))","v":0},{"$f":"IF($K$1>Entries!$K$20,\"TBC\",LARGE(Tables!$GJ$92:$GJ$124,1))","v":0},{"$f":"IF($K$1>Entries!$K$20,\"TBC\",LARGE(Tables!$GJ$92:$GJ$124,2))","v":0},{"$f":"IF($K$1>Entries!$K$20,\"TBC\",LARGE(Tables!$GJ$92:$GJ$124,3))","v":0},{"$f":"IF($K$1>Entries!$K$20,\"TBC\",SUM(K19:M19))","v":0},{"$f":"IF($O$1>Entries!$K$20,\"TBC\",LARGE(Tables!$GK$92:$GK$124,1))","v":0},{"$f":"IF($O$1>Entries!$K$20,\"TBC\",LARGE(Tables!$GK$92:$GK$124,2))","v":0},{"$f":"IF($O$1>Entries!$K$20,\"TBC\",LARGE(Tables!$GK$92:$GK$124,3))","v":0},{"$f":"IF($O$1>Entries!$K$20,\"TBC\",SUM(O19:Q19))","v":0},{"$f":"IF($S$1>Entries!$K$20,\"TBC\",LARGE(Tables!$GL$92:$GL$124,1))","v":0},{"$f":"IF($S$1>Entries!$K$20,\"TBC\",LARGE(Tables!$GL$92:$GL$124,2))","v":0},{"$f":"IF($S$1>Entries!$K$20,\"TBC\",LARGE(Tables!$GL$92:$GL$124,3))","v":0},{"$f":"IF($S$1>Entries!$K$20,\"TBC\",SUM(S19:U19))","v":0},0,0,0,0,0,0,0,0]
[null,"BBB",{"$f":"IF($C$1>Entries!$K$20,\"TBC\",LARGE(Tables!$GS$92:$GS$124,1))","v":0},{"$f":"IF($C$1>Entries!$K$20,\"TBC\",LARGE(Tables!$GS$92:$GS$124,2))","v":0},{"$f":"IF($C$1>Entries!$K$20,\"TBC\",LARGE(Tables!$GS$92:$GS$124,3))","v":0},{"$f":"IF($C$1>Entries!$K$20,\"TBC\",SUM(C20:E20))","v":0},{"$f":"IF($G$1>Entries!$K$20,\"TBC\",LARGE(Tables!$GT$92:$GT$124,1))","v":0},{"$f":"IF($G$1>Entries!$K$20,\"TBC\",LARGE(Tables!$GT$92:$GT$124,2))","v":0},{"$f":"IF($G$1>Entries!$K$20,\"TBC\",LARGE(Tables!$GT$92:$GT$124,3))","v":0},{"$f":"IF($G$1>Entries!$K$20,\"TBC\",SUM(G20:I20))","v":0},{"$f":"IF($K$1>Entries!$K$20,\"TBC\",LARGE(Tables!$GU$92:$GU$124,1))","v":0},{"$f":"IF($K$1>Entries!$K$20,\"TBC\",LARGE(Tables!$GU$92:$GU$124,2))","v":0},{"$f":"IF($K$1>Entries!$K$20,\"TBC\",LARGE(Tables!$GU$92:$GU$124,3))","v":0},{"$f":"IF($K$1>Entries!$K$20,\"TBC\",SUM(K20:M20))","v":0},{"$f":"IF($O$1>Entries!$K$20,\"TBC\",LARGE(Tables!$GV$92:$GV$124,1))","v":0},{"$f":"IF($O$1>Entries!$K$20,\"TBC\",LARGE(Tables!$GV$92:$GV$124,2))","v":0},{"$f":"IF($O$1>Entries!$K$20,\"TBC\",LARGE(Tables!$GV$92:$GV$124,3))","v":0},{"$f":"IF($O$1>Entries!$K$20,\"TBC\",SUM(O20:Q20))","v":0},{"$f":"IF($S$1>Entries!$K$20,\"TBC\",LARGE(Tables!$GW$92:$GW$124,1))","v":0},{"$f":"IF($S$1>Entries!$K$20,\"TBC\",LARGE(Tables!$GW$92:$GW$124,2))","v":0},{"$f":"IF($S$1>Entries!$K$20,\"TBC\",LARGE(Tables!$GW$92:$GW$124,3))","v":0},{"$f":"IF($S$1>Entries!$K$20,\"TBC\",SUM(S20:U20))","v":0},0,0,0,0,0,0,0,0]
[null,"CCC",{"$f":"IF($C$1>Entries!$K$20,\"TBC\",LARGE(Tables!$HD$92:$HD$124,1))","v":0},{"$f":"IF($C$1>Entries!$K$20,\"TBC\",LARGE(Tables!$HD$92:$HD$124,2))","v":0},{"$f":"IF($C$1>Entries!$K$20,\"TBC\",LARGE(Tables!$HD$92:$HD$124,3))","v":0},{"$f":"IF($C$1>Entries!$K$20,\"TBC\",SUM(C21:E21))","v":0},{"$f":"IF($G$1>Entries!$K$20,\"TBC\",LARGE(Tables!$HE$92:$HE$124,1))","v":0},{"$f":"IF($G$1>Entries!$K$20,\"TBC\",LARGE(Tables!$HE$92:$HE$124,2))","v":0},{"$f":"IF($G$1>Entries!$K$20,\"TBC\",LARGE(Tables!$HE$92:$HE$124,3))","v":0},{"$f":"IF($G$1>Entries!$K$20,\"TBC\",SUM(G21:I21))","v":0},{"$f":"IF($K$1>Entries!$K$20,\"TBC\",LARGE(Tables!$HF$92:$HF$124,1))","v":0},{"$f":"IF($K$1>Entries!$K$20,\"TBC\",LARGE(Tables!$HF$92:$HF$124,2))","v":0},{"$f":"IF($K$1>Entries!$K$20,\"TBC\",LARGE(Tables!$HF$92:$HF$124,3))","v":0},{"$f":"IF($K$1>Entries!$K$20,\"TBC\",SUM(K21:M21))","v":0},{"$f":"IF($O$1>Entries!$K$20,\"TBC\",LARGE(Tables!$HG$92:$HG$124,1))","v":0},{"$f":"IF($O$1>Entries!$K$20,\"TBC\",LARGE(Tables!$HG$92:$HG$124,2))","v":0},{"$f":"IF($O$1>Entries!$K$20,\"TBC\",LARGE(Tables!$HG$92:$HG$124,3))","v":0},{"$f":"IF($O$1>Entries!$K$20,\"TBC\",SUM(O21:Q21))","v":0},{"$f":"IF($S$1>Entries!$K$20,\"TBC\",LARGE(Tables!$HH$92:$HH$124,1))","v":0},{"$f":"IF($S$1>Entries!$K$20,\"TBC\",LARGE(Tables!$HH$92:$HH$124,2))","v":0},{"$f":"IF($S$1>Entries!$K$20,\"TBC\",LARGE(Tables!$HH$92:$HH$124,3))","v":0},{"$f":"IF($S$1>Entries!$K$20,\"TBC\",SUM(S21:U21))","v":0},0,0,0,0,0,0,0,0]
[null,"DDD",{"$f":"IF($C$1>Entries!$K$20,\"TBC\",LARGE(Tables!$HO$92:$HO$124,1))","v":0},{"$f":"IF($C$1>Entries!$K$20,\"TBC\",LARGE(Tables!$HO$92:$HO$124,2))","v":0},{"$f":"IF($C$1>Entries!$K$20,\"TBC\",LARGE(Tables!$HO$92:$HO$124,3))","v":0},{"$f":"IF($C$1>Entries!$K$20,\"TBC\",SUM(C22:E22))","v":0},{"$f":"IF($G$1>Entries!$K$20,\"TBC\",LARGE(Tables!$HP$92:$HP$124,1))","v":0},{"$f":"IF($G$1>Entries!$K$20,\"TBC\",LARGE(Tables!$HP$92:$HP$124,2))","v":0},{"$f":"IF($G$1>Entries!$K$20,\"TBC\",LARGE(Tables!$HP$92:$HP$124,3))","v":0},{"$f":"IF($G$1>Entries!$K$20,\"TBC\",SUM(G22:I22))","v":0},{"$f":"IF($K$1>Entries!$K$20,\"TBC\",LARGE(Tables!$HQ$92:$HQ$124,1))","v":0},{"$f":"IF($K$1>Entries!$K$20,\"TBC\",LARGE(Tables!$HQ$92:$HQ$124,2))","v":0},{"$f":"IF($K$1>Entries!$K$20,\"TBC\",LARGE(Tables!$HQ$92:$HQ$124,3))","v":0},{"$f":"IF($K$1>Entries!$K$20,\"TBC\",SUM(K22:M22))","v":0},{"$f":"IF($O$1>Entries!$K$20,\"TBC\",LARGE(Tables!$HR$92:$HR$124,1))","v":0},{"$f":"IF($O$1>Entries!$K$20,\"TBC\",LARGE(Tables!$HR$92:$HR$124,2))","v":0},{"$f":"IF($O$1>Entries!$K$20,\"TBC\",LARGE(Tables!$HR$92:$HR$124,3))","v":0},{"$f":"IF($O$1>Entries!$K$20,\"TBC\",SUM(O22:Q22))","v":0},{"$f":"IF($S$1>Entries!$K$20,\"TBC\",LARGE(Tables!$HS$92:$HS$124,1))","v":0},{"$f":"IF($S$1>Entries!$K$20,\"TBC\",LARGE(Tables!$HS$92:$HS$124,2))","v":0},{"$f":"IF($S$1>Entries!$K$20,\"TBC\",LARGE(Tables!$HS$92:$HS$124,3))","v":0},{"$f":"IF($S$1>Entries!$K$20,\"TBC\",SUM(S22:U22))","v":0},0,0,0,0,0,0,0,0]
[null,"EEE",{"$f":"IF($C$1>Entries!$K$20,\"TBC\",LARGE(Tables!$HZ$92:$HZ$124,1))","v":0},{"$f":"IF($C$1>Entries!$K$20,\"TBC\",LARGE(Tables!$HZ$92:$HZ$124,2))","v":0},{"$f":"IF($C$1>Entries!$K$20,\"TBC\",LARGE(Tables!$HZ$92:$HZ$124,3))","v":0},{"$f":"IF($C$1>Entries!$K$20,\"TBC\",SUM(C23:E23))","v":0},{"$f":"IF($G$1>Entries!$K$20,\"TBC\",LARGE(Tables!$IA$92:$IA$124,1))","v":0},{"$f":"IF($G$1>Entries!$K$20,\"TBC\",LARGE(Tables!$IA$92:$IA$124,2))","v":0},{"$f":"IF($G$1>Entries!$K$20,\"TBC\",LARGE(Tables!$IA$92:$IA$124,3))","v":0},{"$f":"IF($G$1>Entries!$K$20,\"TBC\",SUM(G23:I23))","v":0},{"$f":"IF($K$1>Entries!$K$20,\"TBC\",LARGE(Tables!$IB$92:$IB$124,1))","v":0},{"$f":"IF($K$1>Entries!$K$20,\"TBC\",LARGE(Tables!$IB$92:$IB$124,2))","v":0},{"$f":"IF($K$1>Entries!$K$20,\"TBC\",LARGE(Tables!$IB$92:$IB$124,3))","v":0},{"$f":"IF($K$1>Entries!$K$20,\"TBC\",SUM(K23:M23))","v":0},{"$f":"IF($O$1>Entries!$K$20,\"TBC\",LARGE(Tables!$IC$92:$IC$124,1))","v":0},{"$f":"IF($O$1>Entries!$K$20,\"TBC\",LARGE(Tables!$IC$92:$IC$124,2))","v":0},{"$f":"IF($O$1>Entries!$K$20,\"TBC\",LARGE(Tables!$IC$92:$IC$124,3))","v":0},{"$f":"IF($O$1>Entries!$K$20,\"TBC\",SUM(O23:Q23))","v":0},{"$f":"IF($S$1>Entries!$K$20,\"TBC\",LARGE(Tables!$ID$92:$ID$124,1))","v":0},{"$f":"IF($S$1>Entries!$K$20,\"TBC\",LARGE(Tables!$ID$92:$ID$124,2))","v":0},{"$f":"IF($S$1>Entries!$K$20,\"TBC\",LARGE(Tables!$ID$92:$ID$124,3))","v":0},{"$f":"IF($S$1>Entries!$K$20,\"TBC\",SUM(S23:U23))","v":0},0,0,0,0,0,0,0,0]

{"sheet":"Mixed List","index":18,"n_rows":23,"n_cols":25,"rows_kept":23,"cut":false,"hidden":false,"merged":[]}
["Mixed",null,1,null,null,2,null,null,3,null,null,4,null,null,5,null,null,1,2,3,4,5,"total","minimum","League"]
[null,"NUIG",{"$f":"IF($C$1>Entries!$K$20,\"TBC\",Tables!$DJ$1)","v":482},{"$f":"IF($C$1>Entries!$K$20,\"TBC\",Tables!$DJ$42)","v":471},{"$f":"IF($C$1>Entries!$K$20,\"TBC\",Tables!$DJ$85)","v":565},{"$f":"IF($F$1>Entries!$K$20,\"TBC\",Tables!$DJ$2)","v":465},{"$f":"IF($F$1>Entries!$K$20,\"TBC\",Tables!$DJ$43)","v":393},{"$f":"IF($F$1>Entries!$K$20,\"TBC\",Tables!$DJ$86)","v":549},{"$f":"IF($I$1>Entries!$K$20,\"TBC\",Tables!$DJ$3)","v":569},{"$f":"IF($I$1>Entries!$K$20,\"TBC\",Tables!$DJ$44)","v":383},{"$f":"IF($I$1>Entries!$K$20,\"TBC\",Tables!$DJ$87)","v":560},{"$f":"IF($L$1>Entries!$K$20,\"TBC\",Tables!$DJ$4)","v":483},{"$f":"IF($L$1>Entries!$K$20,\"TBC\",Tables!$DJ$45)","v":348},{"$f":"IF($L$1>Entries!$K$20,\"TBC\",Tables!$DJ$88)","v":543},{"$f":"IF($O$1>Entries!$K$20,\"TBC\",Tables!$DJ$5)","v":516},{"$f":"IF($O$1>Entries!$K$20,\"TBC\",Tables!$DJ$46)","v":451},{"$f":"IF($O$1>Entries!$K$20,\"TBC\",Tables!$DJ$89)","v":561},{"$f":"IF(C2=\"TBC\",\"TBC\",SUM(C2:E2))","v":1518},{"$f":"IF(F2=\"TBC\",\"TBC\",SUM(F2:H2))","v":1407},{"$f":"IF(I2=\"TBC\",\"TBC\",SUM(I2:K2))","v":1512},{"$f":"IF(L2=\"TBC\",\"TBC\",SUM(L2:N2))","v":1374},{"$f":"IF(O2=\"TBC\",\"TBC\",SUM(O2:Q2))","v":1528},{"$f":"SUM(R2:V2)","v":7339},{"$f":"MIN(R2:V2)","v":1374},{"$f":"W2-X2+(LARGE(R2:V2,1)/10000)+(LARGE(R2:V2,2)/100000000)","v":5965.1528151800003}]
[null,"DCU",{"$f":"IF($C$1>Entries!$K$20,\"TBC\",Tables!$D$1)","v":484},{"$f":"IF($C$1>Entries!$K$20,\"TBC\",Tables!$D$42)","v":422},{"$f":"IF($C$1>Entries!$K$20,\"TBC\",Tables!$D$85)","v":544},{"$f":"IF($F$1>Entries!$K$20,\"TBC\",Tables!$D$2)","v":480},{"$f":"IF($F$1>Entries!$K$20,\"TBC\",Tables!$D$43)","v":437},{"$f":"IF($F$1>Entries!$K$20,\"TBC\",Tables!$D$86)","v":547},{"$f":"IF($I$1>Entries!$K$20,\"TBC\",Tables!$D$3)","v":472},{"$f":"IF($I$1>Entries!$K$20,\"TBC\",Tables!$D$44)","v":465},{"$f":"IF($I$1>Entries!$K$20,\"TBC\",Tables!$D$87)","v":539},{"$f":"IF($L$1>Entries!$K$20,\"TBC\",Tables!$D$4)","v":420},{"$f":"IF($L$1>Entries!$K$20,\"TBC\",Tables!$D$45)","v":469},{"$f":"IF($L$1>Entries!$K$20,\"TBC\",Tables!$D$88)","v":540},{"$f":"IF($O$1>Entries!$K$20,\"TBC\",Tables!$D$5)","v":496},{"$f":"IF($O$1>Entries!$K$20,\"TBC\",Tables!$D$46)","v":486},{"$f":"IF($O$1>Entries!$K$20,\"TBC\",Tables!$D$89)","v":535},1450,1464,1476,1429,1517,7336,1429,5907.1517147600007]
[null,"GMIT",{"$f":"IF($C$1>Entries!$K$20,\"TBC\",Tables!$AV$1)","v":524},{"$f":"IF($C$1>Entries!$K$20,\"TBC\",Tables!$AV$42)","v":393},{"$f":"IF($C$1>Entries!$K$20,\"TBC\",Tables!$AV$85)","v":539},{"$f":"IF($F$1>Entries!$K$20,\"TBC\",Tables!$AV$2)","v":488},{"$f":"IF($F$1>Entries!$K$20,\"TBC\",Tables!$AV$43)","v":391},{"$f":"IF($F$1>Entries!$K$20,\"TBC\",Tables!$AV$86)","v":548},{"$f":"IF($I$1>Entries!$K$20,\"TBC\",Tables!$AV$3)","v":517},{"$f":"IF($I$1>Entries!$K$20,\"TBC\",Tables!$AV$44)","v":439},{"$f":"IF($I$1>Entries!$K$20,\"TBC\",Tables!$AV$87)","v":548},{"$f":"IF($L$1>Entries!$K$20,\"TBC\",Tables!$AV$4)","v":407},{"$f":"IF($L$1>Entries!$K$20,\"TBC\",Tables!$AV$45)","v":402},{"$f":"IF($L$1>Entries!$K$20,\"TBC\",Tables!$AV$88)","v":559},{"$f":"IF($O$1>Entries!$K$20,\"TBC\",Tables!$AV$5)","v":501},{"$f":"IF($O$1>Entries!$K$20,\"TBC\",Tables!$AV$46)","v":440},{"$f":"IF($O$1>Entries!$K$20,\"TBC\",Tables!$AV$89)","v":566},1456,1427,1504,1368,1507,7262,1368,5894.1507150400003]
[null,"IT Tallaght",{"$f":"IF($C$1>Entries!$K$20,\"TBC\",Tables!$BR$1)","v":401},{"$f":"IF($C$1>Entries!$K$20,\"TBC\",Tables!$BR$42)","v":380},{"$f":"IF($C$1>Entries!$K$20,\"TBC\",Tables!$BR$85)","v":568},{"$f":"IF($F$1>Entries!$K$20,\"TBC\",Tables!$BR$2)","v":488},{"$f":"IF($F$1>Entries!$K$20,\"TBC\",Tables!$BR$43)","v":387},{"$f":"IF($F$1>Entries!$K$20,\"TBC\",Tables!$BR$86)","v":564},{"$f":"IF($I$1>Entries!$K$20,\"TBC\",Tables!$BR$3)","v":525},{"$f":"IF($I$1>Entries!$K$20,\"TBC\",Tables!$BR$44)","v":439},{"$f":"IF($I$1>Entries!$K$20,\"TBC\",Tables!$BR$87)","v":537},{"$f":"IF($L$1>Entries!$K$20,\"TBC\",Tables!$BR$4)","v":473},{"$f":"IF($L$1>Entries!$K$20,\"TBC\",Tables!$BR$45)","v":395},{"$f":"IF($L$1>Entries!$K$20,\"TBC\",Tables!$BR$88)","v":565},{"$f":"IF($O$1>Entries!$K$20,\"TBC\",Tables!$BR$5)","v":503},{"$f":"IF($O$1>Entries!$K$20,\"TBC\",Tables!$BR$46)","v":384},{"$f":"IF($O$1>Entries!$K$20,\"TBC\",Tables!$BR$89)","v":567},1349,1439,1501,1433,1454,7176,1349,5827.1501145399998]
[null,"MU",{"$f":"IF($C$1>Entries!$K$20,\"TBC\",Tables!$CN$1)","v":523},{"$f":"IF($C$1>Entries!$K$20,\"TBC\",Tables!$CN$42)","v":380},{"$f":"IF($C$1>Entries!$K$20,\"TBC\",Tables!$CN$85)","v":537},{"$f":"IF($F$1>Entries!$K$20,\"TBC\",Tables!$CN$2)","v":495},{"$f":"IF($F$1>Entries!$K$20,\"TBC\",Tables!$CN$43)","v":465},{"$f":"IF($F$1>Entries!$K$20,\"TBC\",Tables!$CN$86)","v":0},{"$f":"IF($I$1>Entries!$K$20,\"TBC\",Tables!$CN$3)","v":530},{"$f":"IF($I$1>Entries!$K$20,\"TBC\",Tables!$CN$44)","v":406},{"$f":"IF($I$1>Entries!$K$20,\"TBC\",Tables!$CN$87)","v":507},{"$f":"IF($L$1>Entries!$K$20,\"TBC\",Tables!$CN$4)","v":512},{"$f":"IF($L$1>Entries!$K$20,\"TBC\",Tables!$CN$45)","v":430},{"$f":"IF($L$1>Entries!$K$20,\"TBC\",Tables!$CN$88)","v":0},{"$f":"IF($O$1>Entries!$K$20,\"TBC\",Tables!$CN$5)","v":524},{"$f":"IF($O$1>Entries!$K$20,\"TBC\",Tables!$CN$46)","v":365},{"$f":"IF($O$1>Entries!$K$20,\"TBC\",Tables!$CN$89)","v":510},1440,960,1443,942,1399,6184,942,5242.1443143999995]
[null,"UCD",{"$f":"IF($C$1>Entries!$K$20,\"TBC\",Tables!$EQ$1)","v":522},{"$f":"IF($C$1>Entries!$K$20,\"TBC\",Tables!$EQ$42)","v":534},{"$f":"IF($C$1>Entries!$K$20,\"TBC\",Tables!$EQ$85)","v":0},{"$f":"IF($F$1>Entries!$K$20,\"TBC\",Tables!$EQ$2)","v":517},{"$f":"IF($F$1>Entries!$K$20,\"TBC\",Tables!$EQ$43)","v":0},{"$f":"IF($F$1>Entries!$K$20,\"TBC\",Tables!$EQ$86)","v":0},{"$f":"IF($I$1>Entries!$K$20,\"TBC\",Tables!$EQ$3)","v":529},{"$f":"IF($I$1>Entries!$K$20,\"TBC\",Tables!$EQ$44)","v":0},{"$f":"IF($I$1>Entries!$K$20,\"TBC\",Tables!$EQ$87)","v":0},{"$f":"IF($L$1>Entries!$K$20,\"TBC\",Tables!$EQ$4)","v":528},{"$f":"IF($L$1>Entries!$K$20,\"TBC\",Tables!$EQ$45)","v":299},{"$f":"IF($L$1>Entries!$K$20,\"TBC\",Tables!$EQ$88)","v":0},{"$f":"IF($O$1>Entries!$K$20,\"TBC\",Tables!$EQ$5)","v":516},{"$f":"IF($O$1>Entries!$K$20,\"TBC\",Tables!$EQ$46)","v":398},{"$f":"IF($O$1>Entries!$K$20,\"TBC\",Tables!$EQ$89)","v":0},1056,517,529,827,914,3843,517,3326.1056091400001]
[null,"UU",{"$f":"IF($C$1>Entries!$K$20,\"TBC\",Tables!$FM$1)","v":0},{"$f":"IF($C$1>Entries!$K$20,\"TBC\",Tables!$FM$42)","v":0},{"$f":"IF($C$1>Entries!$K$20,\"TBC\",Tables!$FM$85)","v":0},{"$f":"IF($F$1>Entries!$K$20,\"TBC\",Tables!$FM$2)","v":418},{"$f":"IF($F$1>Entries!$K$20,\"TBC\",Tables!$FM$43)","v":0},{"$f":"IF($F$1>Entries!$K$20,\"TBC\",Tables!$FM$86)","v":0},{"$f":"IF($I$1>Entries!$K$20,\"TBC\",Tables!$FM$3)","v":505},{"$f":"IF($I$1>Entries!$K$20,\"TBC\",Tables!$FM$44)","v":0},{"$f":"IF($I$1>Entries!$K$20,\"TBC\",Tables!$FM$87)","v":0},{"$f":"IF($L$1>Entries!$K$20,\"TBC\",Tables!$FM$4)","v":478},{"$f":"IF($L$1>Entries!$K$20,\"TBC\",Tables!$FM$45)","v":351},{"$f":"IF($L$1>Entries!$K$20,\"TBC\",Tables!$FM$88)","v":523},{"$f":"IF($O$1>Entries!$K$20,\"TBC\",Tables!$FM$5)","v":496},{"$f":"IF($O$1>Entries!$K$20,\"TBC\",Tables!$FM$46)","v":279},{"$f":"IF($O$1>Entries!$K$20,\"TBC\",Tables!$FM$89)","v":0},0,418,505,1352,775,3050,0,3050.1352077500001]
[null,"UL",{"$f":"IF($C$1>Entries!$K$20,\"TBC\",Tables!$FB$1)","v":473},{"$f":"IF($C$1>Entries!$K$20,\"TBC\",Tables!$FB$42)","v":0},{"$f":"IF($C$1>Entries!$K$20,\"TBC\",Tables!$FB$85)","v":0},{"$f":"IF($F$1>Entries!$K$20,\"TBC\",Tables!$FB$2)","v":436},{"$f":"IF($F$1>Entries!$K$20,\"TBC\",Tables!$FB$43)","v":0},{"$f":"IF($F$1>Entries!$K$20,\"TBC\",Tables!$FB$86)","v":0},{"$f":"IF($I$1>Entries!$K$20,\"TBC\",Tables!$FB$3)","v":448},{"$f":"IF($I$1>Entries!$K$20,\"TBC\",Tables!$FB$44)","v":0},{"$f":"IF($I$1>Entries!$K$20,\"TBC\",Tables!$FB$87)","v":520},{"$f":"IF($L$1>Entries!$K$20,\"TBC\",Tables!$FB$4)","v":432},{"$f":"IF($L$1>Entries!$K$20,\"TBC\",Tables!$FB$45)","v":0},{"$f":"IF($L$1>Entries!$K$20,\"TBC\",Tables!$FB$88)","v":520},{"$f":"IF($O$1>Entries!$K$20,\"TBC\",Tables!$FB$5)","v":453},{"$f":"IF($O$1>Entries!$K$20,\"TBC\",Tables!$FB$46)","v":0},{"$f":"IF($O$1>Entries!$K$20,\"TBC\",Tables!$FB$89)","v":0},473,436,968,952,453,3282,436,2846.0968095199996]
[null,"GMITC",{"$f":"IF($C$1>Entries!$K$20,\"TBC\",Tables!$BG$1)","v":387},{"$f":"IF($C$1>Entries!$K$20,\"TBC\",Tables!$BG$42)","v":306},{"$f":"IF($C$1>Entries!$K$20,\"TBC\",Tables!$BG$85)","v":0},{"$f":"IF($F$1>Entries!$K$20,\"TBC\",Tables!$BG$2)","v":0},{"$f":"IF($F$1>Entries!$K$20,\"TBC\",Tables!$BG$43)","v":0},{"$f":"IF($F$1>Entries!$K$20,\"TBC\",Tables!$BG$86)","v":0},{"$f":"IF($I$1>Entries!$K$20,\"TBC\",Tables!$BG$3)","v":397},{"$f":"IF($I$1>Entries!$K$20,\"TBC\",Tables!$BG$44)","v":274},{"$f":"IF($I$1>Entries!$K$20,\"TBC\",Tables!$BG$87)","v":0},{"$f":"IF($L$1>Entries!$K$20,\"TBC\",Tables!$BG$4)","v":372},{"$f":"IF($L$1>Entries!$K$20,\"TBC\",Tables!$BG$45)","v":353},{"$f":"IF($L$1>Entries!$K$20,\"TBC\",Tables!$BG$88)","v":0},{"$f":"IF($O$1>Entries!$K$20,\"TBC\",Tables!$BG$5)","v":436},{"$f":"IF($O$1>Entries!$K$20,\"TBC\",Tables!$BG$46)","v":321},{"$f":"IF($O$1>Entries!$K$20,\"TBC\",Tables!$BG$89)","v":0},693,0,671,725,757,2846,0,2846.0757072500001]
[null,"ITC",{"$f":"IF($C$1>Entries!$K$20,\"TBC\",Tables!$CC$1)","v":332},{"$f":"IF($C$1>Entries!$K$20,\"TBC\",Tables!$CC$42)","v":391},{"$f":"IF($C$1>Entries!$K$20,\"TBC\",Tables!$CC$85)","v":0},{"$f":"IF($F$1>Entries!$K$20,\"TBC\",Tables!$CC$2)","v":306},{"$f":"IF($F$1>Entries!$K$20,\"TBC\",Tables!$CC$43)","v":403},{"$f":"IF($F$1>Entries!$K$20,\"TBC\",Tables!$CC$86)","v":0},{"$f":"IF($I$1>Entries!$K$20,\"TBC\",Tables!$CC$3)","v":275},{"$f":"IF($I$1>Entries!$K$20,\"TBC\",Tables!$CC$44)","v":378},{"$f":"IF($I$1>Entries!$K$20,\"TBC\",Tables!$CC$87)","v":0},{"$f":"IF($L$1>Entries!$K$20,\"TBC\",Tables!$CC$4)","v":281},{"$f":"IF($L$1>Entries!$K$20,\"TBC\",Tables!$CC$45)","v":395},{"$f":"IF($L$1>Entries!$K$20,\"TBC\",Tables!$CC$88)","v":0},{"$f":"IF($O$1>Entries!$K$20,\"TBC\",Tables!$CC$5)","v":233},{"$f":"IF($O$1>Entries!$K$20,\"TBC\",Tables!$CC$46)","v":396},{"$f":"IF($O$1>Entries!$K$20,\"TBC\",Tables!$CC$89)","v":0},723,709,653,676,629,3390,629,2761.0723070899999]
[null,"UCC",{"$f":"IF($C$1>Entries!$K$20,\"TBC\",Tables!$EF$1)","v":483},{"$f":"IF($C$1>Entries!$K$20,\"TBC\",Tables!$EF$42)","v":0},{"$f":"IF($C$1>Entries!$K$20,\"TBC\",Tables!$EF$85)","v":0},{"$f":"IF($F$1>Entries!$K$20,\"TBC\",Tables!$EF$2)","v":0},{"$f":"IF($F$1>Entries!$K$20,\"TBC\",Tables!$EF$43)","v":0},{"$f":"IF($F$1>Entries!$K$20,\"TBC\",Tables!$EF$86)","v":0},{"$f":"IF($I$1>Entries!$K$20,\"TBC\",Tables!$EF$3)","v":453},{"$f":"IF($I$1>Entries!$K$20,\"TBC\",Tables!$EF$44)","v":232},{"$f":"IF($I$1>Entries!$K$20,\"TBC\",Tables!$EF$87)","v":0},{"$f":"IF($L$1>Entries!$K$20,\"TBC\",Tables!$EF$4)","v":455},{"$f":"IF($L$1>Entries!$K$20,\"TBC\",Tables!$EF$45)","v":0},{"$f":"IF($L$1>Entries!$K$20,\"TBC\",Tables!$EF$88)","v":0},{"$f":"IF($O$1>Entries!$K$20,\"TBC\",Tables!$EF$5)","v":466},{"$f":"IF($O$1>Entries!$K$20,\"TBC\",Tables!$EF$46)","v":289},{"$f":"IF($O$1>Entries!$K$20,\"TBC\",Tables!$EF$89)","v":0},483,0,685,455,755,2378,0,2378.0755068499998]
[null,"DUAC",{"$f":"IF($C$1>Entries!$K$20,\"TBC\",Tables!$AK$1)","v":0},{"$f":"IF($C$1>Entries!$K$20,\"TBC\",Tables!$AK$42)","v":0},{"$f":"IF($C$1>Entries!$K$20,\"TBC\",Tables!$AK$85)","v":0},{"$f":"IF($F$1>Entries!$K$20,\"TBC\",Tables!$AK$2)","v":464},{"$f":"IF($F$1>Entries!$K$20,\"TBC\",Tables!$AK$43)","v":284},{"$f":"IF($F$1>Entries!$K$20,\"TBC\",Tables!$AK$86)","v":0},{"$f":"IF($I$1>Entries!$K$20,\"TBC\",Tables!$AK$3)","v":0},{"$f":"IF($I$1>Entries!$K$20,\"TBC\",Tables!$AK$44)","v":308},{"$f":"IF($I$1>Entries!$K$20,\"TBC\",Tables!$AK$87)","v":0},{"$f":"IF($L$1>Entries!$K$20,\"TBC\",Tables!$AK$4)","v":407},{"$f":"IF($L$1>Entries!$K$20,\"TBC\",Tables!$AK$45)","v":152},{"$f":"IF($L$1>Entries!$K$20,\"TBC\",Tables!$AK$88)","v":0},{"$f":"IF($O$1>Entries!$K$20,\"TBC\",Tables!$AK$5)","v":410},{"$f":"IF($O$1>Entries!$K$20,\"TBC\",Tables!$AK$46)","v":319},{"$f":"IF($O$1>Entries!$K$20,\"TBC\",Tables!$AK$89)","v":0},0,748,308,559,729,2344,0,2344.0748072900001]
[null,"DKIT",{"$f":"IF($C$1>Entries!$K$20,\"TBC\",Tables!$Z$1)","v":514},{"$f":"IF($C$1>Entries!$K$20,\"TBC\",Tables!$Z$42)","v":0},{"$f":"IF($C$1>Entries!$K$20,\"TBC\",Tables!$Z$85)","v":0},{"$f":"IF($F$1>Entries!$K$20,\"TBC\",Tables!$Z$2)","v":527},{"$f":"IF($F$1>Entries!$K$20,\"TBC\",Tables!$Z$43)","v":0},{"$f":"IF($F$1>Entries!$K$20,\"TBC\",Tables!$Z$86)","v":0},{"$f":"IF($I$1>Entries!$K$20,\"TBC\",Tables!$Z$3)","v":507},{"$f":"IF($I$1>Entries!$K$20,\"TBC\",Tables!$Z$44)","v":0},{"$f":"IF($I$1>Entries!$K$20,\"TBC\",Tables!$Z$87)","v":0},{"$f":"IF($L$1>Entries!$K$20,\"TBC\",Tables!$Z$4)","v":520},{"$f":"IF($L$1>Entries!$K$20,\"TBC\",Tables!$Z$45)","v":0},{"$f":"IF($L$1>Entries!$K$20,\"TBC\",Tables!$Z$88)","v":0},{"$f":"IF($O$1>Entries!$K$20,\"TBC\",Tables!$Z$5)","v":540},{"$f":"IF($O$1>Entries!$K$20,\"TBC\",Tables!$Z$46)","v":0},{"$f":"IF($O$1>Entries!$K$20,\"TBC\",Tables!$Z$89)","v":0},514,527,507,520,540,2608,507,2101.0540052700003]
[null,"DIT",{"$f":"IF($C$1>Entries!$K$20,\"TBC\",Tables!$O$1)","v":509},{"$f":"IF($C$1>Entries!$K$20,\"TBC\",Tables!$O$42)","v":0},{"$f":"IF($C$1>Entries!$K$20,\"TBC\",Tables!$O$85)","v":0},{"$f":"IF($F$1>Entries!$K$20,\"TBC\",Tables!$O$2)","v":506},{"$f":"IF($F$1>Entries!$K$20,\"TBC\",Tables!$O$43)","v":0},{"$f":"IF($F$1>Entries!$K$20,\"TBC\",Tables!$O$86)","v":0},{"$f":"IF($I$1>Entries!$K$20,\"TBC\",Tables!$O$3)","v":515},{"$f":"IF($I$1>Entries!$K$20,\"TBC\",Tables!$O$44)","v":0},{"$f":"IF($I$1>Entries!$K$20,\"TBC\",Tables!$O$87)","v":0},{"$f":"IF($L$1>Entries!$K$20,\"TBC\",Tables!$O$4)","v":515},{"$f":"IF($L$1>Entries!$K$20,\"TBC\",Tables!$O$45)","v":0},{"$f":"IF($L$1>Entries!$K$20,\"TBC\",Tables!$O$88)","v":0},{"$f":"IF($O$1>Entries!$K$20,\"TBC\",Tables!$O$5)","v":512},{"$f":"IF($O$1>Entries!$K$20,\"TBC\",Tables!$O$46)","v":0},{"$f":"IF($O$1>Entries!$K$20,\"TBC\",Tables!$O$89)","v":0},509,506,515,515,512,2557,506,2051.0515051500001]
[null,"NCAD",{"$f":"IF($C$1>Entries!$K$20,\"TBC\",Tables!$CY$1)","v":0},{"$f":"IF($C$1>Entries!$K$20,\"TBC\",Tables!$CY$42)","v":0},{"$f":"IF($C$1>Entries!$K$20,\"TBC\",Tables!$CY$85)","v":0},{"$f":"IF($F$1>Entries!$K$20,\"TBC\",Tables!$CY$2)","v":0},{"$f":"IF($F$1>Entries!$K$20,\"TBC\",Tables!$CY$43)","v":0},{"$f":"IF($F$1>Entries!$K$20,\"TBC\",Tables!$CY$86)","v":0},{"$f":"IF($I$1>Entries!$K$20,\"TBC\",Tables!$CY$3)","v":515},{"$f":"IF($I$1>Entries!$K$20,\"TBC\",Tables!$CY$44)","v":0},{"$f":"IF($I$1>Entries!$K$20,\"TBC\",Tables!$CY$87)","v":0},{"$f":"IF($L$1>Entries!$K$20,\"TBC\",Tables!$CY$4)","v":0},{"$f":"IF($L$1>Entries!$K$20,\"TBC\",Tables!$CY$45)","v":0},{"$f":"IF($L$1>Entries!$K$20,\"TBC\",Tables!$CY$88)","v":0},{"$f":"IF($O$1>Entries!$K$20,\"TBC\",Tables!$CY$5)","v":522},{"$f":"IF($O$1>Entries!$K$20,\"TBC\",Tables!$CY$46)","v":0},{"$f":"IF($O$1>Entries!$K$20,\"TBC\",Tables!$CY$89)","v":0},0,0,515,0,522,1037,0,1037.0522051500002]
[null,"RCSI",{"$f":"IF($C$1>Entries!$K$20,\"TBC\",Tables!$DU$1)","v":382},{"$f":"IF($C$1>Entries!$K$20,\"TBC\",Tables!$DU$42)","v":0},{"$f":"IF($C$1>Entries!$K$20,\"TBC\",Tables!$DU$85)","v":0},{"$f":"IF($F$1>Entries!$K$20,\"TBC\",Tables!$DU$2)","v":0},{"$f":"IF($F$1>Entries!$K$20,\"TBC\",Tables!$DU$43)","v":0},{"$f":"IF($F$1>Entries!$K$20,\"TBC\",Tables!$DU$86)","v":0},{"$f":"IF($I$1>Entries!$K$20,\"TBC\",Tables!$DU$3)","v":311},{"$f":"IF($I$1>Entries!$K$20,\"TBC\",Tables!$DU$44)","v":326},{"$f":"IF($I$1>Entries!$K$20,\"TBC\",Tables!$DU$87)","v":0},{"$f":"IF($L$1>Entries!$K$20,\"TBC\",Tables!$DU$4)","v":0},{"$f":"IF($L$1>Entries!$K$20,\"TBC\",Tables!$DU$45)","v":0},{"$f":"IF($L$1>Entries!$K$20,\"TBC\",Tables!$DU$88)","v":0},{"$f":"IF($O$1>Entries!$K$20,\"TBC\",Tables!$DU$5)","v":0},{"$f":"IF($O$1>Entries!$K$20,\"TBC\",Tables!$DU$46)","v":0},{"$f":"IF($O$1>Entries!$K$20,\"TBC\",Tables!$DU$89)","v":0},382,0,637,0,0,1019,0,1019.06370382]
[null,"WIT",{"$f":"IF($C$1>Entries!$K$20,\"TBC\",Tables!$FX$1)","v":0},{"$f":"IF($C$1>Entries!$K$20,\"TBC\",Tables!$FX$42)","v":0},{"$f":"IF($C$1>Entries!$K$20,\"TBC\",Tables!$FX$85)","v":0},{"$f":"IF($F$1>Entries!$K$20,\"TBC\",Tables!$FX$2)","v":0},{"$f":"IF($F$1>Entries!$K$20,\"TBC\",Tables!$FX$43)","v":0},{"$f":"IF($F$1>Entries!$K$20,\"TBC\",Tables!$FX$86)","v":0},{"$f":"IF($I$1>Entries!$K$20,\"TBC\",Tables!$FX$3)","v":0},{"$f":"IF($I$1>Entries!$K$20,\"TBC\",Tables!$FX$44)","v":0},{"$f":"IF($I$1>Entries!$K$20,\"TBC\",Tables!$FX$87)","v":0},{"$f":"IF($L$1>Entries!$K$20,\"TBC\",Tables!$FX$4)","v":0},{"$f":"IF($L$1>Entries!$K$20,\"TBC\",Tables!$FX$45)","v":0},{"$f":"IF($L$1>Entries!$K$20,\"TBC\",Tables!$FX$88)","v":0},{"$f":"IF($O$1>Entries!$K$20,\"TBC\",Tables!$FX$5)","v":0},{"$f":"IF($O$1>Entries!$K$20,\"TBC\",Tables!$FX$46)","v":0},{"$f":"IF($O$1>Entries!$K$20,\"TBC\",Tables!$FX$89)","v":0},0,0,0,0,0,0,0,0]
[null,"AAA",{"$f":"IF($C$1>Entries!$K$20,\"TBC\",Tables!$GI$1)","v":0},{"$f":"IF($C$1>Entries!$K$20,\"TBC\",Tables!$GI$42)","v":0},{"$f":"IF($C$1>Entries!$K$20,\"TBC\",Tables!$GI$85)","v":0},{"$f":"IF($F$1>Entries!$K$20,\"TBC\",Tables!$GI$2)","v":0},{"$f":"IF($F$1>Entries!$K$20,\"TBC\",Tables!$GI$43)","v":0},{"$f":"IF($F$1>Entries!$K$20,\"TBC\",Tables!$GI$86)","v":0},{"$f":"IF($I$1>Entries!$K$20,\"TBC\",Tables!$GI$3)","v":0},{"$f":"IF($I$1>Entries!$K$20,\"TBC\",Tables!$GI$44)","v":0},{"$f":"IF($I$1>Entries!$K$20,\"TBC\",Tables!$GI$87)","v":0},{"$f":"IF($L$1>Entries!$K$20,\"TBC\",Tables!$GI$4)","v":0},{"$f":"IF($L$1>Entries!$K$20,\"TBC\",Tables!$GI$45)","v":0},{"$f":"IF($L$1>Entries!$K$20,\"TBC\",Tables!$GI$88)","v":0},{"$f":"IF($O$1>Entries!$K$20,\"TBC\",Tables!$GI$5)","v":0},{"$f":"IF($O$1>Entries!$K$20,\"TBC\",Tables!$GI$46)","v":0},{"$f":"IF($O$1>Entries!$K$20,\"TBC\",Tables!$GI$89)","v":0},0,0,0,0,0,0,0,0]
[null,"BBB",{"$f":"IF($C$1>Entries!$K$20,\"TBC\",Tables!$GT$1)","v":0},{"$f":"IF($C$1>Entries!$K$20,\"TBC\",Tables!$GT$42)","v":0},{"$f":"IF($C$1>Entries!$K$20,\"TBC\",Tables!$GT$85)","v":0},{"$f":"IF($F$1>Entries!$K$20,\"TBC\",Tables!$GT$2)","v":0},{"$f":"IF($F$1>Entries!$K$20,\"TBC\",Tables!$GT$43)","v":0},{"$f":"IF($F$1>Entries!$K$20,\"TBC\",Tables!$GT$86)","v":0},{"$f":"IF($I$1>Entries!$K$20,\"TBC\",Tables!$GT$3)","v":0},{"$f":"IF($I$1>Entries!$K$20,\"TBC\",Tables!$GT$44)","v":0},{"$f":"IF($I$1>Entries!$K$20,\"TBC\",Tables!$GT$87)","v":0},{"$f":"IF($L$1>Entries!$K$20,\"TBC\",Tables!$GT$4)","v":0},{"$f":"IF($L$1>Entries!$K$20,\"TBC\",Tables!$GT$45)","v":0},{"$f":"IF($L$1>Entries!$K$20,\"TBC\",Tables!$GT$88)","v":0},{"$f":"IF($O$1>Entries!$K$20,\"TBC\",Tables!$GT$5)","v":0},{"$f":"IF($O$1>Entries!$K$20,\"TBC\",Tables!$GT$46)","v":0},{"$f":"IF($O$1>Entries!$K$20,\"TBC\",Tables!$GT$89)","v":0},0,0,0,0,0,0,0,0]
[null,"CCC",{"$f":"IF($C$1>Entries!$K$20,\"TBC\",Tables!$HE$1)","v":0},{"$f":"IF($C$1>Entries!$K$20,\"TBC\",Tables!$HE$42)","v":0},{"$f":"IF($C$1>Entries!$K$20,\"TBC\",Tables!$HE$85)","v":0},{"$f":"IF($F$1>Entries!$K$20,\"TBC\",Tables!$HE$2)","v":0},{"$f":"IF($F$1>Entries!$K$20,\"TBC\",Tables!$HE$43)","v":0},{"$f":"IF($F$1>Entries!$K$20,\"TBC\",Tables!$HE$86)","v":0},{"$f":"IF($I$1>Entries!$K$20,\"TBC\",Tables!$HE$3)","v":0},{"$f":"IF($I$1>Entries!$K$20,\"TBC\",Tables!$HE$44)","v":0},{"$f":"IF($I$1>Entries!$K$20,\"TBC\",Tables!$HE$87)","v":0},{"$f":"IF($L$1>Entries!$K$20,\"TBC\",Tables!$HE$4)","v":0},{"$f":"IF($L$1>Entries!$K$20,\"TBC\",Tables!$HE$45)","v":0},{"$f":"IF($L$1>Entries!$K$20,\"TBC\",Tables!$HE$88)","v":0},{"$f":"IF($O$1>Entries!$K$20,\"TBC\",Tables!$HE$5)","v":0},{"$f":"IF($O$1>Entries!$K$20,\"TBC\",Tables!$HE$46)","v":0},{"$f":"IF($O$1>Entries!$K$20,\"TBC\",Tables!$HE$89)","v":0},0,0,0,0,0,0,0,0]
[null,"DDD",{"$f":"IF($C$1>Entries!$K$20,\"TBC\",Tables!$HP$1)","v":0},{"$f":"IF($C$1>Entries!$K$20,\"TBC\",Tables!$HP$42)","v":0},{"$f":"IF($C$1>Entries!$K$20,\"TBC\",Tables!$HP$85)","v":0},{"$f":"IF($F$1>Entries!$K$20,\"TBC\",Tables!$HP$2)","v":0},{"$f":"IF($F$1>Entries!$K$20,\"TBC\",Tables!$HP$43)","v":0},{"$f":"IF($F$1>Entries!$K$20,\"TBC\",Tables!$HP$86)","v":0},{"$f":"IF($I$1>Entries!$K$20,\"TBC\",Tables!$HP$3)","v":0},{"$f":"IF($I$1>Entries!$K$20,\"TBC\",Tables!$HP$44)","v":0},{"$f":"IF($I$1>Entries!$K$20,\"TBC\",Tables!$HP$87)","v":0},{"$f":"IF($L$1>Entries!$K$20,\"TBC\",Tables!$HP$4)","v":0},{"$f":"IF($L$1>Entries!$K$20,\"TBC\",Tables!$HP$45)","v":0},{"$f":"IF($L$1>Entries!$K$20,\"TBC\",Tables!$HP$88)","v":0},{"$f":"IF($O$1>Entries!$K$20,\"TBC\",Tables!$HP$5)","v":0},{"$f":"IF($O$1>Entries!$K$20,\"TBC\",Tables!$HP$46)","v":0},{"$f":"IF($O$1>Entries!$K$20,\"TBC\",Tables!$HP$89)","v":0},0,0,0,0,0,0,0,0]
[null,"EEE",{"$f":"IF($C$1>Entries!$K$20,\"TBC\",Tables!$IA$1)","v":0},{"$f":"IF($C$1>Entries!$K$20,\"TBC\",Tables!$IA$42)","v":0},{"$f":"IF($C$1>Entries!$K$20,\"TBC\",Tables!$IA$85)","v":0},{"$f":"IF($F$1>Entries!$K$20,\"TBC\",Tables!$IA$2)","v":0},{"$f":"IF($F$1>Entries!$K$20,\"TBC\",Tables!$IA$43)","v":0},{"$f":"IF($F$1>Entries!$K$20,\"TBC\",Tables!$IA$86)","v":0},{"$f":"IF($I$1>Entries!$K$20,\"TBC\",Tables!$IA$3)","v":0},{"$f":"IF($I$1>Entries!$K$20,\"TBC\",Tables!$IA$44)","v":0},{"$f":"IF($I$1>Entries!$K$20,\"TBC\",Tables!$IA$87)","v":0},{"$f":"IF($L$1>Entries!$K$20,\"TBC\",Tables!$IA$4)","v":0},{"$f":"IF($L$1>Entries!$K$20,\"TBC\",Tables!$IA$45)","v":0},{"$f":"IF($L$1>Entries!$K$20,\"TBC\",Tables!$IA$88)","v":0},{"$f":"IF($O$1>Entries!$K$20,\"TBC\",Tables!$IA$5)","v":0},{"$f":"IF($O$1>Entries!$K$20,\"TBC\",Tables!$IA$46)","v":0},{"$f":"IF($O$1>Entries!$K$20,\"TBC\",Tables!$IA$89)","v":0},0,0,0,0,0,0,0,0]

{"sheet":"Rec' Team","index":19,"n_rows":51,"n_cols":48,"rows_kept":51,"cut":false,"hidden":false,"merged":[[0,0,0,32],[5,29,5,31],[5,1,5,2],[1,3,49,3],[1,28,49,28],[50,1,50,31],[1,32,50,32],[1,0,50,0],[5,4,5,27],[48,1,49,1],[48,2,49,2],[48,29,49,29],[48,30,49,30],[48,31,49,31],[49,4,49,7],[49,9,49,12],[49,14,49,17],[49,19,49,22],[49,24,49,27],[46,1,47,1],[46,2,47,2],[46,29,47,29],[46,30,47,30],[46,31,47,31],[47,4,47,7],[47,9,47,12],[47,14,47,17],[47,19,47,22],[47,24,47,27],[44,1,45,1],[44,2,45,2],[44,29,45,29],[44,30,45,30],[44,31,45,31],[45,4,45,7],[45,9,45,12],[45,14,45,17],[45,19,45,22],[45,24,45,27],[42,1,43,1],[42,2,43,2],[42,29,43,29],[42,30,43,30],[42,31,43,31],[43,4,43,7],[43,9,43,12],[43,14,43,17],[43,19,43,22],[43,24,43,27],[40,1,41,1],[40,2,41,2],[40,29,41,29],[40,30,41,30],[40,31,41,31],[41,4,41,7],[41,9,41,12],[41,14,41,17],[41,19,41,22],[41,24,41,27],[14,31,15,31],[15,4,15,7],[15,9,15,12],[6,2,7,2],[8,2,9,2],[10,2,11,2],[12,2,13,2],[14,2,15,2],[6,1,7,1],[8,1,9,1],[10,1,11,1],[12,1,13,1],[14,1,15,1],[7,4,7,7],[7,9,7,12],[6,31,7,31],[8,29,9,29],[8,30,9,30],[8,31,9,31],[9,4,9,7],[1,1,4,2],[38,31,39,31],[39,4,39,7],[39,9,39,12],[39,14,39,17],[39,19,39,22],[39,24,39,27],[1,4,4,27],[1,29,4,29],[1,30,4,30],[1,31,4,31],[10,31,11,31],[11,4,11,7],[11,9,11,12],[11,14,11,17],[11,19,11,22],[11,24,11,27],[12,31,13,31],[13,4,13,7],[13,9,13,12],[13,24,13,27],[14,29,15,29],[14,30,15,30],[34,31,35,31],[26,30,27,30],[36,1,37,1],[38,1,39,1],[26,1,27,1],[28,1,29,1],[30,1,31,1],[10,29,11,29],[10,30,11,30],[38,29,39,29],[38,30,39,30],[32,1,33,1],[34,1,35,1],[16,1,17,1],[18,1,19,1],[20,1,21,1],[22,1,23,1],[24,1,25,1],[34,29,35,29],[34,30,35,30],[35,4,35,7],[35,9,35,12],[35,14,35,17],[35,19,35,22],[35,24,35,27],[26,29,27,29],[26,31,27,31],[27,4,27,7],[27,9,27,12],[27,14,27,17],[27,19,27,22],[27,24,27,27],[36,29,37,29],[36,30,37,30],[36,31,37,31],[37,4,37,7],[37,9,37,12],[37,14,37,17],[37,19,37,22],[37,24,37,27],[30,29,31,29],[30,30,31,30],[30,31,31,31],[31,4,31,7],[31,9,31,12],[31,14,31,17],[31,19,31,22],[31,24,31,27],[32,29,33,29],[32,30,33,30],[32,31,33,31],[33,4,33,7],[33,9,33,12],[33,14,33,17],[33,19,33,22],[33,24,33,27],[28,29,29,29],[28,30,29,30],[28,31,29,31],[29,4,29,7],[29,9,29,12],[29,14,29,17],[29,19,29,22],[29,24,29,27],[22,29,23,29],[22,30,23,30],[22,31,23,31],[23,4,23,7],[23,9,23,12],[23,14,23,17],[23,19,23,22],[23,24,23,27],[24,29,25,29],[24,30,25,30],[24,31,25,31],[25,4,25,7],[25,9,25,12],[25,14,25,17],[25,19,25,22],[25,24,25,27],[20,29,21,29],[20,30,21,30],[20,31,21,31],[21,4,21,7],[21,9,21,12],[21,14,21,17],[21,19,21,22],[21,24,21,27],[16,29,17,29],[16,30,17,30],[16,31,17,31],[17,4,17,7],[17,9,17,12],[17,14,17,17],[17,19,17,22],[17,24,17,27],[18,29,19,29],[18,30,19,30],[18,31,19,31],[19,4,19,7],[19,9,19,12],[19,14,19,17],[19,19,19,22],[19,24,19,27],[16,2,17,2],[9,14,9,17],[9,19,9,22],[9,24,9,27],[7,14,7,17],[7,19,7,22],[7,24,7,27],[6,29,7,29],[6,30,7,30],[15,14,15,17],[15,19,15,22],[15,24,15,27],[12,29,13,29],[12,30,13,30],[13,14,13,17],[13,19,13,22],[9,9,9,12],[36,2,37,2],[38,2,39,2],[18,2,19,2],[20,2,21,2],[22,2,23,2],[24,2,25,2],[26,2,27,2],[28,2,29,2],[30,2,31,2],[32,2,33,2],[34,2,35,2]]}
[{"$f":"$C$7","v":"DkIT"}]
["DkIT","Recurve Team",null,{"$f":"$C$7","v":"DkIT"},null,null,null,null,null,null,null,null,null,null,null,null,null,null,null,null,null,null,null,null,null,null,null,null,"DkIT","Total","Lowest","League","DkIT",{"$f":"AH7","v":"Yeo Eng Jet"}]
[]
[]
[]
[null,"DkIT",null,null,"DkIT",null,null,null,null,null,null,null,null,null,null,null,null,null,null,null,null,null,null,null,null,null,null,null,null,{"$f":"$C$7","v":"DkIT"}]
[null,1,{"$f":"'Rec'' List'!$B$2","v":"DkIT"},null,{"$f":"'Rec'' List'!$C$2","v":514},{"$f":"'Rec'' List'!$D$2","v":501},{"$f":"'Rec'' List'!$E$2","v":499},{"$f":"'Rec'' List'!$F$2","v":467},null,{"$f":"'Rec'' List'!$H$2","v":527},{"$f":"'Rec'' List'!$I$2","v":510},{"$f":"'Rec'' List'!$J$2","v":479},{"$f":"'Rec'' List'!$K$2","v":470},null,{"$f":"'Rec'' List'!$M$2","v":507},{"$f":"'Rec'' List'!$N$2","v":488},{"$f":"'Rec'' List'!$O$2","v":486},{"$f":"'Rec'' List'!$P$2","v":458},null,{"$f":"'Rec'' List'!$R$2","v":520},{"$f":"'Rec'' List'!$S$2","v":509},{"$f":"'Rec'' List'!$T$2","v":495},{"$f":"'Rec'' List'!$U$2","v":486},null,{"$f":"'Rec'' List'!$W$2","v":540},{"$f":"'Rec'' List'!$X$2","v":508},{"$f":"'Rec'' List'!$Y$2","v":496},{"$f":"'Rec'' List'!$Z$2","v":486},null,{"$f":"'Rec'' List'!$AG$2","v":9946},{"$f":"'Rec'' List'!$AH$2","v":1939},{"$f":"'Rec'' List'!$AI$2","v":8007.2030201000007},null,{"$f":"VLOOKUP($C7,$AL$7:$AM$23,2,0)","v":"Yeo Eng Jet"},null,null,null,"DCU",{"$f":"Tables!B8","v":"Brendan McManus"}]
[null,null,null,null,{"$f":"'Rec'' List'!$G$2","v":1981},null,null,null,null,{"$f":"'Rec'' List'!$L$2","v":1986},null,null,null,null,{"$f":"'Rec'' List'!$Q$2","v":1939},null,null,null,null,{"$f":"'Rec'' List'!$V$2","v":2010},null,null,null,null,{"$f":"'Rec'' List'!$AA$2","v":2030},null,null,null,null,null,null,null,null,{"$f":"AH7","v":"Yeo Eng Jet"},null,null,null,"DIT",{"$f":"Tables!M8","v":"Brendan Forde"}]
[null,2,{"$f":"'Rec'' List'!$B$3","v":"MU"},null,{"$f":"'Rec'' List'!$C$3","v":523},{"$f":"'Rec'' List'!$D$3","v":495},{"$f":"'Rec'' List'!$E$3","v":489},{"$f":"'Rec'' List'!$F$3","v":0},null,{"$f":"'Rec'' List'!$H$3","v":495},{"$f":"'Rec'' List'!$I$3","v":486},{"$f":"'Rec'' List'!$J$3","v":460},{"$f":"'Rec'' List'!$K$3","v":398},null,{"$f":"'Rec'' List'!$M$3","v":530},{"$f":"'Rec'' List'!$N$3","v":511},{"$f":"'Rec'' List'!$O$3","v":509},{"$f":"'Rec'' List'!$P$3","v":466},null,{"$f":"'Rec'' List'!$R$3","v":512},{"$f":"'Rec'' List'!$S$3","v":482},{"$f":"'Rec'' List'!$T$3","v":468},{"$f":"'Rec'' List'!$U$3","v":424},null,{"$f":"'Rec'' List'!$W$3","v":524},{"$f":"'Rec'' List'!$X$3","v":502},{"$f":"'Rec'' List'!$Y$3","v":486},{"$f":"'Rec'' List'!$Z$3","v":452},null,{"$f":"'Rec'' List'!$AG$3","v":9212},{"$f":"'Rec'' List'!$AH$3","v":1507},{"$f":"'Rec'' List'!$AI$3","v":7705.20161964},null,{"$f":"VLOOKUP($C9,$AL$7:$AM$23,2,0)","v":"Diego Coyle Diez"},null,null,null,"DkIT",{"$f":"Tables!X8","v":"Yeo Eng Jet"}]
[null,null,null,null,{"$f":"'Rec'' List'!$G$3","v":1507},null,null,null,null,{"$f":"'Rec'' List'!$L$3","v":1839},null,null,null,null,{"$f":"'Rec'' List'!$Q$3","v":2016},null,null,null,null,{"$f":"'Rec'' List'!$V$3","v":1886},null,null,null,null,{"$f":"'Rec'' List'!$AA$3","v":1964},null,null,null,null,null,null,null,null,{"$f":"AH9","v":"Diego Coyle Diez"},null,null,null,"DUAC",{"$f":"Tables!AI8","v":"Dáire Healy"}]
[null,3,{"$f":"'Rec'' List'!$B$4","v":"DIT"},null,{"$f":"'Rec'' List'!$C$4","v":509},{"$f":"'Rec'' List'!$D$4","v":477},{"$f":"'Rec'' List'!$E$4","v":423},{"$f":"'Rec'' List'!$F$4","v":409},null,{"$f":"'Rec'' List'!$H$4","v":506},{"$f":"'Rec'' List'!$I$4","v":497},{"$f":"'Rec'' List'!$J$4","v":412},{"$f":"'Rec'' List'!$K$4","v":378},null,{"$f":"'Rec'' List'!$M$4","v":515},{"$f":"'Rec'' List'!$N$4","v":482},{"$f":"'Rec'' List'!$O$4","v":479},{"$f":"'Rec'' List'!$P$4","v":440},null,{"$f":"'Rec'' List'!$R$4","v":515},{"$f":"'Rec'' List'!$S$4","v":513},{"$f":"'Rec'' List'!$T$4","v":498},{"$f":"'Rec'' List'!$U$4","v":481},null,{"$f":"'Rec'' List'!$W$4","v":512},{"$f":"'Rec'' List'!$X$4","v":510},{"$f":"'Rec'' List'!$Y$4","v":481},{"$f":"'Rec'' List'!$Z$4","v":457},null,{"$f":"'Rec'' List'!$AG$4","v":9494},{"$f":"'Rec'' List'!$AH$4","v":1793},{"$f":"'Rec'' List'!$AI$4","v":7701.2007196000004},null,"Brendan Forde",null,null,null,"GMIT",{"$f":"Tables!AT8","v":"Dale Burke"}]
[null,null,null,null,{"$f":"'Rec'' List'!$G$4","v":1818},null,null,null,null,{"$f":"'Rec'' List'!$L$4","v":1793},null,null,null,null,{"$f":"'Rec'' List'!$Q$4","v":1916},null,null,null,null,{"$f":"'Rec'' List'!$V$4","v":2007},null,null,null,null,{"$f":"'Rec'' List'!$AA$4","v":1960},null,null,null,null,null,null,null,null,{"$f":"AH11","v":"Brendan Forde"},null,null,null,"GMITC",{"$f":"Tables!BE8","v":"Sinead Naughton"},null,null,null,null,null,null,null,"ROW 7-8 CONDITIONAL FORMATTING FORMULA","$B$7:$C$7,$E$7:$AB$8,$AD$7:$AF$7"]
[null,4,{"$f":"'Rec'' List'!$B$5","v":"UCD"},null,{"$f":"'Rec'' List'!$C$5","v":522},{"$f":"'Rec'' List'!$D$5","v":454},{"$f":"'Rec'' List'!$E$5","v":439},{"$f":"'Rec'' List'!$F$5","v":439},null,{"$f":"'Rec'' List'!$H$5","v":517},{"$f":"'Rec'' List'!$I$5","v":481},{"$f":"'Rec'' List'!$J$5","v":438},{"$f":"'Rec'' List'!$K$5","v":426},null,{"$f":"'Rec'' List'!$M$5","v":529},{"$f":"'Rec'' List'!$N$5","v":482},{"$f":"'Rec'' List'!$O$5","v":473},{"$f":"'Rec'' List'!$P$5","v":440},null,{"$f":"'Rec'' List'!$R$5","v":528},{"$f":"'Rec'' List'!$S$5","v":517},{"$f":"'Rec'' List'!$T$5","v":436},{"$f":"'Rec'' List'!$U$5","v":435},null,{"$f":"'Rec'' List'!$W$5","v":516},{"$f":"'Rec'' List'!$X$5","v":503},{"$f":"'Rec'' List'!$Y$5","v":500},{"$f":"'Rec'' List'!$Z$5","v":465},null,{"$f":"'Rec'' List'!$AG$5","v":9540},{"$f":"'Rec'' List'!$AH$5","v":1854},{"$f":"'Rec'' List'!$AI$5","v":7686.1984192400005},null,"Carl McCaffery",null,null,null,"ITC",{"$f":"Tables!CA8","v":"Leo Byrne"},null,null,null,null,null,null,null,"ROW 9-50 CONDITIONAL FORMATTING FORMULA","$B$7:$C$50,$E$9:$AB$50,$AD$7:$AF$50"]
[null,null,null,null,{"$f":"'Rec'' List'!$G$5","v":1854},null,null,null,null,{"$f":"'Rec'' List'!$L$5","v":1862},null,null,null,null,{"$f":"'Rec'' List'!$Q$5","v":1924},null,null,null,null,{"$f":"'Rec'' List'!$V$5","v":1916},null,null,null,null,{"$f":"'Rec'' List'!$AA$5","v":1984},null,null,null,null,null,null,null,null,{"$f":"AH13","v":"Carl McCaffery"},null,null,null,"IT Tallaght",{"$f":"Tables!BP8","v":"Aidan Darcy"}]
[null,5,{"$f":"'Rec'' List'!$B$6","v":"NUIG"},null,{"$f":"'Rec'' List'!$C$6","v":482},{"$f":"'Rec'' List'!$D$6","v":470},{"$f":"'Rec'' List'!$E$6","v":438},{"$f":"'Rec'' List'!$F$6","v":413},null,{"$f":"'Rec'' List'!$H$6","v":465},{"$f":"'Rec'' List'!$I$6","v":430},{"$f":"'Rec'' List'!$J$6","v":386},{"$f":"'Rec'' List'!$K$6","v":380},null,{"$f":"'Rec'' List'!$M$6","v":569},{"$f":"'Rec'' List'!$N$6","v":507},{"$f":"'Rec'' List'!$O$6","v":464},{"$f":"'Rec'' List'!$P$6","v":424},null,{"$f":"'Rec'' List'!$R$6","v":483},{"$f":"'Rec'' List'!$S$6","v":434},{"$f":"'Rec'' List'!$T$6","v":400},{"$f":"'Rec'' List'!$U$6","v":355},null,{"$f":"'Rec'' List'!$W$6","v":516},{"$f":"'Rec'' List'!$X$6","v":459},{"$f":"'Rec'' List'!$Y$6","v":441},{"$f":"'Rec'' List'!$Z$6","v":420},null,{"$f":"'Rec'' List'!$AG$6","v":8936},{"$f":"'Rec'' List'!$AH$6","v":1661},{"$f":"'Rec'' List'!$AI$6","v":7275.1964183599994},null,"Patrick Molloy",null,null,null,"MU",{"$f":"Tables!CL8","v":"Diego Coyle Diez"}]
[null,null,null,null,{"$f":"'Rec'' List'!$G$6","v":1803},null,null,null,null,{"$f":"'Rec'' List'!$L$6","v":1661},null,null,null,null,{"$f":"'Rec'' List'!$Q$6","v":1964},null,null,null,null,{"$f":"'Rec'' List'!$V$6","v":1672},null,null,null,null,{"$f":"'Rec'' List'!$AA$6","v":1836},null,null,null,null,null,null,null,null,{"$f":"AH15","v":"Patrick Molloy"},null,null,null,"NCAD",{"$f":"Tables!CW8","v":"Rachael Foley"}]
[null,6,{"$f":"'Rec'' List'!$B$7","v":"DCU"},null,{"$f":"'Rec'' List'!$C$7","v":484},{"$f":"'Rec'' List'!$D$7","v":471},{"$f":"'Rec'' List'!$E$7","v":458},{"$f":"'Rec'' List'!$F$7","v":429},null,{"$f":"'Rec'' List'!$H$7","v":480},{"$f":"'Rec'' List'!$I$7","v":480},{"$f":"'Rec'' List'!$J$7","v":443},{"$f":"'Rec'' List'!$K$7","v":443},null,{"$f":"'Rec'' List'!$M$7","v":472},{"$f":"'Rec'' List'!$N$7","v":371},{"$f":"'Rec'' List'!$O$7","v":314},{"$f":"'Rec'' List'!$P$7","v":290},null,{"$f":"'Rec'' List'!$R$7","v":420},{"$f":"'Rec'' List'!$S$7","v":411},{"$f":"'Rec'' List'!$T$7","v":402},{"$f":"'Rec'' List'!$U$7","v":372},null,{"$f":"'Rec'' List'!$W$7","v":496},{"$f":"'Rec'' List'!$X$7","v":469},{"$f":"'Rec'' List'!$Y$7","v":398},{"$f":"'Rec'' List'!$Z$7","v":344},null,{"$f":"'Rec'' List'!$AG$7","v":8447},{"$f":"'Rec'' List'!$AH$7","v":1447},{"$f":"'Rec'' List'!$AI$7","v":7000.1846184199994},null,"Brendan McManus",null,null,null,"NUIG",{"$f":"Tables!DH8","v":"Patrick Molloy"}]
[null,null,null,null,{"$f":"'Rec'' List'!$G$7","v":1842},null,null,null,null,{"$f":"'Rec'' List'!$L$7","v":1846},null,null,null,null,{"$f":"'Rec'' List'!$Q$7","v":1447},null,null,null,null,{"$f":"'Rec'' List'!$V$7","v":1605},null,null,null,null,{"$f":"'Rec'' List'!$AA$7","v":1707},null,null,null,null,null,null,null,null,{"$f":"AH17","v":"Brendan McManus"},null,null,null,"RCSI",{"$f":"Tables!DS8","v":"Zahratulfatin Mohd Mahfoz"}]
[null,7,{"$f":"'Rec'' List'!$B$8","v":"UCC"},null,{"$f":"'Rec'' List'!$C$8","v":483},{"$f":"'Rec'' List'!$D$8","v":471},{"$f":"'Rec'' List'!$E$8","v":397},{"$f":"'Rec'' List'!$F$8","v":378},null,{"$f":"'Rec'' List'!$H$8","v":0},{"$f":"'Rec'' List'!$I$8","v":0},{"$f":"'Rec'' List'!$J$8","v":0},{"$f":"'Rec'' List'!$K$8","v":0},null,{"$f":"'Rec'' List'!$M$8","v":453},{"$f":"'Rec'' List'!$N$8","v":448},{"$f":"'Rec'' List'!$O$8","v":424},{"$f":"'Rec'' List'!$P$8","v":325},null,{"$f":"'Rec'' List'!$R$8","v":455},{"$f":"'Rec'' List'!$S$8","v":452},{"$f":"'Rec'' List'!$T$8","v":447},{"$f":"'Rec'' List'!$U$8","v":399},null,{"$f":"'Rec'' List'!$W$8","v":466},{"$f":"'Rec'' List'!$X$8","v":413},{"$f":"'Rec'' List'!$Y$8","v":411},{"$f":"'Rec'' List'!$Z$8","v":400},null,{"$f":"'Rec'' List'!$AG$8","v":6822},{"$f":"'Rec'' List'!$AH$8","v":0},{"$f":"'Rec'' List'!$AI$8","v":6822.1753172899998},null,"Cormac O'Callaghan",null,null,null,"UCC",{"$f":"Tables!ED8","v":"Cormac O'Callaghan"}]
[null,null,null,null,{"$f":"'Rec'' List'!$G$8","v":1729},null,null,null,null,{"$f":"'Rec'' List'!$L$8","v":0},null,null,null,null,{"$f":"'Rec'' List'!$Q$8","v":1650},null,null,null,null,{"$f":"'Rec'' List'!$V$8","v":1753},null,null,null,null,{"$f":"'Rec'' List'!$AA$8","v":1690},null,null,null,null,null,null,null,null,{"$f":"AH19","v":"Cormac O'Callaghan"},null,null,null,"UCD",{"$f":"Tables!EO8","v":"Carl McCaffery"}]
[null,8,{"$f":"'Rec'' List'!$B$9","v":"GMIT"},null,{"$f":"'Rec'' List'!$C$9","v":524},{"$f":"'Rec'' List'!$D$9","v":435},{"$f":"'Rec'' List'!$E$9","v":393},{"$f":"'Rec'' List'!$F$9","v":330},null,{"$f":"'Rec'' List'!$H$9","v":488},{"$f":"'Rec'' List'!$I$9","v":392},{"$f":"'Rec'' List'!$J$9","v":371},{"$f":"'Rec'' List'!$K$9","v":283},null,{"$f":"'Rec'' List'!$M$9","v":517},{"$f":"'Rec'' List'!$N$9","v":459},{"$f":"'Rec'' List'!$O$9","v":401},{"$f":"'Rec'' List'!$P$9","v":391},null,{"$f":"'Rec'' List'!$R$9","v":407},{"$f":"'Rec'' List'!$S$9","v":398},{"$f":"'Rec'' List'!$T$9","v":388},{"$f":"'Rec'' List'!$U$9","v":358},null,{"$f":"'Rec'' List'!$W$9","v":501},{"$f":"'Rec'' List'!$X$9","v":444},{"$f":"'Rec'' List'!$Y$9","v":338},{"$f":"'Rec'' List'!$Z$9","v":330},null,{"$f":"'Rec'' List'!$AG$9","v":8148},{"$f":"'Rec'' List'!$AH$9","v":1534},{"$f":"'Rec'' List'!$AI$9","v":6614.1768168200006},null,"Dale Burke",null,null,null,"UL",{"$f":"Tables!EZ8","v":"Frank Stafford"}]
[null,null,null,null,{"$f":"'Rec'' List'!$G$9","v":1682},null,null,null,null,{"$f":"'Rec'' List'!$L$9","v":1534},null,null,null,null,{"$f":"'Rec'' List'!$Q$9","v":1768},null,null,null,null,{"$f":"'Rec'' List'!$V$9","v":1551},null,null,null,null,{"$f":"'Rec'' List'!$AA$9","v":1613},null,null,null,null,null,null,null,null,{"$f":"AH21","v":"Dale Burke"},null,null,null,"UU",{"$f":"Tables!FK8","v":"Jordan McCord"}]
[null,9,{"$f":"'Rec'' List'!$B$10","v":"UL"},null,{"$f":"'Rec'' List'!$C$10","v":473},{"$f":"'Rec'' List'!$D$10","v":440},{"$f":"'Rec'' List'!$E$10","v":400},{"$f":"'Rec'' List'!$F$10","v":335},null,{"$f":"'Rec'' List'!$H$10","v":436},{"$f":"'Rec'' List'!$I$10","v":432},{"$f":"'Rec'' List'!$J$10","v":385},{"$f":"'Rec'' List'!$K$10","v":358},null,{"$f":"'Rec'' List'!$M$10","v":448},{"$f":"'Rec'' List'!$N$10","v":429},{"$f":"'Rec'' List'!$O$10","v":405},{"$f":"'Rec'' List'!$P$10","v":340},null,{"$f":"'Rec'' List'!$R$10","v":432},{"$f":"'Rec'' List'!$S$10","v":375},{"$f":"'Rec'' List'!$T$10","v":331},{"$f":"'Rec'' List'!$U$10","v":308},null,{"$f":"'Rec'' List'!$W$10","v":453},{"$f":"'Rec'' List'!$X$10","v":433},{"$f":"'Rec'' List'!$Y$10","v":405},{"$f":"'Rec'' List'!$Z$10","v":353},null,{"$f":"'Rec'' List'!$AG$10","v":7971},{"$f":"'Rec'' List'!$AH$10","v":1446},{"$f":"'Rec'' List'!$AI$10","v":6525.1648164399994},null,"Frank Stafford",null,null,null,"WIT",{"$f":"Tables!FV8","v":0}]
[null,null,null,null,{"$f":"'Rec'' List'!$G$10","v":1648},null,null,null,null,{"$f":"'Rec'' List'!$L$10","v":1611},null,null,null,null,{"$f":"'Rec'' List'!$Q$10","v":1622},null,null,null,null,{"$f":"'Rec'' List'!$V$10","v":1446},null,null,null,null,{"$f":"'Rec'' List'!$AA$10","v":1644},null,null,null,null,null,null,null,null,{"$f":"AH23","v":"Frank Stafford"},null,null,null,"AAA",{"$f":"Tables!GG8","v":0}]
[null,10,{"$f":"'Rec'' List'!$B$11","v":"UU"},null,{"$f":"'Rec'' List'!$C$11","v":0},{"$f":"'Rec'' List'!$D$11","v":0},{"$f":"'Rec'' List'!$E$11","v":0},{"$f":"'Rec'' List'!$F$11","v":0},null,{"$f":"'Rec'' List'!$H$11","v":418},{"$f":"'Rec'' List'!$I$11","v":239},{"$f":"'Rec'' List'!$J$11","v":0},{"$f":"'Rec'' List'!$K$11","v":0},null,{"$f":"'Rec'' List'!$M$11","v":505},{"$f":"'Rec'' List'!$N$11","v":380},{"$f":"'Rec'' List'!$O$11","v":378},{"$f":"'Rec'' List'!$P$11","v":0},null,{"$f":"'Rec'' List'!$R$11","v":478},{"$f":"'Rec'' List'!$S$11","v":376},{"$f":"'Rec'' List'!$T$11","v":365},{"$f":"'Rec'' List'!$U$11","v":349},null,{"$f":"'Rec'' List'!$W$11","v":496},{"$f":"'Rec'' List'!$X$11","v":134},{"$f":"'Rec'' List'!$Y$11","v":0},{"$f":"'Rec'' List'!$Z$11","v":0},null,{"$f":"'Rec'' List'!$AG$11","v":4118},{"$f":"'Rec'' List'!$AH$11","v":0},{"$f":"'Rec'' List'!$AI$11","v":4118.1568126299999},null,"Jordan McCord",null,null,null,"BBB",{"$f":"Tables!GR8","v":0}]
[null,null,null,null,{"$f":"'Rec'' List'!$G$11","v":0},null,null,null,null,{"$f":"'Rec'' List'!$L$11","v":657},null,null,null,null,{"$f":"'Rec'' List'!$Q$11","v":1263},null,null,null,null,{"$f":"'Rec'' List'!$V$11","v":1568},null,null,null,null,{"$f":"'Rec'' List'!$AA$11","v":630},null,null,null,null,null,null,null,null,{"$f":"AH25","v":"Jordan McCord"},null,null,null,"CCC",{"$f":"Tables!HC8","v":0}]
[null,11,{"$f":"'Rec'' List'!$B$12","v":"DUAC"},null,{"$f":"'Rec'' List'!$C$12","v":0},{"$f":"'Rec'' List'!$D$12","v":0},{"$f":"'Rec'' List'!$E$12","v":0},{"$f":"'Rec'' List'!$F$12","v":0},null,{"$f":"'Rec'' List'!$H$12","v":464},{"$f":"'Rec'' List'!$I$12","v":389},{"$f":"'Rec'' List'!$J$12","v":367},{"$f":"'Rec'' List'!$K$12","v":290},null,{"$f":"'Rec'' List'!$M$12","v":0},{"$f":"'Rec'' List'!$N$12","v":0},{"$f":"'Rec'' List'!$O$12","v":0},{"$f":"'Rec'' List'!$P$12","v":0},null,{"$f":"'Rec'' List'!$R$12","v":407},{"$f":"'Rec'' List'!$S$12","v":403},{"$f":"'Rec'' List'!$T$12","v":379},{"$f":"'Rec'' List'!$U$12","v":0},null,{"$f":"'Rec'' List'!$W$12","v":410},{"$f":"'Rec'' List'!$X$12","v":380},{"$f":"'Rec'' List'!$Y$12","v":284},{"$f":"'Rec'' List'!$Z$12","v":0},null,{"$f":"'Rec'' List'!$AG$12","v":3773},{"$f":"'Rec'' List'!$AH$12","v":0},{"$f":"'Rec'' List'!$AI$12","v":3773.1510118900001},null,"Dáire Healy",null,null,null,"DDD",{"$f":"Tables!HN8","v":0}]
[null,null,null,null,{"$f":"'Rec'' List'!$G$12","v":0},null,null,null,null,{"$f":"'Rec'' List'!$L$12","v":1510},null,null,null,null,{"$f":"'Rec'' List'!$Q$12","v":0},null,null,null,null,{"$f":"'Rec'' List'!$V$12","v":1189},null,null,null,null,{"$f":"'Rec'' List'!$AA$12","v":1074},null,null,null,null,null,null,null,null,{"$f":"AH27","v":"Dáire Healy"},null,null,null,"EEE",{"$f":"Tables!HY8","v":0}]
[null,12,{"$f":"'Rec'' List'!$B$13","v":"IT Tallaght"},null,{"$f":"'Rec'' List'!$C$13","v":401},{"$f":"'Rec'' List'!$D$13","v":0},{"$f":"'Rec'' List'!$E$13","v":0},{"$f":"'Rec'' List'!$F$13","v":0},null,{"$f":"'Rec'' List'!$H$13","v":488},{"$f":"'Rec'' List'!$I$13","v":0},{"$f":"'Rec'' List'!$J$13","v":0},{"$f":"'Rec'' List'!$K$13","v":0},null,{"$f":"'Rec'' List'!$M$13","v":525},{"$f":"'Rec'' List'!$N$13","v":0},{"$f":"'Rec'' List'!$O$13","v":0},{"$f":"'Rec'' List'!$P$13","v":0},null,{"$f":"'Rec'' List'!$R$13","v":473},{"$f":"'Rec'' List'!$S$13","v":0},{"$f":"'Rec'' List'!$T$13","v":0},{"$f":"'Rec'' List'!$U$13","v":0},null,{"$f":"'Rec'' List'!$W$13","v":503},{"$f":"'Rec'' List'!$X$13","v":0},{"$f":"'Rec'' List'!$Y$13","v":0},{"$f":"'Rec'' List'!$Z$13","v":0},null,{"$f":"'Rec'' List'!$AG$13","v":2390},{"$f":"'Rec'' List'!$AH$13","v":401},{"$f":"'Rec'' List'!$AI$13","v":1989.05250503},null,"Aidan Darcy"]
[null,null,null,null,{"$f":"'Rec'' List'!$G$13","v":401},null,null,null,null,{"$f":"'Rec'' List'!$L$13","v":488},null,null,null,null,{"$f":"'Rec'' List'!$Q$13","v":525},null,null,null,null,{"$f":"'Rec'' List'!$V$13","v":473},null,null,null,null,{"$f":"'Rec'' List'!$AA$13","v":503},null,null,null,null,null,null,null,null,{"$f":"AH29","v":"Aidan Darcy"}]
[null,13,{"$f":"'Rec'' List'!$B$14","v":"GMITC"},null,{"$f":"'Rec'' List'!$C$14","v":387},{"$f":"'Rec'' List'!$D$14","v":0},{"$f":"'Rec'' List'!$E$14","v":0},{"$f":"'Rec'' List'!$F$14","v":0},null,{"$f":"'Rec'' List'!$H$14","v":0},{"$f":"'Rec'' List'!$I$14","v":0},{"$f":"'Rec'' List'!$J$14","v":0},{"$f":"'Rec'' List'!$K$14","v":0},null,{"$f":"'Rec'' List'!$M$14","v":397},{"$f":"'Rec'' List'!$N$14","v":0},{"$f":"'Rec'' List'!$O$14","v":0},{"$f":"'Rec'' List'!$P$14","v":0},null,{"$f":"'Rec'' List'!$R$14","v":372},{"$f":"'Rec'' List'!$S$14","v":0},{"$f":"'Rec'' List'!$T$14","v":0},{"$f":"'Rec'' List'!$U$14","v":0},null,{"$f":"'Rec'' List'!$W$14","v":436},{"$f":"'Rec'' List'!$X$14","v":0},{"$f":"'Rec'' List'!$Y$14","v":0},{"$f":"'Rec'' List'!$Z$14","v":0},null,{"$f":"'Rec'' List'!$AG$14","v":1592},{"$f":"'Rec'' List'!$AH$14","v":0},{"$f":"'Rec'' List'!$AI$14","v":1592.04360397},null,"Sinead Naughton"]
[null,null,null,null,{"$f":"'Rec'' List'!$G$14","v":387},null,null,null,null,{"$f":"'Rec'' List'!$L$14","v":0},null,null,null,null,{"$f":"'Rec'' List'!$Q$14","v":397},null,null,null,null,{"$f":"'Rec'' List'!$V$14","v":372},null,null,null,null,{"$f":"'Rec'' List'!$AA$14","v":436},null,null,null,null,null,null,null,null,{"$f":"AH31","v":"Sinead Naughton"}]
[null,14,{"$f":"'Rec'' List'!$B$15","v":"RCSI"},null,{"$f":"'Rec'' List'!$C$15","v":382},{"$f":"'Rec'' List'!$D$15","v":372},{"$f":"'Rec'' List'!$E$15","v":0},{"$f":"'Rec'' List'!$F$15","v":0},null,{"$f":"'Rec'' List'!$H$15","v":0},{"$f":"'Rec'' List'!$I$15","v":0},{"$f":"'Rec'' List'!$J$15","v":0},{"$f":"'Rec'' List'!$K$15","v":0},null,{"$f":"'Rec'' List'!$M$15","v":311},{"$f":"'Rec'' List'!$N$15","v":267},{"$f":"'Rec'' List'!$O$15","v":190},{"$f":"'Rec'' List'!$P$15","v":0},null,{"$f":"'Rec'' List'!$R$15","v":0},{"$f":"'Rec'' List'!$S$15","v":0},{"$f":"'Rec'' List'!$T$15","v":0},{"$f":"'Rec'' List'!$U$15","v":0},null,{"$f":"'Rec'' List'!$W$15","v":0},{"$f":"'Rec'' List'!$X$15","v":0},{"$f":"'Rec'' List'!$Y$15","v":0},{"$f":"'Rec'' List'!$Z$15","v":0},null,{"$f":"'Rec'' List'!$AG$15","v":1522},{"$f":"'Rec'' List'!$AH$15","v":0},{"$f":"'Rec'' List'!$AI$15","v":1522.0768075400001},null,"Zahratulfatin Mohd Mahfoz"]
[null,null,null,null,{"$f":"'Rec'' List'!$G$15","v":754},null,null,null,null,{"$f":"'Rec'' List'!$L$15","v":0},null,null,null,null,{"$f":"'Rec'' List'!$Q$15","v":768},null,null,null,null,{"$f":"'Rec'' List'!$V$15","v":0},null,null,null,null,{"$f":"'Rec'' List'!$AA$15","v":0},null,null,null,null,null,null,null,null,{"$f":"AH33","v":"Zahratulfatin Mohd Mahfoz"}]
[null,15,{"$f":"'Rec'' List'!$B$16","v":"ITC"},null,{"$f":"'Rec'' List'!$C$16","v":332},{"$f":"'Rec'' List'!$D$16","v":0},{"$f":"'Rec'' List'!$E$16","v":0},{"$f":"'Rec'' List'!$F$16","v":0},null,{"$f":"'Rec'' List'!$H$16","v":306},{"$f":"'Rec'' List'!$I$16","v":0},{"$f":"'Rec'' List'!$J$16","v":0},{"$f":"'Rec'' List'!$K$16","v":0},null,{"$f":"'Rec'' List'!$M$16","v":275},{"$f":"'Rec'' List'!$N$16","v":0},{"$f":"'Rec'' List'!$O$16","v":0},{"$f":"'Rec'' List'!$P$16","v":0},null,{"$f":"'Rec'' List'!$R$16","v":281},{"$f":"'Rec'' List'!$S$16","v":0},{"$f":"'Rec'' List'!$T$16","v":0},{"$f":"'Rec'' List'!$U$16","v":0},null,{"$f":"'Rec'' List'!$W$16","v":233},{"$f":"'Rec'' List'!$X$16","v":0},{"$f":"'Rec'' List'!$Y$16","v":0},{"$f":"'Rec'' List'!$Z$16","v":0},null,{"$f":"'Rec'' List'!$AG$16","v":1427},{"$f":"'Rec'' List'!$AH$16","v":233},{"$f":"'Rec'' List'!$AI$16","v":1194.03320306},null,"Leo Byrne"]
[null,null,null,null,{"$f":"'Rec'' List'!$G$16","v":332},null,null,null,null,{"$f":"'Rec'' List'!$L$16","v":306},null,null,null,null,{"$f":"'Rec'' List'!$Q$16","v":275},null,null,null,null,{"$f":"'Rec'' List'!$V$16","v":281},null,null,null,null,{"$f":"'Rec'' List'!$AA$16","v":233},null,null,null,null,null,null,null,null,{"$f":"AH35","v":"Leo Byrne"}]
[null,16,{"$f":"'Rec'' List'!$B$17","v":"NCAD"},null,{"$f":"'Rec'' List'!$C$17","v":0},{"$f":"'Rec'' List'!$D$17","v":0},{"$f":"'Rec'' List'!$E$17","v":0},{"$f":"'Rec'' List'!$F$17","v":0},null,{"$f":"'Rec'' List'!$H$17","v":0},{"$f":"'Rec'' List'!$I$17","v":0},{"$f":"'Rec'' List'!$J$17","v":0},{"$f":"'Rec'' List'!$K$17","v":0},null,{"$f":"'Rec'' List'!$M$17","v":515},{"$f":"'Rec'' List'!$N$17","v":0},{"$f":"'Rec'' List'!$O$17","v":0},{"$f":"'Rec'' List'!$P$17","v":0},null,{"$f":"'Rec'' List'!$R$17","v":0},{"$f":"'Rec'' List'!$S$17","v":0},{"$f":"'Rec'' List'!$T$17","v":0},{"$f":"'Rec'' List'!$U$17","v":0},null,{"$f":"'Rec'' List'!$W$17","v":522},{"$f":"'Rec'' List'!$X$17","v":0},{"$f":"'Rec'' List'!$Y$17","v":0},{"$f":"'Rec'' List'!$Z$17","v":0},null,{"$f":"'Rec'' List'!$AG$17","v":1037},{"$f":"'Rec'' List'!$AH$17","v":0},{"$f":"'Rec'' List'!$AI$17","v":1037.0522051500002},null,"Rachael Foley"]
[null,null,null,null,{"$f":"'Rec'' List'!$G$17","v":0},null,null,null,null,{"$f":"'Rec'' List'!$L$17","v":0},null,null,null,null,{"$f":"'Rec'' List'!$Q$17","v":515},null,null,null,null,{"$f":"'Rec'' List'!$V$17","v":0},null,null,null,null,{"$f":"'Rec'' List'!$AA$17","v":522},null,null,null,null,null,null,null,null,{"$f":"AH37","v":"Rachael Foley"}]
[null,17,{"$f":"'Rec'' List'!$B$18","v":"WIT"},null,{"$f":"'Rec'' List'!$C$18","v":0},{"$f":"'Rec'' List'!$D$18","v":0},{"$f":"'Rec'' List'!$E$18","v":0},{"$f":"'Rec'' List'!$F$18","v":0},null,{"$f":"'Rec'' List'!$H$18","v":0},{"$f":"'Rec'' List'!$I$18","v":0},{"$f":"'Rec'' List'!$J$18","v":0},{"$f":"'Rec'' List'!$K$18","v":0},null,{"$f":"'Rec'' List'!$M$18","v":0},{"$f":"'Rec'' List'!$N$18","v":0},{"$f":"'Rec'' List'!$O$18","v":0},{"$f":"'Rec'' List'!$P$18","v":0},null,{"$f":"'Rec'' List'!$R$18","v":0},{"$f":"'Rec'' List'!$S$18","v":0},{"$f":"'Rec'' List'!$T$18","v":0},{"$f":"'Rec'' List'!$U$18","v":0},null,{"$f":"'Rec'' List'!$W$18","v":0},{"$f":"'Rec'' List'!$X$18","v":0},{"$f":"'Rec'' List'!$Y$18","v":0},{"$f":"'Rec'' List'!$Z$18","v":0},null,{"$f":"'Rec'' List'!$AG$18","v":0},{"$f":"'Rec'' List'!$AH$18","v":0},{"$f":"'Rec'' List'!$AI$18","v":0},null,0]
[null,null,null,null,{"$f":"'Rec'' List'!$G$18","v":0},null,null,null,null,{"$f":"'Rec'' List'!$L$18","v":0},null,null,null,null,{"$f":"'Rec'' List'!$Q$18","v":0},null,null,null,null,{"$f":"'Rec'' List'!$V$18","v":0},null,null,null,null,{"$f":"'Rec'' List'!$AA$18","v":0},null,null,null,null,null,null,null,null,{"$f":"AH39","v":0}]
[null,18,{"$f":"'Rec'' List'!$B$19","v":"AAA"},null,{"$f":"'Rec'' List'!$C$19","v":0},{"$f":"'Rec'' List'!$D$19","v":0},{"$f":"'Rec'' List'!$E$19","v":0},{"$f":"'Rec'' List'!$F$19","v":0},null,{"$f":"'Rec'' List'!$H$19","v":0},{"$f":"'Rec'' List'!$I$19","v":0},{"$f":"'Rec'' List'!$J$19","v":0},{"$f":"'Rec'' List'!$K$19","v":0},null,{"$f":"'Rec'' List'!$M$19","v":0},{"$f":"'Rec'' List'!$N$19","v":0},{"$f":"'Rec'' List'!$O$19","v":0},{"$f":"'Rec'' List'!$P$19","v":0},null,{"$f":"'Rec'' List'!$R$19","v":0},{"$f":"'Rec'' List'!$S$19","v":0},{"$f":"'Rec'' List'!$T$19","v":0},{"$f":"'Rec'' List'!$U$19","v":0},null,{"$f":"'Rec'' List'!$W$19","v":0},{"$f":"'Rec'' List'!$X$19","v":0},{"$f":"'Rec'' List'!$Y$19","v":0},{"$f":"'Rec'' List'!$Z$19","v":0},null,{"$f":"'Rec'' List'!$AG$19","v":0},{"$f":"'Rec'' List'!$AH$19","v":0},{"$f":"'Rec'' List'!$AI$19","v":0},null,{"$error":"#N/A"}]
[null,null,null,null,{"$f":"'Rec'' List'!$G$19","v":0},null,null,null,null,{"$f":"'Rec'' List'!$L$19","v":0},null,null,null,null,{"$f":"'Rec'' List'!$Q$19","v":0},null,null,null,null,{"$f":"'Rec'' List'!$V$19","v":0},null,null,null,null,{"$f":"'Rec'' List'!$AA$19","v":0},null,null,null,null,null,null,null,null,{"$f":"AH41","v":{"$error":"#N/A"}}]
[null,19,{"$f":"'Rec'' List'!$B$20","v":"BBB"},null,{"$f":"'Rec'' List'!$C$20","v":0},{"$f":"'Rec'' List'!$D$20","v":0},{"$f":"'Rec'' List'!$E$20","v":0},{"$f":"'Rec'' List'!$F$20","v":0},null,{"$f":"'Rec'' List'!$H$20","v":0},{"$f":"'Rec'' List'!$I$20","v":0},{"$f":"'Rec'' List'!$J$20","v":0},{"$f":"'Rec'' List'!$K$20","v":0},null,{"$f":"'Rec'' List'!$M$20","v":0},{"$f":"'Rec'' List'!$N$20","v":0},{"$f":"'Rec'' List'!$O$20","v":0},{"$f":"'Rec'' List'!$P$20","v":0},null,{"$f":"'Rec'' List'!$R$20","v":0},{"$f":"'Rec'' List'!$S$20","v":0},{"$f":"'Rec'' List'!$T$20","v":0},{"$f":"'Rec'' List'!$U$20","v":0},null,{"$f":"'Rec'' List'!$W$20","v":0},{"$f":"'Rec'' List'!$X$20","v":0},{"$f":"'Rec'' List'!$Y$20","v":0},{"$f":"'Rec'' List'!$Z$20","v":0},null,{"$f":"'Rec'' List'!$AG$20","v":0},{"$f":"'Rec'' List'!$AH$20","v":0},{"$f":"'Rec'' List'!$AI$20","v":0},null,{"$error":"#N/A"}]
[null,null,null,null,{"$f":"'Rec'' List'!$G$20","v":0},null,null,null,null,{"$f":"'Rec'' List'!$L$20","v":0},null,null,null,null,{"$f":"'Rec'' List'!$Q$20","v":0},null,null,null,null,{"$f":"'Rec'' List'!$V$20","v":0},null,null,null,null,{"$f":"'Rec'' List'!$AA$20","v":0},null,null,null,null,null,null,null,null,{"$f":"AH43","v":{"$error":"#N/A"}}]
[null,20,{"$f":"'Rec'' List'!$B$21","v":"CCC"},null,{"$f":"'Rec'' List'!$C$21","v":0},{"$f":"'Rec'' List'!$D$21","v":0},{"$f":"'Rec'' List'!$E$21","v":0},{"$f":"'Rec'' List'!$F$21","v":0},null,{"$f":"'Rec'' List'!$H$21","v":0},{"$f":"'Rec'' List'!$I$21","v":0},{"$f":"'Rec'' List'!$J$21","v":0},{"$f":"'Rec'' List'!$K$21","v":0},null,{"$f":"'Rec'' List'!$M$21","v":0},{"$f":"'Rec'' List'!$N$21","v":0},{"$f":"'Rec'' List'!$O$21","v":0},{"$f":"'Rec'' List'!$P$21","v":0},null,{"$f":"'Rec'' List'!$R$21","v":0},{"$f":"'Rec'' List'!$S$21","v":0},{"$f":"'Rec'' List'!$T$21","v":0},{"$f":"'Rec'' List'!$U$21","v":0},null,{"$f":"'Rec'' List'!$W$21","v":0},{"$f":"'Rec'' List'!$X$21","v":0},{"$f":"'Rec'' List'!$Y$21","v":0},{"$f":"'Rec'' List'!$Z$21","v":0},null,{"$f":"'Rec'' List'!$AG$21","v":0},{"$f":"'Rec'' List'!$AH$21","v":0},{"$f":"'Rec'' List'!$AI$21","v":0},null,{"$error":"#N/A"}]
[null,null,null,null,{"$f":"'Rec'' List'!$G$21","v":0},null,null,null,null,{"$f":"'Rec'' List'!$L$21","v":0},null,null,null,null,{"$f":"'Rec'' List'!$Q$21","v":0},null,null,null,null,{"$f":"'Rec'' List'!$V$21","v":0},null,null,null,null,{"$f":"'Rec'' List'!$AA$21","v":0},null,null,null,null,null,null,null,null,{"$f":"AH45","v":{"$error":"#N/A"}}]
[null,21,{"$f":"'Rec'' List'!$B$22","v":"DDD"},null,{"$f":"'Rec'' List'!$C$22","v":0},{"$f":"'Rec'' List'!$D$22","v":0},{"$f":"'Rec'' List'!$E$22","v":0},{"$f":"'Rec'' List'!$F$22","v":0},null,{"$f":"'Rec'' List'!$H$22","v":0},{"$f":"'Rec'' List'!$I$22","v":0},{"$f":"'Rec'' List'!$J$22","v":0},{"$f":"'Rec'' List'!$K$22","v":0},null,{"$f":"'Rec'' List'!$M$22","v":0},{"$f":"'Rec'' List'!$N$22","v":0},{"$f":"'Rec'' List'!$O$22","v":0},{"$f":"'Rec'' List'!$P$22","v":0},null,{"$f":"'Rec'' List'!$R$22","v":0},{"$f":"'Rec'' List'!$S$22","v":0},{"$f":"'Rec'' List'!$T$22","v":0},{"$f":"'Rec'' List'!$U$22","v":0},null,{"$f":"'Rec'' List'!$W$22","v":0},{"$f":"'Rec'' List'!$X$22","v":0},{"$f":"'Rec'' List'!$Y$22","v":0},{"$f":"'Rec'' List'!$Z$22","v":0},null,{"$f":"'Rec'' List'!$AG$22","v":0},{"$f":"'Rec'' List'!$AH$22","v":0},{"$f":"'Rec'' List'!$AI$22","v":0},null,{"$error":"#N/A"}]
[null,null,null,null,{"$f":"'Rec'' List'!$G$22","v":0},null,null,null,null,{"$f":"'Rec'' List'!$L$22","v":0},null,null,null,null,{"$f":"'Rec'' List'!$Q$22","v":0},null,null,null,null,{"$f":"'Rec'' List'!$V$22","v":0},null,null,null,null,{"$f":"'Rec'' List'!$AA$22","v":0},null,null,null,null,null,null,null,null,{"$f":"AH47","v":{"$error":"#N/A"}}]
[null,22,{"$f":"'Rec'' List'!$B$23","v":"EEE"},null,{"$f":"'Rec'' List'!$C$23","v":0},{"$f":"'Rec'' List'!$D$23","v":0},{"$f":"'Rec'' List'!$E$23","v":0},{"$f":"'Rec'' List'!$F$23","v":0},null,{"$f":"'Rec'' List'!$H$23","v":0},{"$f":"'Rec'' List'!$I$23","v":0},{"$f":"'Rec'' List'!$J$23","v":0},{"$f":"'Rec'' List'!$K$23","v":0},null,{"$f":"'Rec'' List'!$M$23","v":0},{"$f":"'Rec'' List'!$N$23","v":0},{"$f":"'Rec'' List'!$O$23","v":0},{"$f":"'Rec'' List'!$P$23","v":0},null,{"$f":"'Rec'' List'!$R$23","v":0},{"$f":"'Rec'' List'!$S$23","v":0},{"$f":"'Rec'' List'!$T$23","v":0},{"$f":"'Rec'' List'!$U$23","v":0},null,{"$f":"'Rec'' List'!$W$23","v":0},{"$f":"'Rec'' List'!$X$23","v":0},{"$f":"'Rec'' List'!$Y$23","v":0},{"$f":"'Rec'' List'!$Z$23","v":0},null,{"$f":"'Rec'' List'!$AG$23","v":0},{"$f":"'Rec'' List'!$AH$23","v":0},{"$f":"'Rec'' List'!$AI$23","v":0},null,{"$error":"#N/A"}]
[null,null,null,null,{"$f":"'Rec'' List'!$G$23","v":0},null,null,null,null,{"$f":"'Rec'' List'!$L$23","v":0},null,null,null,null,{"$f":"'Rec'' List'!$Q$23","v":0},null,null,null,null,{"$f":"'Rec'' List'!$V$23","v":0},null,null,null,null,{"$f":"'Rec'' List'!$AA$23","v":0},null,null,null,null,null,null,null,null,{"$f":"AH49","v":{"$error":"#N/A"}}]
[null,{"$f":"$C$7","v":"DkIT"}]

{"sheet":"Bare' Team","index":20,"n_rows":51,"n_cols":46,"rows_kept":51,"cut":false,"hidden":false,"merged":[[1,27,49,27],[50,0,50,27],[1,0,49,0],[0,0,0,27],[48,1,49,1],[48,2,49,2],[48,24,49,24],[48,25,49,25],[48,26,49,26],[49,4,49,6],[49,8,49,10],[49,12,49,14],[49,16,49,18],[49,20,49,22],[1,3,49,3],[1,23,49,23],[46,1,47,1],[46,2,47,2],[46,24,47,24],[46,25,47,25],[46,26,47,26],[47,4,47,6],[47,8,47,10],[47,12,47,14],[47,16,47,18],[47,20,47,22],[44,1,45,1],[44,2,45,2],[44,24,45,24],[44,25,45,25],[44,26,45,26],[45,4,45,6],[45,8,45,10],[45,12,45,14],[45,16,45,18],[45,20,45,22],[42,1,43,1],[42,2,43,2],[42,24,43,24],[42,25,43,25],[42,26,43,26],[43,4,43,6],[43,8,43,10],[43,12,43,14],[43,16,43,18],[43,20,43,22],[40,1,41,1],[40,2,41,2],[40,24,41,24],[40,25,41,25],[40,26,41,26],[41,4,41,6],[41,8,41,10],[41,12,41,14],[41,16,41,18],[41,20,41,22],[6,1,7,1],[6,2,7,2],[7,4,7,6],[7,8,7,10],[7,12,7,14],[1,1,3,2],[1,4,4,22],[1,24,4,24],[1,25,4,25],[6,25,7,25],[5,24,5,26],[5,4,5,22],[5,1,5,2],[1,26,4,26],[4,1,4,2],[11,12,11,14],[8,1,9,1],[8,2,9,2],[8,24,9,24],[8,25,9,25],[9,4,9,6],[9,8,9,10],[9,12,9,14],[9,16,9,18],[9,20,9,22],[10,24,11,24],[10,25,11,25],[10,26,11,26],[11,16,11,18],[11,20,11,22],[7,16,7,18],[7,20,7,22],[6,24,7,24],[14,1,15,1],[14,2,15,2],[15,4,15,6],[15,8,15,10],[15,12,15,14],[12,1,13,1],[12,2,13,2],[12,24,13,24],[12,25,13,25],[13,4,13,6],[13,8,13,10],[13,12,13,14],[6,26,7,26],[8,26,9,26],[10,1,11,1],[10,2,11,2],[11,4,11,6],[11,8,11,10],[18,1,19,1],[18,2,19,2],[19,4,19,6],[19,8,19,10],[19,12,19,14],[16,1,17,1],[16,2,17,2],[16,24,17,24],[16,25,17,25],[17,4,17,6],[17,8,17,10],[17,12,17,14],[22,1,23,1],[22,2,23,2],[23,4,23,6],[23,8,23,10],[23,12,23,14],[20,1,21,1],[20,2,21,2],[20,24,21,24],[20,25,21,25],[21,4,21,6],[21,8,21,10],[21,12,21,14],[21,16,21,18],[21,20,21,22],[22,24,23,24],[22,25,23,25],[26,1,27,1],[26,2,27,2],[27,4,27,6],[27,8,27,10],[27,12,27,14],[24,1,25,1],[24,2,25,2],[24,24,25,24],[24,25,25,25],[25,4,25,6],[25,8,25,10],[25,12,25,14],[30,1,31,1],[30,2,31,2],[31,4,31,6],[31,8,31,10],[31,12,31,14],[28,1,29,1],[28,2,29,2],[28,24,29,24],[28,25,29,25],[29,4,29,6],[29,8,29,10],[29,12,29,14],[29,16,29,18],[29,20,29,22],[30,24,31,24],[30,25,31,25],[34,1,35,1],[34,2,35,2],[35,4,35,6],[35,8,35,10],[35,12,35,14],[32,1,33,1],[32,2,33,2],[32,24,33,24],[32,25,33,25],[33,4,33,6],[33,8,33,10],[33,12,33,14],[38,1,39,1],[38,2,39,2],[39,4,39,6],[39,8,39,10],[39,12,39,14],[36,1,37,1],[36,2,37,2],[36,24,37,24],[36,25,37,25],[37,4,37,6],[37,8,37,10],[37,12,37,14],[37,16,37,18],[37,20,37,22],[38,24,39,24],[38,25,39,25],[22,26,23,26],[23,16,23,18],[23,20,23,22],[13,16,13,18],[13,20,13,22],[18,24,19,24],[18,25,19,25],[18,26,19,26],[19,16,19,18],[19,20,19,22],[17,16,17,18],[17,20,17,22],[14,24,15,24],[14,25,15,25],[14,26,15,26],[15,16,15,18],[15,20,15,22],[20,26,21,26],[16,26,17,26],[12,26,13,26],[30,26,31,26],[31,16,31,18],[31,20,31,22],[25,16,25,18],[25,20,25,22],[26,24,27,24],[26,25,27,25],[26,26,27,26],[27,16,27,18],[27,20,27,22],[28,26,29,26],[24,26,25,26],[38,26,39,26],[39,16,39,18],[39,20,39,22],[33,16,33,18],[33,20,33,22],[34,24,35,24],[34,25,35,25],[34,26,35,26],[35,16,35,18],[35,20,35,22],[36,26,37,26],[32,26,33,26]]}
[{"$f":"$C$7","v":"DCU"}]
[{"$f":"$C$7","v":"DCU"},"Barebow Team",null,{"$f":"$C$7","v":"DCU"},null,null,null,null,null,null,null,null,null,null,null,null,null,null,null,null,null,null,null,{"$f":"$C$7","v":"DCU"},"Total","Lowest","League",{"$f":"$C$7","v":"DCU"},null,null,null,null,null,{"$f":"AH7","v":"Dean Lalor"}]
[]
[]
[]
[null,{"$f":"$C$7","v":"DCU"},null,null,"DCU",null,null,null,null,null,null,null,null,null,null,null,null,null,null,null,null,null,null,null,{"$f":"$C$7","v":"DCU"}]
[null,1,{"$f":"'Bare'' List'!$B$2","v":"DCU"},null,{"$f":"'Bare'' List'!$C$2","v":422},{"$f":"'Bare'' List'!$D$2","v":413},{"$f":"'Bare'' List'!$E$2","v":326},null,{"$f":"'Bare'' List'!$G$2","v":437},{"$f":"'Bare'' List'!$H$2","v":411},{"$f":"'Bare'' List'!$I$2","v":394},null,{"$f":"'Bare'' List'!$K$2","v":465},{"$f":"'Bare'' List'!$L$2","v":446},{"$f":"'Bare'' List'!$M$2","v":407},null,{"$f":"'Bare'' List'!$O$2","v":469},{"$f":"'Bare'' List'!$P$2","v":457},{"$f":"'Bare'' List'!$Q$2","v":417},null,{"$f":"'Bare'' List'!$S$2","v":486},{"$f":"'Bare'' List'!$T$2","v":437},{"$f":"'Bare'' List'!$U$2","v":404},null,{"$f":"'Bare'' List'!$AB$2","v":6391},{"$f":"'Bare'' List'!$AC$2","v":1161},{"$f":"'Bare'' List'!$AD$2","v":5230.1343132699994},null,null,null,null,null,null,{"$f":"VLOOKUP($C7,$AL$7:$AM$24,2,0)","v":"Dean Lalor"},null,null,null,"DCU",{"$f":"Tables!B49","v":"Dean Lalor"}]
[null,null,null,null,{"$f":"'Bare'' List'!$F$2","v":1161},null,null,null,{"$f":"'Bare'' List'!$J$2","v":1242},null,null,null,{"$f":"'Bare'' List'!$N$2","v":1318},null,null,null,{"$f":"'Bare'' List'!$R$2","v":1343},null,null,null,{"$f":"'Bare'' List'!$V$2","v":1327},null,null,null,null,null,null,null,null,null,null,null,null,{"$f":"AH7","v":"Dean Lalor"},null,null,null,"DIT",{"$f":"Tables!M49","v":0}]
[null,2,{"$f":"'Bare'' List'!$B$3","v":"MU"},null,{"$f":"'Bare'' List'!$C$3","v":380},{"$f":"'Bare'' List'!$D$3","v":359},{"$f":"'Bare'' List'!$E$3","v":310},null,{"$f":"'Bare'' List'!$G$3","v":465},{"$f":"'Bare'' List'!$H$3","v":413},{"$f":"'Bare'' List'!$I$3","v":377},null,{"$f":"'Bare'' List'!$K$3","v":406},{"$f":"'Bare'' List'!$L$3","v":348},{"$f":"'Bare'' List'!$M$3","v":338},null,{"$f":"'Bare'' List'!$O$3","v":430},{"$f":"'Bare'' List'!$P$3","v":422},{"$f":"'Bare'' List'!$Q$3","v":380},null,{"$f":"'Bare'' List'!$S$3","v":365},{"$f":"'Bare'' List'!$T$3","v":336},{"$f":"'Bare'' List'!$U$3","v":334},null,{"$f":"'Bare'' List'!$AB$3","v":5663},{"$f":"'Bare'' List'!$AC$3","v":1035},{"$f":"'Bare'' List'!$AD$3","v":4628.1255123199999},null,null,null,null,null,null,{"$f":"VLOOKUP($C9,$AL$8:$AM$24,2,0)","v":"Elliot Barry"},null,null,null,"DkIT",{"$f":"Tables!X49","v":0},null,null,null,null,null,"ROW 7-8 CONDITIONAL FORMATTING FORMULA","$B$7:$C$7,$E$7:$W$8,$Y$7:$AA$7"]
[null,null,null,null,{"$f":"'Bare'' List'!$F$3","v":1049},null,null,null,{"$f":"'Bare'' List'!$J$3","v":1255},null,null,null,{"$f":"'Bare'' List'!$N$3","v":1092},null,null,null,{"$f":"'Bare'' List'!$R$3","v":1232},null,null,null,{"$f":"'Bare'' List'!$V$3","v":1035},null,null,null,null,null,null,null,null,null,null,null,null,{"$f":"AH9","v":"Elliot Barry"},null,null,null,"DUAC",{"$f":"Tables!AI49","v":"Cormac Begley"},null,null,null,null,null,"ROW 9-50 CONDITIONAL FORMATTING FORMULA","$B$7:$C$50,$E$9:$W$50,$Y$7:$AA$50"]
[null,3,{"$f":"'Bare'' List'!$B$4","v":"NUIG"},null,{"$f":"'Bare'' List'!$C$4","v":471},{"$f":"'Bare'' List'!$D$4","v":367},{"$f":"'Bare'' List'!$E$4","v":286},null,{"$f":"'Bare'' List'!$G$4","v":393},{"$f":"'Bare'' List'!$H$4","v":326},{"$f":"'Bare'' List'!$I$4","v":293},null,{"$f":"'Bare'' List'!$K$4","v":383},{"$f":"'Bare'' List'!$L$4","v":341},{"$f":"'Bare'' List'!$M$4","v":313},null,{"$f":"'Bare'' List'!$O$4","v":348},{"$f":"'Bare'' List'!$P$4","v":340},{"$f":"'Bare'' List'!$Q$4","v":262},null,{"$f":"'Bare'' List'!$S$4","v":451},{"$f":"'Bare'' List'!$T$4","v":441},{"$f":"'Bare'' List'!$U$4","v":429},null,{"$f":"'Bare'' List'!$AB$4","v":5444},{"$f":"'Bare'' List'!$AC$4","v":950},{"$f":"'Bare'' List'!$AD$4","v":4494.1321112400001},null,null,null,null,null,null,{"$f":"VLOOKUP($C11,$AL$8:$AM$24,2,0)","v":"Conor Ó Beoláin"},null,null,null,"GMIT",{"$f":"Tables!AT49","v":"Andrew Fahey"}]
[null,null,null,null,{"$f":"'Bare'' List'!$F$4","v":1124},null,null,null,{"$f":"'Bare'' List'!$J$4","v":1012},null,null,null,{"$f":"'Bare'' List'!$N$4","v":1037},null,null,null,{"$f":"'Bare'' List'!$R$4","v":950},null,null,null,{"$f":"'Bare'' List'!$V$4","v":1321},null,null,null,null,null,null,null,null,null,null,null,null,{"$f":"AH11","v":"Conor Ó Beoláin"},null,null,null,"GMITC",{"$f":"Tables!BE49","v":"Andrew Warrington"}]
[null,4,{"$f":"'Bare'' List'!$B$5","v":"GMIT"},null,{"$f":"'Bare'' List'!$C$5","v":393},{"$f":"'Bare'' List'!$D$5","v":365},{"$f":"'Bare'' List'!$E$5","v":170},null,{"$f":"'Bare'' List'!$G$5","v":391},{"$f":"'Bare'' List'!$H$5","v":388},{"$f":"'Bare'' List'!$I$5","v":320},null,{"$f":"'Bare'' List'!$K$5","v":439},{"$f":"'Bare'' List'!$L$5","v":420},{"$f":"'Bare'' List'!$M$5","v":329},null,{"$f":"'Bare'' List'!$O$5","v":402},{"$f":"'Bare'' List'!$P$5","v":307},{"$f":"'Bare'' List'!$Q$5","v":234},null,{"$f":"'Bare'' List'!$S$5","v":440},{"$f":"'Bare'' List'!$T$5","v":371},{"$f":"'Bare'' List'!$U$5","v":365},null,{"$f":"'Bare'' List'!$AB$5","v":5334},{"$f":"'Bare'' List'!$AC$5","v":928},{"$f":"'Bare'' List'!$AD$5","v":4406.1188117600004},null,null,null,null,null,null,{"$f":"VLOOKUP($C13,$AL$8:$AM$24,2,0)","v":"Andrew Fahey"},null,null,null,"ITC",{"$f":"Tables!CA49","v":"Pawel Nalecz-Nieniewski"}]
[null,null,null,null,{"$f":"'Bare'' List'!$F$5","v":928},null,null,null,{"$f":"'Bare'' List'!$J$5","v":1099},null,null,null,{"$f":"'Bare'' List'!$N$5","v":1188},null,null,null,{"$f":"'Bare'' List'!$R$5","v":943},null,null,null,{"$f":"'Bare'' List'!$V$5","v":1176},null,null,null,null,null,null,null,null,null,null,null,null,{"$f":"AH13","v":"Andrew Fahey"},null,null,null,"IT Tallaght",{"$f":"Tables!BP49","v":"Jamie McMahon"}]
[null,5,{"$f":"'Bare'' List'!$B$6","v":"IT Tallaght"},null,{"$f":"'Bare'' List'!$C$6","v":380},{"$f":"'Bare'' List'!$D$6","v":261},{"$f":"'Bare'' List'!$E$6","v":205},null,{"$f":"'Bare'' List'!$G$6","v":387},{"$f":"'Bare'' List'!$H$6","v":383},{"$f":"'Bare'' List'!$I$6","v":285},null,{"$f":"'Bare'' List'!$K$6","v":439},{"$f":"'Bare'' List'!$L$6","v":431},{"$f":"'Bare'' List'!$M$6","v":351},null,{"$f":"'Bare'' List'!$O$6","v":395},{"$f":"'Bare'' List'!$P$6","v":331},{"$f":"'Bare'' List'!$Q$6","v":283},null,{"$f":"'Bare'' List'!$S$6","v":384},{"$f":"'Bare'' List'!$T$6","v":369},{"$f":"'Bare'' List'!$U$6","v":313},null,{"$f":"'Bare'' List'!$AB$6","v":5197},{"$f":"'Bare'' List'!$AC$6","v":846},{"$f":"'Bare'' List'!$AD$6","v":4351.1221106599996},null,null,null,null,null,null,{"$f":"VLOOKUP($C15,$AL$8:$AM$24,2,0)","v":"Jamie McMahon"},null,null,null,"MU",{"$f":"Tables!CL49","v":"Elliot Barry"}]
[null,null,null,null,{"$f":"'Bare'' List'!$F$6","v":846},null,null,null,{"$f":"'Bare'' List'!$J$6","v":1055},null,null,null,{"$f":"'Bare'' List'!$N$6","v":1221},null,null,null,{"$f":"'Bare'' List'!$R$6","v":1009},null,null,null,{"$f":"'Bare'' List'!$V$6","v":1066},null,null,null,null,null,null,null,null,null,null,null,null,{"$f":"AH15","v":"Jamie McMahon"},null,null,null,"NCAD",{"$f":"Tables!CW49","v":0}]
[null,6,{"$f":"'Bare'' List'!$B$7","v":"ITC"},null,{"$f":"'Bare'' List'!$C$7","v":391},{"$f":"'Bare'' List'!$D$7","v":353},{"$f":"'Bare'' List'!$E$7","v":313},null,{"$f":"'Bare'' List'!$G$7","v":403},{"$f":"'Bare'' List'!$H$7","v":364},{"$f":"'Bare'' List'!$I$7","v":239},null,{"$f":"'Bare'' List'!$K$7","v":378},{"$f":"'Bare'' List'!$L$7","v":370},{"$f":"'Bare'' List'!$M$7","v":359},null,{"$f":"'Bare'' List'!$O$7","v":395},{"$f":"'Bare'' List'!$P$7","v":357},{"$f":"'Bare'' List'!$Q$7","v":292},null,{"$f":"'Bare'' List'!$S$7","v":396},{"$f":"'Bare'' List'!$T$7","v":395},{"$f":"'Bare'' List'!$U$7","v":317},null,{"$f":"'Bare'' List'!$AB$7","v":5322},{"$f":"'Bare'' List'!$AC$7","v":1006},{"$f":"'Bare'' List'!$AD$7","v":4316.1108110700006},null,null,null,null,null,null,{"$f":"VLOOKUP($C17,$AL$8:$AM$24,2,0)","v":"Pawel Nalecz-Nieniewski"},null,null,null,"NUIG",{"$f":"Tables!DH49","v":"Conor Ó Beoláin"}]
[null,null,null,null,{"$f":"'Bare'' List'!$F$7","v":1057},null,null,null,{"$f":"'Bare'' List'!$J$7","v":1006},null,null,null,{"$f":"'Bare'' List'!$N$7","v":1107},null,null,null,{"$f":"'Bare'' List'!$R$7","v":1044},null,null,null,{"$f":"'Bare'' List'!$V$7","v":1108},null,null,null,null,null,null,null,null,null,null,null,null,{"$f":"AH17","v":"Pawel Nalecz-Nieniewski"},null,null,null,"RCSI",{"$f":"Tables!DS49","v":"Rashed Alfuzaie"}]
[null,7,{"$f":"'Bare'' List'!$B$8","v":"GMITC"},null,{"$f":"'Bare'' List'!$C$8","v":306},{"$f":"'Bare'' List'!$D$8","v":283},{"$f":"'Bare'' List'!$E$8","v":255},null,{"$f":"'Bare'' List'!$G$8","v":0},{"$f":"'Bare'' List'!$H$8","v":0},{"$f":"'Bare'' List'!$I$8","v":0},null,{"$f":"'Bare'' List'!$K$8","v":274},{"$f":"'Bare'' List'!$L$8","v":167},{"$f":"'Bare'' List'!$M$8","v":77},null,{"$f":"'Bare'' List'!$O$8","v":353},{"$f":"'Bare'' List'!$P$8","v":267},{"$f":"'Bare'' List'!$Q$8","v":211},null,{"$f":"'Bare'' List'!$S$8","v":321},{"$f":"'Bare'' List'!$T$8","v":318},{"$f":"'Bare'' List'!$U$8","v":291},null,{"$f":"'Bare'' List'!$AB$8","v":3123},{"$f":"'Bare'' List'!$AC$8","v":0},{"$f":"'Bare'' List'!$AD$8","v":3123.0930084399997},null,null,null,null,null,null,{"$f":"VLOOKUP($C19,$AL$8:$AM$24,2,0)","v":"Andrew Warrington"},null,null,null,"UCC",{"$f":"Tables!ED49","v":"Maorgain Siede"}]
[null,null,null,null,{"$f":"'Bare'' List'!$F$8","v":844},null,null,null,{"$f":"'Bare'' List'!$J$8","v":0},null,null,null,{"$f":"'Bare'' List'!$N$8","v":518},null,null,null,{"$f":"'Bare'' List'!$R$8","v":831},null,null,null,{"$f":"'Bare'' List'!$V$8","v":930},null,null,null,null,null,null,null,null,null,null,null,null,{"$f":"AH19","v":"Andrew Warrington"},null,null,null,"UCD",{"$f":"Tables!EO49","v":"Blair Flinn"}]
[null,8,{"$f":"'Bare'' List'!$B$9","v":"DUAC"},null,{"$f":"'Bare'' List'!$C$9","v":0},{"$f":"'Bare'' List'!$D$9","v":0},{"$f":"'Bare'' List'!$E$9","v":0},null,{"$f":"'Bare'' List'!$G$9","v":284},{"$f":"'Bare'' List'!$H$9","v":282},{"$f":"'Bare'' List'!$I$9","v":144},null,{"$f":"'Bare'' List'!$K$9","v":308},{"$f":"'Bare'' List'!$L$9","v":253},{"$f":"'Bare'' List'!$M$9","v":42},null,{"$f":"'Bare'' List'!$O$9","v":152},{"$f":"'Bare'' List'!$P$9","v":0},{"$f":"'Bare'' List'!$Q$9","v":0},null,{"$f":"'Bare'' List'!$S$9","v":319},{"$f":"'Bare'' List'!$T$9","v":267},{"$f":"'Bare'' List'!$U$9","v":248},null,{"$f":"'Bare'' List'!$AB$9","v":2299},{"$f":"'Bare'' List'!$AC$9","v":0},{"$f":"'Bare'' List'!$AD$9","v":2299.0834070999999},null,null,null,null,null,null,{"$f":"VLOOKUP($C21,$AL$8:$AM$24,2,0)","v":"Cormac Begley"},null,null,null,"UL",{"$f":"Tables!EZ49","v":0}]
[null,null,null,null,{"$f":"'Bare'' List'!$F$9","v":0},null,null,null,{"$f":"'Bare'' List'!$J$9","v":710},null,null,null,{"$f":"'Bare'' List'!$N$9","v":603},null,null,null,{"$f":"'Bare'' List'!$R$9","v":152},null,null,null,{"$f":"'Bare'' List'!$V$9","v":834},null,null,null,null,null,null,null,null,null,null,null,null,{"$f":"AH21","v":"Cormac Begley"},null,null,null,"UU",{"$f":"Tables!FK49","v":"Theo De Groot"}]
[null,9,{"$f":"'Bare'' List'!$B$10","v":"UCD"},null,{"$f":"'Bare'' List'!$C$10","v":534},{"$f":"'Bare'' List'!$D$10","v":242},{"$f":"'Bare'' List'!$E$10","v":0},null,{"$f":"'Bare'' List'!$G$10","v":0},{"$f":"'Bare'' List'!$H$10","v":0},{"$f":"'Bare'' List'!$I$10","v":0},null,{"$f":"'Bare'' List'!$K$10","v":0},{"$f":"'Bare'' List'!$L$10","v":0},{"$f":"'Bare'' List'!$M$10","v":0},null,{"$f":"'Bare'' List'!$O$10","v":299},{"$f":"'Bare'' List'!$P$10","v":157},{"$f":"'Bare'' List'!$Q$10","v":0},null,{"$f":"'Bare'' List'!$S$10","v":398},{"$f":"'Bare'' List'!$T$10","v":0},{"$f":"'Bare'' List'!$U$10","v":0},null,{"$f":"'Bare'' List'!$AB$10","v":1630},{"$f":"'Bare'' List'!$AC$10","v":0},{"$f":"'Bare'' List'!$AD$10","v":1630.0776045600001},null,null,null,null,null,null,{"$f":"VLOOKUP($C23,$AL$8:$AM$24,2,0)","v":"Blair Flinn"},null,null,null,"WIT",{"$f":"Tables!FV49","v":0}]
[null,null,null,null,{"$f":"'Bare'' List'!$F$10","v":776},null,null,null,{"$f":"'Bare'' List'!$J$10","v":0},null,null,null,{"$f":"'Bare'' List'!$N$10","v":0},null,null,null,{"$f":"'Bare'' List'!$R$10","v":456},null,null,null,{"$f":"'Bare'' List'!$V$10","v":398},null,null,null,null,null,null,null,null,null,null,null,null,{"$f":"AH23","v":"Blair Flinn"},null,null,null,"AAA",{"$f":"Tables!GG49","v":0}]
[null,10,{"$f":"'Bare'' List'!$B$11","v":"UCC"},null,{"$f":"'Bare'' List'!$C$11","v":0},{"$f":"'Bare'' List'!$D$11","v":0},{"$f":"'Bare'' List'!$E$11","v":0},null,{"$f":"'Bare'' List'!$G$11","v":0},{"$f":"'Bare'' List'!$H$11","v":0},{"$f":"'Bare'' List'!$I$11","v":0},null,{"$f":"'Bare'' List'!$K$11","v":232},{"$f":"'Bare'' List'!$L$11","v":0},{"$f":"'Bare'' List'!$M$11","v":0},null,{"$f":"'Bare'' List'!$O$11","v":0},{"$f":"'Bare'' List'!$P$11","v":0},{"$f":"'Bare'' List'!$Q$11","v":0},null,{"$f":"'Bare'' List'!$S$11","v":289},{"$f":"'Bare'' List'!$T$11","v":202},{"$f":"'Bare'' List'!$U$11","v":0},null,{"$f":"'Bare'' List'!$AB$11","v":723},{"$f":"'Bare'' List'!$AC$11","v":0},{"$f":"'Bare'' List'!$AD$11","v":723.04910231999997},null,null,null,null,null,null,{"$f":"VLOOKUP($C25,$AL$8:$AM$24,2,0)","v":"Maorgain Siede"},null,null,null,"BBB",{"$f":"Tables!GR49","v":0}]
[null,null,null,null,{"$f":"'Bare'' List'!$F$11","v":0},null,null,null,{"$f":"'Bare'' List'!$J$11","v":0},null,null,null,{"$f":"'Bare'' List'!$N$11","v":232},null,null,null,{"$f":"'Bare'' List'!$R$11","v":0},null,null,null,{"$f":"'Bare'' List'!$V$11","v":491},null,null,null,null,null,null,null,null,null,null,null,null,{"$f":"AH25","v":"Maorgain Siede"},null,null,null,"CCC",{"$f":"Tables!HC49","v":0}]
[null,11,{"$f":"'Bare'' List'!$B$12","v":"UU"},null,{"$f":"'Bare'' List'!$C$12","v":0},{"$f":"'Bare'' List'!$D$12","v":0},{"$f":"'Bare'' List'!$E$12","v":0},null,{"$f":"'Bare'' List'!$G$12","v":0},{"$f":"'Bare'' List'!$H$12","v":0},{"$f":"'Bare'' List'!$I$12","v":0},null,{"$f":"'Bare'' List'!$K$12","v":0},{"$f":"'Bare'' List'!$L$12","v":0},{"$f":"'Bare'' List'!$M$12","v":0},null,{"$f":"'Bare'' List'!$O$12","v":351},{"$f":"'Bare'' List'!$P$12","v":0},{"$f":"'Bare'' List'!$Q$12","v":0},null,{"$f":"'Bare'' List'!$S$12","v":279},{"$f":"'Bare'' List'!$T$12","v":0},{"$f":"'Bare'' List'!$U$12","v":0},null,{"$f":"'Bare'' List'!$AB$12","v":630},{"$f":"'Bare'' List'!$AC$12","v":0},{"$f":"'Bare'' List'!$AD$12","v":630.03510279000011},null,null,null,null,null,null,{"$f":"VLOOKUP($C27,$AL$8:$AM$24,2,0)","v":"Theo De Groot"},null,null,null,"DDD",{"$f":"Tables!HN49","v":0}]
[null,null,null,null,{"$f":"'Bare'' List'!$F$12","v":0},null,null,null,{"$f":"'Bare'' List'!$J$12","v":0},null,null,null,{"$f":"'Bare'' List'!$N$12","v":0},null,null,null,{"$f":"'Bare'' List'!$R$12","v":351},null,null,null,{"$f":"'Bare'' List'!$V$12","v":279},null,null,null,null,null,null,null,null,null,null,null,null,{"$f":"AH27","v":"Theo De Groot"},null,null,null,"EEE",{"$f":"Tables!HY49","v":0}]
[null,12,{"$f":"'Bare'' List'!$B$13","v":"RCSI"},null,{"$f":"'Bare'' List'!$C$13","v":0},{"$f":"'Bare'' List'!$D$13","v":0},{"$f":"'Bare'' List'!$E$13","v":0},null,{"$f":"'Bare'' List'!$G$13","v":0},{"$f":"'Bare'' List'!$H$13","v":0},{"$f":"'Bare'' List'!$I$13","v":0},null,{"$f":"'Bare'' List'!$K$13","v":326},{"$f":"'Bare'' List'!$L$13","v":166},{"$f":"'Bare'' List'!$M$13","v":0},null,{"$f":"'Bare'' List'!$O$13","v":0},{"$f":"'Bare'' List'!$P$13","v":0},{"$f":"'Bare'' List'!$Q$13","v":0},null,{"$f":"'Bare'' List'!$S$13","v":0},{"$f":"'Bare'' List'!$T$13","v":0},{"$f":"'Bare'' List'!$U$13","v":0},null,{"$f":"'Bare'' List'!$AB$13","v":492},{"$f":"'Bare'' List'!$AC$13","v":0},{"$f":"'Bare'' List'!$AD$13","v":492.04919999999998},null,null,null,null,null,null,{"$f":"VLOOKUP($C29,$AL$8:$AM$24,2,0)","v":"Rashed Alfuzaie"}]
[null,null,null,null,{"$f":"'Bare'' List'!$F$13","v":0},null,null,null,{"$f":"'Bare'' List'!$J$13","v":0},null,null,null,{"$f":"'Bare'' List'!$N$13","v":492},null,null,null,{"$f":"'Bare'' List'!$R$13","v":0},null,null,null,{"$f":"'Bare'' List'!$V$13","v":0},null,null,null,null,null,null,null,null,null,null,null,null,{"$f":"AH29","v":"Rashed Alfuzaie"}]
[null,13,{"$f":"'Bare'' List'!$B$14","v":"NCAD"},null,{"$f":"'Bare'' List'!$C$14","v":0},{"$f":"'Bare'' List'!$D$14","v":0},{"$f":"'Bare'' List'!$E$14","v":0},null,{"$f":"'Bare'' List'!$G$14","v":0},{"$f":"'Bare'' List'!$H$14","v":0},{"$f":"'Bare'' List'!$I$14","v":0},null,{"$f":"'Bare'' List'!$K$14","v":0},{"$f":"'Bare'' List'!$L$14","v":0},{"$f":"'Bare'' List'!$M$14","v":0},null,{"$f":"'Bare'' List'!$O$14","v":0},{"$f":"'Bare'' List'!$P$14","v":0},{"$f":"'Bare'' List'!$Q$14","v":0},null,{"$f":"'Bare'' List'!$S$14","v":0},{"$f":"'Bare'' List'!$T$14","v":0},{"$f":"'Bare'' List'!$U$14","v":0},null,{"$f":"'Bare'' List'!$AB$14","v":0},{"$f":"'Bare'' List'!$AC$14","v":0},{"$f":"'Bare'' List'!$AD$14","v":0},null,null,null,null,null,null,{"$f":"VLOOKUP($C31,$AL$8:$AM$24,2,0)","v":0}]
[null,null,null,null,{"$f":"'Bare'' List'!$F$14","v":0},null,null,null,{"$f":"'Bare'' List'!$J$14","v":0},null,null,null,{"$f":"'Bare'' List'!$N$14","v":0},null,null,null,{"$f":"'Bare'' List'!$R$14","v":0},null,null,null,{"$f":"'Bare'' List'!$V$14","v":0},null,null,null,null,null,null,null,null,null,null,null,null,{"$f":"AH31","v":0}]
[null,14,{"$f":"'Bare'' List'!$B$15","v":"UL"},null,{"$f":"'Bare'' List'!$C$15","v":0},{"$f":"'Bare'' List'!$D$15","v":0},{"$f":"'Bare'' List'!$E$15","v":0},null,{"$f":"'Bare'' List'!$G$15","v":0},{"$f":"'Bare'' List'!$H$15","v":0},{"$f":"'Bare'' List'!$I$15","v":0},null,{"$f":"'Bare'' List'!$K$15","v":0},{"$f":"'Bare'' List'!$L$15","v":0},{"$f":"'Bare'' List'!$M$15","v":0},null,{"$f":"'Bare'' List'!$O$15","v":0},{"$f":"'Bare'' List'!$P$15","v":0},{"$f":"'Bare'' List'!$Q$15","v":0},null,{"$f":"'Bare'' List'!$S$15","v":0},{"$f":"'Bare'' List'!$T$15","v":0},{"$f":"'Bare'' List'!$U$15","v":0},null,{"$f":"'Bare'' List'!$AB$15","v":0},{"$f":"'Bare'' List'!$AC$15","v":0},{"$f":"'Bare'' List'!$AD$15","v":0},null,null,null,null,null,null,{"$f":"VLOOKUP($C33,$AL$8:$AM$24,2,0)","v":0}]
[null,null,null,null,{"$f":"'Bare'' List'!$F$15","v":0},null,null,null,{"$f":"'Bare'' List'!$J$15","v":0},null,null,null,{"$f":"'Bare'' List'!$N$15","v":0},null,null,null,{"$f":"'Bare'' List'!$R$15","v":0},null,null,null,{"$f":"'Bare'' List'!$V$15","v":0},null,null,null,null,null,null,null,null,null,null,null,null,{"$f":"AH33","v":0}]
[null,15,{"$f":"'Bare'' List'!$B$16","v":"DIT"},null,{"$f":"'Bare'' List'!$C$16","v":0},{"$f":"'Bare'' List'!$D$16","v":0},{"$f":"'Bare'' List'!$E$16","v":0},null,{"$f":"'Bare'' List'!$G$16","v":0},{"$f":"'Bare'' List'!$H$16","v":0},{"$f":"'Bare'' List'!$I$16","v":0},null,{"$f":"'Bare'' List'!$K$16","v":0},{"$f":"'Bare'' List'!$L$16","v":0},{"$f":"'Bare'' List'!$M$16","v":0},null,{"$f":"'Bare'' List'!$O$16","v":0},{"$f":"'Bare'' List'!$P$16","v":0},{"$f":"'Bare'' List'!$Q$16","v":0},null,{"$f":"'Bare'' List'!$S$16","v":0},{"$f":"'Bare'' List'!$T$16","v":0},{"$f":"'Bare'' List'!$U$16","v":0},null,{"$f":"'Bare'' List'!$AB$16","v":0},{"$f":"'Bare'' List'!$AC$16","v":0},{"$f":"'Bare'' List'!$AD$16","v":0},null,null,null,null,null,null,{"$f":"VLOOKUP($C35,$AL$8:$AM$24,2,0)","v":0}]
[null,null,null,null,{"$f":"'Bare'' List'!$F$16","v":0},null,null,null,{"$f":"'Bare'' List'!$J$16","v":0},null,null,null,{"$f":"'Bare'' List'!$N$16","v":0},null,null,null,{"$f":"'Bare'' List'!$R$16","v":0},null,null,null,{"$f":"'Bare'' List'!$V$16","v":0},null,null,null,null,null,null,null,null,null,null,null,null,{"$f":"AH35","v":0}]
[null,16,{"$f":"'Bare'' List'!$B$17","v":"DKIT"},null,{"$f":"'Bare'' List'!$C$17","v":0},{"$f":"'Bare'' List'!$D$17","v":0},{"$f":"'Bare'' List'!$E$17","v":0},null,{"$f":"'Bare'' List'!$G$17","v":0},{"$f":"'Bare'' List'!$H$17","v":0},{"$f":"'Bare'' List'!$I$17","v":0},null,{"$f":"'Bare'' List'!$K$17","v":0},{"$f":"'Bare'' List'!$L$17","v":0},{"$f":"'Bare'' List'!$M$17","v":0},null,{"$f":"'Bare'' List'!$O$17","v":0},{"$f":"'Bare'' List'!$P$17","v":0},{"$f":"'Bare'' List'!$Q$17","v":0},null,{"$f":"'Bare'' List'!$S$17","v":0},{"$f":"'Bare'' List'!$T$17","v":0},{"$f":"'Bare'' List'!$U$17","v":0},null,{"$f":"'Bare'' List'!$AB$17","v":0},{"$f":"'Bare'' List'!$AC$17","v":0},{"$f":"'Bare'' List'!$AD$17","v":0},null,null,null,null,null,null,{"$f":"VLOOKUP($C37,$AL$8:$AM$24,2,0)","v":0}]
[null,null,null,null,{"$f":"'Bare'' List'!$F$17","v":0},null,null,null,{"$f":"'Bare'' List'!$J$17","v":0},null,null,null,{"$f":"'Bare'' List'!$N$17","v":0},null,null,null,{"$f":"'Bare'' List'!$R$17","v":0},null,null,null,{"$f":"'Bare'' List'!$V$17","v":0},null,null,null,null,null,null,null,null,null,null,null,null,{"$f":"AH37","v":0}]
[null,17,{"$f":"'Bare'' List'!$B$18","v":"AAA"},null,{"$f":"'Bare'' List'!$C$18","v":0},{"$f":"'Bare'' List'!$D$18","v":0},{"$f":"'Bare'' List'!$E$18","v":0},null,{"$f":"'Bare'' List'!$G$18","v":0},{"$f":"'Bare'' List'!$H$18","v":0},{"$f":"'Bare'' List'!$I$18","v":0},null,{"$f":"'Bare'' List'!$K$18","v":0},{"$f":"'Bare'' List'!$L$18","v":0},{"$f":"'Bare'' List'!$M$18","v":0},null,{"$f":"'Bare'' List'!$O$18","v":0},{"$f":"'Bare'' List'!$P$18","v":0},{"$f":"'Bare'' List'!$Q$18","v":0},null,{"$f":"'Bare'' List'!$S$18","v":0},{"$f":"'Bare'' List'!$T$18","v":0},{"$f":"'Bare'' List'!$U$18","v":0},null,{"$f":"'Bare'' List'!$AB$18","v":0},{"$f":"'Bare'' List'!$AC$18","v":0},{"$f":"'Bare'' List'!$AD$18","v":0},null,null,null,null,null,null,{"$f":"VLOOKUP($C39,$AL$8:$AM$24,2,0)","v":0}]
[null,null,null,null,{"$f":"'Bare'' List'!$F$18","v":0},null,null,null,{"$f":"'Bare'' List'!$J$18","v":0},null,null,null,{"$f":"'Bare'' List'!$N$18","v":0},null,null,null,{"$f":"'Bare'' List'!$R$18","v":0},null,null,null,{"$f":"'Bare'' List'!$V$18","v":0},null,null,null,null,null,null,null,null,null,null,null,null,{"$f":"AH39","v":0}]
[null,18,{"$f":"'Bare'' List'!$B$19","v":"BBB"},null,{"$f":"'Bare'' List'!$C$19","v":0},{"$f":"'Bare'' List'!$D$19","v":0},{"$f":"'Bare'' List'!$E$19","v":0},null,{"$f":"'Bare'' List'!$G$19","v":0},{"$f":"'Bare'' List'!$H$19","v":0},{"$f":"'Bare'' List'!$I$19","v":0},null,{"$f":"'Bare'' List'!$K$19","v":0},{"$f":"'Bare'' List'!$L$19","v":0},{"$f":"'Bare'' List'!$M$19","v":0},null,{"$f":"'Bare'' List'!$O$19","v":0},{"$f":"'Bare'' List'!$P$19","v":0},{"$f":"'Bare'' List'!$Q$19","v":0},null,{"$f":"'Bare'' List'!$S$19","v":0},{"$f":"'Bare'' List'!$T$19","v":0},{"$f":"'Bare'' List'!$U$19","v":0},null,{"$f":"'Bare'' List'!$AB$19","v":0},{"$f":"'Bare'' List'!$AC$19","v":0},{"$f":"'Bare'' List'!$AD$19","v":0},null,null,null,null,null,null,{"$f":"VLOOKUP($C41,$AL$8:$AM$24,2,0)","v":{"$error":"#N/A"}}]
[null,null,null,null,{"$f":"'Bare'' List'!$F$19","v":0},null,null,null,{"$f":"'Bare'' List'!$J$19","v":0},null,null,null,{"$f":"'Bare'' List'!$N$19","v":0},null,null,null,{"$f":"'Bare'' List'!$R$19","v":0},null,null,null,{"$f":"'Bare'' List'!$V$19","v":0},null,null,null,null,null,null,null,null,null,null,null,null,{"$f":"AH41","v":{"$error":"#N/A"}}]
[null,19,{"$f":"'Bare'' List'!$B$20","v":"CCC"},null,{"$f":"'Bare'' List'!$C$20","v":0},{"$f":"'Bare'' List'!$D$20","v":0},{"$f":"'Bare'' List'!$E$20","v":0},null,{"$f":"'Bare'' List'!$G$20","v":0},{"$f":"'Bare'' List'!$H$20","v":0},{"$f":"'Bare'' List'!$I$20","v":0},null,{"$f":"'Bare'' List'!$K$20","v":0},{"$f":"'Bare'' List'!$L$20","v":0},{"$f":"'Bare'' List'!$M$20","v":0},null,{"$f":"'Bare'' List'!$O$20","v":0},{"$f":"'Bare'' List'!$P$20","v":0},{"$f":"'Bare'' List'!$Q$20","v":0},null,{"$f":"'Bare'' List'!$S$20","v":0},{"$f":"'Bare'' List'!$T$20","v":0},{"$f":"'Bare'' List'!$U$20","v":0},null,{"$f":"'Bare'' List'!$AB$20","v":0},{"$f":"'Bare'' List'!$AC$20","v":0},{"$f":"'Bare'' List'!$AD$20","v":0},null,null,null,null,null,null,{"$f":"VLOOKUP($C43,$AL$8:$AM$24,2,0)","v":{"$error":"#N/A"}}]
[null,null,null,null,{"$f":"'Bare'' List'!$F$20","v":0},null,null,null,{"$f":"'Bare'' List'!$J$20","v":0},null,null,null,{"$f":"'Bare'' List'!$N$20","v":0},null,null,20,{"$f":"'Bare'' List'!$R$20","v":0},null,null,null,{"$f":"'Bare'' List'!$V$20","v":0},null,null,null,null,null,null,null,null,null,null,null,null,{"$f":"AH43","v":{"$error":"#N/A"}}]
[null,20,{"$f":"'Bare'' List'!$B$21","v":"DDD"},null,{"$f":"'Bare'' List'!$C$21","v":0},{"$f":"'Bare'' List'!$D$21","v":0},{"$f":"'Bare'' List'!$E$21","v":0},null,{"$f":"'Bare'' List'!$G$21","v":0},{"$f":"'Bare'' List'!$H$21","v":0},{"$f":"'Bare'' List'!$I$21","v":0},null,{"$f":"'Bare'' List'!$K$21","v":0},{"$f":"'Bare'' List'!$L$21","v":0},{"$f":"'Bare'' List'!$M$21","v":0},null,{"$f":"'Bare'' List'!$O$21","v":0},{"$f":"'Bare'' List'!$P$21","v":0},{"$f":"'Bare'' List'!$Q$21","v":0},null,{"$f":"'Bare'' List'!$S$21","v":0},{"$f":"'Bare'' List'!$T$21","v":0},{"$f":"'Bare'' List'!$U$21","v":0},null,{"$f":"'Bare'' List'!$AB$21","v":0},{"$f":"'Bare'' List'!$AC$21","v":0},{"$f":"'Bare'' List'!$AD$21","v":0},null,null,null,null,null,null,{"$f":"VLOOKUP($C45,$AL$8:$AM$24,2,0)","v":{"$error":"#N/A"}}]
[null,null,null,null,{"$f":"'Bare'' List'!$F$21","v":0},null,null,null,{"$f":"'Bare'' List'!$J$21","v":0},null,null,null,{"$f":"'Bare'' List'!$N$21","v":0},null,null,null,{"$f":"'Bare'' List'!$R$21","v":0},null,null,null,{"$f":"'Bare'' List'!$V$21","v":0},null,null,null,null,null,null,null,null,null,null,null,null,{"$f":"AH45","v":{"$error":"#N/A"}}]
[null,21,{"$f":"'Bare'' List'!$B$22","v":"EEE"},null,{"$f":"'Bare'' List'!$C$22","v":0},{"$f":"'Bare'' List'!$D$22","v":0},{"$f":"'Bare'' List'!$E$22","v":0},null,{"$f":"'Bare'' List'!$G$22","v":0},{"$f":"'Bare'' List'!$H$22","v":0},{"$f":"'Bare'' List'!$I$22","v":0},null,{"$f":"'Bare'' List'!$K$22","v":0},{"$f":"'Bare'' List'!$L$22","v":0},{"$f":"'Bare'' List'!$M$22","v":0},null,{"$f":"'Bare'' List'!$O$22","v":0},{"$f":"'Bare'' List'!$P$22","v":0},{"$f":"'Bare'' List'!$Q$22","v":0},null,{"$f":"'Bare'' List'!$S$22","v":0},{"$f":"'Bare'' List'!$T$22","v":0},{"$f":"'Bare'' List'!$U$22","v":0},null,{"$f":"'Bare'' List'!$AB$22","v":0},{"$f":"'Bare'' List'!$AC$22","v":0},{"$f":"'Bare'' List'!$AD$22","v":0},null,null,null,null,null,null,{"$f":"VLOOKUP($C47,$AL$8:$AM$24,2,0)","v":{"$error":"#N/A"}}]
[null,null,null,null,{"$f":"'Bare'' List'!$F$22","v":0},null,null,null,{"$f":"'Bare'' List'!$J$22","v":0},null,null,null,{"$f":"'Bare'' List'!$N$22","v":0},null,null,null,{"$f":"'Bare'' List'!$R$22","v":0},null,null,null,{"$f":"'Bare'' List'!$V$22","v":0},null,null,null,null,null,null,null,null,null,null,null,null,{"$f":"AH47","v":{"$error":"#N/A"}}]
[null,22,{"$f":"'Bare'' List'!$B$23","v":"WIT"},null,{"$f":"'Bare'' List'!$C$23","v":0},{"$f":"'Bare'' List'!$D$23","v":0},{"$f":"'Bare'' List'!$E$23","v":0},null,{"$f":"'Bare'' List'!$G$23","v":0},{"$f":"'Bare'' List'!$H$23","v":0},{"$f":"'Bare'' List'!$I$23","v":0},null,{"$f":"'Bare'' List'!$K$23","v":0},{"$f":"'Bare'' List'!$L$23","v":0},{"$f":"'Bare'' List'!$M$23","v":0},null,{"$f":"'Bare'' List'!$O$23","v":0},{"$f":"'Bare'' List'!$P$23","v":0},{"$f":"'Bare'' List'!$Q$23","v":0},null,{"$f":"'Bare'' List'!$S$23","v":0},{"$f":"'Bare'' List'!$T$23","v":0},{"$f":"'Bare'' List'!$U$23","v":0},null,{"$f":"'Bare'' List'!$AB$23","v":0},{"$f":"'Bare'' List'!$AC$23","v":0},{"$f":"'Bare'' List'!$AD$23","v":-0.7},null,null,null,null,null,null,{"$f":"VLOOKUP($C49,$AL$8:$AM$24,2,0)","v":0}]
[null,null,null,null,{"$f":"'Bare'' List'!$F$23","v":0},null,null,null,{"$f":"'Bare'' List'!$J$23","v":0},null,null,null,{"$f":"'Bare'' List'!$N$23","v":0},null,null,null,{"$f":"'Bare'' List'!$R$23","v":0},null,null,null,{"$f":"'Bare'' List'!$V$23","v":0},null,null,null,null,null,null,null,null,null,null,null,null,{"$f":"AH49","v":0}]
[{"$f":"$C$7","v":"DCU"}]

{"sheet":"Com' Team","index":21,"n_rows":51,"n_cols":39,"rows_kept":51,"cut":false,"hidden":false,"merged":[[1,27,50,27],[50,1,50,26],[1,0,50,0],[0,0,0,27],[48,1,49,1],[48,2,49,2],[48,24,49,24],[48,25,49,25],[48,26,49,26],[49,4,49,6],[49,8,49,10],[49,12,49,14],[49,16,49,18],[49,20,49,22],[1,3,49,3],[1,23,49,23],[46,1,47,1],[46,2,47,2],[46,24,47,24],[46,25,47,25],[46,26,47,26],[47,4,47,6],[47,8,47,10],[47,12,47,14],[47,16,47,18],[47,20,47,22],[44,1,45,1],[44,2,45,2],[44,24,45,24],[44,25,45,25],[44,26,45,26],[45,4,45,6],[45,8,45,10],[45,12,45,14],[45,16,45,18],[45,20,45,22],[42,1,43,1],[42,2,43,2],[42,24,43,24],[42,25,43,25],[42,26,43,26],[43,4,43,6],[43,8,43,10],[43,12,43,14],[43,16,43,18],[43,20,43,22],[40,1,41,1],[40,2,41,2],[40,24,41,24],[40,25,41,25],[40,26,41,26],[41,4,41,6],[41,8,41,10],[41,12,41,14],[41,16,41,18],[41,20,41,22],[4,1,4,2],[6,1,7,1],[6,2,7,2],[1,1,3,2],[6,24,7,24],[6,25,7,25],[6,26,7,26],[7,4,7,6],[7,8,7,10],[7,12,7,14],[7,16,7,18],[7,20,7,22],[1,4,4,22],[1,24,4,24],[1,25,4,25],[1,26,4,26],[5,24,5,26],[5,4,5,22],[5,1,5,2],[10,1,11,1],[10,2,11,2],[11,4,11,6],[11,8,11,10],[11,12,11,14],[8,1,9,1],[8,2,9,2],[8,24,9,24],[8,25,9,25],[9,4,9,6],[9,8,9,10],[9,12,9,14],[14,1,15,1],[14,2,15,2],[15,4,15,6],[15,8,15,10],[15,12,15,14],[12,1,13,1],[12,2,13,2],[12,24,13,24],[12,25,13,25],[13,4,13,6],[13,8,13,10],[13,12,13,14],[13,16,13,18],[13,20,13,22],[14,24,15,24],[14,25,15,25],[18,1,19,1],[18,2,19,2],[19,4,19,6],[19,8,19,10],[19,12,19,14],[16,1,17,1],[16,2,17,2],[16,24,17,24],[16,25,17,25],[17,4,17,6],[17,8,17,10],[17,12,17,14],[22,1,23,1],[22,2,23,2],[23,4,23,6],[23,8,23,10],[23,12,23,14],[20,1,21,1],[20,2,21,2],[20,24,21,24],[20,25,21,25],[21,4,21,6],[21,8,21,10],[21,12,21,14],[21,16,21,18],[21,20,21,22],[22,24,23,24],[22,25,23,25],[26,1,27,1],[26,2,27,2],[27,4,27,6],[27,8,27,10],[27,12,27,14],[24,1,25,1],[24,2,25,2],[24,24,25,24],[24,25,25,25],[25,4,25,6],[25,8,25,10],[25,12,25,14],[30,1,31,1],[30,2,31,2],[31,4,31,6],[31,8,31,10],[31,12,31,14],[28,1,29,1],[28,2,29,2],[28,24,29,24],[28,25,29,25],[29,4,29,6],[29,8,29,10],[29,12,29,14],[29,16,29,18],[29,20,29,22],[30,24,31,24],[30,25,31,25],[34,1,35,1],[34,2,35,2],[35,4,35,6],[35,8,35,10],[35,12,35,14],[32,1,33,1],[32,2,33,2],[32,24,33,24],[32,25,33,25],[33,4,33,6],[33,8,33,10],[33,12,33,14],[38,1,39,1],[38,2,39,2],[39,4,39,6],[39,8,39,10],[39,12,39,14],[36,1,37,1],[36,2,37,2],[36,24,37,24],[36,25,37,25],[37,4,37,6],[37,8,37,10],[37,12,37,14],[37,16,37,18],[37,20,37,22],[38,24,39,24],[38,25,39,25],[14,26,15,26],[15,16,15,18],[15,20,15,22],[9,16,9,18],[9,20,9,22],[10,24,11,24],[10,25,11,25],[10,26,11,26],[11,16,11,18],[11,20,11,22],[12,26,13,26],[8,26,9,26],[22,26,23,26],[23,16,23,18],[23,20,23,22],[17,16,17,18],[17,20,17,22],[18,24,19,24],[18,25,19,25],[18,26,19,26],[19,16,19,18],[19,20,19,22],[20,26,21,26],[16,26,17,26],[30,26,31,26],[31,16,31,18],[31,20,31,22],[25,16,25,18],[25,20,25,22],[26,24,27,24],[26,25,27,25],[26,26,27,26],[27,16,27,18],[27,20,27,22],[28,26,29,26],[24,26,25,26],[38,26,39,26],[39,16,39,18],[39,20,39,22],[33,16,33,18],[33,20,33,22],[34,24,35,24],[34,25,35,25],[34,26,35,26],[35,16,35,18],[35,20,35,22],[36,26,37,26],[32,26,33,26]]}
[{"$f":"$C$7","v":"DCU"}]
[{"$f":"$C$7","v":"DCU"},"Compound Team",null,{"$f":"$C$7","v":"DCU"},null,null,null,null,null,null,null,null,null,null,null,null,null,null,null,null,null,null,null,"DCU","Total","Lowest","League","DCU",null,null,null,null,null,{"$f":"AH7","v":"Cillian Byrne"}]
[]
[]
[]
[null,"DCU",null,null,"DCU",null,null,null,null,null,null,null,null,null,null,null,null,null,null,null,null,null,null,null,{"$f":"$C$7","v":"DCU"}]
[null,1,{"$f":"'Com'' List'!$B$2","v":"DCU"},null,{"$f":"'Com'' List'!$C$2","v":544},{"$f":"'Com'' List'!$D$2","v":494},{"$f":"'Com'' List'!$E$2","v":361},null,{"$f":"'Com'' List'!$G$2","v":547},{"$f":"'Com'' List'!$H$2","v":517},{"$f":"'Com'' List'!$I$2","v":516},null,{"$f":"'Com'' List'!$K$2","v":539},{"$f":"'Com'' List'!$L$2","v":523},{"$f":"'Com'' List'!$M$2","v":497},null,{"$f":"'Com'' List'!$O$2","v":540},{"$f":"'Com'' List'!$P$2","v":526},{"$f":"'Com'' List'!$Q$2","v":520},null,{"$f":"'Com'' List'!$S$2","v":535},{"$f":"'Com'' List'!$T$2","v":517},{"$f":"'Com'' List'!$U$2","v":506},null,{"$f":"'Com'' List'!$AB$2","v":7682},{"$f":"'Com'' List'!$AC$2","v":1399},{"$f":"'Com'' List'!$AD$2","v":6283.1586158},null,null,null,null,null,null,{"$f":"VLOOKUP($C7,$AL$7:$AM$24,2,0)","v":"Cillian Byrne"},null,null,null,"DCU",{"$f":"Tables!B92","v":"Cillian Byrne"}]
[null,null,null,null,{"$f":"'Com'' List'!$F$2","v":1399},null,null,null,{"$f":"'Com'' List'!$J$2","v":1580},null,null,null,{"$f":"'Com'' List'!$N$2","v":1559},null,null,null,{"$f":"'Com'' List'!$R$2","v":1586},null,null,null,{"$f":"'Com'' List'!$V$2","v":1558},null,null,null,null,null,null,null,null,null,null,null,null,{"$f":"AH7","v":"Cillian Byrne"},null,null,null,"DIT",{"$f":"Tables!M92","v":0}]
[null,2,{"$f":"'Com'' List'!$B$3","v":"NUIG"},null,{"$f":"'Com'' List'!$C$3","v":565},{"$f":"'Com'' List'!$D$3","v":529},{"$f":"'Com'' List'!$E$3","v":380},null,{"$f":"'Com'' List'!$G$3","v":549},{"$f":"'Com'' List'!$H$3","v":541},{"$f":"'Com'' List'!$I$3","v":0},null,{"$f":"'Com'' List'!$K$3","v":560},{"$f":"'Com'' List'!$L$3","v":538},{"$f":"'Com'' List'!$M$3","v":405},null,{"$f":"'Com'' List'!$O$3","v":543},{"$f":"'Com'' List'!$P$3","v":430},{"$f":"'Com'' List'!$Q$3","v":0},null,{"$f":"'Com'' List'!$S$3","v":561},{"$f":"'Com'' List'!$T$3","v":517},{"$f":"'Com'' List'!$U$3","v":495},null,{"$f":"'Com'' List'!$AB$3","v":6613},{"$f":"'Com'' List'!$AC$3","v":973},{"$f":"'Com'' List'!$AD$3","v":5640.1573150300001},null,null,null,null,null,null,{"$f":"VLOOKUP($C9,$AL$8:$AM$24,2,0)","v":"Niamh Kenny"},null,null,null,"DkIT",{"$f":"Tables!X92","v":0}]
[null,null,null,null,{"$f":"'Com'' List'!$F$3","v":1474},null,null,null,{"$f":"'Com'' List'!$J$3","v":1090},null,null,null,{"$f":"'Com'' List'!$N$3","v":1503},null,null,null,{"$f":"'Com'' List'!$R$3","v":973},null,null,null,{"$f":"'Com'' List'!$V$3","v":1573},null,null,null,null,null,null,null,null,null,null,null,null,{"$f":"AH9","v":"Niamh Kenny"},null,null,null,"DUAC",{"$f":"Tables!AI92","v":0}]
[null,3,{"$f":"'Com'' List'!$B$4","v":"GMIT"},null,{"$f":"'Com'' List'!$C$4","v":539},{"$f":"'Com'' List'!$D$4","v":532},{"$f":"'Com'' List'!$E$4","v":0},null,{"$f":"'Com'' List'!$G$4","v":548},{"$f":"'Com'' List'!$H$4","v":0},{"$f":"'Com'' List'!$I$4","v":0},null,{"$f":"'Com'' List'!$K$4","v":548},{"$f":"'Com'' List'!$L$4","v":538},{"$f":"'Com'' List'!$M$4","v":0},null,{"$f":"'Com'' List'!$O$4","v":559},{"$f":"'Com'' List'!$P$4","v":548},{"$f":"'Com'' List'!$Q$4","v":547},null,{"$f":"'Com'' List'!$S$4","v":566},{"$f":"'Com'' List'!$T$4","v":547},{"$f":"'Com'' List'!$U$4","v":542},null,{"$f":"'Com'' List'!$AB$4","v":6014},{"$f":"'Com'' List'!$AC$4","v":548},{"$f":"'Com'' List'!$AD$4","v":5466.1655165399998},null,null,null,null,null,null,{"$f":"VLOOKUP($C11,$AL$8:$AM$24,2,0)","v":"Marko Kovacevic"},null,null,null,"GMIT",{"$f":"Tables!AT92","v":"Marko Kovacevic"}]
[null,null,null,null,{"$f":"'Com'' List'!$F$4","v":1071},null,null,null,{"$f":"'Com'' List'!$J$4","v":548},null,null,null,{"$f":"'Com'' List'!$N$4","v":1086},null,null,null,{"$f":"'Com'' List'!$R$4","v":1654},null,null,null,{"$f":"'Com'' List'!$V$4","v":1655},null,null,null,null,null,null,null,null,null,null,null,null,{"$f":"AH11","v":"Marko Kovacevic"},null,null,null,"GMITC",{"$f":"Tables!BE92","v":0}]
[null,4,{"$f":"'Com'' List'!$B$5","v":"IT Tallaght"},null,{"$f":"'Com'' List'!$C$5","v":568},{"$f":"'Com'' List'!$D$5","v":0},{"$f":"'Com'' List'!$E$5","v":0},null,{"$f":"'Com'' List'!$G$5","v":564},{"$f":"'Com'' List'!$H$5","v":0},{"$f":"'Com'' List'!$I$5","v":0},null,{"$f":"'Com'' List'!$K$5","v":537},{"$f":"'Com'' List'!$L$5","v":0},{"$f":"'Com'' List'!$M$5","v":0},null,{"$f":"'Com'' List'!$O$5","v":565},{"$f":"'Com'' List'!$P$5","v":0},{"$f":"'Com'' List'!$Q$5","v":0},null,{"$f":"'Com'' List'!$S$5","v":567},{"$f":"'Com'' List'!$T$5","v":0},{"$f":"'Com'' List'!$U$5","v":0},null,{"$f":"'Com'' List'!$AB$5","v":2801},{"$f":"'Com'' List'!$AC$5","v":537},{"$f":"'Com'' List'!$AD$5","v":2264.0568056699999},null,null,null,null,null,null,{"$f":"VLOOKUP($C13,$AL$8:$AM$24,2,0)","v":"Glen Conway"},null,null,null,"ITC",{"$f":"Tables!CA92","v":0}]
[null,null,null,null,{"$f":"'Com'' List'!$F$5","v":568},null,null,null,{"$f":"'Com'' List'!$J$5","v":564},null,null,null,{"$f":"'Com'' List'!$N$5","v":537},null,null,null,{"$f":"'Com'' List'!$R$5","v":565},null,null,null,{"$f":"'Com'' List'!$V$5","v":567},null,null,null,null,null,null,null,null,null,null,null,null,{"$f":"AH13","v":"Glen Conway"},null,null,null,"IT Tallaght",{"$f":"Tables!BP92","v":"Glen Conway"}]
[null,5,{"$f":"'Com'' List'!$B$6","v":"MU"},null,{"$f":"'Com'' List'!$C$6","v":537},{"$f":"'Com'' List'!$D$6","v":0},{"$f":"'Com'' List'!$E$6","v":0},null,{"$f":"'Com'' List'!$G$6","v":0},{"$f":"'Com'' List'!$H$6","v":0},{"$f":"'Com'' List'!$I$6","v":0},null,{"$f":"'Com'' List'!$K$6","v":507},{"$f":"'Com'' List'!$L$6","v":0},{"$f":"'Com'' List'!$M$6","v":0},null,{"$f":"'Com'' List'!$O$6","v":0},{"$f":"'Com'' List'!$P$6","v":0},{"$f":"'Com'' List'!$Q$6","v":0},null,{"$f":"'Com'' List'!$S$6","v":510},{"$f":"'Com'' List'!$T$6","v":0},{"$f":"'Com'' List'!$U$6","v":0},null,{"$f":"'Com'' List'!$AB$6","v":1554},{"$f":"'Com'' List'!$AC$6","v":0},{"$f":"'Com'' List'!$AD$6","v":1554.0537050999999},null,null,null,null,null,null,{"$f":"VLOOKUP($C15,$AL$8:$AM$24,2,0)","v":"James Floyd"},null,null,null,"MU",{"$f":"Tables!CL92","v":"James Floyd"}]
[null,null,null,null,{"$f":"'Com'' List'!$F$6","v":537},null,null,null,{"$f":"'Com'' List'!$J$6","v":0},null,null,null,{"$f":"'Com'' List'!$N$6","v":507},null,null,null,{"$f":"'Com'' List'!$R$6","v":0},null,null,null,{"$f":"'Com'' List'!$V$6","v":510},null,null,null,null,null,null,null,null,null,null,null,null,{"$f":"AH15","v":"James Floyd"},null,null,null,"NCAD",{"$f":"Tables!CW92","v":0}]
[null,6,{"$f":"'Com'' List'!$B$7","v":"UL"},null,{"$f":"'Com'' List'!$C$7","v":0},{"$f":"'Com'' List'!$D$7","v":0},{"$f":"'Com'' List'!$E$7","v":0},null,{"$f":"'Com'' List'!$G$7","v":0},{"$f":"'Com'' List'!$H$7","v":0},{"$f":"'Com'' List'!$I$7","v":0},null,{"$f":"'Com'' List'!$K$7","v":520},{"$f":"'Com'' List'!$L$7","v":0},{"$f":"'Com'' List'!$M$7","v":0},null,{"$f":"'Com'' List'!$O$7","v":520},{"$f":"'Com'' List'!$P$7","v":0},{"$f":"'Com'' List'!$Q$7","v":0},null,{"$f":"'Com'' List'!$S$7","v":0},{"$f":"'Com'' List'!$T$7","v":0},{"$f":"'Com'' List'!$U$7","v":0},null,{"$f":"'Com'' List'!$AB$7","v":1040},{"$f":"'Com'' List'!$AC$7","v":0},{"$f":"'Com'' List'!$AD$7","v":1040.0520051999999},null,null,null,null,null,null,{"$f":"VLOOKUP($C17,$AL$8:$AM$24,2,0)","v":"Devon Long"},null,null,null,"NUIG",{"$f":"Tables!DH92","v":"Niamh Kenny"}]
[null,null,null,null,{"$f":"'Com'' List'!$F$7","v":0},null,null,null,{"$f":"'Com'' List'!$J$7","v":0},null,null,null,{"$f":"'Com'' List'!$N$7","v":520},null,null,null,{"$f":"'Com'' List'!$R$7","v":520},null,null,null,{"$f":"'Com'' List'!$V$7","v":0},null,null,null,null,null,null,null,null,null,null,null,null,{"$f":"AH17","v":"Devon Long"},null,null,null,"RCSI",{"$f":"Tables!DS92","v":0}]
[null,7,{"$f":"'Com'' List'!$B$8","v":"UU"},null,{"$f":"'Com'' List'!$C$8","v":0},{"$f":"'Com'' List'!$D$8","v":0},{"$f":"'Com'' List'!$E$8","v":0},null,{"$f":"'Com'' List'!$G$8","v":0},{"$f":"'Com'' List'!$H$8","v":0},{"$f":"'Com'' List'!$I$8","v":0},null,{"$f":"'Com'' List'!$K$8","v":0},{"$f":"'Com'' List'!$L$8","v":0},{"$f":"'Com'' List'!$M$8","v":0},null,{"$f":"'Com'' List'!$O$8","v":523},{"$f":"'Com'' List'!$P$8","v":261},{"$f":"'Com'' List'!$Q$8","v":0},null,{"$f":"'Com'' List'!$S$8","v":0},{"$f":"'Com'' List'!$T$8","v":0},{"$f":"'Com'' List'!$U$8","v":0},null,{"$f":"'Com'' List'!$AB$8","v":784},{"$f":"'Com'' List'!$AC$8","v":0},{"$f":"'Com'' List'!$AD$8","v":784.07839999999999},null,null,null,null,null,null,{"$f":"VLOOKUP($C19,$AL$8:$AM$24,2,0)","v":"Morgan Russell-Cowan"},null,null,null,"UCC",{"$f":"Tables!ED92","v":0}]
[null,null,null,null,{"$f":"'Com'' List'!$F$8","v":0},null,null,null,{"$f":"'Com'' List'!$J$8","v":0},null,null,null,{"$f":"'Com'' List'!$N$8","v":0},null,null,null,{"$f":"'Com'' List'!$R$8","v":784},null,null,null,{"$f":"'Com'' List'!$V$8","v":0},null,null,null,null,null,null,null,null,null,null,null,null,{"$f":"AH19","v":"Morgan Russell-Cowan"},null,null,null,"UCD",{"$f":"Tables!EO92","v":0}]
[null,8,{"$f":"'Com'' List'!$B$9","v":"DUAC"},null,{"$f":"'Com'' List'!$C$9","v":0},{"$f":"'Com'' List'!$D$9","v":0},{"$f":"'Com'' List'!$E$9","v":0},null,{"$f":"'Com'' List'!$G$9","v":0},{"$f":"'Com'' List'!$H$9","v":0},{"$f":"'Com'' List'!$I$9","v":0},null,{"$f":"'Com'' List'!$K$9","v":0},{"$f":"'Com'' List'!$L$9","v":0},{"$f":"'Com'' List'!$M$9","v":0},null,{"$f":"'Com'' List'!$O$9","v":0},{"$f":"'Com'' List'!$P$9","v":0},{"$f":"'Com'' List'!$Q$9","v":0},null,{"$f":"'Com'' List'!$S$9","v":0},{"$f":"'Com'' List'!$T$9","v":0},{"$f":"'Com'' List'!$U$9","v":0},null,{"$f":"'Com'' List'!$AB$9","v":0},{"$f":"'Com'' List'!$AC$9","v":0},{"$f":"'Com'' List'!$AD$9","v":0},null,null,null,null,null,null,{"$f":"VLOOKUP($C21,$AL$8:$AM$24,2,0)","v":0},null,null,null,"UL",{"$f":"Tables!EZ92","v":"Devon Long"}]
[null,null,null,null,{"$f":"'Com'' List'!$F$9","v":0},null,null,null,{"$f":"'Com'' List'!$J$9","v":0},null,null,null,{"$f":"'Com'' List'!$N$9","v":0},null,null,null,{"$f":"'Com'' List'!$R$9","v":0},null,null,null,{"$f":"'Com'' List'!$V$9","v":0},null,null,null,null,null,null,null,null,null,null,null,null,{"$f":"AH21","v":0},null,null,null,"UU",{"$f":"Tables!FK92","v":"Morgan Russell-Cowan"}]
[null,9,{"$f":"'Com'' List'!$B$10","v":"UCD"},null,{"$f":"'Com'' List'!$C$10","v":0},{"$f":"'Com'' List'!$D$10","v":0},{"$f":"'Com'' List'!$E$10","v":0},null,{"$f":"'Com'' List'!$G$10","v":0},{"$f":"'Com'' List'!$H$10","v":0},{"$f":"'Com'' List'!$I$10","v":0},null,{"$f":"'Com'' List'!$K$10","v":0},{"$f":"'Com'' List'!$L$10","v":0},{"$f":"'Com'' List'!$M$10","v":0},null,{"$f":"'Com'' List'!$O$10","v":0},{"$f":"'Com'' List'!$P$10","v":0},{"$f":"'Com'' List'!$Q$10","v":0},null,{"$f":"'Com'' List'!$S$10","v":0},{"$f":"'Com'' List'!$T$10","v":0},{"$f":"'Com'' List'!$U$10","v":0},null,{"$f":"'Com'' List'!$AB$10","v":0},{"$f":"'Com'' List'!$AC$10","v":0},{"$f":"'Com'' List'!$AD$10","v":0},null,null,null,null,null,null,{"$f":"VLOOKUP($C23,$AL$8:$AM$24,2,0)","v":0},null,null,null,"WIT",{"$f":"Tables!FV92","v":0}]
[null,null,null,null,{"$f":"'Com'' List'!$F$10","v":0},null,null,null,{"$f":"'Com'' List'!$J$10","v":0},null,null,null,{"$f":"'Com'' List'!$N$10","v":0},null,null,null,{"$f":"'Com'' List'!$R$10","v":0},null,null,null,{"$f":"'Com'' List'!$V$10","v":0},null,null,null,null,null,null,null,null,null,null,null,null,{"$f":"AH23","v":0},null,null,null,"AAA",{"$f":"Tables!GG92","v":0}]
[null,10,{"$f":"'Com'' List'!$B$11","v":"DKIT"},null,{"$f":"'Com'' List'!$C$11","v":0},{"$f":"'Com'' List'!$D$11","v":0},{"$f":"'Com'' List'!$E$11","v":0},null,{"$f":"'Com'' List'!$G$11","v":0},{"$f":"'Com'' List'!$H$11","v":0},{"$f":"'Com'' List'!$I$11","v":0},null,{"$f":"'Com'' List'!$K$11","v":0},{"$f":"'Com'' List'!$L$11","v":0},{"$f":"'Com'' List'!$M$11","v":0},null,{"$f":"'Com'' List'!$O$11","v":0},{"$f":"'Com'' List'!$P$11","v":0},{"$f":"'Com'' List'!$Q$11","v":0},null,{"$f":"'Com'' List'!$S$11","v":0},{"$f":"'Com'' List'!$T$11","v":0},{"$f":"'Com'' List'!$U$11","v":0},null,{"$f":"'Com'' List'!$AB$11","v":0},{"$f":"'Com'' List'!$AC$11","v":0},{"$f":"'Com'' List'!$AD$11","v":0},null,null,null,null,null,null,{"$f":"VLOOKUP($C25,$AL$8:$AM$24,2,0)","v":0},null,null,null,"BBB",{"$f":"Tables!GR92","v":0}]
[null,null,null,null,{"$f":"'Com'' List'!$F$11","v":0},null,null,null,{"$f":"'Com'' List'!$J$11","v":0},null,null,null,{"$f":"'Com'' List'!$N$11","v":0},null,null,null,{"$f":"'Com'' List'!$R$11","v":0},null,null,null,{"$f":"'Com'' List'!$V$11","v":0},null,null,null,null,null,null,null,null,null,null,null,null,{"$f":"AH25","v":0},null,null,null,"CCC",{"$f":"Tables!HC92","v":0}]
[null,11,{"$f":"'Com'' List'!$B$12","v":"DIT"},null,{"$f":"'Com'' List'!$C$12","v":0},{"$f":"'Com'' List'!$D$12","v":0},{"$f":"'Com'' List'!$E$12","v":0},null,{"$f":"'Com'' List'!$G$12","v":0},{"$f":"'Com'' List'!$H$12","v":0},{"$f":"'Com'' List'!$I$12","v":0},null,{"$f":"'Com'' List'!$K$12","v":0},{"$f":"'Com'' List'!$L$12","v":0},{"$f":"'Com'' List'!$M$12","v":0},null,{"$f":"'Com'' List'!$O$12","v":0},{"$f":"'Com'' List'!$P$12","v":0},{"$f":"'Com'' List'!$Q$12","v":0},null,{"$f":"'Com'' List'!$S$12","v":0},{"$f":"'Com'' List'!$T$12","v":0},{"$f":"'Com'' List'!$U$12","v":0},null,{"$f":"'Com'' List'!$AB$12","v":0},{"$f":"'Com'' List'!$AC$12","v":0},{"$f":"'Com'' List'!$AD$12","v":0},null,null,null,null,null,null,{"$f":"VLOOKUP($C27,$AL$8:$AM$24,2,0)","v":0},null,null,null,"DDD",{"$f":"Tables!HN92","v":0}]
[null,null,null,null,{"$f":"'Com'' List'!$F$12","v":0},null,null,null,{"$f":"'Com'' List'!$J$12","v":0},null,null,null,{"$f":"'Com'' List'!$N$12","v":0},null,null,null,{"$f":"'Com'' List'!$R$12","v":0},null,null,null,{"$f":"'Com'' List'!$V$12","v":0},null,null,null,null,null,null,null,null,null,null,null,null,{"$f":"AH27","v":0},null,null,null,"EEE",{"$f":"Tables!HY92","v":0}]
[null,12,{"$f":"'Com'' List'!$B$13","v":"GMITC"},null,{"$f":"'Com'' List'!$C$13","v":0},{"$f":"'Com'' List'!$D$13","v":0},{"$f":"'Com'' List'!$E$13","v":0},null,{"$f":"'Com'' List'!$G$13","v":0},{"$f":"'Com'' List'!$H$13","v":0},{"$f":"'Com'' List'!$I$13","v":0},null,{"$f":"'Com'' List'!$K$13","v":0},{"$f":"'Com'' List'!$L$13","v":0},{"$f":"'Com'' List'!$M$13","v":0},null,{"$f":"'Com'' List'!$O$13","v":0},{"$f":"'Com'' List'!$P$13","v":0},{"$f":"'Com'' List'!$Q$13","v":0},null,{"$f":"'Com'' List'!$S$13","v":0},{"$f":"'Com'' List'!$T$13","v":0},{"$f":"'Com'' List'!$U$13","v":0},null,{"$f":"'Com'' List'!$AB$13","v":0},{"$f":"'Com'' List'!$AC$13","v":0},{"$f":"'Com'' List'!$AD$13","v":0},null,null,null,null,null,null,{"$f":"VLOOKUP($C29,$AL$8:$AM$24,2,0)","v":0}]
[null,null,null,null,{"$f":"'Com'' List'!$F$13","v":0},null,null,null,{"$f":"'Com'' List'!$J$13","v":0},null,null,null,{"$f":"'Com'' List'!$N$13","v":0},null,null,null,{"$f":"'Com'' List'!$R$13","v":0},null,null,null,{"$f":"'Com'' List'!$V$13","v":0},null,null,null,null,null,null,null,null,null,null,null,null,{"$f":"AH29","v":0}]
[null,13,{"$f":"'Com'' List'!$B$14","v":"ITC"},null,{"$f":"'Com'' List'!$C$14","v":0},{"$f":"'Com'' List'!$D$14","v":0},{"$f":"'Com'' List'!$E$14","v":0},null,{"$f":"'Com'' List'!$G$14","v":0},{"$f":"'Com'' List'!$H$14","v":0},{"$f":"'Com'' List'!$I$14","v":0},null,{"$f":"'Com'' List'!$K$14","v":0},{"$f":"'Com'' List'!$L$14","v":0},{"$f":"'Com'' List'!$M$14","v":0},null,{"$f":"'Com'' List'!$O$14","v":0},{"$f":"'Com'' List'!$P$14","v":0},{"$f":"'Com'' List'!$Q$14","v":0},null,{"$f":"'Com'' List'!$S$14","v":0},{"$f":"'Com'' List'!$T$14","v":0},{"$f":"'Com'' List'!$U$14","v":0},null,{"$f":"'Com'' List'!$AB$14","v":0},{"$f":"'Com'' List'!$AC$14","v":0},{"$f":"'Com'' List'!$AD$14","v":0},null,null,null,null,null,null,{"$f":"VLOOKUP($C31,$AL$8:$AM$24,2,0)","v":0}]
[null,null,null,null,{"$f":"'Com'' List'!$F$14","v":0},null,null,null,{"$f":"'Com'' List'!$J$14","v":0},null,null,null,{"$f":"'Com'' List'!$N$14","v":0},null,null,null,{"$f":"'Com'' List'!$R$14","v":0},null,null,null,{"$f":"'Com'' List'!$V$14","v":0},null,null,null,null,null,null,null,null,null,null,null,null,{"$f":"AH31","v":0}]
[null,14,{"$f":"'Com'' List'!$B$15","v":"NCAD"},null,{"$f":"'Com'' List'!$C$15","v":0},{"$f":"'Com'' List'!$D$15","v":0},{"$f":"'Com'' List'!$E$15","v":0},null,{"$f":"'Com'' List'!$G$15","v":0},{"$f":"'Com'' List'!$H$15","v":0},{"$f":"'Com'' List'!$I$15","v":0},null,{"$f":"'Com'' List'!$K$15","v":0},{"$f":"'Com'' List'!$L$15","v":0},{"$f":"'Com'' List'!$M$15","v":0},null,{"$f":"'Com'' List'!$O$15","v":0},{"$f":"'Com'' List'!$P$15","v":0},{"$f":"'Com'' List'!$Q$15","v":0},null,{"$f":"'Com'' List'!$S$15","v":0},{"$f":"'Com'' List'!$T$15","v":0},{"$f":"'Com'' List'!$U$15","v":0},null,{"$f":"'Com'' List'!$AB$15","v":0},{"$f":"'Com'' List'!$AC$15","v":0},{"$f":"'Com'' List'!$AD$15","v":0},null,null,null,null,null,null,{"$f":"VLOOKUP($C33,$AL$8:$AM$24,2,0)","v":0}]
[null,null,null,null,{"$f":"'Com'' List'!$F$15","v":0},null,null,null,{"$f":"'Com'' List'!$J$15","v":0},null,null,null,{"$f":"'Com'' List'!$N$15","v":0},null,null,null,{"$f":"'Com'' List'!$R$15","v":0},null,null,null,{"$f":"'Com'' List'!$V$15","v":0},null,null,null,null,null,null,null,null,null,null,null,null,{"$f":"AH33","v":0}]
[null,15,{"$f":"'Com'' List'!$B$16","v":"RCSI"},null,{"$f":"'Com'' List'!$C$16","v":0},{"$f":"'Com'' List'!$D$16","v":0},{"$f":"'Com'' List'!$E$16","v":0},null,{"$f":"'Com'' List'!$G$16","v":0},{"$f":"'Com'' List'!$H$16","v":0},{"$f":"'Com'' List'!$I$16","v":0},null,{"$f":"'Com'' List'!$K$16","v":0},{"$f":"'Com'' List'!$L$16","v":0},{"$f":"'Com'' List'!$M$16","v":0},null,{"$f":"'Com'' List'!$O$16","v":0},{"$f":"'Com'' List'!$P$16","v":0},{"$f":"'Com'' List'!$Q$16","v":0},null,{"$f":"'Com'' List'!$S$16","v":0},{"$f":"'Com'' List'!$T$16","v":0},{"$f":"'Com'' List'!$U$16","v":0},null,{"$f":"'Com'' List'!$AB$16","v":0},{"$f":"'Com'' List'!$AC$16","v":0},{"$f":"'Com'' List'!$AD$16","v":0},null,null,null,null,null,null,{"$f":"VLOOKUP($C35,$AL$8:$AM$24,2,0)","v":0}]
[null,null,null,null,{"$f":"'Com'' List'!$F$16","v":0},null,null,null,{"$f":"'Com'' List'!$J$16","v":0},null,null,null,{"$f":"'Com'' List'!$N$16","v":0},null,null,null,{"$f":"'Com'' List'!$R$16","v":0},null,null,null,{"$f":"'Com'' List'!$V$16","v":0},null,null,null,null,null,null,null,null,null,null,null,null,{"$f":"AH35","v":0}]
[null,16,{"$f":"'Com'' List'!$B$17","v":"UCC"},null,{"$f":"'Com'' List'!$C$17","v":0},{"$f":"'Com'' List'!$D$17","v":0},{"$f":"'Com'' List'!$E$17","v":0},null,{"$f":"'Com'' List'!$G$17","v":0},{"$f":"'Com'' List'!$H$17","v":0},{"$f":"'Com'' List'!$I$17","v":0},null,{"$f":"'Com'' List'!$K$17","v":0},{"$f":"'Com'' List'!$L$17","v":0},{"$f":"'Com'' List'!$M$17","v":0},null,{"$f":"'Com'' List'!$O$17","v":0},{"$f":"'Com'' List'!$P$17","v":0},{"$f":"'Com'' List'!$Q$17","v":0},null,{"$f":"'Com'' List'!$S$17","v":0},{"$f":"'Com'' List'!$T$17","v":0},{"$f":"'Com'' List'!$U$17","v":0},null,{"$f":"'Com'' List'!$AB$17","v":0},{"$f":"'Com'' List'!$AC$17","v":0},{"$f":"'Com'' List'!$AD$17","v":0},null,null,null,null,null,null,{"$f":"VLOOKUP($C37,$AL$8:$AM$24,2,0)","v":0}]
[null,null,null,null,{"$f":"'Com'' List'!$F$17","v":0},null,null,null,{"$f":"'Com'' List'!$J$17","v":0},null,null,null,{"$f":"'Com'' List'!$N$17","v":0},null,null,null,{"$f":"'Com'' List'!$R$17","v":0},null,null,null,{"$f":"'Com'' List'!$V$17","v":0},null,null,null,null,null,null,null,null,null,null,null,null,{"$f":"AH37","v":0}]
[null,17,{"$f":"'Com'' List'!$B$18","v":"WIT"},null,{"$f":"'Com'' List'!$C$18","v":0},{"$f":"'Com'' List'!$D$18","v":0},{"$f":"'Com'' List'!$E$18","v":0},null,{"$f":"'Com'' List'!$G$18","v":0},{"$f":"'Com'' List'!$H$18","v":0},{"$f":"'Com'' List'!$I$18","v":0},null,{"$f":"'Com'' List'!$K$18","v":0},{"$f":"'Com'' List'!$L$18","v":0},{"$f":"'Com'' List'!$M$18","v":0},null,{"$f":"'Com'' List'!$O$18","v":0},{"$f":"'Com'' List'!$P$18","v":0},{"$f":"'Com'' List'!$Q$18","v":0},null,{"$f":"'Com'' List'!$S$18","v":0},{"$f":"'Com'' List'!$T$18","v":0},{"$f":"'Com'' List'!$U$18","v":0},null,{"$f":"'Com'' List'!$AB$18","v":0},{"$f":"'Com'' List'!$AC$18","v":0},{"$f":"'Com'' List'!$AD$18","v":0},null,null,null,null,null,null,{"$f":"VLOOKUP($C39,$AL$8:$AM$24,2,0)","v":0}]
[null,null,null,null,{"$f":"'Com'' List'!$F$18","v":0},null,null,null,{"$f":"'Com'' List'!$J$18","v":0},null,null,null,{"$f":"'Com'' List'!$N$18","v":0},null,null,null,{"$f":"'Com'' List'!$R$18","v":0},null,null,null,{"$f":"'Com'' List'!$V$18","v":0},null,null,null,null,null,null,null,null,null,null,null,null,{"$f":"AH39","v":0}]
[null,18,{"$f":"'Com'' List'!$B$19","v":"AAA"},null,{"$f":"'Com'' List'!$C$19","v":0},{"$f":"'Com'' List'!$D$19","v":0},{"$f":"'Com'' List'!$E$19","v":0},null,{"$f":"'Com'' List'!$G$19","v":0},{"$f":"'Com'' List'!$H$19","v":0},{"$f":"'Com'' List'!$I$19","v":0},null,{"$f":"'Com'' List'!$K$19","v":0},{"$f":"'Com'' List'!$L$19","v":0},{"$f":"'Com'' List'!$M$19","v":0},null,{"$f":"'Com'' List'!$O$19","v":0},{"$f":"'Com'' List'!$P$19","v":0},{"$f":"'Com'' List'!$Q$19","v":0},null,{"$f":"'Com'' List'!$S$19","v":0},{"$f":"'Com'' List'!$T$19","v":0},{"$f":"'Com'' List'!$U$19","v":0},null,{"$f":"'Com'' List'!$AB$19","v":0},{"$f":"'Com'' List'!$AC$19","v":0},{"$f":"'Com'' List'!$AD$19","v":0},null,null,null,null,null,null,{"$f":"VLOOKUP($C41,$AL$8:$AM$24,2,0)","v":0}]
[null,null,null,null,{"$f":"'Com'' List'!$F$19","v":0},null,null,null,{"$f":"'Com'' List'!$J$19","v":0},null,null,null,{"$f":"'Com'' List'!$N$19","v":0},null,null,null,{"$f":"'Com'' List'!$R$19","v":0},null,null,null,{"$f":"'Com'' List'!$V$19","v":0},null,null,null,null,null,null,null,null,null,null,null,null,{"$f":"AH41","v":0}]
[null,19,{"$f":"'Com'' List'!$B$20","v":"BBB"},null,{"$f":"'Com'' List'!$C$20","v":0},{"$f":"'Com'' List'!$D$20","v":0},{"$f":"'Com'' List'!$E$20","v":0},null,{"$f":"'Com'' List'!$G$20","v":0},{"$f":"'Com'' List'!$H$20","v":0},{"$f":"'Com'' List'!$I$20","v":0},null,{"$f":"'Com'' List'!$K$20","v":0},{"$f":"'Com'' List'!$L$20","v":0},{"$f":"'Com'' List'!$M$20","v":0},null,{"$f":"'Com'' List'!$O$20","v":0},{"$f":"'Com'' List'!$P$20","v":0},{"$f":"'Com'' List'!$Q$20","v":0},null,{"$f":"'Com'' List'!$S$20","v":0},{"$f":"'Com'' List'!$T$20","v":0},{"$f":"'Com'' List'!$U$20","v":0},null,{"$f":"'Com'' List'!$AB$20","v":0},{"$f":"'Com'' List'!$AC$20","v":0},{"$f":"'Com'' List'!$AD$20","v":0},null,null,null,null,null,null,{"$f":"VLOOKUP($C43,$AL$8:$AM$24,2,0)","v":{"$error":"#N/A"}}]
[null,null,null,null,{"$f":"'Com'' List'!$F$20","v":0},null,null,null,{"$f":"'Com'' List'!$J$20","v":0},null,null,null,{"$f":"'Com'' List'!$N$20","v":0},null,null,20,{"$f":"'Com'' List'!$R$20","v":0},null,null,null,{"$f":"'Com'' List'!$V$20","v":0},null,null,null,null,null,null,null,null,null,null,null,null,{"$f":"AH43","v":{"$error":"#N/A"}}]
[null,20,{"$f":"'Com'' List'!$B$21","v":"CCC"},null,{"$f":"'Com'' List'!$C$21","v":0},{"$f":"'Com'' List'!$D$21","v":0},{"$f":"'Com'' List'!$E$21","v":0},null,{"$f":"'Com'' List'!$G$21","v":0},{"$f":"'Com'' List'!$H$21","v":0},{"$f":"'Com'' List'!$I$21","v":0},null,{"$f":"'Com'' List'!$K$21","v":0},{"$f":"'Com'' List'!$L$21","v":0},{"$f":"'Com'' List'!$M$21","v":0},null,{"$f":"'Com'' List'!$O$21","v":0},{"$f":"'Com'' List'!$P$21","v":0},{"$f":"'Com'' List'!$Q$21","v":0},null,{"$f":"'Com'' List'!$S$21","v":0},{"$f":"'Com'' List'!$T$21","v":0},{"$f":"'Com'' List'!$U$21","v":0},null,{"$f":"'Com'' List'!$AB$21","v":0},{"$f":"'Com'' List'!$AC$21","v":0},{"$f":"'Com'' List'!$AD$21","v":0},null,null,null,null,null,null,{"$f":"VLOOKUP($C45,$AL$8:$AM$24,2,0)","v":{"$error":"#N/A"}}]
[null,null,null,null,{"$f":"'Com'' List'!$F$21","v":0},null,null,null,{"$f":"'Com'' List'!$J$21","v":0},null,null,null,{"$f":"'Com'' List'!$N$21","v":0},null,null,null,{"$f":"'Com'' List'!$R$21","v":0},null,null,null,{"$f":"'Com'' List'!$V$21","v":0},null,null,null,null,null,null,null,null,null,null,null,null,{"$f":"AH45","v":{"$error":"#N/A"}}]
[null,21,{"$f":"'Com'' List'!$B$22","v":"DDD"},null,{"$f":"'Com'' List'!$C$22","v":0},{"$f":"'Com'' List'!$D$22","v":0},{"$f":"'Com'' List'!$E$22","v":0},null,{"$f":"'Com'' List'!$G$22","v":0},{"$f":"'Com'' List'!$H$22","v":0},{"$f":"'Com'' List'!$I$22","v":0},null,{"$f":"'Com'' List'!$K$22","v":0},{"$f":"'Com'' List'!$L$22","v":0},{"$f":"'Com'' List'!$M$22","v":0},null,{"$f":"'Com'' List'!$O$22","v":0},{"$f":"'Com'' List'!$P$22","v":0},{"$f":"'Com'' List'!$Q$22","v":0},null,{"$f":"'Com'' List'!$S$22","v":0},{"$f":"'Com'' List'!$T$22","v":0},{"$f":"'Com'' List'!$U$22","v":0},null,{"$f":"'Com'' List'!$AB$22","v":0},{"$f":"'Com'' List'!$AC$22","v":0},{"$f":"'Com'' List'!$AD$22","v":0},null,null,null,null,null,null,{"$f":"VLOOKUP($C47,$AL$8:$AM$24,2,0)","v":{"$error":"#N/A"}}]
[null,null,null,null,{"$f":"'Com'' List'!$F$22","v":0},null,null,null,{"$f":"'Com'' List'!$J$22","v":0},null,null,null,{"$f":"'Com'' List'!$N$22","v":0},null,null,null,{"$f":"'Com'' List'!$R$22","v":0},null,null,null,{"$f":"'Com'' List'!$V$22","v":0},null,null,null,null,null,null,null,null,null,null,null,null,{"$f":"AH47","v":{"$error":"#N/A"}}]
[null,22,{"$f":"'Com'' List'!$B$23","v":"EEE"},null,{"$f":"'Com'' List'!$C$23","v":0},{"$f":"'Com'' List'!$D$23","v":0},{"$f":"'Com'' List'!$E$23","v":0},null,{"$f":"'Com'' List'!$G$23","v":0},{"$f":"'Com'' List'!$H$23","v":0},{"$f":"'Com'' List'!$I$23","v":0},null,{"$f":"'Com'' List'!$K$23","v":0},{"$f":"'Com'' List'!$L$23","v":0},{"$f":"'Com'' List'!$M$23","v":0},null,{"$f":"'Com'' List'!$O$23","v":0},{"$f":"'Com'' List'!$P$23","v":0},{"$f":"'Com'' List'!$Q$23","v":0},null,{"$f":"'Com'' List'!$S$23","v":0},{"$f":"'Com'' List'!$T$23","v":0},{"$f":"'Com'' List'!$U$23","v":0},null,{"$f":"'Com'' List'!$AB$23","v":0},{"$f":"'Com'' List'!$AC$23","v":0},{"$f":"'Com'' List'!$AD$23","v":0},null,null,null,null,null,null,{"$f":"VLOOKUP($C49,$AL$8:$AM$24,2,0)","v":{"$error":"#N/A"}}]
[null,null,null,null,{"$f":"'Com'' List'!$F$23","v":0},null,null,null,{"$f":"'Com'' List'!$J$23","v":0},null,null,null,{"$f":"'Com'' List'!$N$23","v":0},null,null,null,{"$f":"'Com'' List'!$R$23","v":0},null,null,null,{"$f":"'Com'' List'!$V$23","v":0},null,null,null,null,null,null,null,null,null,null,null,null,{"$f":"AH49","v":{"$error":"#N/A"}}]
[null,{"$f":"$C$7","v":"DCU"}]

{"sheet":"Mixed Team","index":22,"n_rows":51,"n_cols":39,"rows_kept":51,"cut":false,"hidden":false,"merged":[[1,27,49,27],[50,0,50,27],[1,0,49,0],[0,0,0,27],[1,4,4,22],[1,24,4,24],[1,25,4,25],[1,26,4,26],[6,1,7,1],[6,2,7,2],[10,1,11,1],[10,2,11,2],[11,4,11,6],[11,8,11,10],[11,12,11,14],[8,1,9,1],[8,2,9,2],[8,24,9,24],[8,25,9,25],[9,4,9,6],[9,8,9,10],[9,12,9,14],[6,24,7,24],[6,25,7,25],[6,26,7,26],[7,4,7,6],[7,8,7,10],[1,1,3,2],[4,1,4,2],[5,24,5,26],[5,4,5,22],[5,1,5,2],[1,3,49,3],[1,23,49,23],[14,1,15,1],[14,2,15,2],[15,4,15,6],[15,8,15,10],[15,12,15,14],[12,1,13,1],[12,2,13,2],[12,24,13,24],[12,25,13,25],[13,4,13,6],[13,8,13,10],[13,12,13,14],[14,24,15,24],[14,25,15,25],[18,1,19,1],[18,2,19,2],[19,4,19,6],[19,8,19,10],[19,12,19,14],[16,1,17,1],[16,2,17,2],[16,24,17,24],[16,25,17,25],[17,4,17,6],[17,8,17,10],[17,12,17,14],[25,4,25,6],[25,8,25,10],[25,12,25,14],[22,1,23,1],[22,2,23,2],[23,4,23,6],[23,8,23,10],[23,12,23,14],[20,1,21,1],[20,2,21,2],[21,4,21,6],[21,8,21,10],[21,12,21,14],[38,1,39,1],[38,2,39,2],[39,4,39,6],[39,8,39,10],[39,12,39,14],[36,1,37,1],[36,2,37,2],[13,16,13,18],[13,20,13,22],[21,16,21,18],[21,20,21,22],[29,16,29,18],[29,20,29,22],[35,8,35,10],[35,12,35,14],[32,1,33,1],[32,2,33,2],[33,4,33,6],[33,8,33,10],[33,12,33,14],[30,1,31,1],[30,2,31,2],[31,4,31,6],[31,8,31,10],[37,4,37,6],[37,8,37,10],[37,12,37,14],[34,1,35,1],[34,2,35,2],[35,4,35,6],[37,16,37,18],[37,20,37,22],[7,12,7,14],[7,16,7,18],[7,20,7,22],[31,12,31,14],[28,1,29,1],[28,2,29,2],[29,4,29,6],[29,8,29,10],[29,12,29,14],[26,1,27,1],[26,2,27,2],[27,4,27,6],[27,8,27,10],[27,12,27,14],[24,1,25,1],[24,2,25,2],[14,26,15,26],[15,16,15,18],[15,20,15,22],[9,16,9,18],[9,20,9,22],[10,24,11,24],[10,25,11,25],[10,26,11,26],[11,16,11,18],[11,20,11,22],[12,26,13,26],[8,26,9,26],[22,26,23,26],[23,16,23,18],[23,20,23,22],[17,16,17,18],[17,20,17,22],[18,24,19,24],[18,25,19,25],[18,26,19,26],[19,16,19,18],[19,20,19,22],[20,26,21,26],[16,26,17,26],[20,24,21,24],[20,25,21,25],[22,24,23,24],[22,25,23,25],[30,26,31,26],[31,16,31,18],[31,20,31,22],[25,16,25,18],[25,20,25,22],[26,24,27,24],[26,25,27,25],[26,26,27,26],[27,16,27,18],[27,20,27,22],[28,26,29,26],[24,26,25,26],[28,24,29,24],[28,25,29,25],[30,24,31,24],[30,25,31,25],[24,24,25,24],[24,25,25,25],[38,24,39,24],[38,25,39,25],[38,26,39,26],[39,16,39,18],[39,20,39,22],[33,16,33,18],[33,20,33,22],[34,24,35,24],[34,25,35,25],[34,26,35,26],[35,16,35,18],[35,20,35,22],[36,24,37,24],[36,25,37,25],[36,26,37,26],[32,24,33,24],[32,25,33,25],[32,26,33,26],[40,1,41,1],[40,2,41,2],[40,24,41,24],[40,25,41,25],[40,26,41,26],[41,4,41,6],[41,8,41,10],[41,12,41,14],[41,16,41,18],[41,20,41,22],[44,25,45,25],[44,26,45,26],[45,4,45,6],[45,8,45,10],[45,12,45,14],[45,16,45,18],[45,20,45,22],[42,1,43,1],[42,2,43,2],[42,24,43,24],[42,25,43,25],[42,26,43,26],[43,4,43,6],[43,8,43,10],[43,12,43,14],[43,16,43,18],[43,20,43,22],[44,1,45,1],[44,2,45,2],[44,24,45,24],[48,1,49,1],[48,2,49,2],[48,24,49,24],[48,25,49,25],[48,26,49,26],[49,4,49,6],[49,8,49,10],[49,12,49,14],[49,16,49,18],[49,20,49,22],[46,1,47,1],[46,2,47,2],[46,24,47,24],[46,25,47,25],[46,26,47,26],[47,4,47,6],[47,8,47,10],[47,12,47,14],[47,16,47,18],[47,20,47,22]]}
[{"$f":"$C$7","v":"NUIG"}]
["NUIG","Mixed Team",null,{"$f":"$C$7","v":"NUIG"},null,null,null,null,null,null,null,null,null,null,null,null,null,null,null,null,null,null,null,"NUIG","Total","Lowest","League","NUIG",null,null,null,null,null,{"$f":"AH7","v":"Patrick Molloy"}]
[]
[]
[]
[null,"NUIG",null,null,"NUIG",null,null,null,null,null,null,null,null,null,null,null,null,null,null,null,null,null,null,null,{"$f":"$C$7","v":"NUIG"}]
[null,1,{"$f":"'Mixed List'!B2","v":"NUIG"},null,{"$f":"'Mixed List'!$C$2","v":482},{"$f":"'Mixed List'!$D$2","v":471},{"$f":"'Mixed List'!$E$2","v":565},null,{"$f":"'Mixed List'!$F$2","v":465},{"$f":"'Mixed List'!$G$2","v":393},{"$f":"'Mixed List'!$H$2","v":549},null,{"$f":"'Mixed List'!$I$2","v":569},{"$f":"'Mixed List'!$J$2","v":383},{"$f":"'Mixed List'!$K$2","v":560},null,{"$f":"'Mixed List'!$L$2","v":483},{"$f":"'Mixed List'!$M$2","v":348},{"$f":"'Mixed List'!$N$2","v":543},null,{"$f":"'Mixed List'!$O$2","v":516},{"$f":"'Mixed List'!$P$2","v":451},{"$f":"'Mixed List'!$Q$2","v":561},null,{"$f":"'Mixed List'!$W$2","v":7339},{"$f":"'Mixed List'!$X$2","v":1374},{"$f":"'Mixed List'!$Y$2","v":5965.1528151800003},null,null,null,null,null,null,{"$f":"VLOOKUP($C7,$AL$7:$AM$24,2,0)","v":"Patrick Molloy"},null,null,null,"DCU",{"$f":"Tables!B8","v":"Brendan McManus"}]
[null,null,null,null,{"$f":"'Mixed List'!$R$2","v":1518},null,null,null,{"$f":"'Mixed List'!$S$2","v":1407},null,null,null,{"$f":"'Mixed List'!$T$2","v":1512},null,null,null,{"$f":"'Mixed List'!$U$2","v":1374},null,null,null,{"$f":"'Mixed List'!$V$2","v":1528},null,null,null,null,null,null,null,null,null,null,null,null,{"$f":"AH7","v":"Patrick Molloy"},null,null,null,"DIT",{"$f":"Tables!M8","v":"Brendan Forde"}]
[null,2,{"$f":"'Mixed List'!B3","v":"DCU"},null,{"$f":"'Mixed List'!$C$2","v":482},{"$f":"'Mixed List'!$D$3","v":422},{"$f":"'Mixed List'!$E$3","v":544},null,{"$f":"'Mixed List'!$F$3","v":480},{"$f":"'Mixed List'!$G$3","v":437},{"$f":"'Mixed List'!$H$3","v":547},null,{"$f":"'Mixed List'!$I$3","v":472},{"$f":"'Mixed List'!$J$3","v":465},{"$f":"'Mixed List'!$K$3","v":539},null,{"$f":"'Mixed List'!$L$3","v":420},{"$f":"'Mixed List'!$M$3","v":469},{"$f":"'Mixed List'!$N$3","v":540},null,{"$f":"'Mixed List'!$O$3","v":496},{"$f":"'Mixed List'!$P$3","v":486},{"$f":"'Mixed List'!$Q$3","v":535},null,{"$f":"'Mixed List'!$W$3","v":7336},{"$f":"'Mixed List'!$X$3","v":1429},{"$f":"'Mixed List'!$Y$3","v":5907.1517147600007},null,null,null,null,null,null,{"$f":"VLOOKUP($C9,$AL$8:$AM$24,2,0)","v":{"$error":"#N/A"}},null,null,null,"DkIT",{"$f":"Tables!X8","v":"Yeo Eng Jet"}]
[null,null,null,null,{"$f":"'Mixed List'!$R$3","v":1450},null,null,null,{"$f":"'Mixed List'!$S$3","v":1464},null,null,null,{"$f":"'Mixed List'!$T$3","v":1476},null,null,null,{"$f":"'Mixed List'!$U$3","v":1429},null,null,null,{"$f":"'Mixed List'!$V$3","v":1517},null,null,null,null,null,null,null,null,null,null,null,null,{"$f":"AH9","v":{"$error":"#N/A"}},null,null,null,"DUAC",{"$f":"Tables!AI8","v":"Dáire Healy"}]
[null,3,{"$f":"'Mixed List'!B4","v":"GMIT"},null,{"$f":"'Mixed List'!$C$4","v":524},{"$f":"'Mixed List'!$D$4","v":393},{"$f":"'Mixed List'!$E$4","v":539},null,{"$f":"'Mixed List'!$F$4","v":488},{"$f":"'Mixed List'!$G$4","v":391},{"$f":"'Mixed List'!$H$4","v":548},null,{"$f":"'Mixed List'!$I$4","v":517},{"$f":"'Mixed List'!$J$4","v":439},{"$f":"'Mixed List'!$K$4","v":548},null,{"$f":"'Mixed List'!$L$4","v":407},{"$f":"'Mixed List'!$M$4","v":402},{"$f":"'Mixed List'!$N$4","v":559},null,{"$f":"'Mixed List'!$O$4","v":501},{"$f":"'Mixed List'!$P$4","v":440},{"$f":"'Mixed List'!$Q$4","v":566},null,{"$f":"'Mixed List'!$W$4","v":7262},{"$f":"'Mixed List'!$X$4","v":1368},{"$f":"'Mixed List'!$Y$4","v":5894.1507150400003},null,null,null,null,null,null,{"$f":"VLOOKUP($C11,$AL$8:$AM$24,2,0)","v":"Dale Burke"},null,null,null,"GMIT",{"$f":"Tables!AT8","v":"Dale Burke"}]
[null,null,null,null,{"$f":"'Mixed List'!$R$4","v":1456},null,null,null,{"$f":"'Mixed List'!$S$4","v":1427},null,null,null,{"$f":"'Mixed List'!$T$4","v":1504},null,null,null,{"$f":"'Mixed List'!$U$4","v":1368},null,null,null,{"$f":"'Mixed List'!$V$4","v":1507},null,null,null,null,null,null,null,null,null,null,null,null,{"$f":"AH11","v":"Dale Burke"},null,null,null,"GMITC",{"$f":"Tables!BE8","v":"Sinead Naughton"}]
[null,4,{"$f":"'Mixed List'!B5","v":"IT Tallaght"},null,{"$f":"'Mixed List'!$C$5","v":401},{"$f":"'Mixed List'!$D$5","v":380},{"$f":"'Mixed List'!$E$5","v":568},null,{"$f":"'Mixed List'!$F$5","v":488},{"$f":"'Mixed List'!$G$5","v":387},{"$f":"'Mixed List'!$H$5","v":564},null,{"$f":"'Mixed List'!$I$5","v":525},{"$f":"'Mixed List'!$J$5","v":439},{"$f":"'Mixed List'!$K$5","v":537},null,{"$f":"'Mixed List'!$L$5","v":473},{"$f":"'Mixed List'!$M$5","v":395},{"$f":"'Mixed List'!$N$5","v":565},null,{"$f":"'Mixed List'!$O$5","v":503},{"$f":"'Mixed List'!$P$5","v":384},{"$f":"'Mixed List'!$Q$5","v":567},null,{"$f":"'Mixed List'!$W$5","v":7176},{"$f":"'Mixed List'!$X$5","v":1349},{"$f":"'Mixed List'!$Y$5","v":5827.1501145399998},null,null,null,null,null,null,{"$f":"VLOOKUP($C13,$AL$8:$AM$24,2,0)","v":"Aidan Darcy"},null,null,null,"ITC",{"$f":"Tables!CA8","v":"Leo Byrne"}]
[null,null,null,null,{"$f":"'Mixed List'!$R$5","v":1349},null,null,null,{"$f":"'Mixed List'!$S$5","v":1439},null,null,null,{"$f":"'Mixed List'!$T$5","v":1501},null,null,null,{"$f":"'Mixed List'!$U$5","v":1433},null,null,null,{"$f":"'Mixed List'!$V$5","v":1454},null,null,null,null,null,null,null,null,null,null,null,null,{"$f":"AH13","v":"Aidan Darcy"},null,null,null,"IT Tallaght",{"$f":"Tables!BP8","v":"Aidan Darcy"}]
[null,5,{"$f":"'Mixed List'!B6","v":"MU"},null,{"$f":"'Mixed List'!$C$6","v":523},{"$f":"'Mixed List'!$D$6","v":380},{"$f":"'Mixed List'!$E$6","v":537},null,{"$f":"'Mixed List'!$F$6","v":495},{"$f":"'Mixed List'!$G$6","v":465},{"$f":"'Mixed List'!$H$6","v":0},null,{"$f":"'Mixed List'!$I$6","v":530},{"$f":"'Mixed List'!$J$6","v":406},{"$f":"'Mixed List'!$K$6","v":507},null,{"$f":"'Mixed List'!$L$6","v":512},{"$f":"'Mixed List'!$M$6","v":430},{"$f":"'Mixed List'!$N$6","v":0},null,{"$f":"'Mixed List'!$O$6","v":524},{"$f":"'Mixed List'!$P$6","v":365},{"$f":"'Mixed List'!$Q$6","v":510},null,{"$f":"'Mixed List'!$W$6","v":6184},{"$f":"'Mixed List'!$X$6","v":942},{"$f":"'Mixed List'!$Y$6","v":5242.1443143999995},null,null,null,null,null,null,{"$f":"VLOOKUP($C15,$AL$8:$AM$24,2,0)","v":"Diego Coyle Diez"},null,null,null,"MU",{"$f":"Tables!CL8","v":"Diego Coyle Diez"}]
[null,null,null,null,{"$f":"'Mixed List'!$R$6","v":1440},null,null,null,{"$f":"'Mixed List'!$S$6","v":960},null,null,null,{"$f":"'Mixed List'!$T$6","v":1443},null,null,null,{"$f":"'Mixed List'!$U$6","v":942},null,null,null,{"$f":"'Mixed List'!$V$6","v":1399},null,null,null,null,null,null,null,null,null,null,null,null,{"$f":"AH15","v":"Diego Coyle Diez"},null,null,null,"NCAD",{"$f":"Tables!CW8","v":"Rachael Foley"}]
[null,6,{"$f":"'Mixed List'!B7","v":"UCD"},null,{"$f":"'Mixed List'!$C$7","v":522},{"$f":"'Mixed List'!$D$7","v":534},{"$f":"'Mixed List'!$E$7","v":0},null,{"$f":"'Mixed List'!$F$7","v":517},{"$f":"'Mixed List'!$G$7","v":0},{"$f":"'Mixed List'!$H$7","v":0},null,{"$f":"'Mixed List'!$I$7","v":529},{"$f":"'Mixed List'!$J$7","v":0},{"$f":"'Mixed List'!$K$7","v":0},null,{"$f":"'Mixed List'!$L$7","v":528},{"$f":"'Mixed List'!$M$7","v":299},{"$f":"'Mixed List'!$N$7","v":0},null,{"$f":"'Mixed List'!$O$7","v":516},{"$f":"'Mixed List'!$P$7","v":398},{"$f":"'Mixed List'!$Q$7","v":0},null,{"$f":"'Mixed List'!$W$7","v":3843},{"$f":"'Mixed List'!$X$7","v":517},{"$f":"'Mixed List'!$Y$7","v":3326.1056091400001},null,null,null,null,null,null,{"$f":"VLOOKUP($C17,$AL$8:$AM$24,2,0)","v":"Carl McCaffery"},null,null,null,"NUIG",{"$f":"Tables!DH8","v":"Patrick Molloy"}]
[null,null,null,null,{"$f":"'Mixed List'!$R$7","v":1056},null,null,null,{"$f":"'Mixed List'!$S$7","v":517},null,null,null,{"$f":"'Mixed List'!$T$7","v":529},null,null,null,{"$f":"'Mixed List'!$U$7","v":827},null,null,null,{"$f":"'Mixed List'!$V$7","v":914},null,null,null,null,null,null,null,null,null,null,null,null,{"$f":"AH17","v":"Carl McCaffery"},null,null,null,"RCSI",{"$f":"Tables!DS8","v":"Zahratulfatin Mohd Mahfoz"}]
[null,7,{"$f":"'Mixed List'!B8","v":"UU"},null,{"$f":"'Mixed List'!$C$8","v":0},{"$f":"'Mixed List'!$D$8","v":0},{"$f":"'Mixed List'!$E$8","v":0},null,{"$f":"'Mixed List'!$F$8","v":418},{"$f":"'Mixed List'!$G$8","v":0},{"$f":"'Mixed List'!$H$8","v":0},null,{"$f":"'Mixed List'!$I$8","v":505},{"$f":"'Mixed List'!$J$8","v":0},{"$f":"'Mixed List'!$K$8","v":0},null,{"$f":"'Mixed List'!$L$8","v":478},{"$f":"'Mixed List'!$M$8","v":351},{"$f":"'Mixed List'!$N$8","v":523},null,{"$f":"'Mixed List'!$O$8","v":496},{"$f":"'Mixed List'!$P$8","v":279},{"$f":"'Mixed List'!$Q$8","v":0},null,{"$f":"'Mixed List'!$W$8","v":3050},{"$f":"'Mixed List'!$X$8","v":0},{"$f":"'Mixed List'!$Y$8","v":3050.1352077500001},null,null,null,null,null,null,{"$f":"VLOOKUP($C19,$AL$8:$AM$24,2,0)","v":"Jordan McCord"},null,null,null,"UCC",{"$f":"Tables!ED8","v":"Cormac O'Callaghan"}]
[null,null,null,null,{"$f":"'Mixed List'!$R$8","v":0},null,null,null,{"$f":"'Mixed List'!$S$8","v":418},null,null,null,{"$f":"'Mixed List'!$T$8","v":505},null,null,null,{"$f":"'Mixed List'!$U$8","v":1352},null,null,null,{"$f":"'Mixed List'!$V$8","v":775},null,null,null,null,null,null,null,null,null,null,null,null,{"$f":"AH19","v":"Jordan McCord"},null,null,null,"UCD",{"$f":"Tables!EO8","v":"Carl McCaffery"}]
[null,8,{"$f":"'Mixed List'!B9","v":"UL"},null,{"$f":"'Mixed List'!$C$9","v":473},{"$f":"'Mixed List'!$D$9","v":0},{"$f":"'Mixed List'!$E$9","v":0},null,{"$f":"'Mixed List'!$F$9","v":436},{"$f":"'Mixed List'!$G$9","v":0},{"$f":"'Mixed List'!$H$9","v":0},null,{"$f":"'Mixed List'!$I$9","v":448},{"$f":"'Mixed List'!$J$9","v":0},{"$f":"'Mixed List'!$K$9","v":520},null,{"$f":"'Mixed List'!$L$9","v":432},{"$f":"'Mixed List'!$M$9","v":0},{"$f":"'Mixed List'!$N$9","v":520},null,{"$f":"'Mixed List'!$O$9","v":453},{"$f":"'Mixed List'!$P$9","v":0},{"$f":"'Mixed List'!$Q$9","v":0},null,{"$f":"'Mixed List'!$W$9","v":3282},{"$f":"'Mixed List'!$X$9","v":436},{"$f":"'Mixed List'!$Y$9","v":2846.0968095199996},null,null,null,null,null,null,{"$f":"VLOOKUP($C21,$AL$8:$AM$24,2,0)","v":"Frank Stafford"},null,null,null,"UL",{"$f":"Tables!EZ8","v":"Frank Stafford"}]
[null,null,null,null,{"$f":"'Mixed List'!$R$9","v":473},null,null,null,{"$f":"'Mixed List'!$S$9","v":436},null,null,null,{"$f":"'Mixed List'!$T$9","v":968},null,null,null,{"$f":"'Mixed List'!$U$9","v":952},null,null,null,{"$f":"'Mixed List'!$V$9","v":453},null,null,null,null,null,null,null,null,null,null,null,null,{"$f":"AH21","v":"Frank Stafford"},null,null,null,"UU",{"$f":"Tables!FK8","v":"Jordan McCord"}]
[null,9,{"$f":"'Mixed List'!B10","v":"GMITC"},null,{"$f":"'Mixed List'!$C$10","v":387},{"$f":"'Mixed List'!$D$10","v":306},{"$f":"'Mixed List'!$E$10","v":0},null,{"$f":"'Mixed List'!$F$10","v":0},{"$f":"'Mixed List'!$G$10","v":0},{"$f":"'Mixed List'!$H$10","v":0},null,{"$f":"'Mixed List'!$I$10","v":397},{"$f":"'Mixed List'!$J$10","v":274},{"$f":"'Mixed List'!$K$10","v":0},null,{"$f":"'Mixed List'!$L$10","v":372},{"$f":"'Mixed List'!$M$10","v":353},{"$f":"'Mixed List'!$N$10","v":0},null,{"$f":"'Mixed List'!$O$10","v":436},{"$f":"'Mixed List'!$P$10","v":321},{"$f":"'Mixed List'!$Q$10","v":0},null,{"$f":"'Mixed List'!$W$10","v":2846},{"$f":"'Mixed List'!$X$10","v":0},{"$f":"'Mixed List'!$Y$10","v":2846.0757072500001},null,null,null,null,null,null,{"$f":"VLOOKUP($C23,$AL$8:$AM$24,2,0)","v":"Sinead Naughton"},null,null,null,"WIT",{"$f":"Tables!FV8","v":0}]
[null,null,null,null,{"$f":"'Mixed List'!$R$10","v":693},null,null,null,{"$f":"'Mixed List'!$S$10","v":0},null,null,null,{"$f":"'Mixed List'!$T$10","v":671},null,null,null,{"$f":"'Mixed List'!$U$10","v":725},null,null,null,{"$f":"'Mixed List'!$V$10","v":757},null,null,null,null,null,null,null,null,null,null,null,null,{"$f":"AH23","v":"Sinead Naughton"},null,null,null,"AAA",{"$f":"Tables!GG8","v":0}]
[null,10,{"$f":"'Mixed List'!B11","v":"ITC"},null,{"$f":"'Mixed List'!$C$11","v":332},{"$f":"'Mixed List'!$D$11","v":391},{"$f":"'Mixed List'!$E$11","v":0},null,{"$f":"'Mixed List'!$F$11","v":306},{"$f":"'Mixed List'!$G$11","v":403},{"$f":"'Mixed List'!$H$11","v":0},null,{"$f":"'Mixed List'!$I$11","v":275},{"$f":"'Mixed List'!$J$11","v":378},{"$f":"'Mixed List'!$K$11","v":0},null,{"$f":"'Mixed List'!$L$11","v":281},{"$f":"'Mixed List'!$M$11","v":395},{"$f":"'Mixed List'!$N$11","v":0},null,{"$f":"'Mixed List'!$O$11","v":233},{"$f":"'Mixed List'!$P$11","v":396},{"$f":"'Mixed List'!$Q$11","v":0},null,{"$f":"'Mixed List'!$W$11","v":3390},{"$f":"'Mixed List'!$X$11","v":629},{"$f":"'Mixed List'!$Y$11","v":2761.0723070899999},null,null,null,null,null,null,{"$f":"VLOOKUP($C25,$AL$8:$AM$24,2,0)","v":"Leo Byrne"},null,null,null,"BBB",{"$f":"Tables!GR8","v":0}]
[null,null,null,null,{"$f":"'Mixed List'!$R$11","v":723},null,null,null,{"$f":"'Mixed List'!$S$11","v":709},null,null,null,{"$f":"'Mixed List'!$T$11","v":653},null,null,null,{"$f":"'Mixed List'!$U$11","v":676},null,null,null,{"$f":"'Mixed List'!$V$11","v":629},null,null,null,null,null,null,null,null,null,null,null,null,{"$f":"AH25","v":"Leo Byrne"},null,null,null,"CCC",{"$f":"Tables!HC8","v":0}]
[null,11,{"$f":"'Mixed List'!B12","v":"UCC"},null,{"$f":"'Mixed List'!$C$12","v":483},{"$f":"'Mixed List'!$D$12","v":0},{"$f":"'Mixed List'!$E$12","v":0},null,{"$f":"'Mixed List'!$F$12","v":0},{"$f":"'Mixed List'!$G$12","v":0},{"$f":"'Mixed List'!$H$12","v":0},null,{"$f":"'Mixed List'!$I$12","v":453},{"$f":"'Mixed List'!$J$12","v":232},{"$f":"'Mixed List'!$K$12","v":0},null,{"$f":"'Mixed List'!$L$12","v":455},{"$f":"'Mixed List'!$M$12","v":0},{"$f":"'Mixed List'!$N$12","v":0},null,{"$f":"'Mixed List'!$O$12","v":466},{"$f":"'Mixed List'!$P$12","v":289},{"$f":"'Mixed List'!$Q$12","v":0},null,{"$f":"'Mixed List'!$W$12","v":2378},{"$f":"'Mixed List'!$X$12","v":0},{"$f":"'Mixed List'!$Y$12","v":2378.0755068499998},null,null,null,null,null,null,{"$f":"VLOOKUP($C27,$AL$8:$AM$24,2,0)","v":"Cormac O'Callaghan"},null,null,null,"DDD",{"$f":"Tables!HN8","v":0}]
[null,null,null,null,{"$f":"'Mixed List'!$R$12","v":483},null,null,null,{"$f":"'Mixed List'!$S$12","v":0},null,null,null,{"$f":"'Mixed List'!$T$12","v":685},null,null,null,{"$f":"'Mixed List'!$U$12","v":455},null,null,null,{"$f":"'Mixed List'!$V$12","v":755},null,null,null,null,null,null,null,null,null,null,null,null,{"$f":"AH27","v":"Cormac O'Callaghan"},null,null,null,"EEE",{"$f":"Tables!HY8","v":0}]
[null,12,{"$f":"'Mixed List'!B13","v":"DUAC"},null,{"$f":"'Mixed List'!$C$13","v":0},{"$f":"'Mixed List'!$D$13","v":0},{"$f":"'Mixed List'!$E$13","v":0},null,{"$f":"'Mixed List'!$F$13","v":464},{"$f":"'Mixed List'!$G$13","v":284},{"$f":"'Mixed List'!$H$13","v":0},null,{"$f":"'Mixed List'!$I$13","v":0},{"$f":"'Mixed List'!$J$13","v":308},{"$f":"'Mixed List'!$K$13","v":0},null,{"$f":"'Mixed List'!$L$13","v":407},{"$f":"'Mixed List'!$M$13","v":152},{"$f":"'Mixed List'!$N$13","v":0},null,{"$f":"'Mixed List'!$O$13","v":410},{"$f":"'Mixed List'!$P$13","v":319},{"$f":"'Mixed List'!$Q$13","v":0},null,{"$f":"'Mixed List'!$W$13","v":2344},{"$f":"'Mixed List'!$X$13","v":0},{"$f":"'Mixed List'!$Y$13","v":2344.0748072900001},null,null,null,null,null,null,{"$f":"VLOOKUP($C29,$AL$8:$AM$24,2,0)","v":"Dáire Healy"}]
[null,null,null,null,{"$f":"'Mixed List'!$R$13","v":0},null,null,null,{"$f":"'Mixed List'!$S$13","v":748},null,null,null,{"$f":"'Mixed List'!$T$13","v":308},null,null,null,{"$f":"'Mixed List'!$U$13","v":559},null,null,null,{"$f":"'Mixed List'!$V$13","v":729},null,null,null,null,null,null,null,null,null,null,null,null,{"$f":"AH29","v":"Dáire Healy"}]
[null,13,{"$f":"'Mixed List'!B14","v":"DKIT"},null,{"$f":"'Mixed List'!$C$14","v":514},{"$f":"'Mixed List'!$D$14","v":0},{"$f":"'Mixed List'!$E$14","v":0},null,{"$f":"'Mixed List'!$F$14","v":527},{"$f":"'Mixed List'!$G$14","v":0},{"$f":"'Mixed List'!$H$14","v":0},null,{"$f":"'Mixed List'!$I$14","v":507},{"$f":"'Mixed List'!$J$14","v":0},{"$f":"'Mixed List'!$K$14","v":0},null,{"$f":"'Mixed List'!$L$14","v":520},{"$f":"'Mixed List'!$M$14","v":0},{"$f":"'Mixed List'!$N$14","v":0},null,{"$f":"'Mixed List'!$O$14","v":540},{"$f":"'Mixed List'!$P$14","v":0},{"$f":"'Mixed List'!$Q$14","v":0},null,{"$f":"'Mixed List'!$W$14","v":2608},{"$f":"'Mixed List'!$X$14","v":507},{"$f":"'Mixed List'!$Y$14","v":2101.0540052700003},null,null,null,null,null,null,{"$f":"VLOOKUP($C31,$AL$8:$AM$24,2,0)","v":"Yeo Eng Jet"}]
[null,null,null,null,{"$f":"'Mixed List'!$R$14","v":514},null,null,null,{"$f":"'Mixed List'!$S$14","v":527},null,null,null,{"$f":"'Mixed List'!$T$14","v":507},null,null,null,{"$f":"'Mixed List'!$U$14","v":520},null,null,null,{"$f":"'Mixed List'!$V$14","v":540},null,null,null,null,null,null,null,null,null,null,null,null,{"$f":"AH31","v":"Yeo Eng Jet"}]
[null,14,{"$f":"'Mixed List'!B15","v":"DIT"},null,{"$f":"'Mixed List'!$C$15","v":509},{"$f":"'Mixed List'!$D$15","v":0},{"$f":"'Mixed List'!$E$15","v":0},null,{"$f":"'Mixed List'!$F$15","v":506},{"$f":"'Mixed List'!$G$15","v":0},{"$f":"'Mixed List'!$H$15","v":0},null,{"$f":"'Mixed List'!$I$15","v":515},{"$f":"'Mixed List'!$J$15","v":0},{"$f":"'Mixed List'!$K$15","v":0},null,{"$f":"'Mixed List'!$L$15","v":515},{"$f":"'Mixed List'!$M$15","v":0},{"$f":"'Mixed List'!$N$15","v":0},null,{"$f":"'Mixed List'!$O$15","v":512},{"$f":"'Mixed List'!$P$15","v":0},{"$f":"'Mixed List'!$Q$15","v":0},null,{"$f":"'Mixed List'!$W$15","v":2557},{"$f":"'Mixed List'!$X$15","v":506},{"$f":"'Mixed List'!$Y$15","v":2051.0515051500001},null,null,null,null,null,null,{"$f":"VLOOKUP($C33,$AL$8:$AM$24,2,0)","v":"Brendan Forde"}]
[null,null,null,null,{"$f":"'Mixed List'!$R$15","v":509},null,null,null,{"$f":"'Mixed List'!$S$15","v":506},null,null,null,{"$f":"'Mixed List'!$T$15","v":515},null,null,null,{"$f":"'Mixed List'!$U$15","v":515},null,null,null,{"$f":"'Mixed List'!$V$15","v":512},null,null,null,null,null,null,null,null,null,null,null,null,{"$f":"AH33","v":"Brendan Forde"}]
[null,15,{"$f":"'Mixed List'!B16","v":"NCAD"},null,{"$f":"'Mixed List'!$C$16","v":0},{"$f":"'Mixed List'!$D$16","v":0},{"$f":"'Mixed List'!$E$16","v":0},null,{"$f":"'Mixed List'!$F$16","v":0},{"$f":"'Mixed List'!$G$16","v":0},{"$f":"'Mixed List'!$H$16","v":0},null,{"$f":"'Mixed List'!$I$16","v":515},{"$f":"'Mixed List'!$J$16","v":0},{"$f":"'Mixed List'!$K$16","v":0},null,{"$f":"'Mixed List'!$L$16","v":0},{"$f":"'Mixed List'!$M$16","v":0},{"$f":"'Mixed List'!$N$16","v":0},null,{"$f":"'Mixed List'!$O$16","v":522},{"$f":"'Mixed List'!$P$16","v":0},{"$f":"'Mixed List'!$Q$16","v":0},null,{"$f":"'Mixed List'!$W$16","v":1037},{"$f":"'Mixed List'!$X$16","v":0},{"$f":"'Mixed List'!$Y$16","v":1037.0522051500002},null,null,null,null,null,null,{"$f":"VLOOKUP($C35,$AL$8:$AM$24,2,0)","v":"Rachael Foley"}]
[null,null,null,null,{"$f":"'Mixed List'!$R$16","v":0},null,null,null,{"$f":"'Mixed List'!$S$16","v":0},null,null,null,{"$f":"'Mixed List'!$T$16","v":515},null,null,null,{"$f":"'Mixed List'!$U$16","v":0},null,null,null,{"$f":"'Mixed List'!$V$16","v":522},null,null,null,null,null,null,null,null,null,null,null,null,{"$f":"AH35","v":"Rachael Foley"}]
[null,16,{"$f":"'Mixed List'!B17","v":"RCSI"},null,{"$f":"'Mixed List'!$C$17","v":382},{"$f":"'Mixed List'!$D$17","v":0},{"$f":"'Mixed List'!$E$17","v":0},null,{"$f":"'Mixed List'!$F$17","v":0},{"$f":"'Mixed List'!$G$17","v":0},{"$f":"'Mixed List'!$H$17","v":0},null,{"$f":"'Mixed List'!$I$17","v":311},{"$f":"'Mixed List'!$J$17","v":326},{"$f":"'Mixed List'!$K$17","v":0},null,{"$f":"'Mixed List'!$L$17","v":0},{"$f":"'Mixed List'!$M$17","v":0},{"$f":"'Mixed List'!$N$17","v":0},null,{"$f":"'Mixed List'!$O$17","v":0},{"$f":"'Mixed List'!$P$17","v":0},{"$f":"'Mixed List'!$Q$17","v":0},null,{"$f":"'Mixed List'!$W$17","v":1019},{"$f":"'Mixed List'!$X$17","v":0},{"$f":"'Mixed List'!$Y$17","v":1019.06370382},null,null,null,null,null,null,{"$f":"VLOOKUP($C37,$AL$8:$AM$24,2,0)","v":"Zahratulfatin Mohd Mahfoz"}]
[null,null,null,null,{"$f":"'Mixed List'!$R$17","v":382},null,null,null,{"$f":"'Mixed List'!$S$17","v":0},null,null,null,{"$f":"'Mixed List'!$T$17","v":637},null,null,null,{"$f":"'Mixed List'!$U$17","v":0},null,null,null,{"$f":"'Mixed List'!$V$17","v":0},null,null,null,null,null,null,null,null,null,null,null,null,{"$f":"AH37","v":"Zahratulfatin Mohd Mahfoz"}]
[null,17,{"$f":"'Mixed List'!B18","v":"WIT"},null,{"$f":"'Mixed List'!$C$18","v":0},{"$f":"'Mixed List'!$D$18","v":0},{"$f":"'Mixed List'!$E$18","v":0},null,{"$f":"'Mixed List'!$F$18","v":0},{"$f":"'Mixed List'!$G$18","v":0},{"$f":"'Mixed List'!$H$18","v":0},null,{"$f":"'Mixed List'!$I$18","v":0},{"$f":"'Mixed List'!$J$18","v":0},{"$f":"'Mixed List'!$K$18","v":0},null,{"$f":"'Mixed List'!$L$18","v":0},{"$f":"'Mixed List'!$M$18","v":0},{"$f":"'Mixed List'!$N$18","v":0},null,{"$f":"'Mixed List'!$O$18","v":0},{"$f":"'Mixed List'!$P$18","v":0},{"$f":"'Mixed List'!$Q$18","v":0},null,{"$f":"'Mixed List'!$W$18","v":0},{"$f":"'Mixed List'!$X$18","v":0},{"$f":"'Mixed List'!$Y$18","v":0},null,null,null,null,null,null,{"$f":"VLOOKUP($C39,$AL$8:$AM$24,2,0)","v":0}]
[null,null,null,null,{"$f":"'Mixed List'!$R$18","v":0},null,null,null,{"$f":"'Mixed List'!$S$18","v":0},null,null,null,{"$f":"'Mixed List'!$T$18","v":0},null,null,null,{"$f":"'Mixed List'!$U$18","v":0},null,null,null,{"$f":"'Mixed List'!$V$18","v":0},null,null,null,null,null,null,null,null,null,null,null,null,{"$f":"AH39","v":0}]
[null,18,{"$f":"'Mixed List'!B19","v":"AAA"},null,{"$f":"'Mixed List'!$C$19","v":0},{"$f":"'Mixed List'!$D$19","v":0},{"$f":"'Mixed List'!$E$19","v":0},null,{"$f":"'Mixed List'!$F$19","v":0},{"$f":"'Mixed List'!$G$19","v":0},{"$f":"'Mixed List'!$H$19","v":0},null,{"$f":"'Mixed List'!$I$19","v":0},{"$f":"'Mixed List'!$J$19","v":0},{"$f":"'Mixed List'!$K$19","v":0},null,{"$f":"'Mixed List'!$L$19","v":0},{"$f":"'Mixed List'!$M$19","v":0},{"$f":"'Mixed List'!$N$19","v":0},null,{"$f":"'Mixed List'!$O$19","v":0},{"$f":"'Mixed List'!$P$19","v":0},{"$f":"'Mixed List'!$Q$19","v":0},null,{"$f":"'Mixed List'!$W$19","v":0},{"$f":"'Mixed List'!$X$19","v":0},{"$f":"'Mixed List'!$Y$19","v":0},null,null,null,null,null,null,{"$f":"VLOOKUP($C41,$AL$8:$AM$24,2,0)","v":0}]
[null,null,null,null,{"$f":"'Mixed List'!$R$19","v":0},null,null,null,{"$f":"'Mixed List'!$S$19","v":0},null,null,null,{"$f":"'Mixed List'!$T$19","v":0},null,null,null,{"$f":"'Mixed List'!$U$19","v":0},null,null,null,{"$f":"'Mixed List'!$V$19","v":0},null,null,null,null,null,null,null,null,null,null,null,null,{"$f":"AH41","v":0}]
[null,19,{"$f":"'Mixed List'!B20","v":"BBB"},null,{"$f":"'Mixed List'!$C$20","v":0},{"$f":"'Mixed List'!$D$20","v":0},{"$f":"'Mixed List'!$E$20","v":0},null,{"$f":"'Mixed List'!$F$20","v":0},{"$f":"'Mixed List'!$G$20","v":0},{"$f":"'Mixed List'!$H$20","v":0},null,{"$f":"'Mixed List'!$I$20","v":0},{"$f":"'Mixed List'!$J$20","v":0},{"$f":"'Mixed List'!$K$20","v":0},null,{"$f":"'Mixed List'!$L$20","v":0},{"$f":"'Mixed List'!$M$20","v":0},{"$f":"'Mixed List'!$N$20","v":0},null,{"$f":"'Mixed List'!$O$20","v":0},{"$f":"'Mixed List'!$P$20","v":0},{"$f":"'Mixed List'!$Q$20","v":0},null,{"$f":"'Mixed List'!$W$20","v":0},{"$f":"'Mixed List'!$X$20","v":0},{"$f":"'Mixed List'!$Y$20","v":0},null,null,null,null,null,null,{"$f":"VLOOKUP($C43,$AL$8:$AM$24,2,0)","v":{"$error":"#N/A"}}]
[null,null,null,null,{"$f":"'Mixed List'!$R$20","v":0},null,null,null,{"$f":"'Mixed List'!$S$20","v":0},null,null,null,{"$f":"'Mixed List'!$T$20","v":0},null,null,null,{"$f":"'Mixed List'!$U$20","v":0},null,null,null,{"$f":"'Mixed List'!$V$20","v":0},null,null,null,null,null,null,null,null,null,null,null,null,{"$f":"AH43","v":{"$error":"#N/A"}}]
[null,20,{"$f":"'Mixed List'!B21","v":"CCC"},null,{"$f":"'Mixed List'!$C$21","v":0},{"$f":"'Mixed List'!$D$21","v":0},{"$f":"'Mixed List'!$E$21","v":0},null,{"$f":"'Mixed List'!$F$21","v":0},{"$f":"'Mixed List'!$G$21","v":0},{"$f":"'Mixed List'!$H$21","v":0},null,{"$f":"'Mixed List'!$I$21","v":0},{"$f":"'Mixed List'!$J$21","v":0},{"$f":"'Mixed List'!$K$21","v":0},null,{"$f":"'Mixed List'!$L$21","v":0},{"$f":"'Mixed List'!$M$21","v":0},{"$f":"'Mixed List'!$N$21","v":0},null,{"$f":"'Mixed List'!$O$21","v":0},{"$f":"'Mixed List'!$P$21","v":0},{"$f":"'Mixed List'!$Q$21","v":0},null,{"$f":"'Mixed List'!$W$21","v":0},{"$f":"'Mixed List'!$X$21","v":0},{"$f":"'Mixed List'!$Y$21","v":0},null,null,null,null,null,null,{"$f":"VLOOKUP($C45,$AL$8:$AM$24,2,0)","v":{"$error":"#N/A"}}]
[null,null,null,null,{"$f":"'Mixed List'!$R$21","v":0},null,null,null,{"$f":"'Mixed List'!$S$21","v":0},null,null,null,{"$f":"'Mixed List'!$T$21","v":0},null,null,null,{"$f":"'Mixed List'!$U$21","v":0},null,null,null,{"$f":"'Mixed List'!$V$21","v":0},null,null,null,null,null,null,null,null,null,null,null,null,{"$f":"AH45","v":{"$error":"#N/A"}}]
[null,21,{"$f":"'Mixed List'!B22","v":"DDD"},null,{"$f":"'Mixed List'!$C$22","v":0},{"$f":"'Mixed List'!$D$22","v":0},{"$f":"'Mixed List'!$E$22","v":0},null,{"$f":"'Mixed List'!$F$22","v":0},{"$f":"'Mixed List'!$G$22","v":0},{"$f":"'Mixed List'!$H$22","v":0},null,{"$f":"'Mixed List'!$I$22","v":0},{"$f":"'Mixed List'!$J$22","v":0},{"$f":"'Mixed List'!$K$22","v":0},null,{"$f":"'Mixed List'!$L$22","v":0},{"$f":"'Mixed List'!$M$22","v":0},{"$f":"'Mixed List'!$N$22","v":0},null,{"$f":"'Mixed List'!$O$22","v":0},{"$f":"'Mixed List'!$P$22","v":0},{"$f":"'Mixed List'!$Q$22","v":0},null,{"$f":"'Mixed List'!$W$22","v":0},{"$f":"'Mixed List'!$X$22","v":0},{"$f":"'Mixed List'!$Y$22","v":0},null,null,null,null,null,null,{"$f":"VLOOKUP($C47,$AL$8:$AM$24,2,0)","v":{"$error":"#N/A"}}]
[null,null,null,null,{"$f":"'Mixed List'!$R$22","v":0},null,null,null,{"$f":"'Mixed List'!$S$22","v":0},null,null,null,{"$f":"'Mixed List'!$T$22","v":0},null,null,null,{"$f":"'Mixed List'!$U$22","v":0},null,null,null,{"$f":"'Mixed List'!$V$22","v":0},null,null,null,null,null,null,null,null,null,null,null,null,{"$f":"AH47","v":{"$error":"#N/A"}}]
[null,22,{"$f":"'Mixed List'!B23","v":"EEE"},null,{"$f":"'Mixed List'!$C$23","v":0},{"$f":"'Mixed List'!$D$23","v":0},{"$f":"'Mixed List'!$E$23","v":0},null,{"$f":"'Mixed List'!$F$23","v":0},{"$f":"'Mixed List'!$G$23","v":0},{"$f":"'Mixed List'!$H$23","v":0},null,{"$f":"'Mixed List'!$I$23","v":0},{"$f":"'Mixed List'!$J$23","v":0},{"$f":"'Mixed List'!$K$23","v":0},null,{"$f":"'Mixed List'!$L$23","v":0},{"$f":"'Mixed List'!$M$23","v":0},{"$f":"'Mixed List'!$N$23","v":0},null,{"$f":"'Mixed List'!$O$23","v":0},{"$f":"'Mixed List'!$P$23","v":0},{"$f":"'Mixed List'!$Q$23","v":0},null,{"$f":"'Mixed List'!$W$23","v":0},{"$f":"'Mixed List'!$X$23","v":0},{"$f":"'Mixed List'!$Y$23","v":0},null,null,null,null,null,null,{"$f":"VLOOKUP($C49,$AL$8:$AM$24,2,0)","v":{"$error":"#N/A"}}]
[null,null,null,null,{"$f":"'Mixed List'!$R$23","v":0},null,null,null,{"$f":"'Mixed List'!$S$23","v":0},null,null,null,{"$f":"'Mixed List'!$T$23","v":0},null,null,null,{"$f":"'Mixed List'!$U$23","v":0},null,null,null,{"$f":"'Mixed List'!$V$23","v":0},null,null,null,null,null,null,null,null,null,null,null,null,{"$f":"AH49","v":{"$error":"#N/A"}}]
[{"$f":"$C$7","v":"NUIG"}]

{"sheet":"Printable","index":23,"n_rows":0,"n_cols":0,"rows_kept":0,"cut":false,"hidden":false,"merged":[]}

{"sheet":"Target List","index":24,"n_rows":653,"n_cols":15,"rows_kept":653,"cut":false,"hidden":false,"merged":[]}
[]
["Early Group",null,null,null,null,null,null,null,null,"Late Group"]
[]
[]
["Name","College","Gender","Bow","Level","Face","Points",null,null,"Name","College","Gender","Bow","Level","Face"]
["Aaron Downes","GMIT","M","Recurve","Intermediate","(blank)",391,null,null,"Aaron Downes","GMIT","M","Recurve","Intermediate","(blank)"]
[null,null,null,null,null,null,392,null,null,"Aaron Wong Siu Zhen","DKIT","M","Recurve","Beginner","(blank)"]
[null,null,null,null,null,null,388,null,null,"Ahmad Nasree M Khairuddin Lim","RCSI","M","Recurve","Beginner","(blank)"]
[null,null,null,null,null,null,330,null,null,"Aidan Darcy","IT Tallaght","M","Recurve","Advanced","(blank)"]
["Aaron Wong Siu Zhen","DKIT","M","Recurve","Beginner","(blank)",279,null,null,"Aishling Dignam","DCU","F","Recurve","Intermediate","(blank)"]
[null,null,null,null,null,null,294,null,null,"Alessandra Pennesi","NUIG","F","Barebow","Beginner","(blank)"]
[null,null,null,null,null,null,393,null,null,"Amy Garde","UCC","F","Barebow","Beginner","(blank)"]
[null,null,null,null,null,null,423,null,null,"Andrew Fahey","GMIT","M","Barebow","Beginner","(blank)"]
["Ahmad Nasree M Khairuddin Lim","RCSI","M","Recurve","Beginner","(blank)",372,null,null,"Andrew Fairbrother","UCD","M","Barebow","Beginner","(blank)"]
["Aidan Darcy","IT Tallaght","M","Recurve","Advanced","(blank)",488,null,null,"Andrew Neville","UU","M","Recurve","Beginner","(blank)"]
[null,null,null,null,null,null,473,null,null,"Andrew Warrington","GMITC","M","Barebow","Advanced","(blank)"]
[null,null,null,null,null,null,503,null,null,"Andy Canavan","DCU","M","Recurve","Intermediate","(blank)"]
[null,null,null,null,null,null,401,null,null,"Anke Jaeger","NUIG","F","Barebow","Beginner","(blank)"]
[null,null,null,null,null,null,525,null,null,"Anna Bergert","DKIT","F","Recurve","Beginner","(blank)"]
["Aishling Dignam","DCU","F","Recurve","Intermediate","(blank)",346,null,null,"Aoife Monaghan","GMIT","F","Barebow","Advanced","(blank)"]
[null,null,null,null,null,null,398,null,null,"Aonghus Condren","UCD","M","Recurve","Beginner","(blank)"]
[null,null,null,null,null,null,359,null,null,"Apoorva Kashyap","UU","F","Recurve","Beginner","(blank)"]
[null,null,null,null,null,null,314,null,null,"Artem Semenov","UL","M","Recurve","Beginner","(blank)"]
["Alessandra Pennesi","NUIG","F","Barebow","Beginner","(blank)",211,null,null,"Asia Tayyab","GMIT","F","Recurve","Beginner","(blank)"]
["Amy Garde","UCC","F","Barebow","Beginner","(blank)",289,null,null,"Azeem Mohd Elias","UCD","M","Recurve","Beginner","(blank)"]
["Andrew Fahey","GMIT","M","Barebow","Beginner","(blank)",360,null,null,"Bernard O'Connor","DCU","M","Barebow","Advanced","(blank)"]
[null,null,null,null,null,null,391,null,null,"Beth Freeman","DCU","F","Compound","Advanced","(blank)"]
[null,null,null,null,null,null,393,null,null,"Blair Flinn","UCD","M","Barebow","Beginner","(blank)"]
[null,null,null,null,null,null,307,null,null,"Brendan Browne","GMIT","M","Compound","Advanced","(blank)"]
[null,null,null,null,null,null,439,null,null,"Brendan Forde","DIT","M","Recurve","Advanced","(blank)"]
["Andrew Fairbrother","UCD","M","Barebow","Beginner","(blank)",121,null,null,"Brendan McManus","DCU","M","Recurve","Intermediate","(blank)"]
["Andrew Neville","UU","M","Recurve","Beginner","(blank)",365,null,null,"Brendan O'Sullivan","UCC","M","Recurve","Beginner","(blank)"]
[null,null,null,null,null,null,380,null,null,"Brian Conroy","UCC","M","Recurve","Intermediate","(blank)"]
["Andrew Warrington","GMITC","M","Barebow","Advanced","(blank)",274,null,null,"Brian McDonagh ITT","IT Tallaght","M","Barebow","Beginner","(blank)"]
[null,null,null,null,null,null,321,null,null,"Brian McDonagh MU","MU","M","Barebow","Beginner","(blank)"]
[null,null,null,null,null,null,306,null,null,"Brian Swayne","UCC","M","Recurve","Beginner","(blank)"]
["Andy Canavan","DCU","M","Recurve","Intermediate","(blank)",429,null,null,"Bronwyn Berkeley","DUAC","F","Recurve","Beginner","(blank)"]
[null,null,null,null,null,null,400,null,null,"Bruna Duarte","DIT","F","Recurve","Beginner","(blank)"]
["Anke Jaeger","NUIG","F","Barebow","Beginner","(blank)",250,null,null,"Bruna Mota","UCD","F","Recurve","Beginner","(blank)"]
["Anna Bergert","DKIT","F","Recurve","Beginner","(blank)",383,null,null,"Caoimhe Lalor","UCD","M","Recurve","Beginner","(blank)"]
["Aoife Monaghan","GMIT","F","Barebow","Advanced","(blank)",307,null,null,"Carl Byrne","NUIG","M","Compound","Advanced","(blank)"]
[null,null,null,null,null,null,156,null,null,"Carl McCaffery","UCD","M","Recurve","Advanced","(blank)"]
["Aonghus Condren","UCD","M","Recurve","Beginner","(blank)",387,null,null,"Carla Reinhardt","UCC","F","Recurve","Beginner","(blank)"]
["Apoorva Kashyap","UU","F","Recurve","Beginner","(blank)",200,null,null,"Caroline Clarke","GMITC","F","Barebow","Beginner","(blank)"]
["Artem Semenov","UL","M","Recurve","Beginner","(blank)",405,null,null,"Casey Patmore","UCD","M","Recurve","Beginner","(blank)"]
["Asia Tayyab","GMIT","F","Recurve","Beginner","(blank)",407,null,null,"Charles O'Dowd","UCD","M","Recurve","Intermediate","(blank)"]
[null,null,null,null,null,null,376,null,null,"Charlotte Lokko","MU","F","Barebow","Beginner","(blank)"]
[null,null,null,null,null,null,283,null,null,"Chris O'Leary","UCC","M","Recurve","Intermediate","(blank)"]
[null,null,null,null,null,null,330,null,null,"Chris Riddell","NUIG","M","Recurve","Beginner","(blank)"]
[null,null,null,null,null,null,278,null,null,"Christo Pretorious","DUAC","M","Recurve","Advanced","(blank)"]
["Azeem Mohd Elias","UCD","M","Recurve","Beginner","(blank)",335,null,null,"Christopher Balfe","IT Tallaght","M","Barebow","Beginner","(blank)"]
["Bernard O'Connor","DCU","M","Barebow","Advanced","(blank)",403,null,null,"Christopher Ryan","NUIG","M","Compound","Advanced","(blank)"]
[null,null,null,null,null,null,404,null,null,"Chua Wei Kwan","DKIT","M","Recurve","Beginner","(blank)"]
[null,null,null,null,null,null,411,null,null,"Cian Butler","DCU","M","Recurve","Intermediate","(blank)"]
[null,null,null,null,null,null,379,null,null,"Ciara Fergus","UL","F","Recurve","Intermediate","(blank)"]
[null,null,null,null,null,null,326,null,null,"Ciara O'Sullivan","DCU","F","Recurve","Intermediate","(blank)"]
["Beth Freeman","DCU","F","Compound","Advanced","(blank)",494,null,null,"Ciarán Martin","MU","M","Barebow","Beginner","(blank)"]
[null,null,null,null,null,null,526,null,null,"Ciarán Martin ","MU","M","Barebow","Beginner","(blank)"]
[null,null,null,null,null,null,517,null,null,"Cillian Byrne","DCU","M","Compound","Advanced","(blank)"]
["Blair Flinn","UCD","M","Barebow","Beginner","(blank)",267,null,null,"Clarke-Ng Choy-Ping","DUAC","F","Recurve","Intermediate","(blank)"]
["Brendan Browne","GMIT","M","Compound","Advanced","(blank)",532,null,null,"Conn De Barra","DUAC","M","Barebow","Beginner","(blank)"]
[null,null,null,null,null,null,545,null,null,"Connor Newman","MU","M","Barebow","Beginner","(blank)"]
[null,null,null,null,null,null,548,null,null,null,null,null,"Recurve","Beginner","(blank)"]
[null,null,null,null,null,null,547,null,null,"Conor McCann","GMIT","M","Recurve","Intermediate","(blank)"]
["Brendan Forde","DIT","M","Recurve","Advanced","(blank)",506,null,null,"Conor Moran","UL","M","Recurve","Intermediate","(blank)"]
[null,null,null,null,null,null,509,null,null,"Conor Ó Beoláin","NUIG","M","Barebow","Advanced","(blank)"]
[null,null,null,null,null,null,512,null,null,"Conor O'Brien","UL","M","Recurve","Beginner","(blank)"]
[null,null,null,null,null,null,515,null,null,"Conor Sheridan","UCD","M","Barebow","Beginner","(blank)"]
[null,null,null,null,null,null,513,null,null,"Conor Winters","DKIT","M","Recurve","Beginner","(blank)"]
["Brendan McManus","DCU","M","Recurve","Intermediate","(blank)",443,null,null,"Cormac Begley","DUAC","M","Barebow","Beginner","(blank)"]
[null,null,null,null,null,null,471,null,null,"Cormac O'Callaghan","UCC","M","Recurve","Beginner","(blank)"]
[null,null,null,null,null,null,496,null,null,"Dáire Healy","DUAC","M","Recurve","Advanced","(blank)"]
[null,null,null,null,null,null,402,null,null,"Dale Burke","GMIT","M","Recurve","Advanced","(blank)"]
["Brendan O'Sullivan","UCC","M","Recurve","Beginner","(blank)",413,null,null,"Daniel Kelly","NUIG","M","Barebow","Advanced","(blank)"]
[null,null,null,null,null,null,483,null,null,"Darragh Kellegher","UL","M","Recurve","Beginner","(blank)"]
[null,null,null,null,null,null,447,null,null,"Darren Martyn","GMIT","M","Barebow","Beginner","(blank)"]
["Brian Conroy","UCC","M","Recurve","Intermediate","(blank)",293,null,null,"Darren Wallace","NUIG","M","Recurve","Advanced","(blank)"]
[null,null,null,null,null,null,366,null,null,"Darren Watkin","MU","M","Barebow","Beginner","(blank)"]
["Brian McDonagh ITT","IT Tallaght","M","Barebow","Beginner","(blank)",205,null,null,"David Melcher","IT Tallaght","M","Barebow","Beginner","(blank)"]
[null,null,null,null,null,null,308,null,null,"David Price","ITC","M","Barebow","Advanced","(blank)"]
[null,null,null,null,null,null,283,null,null,"Dean Lalor","DCU","M","Barebow","Advanced","(blank)"]
[null,null,null,null,null,null,313,null,null,"Devon Long","UL","M","Compound","Advanced","(blank)"]
["Brian McDonagh MU","MU","M","Barebow","Beginner","(blank)",430,null,null,null,null,null,"Recurve","Beginner","(blank)"]
["Brian Swayne","UCC","M","Recurve","Beginner","(blank)",378,null,null,"Diego Coyle Diez","MU","M","Recurve","Advanced","(blank)"]
[null,null,null,null,null,null,455,null,null,"DJ Roche","MU","M","Recurve","Intermediate","(blank)"]
[null,null,null,null,null,null,448,null,null,"Domagoj Kos","UCD","M","Barebow","Beginner","(blank)"]
["Bronwyn Berkeley","DUAC","F","Recurve","Beginner","(blank)",121,null,null,"Domhnall Ò Póil","MU","M","Recurve","Beginner","(blank)"]
["Bruna Duarte","DIT","F","Recurve","Beginner","(blank)",421,null,null,"Dylan Do Couto","DCU","M","Barebow","Beginner","(blank)"]
[null,null,null,null,null,null,303,null,null,"Eimhin Gaynor","GMIT","M","Compound","Advanced","(blank)"]
["Bruna Mota","UCD","F","Recurve","Beginner","(blank)",424,null,null,"Elliot Barry","MU","M","Barebow","Beginner","(blank)"]
[null,null,null,null,null,null,395,null,null,"Ellis O'Sulliven","UCD","F","Barebow","Advanced","(blank)"]
[null,null,null,null,null,null,327,null,null,"Emily Flanagan","NUIG","F","Barebow","Advanced","(blank)"]
["Caoimhe Lalor","UCD","M","Recurve","Beginner","(blank)",168,null,null,"Emma Goodwin","DCU","F","Recurve","Intermediate","(blank)"]
["Carl Byrne","NUIG","M","Compound","Advanced","(blank)",560,null,null,"Emma-Jane Doyle","IT Tallaght","F","Barebow","Beginner","(blank)"]
["Carl McCaffery","UCD","M","Recurve","Advanced","(blank)",522,null,null,"Eoin De Brit","MU","M","Barebow","Beginner","(blank)"]
[null,null,null,null,null,null,529,null,null,"Eoin Dwyer","GMITC","M","Barebow","Beginner","(blank)"]
[null,null,null,null,null,null,503,null,null,"Eoin Hartigan","UL","M","Recurve","Intermediate","(blank)"]
[null,null,null,null,null,null,528,null,null,"Eric Moore","NUIG","M","Recurve","Advanced","(blank)"]
[null,null,null,null,null,null,517,null,null,"Eunice Kiew Ying Sing","DKIT","F","Recurve","Beginner","(blank)"]
["Carla Reinhardt","UCC","F","Recurve","Beginner","(blank)",266,null,null,"Eve Kearney","DUAC","F","Recurve","Intermediate","(blank)"]
[null,null,null,null,null,null,392,null,null,"Fiona Maguire","UCD","F","Recurve","Beginner","(blank)"]
[null,null,null,null,null,null,424,null,null,"Frank Stafford","UL","M","Recurve","Intermediate","(blank)"]
[null,null,null,null,null,null,399,null,null,"Gabrielle Zeman","NUIG","F","Barebow","Beginner","(blank)"]
["Caroline Clarke","GMITC","F","Barebow","Beginner","(blank)",283,null,null,"Gary Kelly","DCU","M","Recurve","Advanced","(blank)"]
[null,null,null,null,null,null,167,null,null,"Gavin Munnelly","DCU","M","Barebow","Beginner","(blank)"]
[null,null,null,null,null,null,181,null,null,"Glen Conway","IT Tallaght","M","Compound","Advanced","(blank)"]
[null,null,null,null,null,null,260,null,null,"Gordon Cowpar","UCD","M","Recurve","Beginner","(blank)"]
["Casey Patmore","UCD","M","Recurve","Beginner","(blank)",261,null,null,"Hannah Cunniffe","GMIT","F","Barebow","Beginner","(blank)"]
["Charles O'Dowd","UCD","M","Recurve","Intermediate","(blank)",414,null,null,"Heather Kelly","IT Tallaght","F","Barebow","Beginner","(blank)"]
[null,null,null,null,null,null,423,null,null,"Helen Lacey","NUIG","F","Recurve","Beginner","(blank)"]
[null,null,null,null,null,null,435,null,null,"Hugh Carrol","DIT","M","Recurve","Beginner","(blank)"]
[null,null,null,null,null,null,482,null,null,"Hugh Farrell","MU","M","Recurve","Advanced","(blank)"]
[null,null,null,null,null,null,465,null,null,"Ian Nora","UL","M","Recurve","Beginner","(blank)"]
["Charlotte Lokko","MU","F","Barebow","Beginner","(blank)",275,null,null,"Ines Rauch","UCD","F","Recurve","Advanced","(blank)"]
[null,null,null,null,null,null,307,null,null,"Issabele Mayumi","DCU","M","Recurve","Intermediate","(blank)"]
[null,null,null,null,null,null,206,null,null,"Jack Buttery","DUAC","M","Barebow","Beginner","(blank)"]
[null,null,null,null,null,null,267,null,null,"Jack Deane","NUIG","M","Recurve","Beginner","(blank)"]
[null,null,null,null,null,null,306,null,null,"Jacob Byrne","DIT","M","Recurve","Beginner","(blank)"]
["Chris O'Leary","UCC","M","Recurve","Intermediate","(blank)",411,null,null,"James Burke","NUIG","M","Recurve","Intermediate","(blank)"]
[null,null,null,null,null,null,390,null,null,"James Byrne ","DIT","M","Recurve","Advanced","(blank)"]
["Chris Riddell","NUIG","M","Recurve","Beginner","(blank)",386,null,null,"James Floyd","MU","M","Compound","Advanced","(blank)"]
[null,null,null,null,null,null,434,null,null,"James Greer","UCD","M","Recurve","Intermediate","(blank)"]
[null,null,null,null,null,null,342,null,null,"Jamie McMahon","IT Tallaght","M","Barebow","Beginner","(blank)"]
[null,null,null,null,null,null,314,null,null,"Jane Meehan","DKIT","F","Recurve","Beginner","(blank)"]
[null,null,null,null,null,null,328,null,null,"Jay McCarron","GMIT","M","Barebow","Advanced","(blank)"]
["Christo Pretorious","DUAC","M","Recurve","Advanced","(blank)",290,null,null,"Jen Daly","DIT","F","Recurve","Advanced","(blank)"]
["Christopher Balfe","IT Tallaght","M","Barebow","Beginner","(blank)",395,null,null,"Jericho Siababa","DCU","M","Barebow","Advanced","(blank)"]
[null,null,null,null,null,null,369,null,null,"Joao Vitor","NUIG","M","Compound","Advanced","(blank)"]
[null,null,null,null,null,null,439,null,null,"Jocelyn Yee","DKIT","F","Recurve","Advanced","(blank)"]
["Christopher Ryan","NUIG","M","Compound","Advanced","(blank)",565,null,null,"John Hally","UL","M","Recurve","Advanced","(blank)"]
[null,null,null,null,null,null,561,null,null,"Jonas Seesing","NUIG","M","Recurve","Beginner","(blank)"]
[null,null,null,null,null,null,549,null,null,"Jonnie Swain","UU","M","Barebow","Beginner","(blank)"]
["Chua Wei Kwan","DKIT","M","Recurve","Beginner","(blank)",405,null,null,"Jordan McCord","UU","M","Recurve","Advanced","(blank)"]
[null,null,null,null,null,null,464,null,null,"Jordan McMullan","UU","M","Recurve","Beginner","(blank)"]
[null,null,null,null,null,null,439,null,null,"Joshua Tracey","DIT","M","Recurve","Intermediate","(blank)"]
[null,null,null,null,null,null,454,null,null,"Judith Bell","UU","F","Recurve","Beginner","(blank)"]
["Cian Butler","DCU","M","Recurve","Intermediate","(blank)",224,null,null,"Julia Obara","NUIG","F","Recurve","Intermediate","(blank)"]
["Ciara Fergus","UL","F","Recurve","Intermediate","(blank)",352,null,null,"Julie Saes","NUIG","F","Barebow","Beginner","(blank)"]
[null,null,null,null,null,null,335,null,null,"Katie Doyle","UCD","F","Recurve","Intermediate","(blank)"]
[null,null,null,null,null,null,306,null,null,"Katie Kruse","NUIG","F","Barebow","Beginner","(blank)"]
[null,null,null,null,null,null,277,null,null,"Kelvin Yee","DKIT","M","Recurve","Intermediate","(blank)"]
["Ciara O'Sullivan","DCU","F","Recurve","Intermediate","(blank)",411,null,null,"Kerrie Leonard","MU","F","Compound","Advanced","(blank)"]
[null,null,null,null,null,null,443,null,null,"Kevin Kok Zhi Hao","DKIT","M","Recurve","Advanced","(blank)"]
[null,null,null,null,null,null,469,null,null,"Kieran Cullinane","NUIG","M","Recurve","Intermediate","(blank)"]
[null,null,null,null,null,null,472,null,null,"Kristian Bongo","DIT","M","Recurve","Intermediate","(blank)"]
["Ciarán Martin","MU","M","Barebow","Beginner","(blank)",380,null,null,"Kyle Rosso","UCD","M","Recurve","Beginner","(blank)"]
[null,null,null,null,null,null,296,null,null,"Laura Ciesa","UL","F","Recurve","Beginner","(blank)"]
[null,null,null,null,null,null,327,null,null,"Laury Despres","MU","F","Barebow","Beginner","(blank)"]
[null,null,null,null,null,null,298,null,null,null,null,null,"Recurve","Beginner","(blank)"]
["Ciarán Martin ","MU","M","Barebow","Beginner","(blank)",413,null,null,"Lee Nolan","GMITC","M","Barebow","Beginner","(blank)"]
["Cillian Byrne","DCU","M","Compound","Advanced","(blank)",535,null,null,"Leo Byrne","ITC","M","Recurve","Intermediate","(blank)"]
[null,null,null,null,null,null,544,null,null,"Liam Doyle","UL","M","Recurve","Beginner","(blank)"]
[null,null,null,null,null,null,540,null,null,"Liam Higgins","UL","M","Recurve","Beginner","(blank)"]
[null,null,null,null,null,null,547,null,null,"Lim Cheng Bin","DKIT","M","Recurve","Beginner","(blank)"]
[null,null,null,null,null,null,539,null,null,"Lorenzo Diago","DCU","M","Recurve","Beginner","(blank)"]
["Clarke-Ng Choy-Ping","DUAC","F","Recurve","Intermediate","(blank)",367,null,null,"Luke Blake","UL","M","Recurve","Intermediate","(blank)"]
[null,null,null,null,null,null,407,null,null,"Luke Oonan","DCU","M","Compound","Advanced","(blank)"]
["Conn De Barra","DUAC","M","Barebow","Beginner","(blank)",201,null,null,"Lynda Miller","GMIT","F","Recurve","Beginner","(blank)"]
[null,null,null,null,null,null,152,null,null,"Maeve Ruan","UCD","F","Recurve","Beginner","(blank)"]
["Connor Newman","MU","M","Recurve","Beginner","(blank)",398,null,null,"Maorgain Siede","UCC","F","Barebow","Beginner","(blank)"]
[null,null,null,null,null,null,424,null,null,"Maria Borck","UL","F","Recurve","Beginner","(blank)"]
[null,null,null,null,null,null,440,null,null,"Maria Jacob","UCD","F","Recurve","Intermediate","(blank)"]
[null,null,null,null,null,null,451,null,null,"Mark Harrington","NUIG","M","Barebow","Beginner","(blank)"]
[null,null,null,"Barebow","Beginner","(blank)",359,null,null,"Mark Sherlock","GMIT","M","Recurve","Intermediate","(blank)"]
["Conor McCann","GMIT","M","Recurve","Intermediate","(blank)",398,null,null,"Mark Walsh","NUIG","M","Recurve","Advanced","(blank)"]
[null,null,null,null,null,null,435,null,null,"Marko Kovacevic","GMIT","M","Compound","Advanced","(blank)"]
[null,null,null,null,null,null,324,null,null,"Marta Jurczak","DUAC","F","Recurve","Beginner","(blank)"]
[null,null,null,null,null,null,401,null,null,"Martha Chege","UU","F","Recurve","Beginner","(blank)"]
[null,null,null,null,null,null,256,null,null,"Mary Aherne","NUIG","F","Recurve","Beginner","(blank)"]
["Conor Moran","UL","M","Recurve","Intermediate","(blank)",257,null,null,"Matthew O'Connor","MU","M","Barebow","Beginner","(blank)"]
["Conor Ó Beoláin","NUIG","M","Barebow","Advanced","(blank)",393,null,null,"Max Fursman","DUAC","M","Barebow","Beginner","(blank)"]
[null,null,null,null,null,null,471,null,null,"Melissa Gueey","ITC","F","Barebow","Beginner","(blank)"]
[null,null,null,null,null,null,340,null,null,"Michaela Ní Mhurchú","GMITC","F","Barebow","Beginner","(blank)"]
["Conor O'Brien","UL","M","Recurve","Beginner","(blank)",294,null,null,"Minni Hiltunen","DIT","F","Recurve","Beginner","(blank)"]
[null,null,null,null,null,null,310,null,null,"Morgan Russell-Cowan","UU","F","Compound","Advanced","(blank)"]
[null,null,null,null,null,null,405,null,null,"Muhammad Hakim Mohd Nasir","RCSI","M","Recurve","Intermediate","(blank)"]
[null,null,null,null,null,null,300,null,null,"Nada Khaled-Abdo","NUIG","F","Barebow","Advanced","(blank)"]
[null,null,null,null,null,null,287,null,null,"Nadia Rodgers","UU","F","Recurve","Beginner","(blank)"]
["Conor Sheridan","UCD","M","Barebow","Beginner","(blank)",299,null,null,"Nathan Tracey","DIT","M","Recurve","Beginner","(blank)"]
["Conor Winters","DKIT","M","Recurve","Beginner","(blank)",488,null,null,"Niall O'Hanlon","DCU","M","Barebow","Advanced","(blank)"]
[null,null,null,null,null,null,508,null,null,"Niamh Kenny","NUIG","F","Compound","Advanced","(blank)"]
[null,null,null,null,null,null,455,null,null,"Niamh Merry","DCU","F","Compound","Advanced","(blank)"]
[null,null,null,null,null,null,486,null,null,"Niamh Meyler","NUIG","F","Barebow","Beginner","(blank)"]
["Cormac Begley","DUAC","M","Barebow","Beginner","(blank)",253,null,null,"Nicole Maoirano","DUAC","F","Barebow","Beginner","(blank)"]
[null,null,null,null,null,null,282,null,null,"Nik Idlan Faiq","RCSI","M","Barebow","Beginner","(blank)"]
[null,null,null,null,null,null,267,null,null,"Nor Fatin Farhani","RCSI","F","Recurve","Beginner","(blank)"]
["Cormac O'Callaghan","UCC","M","Recurve","Beginner","(blank)",397,null,null,"Oskar Ronan","DUAC","M","Recurve","Advanced","(blank)"]
[null,null,null,null,null,null,452,null,null,"Ozeane Zeis","UL","F","Recurve","Beginner","(blank)"]
[null,null,null,null,null,null,466,null,null,"Patrick Molloy","NUIG","M","Recurve","Advanced","(blank)"]
[null,null,null,null,null,null,453,null,null,"Paul Beirne","UCD","M","Recurve","Intermediate","(blank)"]
["Dáire Healy","DUAC","M","Recurve","Advanced","(blank)",389,null,null,"Pawel Nalecz-Nieniewski","ITC","M","Barebow","Advanced","(blank)"]
[null,null,null,null,null,null,379,null,null,"Philip Early","DCU","M","Recurve","Intermediate","(blank)"]
[null,null,null,null,null,null,410,null,null,"Rachael Foley","NCAD","F","Recurve","Advanced","(blank)"]
["Dale Burke","GMIT","M","Recurve","Advanced","(blank)",488,null,null,"Raizel Burstein-Frame","NUIG","F","Barebow","Advanced","(blank)"]
[null,null,null,null,null,null,501,null,null,"Raja Nur Iyliani","RCSI","F","Recurve","Beginner","(blank)"]
[null,null,null,null,null,null,524,null,null,"Rashed Alfuzaie","RCSI","M","Barebow","Beginner","(blank)"]
[null,null,null,null,null,null,517,null,null,"Raymond Conlin","NUIG","M","Barebow","Beginner","(blank)"]
["Daniel Kelly","NUIG","M","Barebow","Advanced","(blank)",293,null,null,"Raymond Onwunali","MU","M","Barebow","Beginner","(blank)"]
[null,null,null,null,null,null,383,null,null,"Richard Morrell","ITC","M","Barebow","Beginner","(blank)"]
["Darragh Kellegher","UL","M","Recurve","Beginner","(blank)",331,null,null,"Ross McQuade","UU","M","Compound","Advanced","(blank)"]
[null,null,null,null,null,null,400,null,null,"Ryan Claffey","GMIT","M","Barebow","Beginner","(blank)"]
[null,null,null,null,null,null,308,null,null,"Sam Gibson","MU","M","Recurve","Beginner","(blank)"]
["Darren Martyn","GMIT","M","Barebow","Beginner","(blank)",440,null,null,"Sam Gibson ","MU","M","Barebow","Beginner","(blank)"]
[null,null,null,null,null,null,291,null,null,"Sarah Howard","DCU","F","Barebow","Advanced","(blank)"]
["Darren Wallace","NUIG","M","Recurve","Advanced","(blank)",569,null,null,"Sean Flynn","IT Tallaght","M","Barebow","Beginner","(blank)"]
["Darren Watkin","MU","M","Barebow","Beginner","(blank)",380,null,null,"Sean Potts","MU","M","Barebow","Beginner","(blank)"]
[null,null,null,null,null,null,287,null,null,"Sean Sinnott","UL","M","Recurve","Intermediate","(blank)"]
["David Melcher","IT Tallaght","M","Barebow","Beginner","(blank)",285,null,null,"See Qui Ren","DKIT","M","Recurve","Intermediate","(blank)"]
["David Price","ITC","M","Barebow","Advanced","(blank)",391,null,null,"Shane Fitzgerald","UCC","M","Recurve","Beginner","(blank)"]
[null,null,null,null,null,null,403,null,null,"Shane McGloin","GMIT","M","Compound","Advanced","(blank)"]
[null,null,null,null,null,null,370,null,null,"Shane O'Sulliven","UCC","M","Recurve","Intermediate","(blank)"]
["Dean Lalor","DCU","M","Barebow","Advanced","(blank)",394,null,null,"Shannon Birch","IT Tallaght","M","Barebow","Beginner","(blank)"]
[null,null,null,null,null,null,413,null,null,"Sim Jia Cheng","DKIT","M","Recurve","Beginner","(blank)"]
[null,null,null,null,null,null,446,null,null,"Simon Bluett","DUAC","M","Barebow","Beginner","(blank)"]
[null,null,null,null,null,null,469,null,null,"Simon Henleywillis","UCC","M","Recurve","Advanced","(blank)"]
[null,null,null,null,null,null,437,null,null,"Sinead Naughton","GMITC","F","Recurve","Intermediate","(blank)"]
["Devon Long","UL","M","Compound","Advanced","(blank)",520,null,null,"Siobhan Flynn","DUAC","F","Barebow","Beginner","(blank)"]
[null,null,null,"Recurve","Beginner","(blank)",473,null,null,"Siobhán Tuffy","GMIT","F","Barebow","Beginner","(blank)"]
["Diego Coyle Diez","MU","M","Recurve","Advanced","(blank)",512,null,null,"Siun Collins","DIT","F","Recurve","Beginner","(blank)"]
[null,null,null,null,null,null,524,null,null,"Sophie Hunt","GMITC","F","Barebow","Beginner","(blank)"]
[null,null,null,null,null,null,486,null,null,"Sorcha Griffin","MU","F","Barebow","Beginner","(blank)"]
[null,null,null,null,null,null,523,null,null,"Sven Radatz","DKIT","M","Recurve","Beginner","(blank)"]
[null,null,null,null,null,null,530,null,null,"Theo De Groot","UU","M","Barebow","Beginner","(blank)"]
["DJ Roche","MU","M","Recurve","Intermediate","(blank)",306,null,null,"Thijs Siebt","NUIG","M","Recurve","Beginner","(blank)"]
["Domagoj Kos","UCD","M","Barebow","Beginner","(blank)",398,null,null,"Thomas Ganley","GMITC","M","Barebow","Beginner","(blank)"]
["Domhnall Ò Póil","MU","M","Recurve","Beginner","(blank)",460,null,null,"Thomas Joyce","UCD","M","Recurve","Beginner","(blank)"]
[null,null,null,null,null,null,468,null,null,"Vanessa Flood","DIT","F","Recurve","Beginner","(blank)"]
[null,null,null,null,null,null,511,null,null,"Victor Agular","GMITC","M","Barebow","Beginner","(blank)"]
[null,null,null,null,null,null,486,null,null,"Victor Stoian","MU","M","Barebow","Beginner","(blank)"]
[null,null,null,null,null,null,489,null,null,"Victoria Shen Fen Tan","DKIT","F","Recurve","Intermediate","(blank)"]
["Dylan Do Couto","DCU","M","Barebow","Beginner","(blank)",344,null,null,"Vojtěch Halama","NUIG","M","Barebow","Beginner","(blank)"]
[null,null,null,null,null,null,339,null,null,"Wai Hong Keet","DKIT","M","Recurve","Intermediate","(blank)"]
["Eimhin Gaynor","GMIT","M","Compound","Advanced","(blank)",559,null,null,"Wai Jian Keet","DKIT","M","Recurve","Beginner","(blank)"]
[null,null,null,null,null,null,566,null,null,"Yeo Eng Jet","DKIT","M","Recurve","Advanced","(blank)"]
["Elliot Barry","MU","M","Barebow","Beginner","(blank)",348,null,null,"Yingbo Li","ITC","F","Barebow","Beginner","(blank)"]
[null,null,null,null,null,null,380,null,null,"Yuji Okubo","DCU","M","Recurve","Intermediate","(blank)"]
[null,null,null,null,null,null,337,null,null,"Yusuf Fauzi","UCC","M","Recurve","Beginner","(blank)"]
[null,null,null,null,null,null,322,null,null,"Zahratulfatin Mohd Mahfoz","RCSI","F","Recurve","Beginner","(blank)"]
[null,null,null,null,null,null,241,null,null,"Zoe Nicholson","DKIT","F","Recurve","Beginner","(blank)"]
["Ellis O'Sulliven","UCD","F","Barebow","Advanced","(blank)",157,null,null,"(blank)","UCD","(blank)","(blank)","(blank)","(blank)"]
["Emily Flanagan","NUIG","F","Barebow","Advanced","(blank)",286,null,null,null,"GMITC","(blank)","(blank)","(blank)","(blank)"]
["Emma Goodwin","DCU","F","Recurve","Intermediate","(blank)",311,null,null,null,"GMIT","(blank)","(blank)","(blank)","(blank)"]
[null,null,null,null,null,null,375,null,null,null,"RCSI","(blank)","(blank)","(blank)","(blank)"]
[null,null,null,null,null,null,290,null,null,null,"UCC","(blank)","(blank)","(blank)","(blank)"]
["Emma-Jane Doyle","IT Tallaght","F","Barebow","Beginner","(blank)",184,null,null,null,"(blank)","M","Compound","Guest","40cm"]
[null,null,null,null,null,null,223,null,null,null,null,"F","Barebow","Intermediate","60cm"]
[null,null,null,null,null,null,291,null,null,null,null,"(blank)","Recurve","Advanced","3 spot"]
[null,null,null,null,null,null,278,null,null,null,null,null,"(blank)","Beginner","(blank)"]
["Eoin De Brit","MU","M","Barebow","Beginner","(blank)",422,null,null,null,null,null,null,"(blank)","(blank)"]
[null,null,null,null,null,null,336,null,null,null,"UL","(blank)","(blank)","(blank)","(blank)"]
["Eoin Dwyer","GMITC","M","Barebow","Beginner","(blank)",353,null,null,null,"DKIT","(blank)","(blank)","(blank)","(blank)"]
[null,null,null,null,null,null,188,null,null,null,"DCU","(blank)","(blank)","(blank)","(blank)"]
[null,null,null,null,null,null,243,null,null,null,"NUIG","(blank)","(blank)","(blank)","(blank)"]
["Eoin Hartigan","UL","M","Recurve","Intermediate","(blank)",98,null,null,null,"DIT","(blank)","(blank)","(blank)","(blank)"]
["Eric Moore","NUIG","M","Recurve","Advanced","(blank)",399,null,null,null,"DUAC","(blank)","(blank)","(blank)","(blank)"]
[null,null,null,null,null,null,384,null,null,null,"MU","(blank)","(blank)","(blank)","(blank)"]
[null,null,null,null,null,null,380,null,null,null,"ITC","(blank)","(blank)","(blank)","(blank)"]
[null,null,null,null,null,null,322,null,null,null,"UU","(blank)","(blank)","(blank)","(blank)"]
["Eunice Kiew Ying Sing","DKIT","F","Recurve","Beginner","(blank)",501,null,null,null,"NCAD","(blank)","(blank)","(blank)","(blank)"]
[null,null,null,null,null,null,509,null,null,null,"IT Tallaght","(blank)","(blank)","(blank)","(blank)"]
[null,null,null,null,null,null,463,null,null,null,"BBB","(blank)","(blank)","(blank)","(blank)"]
[null,null,null,null,null,null,486,null,null,null,"CCC","(blank)","(blank)","(blank)","(blank)"]
["Eve Kearney","DUAC","F","Recurve","Intermediate","(blank)",380,null,null,null,"DDD","(blank)","(blank)","(blank)","(blank)"]
[null,null,null,null,null,null,273,null,null,null,"EEE","(blank)","(blank)","(blank)","(blank)"]
["Fiona Maguire","UCD","F","Recurve","Beginner","(blank)",371,null,null,null,"AAA","(blank)","(blank)","(blank)","(blank)"]
[null,null,null,null,null,null,281]
[null,null,null,null,null,null,246]
["Frank Stafford","UL","M","Recurve","Intermediate","(blank)",433]
[null,null,null,null,null,null,440]
[null,null,null,null,null,null,448]
[null,null,null,null,null,null,432]
["Gabrielle Zeman","NUIG","F","Barebow","Beginner","(blank)",429]
[null,null,null,null,null,null,193]
["Gary Kelly","DCU","M","Recurve","Advanced","(blank)",480]
[null,null,null,null,null,null,484]
["Gavin Munnelly","DCU","M","Barebow","Beginner","(blank)",417]
["Glen Conway","IT Tallaght","M","Compound","Advanced","(blank)",568]
[null,null,null,null,null,null,537]
[null,null,null,null,null,null,565]
[null,null,null,null,null,null,564]
[null,null,null,null,null,null,567]
["Gordon Cowpar","UCD","M","Recurve","Beginner","(blank)",398]
["Hannah Cunniffe","GMIT","F","Barebow","Beginner","(blank)",329]
[null,null,null,null,null,null,365]
[null,null,null,null,null,null,320]
[null,null,null,null,null,null,402]
[null,null,null,null,null,null,170]
["Heather Kelly","IT Tallaght","F","Barebow","Beginner","(blank)",187]
[null,null,null,null,null,null,118]
["Helen Lacey","NUIG","F","Recurve","Beginner","(blank)",325]
[null,null,null,null,null,null,355]
[null,null,null,null,null,null,404]
[null,null,null,null,null,null,424]
[null,null,null,null,null,null,380]
["Hugh Carrol","DIT","M","Recurve","Beginner","(blank)",285]
["Hugh Farrell","MU","M","Recurve","Advanced","(blank)",509]
[null,null,null,null,null,null,482]
[null,null,null,null,null,null,495]
[null,null,null,null,null,null,502]
["Ian Nora","UL","M","Recurve","Beginner","(blank)",249]
["Ines Rauch","UCD","F","Recurve","Advanced","(blank)",481]
[null,null,null,null,null,null,516]
[null,null,null,null,null,null,473]
[null,null,null,null,null,null,439]
[null,null,null,null,null,null,517]
["Issabele Mayumi","DCU","M","Recurve","Intermediate","(blank)",338]
[null,null,null,null,null,null,343]
["Jack Buttery","DUAC","M","Barebow","Beginner","(blank)",319]
[null,null,null,null,null,null,144]
[null,null,null,null,null,null,308]
["Jack Deane","NUIG","M","Recurve","Beginner","(blank)",379]
[null,null,null,null,null,null,306]
["Jacob Byrne","DIT","M","Recurve","Beginner","(blank)",225]
["James Burke","NUIG","M","Recurve","Intermediate","(blank)",438]
[null,null,null,null,null,null,465]
[null,null,null,null,null,null,459]
["James Byrne ","DIT","M","Recurve","Advanced","(blank)",479]
[null,null,null,null,null,null,481]
[null,null,null,null,null,null,510]
[null,null,null,null,null,null,477]
[null,null,null,null,null,null,497]
["James Floyd","MU","M","Compound","Advanced","(blank)",507]
[null,null,null,null,null,null,510]
["James Greer","UCD","M","Recurve","Intermediate","(blank)",423]
[null,null,null,null,null,null,376]
["Jamie McMahon","IT Tallaght","M","Barebow","Beginner","(blank)",271]
[null,null,null,null,null,null,331]
[null,null,null,null,null,null,383]
[null,null,null,null,null,null,380]
[null,null,null,null,null,null,431]
["Jane Meehan","DKIT","F","Recurve","Beginner","(blank)",393]
[null,null,null,null,null,null,424]
[null,null,null,null,null,null,467]
[null,null,null,null,null,null,376]
["Jay McCarron","GMIT","M","Barebow","Advanced","(blank)",62]
["Jen Daly","DIT","F","Recurve","Advanced","(blank)",409]
[null,null,null,null,null,null,481]
[null,null,null,null,null,null,482]
[null,null,null,null,null,null,498]
["Jericho Siababa","DCU","M","Barebow","Advanced","(blank)",457]
[null,null,null,null,null,null,486]
[null,null,null,null,null,null,465]
[null,null,null,null,null,null,437]
["Joao Vitor","NUIG","M","Compound","Advanced","(blank)",405]
[null,null,null,null,null,null,430]
[null,null,null,null,null,null,380]
[null,null,null,null,null,null,495]
["Jocelyn Yee","DKIT","F","Recurve","Advanced","(blank)",438]
[null,null,null,null,null,null,453]
[null,null,null,null,null,null,456]
["John Hally","UL","M","Recurve","Advanced","(blank)",429]
[null,null,null,null,null,null,436]
["Jonas Seesing","NUIG","M","Recurve","Beginner","(blank)",470]
["Jonnie Swain","UU","M","Barebow","Beginner","(blank)",279]
["Jordan McCord","UU","M","Recurve","Advanced","(blank)",418]
[null,null,null,null,null,null,478]
[null,null,null,null,null,null,496]
[null,null,null,null,null,null,505]
["Jordan McMullan","UU","M","Recurve","Beginner","(blank)",349]
["Joshua Tracey","DIT","M","Recurve","Intermediate","(blank)",409]
[null,null,null,null,null,null,411]
[null,null,null,null,null,null,427]
[null,null,null,null,null,null,385]
[null,null,null,null,null,null,378]
["Judith Bell","UU","F","Recurve","Beginner","(blank)",378]
[null,null,null,null,null,null,376]
[null,null,null,null,null,null,239]
[null,null,null,null,null,null,134]
["Julia Obara","NUIG","F","Recurve","Intermediate","(blank)",354]
[null,null,null,null,null,null,357]
[null,null,null,null,null,null,91]
["Julie Saes","NUIG","F","Barebow","Beginner","(blank)",307]
[null,null,null,null,null,null,451]
["Katie Doyle","UCD","F","Recurve","Intermediate","(blank)",435]
[null,null,null,null,null,null,436]
[null,null,null,null,null,null,464]
["Katie Kruse","NUIG","F","Barebow","Beginner","(blank)",421]
[null,null,null,null,null,null,303]
[null,null,null,null,null,null,262]
["Kelvin Yee","DKIT","M","Recurve","Intermediate","(blank)",428]
[null,null,null,null,null,null,412]
["Kerrie Leonard","MU","F","Compound","Advanced","(blank)",537]
["Kevin Kok Zhi Hao","DKIT","M","Recurve","Advanced","(blank)",458]
[null,null,null,null,null,null,496]
[null,null,null,null,null,null,510]
[null,null,null,null,null,null,495]
[null,null,null,null,null,null,499]
["Kieran Cullinane","NUIG","M","Recurve","Intermediate","(blank)",482]
["Kristian Bongo","DIT","M","Recurve","Intermediate","(blank)",405]
[null,null,null,null,null,null,440]
[null,null,null,null,null,null,457]
[null,null,null,null,null,null,381]
[null,null,null,null,null,null,412]
["Kyle Rosso","UCD","M","Recurve","Beginner","(blank)",374]
[null,null,null,null,null,null,349]
["Laura Ciesa","UL","F","Recurve","Beginner","(blank)",453]
["Laury Despres","MU","F","Recurve","Beginner","(blank)",355]
[null,null,null,null,null,null,386]
[null,null,null,null,null,null,394]
[null,null,null,null,null,null,452]
[null,null,null,"Barebow","Beginner","(blank)",310]
["Lee Nolan","GMITC","M","Barebow","Beginner","(blank)",211]
[null,null,null,null,null,null,291]
["Leo Byrne","ITC","M","Recurve","Intermediate","(blank)",275]
[null,null,null,null,null,null,281]
[null,null,null,null,null,null,306]
[null,null,null,null,null,null,332]
[null,null,null,null,null,null,233]
["Liam Doyle","UL","M","Recurve","Beginner","(blank)",358]
["Liam Higgins","UL","M","Recurve","Beginner","(blank)",375]
[null,null,null,null,null,null,353]
[null,null,null,null,null,null,340]
[null,null,null,null,null,null,317]
["Lim Cheng Bin","DKIT","M","Recurve","Beginner","(blank)",249]
[null,null,null,null,null,null,443]
[null,null,null,null,null,null,296]
[null,null,null,null,null,null,154]
["Lorenzo Diago","DCU","M","Recurve","Beginner","(blank)",371]
[null,null,null,null,null,null,480]
[null,null,null,null,null,null,420]
["Luke Blake","UL","M","Recurve","Intermediate","(blank)",282]
[null,null,null,null,null,null,331]
[null,null,null,null,null,null,324]
[null,null,null,null,null,null,332]
["Luke Oonan","DCU","M","Compound","Advanced","(blank)",265]
[null,null,null,null,null,null,394]
[null,null,null,null,null,null,506]
[null,null,null,null,null,null,497]
[null,null,null,null,null,null,520]
["Lynda Miller","GMIT","F","Recurve","Beginner","(blank)",253]
[null,null,null,null,null,null,444]
[null,null,null,null,null,null,114]
[null,null,null,null,null,null,459]
["Maeve Ruan","UCD","F","Recurve","Beginner","(blank)",70]
["Maorgain Siede","UCC","F","Barebow","Beginner","(blank)",232]
[null,null,null,null,null,null,202]
["Maria Borck","UL","F","Recurve","Beginner","(blank)",232]
[null,null,null,null,null,null,239]
[null,null,null,null,null,null,231]
["Maria Jacob","UCD","F","Recurve","Intermediate","(blank)",404]
[null,null,null,null,null,null,427]
[null,null,null,null,null,null,438]
[null,null,null,null,null,null,425]
[null,null,null,null,null,null,439]
["Mark Harrington","NUIG","M","Barebow","Beginner","(blank)",441]
[null,null,null,null,null,null,341]
["Mark Sherlock","GMIT","M","Recurve","Intermediate","(blank)",311]
[null,null,null,null,null,null,338]
[null,null,null,null,null,null,371]
[null,null,null,null,null,null,393]
[null,null,null,null,null,null,358]
["Mark Walsh","NUIG","M","Recurve","Advanced","(blank)",441]
["Marko Kovacevic","GMIT","M","Compound","Advanced","(blank)",548]
[null,null,null,null,null,null,542]
[null,null,null,null,null,null,547]
[null,null,null,null,null,null,539]
["Marta Jurczak","DUAC","F","Recurve","Beginner","(blank)",284]
["Martha Chege","UU","F","Recurve","Beginner","(blank)",201]
["Mary Aherne","NUIG","F","Recurve","Beginner","(blank)",413]
[null,null,null,null,null,null,464]
[null,null,null,null,null,null,400]
[null,null,null,null,null,null,343]
[null,null,null,null,null,null,420]
["Matthew O'Connor","MU","M","Barebow","Beginner","(blank)",465]
["Max Fursman","DUAC","M","Barebow","Beginner","(blank)",106]
["Melissa Gueey","ITC","F","Barebow","Beginner","(blank)",317]
["Michaela Ní Mhurchú","GMITC","F","Barebow","Beginner","(blank)",77]
[null,null,null,null,null,null,200]
["Minni Hiltunen","DIT","F","Recurve","Beginner","(blank)",389]
[null,null,null,null,null,null,432]
["Morgan Russell-Cowan","UU","F","Compound","Advanced","(blank)",523]
["Muhammad Hakim Mohd Nasir","RCSI","M","Recurve","Intermediate","(blank)",311]
["Nada Khaled-Abdo","NUIG","F","Barebow","Advanced","(blank)",367]
["Nadia Rodgers","UU","F","Recurve","Beginner","(blank)",187]
["Nathan Tracey","DIT","M","Recurve","Beginner","(blank)",414]
[null,null,null,null,null,null,515]
["Niall O'Hanlon","DCU","M","Barebow","Advanced","(blank)",331]
[null,null,null,null,null,null,407]
[null,null,null,null,null,null,422]
[null,null,null,null,null,null,362]
[null,null,null,null,null,null,353]
["Niamh Kenny","NUIG","F","Compound","Advanced","(blank)",529]
[null,null,null,null,null,null,541]
[null,null,null,null,null,null,543]
[null,null,null,null,null,null,538]
[null,null,null,null,null,null,517]
["Niamh Merry","DCU","F","Compound","Advanced","(blank)",361]
[null,null,null,null,null,null,386]
[null,null,null,null,null,null,516]
[null,null,null,null,null,null,523]
[null,null,null,null,null,null,513]
["Niamh Meyler","NUIG","F","Barebow","Beginner","(blank)",348]
["Nicole Maoirano","DUAC","F","Barebow","Beginner","(blank)",42]
[null,null,null,null,null,null,155]
["Nik Idlan Faiq","RCSI","M","Barebow","Beginner","(blank)",166]
["Nor Fatin Farhani","RCSI","F","Recurve","Beginner","(blank)",267]
["Oskar Ronan","DUAC","M","Recurve","Advanced","(blank)",403]
[null,null,null,null,null,null,464]
["Ozeane Zeis","UL","F","Recurve","Beginner","(blank)",288]
["Patrick Molloy","NUIG","M","Recurve","Advanced","(blank)",430]
[null,null,null,null,null,null,483]
[null,null,null,null,null,null,507]
[null,null,null,null,null,null,516]
[null,null,null,null,null,null,410]
["Paul Beirne","UCD","M","Recurve","Intermediate","(blank)",440]
[null,null,null,null,null,null,500]
[null,null,null,null,null,null,426]
[null,null,null,null,null,null,454]
["Pawel Nalecz-Nieniewski","ITC","M","Barebow","Advanced","(blank)",364]
[null,null,null,null,null,null,395]
[null,null,null,null,null,null,359]
[null,null,null,null,null,null,357]
[null,null,null,null,null,null,353]
["Philip Early","DCU","M","Recurve","Intermediate","(blank)",360]
[null,null,null,null,null,null,373]
[null,null,null,null,null,null,372]
[null,null,null,null,null,null,344]
["Rachael Foley","NCAD","F","Recurve","Advanced","(blank)",522]
[null,null,null,null,null,null,515]
["Raizel Burstein-Frame","NUIG","F","Barebow","Advanced","(blank)",159]
[null,null,null,null,null,null,174]
["Raja Nur Iyliani","RCSI","F","Recurve","Beginner","(blank)",190]
["Rashed Alfuzaie","RCSI","M","Barebow","Beginner","(blank)",326]
["Raymond Conlin","NUIG","M","Barebow","Beginner","(blank)",326]
[null,null,null,null,null,null,313]
["Raymond Onwunali","MU","M","Barebow","Beginner","(blank)",334]
["Richard Morrell","ITC","M","Barebow","Beginner","(blank)",292]
[null,null,null,null,null,null,238]
[null,null,null,null,null,null,313]
["Ross McQuade","UU","M","Compound","Advanced","(blank)",261]
["Ryan Claffey","GMIT","M","Barebow","Beginner","(blank)",371]
["Sam Gibson","MU","M","Recurve","Beginner","(blank)",360]
[null,null,null,null,null,null,430]
[null,null,null,null,null,null,466]
[null,null,null,null,null,null,395]
["Sam Gibson ","MU","M","Barebow","Beginner","(blank)",224]
["Sarah Howard","DCU","F","Barebow","Advanced","(blank)",357]
[null,null,null,null,null,null,342]
[null,null,null,null,null,null,296]
["Sean Flynn","IT Tallaght","M","Barebow","Beginner","(blank)",276]
[null,null,null,null,null,null,245]
["Sean Potts","MU","M","Barebow","Beginner","(blank)",325]
[null,null,null,null,null,null,365]
[null,null,null,null,null,null,327]
[null,null,null,null,null,null,406]
["Sean Sinnott","UL","M","Recurve","Intermediate","(blank)",385]
["See Qui Ren","DKIT","M","Recurve","Intermediate","(blank)",427]
[null,null,null,null,null,null,433]
[null,null,null,null,null,null,470]
[null,null,null,null,null,null,453]
[null,null,null,null,null,null,448]
["Shane Fitzgerald","UCC","M","Recurve","Beginner","(blank)",325]
[null,null,null,null,null,null,400]
["Shane McGloin","GMIT","M","Compound","Advanced","(blank)",548]
[null,null,null,null,null,null,538]
["Shane O'Sulliven","UCC","M","Recurve","Intermediate","(blank)",303]
["Shannon Birch","IT Tallaght","M","Barebow","Beginner","(blank)",351]
[null,null,null,null,null,null,387]
[null,null,null,null,null,null,384]
[null,null,null,null,null,null,261]
["Sim Jia Cheng","DKIT","M","Recurve","Beginner","(blank)",427]
[null,null,null,null,null,null,450]
[null,null,null,null,null,null,349]
[null,null,null,null,null,null,437]
["Simon Bluett","DUAC","M","Barebow","Beginner","(blank)",248]
["Simon Henleywillis","UCC","M","Recurve","Advanced","(blank)",471]
["Sinead Naughton","GMITC","F","Recurve","Intermediate","(blank)",387]
[null,null,null,null,null,null,397]
[null,null,null,null,null,null,436]
[null,null,null,null,null,null,372]
["Siobhan Flynn","DUAC","F","Barebow","Beginner","(blank)",284]
["Siobhán Tuffy","GMIT","F","Barebow","Beginner","(blank)",201]
[null,null,null,null,null,null,234]
[null,null,null,null,null,null,365]
[null,null,null,null,null,null,388]
[null,null,null,null,null,null,420]
["Siun Collins","DIT","F","Recurve","Beginner","(blank)",346]
[null,null,null,null,null,null,374]
[null,null,null,null,null,null,423]
[null,null,null,null,null,null,341]
["Sophie Hunt","GMITC","F","Barebow","Beginner","(blank)",318]
["Sorcha Griffin","MU","F","Barebow","Beginner","(blank)",338]
[null,null,null,null,null,null,354]
[null,null,null,null,null,null,337]
[null,null,null,null,null,null,327]
["Sven Radatz","DKIT","M","Recurve","Beginner","(blank)",479]
["Theo De Groot","UU","M","Barebow","Beginner","(blank)",351]
["Thijs Siebt","NUIG","M","Recurve","Beginner","(blank)",371]
["Thomas Ganley","GMITC","M","Barebow","Beginner","(blank)",255]
[null,null,null,null,null,null,267]
["Thomas Joyce","UCD","M","Recurve","Beginner","(blank)",339]
["Vanessa Flood","DIT","F","Recurve","Beginner","(blank)",444]
["Victor Agular","GMITC","M","Barebow","Beginner","(blank)",93]
["Victor Stoian","MU","M","Barebow","Beginner","(blank)",377]
["Victoria Shen Fen Tan","DKIT","F","Recurve","Intermediate","(blank)",319]
[null,null,null,null,null,null,375]
[null,null,null,null,null,null,460]
[null,null,null,null,null,null,380]
[null,null,null,null,null,null,486]
["Vojtěch Halama","NUIG","M","Barebow","Beginner","(blank)",271]
["Wai Hong Keet","DKIT","M","Recurve","Intermediate","(blank)",416]
[null,null,null,null,null,null,423]
[null,null,null,null,null,null,460]
[null,null,null,null,null,null,455]
[null,null,null,null,null,null,410]
["Wai Jian Keet","DKIT","M","Recurve","Beginner","(blank)",360]
[null,null,null,null,null,null,441]
[null,null,null,null,null,null,464]
["Yeo Eng Jet","DKIT","M","Recurve","Advanced","(blank)",507]
[null,null,null,null,null,null,514]
[null,null,null,null,null,null,540]
[null,null,null,null,null,null,527]
[null,null,null,null,null,null,520]
["Yingbo Li","ITC","F","Barebow","Beginner","(blank)",396]
[null,null,null,null,null,null,395]
[null,null,null,null,null,null,378]
[null,null,null,null,null,null,239]
[null,null,null,null,null,null,154]
["Yuji Okubo","DCU","M","Recurve","Intermediate","(blank)",458]
[null,null,null,null,null,null,432]
["Yusuf Fauzi","UCC","M","Recurve","Beginner","(blank)",194]
[null,null,null,null,null,null,339]
["Zahratulfatin Mohd Mahfoz","RCSI","F","Recurve","Beginner","(blank)",382]
["Zoe Nicholson","DKIT","F","Recurve","Beginner","(blank)",442]
[null,null,null,null,null,null,372]
[null,null,null,null,null,null,353]
[null,null,null,null,null,null,341]
["(blank)","AAA","(blank)","(blank)","(blank)","(blank)","(blank)"]
[null,"BBB","(blank)","(blank)","(blank)","(blank)","(blank)"]
[null,"CCC","(blank)","(blank)","(blank)","(blank)","(blank)"]
[null,"DCU","(blank)","(blank)","(blank)","(blank)","(blank)"]
[null,"DDD","(blank)","(blank)","(blank)","(blank)","(blank)"]
[null,"DIT","(blank)","(blank)","(blank)","(blank)","(blank)"]
[null,"DKIT","(blank)","(blank)","(blank)","(blank)","(blank)"]
[null,"DUAC","(blank)","(blank)","(blank)","(blank)","(blank)"]
[null,"EEE","(blank)","(blank)","(blank)","(blank)","(blank)"]
[null,"GMIT","(blank)","(blank)","(blank)","(blank)","(blank)"]
[null,"GMITC","(blank)","(blank)","(blank)","(blank)","(blank)"]
[null,"IT Tallaght","(blank)","(blank)","(blank)","(blank)","(blank)"]
[null,"ITC","(blank)","(blank)","(blank)","(blank)","(blank)"]
[null,"MU","(blank)","(blank)","(blank)","(blank)","(blank)"]
[null,"NCAD","(blank)","(blank)","(blank)","(blank)","(blank)"]
[null,"NUIG","(blank)","(blank)","(blank)","(blank)","(blank)"]
[null,"RCSI","(blank)","(blank)","(blank)","(blank)","(blank)"]
[null,"UCC","(blank)","(blank)","(blank)","(blank)","(blank)"]
[null,"UCD","(blank)","(blank)","(blank)","(blank)","(blank)"]
[null,"UL","(blank)","(blank)","(blank)","(blank)","(blank)"]
[null,"UU","(blank)","(blank)","(blank)","(blank)","(blank)"]
[null,"(blank)","M","Compound","Guest","40cm","(blank)"]
[null,null,"F","Barebow","Intermediate","60cm","(blank)"]
[null,null,"(blank)","Recurve","Advanced","3 spot","(blank)"]
[null,null,null,"(blank)","Beginner","(blank)","(blank)"]
[null,null,null,null,"(blank)","(blank)","(blank)"]

{"sheet":"Setup","index":25,"n_rows":22,"n_cols":5,"rows_kept":22,"cut":false,"hidden":true,"merged":[[1,0,1,5],[0,0,0,5]]}
[]
["Options for entries - Don't change anything unless you know what you're doing"]
[]
["College","Gender","Bow","Level","Face"]
["DCU","F","Barebow","Beginner","60cm"]
["DIT","M","Recurve","Intermediate","40cm"]
["DKIT",null,"Compound","Advanced","3-Spot"]
["DUAC",null,null,"Guest"]
["GMIT"]
["GMITC"]
["Guest"]
["ITC"]
["ITTallaght"]
["MU"]
["NCAD"]
["NUIG"]
["RCSI"]
["UCC"]
["UCD"]
["UL"]
["UU"]
["WIT"]