{"text_format":"1","workbook":"xlsx","n_sheets":26,"sheets":["Entries","Singles","RBM","RBF","RIM","RIF","RAM","RAF","BBM","BBF","BAM","BAF","CM","CF","Tables","Rec' List","Bare' List","Com' List","Mixed List","Rec' Team","Bare' Team","Com' Team","Mixed Team","Printable","Target List","Setup"],"not_rendered":{"charts":0,"images":32,"macros":1,"external_links":1,"defined_names":40,"comments":0,"pivot_tables":80},"unopened":[],"bounds":{"document_bytes":16777216,"sheet_cells":100000,"rows_first":2000,"rows_last":500,"rows_between":2000,"halvings":0,"cell_chars":16384,"cell_head_chars":4096},"cells_cut":0,"cells_raw":0,"read":"whole","date_system":"1900"}

{"sheet":"Entries","index":0,"n_rows":1000,"n_cols":11,"rows_kept":1000,"cut":false,"hidden":false,"merged":[]}
["Name","College","Gender","Bow","Level","Face","Points","IV",null,null,"List of IVs"]
[null,null,"F","Barebow","Intermediate","60cm"]
[null,null,"M","Compound","Guest","40cm"]
[null,null,null,"Recurve","Advanced","3 spot"]
[null,null,null,null,"Beginner"]
["Aaron Downes","GMIT","M","recurve","intermediate",null,242,"DCU",null,null,"DCU IV"]
["Aaron Downes","GMIT","M","Recurve","Intermediate",null,88,"UCD/ITC",null,null,"UCD/ITC IV"]
["Aaron Downes","GMIT","M","Recurve","Intermediate",null,72,"DkIT",null,null,"DkIT IV"]
["Aaron Downes","GMIT","M","Recurve","Intermediate",null,155,"NUIM/GMIT",null,null,"NUIM/GMIT IV"]
["Aaron downes","GMIT","M","Recurve","Intermediate",null,156,"NUIG",null,null,"NUIG IV"]
["Aaron downes","GMIT","M","recurve","Intermediate",null,245,"UL",null,null,"UL IV"]
["Abigail Miller","NUIG","F","Barebow","Beginner",null,258,"NUIM/GMIT"]
["Adam Garton","DIT","M","Recurve","Advanced",null,475,"DCU",null,null,"Completed Ivs"]
["Adam Garton","DIT","M","Recurve","Advanced",null,486,"UCD/ITC",null,null,"DCU"]
["Adam Garton","DIT","M","Recurve","Advanced",null,485,"NUIM/GMIT",null,null,"UCD/ITC"]
["Adam Garton","DIT","M","Recurve","Advanced",null,437,"NUIG",null,null,"DkIT"]
["Adam Garton","DIT","M","Recurve","Advanced",null,478,"UL",null,null,"NUIM/GMIT"]
["Adam McSweeney","DCU","M","Recurve","advanced",null,554,"UL",null,null,"NUIG"]
["Adam McSweeney","DCU","M","Recurve","Advanced",null,547,"DCU",null,null,"UL"]
["Adam McSweeney","DCU","M","Recurve","Advanced",null,547,"UCD/ITC",null,null,{"$f":"COUNTA(K14:K19)","v":6}]
["Adam McSweeney","DCU","M","Recurve","Advanced",null,544,"DkIT"]
["Adam McSweeney","DCU","M","Recurve","Advanced",null,538,"NUIM/GMIT"]
["Adam McSweeney","DCU","M","Recurve","Advanced",null,530,"NUIG"]
["Adin Middleton","ITC","M","Recurve","Intermediate",null,474,"DCU"]
["Adin Middleton","ITC","M","Recurve","Intermediate",null,400,"UCD/ITC"]
["Adin Middleton","ITC","M","Recurve","Intermediate",null,467,"DkIT"]
["Adin Middleton","ITC","M","Recurve","Intermediate",null,489,"NUIG"]
["Adin Middleton","ITC","M","Recurve","Intermediate",null,484,"UL"]
["Adria Quinn","GMITC","F","Compound","advanced",null,528,"DCU"]
["Adria Quinn","GMITC","F","Compound","Advanced",null,533,"UCD/ITC"]
["Adria Quinn","GMITC","F","Compound","Advanced",null,512,"DkIT"]
["Aida Alexandru","NUIM","F","Recurve","Advanced",null,505,"DCU"]
["Aida Alexandru","NUIM","F","Recurve","Advanced",null,521,"UCD/ITC"]
["Aida Alexandru","NUIM","F","Recurve","Advanced",null,525,"DkIT"]
["Aida Alexandru","NUIM","F","Recurve","Advanced",null,492,"NUIM/GMIT"]
["Aida Alexandru","NUIM","F","Recurve","Advanced",null,485,"NUIG"]
["Aida Alexandru","NUIM","F","Recurve","Advanced",null,448,"UL"]
["Adin Middleton","ITC","M","Recurve","Intermediate",null,496,"NUIM/GMIT"]
["Ailish Dennehy","UCD","F","Recurve","Intermediate",null,474,"DCU"]
["Ailish Dennehy","UCD","F","Recurve","Intermediate",null,429,"UCD/ITC"]
["Ailish Dennehy","UCD","F","Recurve","Intermediate",null,486,"DkIT"]
["Ailish Dennehy","UCD","F","Recurve","Intermediate",null,457,"NUIM/GMIT"]
["Ailish Dennehy","UCD","F","Recurve","Intermediate",null,479,"NUIG"]
["Ailish Dennehy","UCD","F","Recurve","Intermediate",null,494,"UL"]
["Aiman Rahim","RCSI","M","Barebow","Beginner",null,331,"DCU"]
["Aiman Rahim","RCSI","M","Barebow","Beginner",null,216,"UL"]
["Aisling Brady","NUIG","F","Recurve","Beginner",null,402,"DkIT"]
["Aisling Brady","NUIG","F","Recurve","Beginner",null,260,"NUIM/GMIT"]
["Aisling Brady","NUIG","F","Recurve","Beginner",null,280,"NUIG"]
["Aisling Brady","NUIG","F","Recurve","Beginner",null,271,"UL"]
["Aisling Finn","NUIG","F","Recurve","Advanced",null,519,"DkIT"]
["Aisling Finn","NUIG","F","Recurve","Advanced",null,501,"NUIG"]
["Alan Boylan","DIT","M","Recurve","Beginner",null,421,"DCU"]
["Alan Gibbons","GMITC","M","Barebow","Beginner",null,414,"DkIT"]
["Alan Gibbons","GMITC","M","barebow","Beginner",null,367,"UL"]
["Alan Sheppard","ITC","M","Barebow","Beginner",null,248,"UCD/ITC"]
["Alan Sheppard","ITC","M","Barebow","Beginner",null,187,"DCU"]
["alannah redington","UL","F","recurve","beginner",null,356,"DCU"]
["Alannah Redington","UL","F","Recurve","Beginner",null,325,"UCD/ITC"]
["Alannah Redington","UL","F","Recurve","Beginner",null,449,"NUIM/GMIT"]
["Alannah Redington","UL","F","recurve","Beginner",null,381,"UL"]
["Aldrin Campos","IT Tallaght","M","Recurve","Advanced",null,392,"DCU"]
["Aldrin Campos","IT Tallaght","M","Recurve","Advanced",null,499,"UCD/ITC"]
["Aldrin Campos","IT Tallaght","M","Recurve","Advanced",null,477,"DkIT"]
["Aldrin Campos","IT Tallaght","M","Recurve","Advanced",null,478,"NUIM/GMIT"]
["Aldrin Campos","IT Tallaght","M","Recurve","Advanced",null,451,"NUIG"]
["Aldrin Campos","IT Tallaght","M","recurve","advanced",null,494,"UL"]
["Alysoun Killilea","UCC","F","Recurve","Intermediate",null,399,"NUIG"]
["Alysoun Killilea","UCC","F","Recurve","Intermediate",null,423,"DCU"]
["Andrew Egan","UCC","M","Compound","Advanced",null,534,"DCU"]
["Andrew Egan","UCC","M","Compound","Advanced",null,550,"UCD/ITC"]
["Andrew Egan","UCC","M","Compound","Advanced",null,553,"DkIT"]
["Andrew Egan","UCC","M","Compound","Advanced",null,554,"NUIG"]
["Andrew Egan","UCC","M","Compound","Advanced",null,559,"UL"]
["Andrew Warrington","GMITC","M","Barebow","Beginner",null,281,"UCD/ITC"]
["Andrew Warrington","GMITC","M","Barebow","Beginner",null,287,"NUIM/GMIT"]
["Andrew Warrington","GMITC","M","Barebow","Beginner",null,380,"UL"]
["Aoife Monaghan","GMIT","F","barebow","Beginner",null,319,"UL"]
["Aoife Monaghan","GMIT","F","Barebow","Beginner",null,231,"UCD/ITC"]
["Aoife Monaghan","GMIT","F","Barebow","Beginner",null,274,"NUIM/GMIT"]
["Aoife Monaghan","GMIT","F","Barebow","Beginner",null,253,"DkIT"]
["Aoife Monaghan","GMIT","F","Barebow","Beginner",null,314,"NUIG"]
["Arief Naimun","RCSI","M","Barebow","Beginner",null,143,"NUIM/GMIT"]
["Artem Eremin","DIT","M","Recurve","Beginner",null,365,"NUIG"]
["Ashley Allen","UCD","F","Recurve","Intermediate",null,407,"DCU"]
["Ashley Allen","UCD","F","Recurve","Intermediate",null,105,"NUIM/GMIT"]
["Ashley Allen","UCD","F","Recurve","Intermediate",null,394,"NUIG"]
["Auni Awang Dahan","RCSI","F","Recurve","Beginner",null,94,"DCU"]
["Austin Tobin","DCU","M","Recurve","Advanced",null,524,"DkIT"]
["Austin Tobin","DCU","M","Recurve","Advanced",null,543,"NUIM/GMIT"]
["Austin Tobin","DCU","M","Recurve","Advanced",null,521,"NUIG"]
["Austin Tobin","DCU","M","Recurve","advanced",null,538,"UL"]
["Brendan Browne","GMIT","M","Recurve","Intermediate",null,400,"DkIT"]
["Brendan Browne","GMIT","M","Recurve","Intermediate",null,380,"NUIM/GMIT"]
["Brendan Browne","GMIT","M","Recurve","Intermediate",null,422,"NUIG"]
["Brendan Browne","GMIT","M","recurve","Intermediate",null,371,"UL"]
["Brendan Burke","NUIM","M","Recurve","Beginner",null,344,"NUIM/GMIT"]
["Brendan Burke","NUIM","M","Recurve","Beginner",null,370,"UL"]
["Brendan Forde","DkIT","M","Recurve","Advanced",null,503,"DCU"]
["Brendan Forde","DKIT","M","Recurve","Advanced",null,542,"UCD/ITC"]
["Brendan Forde","DkIT","M","Recurve","Advanced",null,496,"DkIT"]
["Brendan Forde","DKIT","M","Recurve","Advanced",null,513,"NUIM/GMIT"]
["Brendan Forde","DKIT","M","Recurve","Advanced",null,556,"NUIG"]
["Brendan Forde","DKIT","M","Recurve","Advanced",null,531,"UL"]
["Brian Breslin","ITC","M","Barebow","Beginner",null,224,"DCU"]
["Brian Breslin","ITC","M","Barebow","Beginner",null,227,"UCD/ITC"]
["Bríd Galvin","NUIG","F","Recurve","Advanced",null,460,"UCD/ITC"]
["Bríd Galvin","NUIG","F","Recurve","Advanced",null,389,"NUIG"]
["Brona Howard","DkIT","F","Recurve","Beginner",null,421,"DkIT"]
["Callum Conroy","NUIG","M","Compound","Advanced",null,505,"DCU"]
["Callum Conroy","NUIG","M","Compound","Advanced",null,469,"UCD/ITC"]
["Callum Conroy","NUIG","M","Compound","Advanced",null,493,"DkIT"]
["Callum Conroy","NUIG","M","Compound","Advanced",null,468,"NUIM/GMIT"]
["Callum Conroy","NUIG","M","Compound","Advanced",null,524,"NUIG"]
["Callum Conroy","NUIG","M","Compound","Advanced",null,540,"UL"]
["Cara Brennan","NUIG","F","Recurve","Beginner",null,263,"NUIM/GMIT"]
["Cara Brennan","NUIG","F","Recurve","Beginner",null,224,"NUIG"]
["Carl Byrne","NUIG","M","Compound","Advanced",null,566,"DCU"]
["Carl Byrne","NUIG","M","Compound","Advanced",null,566,"UCD/ITC"]
["Carl Byrne","NUIG","M","Compound","Advanced",null,576,"DkIT"]
["Carl Byrne","NUIG","M","Compound","Advanced",null,567,"NUIM/GMIT"]
["Carl Byrne","NUIG","M","Compound","Advanced",null,575,"NUIG"]
["Carl Byrne","NUIG","M","Compound","Advanced",null,572,"UL"]
["Carlton Bennett","GMITC","M","Barebow","Beginner",null,269,"NUIM/GMIT"]
["Carlton Bennett","GMITC","M","Barebow","Beginner",null,283,"NUIG"]
["Carlton Bennett","GMITC","M","Barebow","Beginner",null,326,"UL"]
["Caroline Greene","GMIT","F","barebow","beginner",null,153,"DCU"]
["Caroline Greene","GMIT","F","Barebow","Beginner",null,255,"NUIM/GMIT"]
["Caroline Greene","GMIT","F","Barebow","Beginner",null,245,"NUIG"]
["Cathal Mc Guire","UCD","M","Recurve","Beginner",null,272,"UCD/ITC"]
["Chris O'Leary","UCC","M","Recurve","Intermediate",null,452,"DCU"]
["Chris O'Leary","UCC","M","Recurve","Intermediate",null,450,"UCD/ITC"]
["Chris O'Leary","UCC","M","Recurve","Intermediate",null,414,"DkIT"]
["Chris O'Leary","UCC","M","Recurve","Intermediate",null,479,"NUIG"]
["Chris O'Leary","UCC","M","Recurve","Intermediate",null,490,"UL"]
["Christopher Ryan","NUIG","M","Compound","Advanced",null,547,"DkIT"]
["Christopher Ryan","NUIG","M","Compound","Advanced",null,525,"NUIM/GMIT"]
["Christopher Ryan","NUIG","M","Compound","Advanced",null,350,"NUIG"]
["Christopher Ryan","NUIG","M","Compound","Advanced",null,544,"UL"]
["Christina Somers","DCU","F","Recurve","Beginner",null,366,"DCU"]
["Christina Somers","DCU","F","Recurve","Beginner",null,446,"UCD/ITC"]
["Christina Somers","DCU","F","Recurve","Beginner",null,456,"NUIM/GMIT"]
["Christina Somers","DCU","F","Recurve","Beginner",null,397,"NUIG"]
["Christina Somers","DCU","F","Recurve","Beginner",null,431,"UL"]
["Christina Somers","DCU","F","Recurve","Beginner",null,377,"DkIT"]
["Christopher Ryan","NUIG","M","Compound","Advanced",null,513,"DCU"]
["Christopher Ryan","NUIG","M","Compound","Advanced",null,539,"UCD/ITC"]
["Cian Aherne","UCD","M","Recurve","Beginner",null,233,"UCD/ITC"]
["Cian Aherne","UCD","M","Recurve","Beginner",null,244,"DkIT"]
["Ciara O'Sullivan","DCU","F","Recurve","Beginner",null,410,"DkIT"]
["Ciara O'Sullivan","DCU","F","Recurve","Beginner",null,284,"UCD/ITC"]
["Ciara O'Sullivan","DCU","F","Recurve","Beginner",null,410,"NUIM/GMIT"]
["Ciara O'Sullivan","DCU","F","Recurve","Beginner",null,380,"NUIG"]
["Ciara O'Sullivan","DCU","F","recurve","Beginner",null,363,"UL"]
["Ciarán Lowe","NUIM","M","Recurve","Advanced",null,519,"UCD/ITC"]
["Ciarán Lowe","NUIM","M","Recurve","Advanced",null,519,"DkIT"]
["Ciarán Lowe","NUIM","M","Recurve","Advanced",null,513,"NUIM/GMIT"]
["Ciarán Lowe","NUIM","M","Recurve","Advanced",null,515,"UL"]
["Ciaran McElhinney","GMIT","M","recurve","beginner",null,252,"DCU"]
["Cillian Byrne","DCU","M","Compound","Advanced",null,524,"DCU"]
["Cillian Byrne","DCU","M","Compound","Advanced",null,538,"UCD/ITC"]
["Cillian Byrne","DCU","M","Compound","Advanced",null,542,"NUIM/GMIT"]
["Cillian Byrne","DCU","M","Compound","Advanced",null,544,"NUIG"]
["Cody Meadows","NUIG","M","Barebow","Beginner",null,105,"NUIG"]
["Colm McClelland","DKIT","M","Recurve","Beginner",null,244,"NUIM/GMIT"]
["Colm McClelland","DkIT","M","Recurve","Beginner",null,279,"DCU"]
["Colm McClelland","DkIT","M","Recurve","Beginner",null,402,"DkIT"]
["Colm McClelland","DKIT","M","Recurve","Beginner",null,253,"NUIG"]
["Colm McClelland","DKIT","M","Recurve","Beginner",null,336,"UL"]
["Colm McClelland","DKIT","M","Recurve","Beginner",null,342,"UCD/ITC"]
["Conor dePaor","UCD","M","Recurve","Beginner",null,415,"NUIM/GMIT"]
["Conor dePaor","UCD","M","Recurve","Beginner",null,366,"NUIG"]
["Conor dePaor","UCD","M","Recurve","Beginner",null,276,"UL"]
["Conor Lydon","NUIG","M","Recurve","Intermediate",null,245,"DCU"]
["Conor Lydon","NUIG","M","Recurve","Intermediate",null,360,"NUIM/GMIT"]
["Conor Lydon","NUIG","M","Recurve","Intermediate",null,319,"NUIG"]
["Conor Lydon","NUIG","M","Recurve","Intermediate",null,375,"UL"]
["Conor McCan","GMIT","M","Recurve","Intermediate",null,389,"DkIT"]
["Conor McCan","GMIT","M","Recurve","Intermediate",null,437,"NUIM/GMIT"]
["Conor McCan","GMIT","M","recurve","Intermediate",null,444,"UL"]
["Conor McCan","GMIT","M","Recurve","Intermediate",null,458,"NUIG"]
["Conor Moran","UL","M","recurve","beginner",null,391,"DCU"]
["Conor Moran","UL","M","Recurve","Beginner",null,401,"UCD/ITC"]
["Conor Moran","UL","M","Recurve","Beginner",null,230,"NUIM/GMIT"]
["conor watkins","UL","M","barebow","beginner",null,278,"DCU"]
["Craig Hill","GMITC","M","Barebow","Beginner",null,123,"NUIG"]
["Daeln Murphy","DCU","M","Barebow","Beginner",null,216,"DCU"]
["Daeln Murphy","DCU","M","Barebow","Beginner",null,292,"UCD/ITC"]
["Daniel Meyer","DCU","M","Recurve","Advanced",null,468,"NUIM/GMIT"]
["Daniel Meyer","DCU","M","Recurve","Advanced",null,441,"NUIG"]
["Daniel Meyer","DCU","M","Recurve","advanced",null,480,"UL"]
["Daniel Olajide","NUIG","M","Recurve","Beginner",null,280,"UCD/ITC"]
["Daniel Sinnott","UCD","M","Recurve","Beginner",null,383,"DCU"]
["danny neill","UL","M","recurve","beginner",null,462,"DCU"]
["Dara MacEoin","NUIG","M","Barebow","Advanced",null,241,"DCU"]
["Dara MacEoin","NUIG","M","Barebow","Advanced",null,284,"DkIT"]
["Dara MacEoin","NUIG","M","Barebow","Advanced",null,267,"NUIM/GMIT"]
["Dara Oliver","NUIG","M","Recurve","Intermediate",null,323,"DkIT"]
["Darren Daly","ITC","M","Recurve","Advanced",null,535,"UCD/ITC"]
["Darren Griffin","GMITC","M","Barebow","Beginner",null,419,"DkIT"]
["Darren Griffin","GMITC","M","Barebow","Beginner",null,309,"DCU"]
["Darren Griffin","GMITC","M","Barebow","Beginner",null,359,"NUIG"]
["Darren Ng","UCD","M","Recurve","Beginner",null,391,"UCD/ITC"]
["Darren Ng","UCD","M","Recurve","Beginner",null,457,"DkIT"]
["Darren Ng","UCD","M","Recurve","Beginner",null,418,"UL"]
["Darren Wallace","NUIG","M","Recurve","Advanced",null,564,"DCU"]
["Darren Wallace","NUIG","M","Recurve","Advanced",null,560,"UCD/ITC"]
["Darren Wallace","NUIG","M","Recurve","Advanced",null,567,"DkIT"]
["Darren Wallace","NUIG","M","Recurve","Advanced",null,560,"NUIM/GMIT"]
["Darren Wallace","NUIG","M","Recurve","Advanced",null,575,"NUIG"]
["Darren Wallace","NUIG","M","Recurve","Advanced",null,565,"UL"]
["Dave Boyle","DCU","M","Recurve","Advanced",null,513,"DCU"]
["Dave Boyle","DCU","M","Recurve","Advanced",null,533,"UCD/ITC"]
["Dave Boyle","DCU","M","Recurve","Advanced",null,522,"DkIT"]
["Dave Boyle","DCU","M","Recurve","Advanced",null,493,"NUIG"]
["Dave Boyle","DCU","M","Recurve","advanced",null,480,"UL"]
["Dave Boyle","DCU","M","Recurve","Advanced",null,527,"NUIM/GMIT"]
["David Burdon","NUIG","M","Recurve","Intermediate",null,325,"NUIG"]
["David Burdon","NUIG","M","Recurve","Intermediate",null,369,"UL"]
["David Doyle","NUIM","M","Barebow","Beginner",null,331,"NUIG"]
["David Doyle","NUIM","M","Barebow","Beginner",null,277,"UL"]
["David Price","ITC","M","Barebow","Beginner",null,220,"DCU"]
["David Price","ITC","M","Barebow","Beginner",null,145,"UCD/ITC"]
["David Price","ITC","M","Barebow","Beginner",null,318,"DkIT"]
["David Price","ITC","M","Barebow","Beginner",null,381,"NUIM/GMIT"]
["David Price","ITC","M","Barebow","Beginner",null,396,"NUIG"]
["David Price","ITC","M","Barebow","Beginner",null,445,"UL"]
["Davy Shaw","UCD","M","Recurve","Beginner",null,263,"UCD/ITC"]
["Davy Shaw","UCD","M","Recurve","Beginner",null,187,"DkIT"]
["Dennis Reynor","UCD","M","Recurve","Beginner",null,302,"NUIG"]
["Derek Dooley","GMITC","M","Barebow","Beginner",null,136,"NUIM/GMIT"]
["Derek Naughton","NUIG","M","Barebow","Beginner",null,389,"NUIG"]
["Derek Naughton","NUIG","M","Barebow","Beginner",null,336,"UL"]
["Desmond Monaghan","GMIT","M","recurve","intermediate",null,252,"DCU"]
["Desmond Monaghan","GMIT","M","Recurve","Intermediate",null,12,"DkIT"]
["Diego Coyle Diez","NUIM","M","Recurve","Advanced",null,505,"DCU"]
["Diego Coyle Diez","NUIM","M","Recurve","Advanced",null,504,"UCD/ITC"]
["Diego Coyle Diez","NUIM","M","Recurve","Advanced",null,496,"DkIT"]
["Diego Coyle Diez","NUIM","M","Recurve","Advanced",null,445,"NUIM/GMIT"]
["Diego Coyle Diez","NUIM","M","Recurve","Advanced",null,487,"NUIG"]
["Diego Coyle Diez","NUIM","M","Recurve","Advanced",null,470,"UL"]
["Eammon McGrory","NUIM","M","Barebow","Beginner",null,239,"UCD/ITC"]
["Eamonn Dunleavy","GMITC","M","recurve","beginner",null,337,"DCU"]
["Eamonn Dunleavy","GMITC","M","Barebow","Beginner",null,280,"UCD/ITC"]
["Edwin Ma","DkIT","M","Recurve","Beginner",null,394,"DkIT"]
["Edwin Ma","DKIT","M","Recurve","Beginner",null,323,"NUIM/GMIT"]
["Edwin Ma","DKIT","M","Recurve","Beginner",null,334,"NUIG"]
["Edwin Ma","DKIT","M","Recurve","Beginner",null,350,"UL"]
["Eilis Ni Shuilleabhain","UCD","F","Recurve","Beginner",null,339,"UCD/ITC"]
["Elizabeth Clare Lao","DIT","F","Recurve","Beginner",null,287,"DCU"]
["Emily Flanagan","NUIG","F","Barebow","Advanced",null,357,"UCD/ITC"]
["Emily Flanagan","NUIG","F","Barebow","Advanced",null,309,"DkIT"]
["Emily Flanagan","NUIG","F","Barebow","Advanced",null,380,"NUIG"]
["Eoghan Brophy","IT Tallaght","M","Recurve","Beginner",null,170,"NUIM/GMIT"]
["Eoin Codd","UCD","M","Recurve","Beginner",null,304,"UCD/ITC"]
["Eoin Hinkson","UCD","M","Recurve","Beginner",null,313,"DCU"]
["Eoin Hinkson","UCD","M","Recurve","Beginner",null,270,"UCD/ITC"]
["Eoin Hinkson","UCD","M","Recurve","Beginner",null,456,"DkIT"]
["Eoin Hinkson","UCD","M","Recurve","Beginner",null,400,"UL"]
["Eoin Miller","NUIM","M","Recurve","Intermediate",null,437,"DCU"]
["Eoin Miller","NUIM","M","Recurve","Intermediate",null,414,"NUIM/GMIT"]
["Eoin Miller","NUIM","M","Recurve","Intermediate",null,392,"NUIG"]
["Eoin Miller","NUIM","M","Recurve","Intermediate",null,386,"UL"]
["Eric Brown","UCD","M","Recurve","Beginner",null,484,"UCD/ITC"]
["Eric Moore","NUIG","M","Recurve","Beginner",null,315,"DkIT"]
["Eric Moore","NUIG","M","Recurve","Beginner",null,387,"NUIM/GMIT"]
["Eric Moore","NUIG","M","Recurve","Beginner",null,343,"NUIG"]
["Eric Moore","NUIG","M","Recurve","Beginner",null,455,"UL"]
["Ester Schwarz","NUIM","F","Recurve","Beginner",null,375,"UCD/ITC"]
["Ester Schwarz","NUIM","F","Recurve","Beginner",null,359,"NUIM/GMIT"]
["Ester Schwarz","NUIM","F","Recurve","Beginner",null,393,"NUIG"]
["Ester Schwarz","NUIM","F","Recurve","Beginner",null,416,"UL"]
["Fahad Alabdullatif","RCSI","M","Recurve","Beginner",null,371,"NUIM/GMIT"]
["Faiq Syukri","RCSI","M","Recurve","Beginner",null,359,"NUIG"]
["Fan Zingliang","NUIG","M","Recurve","Advanced",null,507,"NUIG"]
["Fan Zingliang","NUIG","M","Recurve","Advanced",null,502,"NUIM/GMIT"]
["Fan Zingliang","NUIG","M","Recurve","Advanced",null,522,"UL"]
["Farah Nadia Zikhtar","RCSI","F","Recurve","Beginner",null,186,"UCD/ITC"]
["Farah Nadia Zikhtar","RCSI","F","Recurve","Beginner",null,187,"DCU"]
["Farah Nadia Zikhtar","RCSI","F","Recurve","Beginner",null,66,"UL"]
["Frank Stafford","UL","M","recurve","Beginner",null,501,"DCU"]
["Frank Stafford","UL","M","Recurve","Beginner",null,376,"UCD/ITC"]
["Frank Stafford","UL","M","Recurve","Beginner",null,387,"DkIT"]
["Frank Stafford","UL","M","Recurve","Beginner",null,427,"NUIM/GMIT"]
["Frank Stafford","UL","M","Recurve","Beginner",null,399,"NUIG"]
["Frank Stafford","UL","M","recurve","Beginner",null,441,"UL"]
["Gary Cooney","DCU","M","Recurve","Beginner",null,516,"DCU"]
["Gary Cooney","DCU","M","Recurve","Beginner",null,449,"UCD/ITC"]
["Gary Kelly","DCU","M","Recurve","Advanced",null,437,"DCU"]
["Gary Smith","IT Tallaght","M","Barebow","Beginner",null,331,"UL"]
["Gary Stuart","IT Tallaght","M","Recurve","Advanced",null,497,"DCU"]
["geoffrey doorbosch","UL","M","Recurve","Beginner",null,438,"UCD/ITC"]
["geoffrey doorbosch","UL","M","recurve","beginner",null,446,"DCU"]
["Glen Conway","CD","M","Compound","Advanced",null,555,"DCU"]
["Glen Conway","CD","M","Compound","Advanced",null,557,"DkIT"]
["Glen Conway","CD","M","Compound","Advanced",null,560,"UL"]
["Glen Conway","CD","M","Compound","Advanced",null,546,"UCD/ITC"]
["Graham Buckley","DIT","M","Recurve","Beginner",null,437,"DkIT"]
["Graham Buckley","DIT","M","Recurve","Beginner",null,366,"NUIG"]
["Graham Buckley","DIT","M","Recurve","Beginner",null,340,"UL"]
["Graham Enright","UCC","M","Recurve","Intermediate",null,448,"DCU"]
["Hana Cúipéir","DCU","F","Recurve","Beginner",null,275,"UCD/ITC"]
["Edwin Ma","DkIT","M","Recurve","Beginner",null,399,"DCU"]
["Edwin Ma","DKIT","M","Recurve","Beginner",null,464,"UCD/ITC"]
["Jessica Lee","DkIT","F","Recurve","Beginner",null,347,"DCU"]
["Jessica Lee","DKIT","F","Recurve","Beginner",null,388,"UCD/ITC"]
["Ian Hand","ITC","M","Recurve","Intermediate",null,448,"UCD/ITC"]
["Ian Hand","ITC","M","Recurve","Intermediate",null,429,"DkIT"]
["Ian Kenna","ITC","M","Recurve","Advanced",null,429,"DCU"]
["Ian Kenna","ITC","M","Recurve","Advanced",null,393,"UCD/ITC"]
["Ian Kenna","ITC","M","Recurve","Advanced",null,484,"DkIT"]
["Ian Kenna","ITC","M","Recurve","Advanced",null,510,"NUIM/GMIT"]
["Ian Kenna","ITC","M","Recurve","Advanced",null,474,"NUIG"]
["Ian Kenna","ITC","M","Recurve","Advanced",null,526,"UL"]
["Ian Mc Dermot","UCC","M","Recurve","Beginner",null,266,"UCD/ITC"]
["Ines Rauch","UCD","F","Recurve","Advanced",null,473,"DCU"]
["Ines Rauch","UCD","F","Recurve","Advanced",null,458,"UCD/ITC"]
["Ines Rauch","UCD","F","Recurve","Advanced",null,537,"DkIT"]
["Ines Rauch","UCD","F","Recurve","Advanced",null,502,"NUIM/GMIT"]
["Ines Rauch","UCD","F","Recurve","Advanced",null,498,"NUIG"]
["Ines Rauch","UCD","F","Recurve","Advanced",null,502,"UL"]
["James Byrne","DIT","M","Recurve","Advanced",null,499,"DCU"]
["James Byrne","DIT","M","Recurve","Advanced",null,476,"UCD/ITC"]
["James Byrne","DIT","M","Recurve","Advanced",null,494,"DkIT"]
["James Byrne","DIT","M","Recurve","Advanced",null,488,"NUIM/GMIT"]
["James Byrne","DIT","M","Recurve","Advanced",null,508,"NUIG"]
["James Byrne","DIT","M","Recurve","Advanced",null,503,"UL"]
["James Greer","UCD","M","Recurve","Beginner",null,429,"NUIG"]
["James Ryan","UCD","M","Recurve","Advanced",null,531,"DCU"]
["James Ryan","UCD","M","Recurve","Advanced",null,535,"UCD/ITC"]
["Jay Mc Carron","GMIT","M","barebow","beginner",null,370,"DCU"]
["Jay Mc Carron","GMIT","M","Barebow","Beginner",null,118,"UCD/ITC"]
["Jay Mc Carron","GMIT","M","Barebow","Beginner",null,210,"NUIM/GMIT"]
["Jeffery McMahon","UL","M","barebow","advanced",null,409,"DCU"]
["Jeffery McMahon","UL","M","Barebow","Advanced",null,406,"UCD/ITC"]
["Jeffery McMahon","UL","M","Barebow","Advanced",null,432,"DkIT"]
["Jeffery McMahon","UL","M","Barebow","Advanced",null,436,"NUIM/GMIT"]
["Jeffery McMahon","UL","M","Barebow","Advanced",null,420,"NUIG"]
["Jeffery McMahon","UL","M","barebow","Advanced",null,427,"UL"]
["Jen Daly","DIT","F","Recurve","Beginner",null,355,"DCU"]
["Jen Daly","DIT","F","Recurve","Beginner",null,467,"UCD/ITC"]
["Jen Daly","DIT","F","Recurve","Beginner",null,373,"NUIM/GMIT"]
["Jen Daly","DIT","F","Recurve","Beginner",null,398,"NUIG"]
["Jen Daly","DIT","F","Recurve","Beginner",null,464,"UL"]
["Jen Daly","DIT","F","Recurve","Beginner",null,389,"DkIT"]
["Jennifer Keegan","GMITC","F","Barebow","Beginner",null,352,"DkIT"]
["Jennifer Nally","NUIM","F","Recurve","Intermediate",null,349,"DCU"]
["Jennifer Nally","NUIM","F","Recurve","Intermediate",null,419,"UCD/ITC"]
["Jennifer Nally","NUIM","F","Recurve","Intermediate",null,459,"DkIT"]
["Jennifer Nally","NUIM","F","Recurve","Intermediate",null,413,"NUIM/GMIT"]
["Jennifer Nally","NUIM","F","Recurve","Intermediate",null,478,"NUIG"]
["Jennifer Nally","NUIM","F","Recurve","Intermediate",null,419,"UL"]
["Jennifer Keegan","GMITC","F","Barebow","Beginner",null,332,"NUIG"]
["Jericho Siababa","DCU","M","Barebow","Beginner",null,301,"DCU"]
["Jericho Siababa","DCU","M","Barebow","Beginner",null,381,"UCD/ITC"]
["Jericho Siababa","DCU","M","Barebow","Beginner",null,325,"NUIM/GMIT"]
["Jericho Siababa","DCU","M","Barebow","Beginner",null,430,"UL"]
["Jessica Lee","DkIT","F","Recurve","Beginner",null,342,"DkIT"]
["Jessica Lee","DKIT","F","Recurve","Beginner",null,404,"NUIM/GMIT"]
["Jessica Lee","DKIT","F","Recurve","Beginner",null,337,"NUIG"]
["Jessica Lee","DKIT","F","Recurve","Beginner",null,351,"UL"]
["Jocelyn Yee","DkIT","F","Recurve","Beginner",null,443,"DkIT"]
["Jocelyn Yee","DKIT","F","Recurve","Beginner",null,279,"NUIM/GMIT"]
["Jocelyn Yee","DKIT","F","Recurve","Beginner",null,247,"NUIG"]
["Jocelyn Yee","DKIT","F","Recurve","Beginner",null,352,"UL"]
["John Hally","UL","M","recurve","advanced",null,512,"DCU"]
["John Hally","UL","M","Recurve","Advanced",null,488,"UCD/ITC"]
["John Hally","UL","M","Recurve","Advanced",null,541,"DkIT"]
["John Hally","UL","M","Recurve","Advanced",null,497,"NUIM/GMIT"]
["John Hally","UL","M","Recurve","Advanced",null,515,"NUIG"]
["John Hally","UL","M","recurve","advanced",null,511,"UL"]
["John O'Toole","NUIM","M","Barebow","Beginner",null,332,"NUIM/GMIT"]
["John O'Toole","NUIM","M","barebow","Beginner",null,344,"UL"]
["John Power","NUIM","M","Recurve","Beginner",null,464,"UCD/ITC"]
["John Power","NUIM","M","Recurve","Beginner",null,419,"DkIT"]
["John Power","NUIM","M","Recurve","Beginner",null,523,"DCU"]
["John Smith","DIT","M","Compound","Advanced",null,564,"DCU"]
["John Smith","DIT","M","Compound","Advanced",null,566,"UCD/ITC"]
["John Smith","DIT","M","Compound","Advanced",null,570,"DkIT"]
["Jonathan Cassidy","NUIG","M","recurve","beginner",null,122,"DCU"]
["Jonathan Cassidy","NUIG","M","Barebow","Beginner",null,229,"NUIG"]
["Jordan McCord","UU","M","Recurve","Advanced",null,445,"DCU"]
["Jordan McCord","UU","M","Recurve","Advanced",null,472,"UCD/ITC"]
["Jordan McCord","UU","M","Recurve","Advanced",null,476,"DkIT"]
["Jordan McCord","UU","M","Recurve","Advanced",null,531,"NUIM/GMIT"]
["Karen Power","UL","F","recurve","Beginner",null,394,"DCU"]
["Karen Power","UL","F","Recurve","Beginner",null,364,"UCD/ITC"]
["Karen Power","UL","F","Recurve","Beginner",null,433,"NUIM/GMIT"]
["Karen Power","UL","F","Recurve","Beginner",null,487,"NUIG"]
["Karen Power","UL","F","recurve","Beginner",null,357,"UL"]
["Karina Wrzesinska","IT Tallaght","F","Barebow","Beginner",null,247,"NUIM/GMIT"]
["Kate Forte","NUIM","F","Barebow","Beginner",null,210,"NUIM/GMIT"]
["Kate Forte","NUIM","F","Barebow","Beginner",null,348,"UL"]
["Katy Doyle","UCD","F","Recurve","Beginner",null,313,"NUIM/GMIT"]
["Katie Hamilton","UCC","F","Recurve","Advanced",null,451,"DCU"]
["Katie Hamilton","UCC","F","Compound","Advanced",null,491,"NUIG"]
["Katrina Kelly","NUIG","F","Recurve","Beginner",null,363,"DkIT"]
["Katrina Kelly","NUIG","F","Recurve","Beginner",null,146,"NUIM/GMIT"]
["Katrina Kelly","NUIG","F","Recurve","Beginner",null,404,"NUIG"]
["Katrina Prakhova","ITC","F","Barebow","Beginner",null,335,"DCU"]
["Katrina Prakhova","ITC","F","Barebow","Beginner",null,293,"UCD/ITC"]
["Katrina Prakhova","ITC","F","Barebow","Beginner",null,368,"DkIT"]
["Katy Doyle","UCD","F","Recurve","Beginner",null,203,"UCD/ITC"]
["Katy Doyle","UCD","F","Recurve","Beginner",null,278,"NUIG"]
["Katy Doyle","UCD","F","Recurve","Beginner",null,341,"UL"]
["Keelan Bancroft ","GMITC","M","Barebow","Beginner",null,147,"UL"]
["Keet Wai Hong","DKIT","M","Recurve","Beginner",null,402,"UCD/ITC"]
["Keet Wai Hong","DkIT","M","Recurve","Beginner",null,287,"DCU"]
["Kerrie Leonard","NUIM","F","Compound","Advanced",null,506,"DCU"]
["Kerrie Leonard","NUIM","F","Compound","Advanced",null,479,"UCD/ITC"]
["Kerrie Leonard","NUIM","F","Compound","Advanced",null,510,"DkIT"]
["Kerrie Leonard","NUIM","F","Compound","Advanced",null,495,"NUIM/GMIT"]
["Kerrie Leonard","NUIM","F","Compound","Advanced",null,524,"NUIG"]
["Kerrie Leonard","NUIM","F","Compound","Advanced",null,512,"UL"]
["Kevin Kok Zhi Hao","DkIT","M","Recurve","Beginner",null,462,"DkIT"]
["Kevin Kok Zhi Hao","DKIT","M","Recurve","Beginner",null,413,"NUIM/GMIT"]
["Kevin Kok Zhi Hao","DKIT","M","Recurve","Beginner",null,446,"NUIG"]
["Kevin Kok Zhi Hao","DKIT","M","Recurve","Beginner",null,432,"UL"]
["Kevin Kok Zhi Hao","DKIT","M","Recurve","Beginner",null,427,"UCD/ITC"]
["Kevin Kok Zhi Hao","DkIT","M","Recurve","Beginner",null,452,"DCU"]
["Kevin Lynch","UCD","M","Recurve","Beginner",null,31,"UCD/ITC"]
["Kevin May","RCSI","M","Barebow","Advanced",null,254,"DCU"]
["Kevin Roche","UCD","M","Recurve","Advanced",null,520,"NUIG"]
["Kevin Roche","UCD","M","Recurve","Advanced",null,526,"UL"]
["Kieran Cullinane","NUIG","M","Recurve","Intermediate",null,383,"DCU"]
["Kieran Cullinane","NUIG","M","Recurve","Intermediate",null,397,"NUIG"]
["Laura Adams","QUB","F","Recurve","Advanced",null,454,"DCU"]
["Laura Adams","QUB","F","Recurve","Advanced",null,471,"NUIG"]
["Laura Ford","DCU","F","Recurve","Intermediate",null,416,"NUIM/GMIT"]
["Laura Ford","DCU","F","Recurve","Intermediate",null,403,"NUIG"]
["Laura Ni Riada","DCU","F","Recurve","Beginner",null,477,"DCU"]
["Laura Ni Riada","DCU","F","Recurve","Beginner",null,415,"UCD/ITC"]
["Laura Ni Riada","DCU","F","Recurve","Beginner",null,369,"UL"]
["Leo Byrne","ITC","M","Recurve","Beginner",null,304,"DkIT"]
["Leo Byrne","ITC","M","Recurve","Beginner",null,313,"NUIM/GMIT"]
["Leo Byrne","ITC","M","Recurve","Beginner",null,337,"NUIG"]
["Leo Byrne","ITC","M","recurve","Beginner",null,399,"UL"]
["Lewis Holmes","UU","M","Recurve","Intermediate",null,500,"UCD/ITC"]
["Liam Maloney","ITC","M","Barebow","Beginner",null,377,"DkIT"]
["Liam Maloney","ITC","M","Barebow","Beginner",null,400,"NUIG"]
["Linda Hearn","UCC","F","Recurve","Beginner",null,450,"DCU"]
["Linda Hearn","UCC","F","Recurve","Beginner",null,312,"UCD/ITC"]
["Linda Hearn","UCC","F","Recurve","Beginner",null,374,"DkIT"]
["Linda Hearn","UCC","F","Recurve","Beginner",null,405,"UL"]
["Liu Min","NUIG","F","Recurve","Beginner",null,238,"NUIG"]
["Liu Min","NUIG","F","Recurve","Beginner",null,249,"UL"]
["Lorenzo","UCD","M","Recurve","Beginner",null,104,"UCD/ITC"]
["Lukas Frese","UCD","M","Barebow","Beginner",null,204,"UL"]
["Lukas Korcak","ITC","M","Compound","Advanced",null,362,"DCU"]
["Lukasz wrobel","GMIT","M","Recurve","Beginner",null,225,"NUIM/GMIT"]
["Lukasz wrobel","GMIT","M","recurve","Beginner",null,346,"DCU"]
["Lukasz wrobel","GMIT","M","Recurve","Beginner",null,424,"DkIT"]
["Lukasz wrobel","GMIT","M","Recurve","Beginner",null,286,"NUIG"]
["Luke Watson","GMIT","M","Recurve","Intermediate",null,354,"UCD/ITC"]
["Luke Watson","GMIT","M","Recurve","Intermediate",null,378,"NUIG"]
["Maeve Reidy","BCFE","F","Recurve","Advanced",null,552,"DCU"]
["Maeve Reidy","BCFE","F","Recurve","Advanced",null,546,"UCD/ITC"]
["Maeve Reidy","BCFE","F","Recurve","Advanced",null,562,"DkIT"]
["Maeve Reidy","BCFE","F","Recurve","Advanced",null,550,"NUIM/GMIT"]
["Maeve Reidy","BCFE","F","Recurve","Advanced",null,559,"NUIG"]
["Maeve Reidy","BCFE","F","Recurve","Advanced",null,548,"UL"]
["Marc Creehan","UCC","M","Recurve","Beginner",null,166,"UCD/ITC"]
["Marc Creehan","UCC","M","Barebow","Beginner",null,259,"DkIT"]
["Marc Creehan","UCC","M","Barebow","Beginner",null,161,"NUIG"]
["Marc Creehan","UCC","M","Barebow","Beginner",null,246,"UL"]
["Marco Tulios","GMITC","M","Barebow","Beginner",null,279,"NUIG"]
["Maria Dunne","UL","F","recurve","Beginner",null,257,"UL"]
["Maria Jacob","UCD","F","Recurve","Beginner",null,230,"DkIT"]
["Maria Jacob","UCD","F","Recurve","Beginner",null,410,"NUIM/GMIT"]
["Maria Jacob","UCD","F","Recurve","Beginner",null,274,"UL"]
["Marie Phelan","DCU","F","Recurve","Intermediate",null,393,"UCD/ITC"]
["Marie Phelan","DCU","F","Recurve","Intermediate",null,385,"NUIM/GMIT"]
["Marie Phelan","DCU","F","Recurve","Intermediate",null,408,"UL"]
["Mark Christiansen","NUIM","M","Recurve","Intermediate",null,440,"UCD/ITC"]
["Mark Christiansen","NUIM","M","Recurve","Intermediate",null,458,"DkIT"]
["Mark Christiansen","NUIM","M","Recurve","Intermediate",null,430,"NUIM/GMIT"]
["Mark Christiansen","NUIM","M","Recurve","Intermediate",null,422,"NUIG"]
["Mark Christiansen","NUIM","M","Recurve","Intermediate",null,408,"UL"]
["Mark Kearns","NUIM","M","Recurve","Beginner",null,417,"DCU"]
["Mark Kearns","NUIM","M","Recurve","Beginner",null,363,"UCD/ITC"]
["Mark Kearns","NUIM","M","Recurve","Beginner",null,386,"NUIM/GMIT"]
["Mark McGrane","UCD","M","Recurve","Beginner",null,185,"DCU"]
["Mark McGrane","UCD","M","Recurve","Beginner",null,204,"UCD/ITC"]
["Mark Sharvin","DCU","M","Compound","Advanced",null,557,"DCU"]
["Mark Sharvin","DCU","M","Compound","Advanced",null,550,"UCD/ITC"]
["Mark Sharvin","DCU","M","Compound","Advanced",null,572,"DkIT"]
["Mark Sharvin","DCU","M","Compound","Advanced",null,557,"NUIM/GMIT"]
["Mark Sharvin","DCU","M","Compound","Advanced",null,557,"NUIG"]
["Mark Sharvin","DCU","M","compound","advanced",null,569,"UL"]
["Mark Walsh","NUIG","M","Recurve","Beginner",null,354,"DCU"]
["Mark Walsh","NUIG","M","Recurve","Beginner",null,394,"UCD/ITC"]
["Mark Walsh","NUIG","M","Recurve","Beginner",null,449,"DkIT"]
["Mark Walsh","NUIG","M","Recurve","Beginner",null,355,"NUIM/GMIT"]
["Mark Walsh","NUIG","M","Recurve","Beginner",null,354,"NUIG"]
["Marko Kovacevic","GMIT","M","Compound","advanced",null,515,"DCU"]
["Marko Kovacevic","GMIT","M","Compound","Advanced",null,512,"UCD/ITC"]
["Marko Kovacevic","GMIT","M","Compound","Advanced",null,527,"DkIT"]
["Marko Kovacevic","GMIT","M","Recurve","Advanced",null,430,"NUIM/GMIT"]
["Marko Kovacevic","GMIT","M","Recurve","Advanced",null,444,"NUIG"]
["Marko Kovacevic","GMIT","M","recurve","Advanced",null,472,"UL"]
["Martha Chege","UU","F","Recurve","Beginner",null,322,"UCD/ITC"]
["Martha Chege","UU","F","Recurve","Beginner",null,381,"NUIM/GMIT"]
["Martin Stenson","GMIT","M","recurve","intermediate",null,168,"DCU"]
["Martin Stenson","GMIT","M","Recurve","Intermediate",null,223,"NUIM/GMIT"]
["Martin Stenson","GMIT","M","recurve","Intermediate",null,215,"UL"]
["Max Klein","NUIM","M","Recurve","Beginner",null,462,"DCU"]
["Max Klein","NUIM","M","Recurve","Beginner",null,272,"DkIT"]
["Max Klein","NUIM","M","Recurve","Beginner",null,384,"NUIM/GMIT"]
["Max Klein","NUIM","M","Recurve","Beginner",null,363,"NUIG"]
["Michael O Callaghan","UL","M","Recurve","Advanced",null,492,"NUIG"]
["Michael O Callaghan","UL","M","Recurve","Advanced",null,439,"NUIM/GMIT"]
["Michael O Callaghan","UL","M","Recurve","Advanced",null,449,"UCD/ITC"]
["Michael O Callaghan","UL","M","recurve","advanced",null,465,"UL"]
["Michael O Callaghan","UL","M","recurve","advanced",null,448,"DCU"]
["Muhammad Hakim Mohd Nasir","RCSI","M","Recurve","Beginner",null,114,"UL"]
["Muhammad Asyraf Maarof","NUIG","M","Recurve","Intermediate",null,410,"DCU"]
["Muhammad Asyraf Maarof","NUIG","M","Recurve","Intermediate",null,404,"UCD/ITC"]
["Muhammad Asyraf Maarof","NUIG","M","Recurve","Intermediate",null,467,"DkIT"]
["Muhammad Asyraf Maarof","NUIG","M","Recurve","Intermediate",null,443,"NUIM/GMIT"]
["Muhammad Asyraf Maarof","NUIG","M","Recurve","Intermediate",null,424,"NUIG"]
["Muhammad Asyraf Maarof","NUIG","M","Recurve","Intermediate",null,425,"UL"]
["Muhammad Hakim Mohd Nasir","RCSI","M","Recurve","Beginner",null,239,"UCD/ITC"]
["Muhammad Izrin Syukri Mohd Nasri","RCSI","M","Recurve","Beginner",null,382,"UL"]
["Muhammad Izrin Syukri Mohd Nasri","RCSI","M","Recurve","Beginner",null,240,"UCD/ITC"]
["Muhammad Hakim Mohd Nasir","RCSI","M","Recurve","Beginner",null,224,"DCU"]
["Muhammad Izrin Syukri Mohd Nasri","RCSI","M","Recurve","Beginner",null,282,"NUIG"]
["Muhammad Hakim Mohd Nasir","RCSI","M","Recurve","Beginner",null,444,"NUIM/GMIT"]
["Nada Khaled-Abdo","NUIG","F","Barebow","Advanced",null,306,"DCU"]
["Nada Khaled-Abdo","NUIG","F","Barebow","Advanced",null,332,"UCD/ITC"]
["Nada Khaled-Abdo","NUIG","F","Barebow","Advanced",null,357,"NUIM/GMIT"]
["Nada Khaled-Abdo","NUIG","F","Barebow","Advanced",null,364,"NUIG"]
["Nada Khaled-Abdo","NUIG","F","Barebow","Advanced",null,346,"UL"]
["Nassira Musa","UCC","F","Recurve","Beginner",null,241,"UCD/ITC"]
["Nicole Shellenbarger","NUIG","F","Compound","Advanced",null,463,"UL"]
["Nicole Shellenbarger","NUIG","F","Compound","Advanced",null,477,"NUIM/GMIT"]
["Nicole Shellenbarger","NUIG","F","Compound","Advanced",null,414,"NUIG"]
["Nik Idlan Faiq","RCSI","M","Barebow","Beginner",null,174,"UCD/ITC"]
["Nik Idlan Faiq","RCSI","M","Barebow","Beginner",null,108,"UL"]
["Nurhidayah Miswan","RCSI","F","Recurve","Beginner",null,84,"UCD/ITC"]
["Omar Mustafa","NUIG","M","Recurve","Beginner",null,414,"DCU"]
["Omar Mustafa","NUIG","M","Recurve","Beginner",null,386,"UCD/ITC"]
["Omar Mustafa","NUIG","M","Barebow","Beginner",null,270,"NUIG"]
["Patrick Markey","DkIT","M","Recurve","Intermediate",null,424,"DCU"]
["Patrick Markey","DKIT","M","Recurve","Intermediate",null,394,"UCD/ITC"]
["Pádraig Dunphy","NUIM","M","Recurve","Advanced",null,476,"UCD/ITC"]
["Pádraig Dunphy","NUIM","M","Recurve","Advanced",null,401,"DCU"]
["Pádraig Dunphy","NUIM","M","Recurve","Advanced",null,499,"NUIM/GMIT"]
["Pádraig Dunphy","NUIM","M","Recurve","Advanced",null,488,"NUIG"]
["Pádraig Dunphy","NUIM","M","Recurve","Advanced",null,509,"UL"]
["Patrick Markey","DkIT","M","Recurve","Intermediate",null,374,"DkIT"]
["Patrick Markey","DKIT","M","Recurve","Intermediate",null,349,"NUIM/GMIT"]
["Patrick Markey","DKIT","M","Recurve","Intermediate",null,397,"NUIG"]
["Patrick Molloy","NUIG","M","Recurve","Advanced",null,454,"DCU"]
["Patrick Molloy","NUIG","M","Recurve","Advanced",null,459,"UCD/ITC"]
["Patrick Molloy","NUIG","M","Recurve","Advanced",null,386,"DkIT"]
["Patrick Molloy","NUIG","M","Recurve","Advanced",null,408,"NUIM/GMIT"]
["Patrick Molloy","NUIG","M","Recurve","Advanced",null,456,"NUIG"]
["Patrick Molloy","NUIG","M","Recurve","Advanced",null,427,"UL"]
["Paul Beirne","UCD","M","Recurve","Intermediate",null,421,"DCU"]
["Paul Beirne","UCD","M","Recurve","Intermediate",null,419,"NUIM/GMIT"]
["Paul Beirne","UCD","M","Recurve","Intermediate",null,446,"UL"]
["Paul Coleman","DCU","M","Recurve","Beginner",null,454,"DCU"]
["Paul Coleman","DCU","M","Recurve","Beginner",null,372,"UCD/ITC"]
["Paul Coleman","DCU","M","Recurve","Beginner",null,314,"NUIG"]
["Paul Coleman","DCU","M","Recurve","Beginner",null,375,"UL"]
["Paul Connolly","NUIG","M","Recurve","Beginner",null,259,"NUIM/GMIT"]
["Paul Connolly","NUIG","M","Recurve","Beginner",null,375,"UL"]
["Paul Dixon","GMITC","M","Barebow","Beginner",null,304,"DkIT"]
["Paul Dixon","GMITC","M","Barebow","Beginner",null,405,"NUIM/GMIT"]
["Paul Dixon","GMITC","M","Barebow","Beginner",null,274,"UL"]
["Paul Ferguson","IT Tallaght","M","Recurve","Beginner",null,480,"NUIM/GMIT"]
["Paul Ferguson","IT Tallaght","M","recurve","Beginner",null,423,"UL"]
["Paul Fox","RCSI","M","Barebow","Beginner",null,131,"NUIM/GMIT"]
["Paul Murphy","UL","M","recurve","beginner",null,470,"DCU"]
["Paul Murphy","UL","M","Recurve","Beginner",null,321,"NUIM/GMIT"]
["Paul Murphy","UL","M","recurve","Beginner",null,424,"UL"]
["Pavle Barbaric","NUIM","M","Recurve","Beginner",null,445,"UCD/ITC"]
["Peter Callanan","UCD","M","Recurve","Intermediate",null,303,"DCU"]
["Peter Callanan","UCD","M","Recurve","Intermediate",null,205,"UCD/ITC"]
["Peter Callanan","UCD","M","Recurve","Intermediate",null,350,"DkIT"]
["Peter Callanan","UCD","M","Recurve","Intermediate",null,328,"NUIG"]
["Peter Callanan","UCD","M","Recurve","Intermediate",null,451,"UL"]
["Peter Cummings","UU","M","Recurve","Advanced",null,564,"DCU"]
["Peter Cummings","UU","M","Recurve","Advanced",null,548,"UCD/ITC"]
["Peter Cummings","UU","M","Recurve","Advanced",null,559,"DkIT"]
["Peter Cummings","UU","M","Recurve","Advanced",null,557,"NUIM/GMIT"]
["Philip Early","DCU","M","Recurve","Intermediate",null,381,"NUIM/GMIT"]
["Philip Early","DCU","M","Recurve","Intermediate",null,406,"DCU"]
["Philip Early","DCU","M","Recurve","Intermediate",null,408,"UCD/ITC"]
["Philip Early","DCU","M","Recurve","Intermediate",null,442,"DkIT"]
["Philip Early","DCU","M","Recurve","Intermediate",null,444,"UL"]
["Raizel Burstein-Frame","NUIG","F","Barebow","Beginner",null,187,"DkIT"]
["Raizel Burstein-Frame","NUIG","F","Barebow","Beginner",null,254,"NUIG"]
["Raizel Burstein-Frame","NUIG","F","Barebow","Beginner",null,317,"UL"]
["Rebecca Ward","DkIT","F","Recurve","Beginner",null,272,"DCU"]
["Rebecca Ward","DkIT","F","Recurve","Beginner",null,331,"DkIT"]
["Rebecca Watkin","UCD","F","Recurve","Beginner",null,179,"DkIT"]
["Keet Wai Hong","DkIT","M","Recurve","Beginner",null,358,"DkIT"]
["Keet Wai Hong","DKIT","M","Recurve","Beginner",null,339,"NUIM/GMIT"]
["Keet Wai Hong","DKIT","M","Recurve","Beginner",null,357,"NUIG"]
["Keet Wai Hong","DKIT","M","Recurve","Beginner",null,355,"UL"]
["Richard Jeffery","NUIG","M","Recurve","Beginner",null,436,"UCD/ITC"]
["Richard Jeffery","NUIG","M","Recurve","Beginner",null,304,"DkIT"]
["Rob Ó Gallachóir","NUIM","M","Recurve","Intermediate",null,187,"NUIG"]
["Robert Dore","IT Tallaght","M","Barebow","Beginner",null,223,"NUIM/GMIT"]
["Robin Collins","DIT","M","Recurve","Beginner",null,372,"UCD/ITC"]
["Ronan Walsh","UCD","M","Recurve","Beginner",null,268,"UCD/ITC"]
["Ronan Walsh","UCD","M","Recurve","Beginner",null,247,"DkIT"]
["Ronan Walsh","UCD","M","Recurve","Beginner",null,469,"UL"]
["Rose Comendador","IT Tallaght","F","Recurve","Beginner",null,283,"NUIM/GMIT"]
["Rose Comendador","IT Tallaght","F","recurve","Beginner",null,250,"UL"]
["Ruaidhri","UCD","M","Recurve","Beginner",null,360,"UCD/ITC"]
["Rubasangkari Rajaderam","RCSI","F","Recurve","Beginner",null,149,"DCU"]
["Ryan Byrne","DIT","M","Recurve","Advanced",null,559,"DCU"]
["Ryan Byrne","DIT","M","Recurve","Advanced",null,480,"UCD/ITC"]
["Ryan Byrne","DIT","M","Recurve","Advanced",null,527,"DkIT"]
["Ryan Byrne","DIT","M","Recurve","Advanced",null,530,"NUIM/GMIT"]
["Ryan Byrne","DIT","M","Recurve","Advanced",null,530,"UL"]
["Sam Schultz","NUIG","M","Recurve","Beginner",null,486,"DCU"]
["Sam Schultz","NUIG","M","Recurve","Beginner",null,435,"UCD/ITC"]
["Sam Schultz","NUIG","M","Barebow","Beginner",null,356,"DkIT"]
["Sam Schultz","NUIG","M","Barebow","Beginner",null,434,"NUIG"]
["Sarah Delaney","NUIG","F","Recurve","Beginner",null,421,"UCD/ITC"]
["Sarah Delaney","NUIG","F","Recurve","Beginner",null,361,"NUIM/GMIT"]
["Sarah Delaney","NUIG","F","Recurve","Beginner",null,252,"NUIG"]
["Sarah Maloney","DCU","F","Recurve","Advanced",null,465,"DCU"]
["Sarah Maloney","DCU","F","Recurve","Advanced",null,434,"UCD/ITC"]
["Sarah Maloney","DCU","F","Recurve","Advanced",null,517,"DkIT"]
["Sarah Maloney","DCU","F","Recurve","Advanced",null,431,"NUIG"]
["Sarah Maloney","DCU","F","Recurve","Advanced",null,484,"NUIM/GMIT"]
["Sarah Maloney","DCU","F","recurve","Advanced",null,474,"UL"]
["sarah o sullivan","UL","F","recurve","intermediate",null,432,"DCU"]
["Sean Brogan","NUIG","M","Barebow","Beginner",null,317,"UCD/ITC"]
["Sean Brogan","NUIG","M","Barebow","Beginner",null,389,"DkIT"]
["Sean Brogan","NUIG","M","Barebow","Beginner",null,306,"NUIM/GMIT"]
["Sean Brogan","NUIG","M","Barebow","Beginner",null,276,"UL"]
["Sean Curtin","UL","M","recurve","advanced",null,499,"UL"]
["Sean Curtin","UL","M","recurve","advanced",null,541,"DCU"]
["Sean Curtin","UL","M","Recurve","Advanced",null,540,"UCD/ITC"]
["Sean Curtin","UL","M","Recurve","Advanced",null,494,"DkIT"]
["Sean Curtin","UL","M","Recurve","Advanced",null,529,"NUIM/GMIT"]
["Sean Curtin","UL","M","Recurve","Advanced",null,491,"NUIG"]
["Sean Flavin","UL","M","recurve","advanced",null,524,"DCU"]
["Sean Flavin","UL","M","Recurve","Advanced",null,517,"UCD/ITC"]
["Sean Flavin","UL","M","Recurve","Advanced",null,505,"DkIT"]
["Sean Flavin","UL","M","Recurve","Advanced",null,522,"NUIM/GMIT"]
["Sean Flavin","UL","M","Recurve","Advanced",null,527,"NUIG"]
["Sean Flavin","UL","M","recurve","advanced",null,503,"UL"]
["sean Morrisey","UL","M","recurve","beginner",null,391,"DCU"]
["sean Morrisey","UL","M","Recurve","Beginner",null,507,"DkIT"]
["sean Morrisey","UL","M","recurve","Beginner",null,374,"UL"]
["sean Morrisey","UL","M","Recurve","Beginner",null,398,"UCD/ITC"]
["Sean Scott","DIT","M","Compound","Advanced",null,513,"UCD/ITC"]
["Sean Scott","DIT","M","Compound","Advanced",null,524,"DkIT"]
["Sean Scott","DIT","M","Compound","Advanced",null,514,"NUIG"]
["Sean Scott","DIT","M","Compound","Advanced",null,513,"UL"]
["See Qui Ren","DkIT","M","Recurve","Beginner",null,471,"DCU"]
["See Qui Ren","DKIT","M","Recurve","Beginner",null,422,"UCD/ITC"]
["Shahrizan Majid Allapitchai","RCSI","F","Recurve","Beginner",null,259,"DCU"]
["Shane Hyland","GMIT","M","barebow","Beginner",null,322,"DCU"]
["Shane Hyland","GMIT","M","Barebow","Beginner",null,269,"UCD/ITC"]
["Shane Hyland","GMIT","M","Barebow","Beginner",null,378,"DkIT"]
["Shane Hyland","GMIT","M","Barebow","Beginner",null,179,"NUIM/GMIT"]
["Shane Hyland","GMIT","M","Barebow","Beginner",null,265,"NUIG"]
["Shane Hyland","GMIT","M","barebow","Beginner",null,248,"UL"]
["Shane Lordan","UCC","M","Recurve","Intermediate",null,383,"DCU"]
["Shane Lordan","UCC","M","Recurve","Intermediate",null,458,"UCD/ITC"]
["Shane McGloin","GMIT","M","Recurve","Beginner",null,325,"DkIT"]
["Shane McGloin","GMIT","M","Recurve","Beginner",null,373,"NUIM/GMIT"]
["Shane McGloin","GMIT","M","Recurve","Beginner",null,428,"NUIG"]
["Shane McGloin","GMIT","M","recurve","Beginner",null,361,"UL"]
["Shauna O Brien","UCD","F","Recurve","Beginner",null,249,"DkIT"]
["Shenelle Samodee","RCSI","F","Recurve","Beginner",null,230,"NUIG"]
["Shu Chen","DCU","M","Recurve","Intermediate",null,350,"DCU"]
["Simon Henleywillis","UCC","M","Recurve","Intermediate",null,495,"DCU"]
["Simon Henleywillis","UCC","M","Recurve","Intermediate",null,489,"UCD/ITC"]
["Simon Henleywillis","UCC","M","Recurve","Intermediate",null,486,"DkIT"]
["Simon Henleywillis","UCC","M","Recurve","Intermediate",null,488,"NUIG"]
["Simon Henleywillis","UCC","M","Recurve","Intermediate",null,465,"UL"]
["Simon Lavin","GMITC","M","Barebow","Beginner",null,232,"NUIM/GMIT"]
["Sinead Naughton","GMITC","F","Recurve","intermediate",null,366,"DCU"]
["Sinead Naughton","GMITC","F","Recurve","Intermediate",null,452,"UCD/ITC"]
["Sinead Naughton","GMITC","F","Recurve","Intermediate",null,413,"DkIT"]
["Sinead Naughton","GMITC","F","Recurve","Intermediate",null,423,"NUIM/GMIT"]
["Sinead Naughton","GMITC","F","Recurve","Intermediate",null,445,"NUIG"]
["Sinead Naughton","GMITC","F","Recurve","Intermediate",null,452,"UL"]
["Sinead O`Connell","NUIM","F","Recurve","Intermediate",null,472,"DkIT"]
["Sinead O`Connell","NUIM","F","Recurve","Intermediate",null,477,"UCD/ITC"]
["Sinead O`Connell","NUIM","F","Recurve","Intermediate",null,433,"DCU"]
["Sinead O`Connell","NUIM","F","Recurve","Intermediate",null,428,"NUIM/GMIT"]
["Sinead O`Connell","NUIM","F","Recurve","Intermediate",null,444,"NUIG"]
["Sinead O`Connell","NUIM","F","Recurve","Intermediate",null,482,"UL"]
["Sinead Walsh","UCC","F","Recurve","Intermediate",null,403,"DCU"]
["Sinead Walsh","UCC","F","Recurve","Intermediate",null,252,"NUIG"]
["Sinead Walsh","UCC","F","Recurve","Intermediate",null,314,"UL"]
["Siobhan O'Connor","GMITC","F","Barebow","Beginner",null,256,"NUIG"]
["Siti Nur Syazwana Mohammad Shafiee","RCSI","F","Recurve","Beginner",null,76,"UCD/ITC"]
["Stephanie Martin","DCU","F","Compound","Advanced",null,511,"DCU"]
["Stephanie Martin","DCU","F","Compound","Advanced",null,517,"UCD/ITC"]
["Stephanie Martin","DCU","F","Compound","Advanced",null,516,"NUIM/GMIT"]
["Stephanie Martin","DCU","F","compound","advanced",null,522,"UL"]
["Stephen Dillon","IT Tallaght","M","Recurve","Advanced",null,497,"DCU"]
["Stephen Dillon","IT Tallaght","M","Recurve","Advanced",null,543,"DkIT"]
["Stephen Dillon","IT Tallaght","M","Recurve","Advanced",null,523,"NUIM/GMIT"]
["Stephen Dillon","IT Tallaght","M","recurve","advanced",null,525,"UL"]
["Stephen Masterson","UCD","M","Recurve","Advanced",null,466,"DCU"]
["Stephen Masterson","UCD","M","Recurve","Advanced",null,75,"UCD/ITC"]
["Stephen Masterson","UCD","M","Recurve","Advanced",null,473,"DkIT"]
["Stephen Masterson","UCD","M","Recurve","Advanced",null,488,"NUIM/GMIT"]
["Stephen Masterson","UCD","M","Recurve","Advanced",null,461,"NUIG"]
["Stephen Masterson","UCD","M","Recurve","Advanced",null,526,"UL"]
["Stephen Sheppard","ITC","M","Barebow","Beginner",null,259,"UCD/ITC"]
["Stephen Sheppard","ITC","M","Barebow","Beginner",null,303,"DCU"]
["Stephen Sheppard","ITC","M","Barebow","Beginner",null,415,"DkIT"]
["Susan Ryan","UCD","F","Recurve","Intermediate",null,390,"DCU"]
["Susan Ryan","UCD","F","Recurve","Intermediate",null,333,"UCD/ITC"]
["Syahira Najua Zulkefly","UCD","M","Recurve","Beginner",null,221,"UCD/ITC"]
["Tajul Syaqqil Tajor Amar","RCSI","M","Recurve","Beginner",null,173,"UCD/ITC"]
["Tami Baumann","NUIM","F","Barebow","Beginner",null,378,"UCD/ITC"]
["Tami Baumann","NUIM","F","Barebow","Beginner",null,361,"DCU"]
["Tami Baumann","NUIM","F","Barebow","Beginner",null,421,"NUIM/GMIT"]
["Tami Baumann","NUIM","F","Barebow","Beginner",null,469,"NUIG"]
["Tami Baumann","NUIM","F","Barebow","Beginner",null,356,"UL"]
["Victoria Tan","DkIT","F","Recurve","Beginner",null,291,"DCU"]
["Victoria Tan","DKIT","F","Recurve","Beginner",null,267,"UCD/ITC"]
["Tan Shu leed","RCSI","M","Recurve","Beginner",null,282,"UCD/ITC"]
["Tan Shu Leed","RCSI","M","Recurve","Beginner",null,366,"NUIG"]
["Tan Shu Leed","RCSI","M","Recurve","Beginner",null,407,"UL"]
["Tara Dunne","UCD","F","Recurve","Beginner",null,272,"DCU"]
["Tara Dunne","UCD","F","Recurve","Beginner",null,184,"UCD/ITC"]
["Tara Dunne","UCD","F","Recurve","Beginner",null,256,"NUIM/GMIT"]
["Tara Dunne","UCD","F","Recurve","Beginner",null,287,"NUIG"]
["Tara Dunne","UCD","F","Recurve","Beginner",null,280,"UL"]
["Tara Kilcommons","GMITC","F","Barebow","Beginner",null,283,"UL"]
["Tengku Nazim Tengku Yusof","RCSI","M","Recurve","Beginner",null,248,"NUIM/GMIT"]
["Tengku Nazim Tengku Yusof","RCSI","M","Recurve","Beginner",null,159,"NUIG"]
["Thomas Brouder","UL","M","Recurve","Intermediate",null,453,"UCD/ITC"]
["Thomas Brouder","UL","M","Recurve","Intermediate",null,499,"DkIT"]
["Thomas Brouder","UL","M","Recurve","Intermediate",null,485,"NUIG"]
["Thomas Carr","NUIG","M","Recurve","Beginner",null,318,"DCU"]
["Thomas D'Arcy","UCD","M","Recurve","Intermediate",null,438,"DCU"]
["Thomas D'Arcy","UCD","M","Recurve","Intermediate",null,462,"UCD/ITC"]
["Thomas Kear","NUIG","M","Recurve","Beginner",null,337,"UCD/ITC"]
["Thomas Kear","NUIG","M","Recurve","Beginner",null,180,"DkIT"]
["Thomas Kear","NUIG","M","Recurve","Beginner",null,365,"NUIM/GMIT"]
["Thomas Kear","NUIG","M","Recurve","Beginner",null,298,"NUIG"]
["Thomas Kear","NUIG","M","Recurve","Beginner",null,279,"UL"]
["Thomas Brouder","UL","M","recurve","intermediate",null,452,"DCU"]
["Tom McGrath","NUIG","M","Barebow","Advanced",null,398,"DCU"]
["Tom McGrath","NUIG","M","Barebow","Advanced",null,304,"UCD/ITC"]
["Tom McGrath","NUIG","M","Barebow","Advanced",null,411,"DkIT"]
["Tom McGrath","NUIG","M","Barebow","Advanced",null,306,"NUIM/GMIT"]
["Tom McGrath","NUIG","M","Barebow","Advanced",null,430,"NUIG"]
["Tom McGrath","NUIG","M","Barebow","Advanced",null,345,"UL"]
["Thomas Brouder","UL","M","Recurve","Intermediate",null,480,"NUIM/GMIT"]
["Thomas Brouder","UL","M","recurve","intermediate",null,462,"UL"]
["Tony Keane","GMITC","M","Barebow","Beginner",null,312,"NUIM/GMIT"]
["Tony Keane","GMITC","M","Barebow","Beginner",null,359,"UL"]
["Tony Liu","DkIT","M","Recurve","Intermediate",null,466,"DCU"]
["Tony Liu","DKIT","M","Recurve","Intermediate",null,442,"UCD/ITC"]
["Tony Liu","DKIT","M","Recurve","Intermediate",null,475,"NUIG"]
["Tudor Varga","UCD","M","Recurve","Beginner",null,300,"UCD/ITC"]
["Victoria Tan","DKIT","F","Recurve","Beginner",null,352,"NUIM/GMIT"]
["Victoria Tan","DKIT","F","Recurve","Beginner",null,313,"NUIG"]
["Victoria Tan","DKIT","F","Recurve","Beginner",null,330,"UL"]
["Victoria Tan","DkIT","F","Recurve","Beginner",null,401,"DkIT"]
["Wiebke Hasselmann","NUIG","F","Barebow","Beginner",null,306,"UCD/ITC"]
["Will Hurley","NUIG","M","Compound","Advanced",null,498,"UCD/ITC"]
["William Clifford","NUIM","M","Recurve","Intermediate",null,331,"NUIG"]
["William Oliver","IT Tallaght","M","Recurve","Beginner",null,53,"DCU"]
["See Qui Ren","DKIT","M","Recurve","Beginner",null,362,"NUIM/GMIT"]
["See Qui Ren","DKIT","M","Recurve","Beginner",null,292,"NUIG"]
["See Qui Ren","DKIT","M","Recurve","Beginner",null,301,"UL"]
["See Qui Ren","DkIT","M","Recurve","Beginner",null,414,"DkIT"]
["Jocelyn Yee","DkIT","F","Recurve","Beginner",null,337,"DCU"]
["Jocelyn Yee","DKIT","F","Recurve","Beginner",null,320,"UCD/ITC"]
["Yeo Eng Jet","DkIT","M","Recurve","Beginner",null,465,"DCU"]
["Yeo Eng Jet","DKIT","M","Recurve","Beginner",null,344,"UCD/ITC"]
["Yeo Eng Jet","DkIT","M","Recurve","Beginner",null,350,"DkIT"]
["Yeo Eng Jet","DKIT","M","Recurve","Beginner",null,200,"NUIM/GMIT"]
["Yeo Eng Jet","DKIT","M","Recurve","Beginner",null,228,"NUIG"]
["Yeo Eng Jet","DKIT","M","Recurve","Beginner",null,342,"UL"]
["Yogeswran Muthukumaru","RCSI","M","Recurve","Beginner",null,96,"NUIG"]
["Youcheng Pan","DIT","M","Recurve","Advanced",null,399,"DCU"]
["Youcheng Pan","DIT","M","Recurve","Advanced",null,480,"DkIT"]
["Youcheng Pan","DIT","M","Recurve","Advanced",null,509,"NUIM/GMIT"]
["Youcheng Pan","DIT","M","Recurve","Advanced",null,499,"UL"]
["Youcheng Pan","DIT","M","Recurve","Advanced",null,529,"NUIG"]
["zahratulfatin ","RCSI","F","Recurve","Beginner",null,232,"UL"]
["Zain Bari","UCD","M","Recurve","Beginner",null,123,"UCD/ITC"]
["Zhi-Miin Ong","RCSI","F","Recurve","Beginner",null,318,"NUIM/GMIT"]
["Zhi-Miin Ong","RCSI","F","Recurve","Beginner",null,251,"NUIG"]
["Zul Farhan","UCD","M","Recurve","Beginner",null,426,"UCD/ITC"]
["Zul Farhan","UCD","M","Recurve","Beginner",null,399,"DCU"]
["Zul Farhan","UCD","M","Recurve","Beginner",null,312,"NUIM/GMIT"]
["Zul Farhan","UCD","M","Recurve","Beginner",null,355,"UL"]
[]
[]
[]
[]
[]
[]
[]
[]
[]
[]
[]
[]
[]
[]
[]
[]
[]
[]
[]
[]
[]
[]
[]
[]
[]
[]
[]
[]
[]
[]
[]
[]
[]
[]
[]
[]
[]
[]
[]
[]
[]
[]
[]
[]
[]
[]
[]
[]
[]
[]
[]
[]
[]
[]
[]
[]
[]
[]
[]
[]
[]
[]
[]
[]
[]
[]
[]
[]
[]
[]
[]
[]
[]
[]
[]
[]
[]
[]
[]
[]
[]
[]
[]
[]
[]
[]
[]
[]
[]
[]
[]
[]
[]
[]
[]
[]
[]
[]
[]
[]
[]
[]
[]
[]
[]
[]
[]
[]
[]
[]
[]
[]
[]
[]
[]
[]
[]
[]
[]
[]
[]
[]
[]
[]
[]
[]
[]
[]
[]
[]
[]
[]
[]
[]
[]
[]
[]
[]
[]
[]
[]
[]
[]
[]
[]
[]
[]
[]
[]
[]
[]
[]
[]
[]
[]
[]
[]
[]
[]
[]
[]
[]
[]
[]
[]
[]
[]
[]
[]
[]
[]
[]
[]
[]
[]
[]
[]
[]
[]
[]
[]
[]
[null,"DCU"]
[null,"DIT"]
[null,"DKIT"]
[null,"BCFE"]
[null,"GMIT"]
[null,"GMITC"]
[null,"ITC"]
[null,"IT Tallaght"]
[null,"NUIM"]
[null,"CD"]
[null,"NUIG"]
[null,"RCSI"]
[null,"UCC"]
[null,"UCD"]
[null,"UL"]
[null,"UU"]
[null,"QUB",null,null,null,null,null,"DCU"]
[null,"AAA",null,null,null,null,null,"UCD/ITC"]
[null,"BBB",null,null,null,null,null,"DkIT"]
[null,"CCC",null,null,null,null,null,"NUIM/GMIT"]
[null,"DDD",null,null,null,null,null,"NUIG"]
[null,"EEE",null,null,null,null,null,"UL"]

{"sheet":"Singles","index":1,"n_rows":375,"n_cols":82,"rows_kept":375,"cut":false,"hidden":false,"merged":[[1,74,3,81],[5,80,6,80],[5,81,6,81],[1,60,3,67],[86,4,88,11],[1,46,3,53],[5,51,6,51],[5,52,6,52],[5,53,6,53],[1,4,3,11],[5,10,6,10],[5,12,6,12],[1,32,3,39],[5,37,6,37],[5,38,6,38],[5,39,6,39],[90,40,91,40],[90,10,91,10],[90,11,91,11],[86,18,88,25],[90,24,91,24],[90,25,91,25],[90,12,91,12],[86,46,88,53],[90,52,91,52],[90,53,91,53],[86,60,88,67],[90,66,91,66],[90,67,91,67],[90,54,91,54],[5,24,6,24],[5,25,6,25],[1,18,3,25],[5,11,6,11],[90,82,91,82],[90,13,91,13],[90,68,91,68],[90,69,91,69],[5,13,6,13],[5,26,6,26],[90,26,91,26],[90,80,91,80],[90,81,91,81],[86,32,88,39],[90,38,91,38],[90,39,91,39],[90,83,91,83],[5,27,6,27],[90,27,91,27],[90,55,91,55],[5,55,6,55],[5,68,6,68],[5,69,6,69],[5,41,6,41],[5,54,6,54],[5,82,6,82],[5,83,6,83],[5,66,6,66],[5,67,6,67],[86,74,88,81],[5,40,6,40],[90,41,91,41]]}
[]
[null,"Gender","M",null,"Male Beginner Recurve",null,null,null,null,null,null,null,null,null,null,"Gender","F",null,"Female Beginner Recurve",null,null,null,null,null,null,null,null,null,null,"Gender","M",null,"Male Intermediate Recurve",null,null,null,null,null,null,null,null,null,null,"Gender","F",null,"Female Intermediate Recurve",null,null,null,null,null,null,null,null,null,null,"Gender","M",null,"Male Advanced Recurve",null,null,null,null,null,null,null,null,null,null,"Gender","F",null,"Female Advanced Recurve"]
[null,"Bow","Recurve",null,null,null,null,null,null,null,null,null,null,null,null,"Bow","Recurve",null,null,null,null,null,null,null,null,null,null,null,null,"Bow","Recurve",null,null,null,null,null,null,null,null,null,null,null,null,"Bow","Recurve",null,null,null,null,null,null,null,null,null,null,null,null,"Bow","Recurve",null,null,null,null,null,null,null,null,null,null,null,null,"Bow","Recurve"]
[null,"Level","Beginner",null,null,null,null,null,null,null,null,null,null,null,null,"Level","Beginner",null,null,null,null,null,null,null,null,null,null,null,null,"Level","(blank)",null,null,null,null,null,null,null,null,null,null,null,null,"Level","(blank)",null,null,null,null,null,null,null,null,null,null,null,null,"Level","(Multiple Items)",null,null,null,null,null,null,null,null,null,null,null,null,"Level","(Multiple Items)"]
[]
[null,"Sum of Points",null,"IV",null,null,null,null,null,null,"Lowest","League total",null,null,null,"Sum of Points",null,"IV",null,null,null,null,null,null,"Lowest","League total",null,null,null,"Sum of Points",null,"IV",null,null,null,null,null," Grand Total","Lowest","League total",null,null,null,"Sum of Points",null,"IV",null,null,null,null,null," Grand Total","Lowest","League total",null,null,null,"Sum of Points",null,"IV",null,null,null,null,null,null,"Lowest","League total",null,null,null,"Sum of Points",null,"IV",null,null,null,null,null,null,"Lowest","League total"]
[null,"Name","College","DCU","UCD/ITC","DkIT","NUIM/GMIT","NUIG","UL","Grand Total",null,null,null,null,null,"Name","College","DCU","UCD/ITC","DkIT","NUIM/GMIT","NUIG","UL","Grand Total",null,null,null,null,null,"Name","College",null,null,null,null,null,null,null,null,null,null,null,null,"Name","College",null,null,null,null,null,null,null,null,null,null,null,null,"Name","College","DCU","UCD/ITC","DkIT","NUIM/GMIT","NUIG","UL","Grand Total",null,null,null,null,null,"Name","College","DCU","UCD/ITC","DkIT","NUIM/GMIT","NUIG","UL","Grand Total"]
["A8","Kevin Kok Zhi Hao","DkIT",452,427,462,413,446,432,2632,{"$f":"MIN(D8:I8)","v":413},{"$f":"IF(C8=\"TBC\",0,(J8-K8)+(LARGE(D8:H8,1)/10000)+(LARGE(D8:H8,2)/10000000))","v":2219.0462452000002},null,null,"N8","Christina Somers","DCU",366,446,377,456,397,431,2473,{"$f":"MIN(R8:W8)","v":366},{"$f":"IF(Q8=\"TBC\",0,(X8-Y8)+(LARGE(R8:V8,1)/10000)+(LARGE(R8:V8,2)/10000000))","v":2107.0456445999998},null,null,"AA8",null,null,null,"TBC","TBC","TBC","TBC","TBC",{"$f":"SUM(AF8:AJ8)","v":0},{"$f":"MIN(AF8:AJ8)","v":0},{"$f":"IF(AE8=\"TBC\",0,(AL8-AM8)+(LARGE(AF8:AJ8,1)/10000)+(LARGE(AF8:AJ8,2)/10000000))","v":{"$error":"#NUM!"}},null,null,"AN8",null,null,null,"TBC","TBC","TBC","TBC","TBC",null,{"$f":"MIN(AT8:AX8)","v":0},{"$f":"IF(AS8=\"TBC\",0,(AY8-BA8)+(LARGE(AT8:AX8,1)/10000)+(LARGE(AT8:AX8,2)/10000000))","v":{"$error":"#VALUE!"}},null,null,"BA8","Darren Wallace","NUIG",564,560,567,560,575,565,3391,{"$f":"MIN(BH8:BM8)","v":560},{"$f":"IF(BG8=\"TBC\",0,(BN8-BO8)+(LARGE(BH8:BL8,1)/10000)+(LARGE(BH8:BL8,2)/10000000))","v":2831.0575567000001},null,null,"BN8","Maeve Reidy","BCFE",552,546,562,550,559,548,3317,{"$f":"MIN(BV8:CA8)","v":546},{"$f":"IF(BU8=\"TBC\",0,(CB8-CC8)+(LARGE(BV8:BZ8,1)/10000)+(LARGE(BV8:BZ8,2)/10000000))","v":2771.0562559}]
["A9","Frank Stafford","UL",501,376,387,427,399,441,2531,{"$f":"MIN(D9:I9)","v":376},2155.0501426999999,null,null,"N9","Jen Daly","DIT",355,467,389,373,398,464,2446,{"$f":"MIN(R9:W9)","v":355},2091.0467398000001,null,null,"AA9",null,"TBC","TBC","TBC","TBC","TBC","TBC","TBC",0,{"$f":"MIN(AF9:AJ9)","v":0},0,null,null,"AN9",null,"TBC","TBC","TBC","TBC","TBC","TBC","TBC",null,{"$f":"MIN(AT9:AX9)","v":0},0,null,null,"BA9","Adam McSweeney","DCU",547,547,544,538,530,554,3260,{"$f":"MIN(BH9:BM9)","v":530},2730.0547547000001,null,null,"BN9","Aida Alexandru","NUIM",505,521,525,492,485,448,2976,{"$f":"MIN(BV9:CA9)","v":448},2528.0525521]
["A10","Edwin Ma","DkIT",399,464,394,323,334,350,2264,323,1941.0464399,null,null,"N10","Jessica Lee","DkIT",347,388,342,404,337,351,2169,337,1832.0404388000002,null,null,"AA10",null,"TBC","TBC","TBC","TBC","TBC","TBC","TBC",0,0,0,null,null,"AN10",null,"TBC","TBC","TBC","TBC","TBC","TBC","TBC",null,0,0,null,null,"BA10","Brendan Forde","DkIT",503,542,496,513,556,531,3141,496,2645.0556541999999,null,null,"BN10","Ines Rauch","UCD",473,458,537,502,498,502,2970,458,2512.0537501999997]
["A11","See Qui Ren","DkIT",471,422,414,362,292,301,2262,292,1970.0471422000001,null,null,"N11","Karen Power","UL",394,364,0,433,487,357,2035,0,2035.0487433000001,null,null,"AA11",null,"TBC","TBC","TBC","TBC","TBC","TBC","TBC",0,0,0,null,null,"AN11",null,"TBC","TBC","TBC","TBC","TBC","TBC","TBC",null,0,0,null,null,"BA11","Sean Flavin","UL",524,517,505,522,527,503,3098,503,2595.0527524000004,null,null,"BN11","Ailish Dennehy","UCD",474,429,486,457,479,494,2819,429,2390.0486479000001]
["A12","Keet Wai Hong","DkIT",287,402,358,339,357,355,2098,287,1811.0402357999999,null,null,"N12","Jocelyn Yee","DkIT",337,320,443,279,247,352,1978,247,1731.0443336999999,null,null,"AA12",null,"TBC","TBC","TBC","TBC","TBC","TBC","TBC",0,0,0,null,null,"AN12",null,"TBC","TBC","TBC","TBC","TBC","TBC","TBC",null,0,0,null,null,"BA12","Sean Curtin","UL",541,540,494,529,491,499,3094,491,2603.0541539999999,null,null,"BN12","Sarah Maloney","DCU",465,434,517,484,431,474,2805,431,2374.0517484000002]
["A13","Yeo Eng Jet","DkIT",465,344,350,200,228,342,1929,200,1729.0465349999999,null,null,"N13","Victoria Tan","DkIT",291,267,401,352,313,330,1954,267,1687.0401351999999,null,null,"AA13",null,"TBC","TBC","TBC","TBC","TBC","TBC","TBC",0,0,0,null,null,"AN13",null,"TBC","TBC","TBC","TBC","TBC","TBC","TBC",null,0,0,null,null,"BA13","Dave Boyle","DCU",513,533,522,527,493,480,3068,480,2588.0533527000002,null,null,"BN13","Sinead O`Connell","NUIM",433,477,472,428,444,482,2736,428,2308.0477472000002]
["A14","Mark Walsh","NUIG",354,394,449,355,354,0,1906,0,1906.0449394000002,null,null,"N14","Ciara O'Sullivan","DCU",0,284,410,410,380,363,1847,0,1847.041041,null,null,"AA14",null,"TBC","TBC","TBC","TBC","TBC","TBC","TBC",0,0,0,null,null,"AN14",null,"TBC","TBC","TBC","TBC","TBC","TBC","TBC",null,0,0,null,null,"BA14","John Hally","UL",512,488,541,497,515,511,3064,488,2576.0541515,null,null,"BN14","Sinead Naughton","GMITC",366,452,413,423,445,452,2551,366,2185.0452445000001]
["A15","Colm McClelland","DkIT",279,342,402,244,253,336,1856,244,1612.0402342,null,null,"N15","Ester Schwarz","NUIM",0,375,0,359,393,416,1543,0,1543.0393374999999,null,null,"AA15",null,"TBC","TBC","TBC","TBC","TBC","TBC","TBC",0,0,0,null,null,"AN15",null,"TBC","TBC","TBC","TBC","TBC","TBC","TBC",null,0,0,null,null,"BA15","James Byrne","DIT",499,476,494,488,508,503,2968,476,2492.0508498999998,null,null,"BN15","Jennifer Nally","NUIM",349,419,459,413,478,419,2537,349,2188.0478458999996]
["A16","sean Morrisey","UL",391,398,507,0,0,374,1670,0,1670.0507398,null,null,"N16","Linda Hearn","UCC",450,312,374,0,0,405,1541,0,1541.0450374000002,null,null,"AA16",null,"TBC","TBC","TBC","TBC","TBC","TBC","TBC",0,0,0,null,null,"AN16",null,"TBC","TBC","TBC","TBC","TBC","TBC","TBC",null,0,0,null,null,"BA16","Diego Coyle Diez","NUIM",505,504,496,445,487,470,2907,445,2462.0505503999998,null,null,"BN16","Marie Phelan","DCU",0,393,0,385,0,408,1186,0,1186.0393385]
["A17","Paul Coleman","DCU",454,372,0,0,314,375,1515,0,1515.0454371999999,null,null,"N17","alannah redington","UL",356,325,0,449,0,381,1511,0,1511.0449356000001,null,null,"AA17",null,"TBC","TBC","TBC","TBC","TBC","TBC","TBC",0,0,0,null,null,"AN17",null,"TBC","TBC","TBC","TBC","TBC","TBC","TBC",null,0,0,null,null,"BA17","Thomas Brouder","UL",452,453,499,480,485,462,2831,452,2379.0499485,null,null,"BN17","Aisling Finn","NUIG",0,0,519,0,501,0,1020,0,1020.0519501]
["A18","Eric Moore","NUIG",0,0,315,387,343,455,1500,0,1500.0387343,null,null,"N18","Tara Dunne","UCD",272,184,0,256,287,280,1279,0,1279.0287272,null,null,"AA18",null,"TBC","TBC","TBC","TBC","TBC","TBC","TBC",0,0,0,null,null,"AN18",null,"TBC","TBC","TBC","TBC","TBC","TBC","TBC",null,0,0,null,null,"BA18","Ian Kenna","ITC",429,393,484,510,474,526,2816,393,2423.0510484000001,null,null,"BN18","Sinead Walsh","UCC",403,0,0,0,252,314,969,0,969.04032519999998]
["A19","Zul Farhan","UCD",399,426,0,312,0,355,1492,0,1492.0426399,null,null,"N19","Laura Ni Riada","DCU",477,415,0,0,0,369,1261,0,1261.0477415,null,null,"AA19",null,"TBC","TBC","TBC","TBC","TBC","TBC","TBC",0,0,0,null,null,"AN19",null,"TBC","TBC","TBC","TBC","TBC","TBC","TBC",null,0,0,null,null,"BA19","Adin Middleton","ITC",474,400,467,496,489,484,2810,400,2410.0496488999997,null,null,"BN19","Laura Adams","QUB",454,0,0,0,471,0,925,0,925.04714539999998]
["A20","Shane McGloin","GMIT",0,0,325,373,428,361,1487,0,1487.0428373,null,null,"N20","Aisling Brady","NUIG",0,0,402,260,280,271,1213,0,1213.0402279999998,null,null,"AA20",null,"TBC","TBC","TBC","TBC","TBC","TBC","TBC",0,0,0,null,null,"AN20",null,"TBC","TBC","TBC","TBC","TBC","TBC","TBC",null,0,0,null,null,"BA20","Aldrin Campos","IT Tallaght",392,499,477,478,451,494,2791,392,2399.0499478000002,null,null,"BN20","Ashley Allen","UCD",407,0,0,105,394,0,906,0,906.04073940000001]
["A21","Max Klein","NUIM",462,0,272,384,363,0,1481,0,1481.0462384,null,null,"N21","Katy Doyle","UCD",0,203,0,313,278,341,1135,0,1135.0313278000001,null,null,"AA21",null,"TBC","TBC","TBC","TBC","TBC","TBC","TBC",0,0,0,null,null,"AN21",null,"TBC","TBC","TBC","TBC","TBC","TBC","TBC",null,0,0,null,null,"BA21","Ryan Byrne","DIT",559,480,527,530,0,530,2626,0,2626.055953,null,null,"BN21","Bríd Galvin","NUIG",0,460,0,0,389,0,849,0,849.0460389000001]
["A22","Thomas Kear","NUIG",0,337,180,365,298,279,1459,0,1459.0365336999998,null,null,"N22","Sarah Delaney","NUIG",0,421,0,361,252,0,1034,0,1034.0421360999999,null,null,"AA22",null,"TBC","TBC","TBC","TBC","TBC","TBC","TBC",0,0,0,null,null,"AN22",null,"TBC","TBC","TBC","TBC","TBC","TBC","TBC",null,0,0,null,null,"BA22","Patrick Molloy","NUIG",454,459,386,408,456,427,2590,386,2204.0459455999999,null,null,"BN22","Alysoun Killilea","UCC",423,0,0,0,399,0,822,0,822.0423399]
["A23","Eoin Hinkson","UCD",313,270,456,0,0,400,1439,0,1439.0456313,null,null,"N23","Maria Jacob","UCD",0,0,230,410,0,274,914,0,914.04102300000011,null,null,"AA23",null,"TBC","TBC","TBC","TBC","TBC","TBC","TBC",0,0,0,null,null,"AN23",null,"TBC","TBC","TBC","TBC","TBC","TBC","TBC",null,0,0,null,null,"BA23","Muhammad Asyraf Maarof","NUIG",410,404,467,443,424,425,2573,404,2169.0467442999998,null,null,"BN23","Laura Ford","DCU",0,0,0,416,403,0,819,0,819.04164030000004]
["A24","John Power","NUIM",523,464,419,0,0,0,1406,0,1406.0523464,null,null,"N24","Katrina Kelly","NUIG",0,0,363,146,404,0,913,0,913.04043630000001,null,null,"AA24",null,"TBC","TBC","TBC","TBC","TBC","TBC","TBC",0,0,0,null,null,"AN24",null,"TBC","TBC","TBC","TBC","TBC","TBC","TBC",null,0,0,null,null,"BA24","Stephen Masterson","UCD",466,75,473,488,461,526,2489,75,2414.0488473,null,null,"BN24","Susan Ryan","UCD",390,333,0,0,0,0,723,0,723.03903330000003]
["A25","Leo Byrne","ITC",0,0,304,313,337,399,1353,0,1353.0337313,null,null,"N25","Martha Chege","UU",0,322,0,381,0,0,703,0,703.03813219999995,null,null,"AA25",null,"TBC","TBC","TBC","TBC","TBC","TBC","TBC",0,0,0,null,null,"AN25",null,"TBC","TBC","TBC","TBC","TBC","TBC","TBC",null,0,0,null,null,"BA25","Simon Henleywillis","UCC",495,489,486,0,488,465,2423,0,2423.0495489,null,null,"BN25","Katie Hamilton","UCC",451,0,0,0,0,0,451,0,451.04509999999999]
["A26","Lukasz wrobel","GMIT",346,0,424,225,286,0,1281,0,1281.0424346,null,null,"N26","Rebecca Ward","DkIT",272,0,331,0,0,0,603,0,603.03312719999997,null,null,"AA26",null,"TBC","TBC","TBC","TBC","TBC","TBC","TBC",0,0,0,null,null,"AN26",null,"TBC","TBC","TBC","TBC","TBC","TBC","TBC",null,0,0,null,null,"BA26","Youcheng Pan","DIT",399,0,480,509,529,499,2416,0,2416.0529509000003,null,null,"BN26","sarah o sullivan","UL",432,0,0,0,0,0,432,0,432.04320000000001]
["A27","Darren Ng","UCD",0,391,457,0,0,418,1266,0,1266.0457391,null,null,"N27","Zhi-Miin Ong","RCSI",0,0,0,318,251,0,569,0,569.03182509999999,null,null,"AA27",null,"TBC","TBC","TBC","TBC","TBC","TBC","TBC",0,0,0,null,null,"AN27",null,"TBC","TBC","TBC","TBC","TBC","TBC","TBC",null,0,0,null,null,"BA27","Pádraig Dunphy","NUIM",401,476,0,499,488,509,2373,0,2373.0499488,null,null,"BN27",null,"TBC","TBC","TBC","TBC","TBC","TBC","TBC",null,0,0]
["A28","Paul Murphy","UL",470,0,0,321,0,424,1215,0,1215.0470321,null,null,"N28","Rose Comendador","IT Tallaght",0,0,0,283,0,250,533,0,533.02829999999994,null,null,"AA28",null,"TBC","TBC","TBC","TBC","TBC","TBC","TBC",0,0,0,null,null,"AN28",null,"TBC","TBC","TBC","TBC","TBC","TBC","TBC",null,0,0,null,null,"BA28","Adam Garton","DIT",475,486,0,485,437,478,2361,0,2361.0486485000001,null,null,"BN28",null,"TBC","TBC","TBC","TBC","TBC","TBC","TBC",null,0,0]
["A29","Mark Kearns","NUIM",417,363,0,386,0,0,1166,0,1166.0417385999999,null,null,"N29","Cara Brennan","NUIG",0,0,0,263,224,0,487,0,487.02632239999997,null,null,"AA29",null,"TBC","TBC","TBC","TBC","TBC","TBC","TBC",0,0,0,null,null,"AN29",null,"TBC","TBC","TBC","TBC","TBC","TBC","TBC",null,0,0,null,null,"BA29","Michael O Callaghan","UL",448,449,0,439,492,465,2293,0,2293.0492448999998,null,null,"BN29",null,"TBC","TBC","TBC","TBC","TBC","TBC","TBC",null,0,0]
["A30","Graham Buckley","DIT",0,0,437,0,366,340,1143,0,1143.0437365999999,null,null,"N30","Liu Min","NUIG",0,0,0,0,238,249,487,0,487.02379999999999,null,null,"AA30",null,"TBC","TBC","TBC","TBC","TBC","TBC","TBC",0,0,0,null,null,"AN30",null,"TBC","TBC","TBC","TBC","TBC","TBC","TBC",null,0,0,null,null,"BA30","Chris O'Leary","UCC",452,450,414,0,479,490,2285,0,2285.0479452,null,null,"BN30",null,"TBC","TBC","TBC","TBC","TBC","TBC","TBC",null,0,0]
["A31","Conor dePaor","UCD",0,0,0,415,366,276,1057,0,1057.0415366,null,null,"N31","Farah Nadia Zikhtar","RCSI",187,186,0,0,0,66,439,0,439.0187186,null,null,"AA31",null,"TBC","TBC","TBC","TBC","TBC","TBC","TBC",0,0,0,null,null,"AN31",null,"TBC","TBC","TBC","TBC","TBC","TBC","TBC",null,0,0,null,null,"BA31","Peter Cummings","UU",564,548,559,557,0,0,2228,0,2228.0564558999999,null,null,"BN31",null,"TBC","TBC","TBC","TBC","TBC","TBC","TBC",null,0,0]
["A32","Tan Shu leed","RCSI",0,282,0,0,366,407,1055,0,1055.0366282,null,null,"N32","Brona Howard","DkIT",0,0,421,0,0,0,421,0,421.0421,null,null,"AA32",null,"TBC","TBC","TBC","TBC","TBC","TBC","TBC",0,0,0,null,null,"AN32",null,"TBC","TBC","TBC","TBC","TBC","TBC","TBC",null,0,0,null,null,"BA32","Mark Christiansen","NUIM",0,440,458,430,422,408,2158,0,2158.0458439999998,null,null,"BN32",null,"TBC","TBC","TBC","TBC","TBC","TBC","TBC",null,0,0]
["A33","Conor Moran","UL",391,401,0,230,0,0,1022,0,1022.0401391,null,null,"N33","Eilis Ni Shuilleabhain","UCD",0,339,0,0,0,0,339,0,339.03390000000002,null,null,"AA33",null,"TBC","TBC","TBC","TBC","TBC","TBC","TBC",0,0,0,null,null,"AN33",null,"TBC","TBC","TBC","TBC","TBC","TBC","TBC",null,0,0,null,null,"BA33","Austin Tobin","DCU",0,0,524,543,521,538,2126,0,2126.0543524,null,null,"BN33",null,"TBC","TBC","TBC","TBC","TBC","TBC","TBC",null,0,0]
["A34","Muhammad Hakim Mohd Nasir","RCSI",224,239,0,444,0,114,1021,0,1021.0444239,null,null,"N34","Elizabeth Clare Lao","DIT",287,0,0,0,0,0,287,0,287.02870000000001,null,null,"AA34",null,"TBC","TBC","TBC","TBC","TBC","TBC","TBC",0,0,0,null,null,"AN34",null,"TBC","TBC","TBC","TBC","TBC","TBC","TBC",null,0,0,null,null,"BA34","Stephen Dillon","IT Tallaght",497,0,543,523,0,525,2088,0,2088.0543522999997,null,null,"BN34",null,"TBC","TBC","TBC","TBC","TBC","TBC","TBC",null,0,0]
["A35","Ronan Walsh","UCD",0,268,247,0,0,469,984,0,984.02682470000002,null,null,"N35","Hana Cúipéir","DCU",0,275,0,0,0,0,275,0,275.02749999999997,null,null,"AA35",null,"TBC","TBC","TBC","TBC","TBC","TBC","TBC",0,0,0,null,null,"AN35",null,"TBC","TBC","TBC","TBC","TBC","TBC","TBC",null,0,0,null,null,"BA35","Philip Early","DCU",406,408,442,381,0,444,2081,0,2081.0442407999999,null,null,"BN35",null,"TBC","TBC","TBC","TBC","TBC","TBC","TBC",null,0,0]
["A36","Gary Cooney","DCU",516,449,0,0,0,0,965,0,965.05164490000004,null,null,"N36","Shahrizan Majid Allapitchai","RCSI",259,0,0,0,0,0,259,0,259.02589999999998,null,null,"AA36",null,"TBC","TBC","TBC","TBC","TBC","TBC","TBC",0,0,0,null,null,"AN36",null,"TBC","TBC","TBC","TBC","TBC","TBC","TBC",null,0,0,null,null,"BA36","Ciarán Lowe","NUIM",0,519,519,513,0,515,2066,0,2066.0519518999999,null,null,"BN36",null,"TBC","TBC","TBC","TBC","TBC","TBC","TBC",null,0,0]
["A37","Sam Schultz","NUIG",486,435,0,0,0,0,921,0,921.04864349999991,null,null,"N37","Maria Dunne","UL",0,0,0,0,0,257,257,0,257,null,null,"AA37",null,"TBC","TBC","TBC","TBC","TBC","TBC","TBC",0,0,0,null,null,"AN37",null,"TBC","TBC","TBC","TBC","TBC","TBC","TBC",null,0,0,null,null,"BA37","Patrick Markey","DkIT",424,394,374,349,397,0,1938,0,1938.0424396999999,null,null,"BN37",null,"TBC","TBC","TBC","TBC","TBC","TBC","TBC",null,0,0]
["A38","Muhammad Izrin Syukri Mohd Nasri","RCSI",0,240,0,0,282,382,904,0,904.02822400000002,null,null,"N38","Shauna O Brien","UCD",0,0,249,0,0,0,249,0,249.0249,null,null,"AA38",null,"TBC","TBC","TBC","TBC","TBC","TBC","TBC",0,0,0,null,null,"AN38",null,"TBC","TBC","TBC","TBC","TBC","TBC","TBC",null,0,0,null,null,"BA38","Jordan McCord","UU",445,472,476,531,0,0,1924,0,1924.0531476000001,null,null,"BN38",null,"TBC","TBC","TBC","TBC","TBC","TBC","TBC",null,0,0]
["A39","Paul Ferguson","IT Tallaght",0,0,0,480,0,423,903,0,903.048,null,null,"N39","Nassira Musa","UCC",0,241,0,0,0,0,241,0,241.0241,null,null,"AA39",null,"TBC","TBC","TBC","TBC","TBC","TBC","TBC",0,0,0,null,null,"AN39",null,"TBC","TBC","TBC","TBC","TBC","TBC","TBC",null,0,0,null,null,"BA39","Conor McCan","GMIT",0,0,389,437,458,444,1728,0,1728.0458437000002,null,null,"BN39",null,"TBC","TBC","TBC","TBC","TBC","TBC","TBC",null,0,0]
["A40","geoffrey doorbosch","UL",446,438,0,0,0,0,884,0,{"$f":"IF(C40=\"TBC\",0,(J40-K40)+(LARGE(D40:H40,1)/10000)+(LARGE(D40:H40,2)/10000000))","v":884.0446437999999},null,null,"N40","zahratulfatin ","RCSI",0,0,0,0,0,232,232,0,{"$f":"IF(Q40=\"TBC\",0,(X40-Y40)+(LARGE(R40:V40,1)/10000)+(LARGE(R40:V40,2)/10000000))","v":232},null,null,"AA40",null,"TBC","TBC","TBC","TBC","TBC","TBC","TBC",{"$f":"SUM(AF40:AJ40)","v":0},0,{"$f":"IF(AE40=\"TBC\",0,(AL40-AM40)+(LARGE(AF40:AJ40,1)/10000)+(LARGE(AF40:AJ40,2)/10000000))","v":0},null,null,"AN40",null,"TBC","TBC","TBC","TBC","TBC","TBC","TBC",null,0,0,null,null,"BA40","Peter Callanan","UCD",303,205,350,0,328,451,1637,0,{"$f":"IF(BG40=\"TBC\",0,(BN40-BO40)+(LARGE(BH40:BL40,1)/10000)+(LARGE(BH40:BL40,2)/10000000))","v":1637.0350328000002},null,null,"BN40",null,"TBC","TBC","TBC","TBC","TBC","TBC","TBC",null,0,{"$f":"IF(BU40=\"TBC\",0,(CB40-CC40)+(LARGE(BV40:BZ40,1)/10000)+(LARGE(BV40:BZ40,2)/10000000))","v":0}]
["A41","Omar Mustafa","NUIG",414,386,0,0,0,0,800,0,800.04143859999999,null,null,"N41","Shenelle Samodee","RCSI",0,0,0,0,230,0,230,0,230.023,null,null,"AA41",null,"TBC","TBC","TBC","TBC","TBC","TBC","TBC",0,0,0,null,null,"AN41",null,"TBC","TBC","TBC","TBC","TBC","TBC","TBC",null,0,0,null,null,"BA41","Eoin Miller","NUIM",437,0,0,414,392,386,1629,0,1629.0437414,null,null,"BN41",null,"TBC","TBC","TBC","TBC","TBC","TBC","TBC",null,0,0]
["A42","Richard Jeffery","NUIG",0,436,304,0,0,0,740,0,740.04363039999998,null,null,"N42","Rebecca Watkin","UCD",0,0,179,0,0,0,179,0,179.0179,null,null,"AA42",null,"TBC","TBC","TBC","TBC","TBC","TBC","TBC",0,0,0,null,null,"AN42",null,"TBC","TBC","TBC","TBC","TBC","TBC","TBC",null,0,0,null,null,"BA42","Brendan Browne","GMIT",0,0,400,380,422,371,1573,0,1573.04224,null,null,"BN42",null,"TBC","TBC","TBC","TBC","TBC","TBC","TBC",null,0,0]
["A43","Brendan Burke","NUIM",0,0,0,344,0,370,714,0,714.03440000000001,null,null,"N43","Rubasangkari Rajaderam","RCSI",149,0,0,0,0,0,149,0,149.01490000000001,null,null,"AA43",null,"TBC","TBC","TBC","TBC","TBC","TBC","TBC",0,0,0,null,null,"AN43",null,"TBC","TBC","TBC","TBC","TBC","TBC","TBC",null,0,0,null,null,"BA43","Fan Zingliang","NUIG",0,0,0,502,507,522,1531,0,1531.0507502,null,null,"BN43",null,"TBC","TBC","TBC","TBC","TBC","TBC","TBC",null,0,0]
["A44","Paul Connolly","NUIG",0,0,0,259,0,375,634,0,634.02589999999998,null,null,"N44","Auni Awang Dahan","RCSI",94,0,0,0,0,0,94,0,94.009399999999999,null,null,"AA44",null,"TBC","TBC","TBC","TBC","TBC","TBC","TBC",0,0,0,null,null,"AN44",null,"TBC","TBC","TBC","TBC","TBC","TBC","TBC",null,0,0,null,null,"BA44","Daniel Meyer","DCU",0,0,0,468,441,480,1389,0,1389.0468441,null,null,"BN44",null,"TBC","TBC","TBC","TBC","TBC","TBC","TBC",null,0,0]
["A45","Eric Brown","UCD",0,484,0,0,0,0,484,0,484.04840000000002,null,null,"N45","Nurhidayah Miswan","RCSI",0,84,0,0,0,0,84,0,84.008399999999995,null,null,"AA45",null,"TBC","TBC","TBC","TBC","TBC","TBC","TBC",0,0,0,null,null,"AN45",null,"TBC","TBC","TBC","TBC","TBC","TBC","TBC",null,0,0,null,null,"BA45","Tony Liu","DkIT",466,442,0,0,475,0,1383,0,1383.0475465999998,null,null,"BN45",null,"TBC","TBC","TBC","TBC","TBC","TBC","TBC",null,0,0]
["A46","Cian Aherne","UCD",0,233,244,0,0,0,477,0,477.02442330000002,null,null,"N46","Siti Nur Syazwana Mohammad Shafiee","RCSI",0,76,0,0,0,0,76,0,76.007599999999996,null,null,"AA46",null,"TBC","TBC","TBC","TBC","TBC","TBC","TBC",0,0,0,null,null,"AN46",null,"TBC","TBC","TBC","TBC","TBC","TBC","TBC",null,0,0,null,null,"BA46","Marko Kovacevic","GMIT",0,0,0,430,444,472,1346,0,1346.044443,null,null,"BN46",null,"TBC","TBC","TBC","TBC","TBC","TBC","TBC",null,0,0]
["A47","danny neill","UL",462,0,0,0,0,0,462,0,462.0462,null,null,"N47",null,"TBC","TBC","TBC","TBC","TBC","TBC","TBC",null,0,0,null,null,"AA47",null,"TBC","TBC","TBC","TBC","TBC","TBC","TBC",0,0,0,null,null,"AN47",null,"TBC","TBC","TBC","TBC","TBC","TBC","TBC",null,0,0,null,null,"BA47","Conor Lydon","NUIG",245,0,0,360,319,375,1299,0,1299.0360319000001,null,null,"BN47",null,"TBC","TBC","TBC","TBC","TBC","TBC","TBC",null,0,0]
["A48","Davy Shaw","UCD",0,263,187,0,0,0,450,0,450.02631869999999,null,null,"N48",null,"TBC","TBC","TBC","TBC","TBC","TBC","TBC",null,0,0,null,null,"AA48",null,"TBC","TBC","TBC","TBC","TBC","TBC","TBC",0,0,0,null,null,"AN48",null,"TBC","TBC","TBC","TBC","TBC","TBC","TBC",null,0,0,null,null,"BA48","Paul Beirne","UCD",421,0,0,419,0,446,1286,0,1286.0421418999999,null,null,"BN48",null,"TBC","TBC","TBC","TBC","TBC","TBC","TBC",null,0,0]
["A49","Pavle Barbaric","NUIM",0,445,0,0,0,0,445,0,445.04450000000003,null,null,"N49",null,"TBC","TBC","TBC","TBC","TBC","TBC","TBC",null,0,0,null,null,"AA49",null,"TBC","TBC","TBC","TBC","TBC","TBC","TBC",0,0,0,null,null,"AN49",null,"TBC","TBC","TBC","TBC","TBC","TBC","TBC",null,0,0,null,null,"BA49","James Ryan","UCD",531,535,0,0,0,0,1066,0,1066.0535531,null,null,"BN49",null,"TBC","TBC","TBC","TBC","TBC","TBC","TBC",null,0,0]
["A50","James Greer","UCD",0,0,0,0,429,0,429,0,429.04289999999997,null,null,"N50",null,"TBC","TBC","TBC","TBC","TBC","TBC","TBC",null,0,0,null,null,"AA50",null,"TBC","TBC","TBC","TBC","TBC","TBC","TBC",0,0,0,null,null,"AN50",null,"TBC","TBC","TBC","TBC","TBC","TBC","TBC",null,0,0,null,null,"BA50","Kevin Roche","UCD",0,0,0,0,520,526,1046,0,1046.0519999999999,null,null,"BN50",null,"TBC","TBC","TBC","TBC","TBC","TBC","TBC",null,0,0]
["A51","Alan Boylan","DIT",421,0,0,0,0,0,421,0,421.0421,null,null,"N51",null,"TBC","TBC","TBC","TBC","TBC","TBC","TBC",null,0,0,null,null,"AA51",null,"TBC","TBC","TBC","TBC","TBC","TBC","TBC",0,0,0,null,null,"AN51",null,"TBC","TBC","TBC","TBC","TBC","TBC","TBC",null,0,0,null,null,"BA51","Aaron Downes","GMIT",242,88,72,155,156,245,958,72,886.02421559999993,null,null,"BN51",null,"TBC","TBC","TBC","TBC","TBC","TBC","TBC",null,0,0]
["A52","Tengku Nazim Tengku Yusof","RCSI",0,0,0,248,159,0,407,0,407.02481590000002,null,null,"N52",null,"TBC","TBC","TBC","TBC","TBC","TBC","TBC",null,0,0,null,null,"AA52",null,"TBC","TBC","TBC","TBC","TBC","TBC","TBC",0,0,0,null,null,"AN52",null,"TBC","TBC","TBC","TBC","TBC","TBC","TBC",null,0,0,null,null,"BA52","Thomas D'Arcy","UCD",438,462,0,0,0,0,900,0,900.04624379999996,null,null,"BN52",null,"TBC","TBC","TBC","TBC","TBC","TBC","TBC",null,0,0]
["A53","Mark McGrane","UCD",185,204,0,0,0,0,389,0,389.02041850000001,null,null,"N53",null,"TBC","TBC","TBC","TBC","TBC","TBC","TBC",null,0,0,null,null,"AA53",null,"TBC","TBC","TBC","TBC","TBC","TBC","TBC",0,0,0,null,null,"AN53",null,"TBC","TBC","TBC","TBC","TBC","TBC","TBC",null,0,0,null,null,"BA53","Ian Hand","ITC",0,448,429,0,0,0,877,0,877.04484290000005,null,null,"BN53",null,"TBC","TBC","TBC","TBC","TBC","TBC","TBC",null,0,0]
["A54","Daniel Sinnott","UCD",383,0,0,0,0,0,383,0,383.03829999999999,null,null,"N54",null,"TBC","TBC","TBC","TBC","TBC","TBC","TBC",null,0,0,null,null,"AA54",null,"TBC","TBC","TBC","TBC","TBC","TBC","TBC",0,0,0,null,null,"AN54",null,"TBC","TBC","TBC","TBC","TBC","TBC","TBC",null,0,0,null,null,"BA54","Shane Lordan","UCC",383,458,0,0,0,0,841,0,841.04583830000001,null,null,"BN54",null,"TBC","TBC","TBC","TBC","TBC","TBC","TBC",null,0,0]
["A55","Robin Collins","DIT",0,372,0,0,0,0,372,0,372.03719999999998,null,null,"N55",null,"TBC","TBC","TBC","TBC","TBC","TBC","TBC",null,0,0,null,null,"AA55",null,"TBC","TBC","TBC","TBC","TBC","TBC","TBC",0,0,0,null,null,"AN55",null,"TBC","TBC","TBC","TBC","TBC","TBC","TBC",null,0,0,null,null,"BA55","Kieran Cullinane","NUIG",383,0,0,0,397,0,780,0,780.03973830000007,null,null,"BN55",null,"TBC","TBC","TBC","TBC","TBC","TBC","TBC",null,0,0]
["A56","Fahad Alabdullatif","RCSI",0,0,0,371,0,0,371,0,371.03710000000001,null,null,"N56",null,"TBC","TBC","TBC","TBC","TBC","TBC","TBC",null,0,0,null,null,"AA56",null,"TBC","TBC","TBC","TBC","TBC","TBC","TBC",0,0,0,null,null,"AN56",null,"TBC","TBC","TBC","TBC","TBC","TBC","TBC",null,0,0,null,null,"BA56","Luke Watson","GMIT",0,354,0,0,378,0,732,0,732.03783539999995,null,null,"BN56",null,"TBC","TBC","TBC","TBC","TBC","TBC","TBC",null,0,0]
["A57","Artem Eremin","DIT",0,0,0,0,365,0,365,0,365.03649999999999,null,null,"N57",null,"TBC","TBC","TBC","TBC","TBC","TBC","TBC",null,0,0,null,null,"AA57",null,"TBC","TBC","TBC","TBC","TBC","TBC","TBC",0,0,0,null,null,"AN57",null,"TBC","TBC","TBC","TBC","TBC","TBC","TBC",null,0,0,null,null,"BA57","David Burdon","NUIG",0,0,0,0,325,369,694,0,694.03250000000003,null,null,"BN57",null,"TBC","TBC","TBC","TBC","TBC","TBC","TBC",null,0,0]
["A58","Ruaidhri","UCD",0,360,0,0,0,0,360,0,360.036,null,null,"N58",null,"TBC","TBC","TBC","TBC","TBC","TBC","TBC",null,0,0,null,null,"AA58",null,"TBC","TBC","TBC","TBC","TBC","TBC","TBC",0,0,0,null,null,"AN58",null,"TBC","TBC","TBC","TBC","TBC","TBC","TBC",null,0,0,null,null,"BA58","Martin Stenson","GMIT",168,0,0,223,0,215,606,0,606.0223168,null,null,"BN58",null,"TBC","TBC","TBC","TBC","TBC","TBC","TBC",null,0,0]
["A59","Faiq Syukri","RCSI",0,0,0,0,359,0,359,0,359.03590000000003,null,null,"N59",null,"TBC","TBC","TBC","TBC","TBC","TBC","TBC",null,0,0,null,null,"AA59",null,"TBC","TBC","TBC","TBC","TBC","TBC","TBC",0,0,0,null,null,"AN59",null,"TBC","TBC","TBC","TBC","TBC","TBC","TBC",null,0,0,null,null,"BA59","Darren Daly","ITC",0,535,0,0,0,0,535,0,535.05349999999999,null,null,"BN59",null,"TBC","TBC","TBC","TBC","TBC","TBC","TBC",null,0,0]
["A60","Eamonn Dunleavy","GMITC",337,0,0,0,0,0,337,0,337.03370000000001,null,null,"N60",null,"TBC","TBC","TBC","TBC","TBC","TBC","TBC",null,0,0,null,null,"AA60",null,"TBC","TBC","TBC","TBC","TBC","TBC","TBC",0,0,0,null,null,"AN60",null,"TBC","TBC","TBC","TBC","TBC","TBC","TBC",null,0,0,null,null,"BA60","Lewis Holmes","UU",0,500,0,0,0,0,500,0,500.05,null,null,"BN60",null,"TBC","TBC","TBC","TBC","TBC","TBC","TBC",null,0,0]
["A61","Thomas Carr","NUIG",318,0,0,0,0,0,318,0,318.03179999999998,null,null,"N61",null,"TBC","TBC","TBC","TBC","TBC","TBC","TBC",null,0,0,null,null,"AA61",null,"TBC","TBC","TBC","TBC","TBC","TBC","TBC",0,0,0,null,null,"AN61",null,"TBC","TBC","TBC","TBC","TBC","TBC","TBC",null,0,0,null,null,"BA61","Gary Stuart","IT Tallaght",497,0,0,0,0,0,497,0,497.04969999999997,null,null,"BN61",null,"TBC","TBC","TBC","TBC","TBC","TBC","TBC",null,0,0]
["A62","Eoin Codd","UCD",0,304,0,0,0,0,304,0,304.03039999999999,null,null,"N62",null,"TBC","TBC","TBC","TBC","TBC","TBC","TBC",null,0,0,null,null,"AA62",null,"TBC","TBC","TBC","TBC","TBC","TBC","TBC",0,0,0,null,null,"AN62",null,"TBC","TBC","TBC","TBC","TBC","TBC","TBC",null,0,0,null,null,"BA62","Graham Enright","UCC",448,0,0,0,0,0,448,0,448.04480000000001,null,null,"BN62",null,"TBC","TBC","TBC","TBC","TBC","TBC","TBC",null,0,0]
["A63","Dennis Reynor","UCD",0,0,0,0,302,0,302,0,302.03019999999998,null,null,"N63",null,"TBC","TBC","TBC","TBC","TBC","TBC","TBC",null,0,0,null,null,"AA63",null,"TBC","TBC","TBC","TBC","TBC","TBC","TBC",0,0,0,null,null,"AN63",null,"TBC","TBC","TBC","TBC","TBC","TBC","TBC",null,0,0,null,null,"BA63","Gary Kelly","DCU",437,0,0,0,0,0,437,0,437.0437,null,null,"BN63",null,"TBC","TBC","TBC","TBC","TBC","TBC","TBC",null,0,0]
["A64","Tudor Varga","UCD",0,300,0,0,0,0,300,0,300.02999999999997,null,null,"N64",null,"TBC","TBC","TBC","TBC","TBC","TBC","TBC",null,0,0,null,null,"AA64",null,"TBC","TBC","TBC","TBC","TBC","TBC","TBC",0,0,0,null,null,"AN64",null,"TBC","TBC","TBC","TBC","TBC","TBC","TBC",null,0,0,null,null,"BA64","Shu Chen","DCU",350,0,0,0,0,0,350,0,350.03500000000003,null,null,"BN64",null,"TBC","TBC","TBC","TBC","TBC","TBC","TBC",null,0,0]
["A65","Daniel Olajide","NUIG",0,280,0,0,0,0,280,0,280.02800000000002,null,null,"N65",null,"TBC","TBC","TBC","TBC","TBC","TBC","TBC",null,0,0,null,null,"AA65",null,"TBC","TBC","TBC","TBC","TBC","TBC","TBC",0,0,0,null,null,"AN65",null,"TBC","TBC","TBC","TBC","TBC","TBC","TBC",null,0,0,null,null,"BA65","William Clifford","NUIM",0,0,0,0,331,0,331,0,331.03309999999999,null,null,"BN65",null,"TBC","TBC","TBC","TBC","TBC","TBC","TBC",null,0,0]
["A66","Cathal Mc Guire","UCD",0,272,0,0,0,0,272,0,272.02719999999999,null,null,"N66",null,"TBC","TBC","TBC","TBC","TBC","TBC","TBC",null,0,0,null,null,"AA66",null,"TBC","TBC","TBC","TBC","TBC","TBC","TBC",0,0,0,null,null,"AN66",null,"TBC","TBC","TBC","TBC","TBC","TBC","TBC",null,0,0,null,null,"BA66","Dara Oliver","NUIG",0,0,323,0,0,0,323,0,323.03230000000002,null,null,"BN66",null,"TBC","TBC","TBC","TBC","TBC","TBC","TBC",null,0,0]
["A67","Ian Mc Dermot","UCC",0,266,0,0,0,0,266,0,266.02659999999997,null,null,"N67",null,"TBC","TBC","TBC","TBC","TBC","TBC","TBC",null,0,0,null,null,"AA67",null,"TBC","TBC","TBC","TBC","TBC","TBC","TBC",0,0,0,null,null,"AN67",null,"TBC","TBC","TBC","TBC","TBC","TBC","TBC",null,0,0,null,null,"BA67","Desmond Monaghan","GMIT",252,0,12,0,0,0,264,0,264.02520119999997,null,null,"BN67",null,"TBC","TBC","TBC","TBC","TBC","TBC","TBC",null,0,0]
["A68","Ciaran McElhinney","GMIT",252,0,0,0,0,0,252,0,252.02520000000001,null,null,"N68",null,"TBC","TBC","TBC","TBC","TBC","TBC","TBC",null,0,0,null,null,"AA68",null,"TBC","TBC","TBC","TBC","TBC","TBC","TBC",0,0,0,null,null,"AN68",null,"TBC","TBC","TBC","TBC","TBC","TBC","TBC",null,0,0,null,null,"BA68","Rob Ó Gallachóir","NUIM",0,0,0,0,187,0,187,0,187.0187,null,null,"BN68",null,"TBC","TBC","TBC","TBC","TBC","TBC","TBC",null,0,0]
["A69","Syahira Najua Zulkefly","UCD",0,221,0,0,0,0,221,0,221.02209999999999,null,null,"N69",null,"TBC","TBC","TBC","TBC","TBC","TBC","TBC",null,0,0,null,null,"AA69",null,"TBC","TBC","TBC","TBC","TBC","TBC","TBC",0,0,0,null,null,"AN69",null,"TBC","TBC","TBC","TBC","TBC","TBC","TBC",null,0,0,null,null,"BA69",null,"TBC","TBC","TBC","TBC","TBC","TBC","TBC",null,0,0,null,null,"BN69",null,"TBC","TBC","TBC","TBC","TBC","TBC","TBC",null,0,0]
["A70","Tajul Syaqqil Tajor Amar","RCSI",0,173,0,0,0,0,173,0,173.01730000000001,null,null,"N70",null,"TBC","TBC","TBC","TBC","TBC","TBC","TBC",null,0,0,null,null,"AA70",null,"TBC","TBC","TBC","TBC","TBC","TBC","TBC",0,0,0,null,null,"AN70",null,"TBC","TBC","TBC","TBC","TBC","TBC","TBC",null,0,0,null,null,"BA70",null,"TBC","TBC","TBC","TBC","TBC","TBC","TBC",null,0,0,null,null,"BN70",null,"TBC","TBC","TBC","TBC","TBC","TBC","TBC",null,0,0]
["A71","Eoghan Brophy","IT Tallaght",0,0,0,170,0,0,170,0,170.017,null,null,"N71",null,"TBC","TBC","TBC","TBC","TBC","TBC","TBC",null,0,0,null,null,"AA71",null,"TBC","TBC","TBC","TBC","TBC","TBC","TBC",0,0,0,null,null,"AN71",null,"TBC","TBC","TBC","TBC","TBC","TBC","TBC",null,0,0,null,null,"BA71",null,"TBC","TBC","TBC","TBC","TBC","TBC","TBC",null,0,0,null,null,"BN71",null,"TBC","TBC","TBC","TBC","TBC","TBC","TBC",null,0,0]
["A72","Marc Creehan","UCC",0,166,0,0,0,0,166,0,{"$f":"IF(C72=\"TBC\",0,(J72-K72)+(LARGE(D72:H72,1)/10000)+(LARGE(D72:H72,2)/10000000))","v":166.01660000000001},null,null,"N72",null,"TBC","TBC","TBC","TBC","TBC","TBC","TBC",null,0,{"$f":"IF(Q72=\"TBC\",0,(X72-Y72)+(LARGE(R72:V72,1)/10000)+(LARGE(R72:V72,2)/10000000))","v":0},null,null,"AA72",null,"TBC","TBC","TBC","TBC","TBC","TBC","TBC",{"$f":"SUM(AF72:AJ72)","v":0},0,{"$f":"IF(AE72=\"TBC\",0,(AL72-AM72)+(LARGE(AF72:AJ72,1)/10000)+(LARGE(AF72:AJ72,2)/10000000))","v":0},null,null,"AN72",null,"TBC","TBC","TBC","TBC","TBC","TBC","TBC",null,0,{"$f":"IF(AS72=\"TBC\",0,(AY72-BA72)+(LARGE(AT72:AX72,1)/10000)+(LARGE(AT72:AX72,2)/10000000))","v":0},null,null,"BA72",null,"TBC","TBC","TBC","TBC","TBC","TBC","TBC",null,0,{"$f":"IF(BG72=\"TBC\",0,(BN72-BO72)+(LARGE(BH72:BL72,1)/10000)+(LARGE(BH72:BL72,2)/10000000))","v":0},null,null,"BN72",null,"TBC","TBC","TBC","TBC","TBC","TBC","TBC",null,0,{"$f":"IF(BU72=\"TBC\",0,(CB72-CC72)+(LARGE(BV72:BZ72,1)/10000)+(LARGE(BV72:BZ72,2)/10000000))","v":0}]
["A73","Zain Bari","UCD",0,123,0,0,0,0,123,{"$f":"MIN(D73:I73)","v":0},123.0123,null,null,"N73",null,"TBC","TBC","TBC","TBC","TBC","TBC","TBC",null,{"$f":"MIN(R73:W73)","v":0},0,null,null,"AA73",null,"TBC","TBC","TBC","TBC","TBC","TBC","TBC",0,{"$f":"MIN(AF73:AJ73)","v":0},0,null,null,"AN73",null,"TBC","TBC","TBC","TBC","TBC","TBC","TBC",null,{"$f":"MIN(AT73:AX73)","v":0},0,null,null,"BA73",null,"TBC","TBC","TBC","TBC","TBC","TBC","TBC",null,{"$f":"MIN(BH73:BM73)","v":0},0,null,null,"BN73",null,"TBC","TBC","TBC","TBC","TBC","TBC","TBC",null,{"$f":"MIN(BV73:CA73)","v":0},0]
["A74","Jonathan Cassidy","NUIG",122,0,0,0,0,0,122,0,122.01220000000001,null,null,"N74",null,"TBC","TBC","TBC","TBC","TBC","TBC","TBC",null,0,0,null,null,"AA74",null,"TBC","TBC","TBC","TBC","TBC","TBC","TBC",0,0,0,null,null,"AN74",null,"TBC","TBC","TBC","TBC","TBC","TBC","TBC",null,0,0,null,null,"BA74",null,"TBC","TBC","TBC","TBC","TBC","TBC","TBC",null,0,0,null,null,"BN74",null,"TBC","TBC","TBC","TBC","TBC","TBC","TBC",null,0,0]
["A75","Lorenzo","UCD",0,104,0,0,0,0,104,0,104.0104,null,null,"N75",null,"TBC","TBC","TBC","TBC","TBC","TBC","TBC",null,0,0,null,null,"AA75",null,"TBC","TBC","TBC","TBC","TBC","TBC","TBC",0,0,0,null,null,"AN75",null,"TBC","TBC","TBC","TBC","TBC","TBC","TBC",null,0,0,null,null,"BA75",null,"TBC","TBC","TBC","TBC","TBC","TBC","TBC",null,0,0,null,null,"BN75",null,"TBC","TBC","TBC","TBC","TBC","TBC","TBC",null,0,0]
["A76","Yogeswran Muthukumaru","RCSI",0,0,0,0,96,0,96,0,96.009600000000006,null,null,"N76",null,"TBC","TBC","TBC","TBC","TBC","TBC","TBC",null,0,0,null,null,"AA76",null,"TBC","TBC","TBC","TBC","TBC","TBC","TBC",0,0,0,null,null,"AN76",null,"TBC","TBC","TBC","TBC","TBC","TBC","TBC",null,0,0,null,null,"BA76",null,"TBC","TBC","TBC","TBC","TBC","TBC","TBC",null,0,0,null,null,"BN76",null,"TBC","TBC","TBC","TBC","TBC","TBC","TBC",null,0,0]
["A77","William Oliver","IT Tallaght",53,0,0,0,0,0,53,0,53.005299999999998,null,null,"N77",null,"TBC","TBC","TBC","TBC","TBC","TBC","TBC",null,0,0,null,null,"AA77",null,"TBC","TBC","TBC","TBC","TBC","TBC","TBC",0,0,0,null,null,"AN77",null,"TBC","TBC","TBC","TBC","TBC","TBC","TBC",null,0,0,null,null,"BA77",null,"TBC","TBC","TBC","TBC","TBC","TBC","TBC",null,0,0,null,null,"BN77",null,"TBC","TBC","TBC","TBC","TBC","TBC","TBC",null,0,0]
["A78","Kevin Lynch","UCD",0,31,0,0,0,0,31,0,31.0031,null,null,"N78",null,"TBC","TBC","TBC","TBC","TBC","TBC","TBC",null,0,0,null,null,"AA78",null,"TBC","TBC","TBC","TBC","TBC","TBC","TBC",0,0,0,null,null,"AN78",null,"TBC","TBC","TBC","TBC","TBC","TBC","TBC",null,0,0,null,null,"BA78",null,"TBC","TBC","TBC","TBC","TBC","TBC","TBC",null,0,0,null,null,"BN78",null,"TBC","TBC","TBC","TBC","TBC","TBC","TBC",null,0,0]
["A79",null,"TBC","TBC","TBC","TBC","TBC","TBC","TBC",null,0,0,null,null,"N79",null,"TBC","TBC","TBC","TBC","TBC","TBC","TBC",null,0,0,null,null,"AA79",null,"TBC","TBC","TBC","TBC","TBC","TBC","TBC",0,0,0,null,null,"AN79",null,"TBC","TBC","TBC","TBC","TBC","TBC","TBC",null,0,0,null,null,"BA79",null,"TBC","TBC","TBC","TBC","TBC","TBC","TBC",null,0,0,null,null,"BN79",null,"TBC","TBC","TBC","TBC","TBC","TBC","TBC",null,0,0]
["A80",null,"TBC","TBC","TBC","TBC","TBC","TBC","TBC",null,0,0,null,null,"N80",null,"TBC","TBC","TBC","TBC","TBC","TBC","TBC",null,0,0,null,null,"AA80",null,"TBC","TBC","TBC","TBC","TBC","TBC","TBC",0,0,0,null,null,"AN80",null,"TBC","TBC","TBC","TBC","TBC","TBC","TBC",null,0,0,null,null,"BA80",null,"TBC","TBC","TBC","TBC","TBC","TBC","TBC",null,0,0,null,null,"BN80",null,"TBC","TBC","TBC","TBC","TBC","TBC","TBC",null,0,0]
["A81",null,"TBC","TBC","TBC","TBC","TBC","TBC","TBC",null,0,0,null,null,"N81",null,"TBC","TBC","TBC","TBC","TBC","TBC","TBC",null,0,0,null,null,"AA81",null,"TBC","TBC","TBC","TBC","TBC","TBC","TBC",0,0,0,null,null,"AN81",null,"TBC","TBC","TBC","TBC","TBC","TBC","TBC",null,0,0,null,null,"BA81",null,"TBC","TBC","TBC","TBC","TBC","TBC","TBC",null,0,0,null,null,"BN81",null,"TBC","TBC","TBC","TBC","TBC","TBC","TBC",null,0,0]
["A82",0,"TBC","TBC","TBC","TBC","TBC","TBC","TBC",null,0,0,null,null,"N82",0,"TBC","TBC","TBC","TBC","TBC","TBC","TBC",null,0,0,null,null,"AA82",0,"TBC","TBC","TBC","TBC","TBC","TBC","TBC",0,0,0,null,null,"AN82",0,"TBC","TBC","TBC","TBC","TBC","TBC","TBC",null,0,0,null,null,"BA82",0,"TBC","TBC","TBC","TBC","TBC","TBC","TBC",null,0,0,null,null,"BN82",0,"TBC","TBC","TBC","TBC","TBC","TBC","TBC",null,0,0]
[]
[]
[]
[]
[null,"Gender","M",null,"Male Beginner Barebow",null,null,null,null,null,null,null,null,null,null,"Gender","F",null,"Female Beginner Barebow",null,null,null,null,null,null,null,null,null,null,"Gender","M",null,"Male Advanced Barebow",null,null,null,null,null,null,null,null,null,null,"Gender","F",null,"Female Advanced Barebow",null,null,null,null,null,null,null,null,null,null,"Gender","M",null,"Male Compound",null,null,null,null,null,null,null,null,null,null,"Gender","F",null,"Female Compound"]
[null,"Bow","Barebow",null,null,null,null,null,null,null,null,null,null,null,null,"Bow","Barebow",null,null,null,null,null,null,null,null,null,null,null,null,"Bow","Barebow",null,null,null,null,null,null,null,null,null,null,null,null,"Bow","Barebow",null,null,null,null,null,null,null,null,null,null,null,null,"Bow","Compound",null,null,null,null,null,null,null,null,null,null,null,null,"Bow","Compound"]
[null,"Level","(blank)",null,null,null,null,null,null,null,null,null,null,null,null,"Level","(blank)",null,null,null,null,null,null,null,null,null,null,null,null,"Level","(Multiple Items)",null,null,null,null,null,null,null,null,null,null,null,null,"Level","(Multiple Items)",null,null,null,null,null,null,null,null,null,null,null,null,"Level","(Multiple Items)",null,null,null,null,null,null,null,null,null,null,null,null,"Level","(Multiple Items)"]
[]
[null,"Sum of Points",null,"IV",null,null,null,null,null,null,"Lowest","League total",null,null,null,"Sum of Points",null,"IV",null,null,null,null,null,null,"Lowest","League total",null,null,null,"Sum of Points",null,"IV",null,null,null,null,null,null,"Lowest","League total",null,null,null,"Sum of Points",null,"IV",null,null,null,null,null,null,"Lowest","League total",null,null,null,"Sum of Points",null,"IV",null,null,null,null,null,null,"Minimum","League total",null,null,null,"Sum of Points",null,"IV",null,null,null,null,null,null,"Lowest","League total"]
[null,"Name","College",null,null,null,null,null,null,null,null,null,null,null,null,"Name","College",null,null,null,null,null,null,null,null,null,null,null,null,"Name","College","DCU","UCD/ITC","DkIT","NUIM/GMIT","NUIG","UL","Grand Total",null,null,null,null,null,"Name","College","DCU","UCD/ITC","DkIT","NUIM/GMIT","NUIG","UL","Grand Total",null,null,null,null,null,"Name","College","DCU","UCD/ITC","DkIT","NUIM/GMIT","NUIG","UL","Grand Total",null,null,null,null,null,"Name","College","DCU","UCD/ITC","DkIT","NUIM/GMIT","NUIG","UL","Grand Total"]
["A93",null,null,null,"TBC","TBC","TBC","TBC","TBC",null,{"$f":"MIN(D93:H93)","v":0},{"$f":"IF(C93=\"TBC\",0,(I93-K93)+(LARGE(D93:H93,1)/10000)+(LARGE(D93:H93,2)/10000000))","v":{"$error":"#VALUE!"}},null,null,"N93",null,null,null,"TBC","TBC","TBC","TBC","TBC",null,{"$f":"MIN(R93:V93)","v":0},{"$f":"IF(Q93=\"TBC\",0,(W93-Y93)+(LARGE(R93:V93,1)/10000)+(LARGE(R93:V93,2)/10000000))","v":{"$error":"#VALUE!"}},null,null,"AA93","Jeffery McMahon","UL",409,406,432,436,420,427,2530,{"$f":"MIN(AF93:AI93)","v":406},{"$f":"IF(AE93=\"TBC\",0,(AL93-AM93)+(LARGE(AF93:AJ93,1)/10000)+(LARGE(AF93:AJ93,2)/10000000))","v":2124.0436432000001},null,null,"AN93","Tami Baumann","NUIM",361,378,0,421,469,356,1985,{"$f":"MIN(AT93:AY93)","v":0},{"$f":"IF(AS93=\"TBC\",0,(AZ93-BA93)+(LARGE(AT93:AX93,1)/10000)+(LARGE(AT93:AX93,2)/10000000))","v":1985.0469421},null,null,"BA93","Carl Byrne","NUIG",566,566,576,567,575,572,3422,{"$f":"MIN(BH93:BM93)","v":566},{"$f":"IF(BG93=\"TBC\",0,(BN93-BO93)+(LARGE(BH93:BL93,1)/10000)+(LARGE(BH93:BL93,2)/10000000))","v":2856.0576575},null,null,"BN93","Kerrie Leonard","NUIM",506,479,510,495,524,512,3026,{"$f":"MIN(BV93:CA93)","v":479},{"$f":"IF(BU93=\"TBC\",0,(CB93-CC93)+(LARGE(BV93:BZ93,1)/10000)+(LARGE(BV93:BZ93,2)/10000000))","v":2547.052451}]
["A94",null,"TBC","TBC","TBC","TBC","TBC","TBC","TBC",null,{"$f":"MIN(D94:H94)","v":0},0,null,null,"N94",null,"TBC","TBC","TBC","TBC","TBC","TBC","TBC",null,{"$f":"MIN(R94:V94)","v":0},0,null,null,"AA94","Tom McGrath","NUIG",398,304,411,306,430,345,2194,{"$f":"MIN(AF94:AI94)","v":304},1890.0430411,null,null,"AN94","Nada Khaled-Abdo","NUIG",306,332,0,357,364,346,1705,{"$f":"MIN(AT94:AY94)","v":0},1705.0364356999999,null,null,"BA94","Mark Sharvin","DCU",557,550,572,557,557,569,3362,{"$f":"MIN(BH94:BM94)","v":550},2812.0572557,null,null,"BN94","Stephanie Martin","DCU",511,517,0,516,0,522,2066,{"$f":"MIN(BV94:CA94)","v":0},2066.0517516]
["A95",null,"TBC","TBC","TBC","TBC","TBC","TBC","TBC",null,0,0,null,null,"N95",null,"TBC","TBC","TBC","TBC","TBC","TBC","TBC",null,0,0,null,null,"AA95","David Price","ITC",220,145,318,381,396,445,1905,145,1760.0396381,null,null,"AN95","Aoife Monaghan","GMIT",0,231,253,274,314,319,1391,0,1391.0314274,null,null,"BA95","Christopher Ryan","NUIG",513,539,547,525,350,544,3018,350,2668.0547538999999,null,null,"BN95","Adria Quinn","GMITC",528,533,512,0,0,0,1573,0,1573.0533528000001]
["A96",null,"TBC","TBC","TBC","TBC","TBC","TBC","TBC",null,0,0,null,null,"N96",null,"TBC","TBC","TBC","TBC","TBC","TBC","TBC",null,0,0,null,null,"AA96","Shane Hyland","GMIT",322,269,378,179,265,248,1661,179,1482.0378322000001,null,null,"AN96","Emily Flanagan","NUIG",0,357,309,0,380,0,1046,0,1046.0380356999999,null,null,"BA96","Callum Conroy","NUIG",505,469,493,468,524,540,2999,468,2531.0524504999998,null,null,"BN96","Nicole Shellenbarger","NUIG",0,0,0,477,414,463,1354,0,1354.0477414000002]
["A97",null,"TBC","TBC","TBC","TBC","TBC","TBC","TBC",null,0,0,null,null,"N97",null,"TBC","TBC","TBC","TBC","TBC","TBC","TBC",null,0,0,null,null,"AA97","Jericho Siababa","DCU",301,381,0,325,0,430,1437,0,1437.0381325000001,null,null,"AN97","Katrina Prakhova","ITC",335,293,368,0,0,0,996,0,996.03683349999994,null,null,"BA97","Andrew Egan","UCC",534,550,553,0,554,559,2750,0,2750.0554553000002,null,null,"BN97","Katie Hamilton","UCC",0,0,0,0,491,0,491,0,491.04910000000001]
["A98",null,"TBC","TBC","TBC","TBC","TBC","TBC","TBC",null,0,0,null,null,"N98",null,"TBC","TBC","TBC","TBC","TBC","TBC","TBC",null,0,0,null,null,"AA98","Sean Brogan","NUIG",0,317,389,306,0,276,1288,0,1288.0389316999999,null,null,"AN98","Raizel Burstein-Frame","NUIG",0,0,187,0,254,317,758,0,758.02541870000005,null,null,"BA98","Glen Conway","CD",555,546,557,0,0,560,2218,0,2218.0557555,null,null,"BN98",null,"TBC","TBC","TBC","TBC","TBC","TBC","TBC",null,0,0]
["A99",null,"TBC","TBC","TBC","TBC","TBC","TBC","TBC",null,0,0,null,null,"N99",null,"TBC","TBC","TBC","TBC","TBC","TBC","TBC",null,0,0,null,null,"AA99","Darren Griffin","GMITC",309,0,419,0,359,0,1087,0,1087.0419359,null,null,"AN99","Jennifer Keegan","GMITC",0,0,352,0,332,0,684,0,684.03523319999999,null,null,"BA99","Cillian Byrne","DCU",524,538,0,542,544,0,2148,0,2148.0544541999998,null,null,"BN99",null,"TBC","TBC","TBC","TBC","TBC","TBC","TBC",null,0,0]
["A100",null,"TBC","TBC","TBC","TBC","TBC","TBC","TBC",null,0,0,null,null,"N100",null,"TBC","TBC","TBC","TBC","TBC","TBC","TBC",null,0,0,null,null,"AA100","Paul Dixon","GMITC",0,0,304,405,0,274,983,0,983.04053039999997,null,null,"AN100","Caroline Greene","GMIT",153,0,0,255,245,0,653,0,653.02552449999996,null,null,"BA100","Sean Scott","DIT",0,513,524,0,514,513,2064,0,2064.0524513999999,null,null,"BN100",null,"TBC","TBC","TBC","TBC","TBC","TBC","TBC",null,0,0]
["A101",null,"TBC","TBC","TBC","TBC","TBC","TBC","TBC",null,0,0,null,null,"N101",null,"TBC","TBC","TBC","TBC","TBC","TBC","TBC",null,0,0,null,null,"AA101","Stephen Sheppard","ITC",303,259,415,0,0,0,977,0,977.04153030000009,null,null,"AN101","Kate Forte","NUIM",0,0,0,210,0,348,558,0,558.02099999999996,null,null,"BA101","John Smith","DIT",564,566,570,0,0,0,1700,0,1700.0570566000001,null,null,"BN101",null,"TBC","TBC","TBC","TBC","TBC","TBC","TBC",null,0,0]
["A102",null,"TBC","TBC","TBC","TBC","TBC","TBC","TBC",null,0,0,null,null,"N102",null,"TBC","TBC","TBC","TBC","TBC","TBC","TBC",null,0,0,null,null,"AA102","Andrew Warrington","GMITC",0,281,0,287,0,380,948,0,948.02872809999997,null,null,"AN102","Wiebke Hasselmann","NUIG",0,306,0,0,0,0,306,0,306.03059999999999,null,null,"BA102","Marko Kovacevic","GMIT",515,512,527,0,0,0,1554,0,1554.0527514999999,null,null,"BN102",null,"TBC","TBC","TBC","TBC","TBC","TBC","TBC",null,0,0]
["A103",null,"TBC","TBC","TBC","TBC","TBC","TBC","TBC",null,0,0,null,null,"N103",null,"TBC","TBC","TBC","TBC","TBC","TBC","TBC",null,0,0,null,null,"AA103","Carlton Bennett","GMITC",0,0,0,269,283,326,878,0,878.02832689999991,null,null,"AN103","Tara Kilcommons","GMITC",0,0,0,0,0,283,283,0,283,null,null,"BA103","Will Hurley","NUIG",0,498,0,0,0,0,498,0,498.0498,null,null,"BN103",null,"TBC","TBC","TBC","TBC","TBC","TBC","TBC",null,0,0]
["A104",null,"TBC","TBC","TBC","TBC","TBC","TBC","TBC",null,0,0,null,null,"N104",null,"TBC","TBC","TBC","TBC","TBC","TBC","TBC",null,0,0,null,null,"AA104","Dara MacEoin","NUIG",241,0,284,267,0,0,792,0,792.02842670000007,null,null,"AN104","Abigail Miller","NUIG",0,0,0,258,0,0,258,0,258.0258,null,null,"BA104","Lukas Korcak","ITC",362,0,0,0,0,0,362,0,362.03620000000001,null,null,"BN104",null,"TBC","TBC","TBC","TBC","TBC","TBC","TBC",null,0,0]
["A105",null,"TBC","TBC","TBC","TBC","TBC","TBC","TBC",null,0,0,null,null,"N105",null,"TBC","TBC","TBC","TBC","TBC","TBC","TBC",null,0,0,null,null,"AA105","Sam Schultz","NUIG",0,0,356,0,434,0,790,0,790.04343560000007,null,null,"AN105","Siobhan O'Connor","GMITC",0,0,0,0,256,0,256,0,256.0256,null,null,"BA105",null,"TBC","TBC","TBC","TBC","TBC","TBC","TBC",null,0,0,null,null,"BN105",null,"TBC","TBC","TBC","TBC","TBC","TBC","TBC",null,0,0]
["A106",null,"TBC","TBC","TBC","TBC","TBC","TBC","TBC",null,0,0,null,null,"N106",null,"TBC","TBC","TBC","TBC","TBC","TBC","TBC",null,0,0,null,null,"AA106","Alan Gibbons","GMITC",0,0,414,0,0,367,781,0,781.04139999999995,null,null,"AN106","Karina Wrzesinska","IT Tallaght",0,0,0,247,0,0,247,0,247.0247,null,null,"BA106",null,"TBC","TBC","TBC","TBC","TBC","TBC","TBC",null,0,0,null,null,"BN106",null,"TBC","TBC","TBC","TBC","TBC","TBC","TBC",null,0,0]
["A107",null,"TBC","TBC","TBC","TBC","TBC","TBC","TBC",null,0,0,null,null,"N107",null,"TBC","TBC","TBC","TBC","TBC","TBC","TBC",null,0,0,null,null,"AA107","Liam Maloney","ITC",0,0,377,0,400,0,777,0,777.04003769999997,null,null,"AN107",null,"TBC","TBC","TBC","TBC","TBC","TBC","TBC",null,0,0,null,null,"BA107",null,"TBC","TBC","TBC","TBC","TBC","TBC","TBC",null,0,0,null,null,"BN107",null,"TBC","TBC","TBC","TBC","TBC","TBC","TBC",null,0,0]
["A108",null,"TBC","TBC","TBC","TBC","TBC","TBC","TBC",null,0,0,null,null,"N108",null,"TBC","TBC","TBC","TBC","TBC","TBC","TBC",null,0,0,null,null,"AA108","Derek Naughton","NUIG",0,0,0,0,389,336,725,0,725.03890000000001,null,null,"AN108",null,"TBC","TBC","TBC","TBC","TBC","TBC","TBC",null,0,0,null,null,"BA108",null,"TBC","TBC","TBC","TBC","TBC","TBC","TBC",null,0,0,null,null,"BN108",null,"TBC","TBC","TBC","TBC","TBC","TBC","TBC",null,0,0]
["A109",null,"TBC","TBC","TBC","TBC","TBC","TBC","TBC",null,0,0,null,null,"N109",null,"TBC","TBC","TBC","TBC","TBC","TBC","TBC",null,0,0,null,null,"AA109","Jay Mc Carron","GMIT",370,118,0,210,0,0,698,0,698.03702099999998,null,null,"AN109",null,"TBC","TBC","TBC","TBC","TBC","TBC","TBC",null,0,0,null,null,"BA109",null,"TBC","TBC","TBC","TBC","TBC","TBC","TBC",null,0,0,null,null,"BN109",null,"TBC","TBC","TBC","TBC","TBC","TBC","TBC",null,0,0]
["A110",null,"TBC","TBC","TBC","TBC","TBC","TBC","TBC",null,0,0,null,null,"N110",null,"TBC","TBC","TBC","TBC","TBC","TBC","TBC",null,0,0,null,null,"AA110","John O'Toole","NUIM",0,0,0,332,0,344,676,0,676.03319999999997,null,null,"AN110",null,"TBC","TBC","TBC","TBC","TBC","TBC","TBC",null,0,0,null,null,"BA110",null,"TBC","TBC","TBC","TBC","TBC","TBC","TBC",null,0,0,null,null,"BN110",null,"TBC","TBC","TBC","TBC","TBC","TBC","TBC",null,0,0]
["A111",null,"TBC","TBC","TBC","TBC","TBC","TBC","TBC",null,0,0,null,null,"N111",null,"TBC","TBC","TBC","TBC","TBC","TBC","TBC",null,0,0,null,null,"AA111","Tony Keane","GMITC",0,0,0,312,0,359,671,0,671.03120000000001,null,null,"AN111",null,"TBC","TBC","TBC","TBC","TBC","TBC","TBC",null,0,0,null,null,"BA111",null,"TBC","TBC","TBC","TBC","TBC","TBC","TBC",null,0,0,null,null,"BN111",null,"TBC","TBC","TBC","TBC","TBC","TBC","TBC",null,0,0]
["A112",null,"TBC","TBC","TBC","TBC","TBC","TBC","TBC",null,0,0,null,null,"N112",null,"TBC","TBC","TBC","TBC","TBC","TBC","TBC",null,0,0,null,null,"AA112","Marc Creehan","UCC",0,0,259,0,161,246,666,0,666.02591610000002,null,null,"AN112",null,"TBC","TBC","TBC","TBC","TBC","TBC","TBC",null,0,0,null,null,"BA112",null,"TBC","TBC","TBC","TBC","TBC","TBC","TBC",null,0,0,null,null,"BN112",null,"TBC","TBC","TBC","TBC","TBC","TBC","TBC",null,0,0]
["A113",null,"TBC","TBC","TBC","TBC","TBC","TBC","TBC",null,0,0,null,null,"N113",null,"TBC","TBC","TBC","TBC","TBC","TBC","TBC",null,0,0,null,null,"AA113","David Doyle","NUIM",0,0,0,0,331,277,608,0,608.03309999999999,null,null,"AN113",null,"TBC","TBC","TBC","TBC","TBC","TBC","TBC",null,0,0,null,null,"BA113",null,"TBC","TBC","TBC","TBC","TBC","TBC","TBC",null,0,0,null,null,"BN113",null,"TBC","TBC","TBC","TBC","TBC","TBC","TBC",null,0,0]
["A114",null,"TBC","TBC","TBC","TBC","TBC","TBC","TBC",null,0,0,null,null,"N114",null,"TBC","TBC","TBC","TBC","TBC","TBC","TBC",null,0,0,null,null,"AA114","Aiman Rahim","RCSI",331,0,0,0,0,216,547,0,547.03309999999999,null,null,"AN114",null,"TBC","TBC","TBC","TBC","TBC","TBC","TBC",null,0,0,null,null,"BA114",null,"TBC","TBC","TBC","TBC","TBC","TBC","TBC",null,0,0,null,null,"BN114",null,"TBC","TBC","TBC","TBC","TBC","TBC","TBC",null,0,0]
["A115",null,"TBC","TBC","TBC","TBC","TBC","TBC","TBC",null,0,0,null,null,"N115",null,"TBC","TBC","TBC","TBC","TBC","TBC","TBC",null,0,0,null,null,"AA115","Daeln Murphy","DCU",216,292,0,0,0,0,508,0,508.02922160000003,null,null,"AN115",null,"TBC","TBC","TBC","TBC","TBC","TBC","TBC",null,0,0,null,null,"BA115",null,"TBC","TBC","TBC","TBC","TBC","TBC","TBC",null,0,0,null,null,"BN115",null,"TBC","TBC","TBC","TBC","TBC","TBC","TBC",null,0,0]
["A116",null,"TBC","TBC","TBC","TBC","TBC","TBC","TBC",null,0,0,null,null,"N116",null,"TBC","TBC","TBC","TBC","TBC","TBC","TBC",null,0,0,null,null,"AA116","Brian Breslin","ITC",224,227,0,0,0,0,451,0,451.02272239999996,null,null,"AN116",null,"TBC","TBC","TBC","TBC","TBC","TBC","TBC",null,0,0,null,null,"BA116",null,"TBC","TBC","TBC","TBC","TBC","TBC","TBC",null,0,0,null,null,"BN116",null,"TBC","TBC","TBC","TBC","TBC","TBC","TBC",null,0,0]
["A117",null,"TBC","TBC","TBC","TBC","TBC","TBC","TBC",null,0,0,null,null,"N117",null,"TBC","TBC","TBC","TBC","TBC","TBC","TBC",null,0,0,null,null,"AA117","Alan Sheppard","ITC",187,248,0,0,0,0,435,0,435.02481870000003,null,null,"AN117",null,"TBC","TBC","TBC","TBC","TBC","TBC","TBC",null,0,0,null,null,"BA117",null,"TBC","TBC","TBC","TBC","TBC","TBC","TBC",null,0,0,null,null,"BN117",null,"TBC","TBC","TBC","TBC","TBC","TBC","TBC",null,0,0]
["A118",null,"TBC","TBC","TBC","TBC","TBC","TBC","TBC",null,0,0,null,null,"N118",null,"TBC","TBC","TBC","TBC","TBC","TBC","TBC",null,0,0,null,null,"AA118","Gary Smith","IT Tallaght",0,0,0,0,0,331,331,0,331,null,null,"AN118",null,"TBC","TBC","TBC","TBC","TBC","TBC","TBC",null,0,0,null,null,"BA118",null,"TBC","TBC","TBC","TBC","TBC","TBC","TBC",null,0,0,null,null,"BN118",null,"TBC","TBC","TBC","TBC","TBC","TBC","TBC",null,0,0]
["A119",null,"TBC","TBC","TBC","TBC","TBC","TBC","TBC",null,0,0,null,null,"N119",null,"TBC","TBC","TBC","TBC","TBC","TBC","TBC",null,0,0,null,null,"AA119","Nik Idlan Faiq","RCSI",0,174,0,0,0,108,282,0,282.01740000000001,null,null,"AN119",null,"TBC","TBC","TBC","TBC","TBC","TBC","TBC",null,0,0,null,null,"BA119",null,"TBC","TBC","TBC","TBC","TBC","TBC","TBC",null,0,0,null,null,"BN119",null,"TBC","TBC","TBC","TBC","TBC","TBC","TBC",null,0,0]
["A120",null,"TBC","TBC","TBC","TBC","TBC","TBC","TBC",null,0,0,null,null,"N120",null,"TBC","TBC","TBC","TBC","TBC","TBC","TBC",null,0,0,null,null,"AA120","Eamonn Dunleavy","GMITC",0,280,0,0,0,0,280,0,280.02800000000002,null,null,"AN120",null,"TBC","TBC","TBC","TBC","TBC","TBC","TBC",null,0,0,null,null,"BA120",null,"TBC","TBC","TBC","TBC","TBC","TBC","TBC",null,0,0,null,null,"BN120",null,"TBC","TBC","TBC","TBC","TBC","TBC","TBC",null,0,0]
["A121",null,"TBC","TBC","TBC","TBC","TBC","TBC","TBC",null,0,0,null,null,"N121",null,"TBC","TBC","TBC","TBC","TBC","TBC","TBC",null,0,0,null,null,"AA121","Marco Tulios","GMITC",0,0,0,0,279,0,279,0,279.02789999999999,null,null,"AN121",null,"TBC","TBC","TBC","TBC","TBC","TBC","TBC",null,0,0,null,null,"BA121",null,"TBC","TBC","TBC","TBC","TBC","TBC","TBC",null,0,0,null,null,"BN121",null,"TBC","TBC","TBC","TBC","TBC","TBC","TBC",null,0,0]
["A122",null,"TBC","TBC","TBC","TBC","TBC","TBC","TBC",null,0,0,null,null,"N122",null,"TBC","TBC","TBC","TBC","TBC","TBC","TBC",null,0,0,null,null,"AA122","conor watkins","UL",278,0,0,0,0,0,278,0,278.02780000000001,null,null,"AN122",null,"TBC","TBC","TBC","TBC","TBC","TBC","TBC",null,0,0,null,null,"BA122",null,"TBC","TBC","TBC","TBC","TBC","TBC","TBC",null,0,0,null,null,"BN122",null,"TBC","TBC","TBC","TBC","TBC","TBC","TBC",null,0,0]
["A123",null,"TBC","TBC","TBC","TBC","TBC","TBC","TBC",null,0,0,null,null,"N123",null,"TBC","TBC","TBC","TBC","TBC","TBC","TBC",null,0,0,null,null,"AA123","Omar Mustafa","NUIG",0,0,0,0,270,0,270,0,270.02699999999999,null,null,"AN123",null,"TBC","TBC","TBC","TBC","TBC","TBC","TBC",null,0,0,null,null,"BA123",null,"TBC","TBC","TBC","TBC","TBC","TBC","TBC",null,0,0,null,null,"BN123",null,"TBC","TBC","TBC","TBC","TBC","TBC","TBC",null,0,0]
["A124",null,"TBC","TBC","TBC","TBC","TBC","TBC","TBC",null,0,0,null,null,"N124",null,"TBC","TBC","TBC","TBC","TBC","TBC","TBC",null,0,0,null,null,"AA124","Kevin May","RCSI",254,0,0,0,0,0,254,0,254.02539999999999,null,null,"AN124",null,"TBC","TBC","TBC","TBC","TBC","TBC","TBC",null,0,0,null,null,"BA124",null,"TBC","TBC","TBC","TBC","TBC","TBC","TBC",null,0,0,null,null,"BN124",null,"TBC","TBC","TBC","TBC","TBC","TBC","TBC",null,0,0]
["A125",null,"TBC","TBC","TBC","TBC","TBC","TBC","TBC",null,0,0,null,null,"N125",null,"TBC","TBC","TBC","TBC","TBC","TBC","TBC",null,0,0,null,null,"AA125","Eammon McGrory","NUIM",0,239,0,0,0,0,239,0,{"$f":"IF(AE125=\"TBC\",0,(AL125-AM125)+(LARGE(AF125:AJ125,1)/10000)+(LARGE(AF125:AJ125,2)/10000000))","v":239.0239},null,null,"AN125",null,"TBC","TBC","TBC","TBC","TBC","TBC","TBC",null,0,{"$f":"IF(AS125=\"TBC\",0,(AZ125-BA125)+(LARGE(AT125:AX125,1)/10000)+(LARGE(AT125:AX125,2)/10000000))","v":0},null,null,"BA125",null,"TBC","TBC","TBC","TBC","TBC","TBC","TBC",null,0,{"$f":"IF(BG125=\"TBC\",0,(BN125-BO125)+(LARGE(BH125:BL125,1)/10000)+(LARGE(BH125:BL125,2)/10000000))","v":0},null,null,"BN125",null,"TBC","TBC","TBC","TBC","TBC","TBC","TBC",null,0,{"$f":"IF(BU125=\"TBC\",0,(CB125-CC125)+(LARGE(BV125:BZ125,1)/10000)+(LARGE(BV125:BZ125,2)/10000000))","v":0}]
["A126",null,"TBC","TBC","TBC","TBC","TBC","TBC","TBC",null,0,0,null,null,"N126",null,"TBC","TBC","TBC","TBC","TBC","TBC","TBC",null,0,0,null,null,"AA126","Simon Lavin","GMITC",0,0,0,232,0,0,232,0,232.0232,null,null,"AN126",null,"TBC","TBC","TBC","TBC","TBC","TBC","TBC",null,0,0,null,null,"BA126",null,"TBC","TBC","TBC","TBC","TBC","TBC","TBC",null,0,0,null,null,"BN126",null,"TBC","TBC","TBC","TBC","TBC","TBC","TBC",null,0,0]
["A127",null,"TBC","TBC","TBC","TBC","TBC","TBC","TBC",null,0,0,null,null,"N127",null,"TBC","TBC","TBC","TBC","TBC","TBC","TBC",null,0,0,null,null,"AA127","Jonathan Cassidy","NUIG",0,0,0,0,229,0,229,0,229.02289999999999,null,null,"AN127",null,"TBC","TBC","TBC","TBC","TBC","TBC","TBC",null,0,0,null,null,"BA127",null,"TBC","TBC","TBC","TBC","TBC","TBC","TBC",null,0,0,null,null,"BN127",null,"TBC","TBC","TBC","TBC","TBC","TBC","TBC",null,0,0]
["A128",null,"TBC","TBC","TBC","TBC","TBC","TBC","TBC",null,0,0,null,null,"N128",null,"TBC","TBC","TBC","TBC","TBC","TBC","TBC",null,0,0,null,null,"AA128","Robert Dore","IT Tallaght",0,0,0,223,0,0,223,0,223.0223,null,null,"AN128",null,"TBC","TBC","TBC","TBC","TBC","TBC","TBC",null,0,0,null,null,"BA128",null,"TBC","TBC","TBC","TBC","TBC","TBC","TBC",null,0,0,null,null,"BN128",null,"TBC","TBC","TBC","TBC","TBC","TBC","TBC",null,0,0]
["A129",null,"TBC","TBC","TBC","TBC","TBC","TBC","TBC",null,0,0,null,null,"N129",null,"TBC","TBC","TBC","TBC","TBC","TBC","TBC",null,0,0,null,null,"AA129","Lukas Frese","UCD",0,0,0,0,0,204,204,0,204,null,null,"AN129",null,"TBC","TBC","TBC","TBC","TBC","TBC","TBC",null,0,0,null,null,"BA129",null,"TBC","TBC","TBC","TBC","TBC","TBC","TBC",null,0,0,null,null,"BN129",null,"TBC","TBC","TBC","TBC","TBC","TBC","TBC",null,0,0]
["A130",null,"TBC","TBC","TBC","TBC","TBC","TBC","TBC",null,0,0,null,null,"N130",null,"TBC","TBC","TBC","TBC","TBC","TBC","TBC",null,0,0,null,null,"AA130","Keelan Bancroft ","GMITC",0,0,0,0,0,147,147,0,147,null,null,"AN130",null,"TBC","TBC","TBC","TBC","TBC","TBC","TBC",null,0,0,null,null,"BA130",null,"TBC","TBC","TBC","TBC","TBC","TBC","TBC",null,0,0,null,null,"BN130",null,"TBC","TBC","TBC","TBC","TBC","TBC","TBC",null,0,0]
["A131",null,"TBC","TBC","TBC","TBC","TBC","TBC","TBC",null,0,0,null,null,"N131",null,"TBC","TBC","TBC","TBC","TBC","TBC","TBC",null,0,0,null,null,"AA131","Arief Naimun","RCSI",0,0,0,143,0,0,143,0,143.01429999999999,null,null,"AN131",null,"TBC","TBC","TBC","TBC","TBC","TBC","TBC",null,0,0,null,null,"BA131",null,"TBC","TBC","TBC","TBC","TBC","TBC","TBC",null,0,0,null,null,"BN131",null,"TBC","TBC","TBC","TBC","TBC","TBC","TBC",null,0,0]
["A132",null,"TBC","TBC","TBC","TBC","TBC","TBC","TBC",null,0,0,null,null,"N132",null,"TBC","TBC","TBC","TBC","TBC","TBC","TBC",null,0,0,null,null,"AA132","Derek Dooley","GMITC",0,0,0,136,0,0,136,0,136.0136,null,null,"AN132",null,"TBC","TBC","TBC","TBC","TBC","TBC","TBC",null,0,0,null,null,"BA132",null,"TBC","TBC","TBC","TBC","TBC","TBC","TBC",null,0,0,null,null,"BN132",null,"TBC","TBC","TBC","TBC","TBC","TBC","TBC",null,0,0]
["A133",null,"TBC","TBC","TBC","TBC","TBC","TBC","TBC",null,0,0,null,null,"N133",null,"TBC","TBC","TBC","TBC","TBC","TBC","TBC",null,0,0,null,null,"AA133","Paul Fox","RCSI",0,0,0,131,0,0,131,0,131.01310000000001,null,null,"AN133",null,"TBC","TBC","TBC","TBC","TBC","TBC","TBC",null,0,0,null,null,"BA133",null,"TBC","TBC","TBC","TBC","TBC","TBC","TBC",null,0,0,null,null,"BN133",null,"TBC","TBC","TBC","TBC","TBC","TBC","TBC",null,0,0]
["A134",null,"TBC","TBC","TBC","TBC","TBC","TBC","TBC",null,0,0,null,null,"N134",null,"TBC","TBC","TBC","TBC","TBC","TBC","TBC",null,0,0,null,null,"AA134","Craig Hill","GMITC",0,0,0,0,123,0,123,0,123.0123,null,null,"AN134",null,"TBC","TBC","TBC","TBC","TBC","TBC","TBC",null,0,0,null,null,"BA134",null,"TBC","TBC","TBC","TBC","TBC","TBC","TBC",null,0,0,null,null,"BN134",null,"TBC","TBC","TBC","TBC","TBC","TBC","TBC",null,0,0]
["A135",null,"TBC","TBC","TBC","TBC","TBC","TBC","TBC",null,0,0,null,null,"N135",null,"TBC","TBC","TBC","TBC","TBC","TBC","TBC",null,0,0,null,null,"AA135","Cody Meadows","NUIG",0,0,0,0,105,0,105,0,105.01049999999999,null,null,"AN135",null,"TBC","TBC","TBC","TBC","TBC","TBC","TBC",null,0,0,null,null,"BA135",null,"TBC","TBC","TBC","TBC","TBC","TBC","TBC",null,0,0,null,null,"BN135",null,"TBC","TBC","TBC","TBC","TBC","TBC","TBC",null,0,0]
["A136",null,"TBC","TBC","TBC","TBC","TBC","TBC","TBC",null,0,0,null,null,"N136",null,"TBC","TBC","TBC","TBC","TBC","TBC","TBC",null,0,0,null,null,"AA136",null,"TBC","TBC","TBC","TBC","TBC","TBC","TBC",null,0,0,null,null,"AN136",null,"TBC","TBC","TBC","TBC","TBC","TBC","TBC",null,0,0,null,null,"BA136",null,"TBC","TBC","TBC","TBC","TBC","TBC","TBC",null,0,0,null,null,"BN136",null,"TBC","TBC","TBC","TBC","TBC","TBC","TBC",null,0,0]
["A137",null,"TBC","TBC","TBC","TBC","TBC","TBC","TBC",null,0,0,null,null,"N137",null,"TBC","TBC","TBC","TBC","TBC","TBC","TBC",null,0,0,null,null,"AA137",null,"TBC","TBC","TBC","TBC","TBC","TBC","TBC",null,0,0,null,null,"AN137",null,"TBC","TBC","TBC","TBC","TBC","TBC","TBC",null,0,0,null,null,"BA137",null,"TBC","TBC","TBC","TBC","TBC","TBC","TBC",null,0,0,null,null,"BN137",null,"TBC","TBC","TBC","TBC","TBC","TBC","TBC",null,0,0]
["A138",null,"TBC","TBC","TBC","TBC","TBC","TBC","TBC",null,0,0,null,null,"N138",null,"TBC","TBC","TBC","TBC","TBC","TBC","TBC",null,0,0,null,null,"AA138",null,"TBC","TBC","TBC","TBC","TBC","TBC","TBC",null,0,0,null,null,"AN138",null,"TBC","TBC","TBC","TBC","TBC","TBC","TBC",null,0,0,null,null,"BA138",null,"TBC","TBC","TBC","TBC","TBC","TBC","TBC",null,0,0,null,null,"BN138",null,"TBC","TBC","TBC","TBC","TBC","TBC","TBC",null,0,0]
["A139",null,"TBC","TBC","TBC","TBC","TBC","TBC","TBC",null,0,0,null,null,"N139",null,"TBC","TBC","TBC","TBC","TBC","TBC","TBC",null,0,0,null,null,"AA139",null,"TBC","TBC","TBC","TBC","TBC","TBC","TBC",null,0,0,null,null,"AN139",null,"TBC","TBC","TBC","TBC","TBC","TBC","TBC",null,0,0,null,null,"BA139",null,"TBC","TBC","TBC","TBC","TBC","TBC","TBC",null,0,0,null,null,"BN139",null,"TBC","TBC","TBC","TBC","TBC","TBC","TBC",null,0,0]
["A140",null,"TBC","TBC","TBC","TBC","TBC","TBC","TBC",null,0,0,null,null,"N140",null,"TBC","TBC","TBC","TBC","TBC","TBC","TBC",null,0,0,null,null,"AA140",null,"TBC","TBC","TBC","TBC","TBC","TBC","TBC",null,0,0,null,null,"AN140",null,"TBC","TBC","TBC","TBC","TBC","TBC","TBC",null,0,0,null,null,"BA140",null,"TBC","TBC","TBC","TBC","TBC","TBC","TBC",null,0,0,null,null,"BN140",null,"TBC","TBC","TBC","TBC","TBC","TBC","TBC",null,0,0]
["A141",null,"TBC","TBC","TBC","TBC","TBC","TBC","TBC",null,0,0,null,null,"N141",null,"TBC","TBC","TBC","TBC","TBC","TBC","TBC",null,0,0,null,null,"AA141",null,"TBC","TBC","TBC","TBC","TBC","TBC","TBC",null,0,0,null,null,"AN141",null,"TBC","TBC","TBC","TBC","TBC","TBC","TBC",null,0,0,null,null,"BA141",null,"TBC","TBC","TBC","TBC","TBC","TBC","TBC",null,0,0,null,null,"BN141",null,"TBC","TBC","TBC","TBC","TBC","TBC","TBC",null,0,0]
["A142",null,"TBC","TBC","TBC","TBC","TBC","TBC","TBC",null,0,0,null,null,"N142",null,"TBC","TBC","TBC","TBC","TBC","TBC","TBC",null,0,0,null,null,"AA142",null,"TBC","TBC","TBC","TBC","TBC","TBC","TBC",null,0,0,null,null,"AN142",null,"TBC","TBC","TBC","TBC","TBC","TBC","TBC",null,0,0,null,null,"BA142",null,"TBC","TBC","TBC","TBC","TBC","TBC","TBC",null,0,0,null,null,"BN142",null,"TBC","TBC","TBC","TBC","TBC","TBC","TBC",null,0,0]
["A143",null,"TBC","TBC","TBC","TBC","TBC","TBC","TBC",null,0,0,null,null,"N143",null,"TBC","TBC","TBC","TBC","TBC","TBC","TBC",null,0,0,null,null,"AA143",null,"TBC","TBC","TBC","TBC","TBC","TBC","TBC",null,0,0,null,null,"AN143",null,"TBC","TBC","TBC","TBC","TBC","TBC","TBC",null,0,0,null,null,"BA143",null,"TBC","TBC","TBC","TBC","TBC","TBC","TBC",null,0,0,null,null,"BN143",null,"TBC","TBC","TBC","TBC","TBC","TBC","TBC",null,0,0]
["A144",null,"TBC","TBC","TBC","TBC","TBC","TBC","TBC",null,0,0,null,null,"N144",null,"TBC","TBC","TBC","TBC","TBC","TBC","TBC",null,0,0,null,null,"AA144",null,"TBC","TBC","TBC","TBC","TBC","TBC","TBC",null,0,0,null,null,"AN144",null,"TBC","TBC","TBC","TBC","TBC","TBC","TBC",null,0,0,null,null,"BA144",null,"TBC","TBC","TBC","TBC","TBC","TBC","TBC",null,0,0,null,null,"BN144",null,"TBC","TBC","TBC","TBC","TBC","TBC","TBC",null,0,0]
["A145",null,"TBC","TBC","TBC","TBC","TBC","TBC","TBC",null,0,0,null,null,"N145",null,"TBC","TBC","TBC","TBC","TBC","TBC","TBC",null,0,0,null,null,"AA145",null,"TBC","TBC","TBC","TBC","TBC","TBC","TBC",null,0,0,null,null,"AN145",null,"TBC","TBC","TBC","TBC","TBC","TBC","TBC",null,0,0,null,null,"BA145",null,"TBC","TBC","TBC","TBC","TBC","TBC","TBC",null,0,0,null,null,"BN145",null,"TBC","TBC","TBC","TBC","TBC","TBC","TBC",null,0,0]
["A146",null,"TBC","TBC","TBC","TBC","TBC","TBC","TBC",null,0,0,null,null,"N146",null,"TBC","TBC","TBC","TBC","TBC","TBC","TBC",null,0,0,null,null,"AA146",null,"TBC","TBC","TBC","TBC","TBC","TBC","TBC",null,0,0,null,null,"AN146",null,"TBC","TBC","TBC","TBC","TBC","TBC","TBC",null,0,0,null,null,"BA146",null,"TBC","TBC","TBC","TBC","TBC","TBC","TBC",null,0,0,null,null,"BN146",null,"TBC","TBC","TBC","TBC","TBC","TBC","TBC",null,0,0]
["A147",null,"TBC","TBC","TBC","TBC","TBC","TBC","TBC",null,0,0,null,null,"N147",null,"TBC","TBC","TBC","TBC","TBC","TBC","TBC",null,0,0,null,null,"AA147",null,"TBC","TBC","TBC","TBC","TBC","TBC","TBC",null,0,0,null,null,"AN147",null,"TBC","TBC","TBC","TBC","TBC","TBC","TBC",null,0,0,null,null,"BA147",null,"TBC","TBC","TBC","TBC","TBC","TBC","TBC",null,0,0,null,null,"BN147",null,"TBC","TBC","TBC","TBC","TBC","TBC","TBC",null,0,0]
["A148",null,"TBC","TBC","TBC","TBC","TBC","TBC","TBC",null,0,0,null,null,"N148",null,"TBC","TBC","TBC","TBC","TBC","TBC","TBC",null,0,0,null,null,"AA148",null,"TBC","TBC","TBC","TBC","TBC","TBC","TBC",null,0,0,null,null,"AN148",null,"TBC","TBC","TBC","TBC","TBC","TBC","TBC",null,0,0,null,null,"BA148",null,"TBC","TBC","TBC","TBC","TBC","TBC","TBC",null,0,0,null,null,"BN148",null,"TBC","TBC","TBC","TBC","TBC","TBC","TBC",null,0,0]
["A149",null,"TBC","TBC","TBC","TBC","TBC","TBC","TBC",null,0,0,null,null,"N149",null,"TBC","TBC","TBC","TBC","TBC","TBC","TBC",null,0,0,null,null,"AA149",null,"TBC","TBC","TBC","TBC","TBC","TBC","TBC",null,0,0,null,null,"AN149",null,"TBC","TBC","TBC","TBC","TBC","TBC","TBC",null,0,0,null,null,"BA149",null,"TBC","TBC","TBC","TBC","TBC","TBC","TBC",null,0,0,null,null,"BN149",null,"TBC","TBC","TBC","TBC","TBC","TBC","TBC",null,0,0]
["A150",null,"TBC","TBC","TBC","TBC","TBC","TBC","TBC",null,0,0,null,null,"N150",null,"TBC","TBC","TBC","TBC","TBC","TBC","TBC",null,0,0,null,null,"AA150",null,"TBC","TBC","TBC","TBC","TBC","TBC","TBC",null,0,0,null,null,"AN150",null,"TBC","TBC","TBC","TBC","TBC","TBC","TBC",null,0,0,null,null,"BA150",null,"TBC","TBC","TBC","TBC","TBC","TBC","TBC",null,0,0,null,null,"BN150",null,"TBC","TBC","TBC","TBC","TBC","TBC","TBC",null,0,0]
["A151",null,"TBC","TBC","TBC","TBC","TBC","TBC","TBC",null,0,0,null,null,"N151",null,"TBC","TBC","TBC","TBC","TBC","TBC","TBC",null,0,0,null,null,"AA151",null,"TBC","TBC","TBC","TBC","TBC","TBC","TBC",null,0,0,null,null,"AN151",null,"TBC","TBC","TBC","TBC","TBC","TBC","TBC",null,0,0,null,null,"BA151",null,"TBC","TBC","TBC","TBC","TBC","TBC","TBC",null,0,0,null,null,"BN151",null,"TBC","TBC","TBC","TBC","TBC","TBC","TBC",null,0,0]
["A152",null,"TBC","TBC","TBC","TBC","TBC","TBC","TBC",null,0,0,null,null,"N152",null,"TBC","TBC","TBC","TBC","TBC","TBC","TBC",null,0,0,null,null,"AA152",null,"TBC","TBC","TBC","TBC","TBC","TBC","TBC",null,0,0,null,null,"AN152",null,"TBC","TBC","TBC","TBC","TBC","TBC","TBC",null,0,0,null,null,"BA152",null,"TBC","TBC","TBC","TBC","TBC","TBC","TBC",null,0,0,null,null,"BN152",null,"TBC","TBC","TBC","TBC","TBC","TBC","TBC",null,0,0]
["A153",null,"TBC","TBC","TBC","TBC","TBC","TBC","TBC",null,0,0,null,null,"N153",null,"TBC","TBC","TBC","TBC","TBC","TBC","TBC",null,0,0,null,null,"AA153",null,"TBC","TBC","TBC","TBC","TBC","TBC","TBC",null,0,0,null,null,"AN153",null,"TBC","TBC","TBC","TBC","TBC","TBC","TBC",null,0,0,null,null,"BA153",null,"TBC","TBC","TBC","TBC","TBC","TBC","TBC",null,0,0,null,null,"BN153",null,"TBC","TBC","TBC","TBC","TBC","TBC","TBC",null,0,0]
["A154",null,"TBC","TBC","TBC","TBC","TBC","TBC","TBC",null,0,0,null,null,"N154",null,"TBC","TBC","TBC","TBC","TBC","TBC","TBC",null,0,0,null,null,"AA154",null,"TBC","TBC","TBC","TBC","TBC","TBC","TBC",null,0,0,null,null,"AN154",null,"TBC","TBC","TBC","TBC","TBC","TBC","TBC",null,0,0,null,null,"BA154",null,"TBC","TBC","TBC","TBC","TBC","TBC","TBC",null,0,0,null,null,"BN154",null,"TBC","TBC","TBC","TBC","TBC","TBC","TBC",null,0,0]
["A155",null,"TBC","TBC","TBC","TBC","TBC","TBC","TBC",null,0,0,null,null,"N155",null,"TBC","TBC","TBC","TBC","TBC","TBC","TBC",null,0,0,null,null,"AA155",null,"TBC","TBC","TBC","TBC","TBC","TBC","TBC",null,0,0,null,null,"AN155",null,"TBC","TBC","TBC","TBC","TBC","TBC","TBC",null,0,0,null,null,"BA155",null,"TBC","TBC","TBC","TBC","TBC","TBC","TBC",null,0,0,null,null,"BN155",null,"TBC","TBC","TBC","TBC","TBC","TBC","TBC",null,0,0]
["A156",null,"TBC","TBC","TBC","TBC","TBC","TBC","TBC",null,0,0,null,null,"N156",null,"TBC","TBC","TBC","TBC","TBC","TBC","TBC",null,0,0,null,null,"AA156",null,"TBC","TBC","TBC","TBC","TBC","TBC","TBC",null,0,0,null,null,"AN156",null,"TBC","TBC","TBC","TBC","TBC","TBC","TBC",null,0,0,null,null,"BA156",null,"TBC","TBC","TBC","TBC","TBC","TBC","TBC",null,0,0,null,null,"BN156",null,"TBC","TBC","TBC","TBC","TBC","TBC","TBC",null,0,0]
["A157",null,"TBC","TBC","TBC","TBC","TBC","TBC","TBC",null,0,{"$f":"IF(C157=\"TBC\",0,(I157-K157)+(LARGE(D157:H157,1)/10000)+(LARGE(D157:H157,2)/10000000))","v":0},null,null,"N157",null,"TBC","TBC","TBC","TBC","TBC","TBC","TBC",null,0,{"$f":"IF(Q157=\"TBC\",0,(W157-Y157)+(LARGE(R157:V157,1)/10000)+(LARGE(R157:V157,2)/10000000))","v":0},null,null,"AA157",null,"TBC","TBC","TBC","TBC","TBC","TBC","TBC",null,0,{"$f":"IF(AE157=\"TBC\",0,(AL157-AM157)+(LARGE(AF157:AJ157,1)/10000)+(LARGE(AF157:AJ157,2)/10000000))","v":0},null,null,"AN157",null,"TBC","TBC","TBC","TBC","TBC","TBC","TBC",null,0,{"$f":"IF(AS157=\"TBC\",0,(AZ157-BA157)+(LARGE(AT157:AX157,1)/10000)+(LARGE(AT157:AX157,2)/10000000))","v":0},null,null,"BA157",null,"TBC","TBC","TBC","TBC","TBC","TBC","TBC",null,0,{"$f":"IF(BG157=\"TBC\",0,(BN157-BO157)+(LARGE(BH157:BL157,1)/10000)+(LARGE(BH157:BL157,2)/10000000))","v":0},null,null,"BN157",null,"TBC","TBC","TBC","TBC","TBC","TBC","TBC",null,0,{"$f":"IF(BU157=\"TBC\",0,(CB157-CC157)+(LARGE(BV157:BZ157,1)/10000)+(LARGE(BV157:BZ157,2)/10000000))","v":0}]
["A158",null,"TBC","TBC","TBC","TBC","TBC","TBC","TBC",null,{"$f":"MIN(D158:H158)","v":0},0,null,null,"N158",null,"TBC","TBC","TBC","TBC","TBC","TBC","TBC",null,{"$f":"MIN(R158:V158)","v":0},0,null,null,"AA158",null,"TBC","TBC","TBC","TBC","TBC","TBC","TBC",null,{"$f":"MIN(AF158:AI158)","v":0},0,null,null,"AN158",null,"TBC","TBC","TBC","TBC","TBC","TBC","TBC",null,{"$f":"MIN(AT158:AY158)","v":0},0,null,null,"BA158",null,"TBC","TBC","TBC","TBC","TBC","TBC","TBC",null,{"$f":"MIN(BH158:BM158)","v":0},0,null,null,"BN158",null,"TBC","TBC","TBC","TBC","TBC","TBC","TBC",null,{"$f":"MIN(BV158:CA158)","v":0},0]
["A159",null,"TBC","TBC","TBC","TBC","TBC","TBC","TBC",null,0,0,null,null,"N159",null,"TBC","TBC","TBC","TBC","TBC","TBC","TBC",null,0,0,null,null,"AA159",null,"TBC","TBC","TBC","TBC","TBC","TBC","TBC",null,0,0,null,null,"AN159",null,"TBC","TBC","TBC","TBC","TBC","TBC","TBC",null,0,0,null,null,"BA159",null,"TBC","TBC","TBC","TBC","TBC","TBC","TBC",null,0,0,null,null,"BN159",null,"TBC","TBC","TBC","TBC","TBC","TBC","TBC",null,0,0]
["A160",null,"TBC","TBC","TBC","TBC","TBC","TBC","TBC",null,0,0,null,null,"N160",null,"TBC","TBC","TBC","TBC","TBC","TBC","TBC",null,0,0,null,null,"AA160",null,"TBC","TBC","TBC","TBC","TBC","TBC","TBC",null,0,0,null,null,"AN160",null,"TBC","TBC","TBC","TBC","TBC","TBC","TBC",null,0,0,null,null,"BA160",null,"TBC","TBC","TBC","TBC","TBC","TBC","TBC",null,0,0,null,null,"BN160",null,"TBC","TBC","TBC","TBC","TBC","TBC","TBC",null,0,0]
["A161",null,"TBC","TBC","TBC","TBC","TBC","TBC","TBC",null,0,0,null,null,"N161",null,"TBC","TBC","TBC","TBC","TBC","TBC","TBC",null,0,0,null,null,"AA161",null,"TBC","TBC","TBC","TBC","TBC","TBC","TBC",null,0,0,null,null,"AN161",null,"TBC","TBC","TBC","TBC","TBC","TBC","TBC",null,0,0,null,null,"BA161",null,"TBC","TBC","TBC","TBC","TBC","TBC","TBC",null,0,0,null,null,"BN161",null,"TBC","TBC","TBC","TBC","TBC","TBC","TBC",null,0,0]
["A162",null,"TBC","TBC","TBC","TBC","TBC","TBC","TBC",null,0,0,null,null,"N162",null,"TBC","TBC","TBC","TBC","TBC","TBC","TBC",null,0,0,null,null,"AA162",null,"TBC","TBC","TBC","TBC","TBC","TBC","TBC",null,0,0,null,null,"AN162",null,"TBC","TBC","TBC","TBC","TBC","TBC","TBC",null,0,0,null,null,"BA162",null,"TBC","TBC","TBC","TBC","TBC","TBC","TBC",null,0,0,null,null,"BN162",null,"TBC","TBC","TBC","TBC","TBC","TBC","TBC",null,0,0]
["A163",null,"TBC","TBC","TBC","TBC","TBC","TBC","TBC",null,0,0,null,null,"N163",null,"TBC","TBC","TBC","TBC","TBC","TBC","TBC",null,0,0,null,null,"AA163",null,"TBC","TBC","TBC","TBC","TBC","TBC","TBC",null,0,0,null,null,"AN163",null,"TBC","TBC","TBC","TBC","TBC","TBC","TBC",null,0,0,null,null,"BA163",null,"TBC","TBC","TBC","TBC","TBC","TBC","TBC",null,0,0,null,null,"BN163",null,"TBC","TBC","TBC","TBC","TBC","TBC","TBC",null,0,0]
["A164",null,"TBC","TBC","TBC","TBC","TBC","TBC","TBC",null,0,0,null,null,"N164",null,"TBC","TBC","TBC","TBC","TBC","TBC","TBC",null,0,0,null,null,"AA164",null,"TBC","TBC","TBC","TBC","TBC","TBC","TBC",null,0,0,null,null,"AN164",null,"TBC","TBC","TBC","TBC","TBC","TBC","TBC",null,0,0,null,null,"BA164",null,"TBC","TBC","TBC","TBC","TBC","TBC","TBC",null,0,0,null,null,"BN164",null,"TBC","TBC","TBC","TBC","TBC","TBC","TBC",null,0,0]
["A165",null,"TBC","TBC","TBC","TBC","TBC","TBC","TBC",null,0,0,null,null,"N165",null,"TBC","TBC","TBC","TBC","TBC","TBC","TBC",null,0,0,null,null,"AA165",null,"TBC","TBC","TBC","TBC","TBC","TBC","TBC",null,0,0,null,null,"AN165",null,"TBC","TBC","TBC","TBC","TBC","TBC","TBC",null,0,0,null,null,"BA165",null,"TBC","TBC","TBC","TBC","TBC","TBC","TBC",null,0,0,null,null,"BN165",null,"TBC","TBC","TBC","TBC","TBC","TBC","TBC",null,0,0]
["A166",null,"TBC","TBC","TBC","TBC","TBC","TBC","TBC",null,0,0,null,null,"N166",null,"TBC","TBC","TBC","TBC","TBC","TBC","TBC",null,0,0,null,null,"AA166",null,"TBC","TBC","TBC","TBC","TBC","TBC","TBC",null,0,0,null,null,"AN166",null,"TBC","TBC","TBC","TBC","TBC","TBC","TBC",null,0,0,null,null,"BA166",null,"TBC","TBC","TBC","TBC","TBC","TBC","TBC",null,0,0,null,null,"BN166",null,"TBC","TBC","TBC","TBC","TBC","TBC","TBC",null,0,0]
["A167",0,"TBC","TBC","TBC","TBC","TBC","TBC","TBC",null,0,0,null,null,"N167",0,"TBC","TBC","TBC","TBC","TBC","TBC","TBC",null,0,0,null,null,"AA167",0,"TBC","TBC","TBC","TBC","TBC","TBC","TBC",null,0,0,null,null,"AN167",0,"TBC","TBC","TBC","TBC","TBC","TBC","TBC",null,{"$f":"MIN(AT167:AY167)","v":0},0,null,null,"BA167",0,"TBC","TBC","TBC","TBC","TBC","TBC","TBC",null,0,0,null,null,"BN167",0,"TBC","TBC","TBC","TBC","TBC","TBC","TBC",null,0,0]
[]
[]
[]
[]
[]
[]
[]
[]
[]
[]
[]
[]
[]
[]
[]
[]
[]
[]
[]
[]
[]
[]
[]
[]
[]
[]
[]
[]
[]
[]
[]
[null,"RBM Sort",null,null,null,null,null,null,null,null,null,null,null,null,null,"RBF Sort",null,null,null,null,null,null,null,null,null,null,null,null,null,"RIM Sort",null,null,null,null,null,null,null,null,null,null,null,null,null,"RIF Sort",null,null,null,null,null,null,null,null,null,null,null,null,null,"RAM Sort",null,null,null,null,null,null,null,null,null,null,null,null,null,"RAF Sort"]
["Tag","Name","College","IV 1","IV 2","IV3","IV4","IV5","Total",null,"Lowest","LEAGUE",null,null,"Tag","Name","College","IV 1","IV 2","IV3","IV4","IV5","Total",null,"Lowest","LEAGUE",null,null,"Tag","Name","College","IV 1","IV 2","IV3","IV4","IV5","Total",null,"Lowest","LEAGUE",null,null,"Tag","Name","College","IV 1","IV 2","IV3","IV4","IV5","Total",null,"Lowest","LEAGUE",null,null,"Tag","Name","College","IV 1","IV 2","IV3","IV4","IV5","Total",null,"Lowest","LEAGUE",null,null,"Tag","Name","College","IV 1","IV 2","IV3","IV4","IV5","Total",null,"Lowest","LEAGUE"]
["A8",{"$f":"VLOOKUP($A201,$A$8:$L$82,2,0)","v":"Kevin Kok Zhi Hao"},{"$f":"VLOOKUP($A201,$A$8:$L$82,3,0)","v":"DkIT"},{"$f":"VLOOKUP($A201,$A$8:$L$82,4,0)","v":452},{"$f":"VLOOKUP($A201,$A$8:$L$82,5,0)","v":427},{"$f":"VLOOKUP($A201,$A$8:$L$82,6,0)","v":462},{"$f":"VLOOKUP($A201,$A$8:$L$82,7,0)","v":413},{"$f":"VLOOKUP($A201,$A$8:$L$82,8,0)","v":446},{"$f":"VLOOKUP($A201,$A$8:$L$82,9,0)","v":432},null,{"$f":"VLOOKUP($A201,$A$8:$L$82,10,0)","v":2632},{"$f":"VLOOKUP($A201,$A$8:$L$82,11,0)","v":413},null,null,"N8",{"$f":"VLOOKUP($O201,$O$8:$Z$82,2,0)","v":"Christina Somers"},{"$f":"VLOOKUP($O201,$O$8:$Z$82,3,0)","v":"DCU"},{"$f":"VLOOKUP($O201,$O$8:$Z$82,4,0)","v":366},{"$f":"VLOOKUP($O201,$O$8:$Z$82,5,0)","v":446},{"$f":"VLOOKUP($O201,$O$8:$Z$82,6,0)","v":377},{"$f":"VLOOKUP($O201,$O$8:$Z$82,7,0)","v":456},{"$f":"VLOOKUP($O201,$O$8:$Z$82,8,0)","v":397},{"$f":"VLOOKUP($O201,$O$8:$Z$82,9,0)","v":431},null,{"$f":"VLOOKUP($O201,$O$8:$Z$82,10,0)","v":2473},{"$f":"VLOOKUP($O201,$O$8:$Z$82,11,0)","v":366},null,null,"AA8",{"$f":"VLOOKUP($AC201,$AC$8:$AN$82,2,0)","v":0},{"$f":"VLOOKUP($AC201,$AC$8:$AN$82,3,0)","v":0},{"$f":"VLOOKUP($AC201,$AC$8:$AN$82,4,0)","v":0},{"$f":"VLOOKUP($AC201,$AC$8:$AN$82,5,0)","v":"TBC"},{"$f":"VLOOKUP($AC201,$AC$8:$AN$82,6,0)","v":"TBC"},{"$f":"VLOOKUP($AC201,$AC$8:$AN$82,7,0)","v":"TBC"},{"$f":"VLOOKUP($AC201,$AC$8:$AN$82,8,0)","v":"TBC"},{"$f":"VLOOKUP($AC201,$AC$8:$AN$82,9,0)","v":"TBC"},null,{"$f":"VLOOKUP($AC201,$AC$8:$AN$82,10,0)","v":0},{"$f":"VLOOKUP($AC201,$AC$8:$AN$82,11,0)","v":0},null,null,"AN8",{"$f":"VLOOKUP($AQ201,$AQ$8:$BB$82,2,0)","v":0},{"$f":"VLOOKUP($AQ201,$AQ$8:$BB$82,3,0)","v":0},{"$f":"VLOOKUP($AQ201,$AQ$8:$BB$82,4,0)","v":0},{"$f":"VLOOKUP($AQ201,$AQ$8:$BB$82,5,0)","v":"TBC"},{"$f":"VLOOKUP($AQ201,$AQ$8:$BB$82,6,0)","v":"TBC"},{"$f":"VLOOKUP($AQ201,$AQ$8:$BB$82,7,0)","v":"TBC"},{"$f":"VLOOKUP($AQ201,$AQ$8:$BB$82,8,0)","v":"TBC"},{"$f":"VLOOKUP($AQ201,$AQ$8:$BB$82,9,0)","v":"TBC"},null,{"$f":"VLOOKUP($AQ201,$AQ$8:$BB$82,10,0)","v":0},{"$f":"VLOOKUP($AQ201,$AQ$8:$BB$82,11,0)","v":0},null,null,"BA8",{"$f":"VLOOKUP($BE201,$BE$8:$BP$82,2,0)","v":"Darren Wallace"},{"$f":"VLOOKUP($BE201,$BE$8:$BP$82,3,0)","v":"NUIG"},{"$f":"VLOOKUP($BE201,$BE$8:$BP$82,4,0)","v":564},{"$f":"VLOOKUP($BE201,$BE$8:$BP$82,5,0)","v":560},{"$f":"VLOOKUP($BE201,$BE$8:$BP$82,6,0)","v":567},{"$f":"VLOOKUP($BE201,$BE$8:$BP$82,7,0)","v":560},{"$f":"VLOOKUP($BE201,$BE$8:$BP$82,8,0)","v":575},{"$f":"VLOOKUP($BE201,$BE$8:$BP$82,9,0)","v":565},null,{"$f":"VLOOKUP($BE201,$BE$8:$BP$82,10,0)","v":3391},{"$f":"VLOOKUP($BE201,$BE$8:$BP$82,11,0)","v":560},null,null,"BN8",{"$f":"VLOOKUP($BS201,$BS$8:$CD$82,2,0)","v":"Maeve Reidy"},{"$f":"VLOOKUP($BS201,$BS$8:$CD$82,3,0)","v":"BCFE"},{"$f":"VLOOKUP($BS201,$BS$8:$CD$82,4,0)","v":552},{"$f":"VLOOKUP($BS201,$BS$8:$CD$82,5,0)","v":546},{"$f":"VLOOKUP($BS201,$BS$8:$CD$82,6,0)","v":562},{"$f":"VLOOKUP($BS201,$BS$8:$CD$82,7,0)","v":550},{"$f":"VLOOKUP($BS201,$BS$8:$CD$82,8,0)","v":559},{"$f":"VLOOKUP($BS201,$BS$8:$CD$82,9,0)","v":548},null,{"$f":"VLOOKUP($BS201,$BS$8:$CD$82,10,0)","v":3317},{"$f":"VLOOKUP($BS201,$BS$8:$CD$82,11,0)","v":546}]
["A9",{"$f":"VLOOKUP($A202,$A$8:$L$82,2,0)","v":"Frank Stafford"},{"$f":"VLOOKUP($A202,$A$8:$L$82,3,0)","v":"UL"},{"$f":"VLOOKUP($A202,$A$8:$L$82,4,0)","v":501},{"$f":"VLOOKUP($A202,$A$8:$L$82,5,0)","v":376},{"$f":"VLOOKUP($A202,$A$8:$L$82,6,0)","v":387},{"$f":"VLOOKUP($A202,$A$8:$L$82,7,0)","v":427},{"$f":"VLOOKUP($A202,$A$8:$L$82,8,0)","v":399},{"$f":"VLOOKUP($A202,$A$8:$L$82,9,0)","v":441},null,{"$f":"VLOOKUP($A202,$A$8:$L$82,10,0)","v":2531},{"$f":"VLOOKUP($A202,$A$8:$L$82,11,0)","v":376},null,null,"N9","Jen Daly","DIT",355,467,389,373,398,464,null,2446,355,null,null,"AA9",{"$f":"VLOOKUP($AC202,$AC$8:$AN$82,2,0)","v":0},{"$f":"VLOOKUP($AC202,$AC$8:$AN$82,3,0)","v":"TBC"},{"$f":"VLOOKUP($AC202,$AC$8:$AN$82,4,0)","v":"TBC"},{"$f":"VLOOKUP($AC202,$AC$8:$AN$82,5,0)","v":"TBC"},{"$f":"VLOOKUP($AC202,$AC$8:$AN$82,6,0)","v":"TBC"},{"$f":"VLOOKUP($AC202,$AC$8:$AN$82,7,0)","v":"TBC"},{"$f":"VLOOKUP($AC202,$AC$8:$AN$82,8,0)","v":"TBC"},{"$f":"VLOOKUP($AC202,$AC$8:$AN$82,9,0)","v":"TBC"},null,{"$f":"VLOOKUP($AC202,$AC$8:$AN$82,10,0)","v":0},{"$f":"VLOOKUP($AC202,$AC$8:$AN$82,11,0)","v":0},null,null,"AN9",{"$f":"VLOOKUP($AQ202,$AQ$8:$BB$82,2,0)","v":0},{"$f":"VLOOKUP($AQ202,$AQ$8:$BB$82,3,0)","v":"TBC"},{"$f":"VLOOKUP($AQ202,$AQ$8:$BB$82,4,0)","v":"TBC"},{"$f":"VLOOKUP($AQ202,$AQ$8:$BB$82,5,0)","v":"TBC"},{"$f":"VLOOKUP($AQ202,$AQ$8:$BB$82,6,0)","v":"TBC"},{"$f":"VLOOKUP($AQ202,$AQ$8:$BB$82,7,0)","v":"TBC"},{"$f":"VLOOKUP($AQ202,$AQ$8:$BB$82,8,0)","v":"TBC"},{"$f":"VLOOKUP($AQ202,$AQ$8:$BB$82,9,0)","v":"TBC"},null,{"$f":"VLOOKUP($AQ202,$AQ$8:$BB$82,10,0)","v":0},{"$f":"VLOOKUP($AQ202,$AQ$8:$BB$82,11,0)","v":0},null,null,"BA9",{"$f":"VLOOKUP($BE202,$BE$8:$BP$82,2,0)","v":"Adam McSweeney"},{"$f":"VLOOKUP($BE202,$BE$8:$BP$82,3,0)","v":"DCU"},{"$f":"VLOOKUP($BE202,$BE$8:$BP$82,4,0)","v":547},{"$f":"VLOOKUP($BE202,$BE$8:$BP$82,5,0)","v":547},{"$f":"VLOOKUP($BE202,$BE$8:$BP$82,6,0)","v":544},{"$f":"VLOOKUP($BE202,$BE$8:$BP$82,7,0)","v":538},{"$f":"VLOOKUP($BE202,$BE$8:$BP$82,8,0)","v":530},{"$f":"VLOOKUP($BE202,$BE$8:$BP$82,9,0)","v":554},null,{"$f":"VLOOKUP($BE202,$BE$8:$BP$82,10,0)","v":3260},{"$f":"VLOOKUP($BE202,$BE$8:$BP$82,11,0)","v":530},null,null,"BN9",{"$f":"VLOOKUP($BS202,$BS$8:$CD$82,2,0)","v":"Aida Alexandru"},{"$f":"VLOOKUP($BS202,$BS$8:$CD$82,3,0)","v":"NUIM"},{"$f":"VLOOKUP($BS202,$BS$8:$CD$82,4,0)","v":505},{"$f":"VLOOKUP($BS202,$BS$8:$CD$82,5,0)","v":521},{"$f":"VLOOKUP($BS202,$BS$8:$CD$82,6,0)","v":525},{"$f":"VLOOKUP($BS202,$BS$8:$CD$82,7,0)","v":492},{"$f":"VLOOKUP($BS202,$BS$8:$CD$82,8,0)","v":485},{"$f":"VLOOKUP($BS202,$BS$8:$CD$82,9,0)","v":448},null,{"$f":"VLOOKUP($BS202,$BS$8:$CD$82,10,0)","v":2976},{"$f":"VLOOKUP($BS202,$BS$8:$CD$82,11,0)","v":448}]
["A10","Edwin Ma","DkIT",399,464,394,323,334,350,null,2264,323,null,null,"N10","Jessica Lee","DkIT",347,388,342,404,337,351,null,2169,337,null,null,"AA10",0,"TBC","TBC","TBC","TBC","TBC","TBC","TBC",null,0,0,null,null,"AN10",0,"TBC","TBC","TBC","TBC","TBC","TBC","TBC",null,0,0,null,null,"BA10","Brendan Forde","DkIT",503,542,496,513,556,531,null,3141,496,null,null,"BN10","Ines Rauch","UCD",473,458,537,502,498,502,null,2970,458]
["A11","See Qui Ren","DkIT",471,422,414,362,292,301,null,2262,292,null,null,"N11","Karen Power","UL",394,364,0,433,487,357,null,2035,0,null,null,"AA11",0,"TBC","TBC","TBC","TBC","TBC","TBC","TBC",null,0,0,null,null,"AN11",0,"TBC","TBC","TBC","TBC","TBC","TBC","TBC",null,0,0,null,null,"BA11","Sean Flavin","UL",524,517,505,522,527,503,null,3098,503,null,null,"BN11","Ailish Dennehy","UCD",474,429,486,457,479,494,null,2819,429]
["A12","Keet Wai Hong","DkIT",287,402,358,339,357,355,null,2098,287,null,null,"N12","Jocelyn Yee","DkIT",337,320,443,279,247,352,null,1978,247,null,null,"AA12",0,"TBC","TBC","TBC","TBC","TBC","TBC","TBC",null,0,0,null,null,"AN12",0,"TBC","TBC","TBC","TBC","TBC","TBC","TBC",null,0,0,null,null,"BA12","Sean Curtin","UL",541,540,494,529,491,499,null,3094,491,null,null,"BN12","Sarah Maloney","DCU",465,434,517,484,431,474,null,2805,431]
["A13","Yeo Eng Jet","DkIT",465,344,350,200,228,342,null,1929,200,null,null,"N13","Victoria Tan","DkIT",291,267,401,352,313,330,null,1954,267,null,null,"AA13",0,"TBC","TBC","TBC","TBC","TBC","TBC","TBC",null,0,0,null,null,"AN13",0,"TBC","TBC","TBC","TBC","TBC","TBC","TBC",null,0,0,null,null,"BA13","Dave Boyle","DCU",513,533,522,527,493,480,null,3068,480,null,null,"BN13","Sinead O`Connell","NUIM",433,477,472,428,444,482,null,2736,428]
["A14","Mark Walsh","NUIG",354,394,449,355,354,0,null,1906,0,null,null,"N14","Ciara O'Sullivan","DCU",0,284,410,410,380,363,null,1847,0,null,null,"AA14",0,"TBC","TBC","TBC","TBC","TBC","TBC","TBC",null,0,0,null,null,"AN14",0,"TBC","TBC","TBC","TBC","TBC","TBC","TBC",null,0,0,null,null,"BA14","John Hally","UL",512,488,541,497,515,511,null,3064,488,null,null,"BN14","Sinead Naughton","GMITC",366,452,413,423,445,452,null,2551,366]
["A15","Colm McClelland","DkIT",279,342,402,244,253,336,null,1856,244,null,null,"N15","Ester Schwarz","NUIM",0,375,0,359,393,416,null,1543,0,null,null,"AA15",0,"TBC","TBC","TBC","TBC","TBC","TBC","TBC",null,0,0,null,null,"AN15",0,"TBC","TBC","TBC","TBC","TBC","TBC","TBC",null,0,0,null,null,"BA15","James Byrne","DIT",499,476,494,488,508,503,null,2968,476,null,null,"BN15","Jennifer Nally","NUIM",349,419,459,413,478,419,null,2537,349]
["A16","sean Morrisey","UL",391,398,507,0,0,374,null,1670,0,null,null,"N16","Linda Hearn","UCC",450,312,374,0,0,405,null,1541,0,null,null,"AA16",0,"TBC","TBC","TBC","TBC","TBC","TBC","TBC",null,0,0,null,null,"AN16",0,"TBC","TBC","TBC","TBC","TBC","TBC","TBC",null,0,0,null,null,"BA16","Diego Coyle Diez","NUIM",505,504,496,445,487,470,null,2907,445,null,null,"BN16","Marie Phelan","DCU",0,393,0,385,0,408,null,1186,0]
["A17","Paul Coleman","DCU",454,372,0,0,314,375,null,1515,0,null,null,"N17",{"$f":"VLOOKUP($O210,$O$8:$Z$82,2,0)","v":"alannah redington"},{"$f":"VLOOKUP($O210,$O$8:$Z$82,3,0)","v":"UL"},{"$f":"VLOOKUP($O210,$O$8:$Z$82,4,0)","v":356},{"$f":"VLOOKUP($O210,$O$8:$Z$82,5,0)","v":325},{"$f":"VLOOKUP($O210,$O$8:$Z$82,6,0)","v":0},{"$f":"VLOOKUP($O210,$O$8:$Z$82,7,0)","v":449},{"$f":"VLOOKUP($O210,$O$8:$Z$82,8,0)","v":0},{"$f":"VLOOKUP($O210,$O$8:$Z$82,9,0)","v":381},null,{"$f":"VLOOKUP($O210,$O$8:$Z$82,10,0)","v":1511},{"$f":"VLOOKUP($O210,$O$8:$Z$82,11,0)","v":0},null,null,"AA17",0,"TBC","TBC","TBC","TBC","TBC","TBC","TBC",null,0,0,null,null,"AN17",0,"TBC","TBC","TBC","TBC","TBC","TBC","TBC",null,0,0,null,null,"BA17","Thomas Brouder","UL",452,453,499,480,485,462,null,2831,452,null,null,"BN17","Aisling Finn","NUIG",0,0,519,0,501,0,null,1020,0]
["A18","Eric Moore","NUIG",0,0,315,387,343,455,null,1500,0,null,null,"N18","Tara Dunne","UCD",272,184,0,256,287,280,null,1279,0,null,null,"AA18",0,"TBC","TBC","TBC","TBC","TBC","TBC","TBC",null,0,0,null,null,"AN18",0,"TBC","TBC","TBC","TBC","TBC","TBC","TBC",null,0,0,null,null,"BA18","Ian Kenna","ITC",429,393,484,510,474,526,null,2816,393,null,null,"BN18","Sinead Walsh","UCC",403,0,0,0,252,314,null,969,0]
["A19","Zul Farhan","UCD",399,426,0,312,0,355,null,1492,0,null,null,"N19","Laura Ni Riada","DCU",477,415,0,0,0,369,null,1261,0,null,null,"AA19",0,"TBC","TBC","TBC","TBC","TBC","TBC","TBC",null,0,0,null,null,"AN19",0,"TBC","TBC","TBC","TBC","TBC","TBC","TBC",null,0,0,null,null,"BA19","Adin Middleton","ITC",474,400,467,496,489,484,null,2810,400,null,null,"BN19","Laura Adams","QUB",454,0,0,0,471,0,null,925,0]
["A20","Shane McGloin","GMIT",0,0,325,373,428,361,null,1487,0,null,null,"N20","Aisling Brady","NUIG",0,0,402,260,280,271,null,1213,0,null,null,"AA20",0,"TBC","TBC","TBC","TBC","TBC","TBC","TBC",null,0,0,null,null,"AN20",0,"TBC","TBC","TBC","TBC","TBC","TBC","TBC",null,0,0,null,null,"BA20","Aldrin Campos","IT Tallaght",392,499,477,478,451,494,null,2791,392,null,null,"BN20","Ashley Allen","UCD",407,0,0,105,394,0,null,906,0]
["A21","Max Klein","NUIM",462,0,272,384,363,0,null,1481,0,null,null,"N21","Katy Doyle","UCD",0,203,0,313,278,341,null,1135,0,null,null,"AA21",0,"TBC","TBC","TBC","TBC","TBC","TBC","TBC",null,0,0,null,null,"AN21",0,"TBC","TBC","TBC","TBC","TBC","TBC","TBC",null,0,0,null,null,"BA21","Ryan Byrne","DIT",559,480,527,530,0,530,null,2626,0,null,null,"BN21","Bríd Galvin","NUIG",0,460,0,0,389,0,null,849,0]
["A22","Thomas Kear","NUIG",0,337,180,365,298,279,null,1459,0,null,null,"N22","Sarah Delaney","NUIG",0,421,0,361,252,0,null,1034,0,null,null,"AA22",0,"TBC","TBC","TBC","TBC","TBC","TBC","TBC",null,0,0,null,null,"AN22",0,"TBC","TBC","TBC","TBC","TBC","TBC","TBC",null,0,0,null,null,"BA22","Patrick Molloy","NUIG",454,459,386,408,456,427,null,2590,386,null,null,"BN22","Alysoun Killilea","UCC",423,0,0,0,399,0,null,822,0]
["A23","Eoin Hinkson","UCD",313,270,456,0,0,400,null,1439,0,null,null,"N23","Maria Jacob","UCD",0,0,230,410,0,274,null,914,0,null,null,"AA23",0,"TBC","TBC","TBC","TBC","TBC","TBC","TBC",null,0,0,null,null,"AN23",0,"TBC","TBC","TBC","TBC","TBC","TBC","TBC",null,0,0,null,null,"BA23","Muhammad Asyraf Maarof","NUIG",410,404,467,443,424,425,null,2573,404,null,null,"BN23","Laura Ford","DCU",0,0,0,416,403,0,null,819,0]
["A24","John Power","NUIM",523,464,419,0,0,0,null,1406,0,null,null,"N24","Katrina Kelly","NUIG",0,0,363,146,404,0,null,913,0,null,null,"AA24",0,"TBC","TBC","TBC","TBC","TBC","TBC","TBC",null,0,0,null,null,"AN24",0,"TBC","TBC","TBC","TBC","TBC","TBC","TBC",null,0,0,null,null,"BA24","Stephen Masterson","UCD",466,75,473,488,461,526,null,2489,75,null,null,"BN24","Susan Ryan","UCD",390,333,0,0,0,0,null,723,0]
["A25","Leo Byrne","ITC",0,0,304,313,337,399,null,1353,0,null,null,"N25","Martha Chege","UU",0,322,0,381,0,0,null,703,0,null,null,"AA25",0,"TBC","TBC","TBC","TBC","TBC","TBC","TBC",null,0,0,null,null,"AN25",0,"TBC","TBC","TBC","TBC","TBC","TBC","TBC",null,0,0,null,null,"BA25","Simon Henleywillis","UCC",495,489,486,0,488,465,null,2423,0,null,null,"BN25","Katie Hamilton","UCC",451,0,0,0,0,0,null,451,0]
["A26","Lukasz wrobel","GMIT",346,0,424,225,286,0,null,1281,0,null,null,"N26","Rebecca Ward","DkIT",272,0,331,0,0,0,null,603,0,null,null,"AA26",0,"TBC","TBC","TBC","TBC","TBC","TBC","TBC",null,0,0,null,null,"AN26",0,"TBC","TBC","TBC","TBC","TBC","TBC","TBC",null,0,0,null,null,"BA26","Youcheng Pan","DIT",399,0,480,509,529,499,null,2416,0,null,null,"BN26","sarah o sullivan","UL",432,0,0,0,0,0,null,432,0]
["A27","Darren Ng","UCD",0,391,457,0,0,418,null,1266,0,null,null,"N27","Zhi-Miin Ong","RCSI",0,0,0,318,251,0,null,569,0,null,null,"AA27",0,"TBC","TBC","TBC","TBC","TBC","TBC","TBC",null,0,0,null,null,"AN27",0,"TBC","TBC","TBC","TBC","TBC","TBC","TBC",null,0,0,null,null,"BA27","Pádraig Dunphy","NUIM",401,476,0,499,488,509,null,2373,0,null,null,"BN27",0,"TBC","TBC","TBC","TBC","TBC","TBC","TBC",null,0,0]
["A28","Paul Murphy","UL",470,0,0,321,0,424,null,1215,0,null,null,"N28","Rose Comendador","IT Tallaght",0,0,0,283,0,250,null,533,0,null,null,"AA28",0,"TBC","TBC","TBC","TBC","TBC","TBC","TBC",null,0,0,null,null,"AN28",0,"TBC","TBC","TBC","TBC","TBC","TBC","TBC",null,0,0,null,null,"BA28","Adam Garton","DIT",475,486,0,485,437,478,null,2361,0,null,null,"BN28",0,"TBC","TBC","TBC","TBC","TBC","TBC","TBC",null,0,0]
["A29","Mark Kearns","NUIM",417,363,0,386,0,0,null,1166,0,null,null,"N29","Cara Brennan","NUIG",0,0,0,263,224,0,null,487,0,null,null,"AA29",0,"TBC","TBC","TBC","TBC","TBC","TBC","TBC",null,0,0,null,null,"AN29",0,"TBC","TBC","TBC","TBC","TBC","TBC","TBC",null,0,0,null,null,"BA29","Michael O Callaghan","UL",448,449,0,439,492,465,null,2293,0,null,null,"BN29",0,"TBC","TBC","TBC","TBC","TBC","TBC","TBC",null,0,0]
["A30","Graham Buckley","DIT",0,0,437,0,366,340,null,1143,0,null,null,"N30","Liu Min","NUIG",0,0,0,0,238,249,null,487,0,null,null,"AA30",0,"TBC","TBC","TBC","TBC","TBC","TBC","TBC",null,0,0,null,null,"AN30",0,"TBC","TBC","TBC","TBC","TBC","TBC","TBC",null,0,0,null,null,"BA30","Chris O'Leary","UCC",452,450,414,0,479,490,null,2285,0,null,null,"BN30",0,"TBC","TBC","TBC","TBC","TBC","TBC","TBC",null,0,0]
["A31","Conor dePaor","UCD",0,0,0,415,366,276,null,1057,0,null,null,"N31","Farah Nadia Zikhtar","RCSI",187,186,0,0,0,66,null,439,0,null,null,"AA31",0,"TBC","TBC","TBC","TBC","TBC","TBC","TBC",null,0,0,null,null,"AN31",0,"TBC","TBC","TBC","TBC","TBC","TBC","TBC",null,0,0,null,null,"BA31","Peter Cummings","UU",564,548,559,557,0,0,null,2228,0,null,null,"BN31",0,"TBC","TBC","TBC","TBC","TBC","TBC","TBC",null,0,0]
["A32","Tan Shu leed","RCSI",0,282,0,0,366,407,null,1055,0,null,null,"N32","Brona Howard","DkIT",0,0,421,0,0,0,null,421,0,null,null,"AA32",0,"TBC","TBC","TBC","TBC","TBC","TBC","TBC",null,0,0,null,null,"AN32",0,"TBC","TBC","TBC","TBC","TBC","TBC","TBC",null,0,0,null,null,"BA32","Mark Christiansen","NUIM",0,440,458,430,422,408,null,2158,0,null,null,"BN32",0,"TBC","TBC","TBC","TBC","TBC","TBC","TBC",null,0,0]
["A33","Conor Moran","UL",391,401,0,230,0,0,null,1022,0,null,null,"N33","Eilis Ni Shuilleabhain","UCD",0,339,0,0,0,0,null,339,0,null,null,"AA33",0,"TBC","TBC","TBC","TBC","TBC","TBC","TBC",null,0,0,null,null,"AN33",0,"TBC","TBC","TBC","TBC","TBC","TBC","TBC",null,0,0,null,null,"BA33","Austin Tobin","DCU",0,0,524,543,521,538,null,2126,0,null,null,"BN33",0,"TBC","TBC","TBC","TBC","TBC","TBC","TBC",null,0,0]
["A34","Muhammad Hakim Mohd Nasir","RCSI",224,239,0,444,0,114,null,1021,0,null,null,"N34","Elizabeth Clare Lao","DIT",287,0,0,0,0,0,null,287,0,null,null,"AA34",0,"TBC","TBC","TBC","TBC","TBC","TBC","TBC",null,0,0,null,null,"AN34",0,"TBC","TBC","TBC","TBC","TBC","TBC","TBC",null,0,0,null,null,"BA34","Stephen Dillon","IT Tallaght",497,0,543,523,0,525,null,2088,0,null,null,"BN34",0,"TBC","TBC","TBC","TBC","TBC","TBC","TBC",null,0,0]
["A35","Ronan Walsh","UCD",0,268,247,0,0,469,null,984,0,null,null,"N35","Hana Cúipéir","DCU",0,275,0,0,0,0,null,275,0,null,null,"AA35",0,"TBC","TBC","TBC","TBC","TBC","TBC","TBC",null,0,0,null,null,"AN35",0,"TBC","TBC","TBC","TBC","TBC","TBC","TBC",null,0,0,null,null,"BA35","Philip Early","DCU",406,408,442,381,0,444,null,2081,0,null,null,"BN35",0,"TBC","TBC","TBC","TBC","TBC","TBC","TBC",null,0,0]
["A36","Gary Cooney","DCU",516,449,0,0,0,0,null,965,0,null,null,"N36","Shahrizan Majid Allapitchai","RCSI",259,0,0,0,0,0,null,259,0,null,null,"AA36",0,"TBC","TBC","TBC","TBC","TBC","TBC","TBC",null,0,0,null,null,"AN36",0,"TBC","TBC","TBC","TBC","TBC","TBC","TBC",null,0,0,null,null,"BA36","Ciarán Lowe","NUIM",0,519,519,513,0,515,null,2066,0,null,null,"BN36",0,"TBC","TBC","TBC","TBC","TBC","TBC","TBC",null,0,0]
["A37","Sam Schultz","NUIG",486,435,0,0,0,0,null,921,0,null,null,"N37","Maria Dunne","UL",0,0,0,0,0,257,null,257,0,null,null,"AA37",0,"TBC","TBC","TBC","TBC","TBC","TBC","TBC",null,0,0,null,null,"AN37",0,"TBC","TBC","TBC","TBC","TBC","TBC","TBC",null,0,0,null,null,"BA37","Patrick Markey","DkIT",424,394,374,349,397,0,null,1938,0,null,null,"BN37",0,"TBC","TBC","TBC","TBC","TBC","TBC","TBC",null,0,0]
["A38","Muhammad Izrin Syukri Mohd Nasri","RCSI",0,240,0,0,282,382,null,904,0,null,null,"N38","Shauna O Brien","UCD",0,0,249,0,0,0,null,249,0,null,null,"AA38",0,"TBC","TBC","TBC","TBC","TBC","TBC","TBC",null,0,0,null,null,"AN38",0,"TBC","TBC","TBC","TBC","TBC","TBC","TBC",null,0,0,null,null,"BA38","Jordan McCord","UU",445,472,476,531,0,0,null,1924,0,null,null,"BN38",0,"TBC","TBC","TBC","TBC","TBC","TBC","TBC",null,0,0]
["A39","Paul Ferguson","IT Tallaght",0,0,0,480,0,423,null,903,0,null,null,"N39","Nassira Musa","UCC",0,241,0,0,0,0,null,241,0,null,null,"AA39",0,"TBC","TBC","TBC","TBC","TBC","TBC","TBC",null,0,0,null,null,"AN39",0,"TBC","TBC","TBC","TBC","TBC","TBC","TBC",null,0,0,null,null,"BA39","Conor McCan","GMIT",0,0,389,437,458,444,null,1728,0,null,null,"BN39",0,"TBC","TBC","TBC","TBC","TBC","TBC","TBC",null,0,0]
["A40",{"$f":"VLOOKUP($A233,$A$8:$L$82,2,0)","v":"geoffrey doorbosch"},{"$f":"VLOOKUP($A233,$A$8:$L$82,3,0)","v":"UL"},{"$f":"VLOOKUP($A233,$A$8:$L$82,4,0)","v":446},{"$f":"VLOOKUP($A233,$A$8:$L$82,5,0)","v":438},{"$f":"VLOOKUP($A233,$A$8:$L$82,6,0)","v":0},{"$f":"VLOOKUP($A233,$A$8:$L$82,7,0)","v":0},{"$f":"VLOOKUP($A233,$A$8:$L$82,8,0)","v":0},{"$f":"VLOOKUP($A233,$A$8:$L$82,9,0)","v":0},null,{"$f":"VLOOKUP($A233,$A$8:$L$82,10,0)","v":884},{"$f":"VLOOKUP($A233,$A$8:$L$82,11,0)","v":0},null,null,"N40","zahratulfatin ","RCSI",0,0,0,0,0,232,null,232,0,null,null,"AA40",0,"TBC","TBC","TBC","TBC","TBC","TBC","TBC",null,0,0,null,null,"AN40",0,"TBC","TBC","TBC","TBC","TBC","TBC","TBC",null,0,0,null,null,"BA40","Peter Callanan","UCD",303,205,350,0,328,451,null,1637,0,null,null,"BN40",0,"TBC","TBC","TBC","TBC","TBC","TBC","TBC",null,0,0]
["A41","Omar Mustafa","NUIG",414,386,0,0,0,0,null,800,0,null,null,"N41","Shenelle Samodee","RCSI",0,0,0,0,230,0,null,230,0,null,null,"AA41",0,"TBC","TBC","TBC","TBC","TBC","TBC","TBC",null,0,0,null,null,"AN41",0,"TBC","TBC","TBC","TBC","TBC","TBC","TBC",null,0,0,null,null,"BA41","Eoin Miller","NUIM",437,0,0,414,392,386,null,1629,0,null,null,"BN41",0,"TBC","TBC","TBC","TBC","TBC","TBC","TBC",null,0,0]
["A42","Richard Jeffery","NUIG",0,436,304,0,0,0,null,740,0,null,null,"N42","Rebecca Watkin","UCD",0,0,179,0,0,0,null,179,0,null,null,"AA42",0,"TBC","TBC","TBC","TBC","TBC","TBC","TBC",null,0,0,null,null,"AN42",0,"TBC","TBC","TBC","TBC","TBC","TBC","TBC",null,0,0,null,null,"BA42","Brendan Browne","GMIT",0,0,400,380,422,371,null,1573,0,null,null,"BN42",0,"TBC","TBC","TBC","TBC","TBC","TBC","TBC",null,0,0]
["A43","Brendan Burke","NUIM",0,0,0,344,0,370,null,714,0,null,null,"N43","Rubasangkari Rajaderam","RCSI",149,0,0,0,0,0,null,149,0,null,null,"AA43",0,"TBC","TBC","TBC","TBC","TBC","TBC","TBC",null,0,0,null,null,"AN43",0,"TBC","TBC","TBC","TBC","TBC","TBC","TBC",null,0,0,null,null,"BA43","Fan Zingliang","NUIG",0,0,0,502,507,522,null,1531,0,null,null,"BN43",0,"TBC","TBC","TBC","TBC","TBC","TBC","TBC",null,0,0]
["A44","Paul Connolly","NUIG",0,0,0,259,0,375,null,634,0,null,null,"N44","Auni Awang Dahan","RCSI",94,0,0,0,0,0,null,94,0,null,null,"AA44",0,"TBC","TBC","TBC","TBC","TBC","TBC","TBC",null,0,0,null,null,"AN44",0,"TBC","TBC","TBC","TBC","TBC","TBC","TBC",null,0,0,null,null,"BA44","Daniel Meyer","DCU",0,0,0,468,441,480,null,1389,0,null,null,"BN44",0,"TBC","TBC","TBC","TBC","TBC","TBC","TBC",null,0,0]
["A45","Eric Brown","UCD",0,484,0,0,0,0,null,484,0,null,null,"N45","Nurhidayah Miswan","RCSI",0,84,0,0,0,0,null,84,0,null,null,"AA45",0,"TBC","TBC","TBC","TBC","TBC","TBC","TBC",null,0,0,null,null,"AN45",0,"TBC","TBC","TBC","TBC","TBC","TBC","TBC",null,0,0,null,null,"BA45","Tony Liu","DkIT",466,442,0,0,475,0,null,1383,0,null,null,"BN45",0,"TBC","TBC","TBC","TBC","TBC","TBC","TBC",null,0,0]
["A46","Cian Aherne","UCD",0,233,244,0,0,0,null,477,0,null,null,"N46","Siti Nur Syazwana Mohammad Shafiee","RCSI",0,76,0,0,0,0,null,76,0,null,null,"AA46",0,"TBC","TBC","TBC","TBC","TBC","TBC","TBC",null,0,0,null,null,"AN46",0,"TBC","TBC","TBC","TBC","TBC","TBC","TBC",null,0,0,null,null,"BA46","Marko Kovacevic","GMIT",0,0,0,430,444,472,null,1346,0,null,null,"BN46",0,"TBC","TBC","TBC","TBC","TBC","TBC","TBC",null,0,0]
["A47","danny neill","UL",462,0,0,0,0,0,null,462,0,null,null,"N47",0,"TBC","TBC","TBC","TBC","TBC","TBC","TBC",null,0,0,null,null,"AA47",0,"TBC","TBC","TBC","TBC","TBC","TBC","TBC",null,0,0,null,null,"AN47",0,"TBC","TBC","TBC","TBC","TBC","TBC","TBC",null,0,0,null,null,"BA47","Conor Lydon","NUIG",245,0,0,360,319,375,null,1299,0,null,null,"BN47",0,"TBC","TBC","TBC","TBC","TBC","TBC","TBC",null,0,0]
["A48","Davy Shaw","UCD",0,263,187,0,0,0,null,450,0,null,null,"N48",0,"TBC","TBC","TBC","TBC","TBC","TBC","TBC",null,0,0,null,null,"AA48",0,"TBC","TBC","TBC","TBC","TBC","TBC","TBC",null,0,0,null,null,"AN48",0,"TBC","TBC","TBC","TBC","TBC","TBC","TBC",null,0,0,null,null,"BA48","Paul Beirne","UCD",421,0,0,419,0,446,null,1286,0,null,null,"BN48",0,"TBC","TBC","TBC","TBC","TBC","TBC","TBC",null,0,0]
["A49","Pavle Barbaric","NUIM",0,445,0,0,0,0,null,445,0,null,null,"N49",0,"TBC","TBC","TBC","TBC","TBC","TBC","TBC",null,0,0,null,null,"AA49",0,"TBC","TBC","TBC","TBC","TBC","TBC","TBC",null,0,0,null,null,"AN49",0,"TBC","TBC","TBC","TBC","TBC","TBC","TBC",null,0,0,null,null,"BA49","James Ryan","UCD",531,535,0,0,0,0,null,1066,0,null,null,"BN49",0,"TBC","TBC","TBC","TBC","TBC","TBC","TBC",null,0,0]
["A50","James Greer","UCD",0,0,0,0,429,0,null,429,0,null,null,"N50",0,"TBC","TBC","TBC","TBC","TBC","TBC","TBC",null,0,0,null,null,"AA50",0,"TBC","TBC","TBC","TBC","TBC","TBC","TBC",null,0,0,null,null,"AN50",0,"TBC","TBC","TBC","TBC","TBC","TBC","TBC",null,0,0,null,null,"BA50","Kevin Roche","UCD",0,0,0,0,520,526,null,1046,0,null,null,"BN50",0,"TBC","TBC","TBC","TBC","TBC","TBC","TBC",null,0,0]
["A51","Alan Boylan","DIT",421,0,0,0,0,0,null,421,0,null,null,"N51",0,"TBC","TBC","TBC","TBC","TBC","TBC","TBC",null,0,0,null,null,"AA51",0,"TBC","TBC","TBC","TBC","TBC","TBC","TBC",null,0,0,null,null,"AN51",0,"TBC","TBC","TBC","TBC","TBC","TBC","TBC",null,0,0,null,null,"BA51","Aaron Downes","GMIT",242,88,72,155,156,245,null,958,72,null,null,"BN51",0,"TBC","TBC","TBC","TBC","TBC","TBC","TBC",null,0,0]
["A52","Tengku Nazim Tengku Yusof","RCSI",0,0,0,248,159,0,null,407,0,null,null,"N52",0,"TBC","TBC","TBC","TBC","TBC","TBC","TBC",null,0,0,null,null,"AA52",0,"TBC","TBC","TBC","TBC","TBC","TBC","TBC",null,0,0,null,null,"AN52",0,"TBC","TBC","TBC","TBC","TBC","TBC","TBC",null,0,0,null,null,"BA52","Thomas D'Arcy","UCD",438,462,0,0,0,0,null,900,0,null,null,"BN52",0,"TBC","TBC","TBC","TBC","TBC","TBC","TBC",null,0,0]
["A53","Mark McGrane","UCD",185,204,0,0,0,0,null,389,0,null,null,"N53",0,"TBC","TBC","TBC","TBC","TBC","TBC","TBC",null,0,0,null,null,"AA53",0,"TBC","TBC","TBC","TBC","TBC","TBC","TBC",null,0,0,null,null,"AN53",0,"TBC","TBC","TBC","TBC","TBC","TBC","TBC",null,0,0,null,null,"BA53","Ian Hand","ITC",0,448,429,0,0,0,null,877,0,null,null,"BN53",0,"TBC","TBC","TBC","TBC","TBC","TBC","TBC",null,0,0]
["A54","Daniel Sinnott","UCD",383,0,0,0,0,0,null,383,0,null,null,"N54",0,"TBC","TBC","TBC","TBC","TBC","TBC","TBC",null,0,0,null,null,"AA54",0,"TBC","TBC","TBC","TBC","TBC","TBC","TBC",null,0,0,null,null,"AN54",0,"TBC","TBC","TBC","TBC","TBC","TBC","TBC",null,0,0,null,null,"BA54","Shane Lordan","UCC",383,458,0,0,0,0,null,841,0,null,null,"BN54",0,"TBC","TBC","TBC","TBC","TBC","TBC","TBC",null,0,0]
["A55","Robin Collins","DIT",0,372,0,0,0,0,null,372,0,null,null,"N55",0,"TBC","TBC","TBC","TBC","TBC","TBC","TBC",null,0,0,null,null,"AA55",0,"TBC","TBC","TBC","TBC","TBC","TBC","TBC",null,0,0,null,null,"AN55",0,"TBC","TBC","TBC","TBC","TBC","TBC","TBC",null,0,0,null,null,"BA55","Kieran Cullinane","NUIG",383,0,0,0,397,0,null,780,0,null,null,"BN55",0,"TBC","TBC","TBC","TBC","TBC","TBC","TBC",null,0,0]
["A56","Fahad Alabdullatif","RCSI",0,0,0,371,0,0,null,371,0,null,null,"N56",0,"TBC","TBC","TBC","TBC","TBC","TBC","TBC",null,0,0,null,null,"AA56",0,"TBC","TBC","TBC","TBC","TBC","TBC","TBC",null,0,0,null,null,"AN56",0,"TBC","TBC","TBC","TBC","TBC","TBC","TBC",null,0,0,null,null,"BA56","Luke Watson","GMIT",0,354,0,0,378,0,null,732,0,null,null,"BN56",0,"TBC","TBC","TBC","TBC","TBC","TBC","TBC",null,0,0]
["A57","Artem Eremin","DIT",0,0,0,0,365,0,null,365,0,null,null,"N57",0,"TBC","TBC","TBC","TBC","TBC","TBC","TBC",null,0,0,null,null,"AA57",0,"TBC","TBC","TBC","TBC","TBC","TBC","TBC",null,0,0,null,null,"AN57",0,"TBC","TBC","TBC","TBC","TBC","TBC","TBC",null,0,0,null,null,"BA57","David Burdon","NUIG",0,0,0,0,325,369,null,694,0,null,null,"BN57",0,"TBC","TBC","TBC","TBC","TBC","TBC","TBC",null,0,0]
["A58","Ruaidhri","UCD",0,360,0,0,0,0,null,360,0,null,null,"N58",0,"TBC","TBC","TBC","TBC","TBC","TBC","TBC",null,0,0,null,null,"AA58",0,"TBC","TBC","TBC","TBC","TBC","TBC","TBC",null,0,0,null,null,"AN58",0,"TBC","TBC","TBC","TBC","TBC","TBC","TBC",null,0,0,null,null,"BA58","Martin Stenson","GMIT",168,0,0,223,0,215,null,606,0,null,null,"BN58",0,"TBC","TBC","TBC","TBC","TBC","TBC","TBC",null,0,0]
["A59","Faiq Syukri","RCSI",0,0,0,0,359,0,null,359,0,null,null,"N59",0,"TBC","TBC","TBC","TBC","TBC","TBC","TBC",null,0,0,null,null,"AA59",0,"TBC","TBC","TBC","TBC","TBC","TBC","TBC",null,0,0,null,null,"AN59",0,"TBC","TBC","TBC","TBC","TBC","TBC","TBC",null,0,0,null,null,"BA59","Darren Daly","ITC",0,535,0,0,0,0,null,535,0,null,null,"BN59",0,"TBC","TBC","TBC","TBC","TBC","TBC","TBC",null,0,0]
["A60","Eamonn Dunleavy","GMITC",337,0,0,0,0,0,null,337,0,null,null,"N60",0,"TBC","TBC","TBC","TBC","TBC","TBC","TBC",null,0,0,null,null,"AA60",0,"TBC","TBC","TBC","TBC","TBC","TBC","TBC",null,0,0,null,null,"AN60",0,"TBC","TBC","TBC","TBC","TBC","TBC","TBC",null,0,0,null,null,"BA60","Lewis Holmes","UU",0,500,0,0,0,0,null,500,0,null,null,"BN60",0,"TBC","TBC","TBC","TBC","TBC","TBC","TBC",null,0,0]
["A61","Thomas Carr","NUIG",318,0,0,0,0,0,null,318,0,null,null,"N61",0,"TBC","TBC","TBC","TBC","TBC","TBC","TBC",null,0,0,null,null,"AA61",0,"TBC","TBC","TBC","TBC","TBC","TBC","TBC",null,0,0,null,null,"AN61",0,"TBC","TBC","TBC","TBC","TBC","TBC","TBC",null,0,0,null,null,"BA61","Gary Stuart","IT Tallaght",497,0,0,0,0,0,null,497,0,null,null,"BN61",0,"TBC","TBC","TBC","TBC","TBC","TBC","TBC",null,0,0]
["A62","Eoin Codd","UCD",0,304,0,0,0,0,null,304,0,null,null,"N62",0,"TBC","TBC","TBC","TBC","TBC","TBC","TBC",null,0,0,null,null,"AA62",0,"TBC","TBC","TBC","TBC","TBC","TBC","TBC",null,0,0,null,null,"AN62",0,"TBC","TBC","TBC","TBC","TBC","TBC","TBC",null,0,0,null,null,"BA62","Graham Enright","UCC",448,0,0,0,0,0,null,448,0,null,null,"BN62",0,"TBC","TBC","TBC","TBC","TBC","TBC","TBC",null,0,0]
["A63","Dennis Reynor","UCD",0,0,0,0,302,0,null,302,0,null,null,"N63",0,"TBC","TBC","TBC","TBC","TBC","TBC","TBC",null,0,0,null,null,"AA63",0,"TBC","TBC","TBC","TBC","TBC","TBC","TBC",null,0,0,null,null,"AN63",0,"TBC","TBC","TBC","TBC","TBC","TBC","TBC",null,0,0,null,null,"BA63","Gary Kelly","DCU",437,0,0,0,0,0,null,437,0,null,null,"BN63",0,"TBC","TBC","TBC","TBC","TBC","TBC","TBC",null,0,0]
["A64","Tudor Varga","UCD",0,300,0,0,0,0,null,300,0,null,null,"N64",0,"TBC","TBC","TBC","TBC","TBC","TBC","TBC",null,0,0,null,null,"AA64",0,"TBC","TBC","TBC","TBC","TBC","TBC","TBC",null,0,0,null,null,"AN64",0,"TBC","TBC","TBC","TBC","TBC","TBC","TBC",null,0,0,null,null,"BA64","Shu Chen","DCU",350,0,0,0,0,0,null,350,0,null,null,"BN64",0,"TBC","TBC","TBC","TBC","TBC","TBC","TBC",null,0,0]
["A65","Daniel Olajide","NUIG",0,280,0,0,0,0,null,280,0,null,null,"N65",0,"TBC","TBC","TBC","TBC","TBC","TBC","TBC",null,0,0,null,null,"AA65",0,"TBC","TBC","TBC","TBC","TBC","TBC","TBC",null,0,0,null,null,"AN65",0,"TBC","TBC","TBC","TBC","TBC","TBC","TBC",null,0,0,null,null,"BA65","William Clifford","NUIM",0,0,0,0,331,0,null,331,0,null,null,"BN65",0,"TBC","TBC","TBC","TBC","TBC","TBC","TBC",null,0,0]
["A66","Cathal Mc Guire","UCD",0,272,0,0,0,0,null,272,0,null,null,"N66",0,"TBC","TBC","TBC","TBC","TBC","TBC","TBC",null,0,0,null,null,"AA66",0,"TBC","TBC","TBC","TBC","TBC","TBC","TBC",null,0,0,null,null,"AN66",0,"TBC","TBC","TBC","TBC","TBC","TBC","TBC",null,0,0,null,null,"BA66","Dara Oliver","NUIG",0,0,323,0,0,0,null,323,0,null,null,"BN66",0,"TBC","TBC","TBC","TBC","TBC","TBC","TBC",null,0,0]
["A67","Ian Mc Dermot","UCC",0,266,0,0,0,0,null,266,0,null,null,"N67",0,"TBC","TBC","TBC","TBC","TBC","TBC","TBC",null,0,0,null,null,"AA67",0,"TBC","TBC","TBC","TBC","TBC","TBC","TBC",null,0,0,null,null,"AN67",0,"TBC","TBC","TBC","TBC","TBC","TBC","TBC",null,0,0,null,null,"BA67","Desmond Monaghan","GMIT",252,0,12,0,0,0,null,264,0,null,null,"BN67",0,"TBC","TBC","TBC","TBC","TBC","TBC","TBC",null,0,0]
["A68","Ciaran McElhinney","GMIT",252,0,0,0,0,0,null,252,0,null,null,"N68",0,"TBC","TBC","TBC","TBC","TBC","TBC","TBC",null,0,0,null,null,"AA68",0,"TBC","TBC","TBC","TBC","TBC","TBC","TBC",null,0,0,null,null,"AN68",0,"TBC","TBC","TBC","TBC","TBC","TBC","TBC",null,0,0,null,null,"BA68","Rob Ó Gallachóir","NUIM",0,0,0,0,187,0,null,187,0,null,null,"BN68",0,"TBC","TBC","TBC","TBC","TBC","TBC","TBC",null,0,0]
["A69","Syahira Najua Zulkefly","UCD",0,221,0,0,0,0,null,221,0,null,null,"N69",0,"TBC","TBC","TBC","TBC","TBC","TBC","TBC",null,0,0,null,null,"AA69",0,"TBC","TBC","TBC","TBC","TBC","TBC","TBC",null,0,0,null,null,"AN69",0,"TBC","TBC","TBC","TBC","TBC","TBC","TBC",null,0,0,null,null,"BA69",0,"TBC","TBC","TBC","TBC","TBC","TBC","TBC",null,0,0,null,null,"BN69",0,"TBC","TBC","TBC","TBC","TBC","TBC","TBC",null,0,0]
["A70","Tajul Syaqqil Tajor Amar","RCSI",0,173,0,0,0,0,null,173,0,null,null,"N70",0,"TBC","TBC","TBC","TBC","TBC","TBC","TBC",null,0,0,null,null,"AA70",0,"TBC","TBC","TBC","TBC","TBC","TBC","TBC",null,0,0,null,null,"AN70",0,"TBC","TBC","TBC","TBC","TBC","TBC","TBC",null,0,0,null,null,"BA70",0,"TBC","TBC","TBC","TBC","TBC","TBC","TBC",null,0,0,null,null,"BN70",0,"TBC","TBC","TBC","TBC","TBC","TBC","TBC",null,0,0]
["A71","Eoghan Brophy","IT Tallaght",0,0,0,170,0,0,null,170,0,null,null,"N71",0,"TBC","TBC","TBC","TBC","TBC","TBC","TBC",null,0,0,null,null,"AA71",0,"TBC","TBC","TBC","TBC","TBC","TBC","TBC",null,0,0,null,null,"AN71",0,"TBC","TBC","TBC","TBC","TBC","TBC","TBC",null,0,0,null,null,"BA71",0,"TBC","TBC","TBC","TBC","TBC","TBC","TBC",null,0,0,null,null,"BN71",0,"TBC","TBC","TBC","TBC","TBC","TBC","TBC",null,0,0]
["A72",{"$f":"VLOOKUP($A265,$A$8:$L$82,2,0)","v":"Marc Creehan"},{"$f":"VLOOKUP($A265,$A$8:$L$82,3,0)","v":"UCC"},{"$f":"VLOOKUP($A265,$A$8:$L$82,4,0)","v":0},{"$f":"VLOOKUP($A265,$A$8:$L$82,5,0)","v":166},{"$f":"VLOOKUP($A265,$A$8:$L$82,6,0)","v":0},{"$f":"VLOOKUP($A265,$A$8:$L$82,7,0)","v":0},{"$f":"VLOOKUP($A265,$A$8:$L$82,8,0)","v":0},{"$f":"VLOOKUP($A265,$A$8:$L$82,9,0)","v":0},null,{"$f":"VLOOKUP($A265,$A$8:$L$82,10,0)","v":166},{"$f":"VLOOKUP($A265,$A$8:$L$82,11,0)","v":0},null,null,"N72",0,"TBC","TBC","TBC","TBC","TBC","TBC","TBC",null,0,0,null,null,"AA72",0,"TBC","TBC","TBC","TBC","TBC","TBC","TBC",null,0,0,null,null,"AN72",0,"TBC","TBC","TBC","TBC","TBC","TBC","TBC",null,0,0,null,null,"BA72",0,"TBC","TBC","TBC","TBC","TBC","TBC","TBC",null,0,0,null,null,"BN72",0,"TBC","TBC","TBC","TBC","TBC","TBC","TBC",null,0,0]
["A73","Zain Bari","UCD",0,123,0,0,0,0,null,123,0,null,null,"N73",{"$f":"VLOOKUP($O266,$O$8:$Z$82,2,0)","v":0},{"$f":"VLOOKUP($O266,$O$8:$Z$82,3,0)","v":"TBC"},{"$f":"VLOOKUP($O266,$O$8:$Z$82,4,0)","v":"TBC"},{"$f":"VLOOKUP($O266,$O$8:$Z$82,5,0)","v":"TBC"},{"$f":"VLOOKUP($O266,$O$8:$Z$82,6,0)","v":"TBC"},{"$f":"VLOOKUP($O266,$O$8:$Z$82,7,0)","v":"TBC"},{"$f":"VLOOKUP($O266,$O$8:$Z$82,8,0)","v":"TBC"},{"$f":"VLOOKUP($O266,$O$8:$Z$82,9,0)","v":"TBC"},null,{"$f":"VLOOKUP($O266,$O$8:$Z$82,10,0)","v":0},{"$f":"VLOOKUP($O266,$O$8:$Z$82,11,0)","v":0},null,null,"AA73",{"$f":"VLOOKUP($AC266,$AC$8:$AN$82,2,0)","v":0},{"$f":"VLOOKUP($AC266,$AC$8:$AN$82,3,0)","v":"TBC"},{"$f":"VLOOKUP($AC266,$AC$8:$AN$82,4,0)","v":"TBC"},{"$f":"VLOOKUP($AC266,$AC$8:$AN$82,5,0)","v":"TBC"},{"$f":"VLOOKUP($AC266,$AC$8:$AN$82,6,0)","v":"TBC"},{"$f":"VLOOKUP($AC266,$AC$8:$AN$82,7,0)","v":"TBC"},{"$f":"VLOOKUP($AC266,$AC$8:$AN$82,8,0)","v":"TBC"},{"$f":"VLOOKUP($AC266,$AC$8:$AN$82,9,0)","v":"TBC"},null,{"$f":"VLOOKUP($AC266,$AC$8:$AN$82,10,0)","v":0},{"$f":"VLOOKUP($AC266,$AC$8:$AN$82,11,0)","v":0},null,null,"AN73",{"$f":"VLOOKUP($AQ266,$AQ$8:$BB$82,2,0)","v":0},{"$f":"VLOOKUP($AQ266,$AQ$8:$BB$82,3,0)","v":"TBC"},{"$f":"VLOOKUP($AQ266,$AQ$8:$BB$82,4,0)","v":"TBC"},{"$f":"VLOOKUP($AQ266,$AQ$8:$BB$82,5,0)","v":"TBC"},{"$f":"VLOOKUP($AQ266,$AQ$8:$BB$82,6,0)","v":"TBC"},{"$f":"VLOOKUP($AQ266,$AQ$8:$BB$82,7,0)","v":"TBC"},{"$f":"VLOOKUP($AQ266,$AQ$8:$BB$82,8,0)","v":"TBC"},{"$f":"VLOOKUP($AQ266,$AQ$8:$BB$82,9,0)","v":"TBC"},null,{"$f":"VLOOKUP($AQ266,$AQ$8:$BB$82,10,0)","v":0},{"$f":"VLOOKUP($AQ266,$AQ$8:$BB$82,11,0)","v":0},null,null,"BA73",{"$f":"VLOOKUP($BE266,$BE$8:$BP$82,2,0)","v":0},{"$f":"VLOOKUP($BE266,$BE$8:$BP$82,3,0)","v":"TBC"},{"$f":"VLOOKUP($BE266,$BE$8:$BP$82,4,0)","v":"TBC"},{"$f":"VLOOKUP($BE266,$BE$8:$BP$82,5,0)","v":"TBC"},{"$f":"VLOOKUP($BE266,$BE$8:$BP$82,6,0)","v":"TBC"},{"$f":"VLOOKUP($BE266,$BE$8:$BP$82,7,0)","v":"TBC"},{"$f":"VLOOKUP($BE266,$BE$8:$BP$82,8,0)","v":"TBC"},{"$f":"VLOOKUP($BE266,$BE$8:$BP$82,9,0)","v":"TBC"},null,{"$f":"VLOOKUP($BE266,$BE$8:$BP$82,10,0)","v":0},{"$f":"VLOOKUP($BE266,$BE$8:$BP$82,11,0)","v":0},null,null,"BN73",{"$f":"VLOOKUP($BS266,$BS$8:$CD$82,2,0)","v":0},{"$f":"VLOOKUP($BS266,$BS$8:$CD$82,3,0)","v":"TBC"},{"$f":"VLOOKUP($BS266,$BS$8:$CD$82,4,0)","v":"TBC"},{"$f":"VLOOKUP($BS266,$BS$8:$CD$82,5,0)","v":"TBC"},{"$f":"VLOOKUP($BS266,$BS$8:$CD$82,6,0)","v":"TBC"},{"$f":"VLOOKUP($BS266,$BS$8:$CD$82,7,0)","v":"TBC"},{"$f":"VLOOKUP($BS266,$BS$8:$CD$82,8,0)","v":"TBC"},{"$f":"VLOOKUP($BS266,$BS$8:$CD$82,9,0)","v":"TBC"},null,{"$f":"VLOOKUP($BS266,$BS$8:$CD$82,10,0)","v":0},{"$f":"VLOOKUP($BS266,$BS$8:$CD$82,11,0)","v":0}]
["A74","Jonathan Cassidy","NUIG",122,0,0,0,0,0,null,122,0,null,null,"N74",0,"TBC","TBC","TBC","TBC","TBC","TBC","TBC",null,0,0,null,null,"AA74",0,"TBC","TBC","TBC","TBC","TBC","TBC","TBC",null,0,0,null,null,"AN74",0,"TBC","TBC","TBC","TBC","TBC","TBC","TBC",null,0,0,null,null,"BA74",0,"TBC","TBC","TBC","TBC","TBC","TBC","TBC",null,0,0,null,null,"BN74",0,"TBC","TBC","TBC","TBC","TBC","TBC","TBC",null,0,0]
["A75","Lorenzo","UCD",0,104,0,0,0,0,null,104,0,null,null,"N75",0,"TBC","TBC","TBC","TBC","TBC","TBC","TBC",null,0,0,null,null,"AA75",0,"TBC","TBC","TBC","TBC","TBC","TBC","TBC",null,0,0,null,null,"AN75",0,"TBC","TBC","TBC","TBC","TBC","TBC","TBC",null,0,0,null,null,"BA75",0,"TBC","TBC","TBC","TBC","TBC","TBC","TBC",null,0,0,null,null,"BN75",0,"TBC","TBC","TBC","TBC","TBC","TBC","TBC",null,0,0]
["A76","Yogeswran Muthukumaru","RCSI",0,0,0,0,96,0,null,96,0,null,null,"N76",0,"TBC","TBC","TBC","TBC","TBC","TBC","TBC",null,0,0,null,null,"AA76",0,"TBC","TBC","TBC","TBC","TBC","TBC","TBC",null,0,0,null,null,"AN76",0,"TBC","TBC","TBC","TBC","TBC","TBC","TBC",null,0,0,null,null,"BA76",0,"TBC","TBC","TBC","TBC","TBC","TBC","TBC",null,0,0,null,null,"BN76",0,"TBC","TBC","TBC","TBC","TBC","TBC","TBC",null,0,0]
["A77","William Oliver","IT Tallaght",53,0,0,0,0,0,null,53,0,null,null,"N77",0,"TBC","TBC","TBC","TBC","TBC","TBC","TBC",null,0,0,null,null,"AA77",0,"TBC","TBC","TBC","TBC","TBC","TBC","TBC",null,0,0,null,null,"AN77",0,"TBC","TBC","TBC","TBC","TBC","TBC","TBC",null,0,0,null,null,"BA77",0,"TBC","TBC","TBC","TBC","TBC","TBC","TBC",null,0,0,null,null,"BN77",0,"TBC","TBC","TBC","TBC","TBC","TBC","TBC",null,0,0]
["A78","Kevin Lynch","UCD",0,31,0,0,0,0,null,31,0,null,null,"N78",0,"TBC","TBC","TBC","TBC","TBC","TBC","TBC",null,0,0,null,null,"AA78",0,"TBC","TBC","TBC","TBC","TBC","TBC","TBC",null,0,0,null,null,"AN78",0,"TBC","TBC","TBC","TBC","TBC","TBC","TBC",null,0,0,null,null,"BA78",0,"TBC","TBC","TBC","TBC","TBC","TBC","TBC",null,0,0,null,null,"BN78",0,"TBC","TBC","TBC","TBC","TBC","TBC","TBC",null,0,0]
["A79",0,"TBC","TBC","TBC","TBC","TBC","TBC","TBC",null,0,0,null,null,"N79",0,"TBC","TBC","TBC","TBC","TBC","TBC","TBC",null,0,0,null,null,"AA79",0,"TBC","TBC","TBC","TBC","TBC","TBC","TBC",null,0,0,null,null,"AN79",0,"TBC","TBC","TBC","TBC","TBC","TBC","TBC",null,0,0,null,null,"BA79",0,"TBC","TBC","TBC","TBC","TBC","TBC","TBC",null,0,0,null,null,"BN79",0,"TBC","TBC","TBC","TBC","TBC","TBC","TBC",null,0,0]
["A80",0,"TBC","TBC","TBC","TBC","TBC","TBC","TBC",null,0,0,null,null,"N80",0,"TBC","TBC","TBC","TBC","TBC","TBC","TBC",null,0,0,null,null,"AA80",0,"TBC","TBC","TBC","TBC","TBC","TBC","TBC",null,0,0,null,null,"AN80",0,"TBC","TBC","TBC","TBC","TBC","TBC","TBC",null,0,0,null,null,"BA80",0,"TBC","TBC","TBC","TBC","TBC","TBC","TBC",null,0,0,null,null,"BN80",0,"TBC","TBC","TBC","TBC","TBC","TBC","TBC",null,0,0]
["A81",0,"TBC","TBC","TBC","TBC","TBC","TBC","TBC",null,0,0,null,null,"N81",0,"TBC","TBC","TBC","TBC","TBC","TBC","TBC",null,0,0,null,null,"AA81",0,"TBC","TBC","TBC","TBC","TBC","TBC","TBC",null,0,0,null,null,"AN81",0,"TBC","TBC","TBC","TBC","TBC","TBC","TBC",null,0,0,null,null,"BA81",0,"TBC","TBC","TBC","TBC","TBC","TBC","TBC",null,0,0,null,null,"BN81",0,"TBC","TBC","TBC","TBC","TBC","TBC","TBC",null,0,0]
["A82",0,"TBC","TBC","TBC","TBC","TBC","TBC","TBC",null,0,0,null,null,"N82",0,"TBC","TBC","TBC","TBC","TBC","TBC","TBC",null,0,0,null,null,"AA82",0,"TBC","TBC","TBC","TBC","TBC","TBC","TBC",null,0,0,null,null,"AN82",0,"TBC","TBC","TBC","TBC","TBC","TBC","TBC",null,0,0,null,null,"BA82",0,"TBC","TBC","TBC","TBC","TBC","TBC","TBC",null,0,0,null,null,"BN82",0,"TBC","TBC","TBC","TBC","TBC","TBC","TBC",null,0,0]
[]
[]
[]
[]
[]
[]
[]
[]
[]
[]
[]
[]
[]
[]
[]
[]
[]
[]
[]
[]
[]
[]
[]
[null,"BBM Sort",null,null,null,null,null,null,null,null,null,null,null,null,null,"BBF Sort",null,null,null,null,null,null,null,null,null,null,null,null,null,"BAM Sort",null,null,null,null,null,null,null,null,null,null,null,null,null,"BAF Sort",null,null,null,null,null,null,null,null,null,null,null,null,null,"CM Sort",null,null,null,null,null,null,null,null,null,null,null,null,null,"CF Sort"]
["Tag","Name","College","IV 1","IV 2","IV3","IV4","IV5","Total",null,"Lowest","LEAGUE",null,null,"Tag","Name","College","IV 1","IV 2","IV3","IV4","IV5","Total",null,"Lowest","LEAGUE",null,null,"Tag","Name","College","IV 1","IV 2","IV3","IV4","IV5","Total",null,"Lowest","LEAGUE",null,null,"Tag","Name","College","IV 1","IV 2","IV3","IV4","IV5","Total",null,"Lowest","LEAGUE",null,null,"Tag","Name","College","IV 1","IV 2","IV3","IV4","IV5","Total",null,"Lowest","LEAGUE",null,null,"Tag","Name","College","IV 1","IV 2","IV3","IV4","IV5","Total",null,"Lowest","LEAGUE"]
["A93",{"$f":"VLOOKUP($A301,$A$93:$L$167,2,0)","v":0},{"$f":"VLOOKUP($A301,$A$93:$L$167,3,0)","v":0},{"$f":"VLOOKUP($A301,$A$93:$L$167,4,0)","v":0},{"$f":"VLOOKUP($A301,$A$93:$L$167,5,0)","v":"TBC"},{"$f":"VLOOKUP($A301,$A$93:$L$167,6,0)","v":"TBC"},{"$f":"VLOOKUP($A301,$A$93:$L$167,7,0)","v":"TBC"},{"$f":"VLOOKUP($A301,$A$93:$L$167,8,0)","v":"TBC"},{"$f":"VLOOKUP($A301,$A$93:$L$167,9,0)","v":"TBC"},null,{"$f":"VLOOKUP($A301,$A$93:$L$167,10,0)","v":0},{"$f":"VLOOKUP($A301,$A$93:$L$167,11,0)","v":0},null,null,"N93",{"$f":"VLOOKUP($O301,$O$93:$Z$167,2,0)","v":0},{"$f":"VLOOKUP($O301,$O$93:$Z$167,3,0)","v":0},{"$f":"VLOOKUP($O301,$O$93:$Z$167,4,0)","v":0},{"$f":"VLOOKUP($O301,$O$93:$Z$167,5,0)","v":"TBC"},{"$f":"VLOOKUP($O301,$O$93:$Z$167,6,0)","v":"TBC"},{"$f":"VLOOKUP($O301,$O$93:$Z$167,7,0)","v":"TBC"},{"$f":"VLOOKUP($O301,$O$93:$Z$167,8,0)","v":"TBC"},{"$f":"VLOOKUP($O301,$O$93:$Z$167,9,0)","v":"TBC"},null,{"$f":"VLOOKUP($O301,$O$93:$Z$167,10,0)","v":0},{"$f":"VLOOKUP($O301,$O$93:$Z$167,11,0)","v":0},null,null,"AA93",{"$f":"VLOOKUP($AC301,$AC$93:$AN$167,2,0)","v":"Jeffery McMahon"},{"$f":"VLOOKUP($AC301,$AC$93:$AN$167,3,0)","v":"UL"},{"$f":"VLOOKUP($AC301,$AC$93:$AN$167,4,0)","v":409},{"$f":"VLOOKUP($AC301,$AC$93:$AN$167,5,0)","v":406},{"$f":"VLOOKUP($AC301,$AC$93:$AN$167,6,0)","v":432},{"$f":"VLOOKUP($AC301,$AC$93:$AN$167,7,0)","v":436},{"$f":"VLOOKUP($AC301,$AC$93:$AN$167,8,0)","v":420},{"$f":"VLOOKUP($AC301,$AC$93:$AN$167,9,0)","v":427},null,{"$f":"VLOOKUP($AC301,$AC$93:$AN$167,10,0)","v":2530},{"$f":"VLOOKUP($AC301,$AC$93:$AN$167,11,0)","v":406},null,null,"AN93",{"$f":"VLOOKUP($AQ301,$AQ$93:$BB$167,2,0)","v":"Tami Baumann"},{"$f":"VLOOKUP($AQ301,$AQ$93:$BB$167,3,0)","v":"NUIM"},{"$f":"VLOOKUP($AQ301,$AQ$93:$BB$167,4,0)","v":361},{"$f":"VLOOKUP($AQ301,$AQ$93:$BB$167,5,0)","v":378},{"$f":"VLOOKUP($AQ301,$AQ$93:$BB$167,6,0)","v":0},{"$f":"VLOOKUP($AQ301,$AQ$93:$BB$167,7,0)","v":421},{"$f":"VLOOKUP($AQ301,$AQ$93:$BB$167,8,0)","v":469},{"$f":"VLOOKUP($AQ301,$AQ$93:$BB$167,9,0)","v":356},null,{"$f":"VLOOKUP($AQ301,$AQ$93:$BB$167,10,0)","v":1985},{"$f":"VLOOKUP($AQ301,$AQ$93:$BB$167,11,0)","v":0},null,null,"BA93",{"$f":"VLOOKUP($BE301,$BE$93:$BP$167,2,0)","v":"Carl Byrne"},{"$f":"VLOOKUP($BE301,$BE$93:$BP$167,3,0)","v":"NUIG"},{"$f":"VLOOKUP($BE301,$BE$93:$BP$167,4,0)","v":566},{"$f":"VLOOKUP($BE301,$BE$93:$BP$167,5,0)","v":566},{"$f":"VLOOKUP($BE301,$BE$93:$BP$167,6,0)","v":576},{"$f":"VLOOKUP($BE301,$BE$93:$BP$167,7,0)","v":567},{"$f":"VLOOKUP($BE301,$BE$93:$BP$167,8,0)","v":575},{"$f":"VLOOKUP($BE301,$BE$93:$BP$167,9,0)","v":572},null,{"$f":"VLOOKUP($BE301,$BE$93:$BP$167,10,0)","v":3422},{"$f":"VLOOKUP($BE301,$BE$93:$BP$167,11,0)","v":566},null,null,"BN93",{"$f":"VLOOKUP($BS301,$BS$93:$CD$167,2,0)","v":"Kerrie Leonard"},{"$f":"VLOOKUP($BS301,$BS$93:$CD$167,3,0)","v":"NUIM"},{"$f":"VLOOKUP($BS301,$BS$93:$CD$167,4,0)","v":506},{"$f":"VLOOKUP($BS301,$BS$93:$CD$167,5,0)","v":479},{"$f":"VLOOKUP($BS301,$BS$93:$CD$167,6,0)","v":510},{"$f":"VLOOKUP($BS301,$BS$93:$CD$167,7,0)","v":495},{"$f":"VLOOKUP($BS301,$BS$93:$CD$167,8,0)","v":524},{"$f":"VLOOKUP($BS301,$BS$93:$CD$167,9,0)","v":512},null,{"$f":"VLOOKUP($BS301,$BS$93:$CD$167,10,0)","v":3026},{"$f":"VLOOKUP($BS301,$BS$93:$CD$167,11,0)","v":479}]
["A94",{"$f":"VLOOKUP($A302,$A$93:$L$167,2,0)","v":0},{"$f":"VLOOKUP($A302,$A$93:$L$167,3,0)","v":"TBC"},{"$f":"VLOOKUP($A302,$A$93:$L$167,4,0)","v":"TBC"},{"$f":"VLOOKUP($A302,$A$93:$L$167,5,0)","v":"TBC"},{"$f":"VLOOKUP($A302,$A$93:$L$167,6,0)","v":"TBC"},{"$f":"VLOOKUP($A302,$A$93:$L$167,7,0)","v":"TBC"},{"$f":"VLOOKUP($A302,$A$93:$L$167,8,0)","v":"TBC"},{"$f":"VLOOKUP($A302,$A$93:$L$167,9,0)","v":"TBC"},null,{"$f":"VLOOKUP($A302,$A$93:$L$167,10,0)","v":0},{"$f":"VLOOKUP($A302,$A$93:$L$167,11,0)","v":0},null,null,"N94",{"$f":"VLOOKUP($O302,$O$93:$Z$167,2,0)","v":0},{"$f":"VLOOKUP($O302,$O$93:$Z$167,3,0)","v":"TBC"},{"$f":"VLOOKUP($O302,$O$93:$Z$167,4,0)","v":"TBC"},{"$f":"VLOOKUP($O302,$O$93:$Z$167,5,0)","v":"TBC"},{"$f":"VLOOKUP($O302,$O$93:$Z$167,6,0)","v":"TBC"},{"$f":"VLOOKUP($O302,$O$93:$Z$167,7,0)","v":"TBC"},{"$f":"VLOOKUP($O302,$O$93:$Z$167,8,0)","v":"TBC"},{"$f":"VLOOKUP($O302,$O$93:$Z$167,9,0)","v":"TBC"},null,{"$f":"VLOOKUP($O302,$O$93:$Z$167,10,0)","v":0},{"$f":"VLOOKUP($O302,$O$93:$Z$167,11,0)","v":0},null,null,"AA94",{"$f":"VLOOKUP($AC302,$AC$93:$AN$167,2,0)","v":"Tom McGrath"},{"$f":"VLOOKUP($AC302,$AC$93:$AN$167,3,0)","v":"NUIG"},{"$f":"VLOOKUP($AC302,$AC$93:$AN$167,4,0)","v":398},{"$f":"VLOOKUP($AC302,$AC$93:$AN$167,5,0)","v":304},{"$f":"VLOOKUP($AC302,$AC$93:$AN$167,6,0)","v":411},{"$f":"VLOOKUP($AC302,$AC$93:$AN$167,7,0)","v":306},{"$f":"VLOOKUP($AC302,$AC$93:$AN$167,8,0)","v":430},{"$f":"VLOOKUP($AC302,$AC$93:$AN$167,9,0)","v":345},null,{"$f":"VLOOKUP($AC302,$AC$93:$AN$167,10,0)","v":2194},{"$f":"VLOOKUP($AC302,$AC$93:$AN$167,11,0)","v":304},null,null,"AN94",{"$f":"VLOOKUP($AQ302,$AQ$93:$BB$167,2,0)","v":"Nada Khaled-Abdo"},{"$f":"VLOOKUP($AQ302,$AQ$93:$BB$167,3,0)","v":"NUIG"},{"$f":"VLOOKUP($AQ302,$AQ$93:$BB$167,4,0)","v":306},{"$f":"VLOOKUP($AQ302,$AQ$93:$BB$167,5,0)","v":332},{"$f":"VLOOKUP($AQ302,$AQ$93:$BB$167,6,0)","v":0},{"$f":"VLOOKUP($AQ302,$AQ$93:$BB$167,7,0)","v":357},{"$f":"VLOOKUP($AQ302,$AQ$93:$BB$167,8,0)","v":364},{"$f":"VLOOKUP($AQ302,$AQ$93:$BB$167,9,0)","v":346},null,{"$f":"VLOOKUP($AQ302,$AQ$93:$BB$167,10,0)","v":1705},{"$f":"VLOOKUP($AQ302,$AQ$93:$BB$167,11,0)","v":0},null,null,"BA94",{"$f":"VLOOKUP($BE302,$BE$93:$BP$167,2,0)","v":"Mark Sharvin"},{"$f":"VLOOKUP($BE302,$BE$93:$BP$167,3,0)","v":"DCU"},{"$f":"VLOOKUP($BE302,$BE$93:$BP$167,4,0)","v":557},{"$f":"VLOOKUP($BE302,$BE$93:$BP$167,5,0)","v":550},{"$f":"VLOOKUP($BE302,$BE$93:$BP$167,6,0)","v":572},{"$f":"VLOOKUP($BE302,$BE$93:$BP$167,7,0)","v":557},{"$f":"VLOOKUP($BE302,$BE$93:$BP$167,8,0)","v":557},{"$f":"VLOOKUP($BE302,$BE$93:$BP$167,9,0)","v":569},null,{"$f":"VLOOKUP($BE302,$BE$93:$BP$167,10,0)","v":3362},{"$f":"VLOOKUP($BE302,$BE$93:$BP$167,11,0)","v":550},null,null,"BN94",{"$f":"VLOOKUP($BS302,$BS$93:$CD$167,2,0)","v":"Stephanie Martin"},{"$f":"VLOOKUP($BS302,$BS$93:$CD$167,3,0)","v":"DCU"},{"$f":"VLOOKUP($BS302,$BS$93:$CD$167,4,0)","v":511},{"$f":"VLOOKUP($BS302,$BS$93:$CD$167,5,0)","v":517},{"$f":"VLOOKUP($BS302,$BS$93:$CD$167,6,0)","v":0},{"$f":"VLOOKUP($BS302,$BS$93:$CD$167,7,0)","v":516},{"$f":"VLOOKUP($BS302,$BS$93:$CD$167,8,0)","v":0},{"$f":"VLOOKUP($BS302,$BS$93:$CD$167,9,0)","v":522},null,{"$f":"VLOOKUP($BS302,$BS$93:$CD$167,10,0)","v":2066},{"$f":"VLOOKUP($BS302,$BS$93:$CD$167,11,0)","v":0}]
["A95",0,"TBC","TBC","TBC","TBC","TBC","TBC","TBC",null,0,0,null,null,"N95",0,"TBC","TBC","TBC","TBC","TBC","TBC","TBC",null,0,0,null,null,"AA95","David Price","ITC",220,145,318,381,396,445,null,1905,145,null,null,"AN95","Aoife Monaghan","GMIT",0,231,253,274,314,319,null,1391,0,null,null,"BA95","Christopher Ryan","NUIG",513,539,547,525,350,544,null,3018,350,null,null,"BN95","Adria Quinn","GMITC",528,533,512,0,0,0,null,1573,0]
["A96",0,"TBC","TBC","TBC","TBC","TBC","TBC","TBC",null,0,0,null,null,"N96",0,"TBC","TBC","TBC","TBC","TBC","TBC","TBC",null,0,0,null,null,"AA96","Shane Hyland","GMIT",322,269,378,179,265,248,null,1661,179,null,null,"AN96","Emily Flanagan","NUIG",0,357,309,0,380,0,null,1046,0,null,null,"BA96","Callum Conroy","NUIG",505,469,493,468,524,540,null,2999,468,null,null,"BN96","Nicole Shellenbarger","NUIG",0,0,0,477,414,463,null,1354,0]
["A97",0,"TBC","TBC","TBC","TBC","TBC","TBC","TBC",null,0,0,null,null,"N97",0,"TBC","TBC","TBC","TBC","TBC","TBC","TBC",null,0,0,null,null,"AA97","Jericho Siababa","DCU",301,381,0,325,0,430,null,1437,0,null,null,"AN97","Katrina Prakhova","ITC",335,293,368,0,0,0,null,996,0,null,null,"BA97","Andrew Egan","UCC",534,550,553,0,554,559,null,2750,0,null,null,"BN97","Katie Hamilton","UCC",0,0,0,0,491,0,null,491,0]
["A98",0,"TBC","TBC","TBC","TBC","TBC","TBC","TBC",null,0,0,null,null,"N98",0,"TBC","TBC","TBC","TBC","TBC","TBC","TBC",null,0,0,null,null,"AA98","Sean Brogan","NUIG",0,317,389,306,0,276,null,1288,0,null,null,"AN98","Raizel Burstein-Frame","NUIG",0,0,187,0,254,317,null,758,0,null,null,"BA98","Glen Conway","CD",555,546,557,0,0,560,null,2218,0,null,null,"BN98",0,"TBC","TBC","TBC","TBC","TBC","TBC","TBC",null,0,0]
["A99",0,"TBC","TBC","TBC","TBC","TBC","TBC","TBC",null,0,0,null,null,"N99",0,"TBC","TBC","TBC","TBC","TBC","TBC","TBC",null,0,0,null,null,"AA99","Darren Griffin","GMITC",309,0,419,0,359,0,null,1087,0,null,null,"AN99","Jennifer Keegan","GMITC",0,0,352,0,332,0,null,684,0,null,null,"BA99","Cillian Byrne","DCU",524,538,0,542,544,0,null,2148,0,null,null,"BN99",0,"TBC","TBC","TBC","TBC","TBC","TBC","TBC",null,0,0]
["A100",0,"TBC","TBC","TBC","TBC","TBC","TBC","TBC",null,0,0,null,null,"N100",0,"TBC","TBC","TBC","TBC","TBC","TBC","TBC",null,0,0,null,null,"AA100","Paul Dixon","GMITC",0,0,304,405,0,274,null,983,0,null,null,"AN100","Caroline Greene","GMIT",153,0,0,255,245,0,null,653,0,null,null,"BA100","Sean Scott","DIT",0,513,524,0,514,513,null,2064,0,null,null,"BN100",0,"TBC","TBC","TBC","TBC","TBC","TBC","TBC",null,0,0]
["A101",0,"TBC","TBC","TBC","TBC","TBC","TBC","TBC",null,0,0,null,null,"N101",0,"TBC","TBC","TBC","TBC","TBC","TBC","TBC",null,0,0,null,null,"AA101","Stephen Sheppard","ITC",303,259,415,0,0,0,null,977,0,null,null,"AN101","Kate Forte","NUIM",0,0,0,210,0,348,null,558,0,null,null,"BA101","John Smith","DIT",564,566,570,0,0,0,null,1700,0,null,null,"BN101",0,"TBC","TBC","TBC","TBC","TBC","TBC","TBC",null,0,0]
["A102",0,"TBC","TBC","TBC","TBC","TBC","TBC","TBC",null,0,0,null,null,"N102",0,"TBC","TBC","TBC","TBC","TBC","TBC","TBC",null,0,0,null,null,"AA102","Andrew Warrington","GMITC",0,281,0,287,0,380,null,948,0,null,null,"AN102","Wiebke Hasselmann","NUIG",0,306,0,0,0,0,null,306,0,null,null,"BA102","Marko Kovacevic","GMIT",515,512,527,0,0,0,null,1554,0,null,null,"BN102",0,"TBC","TBC","TBC","TBC","TBC","TBC","TBC",null,0,0]
["A103",0,"TBC","TBC","TBC","TBC","TBC","TBC","TBC",null,0,0,null,null,"N103",0,"TBC","TBC","TBC","TBC","TBC","TBC","TBC",null,0,0,null,null,"AA103","Carlton Bennett","GMITC",0,0,0,269,283,326,null,878,0,null,null,"AN103","Tara Kilcommons","GMITC",0,0,0,0,0,283,null,283,0,null,null,"BA103","Will Hurley","NUIG",0,498,0,0,0,0,null,498,0,null,null,"BN103",0,"TBC","TBC","TBC","TBC","TBC","TBC","TBC",null,0,0]
["A104",0,"TBC","TBC","TBC","TBC","TBC","TBC","TBC",null,0,0,null,null,"N104",0,"TBC","TBC","TBC","TBC","TBC","TBC","TBC",null,0,0,null,null,"AA104","Dara MacEoin","NUIG",241,0,284,267,0,0,null,792,0,null,null,"AN104","Abigail Miller","NUIG",0,0,0,258,0,0,null,258,0,null,null,"BA104","Lukas Korcak","ITC",362,0,0,0,0,0,null,362,0,null,null,"BN104",0,"TBC","TBC","TBC","TBC","TBC","TBC","TBC",null,0,0]
["A105",0,"TBC","TBC","TBC","TBC","TBC","TBC","TBC",null,0,0,null,null,"N105",0,"TBC","TBC","TBC","TBC","TBC","TBC","TBC",null,0,0,null,null,"AA105","Sam Schultz","NUIG",0,0,356,0,434,0,null,790,0,null,null,"AN105","Siobhan O'Connor","GMITC",0,0,0,0,256,0,null,256,0,null,null,"BA105",0,"TBC","TBC","TBC","TBC","TBC","TBC","TBC",null,0,0,null,null,"BN105",0,"TBC","TBC","TBC","TBC","TBC","TBC","TBC",null,0,0]
["A106",0,"TBC","TBC","TBC","TBC","TBC","TBC","TBC",null,0,0,null,null,"N106",0,"TBC","TBC","TBC","TBC","TBC","TBC","TBC",null,0,0,null,null,"AA106","Alan Gibbons","GMITC",0,0,414,0,0,367,null,781,0,null,null,"AN106","Karina Wrzesinska","IT Tallaght",0,0,0,247,0,0,null,247,0,null,null,"BA106",0,"TBC","TBC","TBC","TBC","TBC","TBC","TBC",null,0,0,null,null,"BN106",0,"TBC","TBC","TBC","TBC","TBC","TBC","TBC",null,0,0]
["A107",0,"TBC","TBC","TBC","TBC","TBC","TBC","TBC",null,0,0,null,null,"N107",0,"TBC","TBC","TBC","TBC","TBC","TBC","TBC",null,0,0,null,null,"AA107","Liam Maloney","ITC",0,0,377,0,400,0,null,777,0,null,null,"AN107",0,"TBC","TBC","TBC","TBC","TBC","TBC","TBC",null,0,0,null,null,"BA107",0,"TBC","TBC","TBC","TBC","TBC","TBC","TBC",null,0,0,null,null,"BN107",0,"TBC","TBC","TBC","TBC","TBC","TBC","TBC",null,0,0]
["A108",0,"TBC","TBC","TBC","TBC","TBC","TBC","TBC",null,0,0,null,null,"N108",0,"TBC","TBC","TBC","TBC","TBC","TBC","TBC",null,0,0,null,null,"AA108","Derek Naughton","NUIG",0,0,0,0,389,336,null,725,0,null,null,"AN108",0,"TBC","TBC","TBC","TBC","TBC","TBC","TBC",null,0,0,null,null,"BA108",0,"TBC","TBC","TBC","TBC","TBC","TBC","TBC",null,0,0,null,null,"BN108",0,"TBC","TBC","TBC","TBC","TBC","TBC","TBC",null,0,0]
["A109",0,"TBC","TBC","TBC","TBC","TBC","TBC","TBC",null,0,0,null,null,"N109",0,"TBC","TBC","TBC","TBC","TBC","TBC","TBC",null,0,0,null,null,"AA109","Jay Mc Carron","GMIT",370,118,0,210,0,0,null,698,0,null,null,"AN109",0,"TBC","TBC","TBC","TBC","TBC","TBC","TBC",null,0,0,null,null,"BA109",0,"TBC","TBC","TBC","TBC","TBC","TBC","TBC",null,0,0,null,null,"BN109",0,"TBC","TBC","TBC","TBC","TBC","TBC","TBC",null,0,0]
["A110",0,"TBC","TBC","TBC","TBC","TBC","TBC","TBC",null,0,0,null,null,"N110",0,"TBC","TBC","TBC","TBC","TBC","TBC","TBC",null,0,0,null,null,"AA110","John O'Toole","NUIM",0,0,0,332,0,344,null,676,0,null,null,"AN110",0,"TBC","TBC","TBC","TBC","TBC","TBC","TBC",null,0,0,null,null,"BA110",0,"TBC","TBC","TBC","TBC","TBC","TBC","TBC",null,0,0,null,null,"BN110",0,"TBC","TBC","TBC","TBC","TBC","TBC","TBC",null,0,0]
["A111",0,"TBC","TBC","TBC","TBC","TBC","TBC","TBC",null,0,0,null,null,"N111",0,"TBC","TBC","TBC","TBC","TBC","TBC","TBC",null,0,0,null,null,"AA111","Tony Keane","GMITC",0,0,0,312,0,359,null,671,0,null,null,"AN111",0,"TBC","TBC","TBC","TBC","TBC","TBC","TBC",null,0,0,null,null,"BA111",0,"TBC","TBC","TBC","TBC","TBC","TBC","TBC",null,0,0,null,null,"BN111",0,"TBC","TBC","TBC","TBC","TBC","TBC","TBC",null,0,0]
["A112",0,"TBC","TBC","TBC","TBC","TBC","TBC","TBC",null,0,0,null,null,"N112",0,"TBC","TBC","TBC","TBC","TBC","TBC","TBC",null,0,0,null,null,"AA112","Marc Creehan","UCC",0,0,259,0,161,246,null,666,0,null,null,"AN112",0,"TBC","TBC","TBC","TBC","TBC","TBC","TBC",null,0,0,null,null,"BA112",0,"TBC","TBC","TBC","TBC","TBC","TBC","TBC",null,0,0,null,null,"BN112",0,"TBC","TBC","TBC","TBC","TBC","TBC","TBC",null,0,0]
["A113",0,"TBC","TBC","TBC","TBC","TBC","TBC","TBC",null,0,0,null,null,"N113",0,"TBC","TBC","TBC","TBC","TBC","TBC","TBC",null,0,0,null,null,"AA113","David Doyle","NUIM",0,0,0,0,331,277,null,608,0,null,null,"AN113",0,"TBC","TBC","TBC","TBC","TBC","TBC","TBC",null,0,0,null,null,"BA113",0,"TBC","TBC","TBC","TBC","TBC","TBC","TBC",null,0,0,null,null,"BN113",0,"TBC","TBC","TBC","TBC","TBC","TBC","TBC",null,0,0]
["A114",0,"TBC","TBC","TBC","TBC","TBC","TBC","TBC",null,0,0,null,null,"N114",0,"TBC","TBC","TBC","TBC","TBC","TBC","TBC",null,0,0,null,null,"AA114","Aiman Rahim","RCSI",331,0,0,0,0,216,null,547,0,null,null,"AN114",0,"TBC","TBC","TBC","TBC","TBC","TBC","TBC",null,0,0,null,null,"BA114",0,"TBC","TBC","TBC","TBC","TBC","TBC","TBC",null,0,0,null,null,"BN114",0,"TBC","TBC","TBC","TBC","TBC","TBC","TBC",null,0,0]
["A115",0,"TBC","TBC","TBC","TBC","TBC","TBC","TBC",null,0,0,null,null,"N115",0,"TBC","TBC","TBC","TBC","TBC","TBC","TBC",null,0,0,null,null,"AA115","Daeln Murphy","DCU",216,292,0,0,0,0,null,508,0,null,null,"AN115",0,"TBC","TBC","TBC","TBC","TBC","TBC","TBC",null,0,0,null,null,"BA115",0,"TBC","TBC","TBC","TBC","TBC","TBC","TBC",null,0,0,null,null,"BN115",0,"TBC","TBC","TBC","TBC","TBC","TBC","TBC",null,0,0]
["A116",0,"TBC","TBC","TBC","TBC","TBC","TBC","TBC",null,0,0,null,null,"N116",0,"TBC","TBC","TBC","TBC","TBC","TBC","TBC",null,0,0,null,null,"AA116","Brian Breslin","ITC",224,227,0,0,0,0,null,451,0,null,null,"AN116",0,"TBC","TBC","TBC","TBC","TBC","TBC","TBC",null,0,0,null,null,"BA116",0,"TBC","TBC","TBC","TBC","TBC","TBC","TBC",null,0,0,null,null,"BN116",0,"TBC","TBC","TBC","TBC","TBC","TBC","TBC",null,0,0]
["A117",0,"TBC","TBC","TBC","TBC","TBC","TBC","TBC",null,0,0,null,null,"N117",0,"TBC","TBC","TBC","TBC","TBC","TBC","TBC",null,0,0,null,null,"AA117","Alan Sheppard","ITC",187,248,0,0,0,0,null,435,0,null,null,"AN117",0,"TBC","TBC","TBC","TBC","TBC","TBC","TBC",null,0,0,null,null,"BA117",0,"TBC","TBC","TBC","TBC","TBC","TBC","TBC",null,0,0,null,null,"BN117",0,"TBC","TBC","TBC","TBC","TBC","TBC","TBC",null,0,0]
["A118",0,"TBC","TBC","TBC","TBC","TBC","TBC","TBC",null,0,0,null,null,"N118",0,"TBC","TBC","TBC","TBC","TBC","TBC","TBC",null,0,0,null,null,"AA118","Gary Smith","IT Tallaght",0,0,0,0,0,331,null,331,0,null,null,"AN118",0,"TBC","TBC","TBC","TBC","TBC","TBC","TBC",null,0,0,null,null,"BA118",0,"TBC","TBC","TBC","TBC","TBC","TBC","TBC",null,0,0,null,null,"BN118",0,"TBC","TBC","TBC","TBC","TBC","TBC","TBC",null,0,0]
["A119",0,"TBC","TBC","TBC","TBC","TBC","TBC","TBC",null,0,0,null,null,"N119",0,"TBC","TBC","TBC","TBC","TBC","TBC","TBC",null,0,0,null,null,"AA119","Nik Idlan Faiq","RCSI",0,174,0,0,0,108,null,282,0,null,null,"AN119",0,"TBC","TBC","TBC","TBC","TBC","TBC","TBC",null,0,0,null,null,"BA119",0,"TBC","TBC","TBC","TBC","TBC","TBC","TBC",null,0,0,null,null,"BN119",0,"TBC","TBC","TBC","TBC","TBC","TBC","TBC",null,0,0]
["A120",0,"TBC","TBC","TBC","TBC","TBC","TBC","TBC",null,0,0,null,null,"N120",0,"TBC","TBC","TBC","TBC","TBC","TBC","TBC",null,0,0,null,null,"AA120","Eamonn Dunleavy","GMITC",0,280,0,0,0,0,null,280,0,null,null,"AN120",0,"TBC","TBC","TBC","TBC","TBC","TBC","TBC",null,0,0,null,null,"BA120",0,"TBC","TBC","TBC","TBC","TBC","TBC","TBC",null,0,0,null,null,"BN120",0,"TBC","TBC","TBC","TBC","TBC","TBC","TBC",null,0,0]
["A121",0,"TBC","TBC","TBC","TBC","TBC","TBC","TBC",null,0,0,null,null,"N121",0,"TBC","TBC","TBC","TBC","TBC","TBC","TBC",null,0,0,null,null,"AA121","Marco Tulios","GMITC",0,0,0,0,279,0,null,279,0,null,null,"AN121",0,"TBC","TBC","TBC","TBC","TBC","TBC","TBC",null,0,0,null,null,"BA121",0,"TBC","TBC","TBC","TBC","TBC","TBC","TBC",null,0,0,null,null,"BN121",0,"TBC","TBC","TBC","TBC","TBC","TBC","TBC",null,0,0]
["A122",0,"TBC","TBC","TBC","TBC","TBC","TBC","TBC",null,0,0,null,null,"N122",0,"TBC","TBC","TBC","TBC","TBC","TBC","TBC",null,0,0,null,null,"AA122","conor watkins","UL",278,0,0,0,0,0,null,278,0,null,null,"AN122",0,"TBC","TBC","TBC","TBC","TBC","TBC","TBC",null,0,0,null,null,"BA122",0,"TBC","TBC","TBC","TBC","TBC","TBC","TBC",null,0,0,null,null,"BN122",0,"TBC","TBC","TBC","TBC","TBC","TBC","TBC",null,0,0]
["A123",0,"TBC","TBC","TBC","TBC","TBC","TBC","TBC",null,0,0,null,null,"N123",0,"TBC","TBC","TBC","TBC","TBC","TBC","TBC",null,0,0,null,null,"AA123","Omar Mustafa","NUIG",0,0,0,0,270,0,null,270,0,null,null,"AN123",0,"TBC","TBC","TBC","TBC","TBC","TBC","TBC",null,0,0,null,null,"BA123",0,"TBC","TBC","TBC","TBC","TBC","TBC","TBC",null,0,0,null,null,"BN123",0,"TBC","TBC","TBC","TBC","TBC","TBC","TBC",null,0,0]
["A124",0,"TBC","TBC","TBC","TBC","TBC","TBC","TBC",null,0,0,null,null,"N124",0,"TBC","TBC","TBC","TBC","TBC","TBC","TBC",null,0,0,null,null,"AA124","Kevin May","RCSI",254,0,0,0,0,0,null,254,0,null,null,"AN124",0,"TBC","TBC","TBC","TBC","TBC","TBC","TBC",null,0,0,null,null,"BA124",0,"TBC","TBC","TBC","TBC","TBC","TBC","TBC",null,0,0,null,null,"BN124",0,"TBC","TBC","TBC","TBC","TBC","TBC","TBC",null,0,0]
["A125",0,"TBC","TBC","TBC","TBC","TBC","TBC","TBC",null,0,0,null,null,"N125",0,"TBC","TBC","TBC","TBC","TBC","TBC","TBC",null,0,0,null,null,"AA125","Eammon McGrory","NUIM",0,239,0,0,0,0,null,239,0,null,null,"AN125",0,"TBC","TBC","TBC","TBC","TBC","TBC","TBC",null,0,0,null,null,"BA125",0,"TBC","TBC","TBC","TBC","TBC","TBC","TBC",null,0,0,null,null,"BN125",0,"TBC","TBC","TBC","TBC","TBC","TBC","TBC",null,0,0]
["A126",0,"TBC","TBC","TBC","TBC","TBC","TBC","TBC",null,0,0,null,null,"N126",0,"TBC","TBC","TBC","TBC","TBC","TBC","TBC",null,0,0,null,null,"AA126","Simon Lavin","GMITC",0,0,0,232,0,0,null,232,0,null,null,"AN126",0,"TBC","TBC","TBC","TBC","TBC","TBC","TBC",null,0,0,null,null,"BA126",0,"TBC","TBC","TBC","TBC","TBC","TBC","TBC",null,0,0,null,null,"BN126",0,"TBC","TBC","TBC","TBC","TBC","TBC","TBC",null,0,0]
["A127",0,"TBC","TBC","TBC","TBC","TBC","TBC","TBC",null,0,0,null,null,"N127",0,"TBC","TBC","TBC","TBC","TBC","TBC","TBC",null,0,0,null,null,"AA127","Jonathan Cassidy","NUIG",0,0,0,0,229,0,null,229,0,null,null,"AN127",0,"TBC","TBC","TBC","TBC","TBC","TBC","TBC",null,0,0,null,null,"BA127",0,"TBC","TBC","TBC","TBC","TBC","TBC","TBC",null,0,0,null,null,"BN127",0,"TBC","TBC","TBC","TBC","TBC","TBC","TBC",null,0,0]
["A128",0,"TBC","TBC","TBC","TBC","TBC","TBC","TBC",null,0,0,null,null,"N128",0,"TBC","TBC","TBC","TBC","TBC","TBC","TBC",null,0,0,null,null,"AA128","Robert Dore","IT Tallaght",0,0,0,223,0,0,null,223,0,null,null,"AN128",0,"TBC","TBC","TBC","TBC","TBC","TBC","TBC",null,0,0,null,null,"BA128",0,"TBC","TBC","TBC","TBC","TBC","TBC","TBC",null,0,0,null,null,"BN128",0,"TBC","TBC","TBC","TBC","TBC","TBC","TBC",null,0,0]
["A129",0,"TBC","TBC","TBC","TBC","TBC","TBC","TBC",null,0,0,null,null,"N129",0,"TBC","TBC","TBC","TBC","TBC","TBC","TBC",null,0,0,null,null,"AA129","Lukas Frese","UCD",0,0,0,0,0,204,null,204,0,null,null,"AN129",0,"TBC","TBC","TBC","TBC","TBC","TBC","TBC",null,0,0,null,null,"BA129",0,"TBC","TBC","TBC","TBC","TBC","TBC","TBC",null,0,0,null,null,"BN129",0,"TBC","TBC","TBC","TBC","TBC","TBC","TBC",null,0,0]
["A130",0,"TBC","TBC","TBC","TBC","TBC","TBC","TBC",null,0,0,null,null,"N130",0,"TBC","TBC","TBC","TBC","TBC","TBC","TBC",null,0,0,null,null,"AA130","Keelan Bancroft ","GMITC",0,0,0,0,0,147,null,147,0,null,null,"AN130",0,"TBC","TBC","TBC","TBC","TBC","TBC","TBC",null,0,0,null,null,"BA130",0,"TBC","TBC","TBC","TBC","TBC","TBC","TBC",null,0,0,null,null,"BN130",0,"TBC","TBC","TBC","TBC","TBC","TBC","TBC",null,0,0]
["A131",0,"TBC","TBC","TBC","TBC","TBC","TBC","TBC",null,0,0,null,null,"N131",0,"TBC","TBC","TBC","TBC","TBC","TBC","TBC",null,0,0,null,null,"AA131","Arief Naimun","RCSI",0,0,0,143,0,0,null,143,0,null,null,"AN131",0,"TBC","TBC","TBC","TBC","TBC","TBC","TBC",null,0,0,null,null,"BA131",0,"TBC","TBC","TBC","TBC","TBC","TBC","TBC",null,0,0,null,null,"BN131",0,"TBC","TBC","TBC","TBC","TBC","TBC","TBC",null,0,0]
["A132",0,"TBC","TBC","TBC","TBC","TBC","TBC","TBC",null,0,0,null,null,"N132",0,"TBC","TBC","TBC","TBC","TBC","TBC","TBC",null,0,0,null,null,"AA132","Derek Dooley","GMITC",0,0,0,136,0,0,null,136,0,null,null,"AN132",0,"TBC","TBC","TBC","TBC","TBC","TBC","TBC",null,0,0,null,null,"BA132",0,"TBC","TBC","TBC","TBC","TBC","TBC","TBC",null,0,0,null,null,"BN132",0,"TBC","TBC","TBC","TBC","TBC","TBC","TBC",null,0,0]
["A133",0,"TBC","TBC","TBC","TBC","TBC","TBC","TBC",null,0,0,null,null,"N133",0,"TBC","TBC","TBC","TBC","TBC","TBC","TBC",null,0,0,null,null,"AA133","Paul Fox","RCSI",0,0,0,131,0,0,null,131,0,null,null,"AN133",0,"TBC","TBC","TBC","TBC","TBC","TBC","TBC",null,0,0,null,null,"BA133",0,"TBC","TBC","TBC","TBC","TBC","TBC","TBC",null,0,0,null,null,"BN133",0,"TBC","TBC","TBC","TBC","TBC","TBC","TBC",null,0,0]
["A134",0,"TBC","TBC","TBC","TBC","TBC","TBC","TBC",null,0,0,null,null,"N134",0,"TBC","TBC","TBC","TBC","TBC","TBC","TBC",null,0,0,null,null,"AA134","Craig Hill","GMITC",0,0,0,0,123,0,null,123,0,null,null,"AN134",0,"TBC","TBC","TBC","TBC","TBC","TBC","TBC",null,0,0,null,null,"BA134",0,"TBC","TBC","TBC","TBC","TBC","TBC","TBC",null,0,0,null,null,"BN134",0,"TBC","TBC","TBC","TBC","TBC","TBC","TBC",null,0,0]
["A135",0,"TBC","TBC","TBC","TBC","TBC","TBC","TBC",null,0,0,null,null,"N135",0,"TBC","TBC","TBC","TBC","TBC","TBC","TBC",null,0,0,null,null,"AA135","Cody Meadows","NUIG",0,0,0,0,105,0,null,105,0,null,null,"AN135",0,"TBC","TBC","TBC","TBC","TBC","TBC","TBC",null,0,0,null,null,"BA135",0,"TBC","TBC","TBC","TBC","TBC","TBC","TBC",null,0,0,null,null,"BN135",0,"TBC","TBC","TBC","TBC","TBC","TBC","TBC",null,0,0]
["A136",0,"TBC","TBC","TBC","TBC","TBC","TBC","TBC",null,0,0,null,null,"N136",0,"TBC","TBC","TBC","TBC","TBC","TBC","TBC",null,0,0,null,null,"AA136",0,"TBC","TBC","TBC","TBC","TBC","TBC","TBC",null,0,0,null,null,"AN136",0,"TBC","TBC","TBC","TBC","TBC","TBC","TBC",null,0,0,null,null,"BA136",0,"TBC","TBC","TBC","TBC","TBC","TBC","TBC",null,0,0,null,null,"BN136",0,"TBC","TBC","TBC","TBC","TBC","TBC","TBC",null,0,0]
["A137",0,"TBC","TBC","TBC","TBC","TBC","TBC","TBC",null,0,0,null,null,"N137",0,"TBC","TBC","TBC","TBC","TBC","TBC","TBC",null,0,0,null,null,"AA137",0,"TBC","TBC","TBC","TBC","TBC","TBC","TBC",null,0,0,null,null,"AN137",0,"TBC","TBC","TBC","TBC","TBC","TBC","TBC",null,0,0,null,null,"BA137",0,"TBC","TBC","TBC","TBC","TBC","TBC","TBC",null,0,0,null,null,"BN137",0,"TBC","TBC","TBC","TBC","TBC","TBC","TBC",null,0,0]
["A138",0,"TBC","TBC","TBC","TBC","TBC","TBC","TBC",null,0,0,null,null,"N138",0,"TBC","TBC","TBC","TBC","TBC","TBC","TBC",null,0,0,null,null,"AA138",0,"TBC","TBC","TBC","TBC","TBC","TBC","TBC",null,0,0,null,null,"AN138",0,"TBC","TBC","TBC","TBC","TBC","TBC","TBC",null,0,0,null,null,"BA138",0,"TBC","TBC","TBC","TBC","TBC","TBC","TBC",null,0,0,null,null,"BN138",0,"TBC","TBC","TBC","TBC","TBC","TBC","TBC",null,0,0]
["A139",0,"TBC","TBC","TBC","TBC","TBC","TBC","TBC",null,0,0,null,null,"N139",0,"TBC","TBC","TBC","TBC","TBC","TBC","TBC",null,0,0,null,null,"AA139",0,"TBC","TBC","TBC","TBC","TBC","TBC","TBC",null,0,0,null,null,"AN139",0,"TBC","TBC","TBC","TBC","TBC","TBC","TBC",null,0,0,null,null,"BA139",0,"TBC","TBC","TBC","TBC","TBC","TBC","TBC",null,0,0,null,null,"BN139",0,"TBC","TBC","TBC","TBC","TBC","TBC","TBC",null,0,0]
["A140",0,"TBC","TBC","TBC","TBC","TBC","TBC","TBC",null,0,0,null,null,"N140",0,"TBC","TBC","TBC","TBC","TBC","TBC","TBC",null,0,0,null,null,"AA140",0,"TBC","TBC","TBC","TBC","TBC","TBC","TBC",null,0,0,null,null,"AN140",0,"TBC","TBC","TBC","TBC","TBC","TBC","TBC",null,0,0,null,null,"BA140",0,"TBC","TBC","TBC","TBC","TBC","TBC","TBC",null,0,0,null,null,"BN140",0,"TBC","TBC","TBC","TBC","TBC","TBC","TBC",null,0,0]
["A141",0,"TBC","TBC","TBC","TBC","TBC","TBC","TBC",null,0,0,null,null,"N141",0,"TBC","TBC","TBC","TBC","TBC","TBC","TBC",null,0,0,null,null,"AA141",0,"TBC","TBC","TBC","TBC","TBC","TBC","TBC",null,0,0,null,null,"AN141",0,"TBC","TBC","TBC","TBC","TBC","TBC","TBC",null,0,0,null,null,"BA141",0,"TBC","TBC","TBC","TBC","TBC","TBC","TBC",null,0,0,null,null,"BN141",0,"TBC","TBC","TBC","TBC","TBC","TBC","TBC",null,0,0]
["A142",0,"TBC","TBC","TBC","TBC","TBC","TBC","TBC",null,0,0,null,null,"N142",0,"TBC","TBC","TBC","TBC","TBC","TBC","TBC",null,0,0,null,null,"AA142",0,"TBC","TBC","TBC","TBC","TBC","TBC","TBC",null,0,0,null,null,"AN142",0,"TBC","TBC","TBC","TBC","TBC","TBC","TBC",null,0,0,null,null,"BA142",0,"TBC","TBC","TBC","TBC","TBC","TBC","TBC",null,0,0,null,null,"BN142",0,"TBC","TBC","TBC","TBC","TBC","TBC","TBC",null,0,0]
["A143",0,"TBC","TBC","TBC","TBC","TBC","TBC","TBC",null,0,0,null,null,"N143",0,"TBC","TBC","TBC","TBC","TBC","TBC","TBC",null,0,0,null,null,"AA143",0,"TBC","TBC","TBC","TBC","TBC","TBC","TBC",null,0,0,null,null,"AN143",0,"TBC","TBC","TBC","TBC","TBC","TBC","TBC",null,0,0,null,null,"BA143",0,"TBC","TBC","TBC","TBC","TBC","TBC","TBC",null,0,0,null,null,"BN143",0,"TBC","TBC","TBC","TBC","TBC","TBC","TBC",null,0,0]
["A144",0,"TBC","TBC","TBC","TBC","TBC","TBC","TBC",null,0,0,null,null,"N144",0,"TBC","TBC","TBC","TBC","TBC","TBC","TBC",null,0,0,null,null,"AA144",0,"TBC","TBC","TBC","TBC","TBC","TBC","TBC",null,0,0,null,null,"AN144",0,"TBC","TBC","TBC","TBC","TBC","TBC","TBC",null,0,0,null,null,"BA144",0,"TBC","TBC","TBC","TBC","TBC","TBC","TBC",null,0,0,null,null,"BN144",0,"TBC","TBC","TBC","TBC","TBC","TBC","TBC",null,0,0]
["A145",0,"TBC","TBC","TBC","TBC","TBC","TBC","TBC",null,0,0,null,null,"N145",0,"TBC","TBC","TBC","TBC","TBC","TBC","TBC",null,0,0,null,null,"AA145",0,"TBC","TBC","TBC","TBC","TBC","TBC","TBC",null,0,0,null,null,"AN145",0,"TBC","TBC","TBC","TBC","TBC","TBC","TBC",null,0,0,null,null,"BA145",0,"TBC","TBC","TBC","TBC","TBC","TBC","TBC",null,0,0,null,null,"BN145",0,"TBC","TBC","TBC","TBC","TBC","TBC","TBC",null,0,0]
["A146",0,"TBC","TBC","TBC","TBC","TBC","TBC","TBC",null,0,0,null,null,"N146",0,"TBC","TBC","TBC","TBC","TBC","TBC","TBC",null,0,0,null,null,"AA146",0,"TBC","TBC","TBC","TBC","TBC","TBC","TBC",null,0,0,null,null,"AN146",0,"TBC","TBC","TBC","TBC","TBC","TBC","TBC",null,0,0,null,null,"BA146",0,"TBC","TBC","TBC","TBC","TBC","TBC","TBC",null,0,0,null,null,"BN146",0,"TBC","TBC","TBC","TBC","TBC","TBC","TBC",null,0,0]
["A147",0,"TBC","TBC","TBC","TBC","TBC","TBC","TBC",null,0,0,null,null,"N147",0,"TBC","TBC","TBC","TBC","TBC","TBC","TBC",null,0,0,null,null,"AA147",0,"TBC","TBC","TBC","TBC","TBC","TBC","TBC",null,0,0,null,null,"AN147",0,"TBC","TBC","TBC","TBC","TBC","TBC","TBC",null,0,0,null,null,"BA147",0,"TBC","TBC","TBC","TBC","TBC","TBC","TBC",null,0,0,null,null,"BN147",0,"TBC","TBC","TBC","TBC","TBC","TBC","TBC",null,0,0]
["A148",0,"TBC","TBC","TBC","TBC","TBC","TBC","TBC",null,0,0,null,null,"N148",0,"TBC","TBC","TBC","TBC","TBC","TBC","TBC",null,0,0,null,null,"AA148",0,"TBC","TBC","TBC","TBC","TBC","TBC","TBC",null,0,0,null,null,"AN148",0,"TBC","TBC","TBC","TBC","TBC","TBC","TBC",null,0,0,null,null,"BA148",0,"TBC","TBC","TBC","TBC","TBC","TBC","TBC",null,0,0,null,null,"BN148",0,"TBC","TBC","TBC","TBC","TBC","TBC","TBC",null,0,0]
["A149",0,"TBC","TBC","TBC","TBC","TBC","TBC","TBC",null,0,0,null,null,"N149",0,"TBC","TBC","TBC","TBC","TBC","TBC","TBC",null,0,0,null,null,"AA149",0,"TBC","TBC","TBC","TBC","TBC","TBC","TBC",null,0,0,null,null,"AN149",0,"TBC","TBC","TBC","TBC","TBC","TBC","TBC",null,0,0,null,null,"BA149",0,"TBC","TBC","TBC","TBC","TBC","TBC","TBC",null,0,0,null,null,"BN149",0,"TBC","TBC","TBC","TBC","TBC","TBC","TBC",null,0,0]
["A150",0,"TBC","TBC","TBC","TBC","TBC","TBC","TBC",null,0,0,null,null,"N150",0,"TBC","TBC","TBC","TBC","TBC","TBC","TBC",null,0,0,null,null,"AA150",0,"TBC","TBC","TBC","TBC","TBC","TBC","TBC",null,0,0,null,null,"AN150",0,"TBC","TBC","TBC","TBC","TBC","TBC","TBC",null,0,0,null,null,"BA150",0,"TBC","TBC","TBC","TBC","TBC","TBC","TBC",null,0,0,null,null,"BN150",0,"TBC","TBC","TBC","TBC","TBC","TBC","TBC",null,0,0]
["A151",0,"TBC","TBC","TBC","TBC","TBC","TBC","TBC",null,0,0,null,null,"N151",0,"TBC","TBC","TBC","TBC","TBC","TBC","TBC",null,0,0,null,null,"AA151",0,"TBC","TBC","TBC","TBC","TBC","TBC","TBC",null,0,0,null,null,"AN151",0,"TBC","TBC","TBC","TBC","TBC","TBC","TBC",null,0,0,null,null,"BA151",0,"TBC","TBC","TBC","TBC","TBC","TBC","TBC",null,0,0,null,null,"BN151",0,"TBC","TBC","TBC","TBC","TBC","TBC","TBC",null,0,0]
["A152",0,"TBC","TBC","TBC","TBC","TBC","TBC","TBC",null,0,0,null,null,"N152",0,"TBC","TBC","TBC","TBC","TBC","TBC","TBC",null,0,0,null,null,"AA152",0,"TBC","TBC","TBC","TBC","TBC","TBC","TBC",null,0,0,null,null,"AN152",0,"TBC","TBC","TBC","TBC","TBC","TBC","TBC",null,0,0,null,null,"BA152",0,"TBC","TBC","TBC","TBC","TBC","TBC","TBC",null,0,0,null,null,"BN152",0,"TBC","TBC","TBC","TBC","TBC","TBC","TBC",null,0,0]
["A153",0,"TBC","TBC","TBC","TBC","TBC","TBC","TBC",null,0,0,null,null,"N153",0,"TBC","TBC","TBC","TBC","TBC","TBC","TBC",null,0,0,null,null,"AA153",0,"TBC","TBC","TBC","TBC","TBC","TBC","TBC",null,0,0,null,null,"AN153",0,"TBC","TBC","TBC","TBC","TBC","TBC","TBC",null,0,0,null,null,"BA153",0,"TBC","TBC","TBC","TBC","TBC","TBC","TBC",null,0,0,null,null,"BN153",0,"TBC","TBC","TBC","TBC","TBC","TBC","TBC",null,0,0]
["A154",0,"TBC","TBC","TBC","TBC","TBC","TBC","TBC",null,0,0,null,null,"N154",0,"TBC","TBC","TBC","TBC","TBC","TBC","TBC",null,0,0,null,null,"AA154",0,"TBC","TBC","TBC","TBC","TBC","TBC","TBC",null,0,0,null,null,"AN154",0,"TBC","TBC","TBC","TBC","TBC","TBC","TBC",null,0,0,null,null,"BA154",0,"TBC","TBC","TBC","TBC","TBC","TBC","TBC",null,0,0,null,null,"BN154",0,"TBC","TBC","TBC","TBC","TBC","TBC","TBC",null,0,0]
["A155",0,"TBC","TBC","TBC","TBC","TBC","TBC","TBC",null,0,0,null,null,"N155",0,"TBC","TBC","TBC","TBC","TBC","TBC","TBC",null,0,0,null,null,"AA155",0,"TBC","TBC","TBC","TBC","TBC","TBC","TBC",null,0,0,null,null,"AN155",0,"TBC","TBC","TBC","TBC","TBC","TBC","TBC",null,0,0,null,null,"BA155",0,"TBC","TBC","TBC","TBC","TBC","TBC","TBC",null,0,0,null,null,"BN155",0,"TBC","TBC","TBC","TBC","TBC","TBC","TBC",null,0,0]
["A156",0,"TBC","TBC","TBC","TBC","TBC","TBC","TBC",null,0,0,null,null,"N156",0,"TBC","TBC","TBC","TBC","TBC","TBC","TBC",null,0,0,null,null,"AA156",0,"TBC","TBC","TBC","TBC","TBC","TBC","TBC",null,0,0,null,null,"AN156",0,"TBC","TBC","TBC","TBC","TBC","TBC","TBC",null,0,0,null,null,"BA156",0,"TBC","TBC","TBC","TBC","TBC","TBC","TBC",null,0,0,null,null,"BN156",0,"TBC","TBC","TBC","TBC","TBC","TBC","TBC",null,0,0]
["A157",0,"TBC","TBC","TBC","TBC","TBC","TBC","TBC",null,0,0,null,null,"N157",0,"TBC","TBC","TBC","TBC","TBC","TBC","TBC",null,0,0,null,null,"AA157",0,"TBC","TBC","TBC","TBC","TBC","TBC","TBC",null,0,0,null,null,"AN157",0,"TBC","TBC","TBC","TBC","TBC","TBC","TBC",null,0,0,null,null,"BA157",0,"TBC","TBC","TBC","TBC","TBC","TBC","TBC",null,0,0,null,null,"BN157",0,"TBC","TBC","TBC","TBC","TBC","TBC","TBC",null,0,0]
["A158",{"$f":"VLOOKUP($A366,$A$93:$L$167,2,0)","v":0},{"$f":"VLOOKUP($A366,$A$93:$L$167,3,0)","v":"TBC"},{"$f":"VLOOKUP($A366,$A$93:$L$167,4,0)","v":"TBC"},{"$f":"VLOOKUP($A366,$A$93:$L$167,5,0)","v":"TBC"},{"$f":"VLOOKUP($A366,$A$93:$L$167,6,0)","v":"TBC"},{"$f":"VLOOKUP($A366,$A$93:$L$167,7,0)","v":"TBC"},{"$f":"VLOOKUP($A366,$A$93:$L$167,8,0)","v":"TBC"},{"$f":"VLOOKUP($A366,$A$93:$L$167,9,0)","v":"TBC"},null,{"$f":"VLOOKUP($A366,$A$93:$L$167,10,0)","v":0},{"$f":"VLOOKUP($A366,$A$93:$L$167,11,0)","v":0},null,null,"N158",{"$f":"VLOOKUP($O366,$O$93:$Z$167,2,0)","v":0},{"$f":"VLOOKUP($O366,$O$93:$Z$167,3,0)","v":"TBC"},{"$f":"VLOOKUP($O366,$O$93:$Z$167,4,0)","v":"TBC"},{"$f":"VLOOKUP($O366,$O$93:$Z$167,5,0)","v":"TBC"},{"$f":"VLOOKUP($O366,$O$93:$Z$167,6,0)","v":"TBC"},{"$f":"VLOOKUP($O366,$O$93:$Z$167,7,0)","v":"TBC"},{"$f":"VLOOKUP($O366,$O$93:$Z$167,8,0)","v":"TBC"},{"$f":"VLOOKUP($O366,$O$93:$Z$167,9,0)","v":"TBC"},null,{"$f":"VLOOKUP($O366,$O$93:$Z$167,10,0)","v":0},{"$f":"VLOOKUP($O366,$O$93:$Z$167,11,0)","v":0},null,null,"AA158",{"$f":"VLOOKUP($AC366,$AC$93:$AN$167,2,0)","v":0},{"$f":"VLOOKUP($AC366,$AC$93:$AN$167,3,0)","v":"TBC"},{"$f":"VLOOKUP($AC366,$AC$93:$AN$167,4,0)","v":"TBC"},{"$f":"VLOOKUP($AC366,$AC$93:$AN$167,5,0)","v":"TBC"},{"$f":"VLOOKUP($AC366,$AC$93:$AN$167,6,0)","v":"TBC"},{"$f":"VLOOKUP($AC366,$AC$93:$AN$167,7,0)","v":"TBC"},{"$f":"VLOOKUP($AC366,$AC$93:$AN$167,8,0)","v":"TBC"},{"$f":"VLOOKUP($AC366,$AC$93:$AN$167,9,0)","v":"TBC"},null,{"$f":"VLOOKUP($AC366,$AC$93:$AN$167,10,0)","v":0},{"$f":"VLOOKUP($AC366,$AC$93:$AN$167,11,0)","v":0},null,null,"AN158",{"$f":"VLOOKUP($AQ366,$AQ$93:$BB$167,2,0)","v":0},{"$f":"VLOOKUP($AQ366,$AQ$93:$BB$167,3,0)","v":"TBC"},{"$f":"VLOOKUP($AQ366,$AQ$93:$BB$167,4,0)","v":"TBC"},{"$f":"VLOOKUP($AQ366,$AQ$93:$BB$167,5,0)","v":"TBC"},{"$f":"VLOOKUP($AQ366,$AQ$93:$BB$167,6,0)","v":"TBC"},{"$f":"VLOOKUP($AQ366,$AQ$93:$BB$167,7,0)","v":"TBC"},{"$f":"VLOOKUP($AQ366,$AQ$93:$BB$167,8,0)","v":"TBC"},{"$f":"VLOOKUP($AQ366,$AQ$93:$BB$167,9,0)","v":"TBC"},null,{"$f":"VLOOKUP($AQ366,$AQ$93:$BB$167,10,0)","v":0},{"$f":"VLOOKUP($AQ366,$AQ$93:$BB$167,11,0)","v":0},null,null,"BA158",{"$f":"VLOOKUP($BE366,$BE$93:$BP$167,2,0)","v":0},{"$f":"VLOOKUP($BE366,$BE$93:$BP$167,3,0)","v":"TBC"},{"$f":"VLOOKUP($BE366,$BE$93:$BP$167,4,0)","v":"TBC"},{"$f":"VLOOKUP($BE366,$BE$93:$BP$167,5,0)","v":"TBC"},{"$f":"VLOOKUP($BE366,$BE$93:$BP$167,6,0)","v":"TBC"},{"$f":"VLOOKUP($BE366,$BE$93:$BP$167,7,0)","v":"TBC"},{"$f":"VLOOKUP($BE366,$BE$93:$BP$167,8,0)","v":"TBC"},{"$f":"VLOOKUP($BE366,$BE$93:$BP$167,9,0)","v":"TBC"},null,{"$f":"VLOOKUP($BE366,$BE$93:$BP$167,10,0)","v":0},{"$f":"VLOOKUP($BE366,$BE$93:$BP$167,11,0)","v":0},null,null,"BN158",{"$f":"VLOOKUP($BS366,$BS$93:$CD$167,2,0)","v":0},{"$f":"VLOOKUP($BS366,$BS$93:$CD$167,3,0)","v":"TBC"},{"$f":"VLOOKUP($BS366,$BS$93:$CD$167,4,0)","v":"TBC"},{"$f":"VLOOKUP($BS366,$BS$93:$CD$167,5,0)","v":"TBC"},{"$f":"VLOOKUP($BS366,$BS$93:$CD$167,6,0)","v":"TBC"},{"$f":"VLOOKUP($BS366,$BS$93:$CD$167,7,0)","v":"TBC"},{"$f":"VLOOKUP($BS366,$BS$93:$CD$167,8,0)","v":"TBC"},{"$f":"VLOOKUP($BS366,$BS$93:$CD$167,9,0)","v":"TBC"},null,{"$f":"VLOOKUP($BS366,$BS$93:$CD$167,10,0)","v":0},{"$f":"VLOOKUP($BS366,$BS$93:$CD$167,11,0)","v":0}]
["A159",0,"TBC","TBC","TBC","TBC","TBC","TBC","TBC",null,0,0,null,null,"N159",0,"TBC","TBC","TBC","TBC","TBC","TBC","TBC",null,0,0,null,null,"AA159",0,"TBC","TBC","TBC","TBC","TBC","TBC","TBC",null,0,0,null,null,"AN159",0,"TBC","TBC","TBC","TBC","TBC","TBC","TBC",null,0,0,null,null,"BA159",0,"TBC","TBC","TBC","TBC","TBC","TBC","TBC",null,0,0,null,null,"BN159",0,"TBC","TBC","TBC","TBC","TBC","TBC","TBC",null,0,0]
["A160",0,"TBC","TBC","TBC","TBC","TBC","TBC","TBC",null,0,0,null,null,"N160",0,"TBC","TBC","TBC","TBC","TBC","TBC","TBC",null,0,0,null,null,"AA160",0,"TBC","TBC","TBC","TBC","TBC","TBC","TBC",null,0,0,null,null,"AN160",0,"TBC","TBC","TBC","TBC","TBC","TBC","TBC",null,0,0,null,null,"BA160",0,"TBC","TBC","TBC","TBC","TBC","TBC","TBC",null,0,0,null,null,"BN160",0,"TBC","TBC","TBC","TBC","TBC","TBC","TBC",null,0,0]
["A161",0,"TBC","TBC","TBC","TBC","TBC","TBC","TBC",null,0,0,null,null,"N161",0,"TBC","TBC","TBC","TBC","TBC","TBC","TBC",null,0,0,null,null,"AA161",0,"TBC","TBC","TBC","TBC","TBC","TBC","TBC",null,0,0,null,null,"AN161",0,"TBC","TBC","TBC","TBC","TBC","TBC","TBC",null,0,0,null,null,"BA161",0,"TBC","TBC","TBC","TBC","TBC","TBC","TBC",null,0,0,null,null,"BN161",0,"TBC","TBC","TBC","TBC","TBC","TBC","TBC",null,0,0]
["A162",0,"TBC","TBC","TBC","TBC","TBC","TBC","TBC",null,0,0,null,null,"N162",0,"TBC","TBC","TBC","TBC","TBC","TBC","TBC",null,0,0,null,null,"AA162",0,"TBC","TBC","TBC","TBC","TBC","TBC","TBC",null,0,0,null,null,"AN162",0,"TBC","TBC","TBC","TBC","TBC","TBC","TBC",null,0,0,null,null,"BA162",0,"TBC","TBC","TBC","TBC","TBC","TBC","TBC",null,0,0,null,null,"BN162",0,"TBC","TBC","TBC","TBC","TBC","TBC","TBC",null,0,0]
["A163",0,"TBC","TBC","TBC","TBC","TBC","TBC","TBC",null,0,0,null,null,"N163",0,"TBC","TBC","TBC","TBC","TBC","TBC","TBC",null,0,0,null,null,"AA163",0,"TBC","TBC","TBC","TBC","TBC","TBC","TBC",null,0,0,null,null,"AN163",0,"TBC","TBC","TBC","TBC","TBC","TBC","TBC",null,0,0,null,null,"BA163",0,"TBC","TBC","TBC","TBC","TBC","TBC","TBC",null,0,0,null,null,"BN163",0,"TBC","TBC","TBC","TBC","TBC","TBC","TBC",null,0,0]
["A164",0,"TBC","TBC","TBC","TBC","TBC","TBC","TBC",null,0,0,null,null,"N164",0,"TBC","TBC","TBC","TBC","TBC","TBC","TBC",null,0,0,null,null,"AA164",0,"TBC","TBC","TBC","TBC","TBC","TBC","TBC",null,0,0,null,null,"AN164",0,"TBC","TBC","TBC","TBC","TBC","TBC","TBC",null,0,0,null,null,"BA164",0,"TBC","TBC","TBC","TBC","TBC","TBC","TBC",null,0,0,null,null,"BN164",0,"TBC","TBC","TBC","TBC","TBC","TBC","TBC",null,0,0]
["A165",0,"TBC","TBC","TBC","TBC","TBC","TBC","TBC",null,0,0,null,null,"N165",0,"TBC","TBC","TBC","TBC","TBC","TBC","TBC",null,0,0,null,null,"AA165",0,"TBC","TBC","TBC","TBC","TBC","TBC","TBC",null,0,0,null,null,"AN165",0,"TBC","TBC","TBC","TBC","TBC","TBC","TBC",null,0,0,null,null,"BA165",0,"TBC","TBC","TBC","TBC","TBC","TBC","TBC",null,0,0,null,null,"BN165",0,"TBC","TBC","TBC","TBC","TBC","TBC","TBC",null,0,0]
["A166",0,"TBC","TBC","TBC","TBC","TBC","TBC","TBC",null,0,0,null,null,"N166",0,"TBC","TBC","TBC","TBC","TBC","TBC","TBC",null,0,0,null,null,"AA166",0,"TBC","TBC","TBC","TBC","TBC","TBC","TBC",null,0,0,null,null,"AN166",0,"TBC","TBC","TBC","TBC","TBC","TBC","TBC",null,0,0,null,null,"BA166",0,"TBC","TBC","TBC","TBC","TBC","TBC","TBC",null,0,0,null,null,"BN166",0,"TBC","TBC","TBC","TBC","TBC","TBC","TBC",null,0,0]
["A167",0,"TBC","TBC","TBC","TBC","TBC","TBC","TBC",null,0,0,null,null,"N167",0,"TBC","TBC","TBC","TBC","TBC","TBC","TBC",null,0,0,null,null,"AA167",0,"TBC","TBC","TBC","TBC","TBC","TBC","TBC",null,0,0,null,null,"AN167",0,"TBC","TBC","TBC","TBC","TBC","TBC","TBC",null,0,0,null,null,"BA167",0,"TBC","TBC","TBC","TBC","TBC","TBC","TBC",null,0,0,null,null,"BN167",0,"TBC","TBC","TBC","TBC","TBC","TBC","TBC",null,0,0]

{"sheet":"RBM","index":2,"n_rows":121,"n_cols":48,"rows_kept":121,"cut":false,"hidden":false,"merged":[[0,0,0,14],[1,0,80,0],[1,14,80,14],[81,0,81,14],[4,1,4,9],[4,11,4,13],[1,11,1,13],[1,4,1,9],[1,1,3,3],[2,11,3,11],[2,12,3,12],[2,13,3,13],[1,10,80,10]]}
[{"$f":"$D$7","v":"DkIT"}]
["DkIT","Male Beginner Recurve",null,null,"Host Club",null,null,null,null,null,{"$f":"$D$7","v":"DkIT"},"Scores",null,null,{"$f":"$D$7","v":"DkIT"},null,null,null,null,null,null,null,null,null,null,null,null,null,null,null,null,null,null,null,{"$f":"AI7","v":"Kevin Kok Zhi Hao"},null,null,null,null,null,null,null,null,null,null,null,"A1,A2,J2,N2,B5,K5,A82"]
[null,null,null,null,{"$f":"Entries!K6","v":"DCU IV"},"UCD/ITC",{"$f":"Entries!K8","v":"DkIT IV"},"NUIM/GMIT",{"$f":"Entries!K10","v":"NUIG IV"},{"$f":"Entries!K11","v":"UL IV"},null,"Total","Lowest","League"]
[]
[null,{"$f":"$D$7","v":"DkIT"},null,null,null,null,null,null,null,null,null,"DkIT"]
[null,null,"Name","College","DCU IV","UCD/ITC IV","DkIT IV","NUIM/GMIT IV","NUIG IV","UL IV",null,"Total","Lowest","League total",null,null,null,null,null,null,null,null,null,null,null,null,null,null,null,null,null,null,null,null,null,null,null,null,null,null,null,null,null,null,null,null,"$K$7:$M$7,$B$7:$I$7,$B$2"]
[null,1,{"$f":"Singles!B201","v":"Kevin Kok Zhi Hao"},{"$f":"Singles!C201","v":"DkIT"},{"$f":"Singles!D201","v":452},{"$f":"Singles!E201","v":427},{"$f":"Singles!F201","v":462},{"$f":"Singles!G201","v":413},{"$f":"Singles!H201","v":446},{"$f":"Singles!I201","v":432},null,{"$f":"Singles!J8","v":2632},{"$f":"Singles!K8","v":413},{"$f":"Singles!L8","v":2219.0462452000002},null,null,null,null,null,null,null,null,null,null,null,null,null,null,null,null,null,null,null,null,{"$f":"C7","v":"Kevin Kok Zhi Hao"}]
[null,2,{"$f":"Singles!B202","v":"Frank Stafford"},{"$f":"Singles!C202","v":"UL"},{"$f":"Singles!D202","v":501},{"$f":"Singles!E202","v":376},{"$f":"Singles!F202","v":387},{"$f":"Singles!G202","v":427},{"$f":"Singles!H202","v":399},{"$f":"Singles!I202","v":441},null,{"$f":"Singles!J9","v":2531},{"$f":"Singles!K9","v":376},{"$f":"Singles!L9","v":2155.0501426999999},null,null,null,null,null,null,null,null,null,null,null,null,null,null,null,null,null,null,null,null,null,null,null,null,null,null,null,null,null,null,null,null,"DCU CONDITIONAL FORMATTING FORMULA >","OR($AH7=Tables!$B$131,$AH7=Tables!$B$132,$AH7=Tables!$B$133,$AH7=Tables!$B$134,$AH7=Tables!$B$135,$AH7=Tables!$B$136,$AH7=Tables!$B$137,$AH7=Tables!$B$138,$AH7=Tables!$B$139,$AH7=Tables!$B$140,$AH7=Tables!$B$141,$AH7=Tables!$B$142,$AH7=Tables!$B$143,$AH7=Tables!$B$144,$AH7=Tables!$B$145,$AH7=Tables!$B$146,$AH7=Tables!$B$147,$AH7=Tables!$B$148,$AH7=Tables!$B$149,$AH7=Tables!$B$150,$AH7=Tables!$B$151)"]
[null,3,{"$f":"Singles!B204","v":"See Qui Ren"},{"$f":"Singles!C204","v":"DkIT"},{"$f":"Singles!D204","v":471},{"$f":"Singles!E204","v":422},{"$f":"Singles!F204","v":414},{"$f":"Singles!G204","v":362},{"$f":"Singles!H204","v":292},{"$f":"Singles!I204","v":301},null,{"$f":"Singles!J11","v":2262},{"$f":"Singles!K11","v":292},{"$f":"Singles!L11","v":1970.0471422000001},null,null,null,null,null,null,null,null,null,null,null,null,null,null,null,null,null,null,null,null,null,null,null,null,null,null,null,null,null,null,null,null,"DIT CONDITIONAL FORMATTING FORMULA >","OR($AH7=Tables!$B$156,$AH7=Tables!$B$157,$AH7=Tables!$B$158,$AH7=Tables!$B$159,$AH7=Tables!$B$160,$AH7=Tables!$B$161,$AH7=Tables!$B$162,$AH7=Tables!$B$163,$AH7=Tables!$B$164,$AH7=Tables!$B$165,$AH7=Tables!$B$166,$AH7=Tables!$B$167,$AH7=Tables!$B$168,$AH7=Tables!$B$169,$AH7=Tables!$B$170,$AH7=Tables!$B$171,$AH7=Tables!$B$172,$AH7=Tables!$B$173,$AH7=Tables!$B$174,$AH7=Tables!$B$175,$AH7=Tables!$B$176)"]
[null,4,{"$f":"Singles!B203","v":"Edwin Ma"},{"$f":"Singles!C203","v":"DkIT"},{"$f":"Singles!D203","v":399},{"$f":"Singles!E203","v":464},{"$f":"Singles!F203","v":394},{"$f":"Singles!G203","v":323},{"$f":"Singles!H203","v":334},{"$f":"Singles!I203","v":350},null,{"$f":"Singles!J10","v":2264},{"$f":"Singles!K10","v":323},{"$f":"Singles!L10","v":1941.0464399},null,null,null,null,null,null,null,null,null,null,null,null,null,null,null,null,null,null,null,null,null,null,null,null,null,null,null,null,null,null,null,null,"DKIT CONDITIONAL FORMATTING FORMULA >","OR($AH7=Tables!$B$181,$AH7=Tables!$B$182,$AH7=Tables!$B$183,$AH7=Tables!$B$184,$AH7=Tables!$B$185,$AH7=Tables!$B$186,$AH7=Tables!$B$187,$AH7=Tables!$B$188,$AH7=Tables!$B$189,$AH7=Tables!$B$190,$AH7=Tables!$B$191,$AH7=Tables!$B$192,$AH7=Tables!$B$193,$AH7=Tables!$B$194,$AH7=Tables!$B$195,$AH7=Tables!$B$196,$AH7=Tables!$B$197,$AH7=Tables!$B$198,$AH7=Tables!$B$199,$AH7=Tables!$B$200,$AH7=Tables!$B$201)"]
[null,5,{"$f":"Singles!B207","v":"Mark Walsh"},{"$f":"Singles!C207","v":"NUIG"},{"$f":"Singles!D207","v":354},{"$f":"Singles!E207","v":394},{"$f":"Singles!F207","v":449},{"$f":"Singles!G207","v":355},{"$f":"Singles!H207","v":354},{"$f":"Singles!I207","v":0},null,{"$f":"Singles!J14","v":1906},{"$f":"Singles!K14","v":0},{"$f":"Singles!L14","v":1906.0449394000002},null,null,null,null,null,null,null,null,null,null,null,null,null,null,null,null,null,null,null,null,null,null,null,null,null,null,null,null,null,null,null,null,"DUAC CONDITIONAL FORMATTING FORMULA >","OR($AH7=Tables!$B$206,$AH7=Tables!$B$207,$AH7=Tables!$B$208,$AH7=Tables!$B$209,$AH7=Tables!$B$210,$AH7=Tables!$B$211,$AH7=Tables!$B$212,$AH7=Tables!$B$213,$AH7=Tables!$B$214,$AH7=Tables!$B$215,$AH7=Tables!$B$216,$AH7=Tables!$B$217,$AH7=Tables!$B$218,$AH7=Tables!$B$219,$AH7=Tables!$B$220,$AH7=Tables!$B$221,$AH7=Tables!$B$222,$AH7=Tables!$B$223,$AH7=Tables!$B$224,$AH7=Tables!$B$225,$AH7=Tables!$B$226)"]
[null,6,{"$f":"Singles!B205","v":"Keet Wai Hong"},{"$f":"Singles!C205","v":"DkIT"},{"$f":"Singles!D205","v":287},{"$f":"Singles!E205","v":402},{"$f":"Singles!F205","v":358},{"$f":"Singles!G205","v":339},{"$f":"Singles!H205","v":357},{"$f":"Singles!I205","v":355},null,{"$f":"Singles!J12","v":2098},{"$f":"Singles!K12","v":287},{"$f":"Singles!L12","v":1811.0402357999999},null,null,null,null,null,null,null,null,null,null,null,null,null,null,null,null,null,null,null,null,null,null,null,null,null,null,null,null,null,null,null,null,"GMIT CONDITIONAL FORMATTING FORMULA >","OR($AH7=Tables!$B$231,$AH7=Tables!$B$232,$AH7=Tables!$B$233,$AH7=Tables!$B$234,$AH7=Tables!$B$235,$AH7=Tables!$B$236,$AH7=Tables!$B$237,$AH7=Tables!$B$238,$AH7=Tables!$B$239,$AH7=Tables!$B$240,$AH7=Tables!$B$241,$AH7=Tables!$B$242,$AH7=Tables!$B$243,$AH7=Tables!$B$244,$AH7=Tables!$B$245,$AH7=Tables!$B$246,$AH7=Tables!$B$247,$AH7=Tables!$B$248,$AH7=Tables!$B$249,$AH7=Tables!$B$250,$AH7=Tables!$B$251)"]
[null,7,{"$f":"Singles!B206","v":"Yeo Eng Jet"},{"$f":"Singles!C206","v":"DkIT"},{"$f":"Singles!D206","v":465},{"$f":"Singles!E206","v":344},{"$f":"Singles!F206","v":350},{"$f":"Singles!G206","v":200},{"$f":"Singles!H206","v":228},{"$f":"Singles!I206","v":342},null,{"$f":"Singles!J13","v":1929},{"$f":"Singles!K13","v":200},{"$f":"Singles!L13","v":1729.0465349999999},null,null,null,null,null,null,null,null,null,null,null,null,null,null,null,null,null,null,null,null,null,null,null,null,null,null,null,null,null,null,null,null,"GMITC CONDITIONAL FORMATTING FORMULA >","OR($AH7=Tables!$B$256,$AH7=Tables!$B$257,$AH7=Tables!$B$258,$AH7=Tables!$B$259,$AH7=Tables!$B$260,$AH7=Tables!$B$261,$AH7=Tables!$B$262,$AH7=Tables!$B$263,$AH7=Tables!$B$264,$AH7=Tables!$B$265,$AH7=Tables!$B$266,$AH7=Tables!$B$267,$AH7=Tables!$B$268,$AH7=Tables!$B$269,$AH7=Tables!$B$270,$AH7=Tables!$B$271,$AH7=Tables!$B$272,$AH7=Tables!$B$273,$AH7=Tables!$B$274,$AH7=Tables!$B$275,$AH7=Tables!$B$276)"]
[null,8,{"$f":"Singles!B209","v":"sean Morrisey"},{"$f":"Singles!C209","v":"UL"},{"$f":"Singles!D209","v":391},{"$f":"Singles!E209","v":398},{"$f":"Singles!F209","v":507},{"$f":"Singles!G209","v":0},{"$f":"Singles!H209","v":0},{"$f":"Singles!I209","v":374},null,{"$f":"Singles!J16","v":1670},{"$f":"Singles!K16","v":0},{"$f":"Singles!L16","v":1670.0507398},null,null,null,null,null,null,null,null,null,null,null,null,null,null,null,null,null,null,null,null,null,null,null,null,null,null,null,null,null,null,null,null,"ITC CONDITIONAL FORMATTING FORMULA >","OR($AH7=Tables!$B$281,$AH7=Tables!$B$282,$AH7=Tables!$B$283,$AH7=Tables!$B$284,$AH7=Tables!$B$285,$AH7=Tables!$B$286,$AH7=Tables!$B$287,$AH7=Tables!$B$288,$AH7=Tables!$B$289,$AH7=Tables!$B$290,$AH7=Tables!$B$291,$AH7=Tables!$B$292,$AH7=Tables!$B$293,$AH7=Tables!$B$294,$AH7=Tables!$B$295,$AH7=Tables!$B$296,$AH7=Tables!$B$297,$AH7=Tables!$B$298,$AH7=Tables!$B$299,$AH7=Tables!$B$300,$AH7=Tables!$B$301)"]
[null,9,{"$f":"Singles!B208","v":"Colm McClelland"},{"$f":"Singles!C208","v":"DkIT"},{"$f":"Singles!D208","v":279},{"$f":"Singles!E208","v":342},{"$f":"Singles!F208","v":402},{"$f":"Singles!G208","v":244},{"$f":"Singles!H208","v":253},{"$f":"Singles!I208","v":336},null,{"$f":"Singles!J15","v":1856},{"$f":"Singles!K15","v":244},{"$f":"Singles!L15","v":1612.0402342},null,null,null,null,null,null,null,null,null,null,null,null,null,null,null,null,null,null,null,null,null,null,null,null,null,null,null,null,null,null,null,null,"ITT CONDITIONAL FORMATTING FORMULA >","OR($AH7=Tables!$B$306,$AH7=Tables!$B$307,$AH7=Tables!$B$308,$AH7=Tables!$B$309,$AH7=Tables!$B$310,$AH7=Tables!$B$311,$AH7=Tables!$B$312,$AH7=Tables!$B$313,$AH7=Tables!$B$314,$AH7=Tables!$B$315,$AH7=Tables!$B$316,$AH7=Tables!$B$317,$AH7=Tables!$B$318,$AH7=Tables!$B$319,$AH7=Tables!$B$320,$AH7=Tables!$B$321,$AH7=Tables!$B$322,$AH7=Tables!$B$323,$AH7=Tables!$B$324,$AH7=Tables!$B$325,$AH7=Tables!$B$326)"]
[null,10,{"$f":"Singles!B210","v":"Paul Coleman"},{"$f":"Singles!C210","v":"DCU"},{"$f":"Singles!D210","v":454},{"$f":"Singles!E210","v":372},{"$f":"Singles!F210","v":0},{"$f":"Singles!G210","v":0},{"$f":"Singles!H210","v":314},{"$f":"Singles!I210","v":375},null,{"$f":"Singles!J17","v":1515},{"$f":"Singles!K17","v":0},{"$f":"Singles!L17","v":1515.0454371999999},null,null,null,null,null,null,null,null,null,null,null,null,null,null,null,null,null,null,null,null,null,null,null,null,null,null,null,null,null,null,null,null,"MU CONDITIONAL FORMATTING FORMULA >","OR($AH7=Tables!$B$331,$AH7=Tables!$B$332,$AH7=Tables!$B$333,$AH7=Tables!$B$334,$AH7=Tables!$B$335,$AH7=Tables!$B$336,$AH7=Tables!$B$337,$AH7=Tables!$B$338,$AH7=Tables!$B$339,$AH7=Tables!$B$340,$AH7=Tables!$B$341,$AH7=Tables!$B$342,$AH7=Tables!$B$343,$AH7=Tables!$B$344,$AH7=Tables!$B$345,$AH7=Tables!$B$346,$AH7=Tables!$B$347,$AH7=Tables!$B$348,$AH7=Tables!$B$349,$AH7=Tables!$B$350,$AH7=Tables!$B$351)"]
[null,11,{"$f":"Singles!B211","v":"Eric Moore"},{"$f":"Singles!C211","v":"NUIG"},{"$f":"Singles!D211","v":0},{"$f":"Singles!E211","v":0},{"$f":"Singles!F211","v":315},{"$f":"Singles!G211","v":387},{"$f":"Singles!H211","v":343},{"$f":"Singles!I211","v":455},null,{"$f":"Singles!J18","v":1500},{"$f":"Singles!K18","v":0},{"$f":"Singles!L18","v":1500.0387343},null,null,null,null,null,null,null,null,null,null,null,null,null,null,null,null,null,null,null,null,null,null,null,null,null,null,null,null,null,null,null,null,"NCAD CONDITIONAL FORMATTING FORMULA >","OR($AH7=Tables!$B$356,$AH7=Tables!$B$357,$AH7=Tables!$B$358,$AH7=Tables!$B$359,$AH7=Tables!$B$360,$AH7=Tables!$B$361,$AH7=Tables!$B$362,$AH7=Tables!$B$363,$AH7=Tables!$B$364,$AH7=Tables!$B$365,$AH7=Tables!$B$366,$AH7=Tables!$B$367,$AH7=Tables!$B$368,$AH7=Tables!$B$369,$AH7=Tables!$B$370,$AH7=Tables!$B$371,$AH7=Tables!$B$372,$AH7=Tables!$B$373,$AH7=Tables!$B$374,$AH7=Tables!$B$375,$AH7=Tables!$B$376)"]
[null,12,{"$f":"Singles!B212","v":"Zul Farhan"},{"$f":"Singles!C212","v":"UCD"},{"$f":"Singles!D212","v":399},{"$f":"Singles!E212","v":426},{"$f":"Singles!F212","v":0},{"$f":"Singles!G212","v":312},{"$f":"Singles!H212","v":0},{"$f":"Singles!I212","v":355},null,{"$f":"Singles!J19","v":1492},{"$f":"Singles!K19","v":0},{"$f":"Singles!L19","v":1492.0426399},null,null,null,null,null,null,null,null,null,null,null,null,null,null,null,null,null,null,null,null,null,null,null,null,null,null,null,null,null,null,null,null,"NUIG CONDITIONAL FORMATTING FORMULA >","OR($AH7=Tables!$B$381,$AH7=Tables!$B$382,$AH7=Tables!$B$383,$AH7=Tables!$B$384,$AH7=Tables!$B$385,$AH7=Tables!$B$386,$AH7=Tables!$B$387,$AH7=Tables!$B$388,$AH7=Tables!$B$389,$AH7=Tables!$B$390,$AH7=Tables!$B$391,$AH7=Tables!$B$392,$AH7=Tables!$B$393,$AH7=Tables!$B$394,$AH7=Tables!$B$395,$AH7=Tables!$B$396,$AH7=Tables!$B$397,$AH7=Tables!$B$398,$AH7=Tables!$B$399,$AH7=Tables!$B$400,$AH7=Tables!$B$401)"]
[null,13,{"$f":"Singles!B213","v":"Shane McGloin"},{"$f":"Singles!C213","v":"GMIT"},{"$f":"Singles!D213","v":0},{"$f":"Singles!E213","v":0},{"$f":"Singles!F213","v":325},{"$f":"Singles!G213","v":373},{"$f":"Singles!H213","v":428},{"$f":"Singles!I213","v":361},null,{"$f":"Singles!J20","v":1487},{"$f":"Singles!K20","v":0},{"$f":"Singles!L20","v":1487.0428373},null,null,null,null,null,null,null,null,null,null,null,null,null,null,null,null,null,null,null,null,null,null,null,null,null,null,null,null,null,null,null,null,"RCSI CONDITIONAL FORMATTING FORMULA >","OR($AH7=Tables!$B$406,$AH7=Tables!$B$407,$AH7=Tables!$B$408,$AH7=Tables!$B$409,$AH7=Tables!$B$410,$AH7=Tables!$B$411,$AH7=Tables!$B$412,$AH7=Tables!$B$413,$AH7=Tables!$B$414,$AH7=Tables!$B$415,$AH7=Tables!$B$416,$AH7=Tables!$B$417,$AH7=Tables!$B$418,$AH7=Tables!$B$419,$AH7=Tables!$B$420,$AH7=Tables!$B$421,$AH7=Tables!$B$422,$AH7=Tables!$B$423,$AH7=Tables!$B$424,$AH7=Tables!$B$425,$AH7=Tables!$B$426)"]
[null,14,{"$f":"Singles!B214","v":"Max Klein"},{"$f":"Singles!C214","v":"NUIM"},{"$f":"Singles!D214","v":462},{"$f":"Singles!E214","v":0},{"$f":"Singles!F214","v":272},{"$f":"Singles!G214","v":384},{"$f":"Singles!H214","v":363},{"$f":"Singles!I214","v":0},null,{"$f":"Singles!J21","v":1481},{"$f":"Singles!K21","v":0},{"$f":"Singles!L21","v":1481.0462384},null,null,null,null,null,null,null,null,null,null,null,null,null,null,null,null,null,null,null,null,null,null,null,null,null,null,null,null,null,null,null,null,"UCC CONDITIONAL FORMATTING FORMULA >","OR($AH7=Tables!$B$431,$AH7=Tables!$B$432,$AH7=Tables!$B$433,$AH7=Tables!$B$434,$AH7=Tables!$B$435,$AH7=Tables!$B$436,$AH7=Tables!$B$437,$AH7=Tables!$B$438,$AH7=Tables!$B$439,$AH7=Tables!$B$440,$AH7=Tables!$B$441,$AH7=Tables!$B$442,$AH7=Tables!$B$443,$AH7=Tables!$B$444,$AH7=Tables!$B$445,$AH7=Tables!$B$446,$AH7=Tables!$B$447,$AH7=Tables!$B$448,$AH7=Tables!$B$449,$AH7=Tables!$B$450,$AH7=Tables!$B$451)"]
[null,15,{"$f":"Singles!B215","v":"Thomas Kear"},{"$f":"Singles!C215","v":"NUIG"},{"$f":"Singles!D215","v":0},{"$f":"Singles!E215","v":337},{"$f":"Singles!F215","v":180},{"$f":"Singles!G215","v":365},{"$f":"Singles!H215","v":298},{"$f":"Singles!I215","v":279},null,{"$f":"Singles!J22","v":1459},{"$f":"Singles!K22","v":0},{"$f":"Singles!L22","v":1459.0365336999998},null,null,null,null,null,null,null,null,null,null,null,null,null,null,null,null,null,null,null,null,"Thomas Kear",null,null,null,null,null,null,null,null,null,null,null,"UCD CONDITIONAL FORMATTING FORMULA >","OR($AH7=Tables!$B$456,$AH7=Tables!$B$457,$AH7=Tables!$B$458,$AH7=Tables!$B$459,$AH7=Tables!$B$460,$AH7=Tables!$B$461,$AH7=Tables!$B$462,$AH7=Tables!$B$463,$AH7=Tables!$B$464,$AH7=Tables!$B$465,$AH7=Tables!$B$466,$AH7=Tables!$B$467,$AH7=Tables!$B$468,$AH7=Tables!$B$469,$AH7=Tables!$B$470,$AH7=Tables!$B$471,$AH7=Tables!$B$472,$AH7=Tables!$B$473,$AH7=Tables!$B$474,$AH7=Tables!$B$475,$AH7=Tables!$B$476)"]
[null,16,{"$f":"Singles!B216","v":"Eoin Hinkson"},{"$f":"Singles!C216","v":"UCD"},{"$f":"Singles!D216","v":313},{"$f":"Singles!E216","v":270},{"$f":"Singles!F216","v":456},{"$f":"Singles!G216","v":0},{"$f":"Singles!H216","v":0},{"$f":"Singles!I216","v":400},null,{"$f":"Singles!J23","v":1439},{"$f":"Singles!K23","v":0},{"$f":"Singles!L23","v":1439.0456313},null,null,null,null,null,null,null,null,null,null,null,null,null,null,null,null,null,null,null,null,"Eoin Hinkson",null,null,null,null,null,null,null,null,null,null,null,"UL CONDITIONAL FORMATTING FORMULA >","OR($AH7=Tables!$B$481,$AH7=Tables!$B$482,$AH7=Tables!$B$483,$AH7=Tables!$B$484,$AH7=Tables!$B$485,$AH7=Tables!$B$486,$AH7=Tables!$B$487,$AH7=Tables!$B$488,$AH7=Tables!$B$489,$AH7=Tables!$B$490,$AH7=Tables!$B$491,$AH7=Tables!$B$492,$AH7=Tables!$B$493,$AH7=Tables!$B$494,$AH7=Tables!$B$495,$AH7=Tables!$B$496,$AH7=Tables!$B$497,$AH7=Tables!$B$498,$AH7=Tables!$B$499,$AH7=Tables!$B$500,$AH7=Tables!$B$501)"]
[null,17,{"$f":"Singles!B217","v":"John Power"},{"$f":"Singles!C217","v":"NUIM"},{"$f":"Singles!D217","v":523},{"$f":"Singles!E217","v":464},{"$f":"Singles!F217","v":419},{"$f":"Singles!G217","v":0},{"$f":"Singles!H217","v":0},{"$f":"Singles!I217","v":0},null,{"$f":"Singles!J24","v":1406},{"$f":"Singles!K24","v":0},{"$f":"Singles!L24","v":1406.0523464},null,null,null,null,null,null,null,null,null,null,null,null,null,null,null,null,null,null,null,null,"John Power",null,null,null,null,null,null,null,null,null,null,null,"UU CONDITIONAL FORMATTING FORMULA >","OR($AH7=Tables!$B$506,$AH7=Tables!$B$507,$AH7=Tables!$B$508,$AH7=Tables!$B$509,$AH7=Tables!$B$510,$AH7=Tables!$B$511,$AH7=Tables!$B$512,$AH7=Tables!$B$513,$AH7=Tables!$B$514,$AH7=Tables!$B$515,$AH7=Tables!$B$516,$AH7=Tables!$B$517,$AH7=Tables!$B$518,$AH7=Tables!$B$519,$AH7=Tables!$B$520,$AH7=Tables!$B$521,$AH7=Tables!$B$522,$AH7=Tables!$B$523,$AH7=Tables!$B$524,$AH7=Tables!$B$525,$AH7=Tables!$B$526)"]
[null,18,{"$f":"Singles!B218","v":"Leo Byrne"},{"$f":"Singles!C218","v":"ITC"},{"$f":"Singles!D218","v":0},{"$f":"Singles!E218","v":0},{"$f":"Singles!F218","v":304},{"$f":"Singles!G218","v":313},{"$f":"Singles!H218","v":337},{"$f":"Singles!I218","v":399},null,{"$f":"Singles!J25","v":1353},{"$f":"Singles!K25","v":0},{"$f":"Singles!L25","v":1353.0337313},null,null,null,null,null,null,null,null,null,null,null,null,null,null,null,null,null,null,null,null,"Leo Byrne",null,null,null,null,null,null,null,null,null,null,null,"WIT CONDITIONAL FORMATTING FORMULA >","OR($AH7=Tables!$B$531,$AH7=Tables!$B$532,$AH7=Tables!$B$533,$AH7=Tables!$B$534,$AH7=Tables!$B$535,$AH7=Tables!$B$536,$AH7=Tables!$B$537,$AH7=Tables!$B$538,$AH7=Tables!$B$539,$AH7=Tables!$B$540,$AH7=Tables!$B$541,$AH7=Tables!$B$542,$AH7=Tables!$B$543,$AH7=Tables!$B$544,$AH7=Tables!$B$545,$AH7=Tables!$B$546,$AH7=Tables!$B$547,$AH7=Tables!$B$548,$AH7=Tables!$B$549,$AH7=Tables!$B$550,$AH7=Tables!$B$551)"]
[null,19,{"$f":"Singles!B219","v":"Lukasz wrobel"},{"$f":"Singles!C219","v":"GMIT"},{"$f":"Singles!D219","v":346},{"$f":"Singles!E219","v":0},{"$f":"Singles!F219","v":424},{"$f":"Singles!G219","v":225},{"$f":"Singles!H219","v":286},{"$f":"Singles!I219","v":0},null,{"$f":"Singles!J26","v":1281},{"$f":"Singles!K26","v":0},{"$f":"Singles!L26","v":1281.0424346},null,null,null,null,null,null,null,null,null,null,null,null,null,null,null,null,null,null,null,null,"Lukasz wrobel",null,null,null,null,null,null,null,null,null,null,null,"AAA CONDITIONAL FORMATTING FORMULA >","OR($AH7=Tables!$B$1151,$AH7=Tables!$B$1152,$AH7=Tables!$B$1153,$AH7=Tables!$B$1154,$AH7=Tables!$B$1155,$AH7=Tables!$B$1156,$AH7=Tables!$B$1157,$AH7=Tables!$B$1158,$AH7=Tables!$B$1159,$AH7=Tables!$B$1160,$AH7=Tables!$B$1161,$AH7=Tables!$B$1162,$AH7=Tables!$B$1163,$AH7=Tables!$B$1164,$AH7=Tables!$B$1165,$AH7=Tables!$B$1166,$AH7=Tables!$B$1167,$AH7=Tables!$B$1168,$AH7=Tables!$B$1169,$AH7=Tables!$B$1170,$AH7=Tables!$B$1171)"]
[null,20,{"$f":"Singles!B220","v":"Darren Ng"},{"$f":"Singles!C220","v":"UCD"},{"$f":"Singles!D220","v":0},{"$f":"Singles!E220","v":391},{"$f":"Singles!F220","v":457},{"$f":"Singles!G220","v":0},{"$f":"Singles!H220","v":0},{"$f":"Singles!I220","v":418},null,{"$f":"Singles!J27","v":1266},{"$f":"Singles!K27","v":0},{"$f":"Singles!L27","v":1266.0457391},null,null,null,null,null,null,null,null,null,null,null,null,null,null,null,null,null,null,null,null,"Darren Ng",null,null,null,null,null,null,null,null,null,null,null,"BBB CONDITIONAL FORMATTING FORMULA >","OR($AH7=Tables!$B$1176,$AH7=Tables!$B$1177,$AH7=Tables!$B$1178,$AH7=Tables!$B$1179,$AH7=Tables!$B$1180,$AH7=Tables!$B$1181,$AH7=Tables!$B$1182,$AH7=Tables!$B$1183,$AH7=Tables!$B$1184,$AH7=Tables!$B$1185,$AH7=Tables!$B$1186,$AH7=Tables!$B$1187,$AH7=Tables!$B$1188,$AH7=Tables!$B$1189,$AH7=Tables!$B$1190,$AH7=Tables!$B$1191,$AH7=Tables!$B$1192,$AH7=Tables!$B$1193,$AH7=Tables!$B$1194,$AH7=Tables!$B$1195,$AH7=Tables!$B$1196)"]
[null,21,{"$f":"Singles!B221","v":"Paul Murphy"},{"$f":"Singles!C221","v":"UL"},{"$f":"Singles!D221","v":470},{"$f":"Singles!E221","v":0},{"$f":"Singles!F221","v":0},{"$f":"Singles!G221","v":321},{"$f":"Singles!H221","v":0},{"$f":"Singles!I221","v":424},null,{"$f":"Singles!J28","v":1215},{"$f":"Singles!K28","v":0},{"$f":"Singles!L28","v":1215.0470321},null,null,null,null,null,null,null,null,null,null,null,null,null,null,null,null,null,null,null,null,"Paul Murphy",null,null,null,null,null,null,null,null,null,null,null,"CCC CONDITIONAL FORMATTING FORMULA >","OR($AH7=Tables!$B$1201,$AH7=Tables!$B$1202,$AH7=Tables!$B$1203,$AH7=Tables!$B$1204,$AH7=Tables!$B$1205,$AH7=Tables!$B$1206,$AH7=Tables!$B$1207,$AH7=Tables!$B$1208,$AH7=Tables!$B$1209,$AH7=Tables!$B$1210,$AH7=Tables!$B$1211,$AH7=Tables!$B$1212,$AH7=Tables!$B$1213,$AH7=Tables!$B$1214,$AH7=Tables!$B$1215,$AH7=Tables!$B$1216,$AH7=Tables!$B$1217,$AH7=Tables!$B$1218,$AH7=Tables!$B$1219,$AH7=Tables!$B$1220,$AH7=Tables!$B$1221)"]
[null,22,{"$f":"Singles!B222","v":"Mark Kearns"},{"$f":"Singles!C222","v":"NUIM"},{"$f":"Singles!D222","v":417},{"$f":"Singles!E222","v":363},{"$f":"Singles!F222","v":0},{"$f":"Singles!G222","v":386},{"$f":"Singles!H222","v":0},{"$f":"Singles!I222","v":0},null,{"$f":"Singles!J29","v":1166},{"$f":"Singles!K29","v":0},{"$f":"Singles!L29","v":1166.0417385999999},null,null,null,null,null,null,null,null,null,null,null,null,null,null,null,null,null,null,null,null,"Mark Kearns",null,null,null,null,null,null,null,null,null,null,null,"DDD CONDITIONAL FORMATTING FORMULA >","OR($AH7=Tables!$B$1226,$AH7=Tables!$B$1227,$AH7=Tables!$B$1228,$AH7=Tables!$B$1229,$AH7=Tables!$B$1230,$AH7=Tables!$B$1231,$AH7=Tables!$B$1232,$AH7=Tables!$B$1233,$AH7=Tables!$B$1234,$AH7=Tables!$B$1235,$AH7=Tables!$B$1236,$AH7=Tables!$B$1237,$AH7=Tables!$B$1238,$AH7=Tables!$B$1239,$AH7=Tables!$B$1240,$AH7=Tables!$B$1241,$AH7=Tables!$B$1242,$AH7=Tables!$B$1243,$AH7=Tables!$B$1244,$AH7=Tables!$B$1245,$AH7=Tables!$B$1246)"]
[null,23,{"$f":"Singles!B223","v":"Graham Buckley"},{"$f":"Singles!C223","v":"DIT"},{"$f":"Singles!D223","v":0},{"$f":"Singles!E223","v":0},{"$f":"Singles!F223","v":437},{"$f":"Singles!G223","v":0},{"$f":"Singles!H223","v":366},{"$f":"Singles!I223","v":340},null,{"$f":"Singles!J30","v":1143},{"$f":"Singles!K30","v":0},{"$f":"Singles!L30","v":1143.0437365999999},null,null,null,null,null,null,null,null,null,null,null,null,null,null,null,null,null,null,null,null,"Graham Buckley",null,null,null,null,null,null,null,null,null,null,null,"EEE CONDITIONAL FORMATTING FORMULA >","OR($AH7=Tables!$B$1251,$AH7=Tables!$B$1252,$AH7=Tables!$B$1253,$AH7=Tables!$B$1254,$AH7=Tables!$B$1255,$AH7=Tables!$B$1256,$AH7=Tables!$B$1257,$AH7=Tables!$B$1258,$AH7=Tables!$B$1259,$AH7=Tables!$B$1260,$AH7=Tables!$B$1261,$AH7=Tables!$B$1262,$AH7=Tables!$B$1263,$AH7=Tables!$B$1264,$AH7=Tables!$B$1265,$AH7=Tables!$B$1266,$AH7=Tables!$B$1267,$AH7=Tables!$B$1268,$AH7=Tables!$B$1269,$AH7=Tables!$B$1270,$AH7=Tables!$B$1271)"]
[null,24,{"$f":"Singles!B224","v":"Conor dePaor"},{"$f":"Singles!C224","v":"UCD"},{"$f":"Singles!D224","v":0},{"$f":"Singles!E224","v":0},{"$f":"Singles!F224","v":0},{"$f":"Singles!G224","v":415},{"$f":"Singles!H224","v":366},{"$f":"Singles!I224","v":276},null,{"$f":"Singles!J31","v":1057},{"$f":"Singles!K31","v":0},{"$f":"Singles!L31","v":1057.0415366},null,null,null,null,null,null,null,null,null,null,null,null,null,null,null,null,null,null,null,null,"Conor dePaor"]
[null,25,{"$f":"Singles!B225","v":"Tan Shu leed"},{"$f":"Singles!C225","v":"RCSI"},{"$f":"Singles!D225","v":0},{"$f":"Singles!E225","v":282},{"$f":"Singles!F225","v":0},{"$f":"Singles!G225","v":0},{"$f":"Singles!H225","v":366},{"$f":"Singles!I225","v":407},null,{"$f":"Singles!J32","v":1055},{"$f":"Singles!K32","v":0},{"$f":"Singles!L32","v":1055.0366282},null,null,null,null,null,null,null,null,null,null,null,null,null,null,null,null,null,null,null,null,"Tan Shu leed"]
[null,26,{"$f":"Singles!B226","v":"Conor Moran"},{"$f":"Singles!C226","v":"UL"},{"$f":"Singles!D226","v":391},{"$f":"Singles!E226","v":401},{"$f":"Singles!F226","v":0},{"$f":"Singles!G226","v":230},{"$f":"Singles!H226","v":0},{"$f":"Singles!I226","v":0},null,{"$f":"Singles!J33","v":1022},{"$f":"Singles!K33","v":0},{"$f":"Singles!L33","v":1022.0401391},null,null,null,null,null,null,null,null,null,null,null,null,null,null,null,null,null,null,null,null,"Conor Moran"]
[null,27,{"$f":"Singles!B227","v":"Muhammad Hakim Mohd Nasir"},{"$f":"Singles!C227","v":"RCSI"},{"$f":"Singles!D227","v":224},{"$f":"Singles!E227","v":239},{"$f":"Singles!F227","v":0},{"$f":"Singles!G227","v":444},{"$f":"Singles!H227","v":0},{"$f":"Singles!I227","v":114},null,{"$f":"Singles!J34","v":1021},{"$f":"Singles!K34","v":0},{"$f":"Singles!L34","v":1021.0444239},null,null,null,null,null,null,null,null,null,null,null,null,null,null,null,null,null,null,null,null,"Muhammad Hakim Mohd Nasir"]
[null,28,{"$f":"Singles!B228","v":"Ronan Walsh"},{"$f":"Singles!C228","v":"UCD"},{"$f":"Singles!D228","v":0},{"$f":"Singles!E228","v":268},{"$f":"Singles!F228","v":247},{"$f":"Singles!G228","v":0},{"$f":"Singles!H228","v":0},{"$f":"Singles!I228","v":469},null,{"$f":"Singles!J35","v":984},{"$f":"Singles!K35","v":0},{"$f":"Singles!L35","v":984.02682470000002},null,null,null,null,null,null,null,null,null,null,null,null,null,null,null,null,null,null,null,null,"Ronan Walsh"]
[null,29,{"$f":"Singles!B229","v":"Gary Cooney"},{"$f":"Singles!C229","v":"DCU"},{"$f":"Singles!D229","v":516},{"$f":"Singles!E229","v":449},{"$f":"Singles!F229","v":0},{"$f":"Singles!G229","v":0},{"$f":"Singles!H229","v":0},{"$f":"Singles!I229","v":0},null,{"$f":"Singles!J36","v":965},{"$f":"Singles!K36","v":0},{"$f":"Singles!L36","v":965.05164490000004},null,null,null,null,null,null,null,null,null,null,null,null,null,null,null,null,null,null,null,null,"Gary Cooney"]
[null,30,{"$f":"Singles!B230","v":"Sam Schultz"},{"$f":"Singles!C230","v":"NUIG"},{"$f":"Singles!D230","v":486},{"$f":"Singles!E230","v":435},{"$f":"Singles!F230","v":0},{"$f":"Singles!G230","v":0},{"$f":"Singles!H230","v":0},{"$f":"Singles!I230","v":0},null,{"$f":"Singles!J37","v":921},{"$f":"Singles!K37","v":0},{"$f":"Singles!L37","v":921.04864349999991},null,null,null,null,null,null,null,null,null,null,null,null,null,null,null,null,null,null,null,null,"Sam Schultz"]
[null,31,{"$f":"Singles!B231","v":"Muhammad Izrin Syukri Mohd Nasri"},{"$f":"Singles!C231","v":"RCSI"},{"$f":"Singles!D231","v":0},{"$f":"Singles!E231","v":240},{"$f":"Singles!F231","v":0},{"$f":"Singles!G231","v":0},{"$f":"Singles!H231","v":282},{"$f":"Singles!I231","v":382},null,{"$f":"Singles!J38","v":904},{"$f":"Singles!K38","v":0},{"$f":"Singles!L38","v":904.02822400000002},null,null,null,null,null,null,null,null,null,null,null,null,null,null,null,null,null,null,null,null,"Muhammad Izrin Syukri Mohd Nasri"]
[null,32,{"$f":"Singles!B232","v":"Paul Ferguson"},{"$f":"Singles!C232","v":"IT Tallaght"},{"$f":"Singles!D232","v":0},{"$f":"Singles!E232","v":0},{"$f":"Singles!F232","v":0},{"$f":"Singles!G232","v":480},{"$f":"Singles!H232","v":0},{"$f":"Singles!I232","v":423},null,{"$f":"Singles!J39","v":903},{"$f":"Singles!K39","v":0},{"$f":"Singles!L39","v":903.048},null,null,null,null,null,null,null,null,null,null,null,null,null,null,null,null,null,null,null,null,"Paul Ferguson"]
[null,33,{"$f":"Singles!B233","v":"geoffrey doorbosch"},{"$f":"Singles!C233","v":"UL"},{"$f":"Singles!D233","v":446},{"$f":"Singles!E233","v":438},{"$f":"Singles!F233","v":0},{"$f":"Singles!G233","v":0},{"$f":"Singles!H233","v":0},{"$f":"Singles!I233","v":0},null,{"$f":"Singles!J40","v":884},{"$f":"Singles!K40","v":0},{"$f":"Singles!L40","v":884.0446437999999},null,null,null,null,null,null,null,null,null,null,null,null,null,null,null,null,null,null,null,null,{"$f":"C39","v":"geoffrey doorbosch"}]
[null,34,{"$f":"Singles!B234","v":"Omar Mustafa"},{"$f":"Singles!C234","v":"NUIG"},{"$f":"Singles!D234","v":414},{"$f":"Singles!E234","v":386},{"$f":"Singles!F234","v":0},{"$f":"Singles!G234","v":0},{"$f":"Singles!H234","v":0},{"$f":"Singles!I234","v":0},null,{"$f":"Singles!J41","v":800},{"$f":"Singles!K41","v":0},{"$f":"Singles!L41","v":800.04143859999999},null,null,null,null,null,null,null,null,null,null,null,null,null,null,null,null,null,null,null,null,"Omar Mustafa"]
[null,35,{"$f":"Singles!B235","v":"Richard Jeffery"},{"$f":"Singles!C235","v":"NUIG"},{"$f":"Singles!D235","v":0},{"$f":"Singles!E235","v":436},{"$f":"Singles!F235","v":304},{"$f":"Singles!G235","v":0},{"$f":"Singles!H235","v":0},{"$f":"Singles!I235","v":0},null,{"$f":"Singles!J42","v":740},{"$f":"Singles!K42","v":0},{"$f":"Singles!L42","v":740.04363039999998},null,null,null,null,null,null,null,null,null,null,null,null,null,null,null,null,null,null,null,null,"Richard Jeffery"]
[null,36,{"$f":"Singles!B236","v":"Brendan Burke"},{"$f":"Singles!C236","v":"NUIM"},{"$f":"Singles!D236","v":0},{"$f":"Singles!E236","v":0},{"$f":"Singles!F236","v":0},{"$f":"Singles!G236","v":344},{"$f":"Singles!H236","v":0},{"$f":"Singles!I236","v":370},null,{"$f":"Singles!J43","v":714},{"$f":"Singles!K43","v":0},{"$f":"Singles!L43","v":714.03440000000001},null,null,null,null,null,null,null,null,null,null,null,null,null,null,null,null,null,null,null,null,"Brendan Burke"]
[null,37,{"$f":"Singles!B237","v":"Paul Connolly"},{"$f":"Singles!C237","v":"NUIG"},{"$f":"Singles!D237","v":0},{"$f":"Singles!E237","v":0},{"$f":"Singles!F237","v":0},{"$f":"Singles!G237","v":259},{"$f":"Singles!H237","v":0},{"$f":"Singles!I237","v":375},null,{"$f":"Singles!J44","v":634},{"$f":"Singles!K44","v":0},{"$f":"Singles!L44","v":634.02589999999998},null,null,null,null,null,null,null,null,null,null,null,null,null,null,null,null,null,null,null,null,"Paul Connolly"]
[null,38,{"$f":"Singles!B238","v":"Eric Brown"},{"$f":"Singles!C238","v":"UCD"},{"$f":"Singles!D238","v":0},{"$f":"Singles!E238","v":484},{"$f":"Singles!F238","v":0},{"$f":"Singles!G238","v":0},{"$f":"Singles!H238","v":0},{"$f":"Singles!I238","v":0},null,{"$f":"Singles!J45","v":484},{"$f":"Singles!K45","v":0},{"$f":"Singles!L45","v":484.04840000000002},null,null,null,null,null,null,null,null,null,null,null,null,null,null,null,null,null,null,null,null,"Eric Brown"]
[null,39,{"$f":"Singles!B239","v":"Cian Aherne"},{"$f":"Singles!C239","v":"UCD"},{"$f":"Singles!D239","v":0},{"$f":"Singles!E239","v":233},{"$f":"Singles!F239","v":244},{"$f":"Singles!G239","v":0},{"$f":"Singles!H239","v":0},{"$f":"Singles!I239","v":0},null,{"$f":"Singles!J46","v":477},{"$f":"Singles!K46","v":0},{"$f":"Singles!L46","v":477.02442330000002},null,null,null,null,null,null,null,null,null,null,null,null,null,null,null,null,null,null,null,null,"Cian Aherne"]
[null,40,{"$f":"Singles!B240","v":"danny neill"},{"$f":"Singles!C240","v":"UL"},{"$f":"Singles!D240","v":462},{"$f":"Singles!E240","v":0},{"$f":"Singles!F240","v":0},{"$f":"Singles!G240","v":0},{"$f":"Singles!H240","v":0},{"$f":"Singles!I240","v":0},null,{"$f":"Singles!J47","v":462},{"$f":"Singles!K47","v":0},{"$f":"Singles!L47","v":462.0462},null,null,null,null,null,null,null,null,null,null,null,null,null,null,null,null,null,null,null,null,"danny neill"]
[null,41,{"$f":"Singles!B241","v":"Davy Shaw"},{"$f":"Singles!C241","v":"UCD"},{"$f":"Singles!D241","v":0},{"$f":"Singles!E241","v":263},{"$f":"Singles!F241","v":187},{"$f":"Singles!G241","v":0},{"$f":"Singles!H241","v":0},{"$f":"Singles!I241","v":0},null,{"$f":"Singles!J48","v":450},{"$f":"Singles!K48","v":0},{"$f":"Singles!L48","v":450.02631869999999},null,null,null,null,null,null,null,null,null,null,null,null,null,null,null,null,null,null,null,null,"Davy Shaw"]
[null,42,{"$f":"Singles!B242","v":"Pavle Barbaric"},{"$f":"Singles!C242","v":"NUIM"},{"$f":"Singles!D242","v":0},{"$f":"Singles!E242","v":445},{"$f":"Singles!F242","v":0},{"$f":"Singles!G242","v":0},{"$f":"Singles!H242","v":0},{"$f":"Singles!I242","v":0},null,{"$f":"Singles!J49","v":445},{"$f":"Singles!K49","v":0},{"$f":"Singles!L49","v":445.04450000000003},null,null,null,null,null,null,null,null,null,null,null,null,null,null,null,null,null,null,null,null,"Pavle Barbaric"]
[null,43,{"$f":"Singles!B243","v":"James Greer"},{"$f":"Singles!C243","v":"UCD"},{"$f":"Singles!D243","v":0},{"$f":"Singles!E243","v":0},{"$f":"Singles!F243","v":0},{"$f":"Singles!G243","v":0},{"$f":"Singles!H243","v":429},{"$f":"Singles!I243","v":0},null,{"$f":"Singles!J50","v":429},{"$f":"Singles!K50","v":0},{"$f":"Singles!L50","v":429.04289999999997},null,null,null,null,null,null,null,null,null,null,null,null,null,null,null,null,null,null,null,null,"James Greer"]
[null,44,{"$f":"Singles!B244","v":"Alan Boylan"},{"$f":"Singles!C244","v":"DIT"},{"$f":"Singles!D244","v":421},{"$f":"Singles!E244","v":0},{"$f":"Singles!F244","v":0},{"$f":"Singles!G244","v":0},{"$f":"Singles!H244","v":0},{"$f":"Singles!I244","v":0},null,{"$f":"Singles!J51","v":421},{"$f":"Singles!K51","v":0},{"$f":"Singles!L51","v":421.0421},null,null,null,null,null,null,null,null,null,null,null,null,null,null,null,null,null,null,null,null,"Alan Boylan"]
[null,45,{"$f":"Singles!B245","v":"Tengku Nazim Tengku Yusof"},{"$f":"Singles!C245","v":"RCSI"},{"$f":"Singles!D245","v":0},{"$f":"Singles!E245","v":0},{"$f":"Singles!F245","v":0},{"$f":"Singles!G245","v":248},{"$f":"Singles!H245","v":159},{"$f":"Singles!I245","v":0},null,{"$f":"Singles!J52","v":407},{"$f":"Singles!K52","v":0},{"$f":"Singles!L52","v":407.02481590000002},null,null,null,null,null,null,null,null,null,null,null,null,null,null,null,null,null,null,null,null,"Tengku Nazim Tengku Yusof"]
[null,46,{"$f":"Singles!B246","v":"Mark McGrane"},{"$f":"Singles!C246","v":"UCD"},{"$f":"Singles!D246","v":185},{"$f":"Singles!E246","v":204},{"$f":"Singles!F246","v":0},{"$f":"Singles!G246","v":0},{"$f":"Singles!H246","v":0},{"$f":"Singles!I246","v":0},null,{"$f":"Singles!J53","v":389},{"$f":"Singles!K53","v":0},{"$f":"Singles!L53","v":389.02041850000001},null,null,null,null,null,null,null,null,null,null,null,null,null,null,null,null,null,null,null,null,"Mark McGrane"]
[null,47,{"$f":"Singles!B247","v":"Daniel Sinnott"},{"$f":"Singles!C247","v":"UCD"},{"$f":"Singles!D247","v":383},{"$f":"Singles!E247","v":0},{"$f":"Singles!F247","v":0},{"$f":"Singles!G247","v":0},{"$f":"Singles!H247","v":0},{"$f":"Singles!I247","v":0},null,{"$f":"Singles!J54","v":383},{"$f":"Singles!K54","v":0},{"$f":"Singles!L54","v":383.03829999999999},null,null,null,null,null,null,null,null,null,null,null,null,null,null,null,null,null,null,null,null,"Daniel Sinnott"]
[null,48,{"$f":"Singles!B248","v":"Robin Collins"},{"$f":"Singles!C248","v":"DIT"},{"$f":"Singles!D248","v":0},{"$f":"Singles!E248","v":372},{"$f":"Singles!F248","v":0},{"$f":"Singles!G248","v":0},{"$f":"Singles!H248","v":0},{"$f":"Singles!I248","v":0},null,{"$f":"Singles!J55","v":372},{"$f":"Singles!K55","v":0},{"$f":"Singles!L55","v":372.03719999999998},null,null,null,null,null,null,null,null,null,null,null,null,null,null,null,null,null,null,null,null,"Robin Collins"]
[null,49,{"$f":"Singles!B249","v":"Fahad Alabdullatif"},{"$f":"Singles!C249","v":"RCSI"},{"$f":"Singles!D249","v":0},{"$f":"Singles!E249","v":0},{"$f":"Singles!F249","v":0},{"$f":"Singles!G249","v":371},{"$f":"Singles!H249","v":0},{"$f":"Singles!I249","v":0},null,{"$f":"Singles!J56","v":371},{"$f":"Singles!K56","v":0},{"$f":"Singles!L56","v":371.03710000000001},null,null,null,null,null,null,null,null,null,null,null,null,null,null,null,null,null,null,null,null,"Fahad Alabdullatif"]
[null,50,{"$f":"Singles!B250","v":"Artem Eremin"},{"$f":"Singles!C250","v":"DIT"},{"$f":"Singles!D250","v":0},{"$f":"Singles!E250","v":0},{"$f":"Singles!F250","v":0},{"$f":"Singles!G250","v":0},{"$f":"Singles!H250","v":365},{"$f":"Singles!I250","v":0},null,{"$f":"Singles!J57","v":365},{"$f":"Singles!K57","v":0},{"$f":"Singles!L57","v":365.03649999999999},null,null,null,null,null,null,null,null,null,null,null,null,null,null,null,null,null,null,null,null,"Artem Eremin"]
[null,51,{"$f":"Singles!B251","v":"Ruaidhri"},{"$f":"Singles!C251","v":"UCD"},{"$f":"Singles!D251","v":0},{"$f":"Singles!E251","v":360},{"$f":"Singles!F251","v":0},{"$f":"Singles!G251","v":0},{"$f":"Singles!H251","v":0},{"$f":"Singles!I251","v":0},null,{"$f":"Singles!J58","v":360},{"$f":"Singles!K58","v":0},{"$f":"Singles!L58","v":360.036},null,null,null,null,null,null,null,null,null,null,null,null,null,null,null,null,null,null,null,null,"Ruaidhri"]
[null,52,{"$f":"Singles!B252","v":"Faiq Syukri"},{"$f":"Singles!C252","v":"RCSI"},{"$f":"Singles!D252","v":0},{"$f":"Singles!E252","v":0},{"$f":"Singles!F252","v":0},{"$f":"Singles!G252","v":0},{"$f":"Singles!H252","v":359},{"$f":"Singles!I252","v":0},null,{"$f":"Singles!J59","v":359},{"$f":"Singles!K59","v":0},{"$f":"Singles!L59","v":359.03590000000003},null,null,null,null,null,null,null,null,null,null,null,null,null,null,null,null,null,null,null,null,"Faiq Syukri"]
[null,53,{"$f":"Singles!B253","v":"Eamonn Dunleavy"},{"$f":"Singles!C253","v":"GMITC"},{"$f":"Singles!D253","v":337},{"$f":"Singles!E253","v":0},{"$f":"Singles!F253","v":0},{"$f":"Singles!G253","v":0},{"$f":"Singles!H253","v":0},{"$f":"Singles!I253","v":0},null,{"$f":"Singles!J60","v":337},{"$f":"Singles!K60","v":0},{"$f":"Singles!L60","v":337.03370000000001},null,null,null,null,null,null,null,null,null,null,null,null,null,null,null,null,null,null,null,null,"Eamonn Dunleavy"]
[null,54,{"$f":"Singles!B254","v":"Thomas Carr"},{"$f":"Singles!C254","v":"NUIG"},{"$f":"Singles!D254","v":318},{"$f":"Singles!E254","v":0},{"$f":"Singles!F254","v":0},{"$f":"Singles!G254","v":0},{"$f":"Singles!H254","v":0},{"$f":"Singles!I254","v":0},null,{"$f":"Singles!J61","v":318},{"$f":"Singles!K61","v":0},{"$f":"Singles!L61","v":318.03179999999998},null,null,null,null,null,null,null,null,null,null,null,null,null,null,null,null,null,null,null,null,"Thomas Carr"]
[null,55,{"$f":"Singles!B255","v":"Eoin Codd"},{"$f":"Singles!C255","v":"UCD"},{"$f":"Singles!D255","v":0},{"$f":"Singles!E255","v":304},{"$f":"Singles!F255","v":0},{"$f":"Singles!G255","v":0},{"$f":"Singles!H255","v":0},{"$f":"Singles!I255","v":0},null,{"$f":"Singles!J62","v":304},{"$f":"Singles!K62","v":0},{"$f":"Singles!L62","v":304.03039999999999},null,null,null,null,null,null,null,null,null,null,null,null,null,null,null,null,null,null,null,null,"Eoin Codd"]
[null,56,{"$f":"Singles!B256","v":"Dennis Reynor"},{"$f":"Singles!C256","v":"UCD"},{"$f":"Singles!D256","v":0},{"$f":"Singles!E256","v":0},{"$f":"Singles!F256","v":0},{"$f":"Singles!G256","v":0},{"$f":"Singles!H256","v":302},{"$f":"Singles!I256","v":0},null,{"$f":"Singles!J63","v":302},{"$f":"Singles!K63","v":0},{"$f":"Singles!L63","v":302.03019999999998},null,null,null,null,null,null,null,null,null,null,null,null,null,null,null,null,null,null,null,null,"Dennis Reynor"]
[null,57,{"$f":"Singles!B257","v":"Tudor Varga"},{"$f":"Singles!C257","v":"UCD"},{"$f":"Singles!D257","v":0},{"$f":"Singles!E257","v":300},{"$f":"Singles!F257","v":0},{"$f":"Singles!G257","v":0},{"$f":"Singles!H257","v":0},{"$f":"Singles!I257","v":0},null,{"$f":"Singles!J64","v":300},{"$f":"Singles!K64","v":0},{"$f":"Singles!L64","v":300.02999999999997},null,null,null,null,null,null,null,null,null,null,null,null,null,null,null,null,null,null,null,null,"Tudor Varga"]
[null,58,{"$f":"Singles!B258","v":"Daniel Olajide"},{"$f":"Singles!C258","v":"NUIG"},{"$f":"Singles!D258","v":0},{"$f":"Singles!E258","v":280},{"$f":"Singles!F258","v":0},{"$f":"Singles!G258","v":0},{"$f":"Singles!H258","v":0},{"$f":"Singles!I258","v":0},null,{"$f":"Singles!J65","v":280},{"$f":"Singles!K65","v":0},{"$f":"Singles!L65","v":280.02800000000002},null,null,null,null,null,null,null,null,null,null,null,null,null,null,null,null,null,null,null,null,"Daniel Olajide"]
[null,59,{"$f":"Singles!B259","v":"Cathal Mc Guire"},{"$f":"Singles!C259","v":"UCD"},{"$f":"Singles!D259","v":0},{"$f":"Singles!E259","v":272},{"$f":"Singles!F259","v":0},{"$f":"Singles!G259","v":0},{"$f":"Singles!H259","v":0},{"$f":"Singles!I259","v":0},null,{"$f":"Singles!J66","v":272},{"$f":"Singles!K66","v":0},{"$f":"Singles!L66","v":272.02719999999999},null,null,null,null,null,null,null,null,null,null,null,null,null,null,null,null,null,null,null,null,"Cathal Mc Guire"]
[null,60,{"$f":"Singles!B260","v":"Ian Mc Dermot"},{"$f":"Singles!C260","v":"UCC"},{"$f":"Singles!D260","v":0},{"$f":"Singles!E260","v":266},{"$f":"Singles!F260","v":0},{"$f":"Singles!G260","v":0},{"$f":"Singles!H260","v":0},{"$f":"Singles!I260","v":0},null,{"$f":"Singles!J67","v":266},{"$f":"Singles!K67","v":0},{"$f":"Singles!L67","v":266.02659999999997},null,null,null,null,null,null,null,null,null,null,null,null,null,null,null,null,null,null,null,null,"Ian Mc Dermot"]
[null,61,{"$f":"Singles!B261","v":"Ciaran McElhinney"},{"$f":"Singles!C261","v":"GMIT"},{"$f":"Singles!D261","v":252},{"$f":"Singles!E261","v":0},{"$f":"Singles!F261","v":0},{"$f":"Singles!G261","v":0},{"$f":"Singles!H261","v":0},{"$f":"Singles!I261","v":0},null,{"$f":"Singles!J68","v":252},{"$f":"Singles!K68","v":0},{"$f":"Singles!L68","v":252.02520000000001},null,null,null,null,null,null,null,null,null,null,null,null,null,null,null,null,null,null,null,null,"Ciaran McElhinney"]
[null,62,{"$f":"Singles!B262","v":"Syahira Najua Zulkefly"},{"$f":"Singles!C262","v":"UCD"},{"$f":"Singles!D262","v":0},{"$f":"Singles!E262","v":221},{"$f":"Singles!F262","v":0},{"$f":"Singles!G262","v":0},{"$f":"Singles!H262","v":0},{"$f":"Singles!I262","v":0},null,{"$f":"Singles!J69","v":221},{"$f":"Singles!K69","v":0},{"$f":"Singles!L69","v":221.02209999999999},null,null,null,null,null,null,null,null,null,null,null,null,null,null,null,null,null,null,null,null,"Syahira Najua Zulkefly"]
[null,63,{"$f":"Singles!B263","v":"Tajul Syaqqil Tajor Amar"},{"$f":"Singles!C263","v":"RCSI"},{"$f":"Singles!D263","v":0},{"$f":"Singles!E263","v":173},{"$f":"Singles!F263","v":0},{"$f":"Singles!G263","v":0},{"$f":"Singles!H263","v":0},{"$f":"Singles!I263","v":0},null,{"$f":"Singles!J70","v":173},{"$f":"Singles!K70","v":0},{"$f":"Singles!L70","v":173.01730000000001},null,null,null,null,null,null,null,null,null,null,null,null,null,null,null,null,null,null,null,null,"Tajul Syaqqil Tajor Amar"]
[null,64,{"$f":"Singles!B264","v":"Eoghan Brophy"},{"$f":"Singles!C264","v":"IT Tallaght"},{"$f":"Singles!D264","v":0},{"$f":"Singles!E264","v":0},{"$f":"Singles!F264","v":0},{"$f":"Singles!G264","v":170},{"$f":"Singles!H264","v":0},{"$f":"Singles!I264","v":0},null,{"$f":"Singles!J71","v":170},{"$f":"Singles!K71","v":0},{"$f":"Singles!L71","v":170.017},null,null,null,null,null,null,null,null,null,null,null,null,null,null,null,null,null,null,null,null,"Eoghan Brophy"]
[null,65,{"$f":"Singles!B265","v":"Marc Creehan"},{"$f":"Singles!C265","v":"UCC"},{"$f":"Singles!D265","v":0},{"$f":"Singles!E265","v":166},{"$f":"Singles!F265","v":0},{"$f":"Singles!G265","v":0},{"$f":"Singles!H265","v":0},{"$f":"Singles!I265","v":0},null,{"$f":"Singles!J72","v":166},{"$f":"Singles!K72","v":0},{"$f":"Singles!L72","v":166.01660000000001},null,null,null,null,null,null,null,null,null,null,null,null,null,null,null,null,null,null,null,null,"Marc Creehan"]
[null,66,{"$f":"Singles!B266","v":"Zain Bari"},{"$f":"Singles!C266","v":"UCD"},{"$f":"Singles!D266","v":0},{"$f":"Singles!E266","v":123},{"$f":"Singles!F266","v":0},{"$f":"Singles!G266","v":0},{"$f":"Singles!H266","v":0},{"$f":"Singles!I266","v":0},null,{"$f":"Singles!J73","v":123},{"$f":"Singles!K73","v":0},{"$f":"Singles!L73","v":123.0123},null,null,null,null,null,null,null,null,null,null,null,null,null,null,null,null,null,null,null,null,"Zain Bari"]
[null,67,{"$f":"Singles!B267","v":"Jonathan Cassidy"},{"$f":"Singles!C267","v":"NUIG"},{"$f":"Singles!D267","v":122},{"$f":"Singles!E267","v":0},{"$f":"Singles!F267","v":0},{"$f":"Singles!G267","v":0},{"$f":"Singles!H267","v":0},{"$f":"Singles!I267","v":0},null,{"$f":"Singles!J74","v":122},{"$f":"Singles!K74","v":0},{"$f":"Singles!L74","v":122.01220000000001},null,null,null,null,null,null,null,null,null,null,null,null,null,null,null,null,null,null,null,null,"Jonathan Cassidy"]
[null,68,{"$f":"Singles!B268","v":"Lorenzo"},{"$f":"Singles!C268","v":"UCD"},{"$f":"Singles!D268","v":0},{"$f":"Singles!E268","v":104},{"$f":"Singles!F268","v":0},{"$f":"Singles!G268","v":0},{"$f":"Singles!H268","v":0},{"$f":"Singles!I268","v":0},null,{"$f":"Singles!J75","v":104},{"$f":"Singles!K75","v":0},{"$f":"Singles!L75","v":104.0104},null,null,null,null,null,null,null,null,null,null,null,null,null,null,null,null,null,null,null,null,"Lorenzo"]
[null,69,{"$f":"Singles!B269","v":"Yogeswran Muthukumaru"},{"$f":"Singles!C269","v":"RCSI"},{"$f":"Singles!D269","v":0},{"$f":"Singles!E269","v":0},{"$f":"Singles!F269","v":0},{"$f":"Singles!G269","v":0},{"$f":"Singles!H269","v":96},{"$f":"Singles!I269","v":0},null,{"$f":"Singles!J76","v":96},{"$f":"Singles!K76","v":0},{"$f":"Singles!L76","v":96.009600000000006},null,null,null,null,null,null,null,null,null,null,null,null,null,null,null,null,null,null,null,null,"Yogeswran Muthukumaru"]
[null,70,{"$f":"Singles!B270","v":"William Oliver"},{"$f":"Singles!C270","v":"IT Tallaght"},{"$f":"Singles!D270","v":53},{"$f":"Singles!E270","v":0},{"$f":"Singles!F270","v":0},{"$f":"Singles!G270","v":0},{"$f":"Singles!H270","v":0},{"$f":"Singles!I270","v":0},null,{"$f":"Singles!J77","v":53},{"$f":"Singles!K77","v":0},{"$f":"Singles!L77","v":53.005299999999998},null,null,null,null,null,null,null,null,null,null,null,null,null,null,null,null,null,null,null,null,"William Oliver"]
[null,71,{"$f":"Singles!B271","v":"Kevin Lynch"},{"$f":"Singles!C271","v":"UCD"},{"$f":"Singles!D271","v":0},{"$f":"Singles!E271","v":31},{"$f":"Singles!F271","v":0},{"$f":"Singles!G271","v":0},{"$f":"Singles!H271","v":0},{"$f":"Singles!I271","v":0},null,{"$f":"Singles!J78","v":31},{"$f":"Singles!K78","v":0},{"$f":"Singles!L78","v":31.0031},null,null,null,null,null,null,null,null,null,null,null,null,null,null,null,null,null,null,null,null,"Kevin Lynch"]
[null,72,{"$f":"Singles!B272","v":0},{"$f":"Singles!C272","v":"TBC"},{"$f":"Singles!D272","v":"TBC"},{"$f":"Singles!E272","v":"TBC"},{"$f":"Singles!F272","v":"TBC"},{"$f":"Singles!G272","v":"TBC"},{"$f":"Singles!H272","v":"TBC"},{"$f":"Singles!I272","v":"TBC"},null,{"$f":"Singles!J79","v":0},{"$f":"Singles!K79","v":0},{"$f":"Singles!L79","v":0},null,null,null,null,null,null,null,null,null,null,null,null,null,null,null,null,null,null,null,null,0]
[null,73,{"$f":"Singles!B273","v":0},{"$f":"Singles!C273","v":"TBC"},{"$f":"Singles!D273","v":"TBC"},{"$f":"Singles!E273","v":"TBC"},{"$f":"Singles!F273","v":"TBC"},{"$f":"Singles!G273","v":"TBC"},{"$f":"Singles!H273","v":"TBC"},{"$f":"Singles!I273","v":"TBC"},null,{"$f":"Singles!J80","v":0},{"$f":"Singles!K80","v":0},{"$f":"Singles!L80","v":0},null,null,null,null,null,null,null,null,null,null,null,null,null,null,null,null,null,null,null,null,0]
[null,74,{"$f":"Singles!B274","v":0},{"$f":"Singles!C274","v":"TBC"},{"$f":"Singles!D274","v":"TBC"},{"$f":"Singles!E274","v":"TBC"},{"$f":"Singles!F274","v":"TBC"},{"$f":"Singles!G274","v":"TBC"},{"$f":"Singles!H274","v":"TBC"},{"$f":"Singles!I274","v":"TBC"},null,{"$f":"Singles!J81","v":0},{"$f":"Singles!K81","v":0},{"$f":"Singles!L81","v":0},null,null,null,null,null,null,null,null,null,null,null,null,null,null,null,null,null,null,null,null,0]
[null,75,{"$f":"Singles!B275","v":0},{"$f":"Singles!C275","v":"TBC"},{"$f":"Singles!D275","v":"TBC"},{"$f":"Singles!E275","v":"TBC"},{"$f":"Singles!F275","v":"TBC"},{"$f":"Singles!G275","v":"TBC"},{"$f":"Singles!H275","v":"TBC"},{"$f":"Singles!I275","v":"TBC"},null,{"$f":"Singles!J82","v":0},{"$f":"Singles!K82","v":0},{"$f":"Singles!L82","v":0},null,null,null,null,null,null,null,null,null,null,null,null,null,null,null,null,null,null,null,null,0]
[{"$f":"$D$7","v":"DkIT"}]
[]
[]
[]
[]
[]
[]
[]
[]
[]
[]
[]
[]
[]
[]
[]
[]
[]
["DCU",-1]
["DIT",-2]
["DKIT",-3]
["DUAC",-4]
["GMIT",-5]
["GMITC",-6]
["ITC",-7]
["IT Tallaght",-8]
["MU",-9]
["NCAD",-10]
["NUIG",-11]
["RCSI",-12]
["UCC",-13]
["UCD",-14]
["UL",-15]
["UU",-16]
["WIT",-17]
["AAA",-18]
["BBB",-19]
["CCC",-20]
["DDD",-21]
["EEE",-22]

{"sheet":"RBF","index":3,"n_rows":82,"n_cols":35,"rows_kept":82,"cut":false,"hidden":false,"merged":[[0,0,0,14],[1,0,80,0],[1,14,80,14],[81,0,81,14],[4,11,4,13],[4,1,4,9],[1,4,1,9],[1,11,1,13],[1,1,3,3],[2,11,3,11],[2,12,3,12],[2,13,3,13],[1,10,80,10]]}
[{"$f":"$D$7","v":"DCU"}]
[{"$f":"$D$7","v":"DCU"},"Female Beginner Recurve",null,null,"Host Club",null,null,null,null,null,"DCU","Scores",null,null,{"$f":"$D$7","v":"DCU"},null,null,null,null,null,null,null,null,null,null,null,null,null,null,null,null,null,null,null,{"$f":"AI7","v":"Christina Somers"}]
[null,null,null,null,{"$f":"Entries!K6","v":"DCU IV"},"UCD/ITC",{"$f":"Entries!K8","v":"DkIT IV"},"NUIM/GMIT",{"$f":"Entries!K10","v":"NUIG IV"},{"$f":"Entries!K11","v":"UL IV"},null,"Total","Lowest","League"]
[]
[null,{"$f":"$D$7","v":"DCU"},null,null,null,null,null,null,null,null,null,{"$f":"$D$7","v":"DCU"}]
[null,null,"Name","College","DCU IV","UCD/ITC IV","DkIT IV","NUIM/GMIT IV","NUIG IV","UL IV",null,"Total","Lowest","League total"]
[null,1,{"$f":"Singles!P201","v":"Christina Somers"},{"$f":"Singles!Q201","v":"DCU"},{"$f":"Singles!R201","v":366},{"$f":"Singles!S201","v":446},{"$f":"Singles!T201","v":377},{"$f":"Singles!U201","v":456},{"$f":"Singles!V201","v":397},{"$f":"Singles!W201","v":431},null,{"$f":"Singles!X8","v":2473},{"$f":"Singles!Y8","v":366},{"$f":"Singles!Z8","v":2107.0456445999998},null,null,null,null,null,null,null,null,null,null,null,null,null,null,null,null,null,null,null,null,{"$f":"C7","v":"Christina Somers"}]
[null,2,{"$f":"Singles!P202","v":"Jen Daly"},{"$f":"Singles!Q202","v":"DIT"},{"$f":"Singles!R202","v":355},{"$f":"Singles!S202","v":467},{"$f":"Singles!T202","v":389},{"$f":"Singles!U202","v":373},{"$f":"Singles!V202","v":398},{"$f":"Singles!W202","v":464},null,{"$f":"Singles!X9","v":2446},{"$f":"Singles!Y9","v":355},{"$f":"Singles!Z9","v":2091.0467398000001},null,null,null,null,null,null,null,null,null,null,null,null,null,null,null,null,null,null,null,null,"Jen Daly"]
[null,3,{"$f":"Singles!P204","v":"Karen Power"},{"$f":"Singles!Q204","v":"UL"},{"$f":"Singles!R204","v":394},{"$f":"Singles!S204","v":364},{"$f":"Singles!T204","v":0},{"$f":"Singles!U204","v":433},{"$f":"Singles!V204","v":487},{"$f":"Singles!W204","v":357},null,{"$f":"Singles!X11","v":2035},{"$f":"Singles!Y11","v":0},{"$f":"Singles!Z11","v":2035.0487433000001},null,null,null,null,null,null,null,null,null,null,null,null,null,null,null,null,null,null,null,null,"Karen Power"]
[null,4,{"$f":"Singles!P207","v":"Ciara O'Sullivan"},{"$f":"Singles!Q207","v":"DCU"},{"$f":"Singles!R207","v":0},{"$f":"Singles!S207","v":284},{"$f":"Singles!T207","v":410},{"$f":"Singles!U207","v":410},{"$f":"Singles!V207","v":380},{"$f":"Singles!W207","v":363},null,{"$f":"Singles!X14","v":1847},{"$f":"Singles!Y14","v":0},{"$f":"Singles!Z14","v":1847.041041},null,null,null,null,null,null,null,null,null,null,null,null,null,null,null,null,null,null,null,null,"Ciara O'Sullivan"]
[null,5,{"$f":"Singles!P203","v":"Jessica Lee"},{"$f":"Singles!Q203","v":"DkIT"},{"$f":"Singles!R203","v":347},{"$f":"Singles!S203","v":388},{"$f":"Singles!T203","v":342},{"$f":"Singles!U203","v":404},{"$f":"Singles!V203","v":337},{"$f":"Singles!W203","v":351},null,{"$f":"Singles!X10","v":2169},{"$f":"Singles!Y10","v":337},{"$f":"Singles!Z10","v":1832.0404388000002},null,null,null,null,null,null,null,null,null,null,null,null,null,null,null,null,null,null,null,null,"Jessica Lee"]
[null,6,{"$f":"Singles!P205","v":"Jocelyn Yee"},{"$f":"Singles!Q205","v":"DkIT"},{"$f":"Singles!R205","v":337},{"$f":"Singles!S205","v":320},{"$f":"Singles!T205","v":443},{"$f":"Singles!U205","v":279},{"$f":"Singles!V205","v":247},{"$f":"Singles!W205","v":352},null,{"$f":"Singles!X12","v":1978},{"$f":"Singles!Y12","v":247},{"$f":"Singles!Z12","v":1731.0443336999999},null,null,null,null,null,null,null,null,null,null,null,null,null,null,null,null,null,null,null,null,"Jocelyn Yee"]
[null,7,{"$f":"Singles!P206","v":"Victoria Tan"},{"$f":"Singles!Q206","v":"DkIT"},{"$f":"Singles!R206","v":291},{"$f":"Singles!S206","v":267},{"$f":"Singles!T206","v":401},{"$f":"Singles!U206","v":352},{"$f":"Singles!V206","v":313},{"$f":"Singles!W206","v":330},null,{"$f":"Singles!X13","v":1954},{"$f":"Singles!Y13","v":267},{"$f":"Singles!Z13","v":1687.0401351999999},null,null,null,null,null,null,null,null,null,null,null,null,null,null,null,null,null,null,null,null,"Victoria Tan"]
[null,8,{"$f":"Singles!P208","v":"Ester Schwarz"},{"$f":"Singles!Q208","v":"NUIM"},{"$f":"Singles!R208","v":0},{"$f":"Singles!S208","v":375},{"$f":"Singles!T208","v":0},{"$f":"Singles!U208","v":359},{"$f":"Singles!V208","v":393},{"$f":"Singles!W208","v":416},null,{"$f":"Singles!X15","v":1543},{"$f":"Singles!Y15","v":0},{"$f":"Singles!Z15","v":1543.0393374999999},null,null,null,null,null,null,null,null,null,null,null,null,null,null,null,null,null,null,null,null,"Ester Schwarz"]
[null,9,{"$f":"Singles!P209","v":"Linda Hearn"},{"$f":"Singles!Q209","v":"UCC"},{"$f":"Singles!R209","v":450},{"$f":"Singles!S209","v":312},{"$f":"Singles!T209","v":374},{"$f":"Singles!U209","v":0},{"$f":"Singles!V209","v":0},{"$f":"Singles!W209","v":405},null,{"$f":"Singles!X16","v":1541},{"$f":"Singles!Y16","v":0},{"$f":"Singles!Z16","v":1541.0450374000002},null,null,null,null,null,null,null,null,null,null,null,null,null,null,null,null,null,null,null,null,"Linda Hearn"]
[null,10,{"$f":"Singles!P210","v":"alannah redington"},{"$f":"Singles!Q210","v":"UL"},{"$f":"Singles!R210","v":356},{"$f":"Singles!S210","v":325},{"$f":"Singles!T210","v":0},{"$f":"Singles!U210","v":449},{"$f":"Singles!V210","v":0},{"$f":"Singles!W210","v":381},null,{"$f":"Singles!X17","v":1511},{"$f":"Singles!Y17","v":0},{"$f":"Singles!Z17","v":1511.0449356000001},null,null,null,null,null,null,null,null,null,null,null,null,null,null,null,null,null,null,null,null,"alannah redington"]
[null,11,{"$f":"Singles!P211","v":"Tara Dunne"},{"$f":"Singles!Q211","v":"UCD"},{"$f":"Singles!R211","v":272},{"$f":"Singles!S211","v":184},{"$f":"Singles!T211","v":0},{"$f":"Singles!U211","v":256},{"$f":"Singles!V211","v":287},{"$f":"Singles!W211","v":280},null,{"$f":"Singles!X18","v":1279},{"$f":"Singles!Y18","v":0},{"$f":"Singles!Z18","v":1279.0287272},null,null,null,null,null,null,null,null,null,null,null,null,null,null,null,null,null,null,null,null,"Tara Dunne"]
[null,12,{"$f":"Singles!P212","v":"Laura Ni Riada"},{"$f":"Singles!Q212","v":"DCU"},{"$f":"Singles!R212","v":477},{"$f":"Singles!S212","v":415},{"$f":"Singles!T212","v":0},{"$f":"Singles!U212","v":0},{"$f":"Singles!V212","v":0},{"$f":"Singles!W212","v":369},null,{"$f":"Singles!X19","v":1261},{"$f":"Singles!Y19","v":0},{"$f":"Singles!Z19","v":1261.0477415},null,null,null,null,null,null,null,null,null,null,null,null,null,null,null,null,null,null,null,null,"Laura Ni Riada"]
[null,13,{"$f":"Singles!P213","v":"Aisling Brady"},{"$f":"Singles!Q213","v":"NUIG"},{"$f":"Singles!R213","v":0},{"$f":"Singles!S213","v":0},{"$f":"Singles!T213","v":402},{"$f":"Singles!U213","v":260},{"$f":"Singles!V213","v":280},{"$f":"Singles!W213","v":271},null,{"$f":"Singles!X20","v":1213},{"$f":"Singles!Y20","v":0},{"$f":"Singles!Z20","v":1213.0402279999998},null,null,null,null,null,null,null,null,null,null,null,null,null,null,null,null,null,null,null,null,"Aisling Brady"]
[null,14,{"$f":"Singles!P214","v":"Katy Doyle"},{"$f":"Singles!Q214","v":"UCD"},{"$f":"Singles!R214","v":0},{"$f":"Singles!S214","v":203},{"$f":"Singles!T214","v":0},{"$f":"Singles!U214","v":313},{"$f":"Singles!V214","v":278},{"$f":"Singles!W214","v":341},null,{"$f":"Singles!X21","v":1135},{"$f":"Singles!Y21","v":0},{"$f":"Singles!Z21","v":1135.0313278000001},null,null,null,null,null,null,null,null,null,null,null,null,null,null,null,null,null,null,null,null,"Katy Doyle"]
[null,15,{"$f":"Singles!P215","v":"Sarah Delaney"},{"$f":"Singles!Q215","v":"NUIG"},{"$f":"Singles!R215","v":0},{"$f":"Singles!S215","v":421},{"$f":"Singles!T215","v":0},{"$f":"Singles!U215","v":361},{"$f":"Singles!V215","v":252},{"$f":"Singles!W215","v":0},null,{"$f":"Singles!X22","v":1034},{"$f":"Singles!Y22","v":0},{"$f":"Singles!Z22","v":1034.0421360999999},null,null,null,null,null,null,null,null,null,null,null,null,null,null,null,null,null,null,null,null,"Sarah Delaney"]
[null,16,{"$f":"Singles!P216","v":"Maria Jacob"},{"$f":"Singles!Q216","v":"UCD"},{"$f":"Singles!R216","v":0},{"$f":"Singles!S216","v":0},{"$f":"Singles!T216","v":230},{"$f":"Singles!U216","v":410},{"$f":"Singles!V216","v":0},{"$f":"Singles!W216","v":274},null,{"$f":"Singles!X23","v":914},{"$f":"Singles!Y23","v":0},{"$f":"Singles!Z23","v":914.04102300000011},null,null,null,null,null,null,null,null,null,null,null,null,null,null,null,null,null,null,null,null,"Maria Jacob"]
[null,17,{"$f":"Singles!P217","v":"Katrina Kelly"},{"$f":"Singles!Q217","v":"NUIG"},{"$f":"Singles!R217","v":0},{"$f":"Singles!S217","v":0},{"$f":"Singles!T217","v":363},{"$f":"Singles!U217","v":146},{"$f":"Singles!V217","v":404},{"$f":"Singles!W217","v":0},null,{"$f":"Singles!X24","v":913},{"$f":"Singles!Y24","v":0},{"$f":"Singles!Z24","v":913.04043630000001},null,null,null,null,null,null,null,null,null,null,null,null,null,null,null,null,null,null,null,null,"Katrina Kelly"]
[null,18,{"$f":"Singles!P218","v":"Martha Chege"},{"$f":"Singles!Q218","v":"UU"},{"$f":"Singles!R218","v":0},{"$f":"Singles!S218","v":322},{"$f":"Singles!T218","v":0},{"$f":"Singles!U218","v":381},{"$f":"Singles!V218","v":0},{"$f":"Singles!W218","v":0},null,{"$f":"Singles!X25","v":703},{"$f":"Singles!Y25","v":0},{"$f":"Singles!Z25","v":703.03813219999995},null,null,null,null,null,null,null,null,null,null,null,null,null,null,null,null,null,null,null,null,"Martha Chege"]
[null,19,{"$f":"Singles!P219","v":"Rebecca Ward"},{"$f":"Singles!Q219","v":"DkIT"},{"$f":"Singles!R219","v":272},{"$f":"Singles!S219","v":0},{"$f":"Singles!T219","v":331},{"$f":"Singles!U219","v":0},{"$f":"Singles!V219","v":0},{"$f":"Singles!W219","v":0},null,{"$f":"Singles!X26","v":603},{"$f":"Singles!Y26","v":0},{"$f":"Singles!Z26","v":603.03312719999997},null,null,null,null,null,null,null,null,null,null,null,null,null,null,null,null,null,null,null,null,"Rebecca Ward"]
[null,20,{"$f":"Singles!P220","v":"Zhi-Miin Ong"},{"$f":"Singles!Q220","v":"RCSI"},{"$f":"Singles!R220","v":0},{"$f":"Singles!S220","v":0},{"$f":"Singles!T220","v":0},{"$f":"Singles!U220","v":318},{"$f":"Singles!V220","v":251},{"$f":"Singles!W220","v":0},null,{"$f":"Singles!X27","v":569},{"$f":"Singles!Y27","v":0},{"$f":"Singles!Z27","v":569.03182509999999},null,null,null,null,null,null,null,null,null,null,null,null,null,null,null,null,null,null,null,null,"Zhi-Miin Ong"]
[null,21,{"$f":"Singles!P221","v":"Rose Comendador"},{"$f":"Singles!Q221","v":"IT Tallaght"},{"$f":"Singles!R221","v":0},{"$f":"Singles!S221","v":0},{"$f":"Singles!T221","v":0},{"$f":"Singles!U221","v":283},{"$f":"Singles!V221","v":0},{"$f":"Singles!W221","v":250},null,{"$f":"Singles!X28","v":533},{"$f":"Singles!Y28","v":0},{"$f":"Singles!Z28","v":533.02829999999994},null,null,null,null,null,null,null,null,null,null,null,null,null,null,null,null,null,null,null,null,"Rose Comendador"]
[null,22,{"$f":"Singles!P222","v":"Cara Brennan"},{"$f":"Singles!Q222","v":"NUIG"},{"$f":"Singles!R222","v":0},{"$f":"Singles!S222","v":0},{"$f":"Singles!T222","v":0},{"$f":"Singles!U222","v":263},{"$f":"Singles!V222","v":224},{"$f":"Singles!W222","v":0},null,{"$f":"Singles!X29","v":487},{"$f":"Singles!Y29","v":0},{"$f":"Singles!Z29","v":487.02632239999997},null,null,null,null,null,null,null,null,null,null,null,null,null,null,null,null,null,null,null,null,"Cara Brennan"]
[null,23,{"$f":"Singles!P223","v":"Liu Min"},{"$f":"Singles!Q223","v":"NUIG"},{"$f":"Singles!R223","v":0},{"$f":"Singles!S223","v":0},{"$f":"Singles!T223","v":0},{"$f":"Singles!U223","v":0},{"$f":"Singles!V223","v":238},{"$f":"Singles!W223","v":249},null,{"$f":"Singles!X30","v":487},{"$f":"Singles!Y30","v":0},{"$f":"Singles!Z30","v":487.02379999999999},null,null,null,null,null,null,null,null,null,null,null,null,null,null,null,null,null,null,null,null,"Liu Min"]
[null,24,{"$f":"Singles!P224","v":"Farah Nadia Zikhtar"},{"$f":"Singles!Q224","v":"RCSI"},{"$f":"Singles!R224","v":187},{"$f":"Singles!S224","v":186},{"$f":"Singles!T224","v":0},{"$f":"Singles!U224","v":0},{"$f":"Singles!V224","v":0},{"$f":"Singles!W224","v":66},null,{"$f":"Singles!X31","v":439},{"$f":"Singles!Y31","v":0},{"$f":"Singles!Z31","v":439.0187186},null,null,null,null,null,null,null,null,null,null,null,null,null,null,null,null,null,null,null,null,"Farah Nadia Zikhtar"]
[null,25,{"$f":"Singles!P225","v":"Brona Howard"},{"$f":"Singles!Q225","v":"DkIT"},{"$f":"Singles!R225","v":0},{"$f":"Singles!S225","v":0},{"$f":"Singles!T225","v":421},{"$f":"Singles!U225","v":0},{"$f":"Singles!V225","v":0},{"$f":"Singles!W225","v":0},null,{"$f":"Singles!X32","v":421},{"$f":"Singles!Y32","v":0},{"$f":"Singles!Z32","v":421.0421},null,null,null,null,null,null,null,null,null,null,null,null,null,null,null,null,null,null,null,null,"Brona Howard"]
[null,26,{"$f":"Singles!P226","v":"Eilis Ni Shuilleabhain"},{"$f":"Singles!Q226","v":"UCD"},{"$f":"Singles!R226","v":0},{"$f":"Singles!S226","v":339},{"$f":"Singles!T226","v":0},{"$f":"Singles!U226","v":0},{"$f":"Singles!V226","v":0},{"$f":"Singles!W226","v":0},null,{"$f":"Singles!X33","v":339},{"$f":"Singles!Y33","v":0},{"$f":"Singles!Z33","v":339.03390000000002},null,null,null,null,null,null,null,null,null,null,null,null,null,null,null,null,null,null,null,null,"Eilis Ni Shuilleabhain"]
[null,27,{"$f":"Singles!P227","v":"Elizabeth Clare Lao"},{"$f":"Singles!Q227","v":"DIT"},{"$f":"Singles!R227","v":287},{"$f":"Singles!S227","v":0},{"$f":"Singles!T227","v":0},{"$f":"Singles!U227","v":0},{"$f":"Singles!V227","v":0},{"$f":"Singles!W227","v":0},null,{"$f":"Singles!X34","v":287},{"$f":"Singles!Y34","v":0},{"$f":"Singles!Z34","v":287.02870000000001},null,null,null,null,null,null,null,null,null,null,null,null,null,null,null,null,null,null,null,null,"Elizabeth Clare Lao"]
[null,28,{"$f":"Singles!P228","v":"Hana Cúipéir"},{"$f":"Singles!Q228","v":"DCU"},{"$f":"Singles!R228","v":0},{"$f":"Singles!S228","v":275},{"$f":"Singles!T228","v":0},{"$f":"Singles!U228","v":0},{"$f":"Singles!V228","v":0},{"$f":"Singles!W228","v":0},null,{"$f":"Singles!X35","v":275},{"$f":"Singles!Y35","v":0},{"$f":"Singles!Z35","v":275.02749999999997},null,null,null,null,null,null,null,null,null,null,null,null,null,null,null,null,null,null,null,null,"Hana Cúipéir"]
[null,29,{"$f":"Singles!P229","v":"Shahrizan Majid Allapitchai"},{"$f":"Singles!Q229","v":"RCSI"},{"$f":"Singles!R229","v":259},{"$f":"Singles!S229","v":0},{"$f":"Singles!T229","v":0},{"$f":"Singles!U229","v":0},{"$f":"Singles!V229","v":0},{"$f":"Singles!W229","v":0},null,{"$f":"Singles!X36","v":259},{"$f":"Singles!Y36","v":0},{"$f":"Singles!Z36","v":259.02589999999998},null,null,null,null,null,null,null,null,null,null,null,null,null,null,null,null,null,null,null,null,"Shahrizan Majid Allapitchai"]
[null,30,{"$f":"Singles!P230","v":"Maria Dunne"},{"$f":"Singles!Q230","v":"UL"},{"$f":"Singles!R230","v":0},{"$f":"Singles!S230","v":0},{"$f":"Singles!T230","v":0},{"$f":"Singles!U230","v":0},{"$f":"Singles!V230","v":0},{"$f":"Singles!W230","v":257},null,{"$f":"Singles!X37","v":257},{"$f":"Singles!Y37","v":0},{"$f":"Singles!Z37","v":257},null,null,null,null,null,null,null,null,null,null,null,null,null,null,null,null,null,null,null,null,"Maria Dunne"]
[null,31,{"$f":"Singles!P231","v":"Shauna O Brien"},{"$f":"Singles!Q231","v":"UCD"},{"$f":"Singles!R231","v":0},{"$f":"Singles!S231","v":0},{"$f":"Singles!T231","v":249},{"$f":"Singles!U231","v":0},{"$f":"Singles!V231","v":0},{"$f":"Singles!W231","v":0},null,{"$f":"Singles!X38","v":249},{"$f":"Singles!Y38","v":0},{"$f":"Singles!Z38","v":249.0249},null,null,null,null,null,null,null,null,null,null,null,null,null,null,null,null,null,null,null,null,"Shauna O Brien"]
[null,32,{"$f":"Singles!P232","v":"Nassira Musa"},{"$f":"Singles!Q232","v":"UCC"},{"$f":"Singles!R232","v":0},{"$f":"Singles!S232","v":241},{"$f":"Singles!T232","v":0},{"$f":"Singles!U232","v":0},{"$f":"Singles!V232","v":0},{"$f":"Singles!W232","v":0},null,{"$f":"Singles!X39","v":241},{"$f":"Singles!Y39","v":0},{"$f":"Singles!Z39","v":241.0241},null,null,null,null,null,null,null,null,null,null,null,null,null,null,null,null,null,null,null,null,"Nassira Musa"]
[null,33,{"$f":"Singles!P233","v":"zahratulfatin "},{"$f":"Singles!Q233","v":"RCSI"},{"$f":"Singles!R233","v":0},{"$f":"Singles!S233","v":0},{"$f":"Singles!T233","v":0},{"$f":"Singles!U233","v":0},{"$f":"Singles!V233","v":0},{"$f":"Singles!W233","v":232},null,{"$f":"Singles!X40","v":232},{"$f":"Singles!Y40","v":0},{"$f":"Singles!Z40","v":232},null,null,null,null,null,null,null,null,null,null,null,null,null,null,null,null,null,null,null,null,{"$f":"C39","v":"zahratulfatin "}]
[null,34,{"$f":"Singles!P234","v":"Shenelle Samodee"},{"$f":"Singles!Q234","v":"RCSI"},{"$f":"Singles!R234","v":0},{"$f":"Singles!S234","v":0},{"$f":"Singles!T234","v":0},{"$f":"Singles!U234","v":0},{"$f":"Singles!V234","v":230},{"$f":"Singles!W234","v":0},null,{"$f":"Singles!X41","v":230},{"$f":"Singles!Y41","v":0},{"$f":"Singles!Z41","v":230.023},null,null,null,null,null,null,null,null,null,null,null,null,null,null,null,null,null,null,null,null,"Shenelle Samodee"]
[null,35,{"$f":"Singles!P235","v":"Rebecca Watkin"},{"$f":"Singles!Q235","v":"UCD"},{"$f":"Singles!R235","v":0},{"$f":"Singles!S235","v":0},{"$f":"Singles!T235","v":179},{"$f":"Singles!U235","v":0},{"$f":"Singles!V235","v":0},{"$f":"Singles!W235","v":0},null,{"$f":"Singles!X42","v":179},{"$f":"Singles!Y42","v":0},{"$f":"Singles!Z42","v":179.0179},null,null,null,null,null,null,null,null,null,null,null,null,null,null,null,null,null,null,null,null,"Rebecca Watkin"]
[null,36,{"$f":"Singles!P236","v":"Rubasangkari Rajaderam"},{"$f":"Singles!Q236","v":"RCSI"},{"$f":"Singles!R236","v":149},{"$f":"Singles!S236","v":0},{"$f":"Singles!T236","v":0},{"$f":"Singles!U236","v":0},{"$f":"Singles!V236","v":0},{"$f":"Singles!W236","v":0},null,{"$f":"Singles!X43","v":149},{"$f":"Singles!Y43","v":0},{"$f":"Singles!Z43","v":149.01490000000001},null,null,null,null,null,null,null,null,null,null,null,null,null,null,null,null,null,null,null,null,"Rubasangkari Rajaderam"]
[null,37,{"$f":"Singles!P237","v":"Auni Awang Dahan"},{"$f":"Singles!Q237","v":"RCSI"},{"$f":"Singles!R237","v":94},{"$f":"Singles!S237","v":0},{"$f":"Singles!T237","v":0},{"$f":"Singles!U237","v":0},{"$f":"Singles!V237","v":0},{"$f":"Singles!W237","v":0},null,{"$f":"Singles!X44","v":94},{"$f":"Singles!Y44","v":0},{"$f":"Singles!Z44","v":94.009399999999999},null,null,null,null,null,null,null,null,null,null,null,null,null,null,null,null,null,null,null,null,"Auni Awang Dahan"]
[null,38,{"$f":"Singles!P238","v":"Nurhidayah Miswan"},{"$f":"Singles!Q238","v":"RCSI"},{"$f":"Singles!R238","v":0},{"$f":"Singles!S238","v":84},{"$f":"Singles!T238","v":0},{"$f":"Singles!U238","v":0},{"$f":"Singles!V238","v":0},{"$f":"Singles!W238","v":0},null,{"$f":"Singles!X45","v":84},{"$f":"Singles!Y45","v":0},{"$f":"Singles!Z45","v":84.008399999999995},null,null,null,null,null,null,null,null,null,null,null,null,null,null,null,null,null,null,null,null,"Nurhidayah Miswan"]
[null,39,{"$f":"Singles!P239","v":"Siti Nur Syazwana Mohammad Shafiee"},{"$f":"Singles!Q239","v":"RCSI"},{"$f":"Singles!R239","v":0},{"$f":"Singles!S239","v":76},{"$f":"Singles!T239","v":0},{"$f":"Singles!U239","v":0},{"$f":"Singles!V239","v":0},{"$f":"Singles!W239","v":0},null,{"$f":"Singles!X46","v":76},{"$f":"Singles!Y46","v":0},{"$f":"Singles!Z46","v":76.007599999999996},null,null,null,null,null,null,null,null,null,null,null,null,null,null,null,null,null,null,null,null,"Siti Nur Syazwana Mohammad Shafiee"]
[null,40,{"$f":"Singles!P240","v":0},{"$f":"Singles!Q240","v":"TBC"},{"$f":"Singles!R240","v":"TBC"},{"$f":"Singles!S240","v":"TBC"},{"$f":"Singles!T240","v":"TBC"},{"$f":"Singles!U240","v":"TBC"},{"$f":"Singles!V240","v":"TBC"},{"$f":"Singles!W240","v":"TBC"},null,{"$f":"Singles!X47","v":0},{"$f":"Singles!Y47","v":0},{"$f":"Singles!Z47","v":0},null,null,null,null,null,null,null,null,null,null,null,null,null,null,null,null,null,null,null,null,0]
[null,41,{"$f":"Singles!P241","v":0},{"$f":"Singles!Q241","v":"TBC"},{"$f":"Singles!R241","v":"TBC"},{"$f":"Singles!S241","v":"TBC"},{"$f":"Singles!T241","v":"TBC"},{"$f":"Singles!U241","v":"TBC"},{"$f":"Singles!V241","v":"TBC"},{"$f":"Singles!W241","v":"TBC"},null,{"$f":"Singles!X48","v":0},{"$f":"Singles!Y48","v":0},{"$f":"Singles!Z48","v":0},null,null,null,null,null,null,null,null,null,null,null,null,null,null,null,null,null,null,null,null,0]
[null,42,{"$f":"Singles!P242","v":0},{"$f":"Singles!Q242","v":"TBC"},{"$f":"Singles!R242","v":"TBC"},{"$f":"Singles!S242","v":"TBC"},{"$f":"Singles!T242","v":"TBC"},{"$f":"Singles!U242","v":"TBC"},{"$f":"Singles!V242","v":"TBC"},{"$f":"Singles!W242","v":"TBC"},null,{"$f":"Singles!X49","v":0},{"$f":"Singles!Y49","v":0},{"$f":"Singles!Z49","v":0},null,null,null,null,null,null,null,null,null,null,null,null,null,null,null,null,null,null,null,null,0]
[null,43,{"$f":"Singles!P243","v":0},{"$f":"Singles!Q243","v":"TBC"},{"$f":"Singles!R243","v":"TBC"},{"$f":"Singles!S243","v":"TBC"},{"$f":"Singles!T243","v":"TBC"},{"$f":"Singles!U243","v":"TBC"},{"$f":"Singles!V243","v":"TBC"},{"$f":"Singles!W243","v":"TBC"},null,{"$f":"Singles!X50","v":0},{"$f":"Singles!Y50","v":0},{"$f":"Singles!Z50","v":0},null,null,null,null,null,null,null,null,null,null,null,null,null,null,null,null,null,null,null,null,0]
[null,44,{"$f":"Singles!P244","v":0},{"$f":"Singles!Q244","v":"TBC"},{"$f":"Singles!R244","v":"TBC"},{"$f":"Singles!S244","v":"TBC"},{"$f":"Singles!T244","v":"TBC"},{"$f":"Singles!U244","v":"TBC"},{"$f":"Singles!V244","v":"TBC"},{"$f":"Singles!W244","v":"TBC"},null,{"$f":"Singles!X51","v":0},{"$f":"Singles!Y51","v":0},{"$f":"Singles!Z51","v":0},null,null,null,null,null,null,null,null,null,null,null,null,null,null,null,null,null,null,null,null,0]
[null,45,{"$f":"Singles!P245","v":0},{"$f":"Singles!Q245","v":"TBC"},{"$f":"Singles!R245","v":"TBC"},{"$f":"Singles!S245","v":"TBC"},{"$f":"Singles!T245","v":"TBC"},{"$f":"Singles!U245","v":"TBC"},{"$f":"Singles!V245","v":"TBC"},{"$f":"Singles!W245","v":"TBC"},null,{"$f":"Singles!X52","v":0},{"$f":"Singles!Y52","v":0},{"$f":"Singles!Z52","v":0},null,null,null,null,null,null,null,null,null,null,null,null,null,null,null,null,null,null,null,null,0]
[null,46,{"$f":"Singles!P246","v":0},{"$f":"Singles!Q246","v":"TBC"},{"$f":"Singles!R246","v":"TBC"},{"$f":"Singles!S246","v":"TBC"},{"$f":"Singles!T246","v":"TBC"},{"$f":"Singles!U246","v":"TBC"},{"$f":"Singles!V246","v":"TBC"},{"$f":"Singles!W246","v":"TBC"},null,{"$f":"Singles!X53","v":0},{"$f":"Singles!Y53","v":0},{"$f":"Singles!Z53","v":0},null,null,null,null,null,null,null,null,null,null,null,null,null,null,null,null,null,null,null,null,0]
[null,47,{"$f":"Singles!P247","v":0},{"$f":"Singles!Q247","v":"TBC"},{"$f":"Singles!R247","v":"TBC"},{"$f":"Singles!S247","v":"TBC"},{"$f":"Singles!T247","v":"TBC"},{"$f":"Singles!U247","v":"TBC"},{"$f":"Singles!V247","v":"TBC"},{"$f":"Singles!W247","v":"TBC"},null,{"$f":"Singles!X54","v":0},{"$f":"Singles!Y54","v":0},{"$f":"Singles!Z54","v":0},null,null,null,null,null,null,null,null,null,null,null,null,null,null,null,null,null,null,null,null,0]
[null,48,{"$f":"Singles!P248","v":0},{"$f":"Singles!Q248","v":"TBC"},{"$f":"Singles!R248","v":"TBC"},{"$f":"Singles!S248","v":"TBC"},{"$f":"Singles!T248","v":"TBC"},{"$f":"Singles!U248","v":"TBC"},{"$f":"Singles!V248","v":"TBC"},{"$f":"Singles!W248","v":"TBC"},null,{"$f":"Singles!X55","v":0},{"$f":"Singles!Y55","v":0},{"$f":"Singles!Z55","v":0},null,null,null,null,null,null,null,null,null,null,null,null,null,null,null,null,null,null,null,null,0]
[null,49,{"$f":"Singles!P249","v":0},{"$f":"Singles!Q249","v":"TBC"},{"$f":"Singles!R249","v":"TBC"},{"$f":"Singles!S249","v":"TBC"},{"$f":"Singles!T249","v":"TBC"},{"$f":"Singles!U249","v":"TBC"},{"$f":"Singles!V249","v":"TBC"},{"$f":"Singles!W249","v":"TBC"},null,{"$f":"Singles!X56","v":0},{"$f":"Singles!Y56","v":0},{"$f":"Singles!Z56","v":0},null,null,null,null,null,null,null,null,null,null,null,null,null,null,null,null,null,null,null,null,0]
[null,50,{"$f":"Singles!P250","v":0},{"$f":"Singles!Q250","v":"TBC"},{"$f":"Singles!R250","v":"TBC"},{"$f":"Singles!S250","v":"TBC"},{"$f":"Singles!T250","v":"TBC"},{"$f":"Singles!U250","v":"TBC"},{"$f":"Singles!V250","v":"TBC"},{"$f":"Singles!W250","v":"TBC"},null,{"$f":"Singles!X57","v":0},{"$f":"Singles!Y57","v":0},{"$f":"Singles!Z57","v":0},null,null,null,null,null,null,null,null,null,null,null,null,null,null,null,null,null,null,null,null,0]
[null,51,{"$f":"Singles!P251","v":0},{"$f":"Singles!Q251","v":"TBC"},{"$f":"Singles!R251","v":"TBC"},{"$f":"Singles!S251","v":"TBC"},{"$f":"Singles!T251","v":"TBC"},{"$f":"Singles!U251","v":"TBC"},{"$f":"Singles!V251","v":"TBC"},{"$f":"Singles!W251","v":"TBC"},null,{"$f":"Singles!X58","v":0},{"$f":"Singles!Y58","v":0},{"$f":"Singles!Z58","v":0},null,null,null,null,null,null,null,null,null,null,null,null,null,null,null,null,null,null,null,null,0]
[null,52,{"$f":"Singles!P252","v":0},{"$f":"Singles!Q252","v":"TBC"},{"$f":"Singles!R252","v":"TBC"},{"$f":"Singles!S252","v":"TBC"},{"$f":"Singles!T252","v":"TBC"},{"$f":"Singles!U252","v":"TBC"},{"$f":"Singles!V252","v":"TBC"},{"$f":"Singles!W252","v":"TBC"},null,{"$f":"Singles!X59","v":0},{"$f":"Singles!Y59","v":0},{"$f":"Singles!Z59","v":0},null,null,null,null,null,null,null,null,null,null,null,null,null,null,null,null,null,null,null,null,0]
[null,53,{"$f":"Singles!P253","v":0},{"$f":"Singles!Q253","v":"TBC"},{"$f":"Singles!R253","v":"TBC"},{"$f":"Singles!S253","v":"TBC"},{"$f":"Singles!T253","v":"TBC"},{"$f":"Singles!U253","v":"TBC"},{"$f":"Singles!V253","v":"TBC"},{"$f":"Singles!W253","v":"TBC"},null,{"$f":"Singles!X60","v":0},{"$f":"Singles!Y60","v":0},{"$f":"Singles!Z60","v":0},null,null,null,null,null,null,null,null,null,null,null,null,null,null,null,null,null,null,null,null,0]
[null,54,{"$f":"Singles!P254","v":0},{"$f":"Singles!Q254","v":"TBC"},{"$f":"Singles!R254","v":"TBC"},{"$f":"Singles!S254","v":"TBC"},{"$f":"Singles!T254","v":"TBC"},{"$f":"Singles!U254","v":"TBC"},{"$f":"Singles!V254","v":"TBC"},{"$f":"Singles!W254","v":"TBC"},null,{"$f":"Singles!X61","v":0},{"$f":"Singles!Y61","v":0},{"$f":"Singles!Z61","v":0},null,null,null,null,null,null,null,null,null,null,null,null,null,null,null,null,null,null,null,null,0]
[null,55,{"$f":"Singles!P255","v":0},{"$f":"Singles!Q255","v":"TBC"},{"$f":"Singles!R255","v":"TBC"},{"$f":"Singles!S255","v":"TBC"},{"$f":"Singles!T255","v":"TBC"},{"$f":"Singles!U255","v":"TBC"},{"$f":"Singles!V255","v":"TBC"},{"$f":"Singles!W255","v":"TBC"},null,{"$f":"Singles!X62","v":0},{"$f":"Singles!Y62","v":0},{"$f":"Singles!Z62","v":0},null,null,null,null,null,null,null,null,null,null,null,null,null,null,null,null,null,null,null,null,0]
[null,56,{"$f":"Singles!P256","v":0},{"$f":"Singles!Q256","v":"TBC"},{"$f":"Singles!R256","v":"TBC"},{"$f":"Singles!S256","v":"TBC"},{"$f":"Singles!T256","v":"TBC"},{"$f":"Singles!U256","v":"TBC"},{"$f":"Singles!V256","v":"TBC"},{"$f":"Singles!W256","v":"TBC"},null,{"$f":"Singles!X63","v":0},{"$f":"Singles!Y63","v":0},{"$f":"Singles!Z63","v":0},null,null,null,null,null,null,null,null,null,null,null,null,null,null,null,null,null,null,null,null,0]
[null,57,{"$f":"Singles!P257","v":0},{"$f":"Singles!Q257","v":"TBC"},{"$f":"Singles!R257","v":"TBC"},{"$f":"Singles!S257","v":"TBC"},{"$f":"Singles!T257","v":"TBC"},{"$f":"Singles!U257","v":"TBC"},{"$f":"Singles!V257","v":"TBC"},{"$f":"Singles!W257","v":"TBC"},null,{"$f":"Singles!X64","v":0},{"$f":"Singles!Y64","v":0},{"$f":"Singles!Z64","v":0},null,null,null,null,null,null,null,null,null,null,null,null,null,null,null,null,null,null,null,null,0]
[null,58,{"$f":"Singles!P258","v":0},{"$f":"Singles!Q258","v":"TBC"},{"$f":"Singles!R258","v":"TBC"},{"$f":"Singles!S258","v":"TBC"},{"$f":"Singles!T258","v":"TBC"},{"$f":"Singles!U258","v":"TBC"},{"$f":"Singles!V258","v":"TBC"},{"$f":"Singles!W258","v":"TBC"},null,{"$f":"Singles!X65","v":0},{"$f":"Singles!Y65","v":0},{"$f":"Singles!Z65","v":0},null,null,null,null,null,null,null,null,null,null,null,null,null,null,null,null,null,null,null,null,0]
[null,59,{"$f":"Singles!P259","v":0},{"$f":"Singles!Q259","v":"TBC"},{"$f":"Singles!R259","v":"TBC"},{"$f":"Singles!S259","v":"TBC"},{"$f":"Singles!T259","v":"TBC"},{"$f":"Singles!U259","v":"TBC"},{"$f":"Singles!V259","v":"TBC"},{"$f":"Singles!W259","v":"TBC"},null,{"$f":"Singles!X66","v":0},{"$f":"Singles!Y66","v":0},{"$f":"Singles!Z66","v":0},null,null,null,null,null,null,null,null,null,null,null,null,null,null,null,null,null,null,null,null,0]
[null,60,{"$f":"Singles!P260","v":0},{"$f":"Singles!Q260","v":"TBC"},{"$f":"Singles!R260","v":"TBC"},{"$f":"Singles!S260","v":"TBC"},{"$f":"Singles!T260","v":"TBC"},{"$f":"Singles!U260","v":"TBC"},{"$f":"Singles!V260","v":"TBC"},{"$f":"Singles!W260","v":"TBC"},null,{"$f":"Singles!X67","v":0},{"$f":"Singles!Y67","v":0},{"$f":"Singles!Z67","v":0},null,null,null,null,null,null,null,null,null,null,null,null,null,null,null,null,null,null,null,null,0]
[null,61,{"$f":"Singles!P261","v":0},{"$f":"Singles!Q261","v":"TBC"},{"$f":"Singles!R261","v":"TBC"},{"$f":"Singles!S261","v":"TBC"},{"$f":"Singles!T261","v":"TBC"},{"$f":"Singles!U261","v":"TBC"},{"$f":"Singles!V261","v":"TBC"},{"$f":"Singles!W261","v":"TBC"},null,{"$f":"Singles!X68","v":0},{"$f":"Singles!Y68","v":0},{"$f":"Singles!Z68","v":0},null,null,null,null,null,null,null,null,null,null,null,null,null,null,null,null,null,null,null,null,0]
[null,62,{"$f":"Singles!P262","v":0},{"$f":"Singles!Q262","v":"TBC"},{"$f":"Singles!R262","v":"TBC"},{"$f":"Singles!S262","v":"TBC"},{"$f":"Singles!T262","v":"TBC"},{"$f":"Singles!U262","v":"TBC"},{"$f":"Singles!V262","v":"TBC"},{"$f":"Singles!W262","v":"TBC"},null,{"$f":"Singles!X69","v":0},{"$f":"Singles!Y69","v":0},{"$f":"Singles!Z69","v":0},null,null,null,null,null,null,null,null,null,null,null,null,null,null,null,null,null,null,null,null,0]
[null,63,{"$f":"Singles!P263","v":0},{"$f":"Singles!Q263","v":"TBC"},{"$f":"Singles!R263","v":"TBC"},{"$f":"Singles!S263","v":"TBC"},{"$f":"Singles!T263","v":"TBC"},{"$f":"Singles!U263","v":"TBC"},{"$f":"Singles!V263","v":"TBC"},{"$f":"Singles!W263","v":"TBC"},null,{"$f":"Singles!X70","v":0},{"$f":"Singles!Y70","v":0},{"$f":"Singles!Z70","v":0},null,null,null,null,null,null,null,null,null,null,null,null,null,null,null,null,null,null,null,null,0]
[null,64,{"$f":"Singles!P264","v":0},{"$f":"Singles!Q264","v":"TBC"},{"$f":"Singles!R264","v":"TBC"},{"$f":"Singles!S264","v":"TBC"},{"$f":"Singles!T264","v":"TBC"},{"$f":"Singles!U264","v":"TBC"},{"$f":"Singles!V264","v":"TBC"},{"$f":"Singles!W264","v":"TBC"},null,{"$f":"Singles!X71","v":0},{"$f":"Singles!Y71","v":0},{"$f":"Singles!Z71","v":0},null,null,null,null,null,null,null,null,null,null,null,null,null,null,null,null,null,null,null,null,0]
[null,65,{"$f":"Singles!P265","v":0},{"$f":"Singles!Q265","v":"TBC"},{"$f":"Singles!R265","v":"TBC"},{"$f":"Singles!S265","v":"TBC"},{"$f":"Singles!T265","v":"TBC"},{"$f":"Singles!U265","v":"TBC"},{"$f":"Singles!V265","v":"TBC"},{"$f":"Singles!W265","v":"TBC"},null,{"$f":"Singles!X72","v":0},{"$f":"Singles!Y72","v":0},{"$f":"Singles!Z72","v":0},null,null,null,null,null,null,null,null,null,null,null,null,null,null,null,null,null,null,null,null,0]
[null,66,{"$f":"Singles!P266","v":0},{"$f":"Singles!Q266","v":"TBC"},{"$f":"Singles!R266","v":"TBC"},{"$f":"Singles!S266","v":"TBC"},{"$f":"Singles!T266","v":"TBC"},{"$f":"Singles!U266","v":"TBC"},{"$f":"Singles!V266","v":"TBC"},{"$f":"Singles!W266","v":"TBC"},null,{"$f":"Singles!X73","v":0},{"$f":"Singles!Y73","v":0},{"$f":"Singles!Z73","v":0},null,null,null,null,null,null,null,null,null,null,null,null,null,null,null,null,null,null,null,null,0]
[null,67,{"$f":"Singles!P267","v":0},{"$f":"Singles!Q267","v":"TBC"},{"$f":"Singles!R267","v":"TBC"},{"$f":"Singles!S267","v":"TBC"},{"$f":"Singles!T267","v":"TBC"},{"$f":"Singles!U267","v":"TBC"},{"$f":"Singles!V267","v":"TBC"},{"$f":"Singles!W267","v":"TBC"},null,{"$f":"Singles!X74","v":0},{"$f":"Singles!Y74","v":0},{"$f":"Singles!Z74","v":0},null,null,null,null,null,null,null,null,null,null,null,null,null,null,null,null,null,null,null,null,0]
[null,68,{"$f":"Singles!P268","v":0},{"$f":"Singles!Q268","v":"TBC"},{"$f":"Singles!R268","v":"TBC"},{"$f":"Singles!S268","v":"TBC"},{"$f":"Singles!T268","v":"TBC"},{"$f":"Singles!U268","v":"TBC"},{"$f":"Singles!V268","v":"TBC"},{"$f":"Singles!W268","v":"TBC"},null,{"$f":"Singles!X75","v":0},{"$f":"Singles!Y75","v":0},{"$f":"Singles!Z75","v":0},null,null,null,null,null,null,null,null,null,null,null,null,null,null,null,null,null,null,null,null,0]
[null,69,{"$f":"Singles!P269","v":0},{"$f":"Singles!Q269","v":"TBC"},{"$f":"Singles!R269","v":"TBC"},{"$f":"Singles!S269","v":"TBC"},{"$f":"Singles!T269","v":"TBC"},{"$f":"Singles!U269","v":"TBC"},{"$f":"Singles!V269","v":"TBC"},{"$f":"Singles!W269","v":"TBC"},null,{"$f":"Singles!X76","v":0},{"$f":"Singles!Y76","v":0},{"$f":"Singles!Z76","v":0},null,null,null,null,null,null,null,null,null,null,null,null,null,null,null,null,null,null,null,null,0]
[null,70,{"$f":"Singles!P270","v":0},{"$f":"Singles!Q270","v":"TBC"},{"$f":"Singles!R270","v":"TBC"},{"$f":"Singles!S270","v":"TBC"},{"$f":"Singles!T270","v":"TBC"},{"$f":"Singles!U270","v":"TBC"},{"$f":"Singles!V270","v":"TBC"},{"$f":"Singles!W270","v":"TBC"},null,{"$f":"Singles!X77","v":0},{"$f":"Singles!Y77","v":0},{"$f":"Singles!Z77","v":0},null,null,null,null,null,null,null,null,null,null,null,null,null,null,null,null,null,null,null,null,0]
[null,71,{"$f":"Singles!P271","v":0},{"$f":"Singles!Q271","v":"TBC"},{"$f":"Singles!R271","v":"TBC"},{"$f":"Singles!S271","v":"TBC"},{"$f":"Singles!T271","v":"TBC"},{"$f":"Singles!U271","v":"TBC"},{"$f":"Singles!V271","v":"TBC"},{"$f":"Singles!W271","v":"TBC"},null,{"$f":"Singles!X78","v":0},{"$f":"Singles!Y78","v":0},{"$f":"Singles!Z78","v":0},null,null,null,null,null,null,null,null,null,null,null,null,null,null,null,null,null,null,null,null,0]
[null,72,{"$f":"Singles!P272","v":0},{"$f":"Singles!Q272","v":"TBC"},{"$f":"Singles!R272","v":"TBC"},{"$f":"Singles!S272","v":"TBC"},{"$f":"Singles!T272","v":"TBC"},{"$f":"Singles!U272","v":"TBC"},{"$f":"Singles!V272","v":"TBC"},{"$f":"Singles!W272","v":"TBC"},null,{"$f":"Singles!X79","v":0},{"$f":"Singles!Y79","v":0},{"$f":"Singles!Z79","v":0},null,null,null,null,null,null,null,null,null,null,null,null,null,null,null,null,null,null,null,null,0]
[null,73,{"$f":"Singles!P273","v":0},{"$f":"Singles!Q273","v":"TBC"},{"$f":"Singles!R273","v":"TBC"},{"$f":"Singles!S273","v":"TBC"},{"$f":"Singles!T273","v":"TBC"},{"$f":"Singles!U273","v":"TBC"},{"$f":"Singles!V273","v":"TBC"},{"$f":"Singles!W273","v":"TBC"},null,{"$f":"Singles!X80","v":0},{"$f":"Singles!Y80","v":0},{"$f":"Singles!Z80","v":0},null,null,null,null,null,null,null,null,null,null,null,null,null,null,null,null,null,null,null,null,0]
[null,74,{"$f":"Singles!P274","v":0},{"$f":"Singles!Q274","v":"TBC"},{"$f":"Singles!R274","v":"TBC"},{"$f":"Singles!S274","v":"TBC"},{"$f":"Singles!T274","v":"TBC"},{"$f":"Singles!U274","v":"TBC"},{"$f":"Singles!V274","v":"TBC"},{"$f":"Singles!W274","v":"TBC"},null,{"$f":"Singles!X81","v":0},{"$f":"Singles!Y81","v":0},{"$f":"Singles!Z81","v":0},null,null,null,null,null,null,null,null,null,null,null,null,null,null,null,null,null,null,null,null,0]
[null,75,{"$f":"Singles!P275","v":0},{"$f":"Singles!Q275","v":"TBC"},{"$f":"Singles!R275","v":"TBC"},{"$f":"Singles!S275","v":"TBC"},{"$f":"Singles!T275","v":"TBC"},{"$f":"Singles!U275","v":"TBC"},{"$f":"Singles!V275","v":"TBC"},{"$f":"Singles!W275","v":"TBC"},null,{"$f":"Singles!X82","v":0},{"$f":"Singles!Y82","v":0},{"$f":"Singles!Z82","v":0},null,null,null,null,null,null,null,null,null,null,null,null,null,null,null,null,null,null,null,null,0]
[{"$f":"$D$7","v":"DCU"}]

{"sheet":"RIM","index":4,"n_rows":82,"n_cols":35,"rows_kept":82,"cut":false,"hidden":true,"merged":[[81,0,81,14],[0,0,0,14],[1,14,80,14],[1,0,80,0],[4,1,4,9],[4,11,4,13],[1,4,1,9],[1,11,1,13],[1,1,3,3],[2,11,3,11],[2,12,3,12],[2,13,3,13],[1,10,80,10]]}
[{"$f":"$D$7","v":0}]
[{"$f":"$D$7","v":0},"Male Intermediate Recurve",null,null,"Host Club",null,null,null,null,null,{"$f":"$D$7","v":0},"Scores",null,null,0,null,null,null,null,null,null,null,null,null,null,null,null,null,null,null,null,null,null,null,{"$f":"AI7","v":0}]
[null,null,null,null,{"$f":"Entries!K6","v":"DCU IV"},{"$f":"Entries!K7","v":"UCD/ITC IV"},{"$f":"Entries!K8","v":"DkIT IV"},null,{"$f":"Entries!K9","v":"NUIM/GMIT IV"},{"$f":"Entries!K10","v":"NUIG IV"},null,"Total","Lowest","League"]
[]
[null,0,null,null,null,null,null,null,null,null,null,0]
[null,null,"Name","College",{"$f":"Entries!K6","v":"DCU IV"},{"$f":"Entries!K7","v":"UCD/ITC IV"},{"$f":"Entries!K8","v":"DkIT IV"},null,{"$f":"Entries!K9","v":"NUIM/GMIT IV"},{"$f":"Entries!K10","v":"NUIG IV"},null,"Total","Lowest","League total"]
[null,1,{"$f":"Singles!AD201","v":0},{"$f":"Singles!AE201","v":0},{"$f":"Singles!AF201","v":0},{"$f":"Singles!AG201","v":"TBC"},{"$f":"Singles!AH201","v":"TBC"},{"$f":"Singles!AI201","v":"TBC"},{"$f":"Singles!AJ201","v":"TBC"},{"$f":"Singles!AK201","v":"TBC"},null,{"$f":"Singles!AL201","v":0},{"$f":"Singles!AM201","v":0},{"$f":"Singles!AN201","v":0},null,null,null,null,null,null,null,null,null,null,null,null,null,null,null,null,null,null,null,null,{"$f":"C7","v":0}]
[null,2,{"$f":"Singles!AD202","v":0},{"$f":"Singles!AE202","v":"TBC"},{"$f":"Singles!AF202","v":"TBC"},{"$f":"Singles!AG202","v":"TBC"},{"$f":"Singles!AH202","v":"TBC"},{"$f":"Singles!AI202","v":"TBC"},{"$f":"Singles!AJ202","v":"TBC"},{"$f":"Singles!AK202","v":"TBC"},null,{"$f":"Singles!AL202","v":0},{"$f":"Singles!AM202","v":0},{"$f":"Singles!AN202","v":0},null,null,null,null,null,null,null,null,null,null,null,null,null,null,null,null,null,null,null,null,0]
[null,3,{"$f":"Singles!AD203","v":0},{"$f":"Singles!AE203","v":"TBC"},{"$f":"Singles!AF203","v":"TBC"},{"$f":"Singles!AG203","v":"TBC"},{"$f":"Singles!AH203","v":"TBC"},{"$f":"Singles!AI203","v":"TBC"},{"$f":"Singles!AJ203","v":"TBC"},{"$f":"Singles!AK203","v":"TBC"},null,{"$f":"Singles!AL203","v":0},{"$f":"Singles!AM203","v":0},{"$f":"Singles!AN203","v":0},null,null,null,null,null,null,null,null,null,null,null,null,null,null,null,null,null,null,null,null,0]
[null,4,{"$f":"Singles!AD204","v":0},{"$f":"Singles!AE204","v":"TBC"},{"$f":"Singles!AF204","v":"TBC"},{"$f":"Singles!AG204","v":"TBC"},{"$f":"Singles!AH204","v":"TBC"},{"$f":"Singles!AI204","v":"TBC"},{"$f":"Singles!AJ204","v":"TBC"},{"$f":"Singles!AK204","v":"TBC"},null,{"$f":"Singles!AL204","v":0},{"$f":"Singles!AM204","v":0},{"$f":"Singles!AN204","v":0},null,null,null,null,null,null,null,null,null,null,null,null,null,null,null,null,null,null,null,null,0]
[null,5,{"$f":"Singles!AD211","v":0},{"$f":"Singles!AE211","v":"TBC"},{"$f":"Singles!AF211","v":"TBC"},{"$f":"Singles!AG211","v":"TBC"},{"$f":"Singles!AH211","v":"TBC"},{"$f":"Singles!AI211","v":"TBC"},{"$f":"Singles!AJ211","v":"TBC"},{"$f":"Singles!AK211","v":"TBC"},null,{"$f":"Singles!AL211","v":0},{"$f":"Singles!AM211","v":0},{"$f":"Singles!AN211","v":0},null,null,null,null,null,null,null,null,null,null,null,null,null,null,null,null,null,null,null,null,0]
[null,6,{"$f":"Singles!AD205","v":0},{"$f":"Singles!AE205","v":"TBC"},{"$f":"Singles!AF205","v":"TBC"},{"$f":"Singles!AG205","v":"TBC"},{"$f":"Singles!AH205","v":"TBC"},{"$f":"Singles!AI205","v":"TBC"},{"$f":"Singles!AJ205","v":"TBC"},{"$f":"Singles!AK205","v":"TBC"},null,{"$f":"Singles!AL205","v":0},{"$f":"Singles!AM205","v":0},{"$f":"Singles!AN205","v":0},null,null,null,null,null,null,null,null,null,null,null,null,null,null,null,null,null,null,null,null,0]
[null,7,{"$f":"Singles!AD207","v":0},{"$f":"Singles!AE207","v":"TBC"},{"$f":"Singles!AF207","v":"TBC"},{"$f":"Singles!AG207","v":"TBC"},{"$f":"Singles!AH207","v":"TBC"},{"$f":"Singles!AI207","v":"TBC"},{"$f":"Singles!AJ207","v":"TBC"},{"$f":"Singles!AK207","v":"TBC"},null,{"$f":"Singles!AL207","v":0},{"$f":"Singles!AM207","v":0},{"$f":"Singles!AN207","v":0},null,null,null,null,null,null,null,null,null,null,null,null,null,null,null,null,null,null,null,null,0]
[null,8,{"$f":"Singles!AD206","v":0},{"$f":"Singles!AE206","v":"TBC"},{"$f":"Singles!AF206","v":"TBC"},{"$f":"Singles!AG206","v":"TBC"},{"$f":"Singles!AH206","v":"TBC"},{"$f":"Singles!AI206","v":"TBC"},{"$f":"Singles!AJ206","v":"TBC"},{"$f":"Singles!AK206","v":"TBC"},null,{"$f":"Singles!AL206","v":0},{"$f":"Singles!AM206","v":0},{"$f":"Singles!AN206","v":0},null,null,null,null,null,null,null,null,null,null,null,null,null,null,null,null,null,null,null,null,0]
[null,9,{"$f":"Singles!AD208","v":0},{"$f":"Singles!AE208","v":"TBC"},{"$f":"Singles!AF208","v":"TBC"},{"$f":"Singles!AG208","v":"TBC"},{"$f":"Singles!AH208","v":"TBC"},{"$f":"Singles!AI208","v":"TBC"},{"$f":"Singles!AJ208","v":"TBC"},{"$f":"Singles!AK208","v":"TBC"},null,{"$f":"Singles!AL208","v":0},{"$f":"Singles!AM208","v":0},{"$f":"Singles!AN208","v":0},null,null,null,null,null,null,null,null,null,null,null,null,null,null,null,null,null,null,null,null,0]
[null,10,{"$f":"Singles!AD212","v":0},{"$f":"Singles!AE212","v":"TBC"},{"$f":"Singles!AF212","v":"TBC"},{"$f":"Singles!AG212","v":"TBC"},{"$f":"Singles!AH212","v":"TBC"},{"$f":"Singles!AI212","v":"TBC"},{"$f":"Singles!AJ212","v":"TBC"},{"$f":"Singles!AK212","v":"TBC"},null,{"$f":"Singles!AL212","v":0},{"$f":"Singles!AM212","v":0},{"$f":"Singles!AN212","v":0},null,null,null,null,null,null,null,null,null,null,null,null,null,null,null,null,null,null,null,null,0]
[null,11,{"$f":"Singles!AD213","v":0},{"$f":"Singles!AE213","v":"TBC"},{"$f":"Singles!AF213","v":"TBC"},{"$f":"Singles!AG213","v":"TBC"},{"$f":"Singles!AH213","v":"TBC"},{"$f":"Singles!AI213","v":"TBC"},{"$f":"Singles!AJ213","v":"TBC"},{"$f":"Singles!AK213","v":"TBC"},null,{"$f":"Singles!AL213","v":0},{"$f":"Singles!AM213","v":0},{"$f":"Singles!AN213","v":0},null,null,null,null,null,null,null,null,null,null,null,null,null,null,null,null,null,null,null,null,0]
[null,12,{"$f":"Singles!AD209","v":0},{"$f":"Singles!AE209","v":"TBC"},{"$f":"Singles!AF209","v":"TBC"},{"$f":"Singles!AG209","v":"TBC"},{"$f":"Singles!AH209","v":"TBC"},{"$f":"Singles!AI209","v":"TBC"},{"$f":"Singles!AJ209","v":"TBC"},{"$f":"Singles!AK209","v":"TBC"},null,{"$f":"Singles!AL209","v":0},{"$f":"Singles!AM209","v":0},{"$f":"Singles!AN209","v":0},null,null,null,null,null,null,null,null,null,null,null,null,null,null,null,null,null,null,null,null,0]
[null,13,{"$f":"Singles!AD214","v":0},{"$f":"Singles!AE214","v":"TBC"},{"$f":"Singles!AF214","v":"TBC"},{"$f":"Singles!AG214","v":"TBC"},{"$f":"Singles!AH214","v":"TBC"},{"$f":"Singles!AI214","v":"TBC"},{"$f":"Singles!AJ214","v":"TBC"},{"$f":"Singles!AK214","v":"TBC"},null,{"$f":"Singles!AL214","v":0},{"$f":"Singles!AM214","v":0},{"$f":"Singles!AN214","v":0},null,null,null,null,null,null,null,null,null,null,null,null,null,null,null,null,null,null,null,null,0]
[null,14,{"$f":"Singles!AD210","v":0},{"$f":"Singles!AE210","v":"TBC"},{"$f":"Singles!AF210","v":"TBC"},{"$f":"Singles!AG210","v":"TBC"},{"$f":"Singles!AH210","v":"TBC"},{"$f":"Singles!AI210","v":"TBC"},{"$f":"Singles!AJ210","v":"TBC"},{"$f":"Singles!AK210","v":"TBC"},null,{"$f":"Singles!AL210","v":0},{"$f":"Singles!AM210","v":0},{"$f":"Singles!AN210","v":0},null,null,null,null,null,null,null,null,null,null,null,null,null,null,null,null,null,null,null,null,0]
[null,15,{"$f":"Singles!AD215","v":0},{"$f":"Singles!AE215","v":"TBC"},{"$f":"Singles!AF215","v":"TBC"},{"$f":"Singles!AG215","v":"TBC"},{"$f":"Singles!AH215","v":"TBC"},{"$f":"Singles!AI215","v":"TBC"},{"$f":"Singles!AJ215","v":"TBC"},{"$f":"Singles!AK215","v":"TBC"},null,{"$f":"Singles!AL215","v":0},{"$f":"Singles!AM215","v":0},{"$f":"Singles!AN215","v":0},null,null,null,null,null,null,null,null,null,null,null,null,null,null,null,null,null,null,null,null,0]
[null,16,{"$f":"Singles!AD216","v":0},{"$f":"Singles!AE216","v":"TBC"},{"$f":"Singles!AF216","v":"TBC"},{"$f":"Singles!AG216","v":"TBC"},{"$f":"Singles!AH216","v":"TBC"},{"$f":"Singles!AI216","v":"TBC"},{"$f":"Singles!AJ216","v":"TBC"},{"$f":"Singles!AK216","v":"TBC"},null,{"$f":"Singles!AL216","v":0},{"$f":"Singles!AM216","v":0},{"$f":"Singles!AN216","v":0},null,null,null,null,null,null,null,null,null,null,null,null,null,null,null,null,null,null,null,null,0]
[null,17,{"$f":"Singles!AD217","v":0},{"$f":"Singles!AE217","v":"TBC"},{"$f":"Singles!AF217","v":"TBC"},{"$f":"Singles!AG217","v":"TBC"},{"$f":"Singles!AH217","v":"TBC"},{"$f":"Singles!AI217","v":"TBC"},{"$f":"Singles!AJ217","v":"TBC"},{"$f":"Singles!AK217","v":"TBC"},null,{"$f":"Singles!AL217","v":0},{"$f":"Singles!AM217","v":0},{"$f":"Singles!AN217","v":0},null,null,null,null,null,null,null,null,null,null,null,null,null,null,null,null,null,null,null,null,0]
[null,18,{"$f":"Singles!AD218","v":0},{"$f":"Singles!AE218","v":"TBC"},{"$f":"Singles!AF218","v":"TBC"},{"$f":"Singles!AG218","v":"TBC"},{"$f":"Singles!AH218","v":"TBC"},{"$f":"Singles!AI218","v":"TBC"},{"$f":"Singles!AJ218","v":"TBC"},{"$f":"Singles!AK218","v":"TBC"},null,{"$f":"Singles!AL218","v":0},{"$f":"Singles!AM218","v":0},{"$f":"Singles!AN218","v":0},null,null,null,null,null,null,null,null,null,null,null,null,null,null,null,null,null,null,null,null,0]
[null,19,{"$f":"Singles!AD219","v":0},{"$f":"Singles!AE219","v":"TBC"},{"$f":"Singles!AF219","v":"TBC"},{"$f":"Singles!AG219","v":"TBC"},{"$f":"Singles!AH219","v":"TBC"},{"$f":"Singles!AI219","v":"TBC"},{"$f":"Singles!AJ219","v":"TBC"},{"$f":"Singles!AK219","v":"TBC"},null,{"$f":"Singles!AL219","v":0},{"$f":"Singles!AM219","v":0},{"$f":"Singles!AN219","v":0},null,null,null,null,null,null,null,null,null,null,null,null,null,null,null,null,null,null,null,null,0]
[null,20,{"$f":"Singles!AD220","v":0},{"$f":"Singles!AE220","v":"TBC"},{"$f":"Singles!AF220","v":"TBC"},{"$f":"Singles!AG220","v":"TBC"},{"$f":"Singles!AH220","v":"TBC"},{"$f":"Singles!AI220","v":"TBC"},{"$f":"Singles!AJ220","v":"TBC"},{"$f":"Singles!AK220","v":"TBC"},null,{"$f":"Singles!AL220","v":0},{"$f":"Singles!AM220","v":0},{"$f":"Singles!AN220","v":0},null,null,null,null,null,null,null,null,null,null,null,null,null,null,null,null,null,null,null,null,0]
[null,21,{"$f":"Singles!AD221","v":0},{"$f":"Singles!AE221","v":"TBC"},{"$f":"Singles!AF221","v":"TBC"},{"$f":"Singles!AG221","v":"TBC"},{"$f":"Singles!AH221","v":"TBC"},{"$f":"Singles!AI221","v":"TBC"},{"$f":"Singles!AJ221","v":"TBC"},{"$f":"Singles!AK221","v":"TBC"},null,{"$f":"Singles!AL221","v":0},{"$f":"Singles!AM221","v":0},{"$f":"Singles!AN221","v":0},null,null,null,null,null,null,null,null,null,null,null,null,null,null,null,null,null,null,null,null,0]
[null,22,{"$f":"Singles!AD222","v":0},{"$f":"Singles!AE222","v":"TBC"},{"$f":"Singles!AF222","v":"TBC"},{"$f":"Singles!AG222","v":"TBC"},{"$f":"Singles!AH222","v":"TBC"},{"$f":"Singles!AI222","v":"TBC"},{"$f":"Singles!AJ222","v":"TBC"},{"$f":"Singles!AK222","v":"TBC"},null,{"$f":"Singles!AL222","v":0},{"$f":"Singles!AM222","v":0},{"$f":"Singles!AN222","v":0},null,null,null,null,null,null,null,null,null,null,null,null,null,null,null,null,null,null,null,null,0]
[null,23,{"$f":"Singles!AD223","v":0},{"$f":"Singles!AE223","v":"TBC"},{"$f":"Singles!AF223","v":"TBC"},{"$f":"Singles!AG223","v":"TBC"},{"$f":"Singles!AH223","v":"TBC"},{"$f":"Singles!AI223","v":"TBC"},{"$f":"Singles!AJ223","v":"TBC"},{"$f":"Singles!AK223","v":"TBC"},null,{"$f":"Singles!AL223","v":0},{"$f":"Singles!AM223","v":0},{"$f":"Singles!AN223","v":0},null,null,null,null,null,null,null,null,null,null,null,null,null,null,null,null,null,null,null,null,0]
[null,24,{"$f":"Singles!AD224","v":0},{"$f":"Singles!AE224","v":"TBC"},{"$f":"Singles!AF224","v":"TBC"},{"$f":"Singles!AG224","v":"TBC"},{"$f":"Singles!AH224","v":"TBC"},{"$f":"Singles!AI224","v":"TBC"},{"$f":"Singles!AJ224","v":"TBC"},{"$f":"Singles!AK224","v":"TBC"},null,{"$f":"Singles!AL224","v":0},{"$f":"Singles!AM224","v":0},{"$f":"Singles!AN224","v":0},null,null,null,null,null,null,null,null,null,null,null,null,null,null,null,null,null,null,null,null,0]
[null,25,{"$f":"Singles!AD225","v":0},{"$f":"Singles!AE225","v":"TBC"},{"$f":"Singles!AF225","v":"TBC"},{"$f":"Singles!AG225","v":"TBC"},{"$f":"Singles!AH225","v":"TBC"},{"$f":"Singles!AI225","v":"TBC"},{"$f":"Singles!AJ225","v":"TBC"},{"$f":"Singles!AK225","v":"TBC"},null,{"$f":"Singles!AL225","v":0},{"$f":"Singles!AM225","v":0},{"$f":"Singles!AN225","v":0},null,null,null,null,null,null,null,null,null,null,null,null,null,null,null,null,null,null,null,null,0]
[null,26,{"$f":"Singles!AD226","v":0},{"$f":"Singles!AE226","v":"TBC"},{"$f":"Singles!AF226","v":"TBC"},{"$f":"Singles!AG226","v":"TBC"},{"$f":"Singles!AH226","v":"TBC"},{"$f":"Singles!AI226","v":"TBC"},{"$f":"Singles!AJ226","v":"TBC"},{"$f":"Singles!AK226","v":"TBC"},null,{"$f":"Singles!AL226","v":0},{"$f":"Singles!AM226","v":0},{"$f":"Singles!AN226","v":0},null,null,null,null,null,null,null,null,null,null,null,null,null,null,null,null,null,null,null,null,0]
[null,27,{"$f":"Singles!AD227","v":0},{"$f":"Singles!AE227","v":"TBC"},{"$f":"Singles!AF227","v":"TBC"},{"$f":"Singles!AG227","v":"TBC"},{"$f":"Singles!AH227","v":"TBC"},{"$f":"Singles!AI227","v":"TBC"},{"$f":"Singles!AJ227","v":"TBC"},{"$f":"Singles!AK227","v":"TBC"},null,{"$f":"Singles!AL227","v":0},{"$f":"Singles!AM227","v":0},{"$f":"Singles!AN227","v":0},null,null,null,null,null,null,null,null,null,null,null,null,null,null,null,null,null,null,null,null,0]
[null,28,{"$f":"Singles!AD228","v":0},{"$f":"Singles!AE228","v":"TBC"},{"$f":"Singles!AF228","v":"TBC"},{"$f":"Singles!AG228","v":"TBC"},{"$f":"Singles!AH228","v":"TBC"},{"$f":"Singles!AI228","v":"TBC"},{"$f":"Singles!AJ228","v":"TBC"},{"$f":"Singles!AK228","v":"TBC"},null,{"$f":"Singles!AL228","v":0},{"$f":"Singles!AM228","v":0},{"$f":"Singles!AN228","v":0},null,null,null,null,null,null,null,null,null,null,null,null,null,null,null,null,null,null,null,null,0]
[null,29,{"$f":"Singles!AD229","v":0},{"$f":"Singles!AE229","v":"TBC"},{"$f":"Singles!AF229","v":"TBC"},{"$f":"Singles!AG229","v":"TBC"},{"$f":"Singles!AH229","v":"TBC"},{"$f":"Singles!AI229","v":"TBC"},{"$f":"Singles!AJ229","v":"TBC"},{"$f":"Singles!AK229","v":"TBC"},null,{"$f":"Singles!AL229","v":0},{"$f":"Singles!AM229","v":0},{"$f":"Singles!AN229","v":0},null,null,null,null,null,null,null,null,null,null,null,null,null,null,null,null,null,null,null,null,0]
[null,30,{"$f":"Singles!AD230","v":0},{"$f":"Singles!AE230","v":"TBC"},{"$f":"Singles!AF230","v":"TBC"},{"$f":"Singles!AG230","v":"TBC"},{"$f":"Singles!AH230","v":"TBC"},{"$f":"Singles!AI230","v":"TBC"},{"$f":"Singles!AJ230","v":"TBC"},{"$f":"Singles!AK230","v":"TBC"},null,{"$f":"Singles!AL230","v":0},{"$f":"Singles!AM230","v":0},{"$f":"Singles!AN230","v":0},null,null,null,null,null,null,null,null,null,null,null,null,null,null,null,null,null,null,null,null,0]
[null,31,{"$f":"Singles!AD231","v":0},{"$f":"Singles!AE231","v":"TBC"},{"$f":"Singles!AF231","v":"TBC"},{"$f":"Singles!AG231","v":"TBC"},{"$f":"Singles!AH231","v":"TBC"},{"$f":"Singles!AI231","v":"TBC"},{"$f":"Singles!AJ231","v":"TBC"},{"$f":"Singles!AK231","v":"TBC"},null,{"$f":"Singles!AL231","v":0},{"$f":"Singles!AM231","v":0},{"$f":"Singles!AN231","v":0},null,null,null,null,null,null,null,null,null,null,null,null,null,null,null,null,null,null,null,null,0]
[null,32,{"$f":"Singles!AD232","v":0},{"$f":"Singles!AE232","v":"TBC"},{"$f":"Singles!AF232","v":"TBC"},{"$f":"Singles!AG232","v":"TBC"},{"$f":"Singles!AH232","v":"TBC"},{"$f":"Singles!AI232","v":"TBC"},{"$f":"Singles!AJ232","v":"TBC"},{"$f":"Singles!AK232","v":"TBC"},null,{"$f":"Singles!AL232","v":0},{"$f":"Singles!AM232","v":0},{"$f":"Singles!AN232","v":0},null,null,null,null,null,null,null,null,null,null,null,null,null,null,null,null,null,null,null,null,0]
[null,33,{"$f":"Singles!AD233","v":0},{"$f":"Singles!AE233","v":"TBC"},{"$f":"Singles!AF233","v":"TBC"},{"$f":"Singles!AG233","v":"TBC"},{"$f":"Singles!AH233","v":"TBC"},{"$f":"Singles!AI233","v":"TBC"},{"$f":"Singles!AJ233","v":"TBC"},{"$f":"Singles!AK233","v":"TBC"},null,{"$f":"Singles!AL233","v":0},{"$f":"Singles!AM233","v":0},{"$f":"Singles!AN233","v":0},null,null,null,null,null,null,null,null,null,null,null,null,null,null,null,null,null,null,null,null,{"$f":"C39","v":0}]
[null,34,{"$f":"Singles!AD234","v":0},{"$f":"Singles!AE234","v":"TBC"},{"$f":"Singles!AF234","v":"TBC"},{"$f":"Singles!AG234","v":"TBC"},{"$f":"Singles!AH234","v":"TBC"},{"$f":"Singles!AI234","v":"TBC"},{"$f":"Singles!AJ234","v":"TBC"},{"$f":"Singles!AK234","v":"TBC"},null,{"$f":"Singles!AL234","v":0},{"$f":"Singles!AM234","v":0},{"$f":"Singles!AN234","v":0},null,null,null,null,null,null,null,null,null,null,null,null,null,null,null,null,null,null,null,null,0]
[null,35,{"$f":"Singles!AD235","v":0},{"$f":"Singles!AE235","v":"TBC"},{"$f":"Singles!AF235","v":"TBC"},{"$f":"Singles!AG235","v":"TBC"},{"$f":"Singles!AH235","v":"TBC"},{"$f":"Singles!AI235","v":"TBC"},{"$f":"Singles!AJ235","v":"TBC"},{"$f":"Singles!AK235","v":"TBC"},null,{"$f":"Singles!AL235","v":0},{"$f":"Singles!AM235","v":0},{"$f":"Singles!AN235","v":0},null,null,null,null,null,null,null,null,null,null,null,null,null,null,null,null,null,null,null,null,0]
[null,36,{"$f":"Singles!AD236","v":0},{"$f":"Singles!AE236","v":"TBC"},{"$f":"Singles!AF236","v":"TBC"},{"$f":"Singles!AG236","v":"TBC"},{"$f":"Singles!AH236","v":"TBC"},{"$f":"Singles!AI236","v":"TBC"},{"$f":"Singles!AJ236","v":"TBC"},{"$f":"Singles!AK236","v":"TBC"},null,{"$f":"Singles!AL236","v":0},{"$f":"Singles!AM236","v":0},{"$f":"Singles!AN236","v":0},null,null,null,null,null,null,null,null,null,null,null,null,null,null,null,null,null,null,null,null,0]
[null,37,{"$f":"Singles!AD237","v":0},{"$f":"Singles!AE237","v":"TBC"},{"$f":"Singles!AF237","v":"TBC"},{"$f":"Singles!AG237","v":"TBC"},{"$f":"Singles!AH237","v":"TBC"},{"$f":"Singles!AI237","v":"TBC"},{"$f":"Singles!AJ237","v":"TBC"},{"$f":"Singles!AK237","v":"TBC"},null,{"$f":"Singles!AL237","v":0},{"$f":"Singles!AM237","v":0},{"$f":"Singles!AN237","v":0},null,null,null,null,null,null,null,null,null,null,null,null,null,null,null,null,null,null,null,null,0]
[null,38,{"$f":"Singles!AD238","v":0},{"$f":"Singles!AE238","v":"TBC"},{"$f":"Singles!AF238","v":"TBC"},{"$f":"Singles!AG238","v":"TBC"},{"$f":"Singles!AH238","v":"TBC"},{"$f":"Singles!AI238","v":"TBC"},{"$f":"Singles!AJ238","v":"TBC"},{"$f":"Singles!AK238","v":"TBC"},null,{"$f":"Singles!AL238","v":0},{"$f":"Singles!AM238","v":0},{"$f":"Singles!AN238","v":0},null,null,null,null,null,null,null,null,null,null,null,null,null,null,null,null,null,null,null,null,0]
[null,39,{"$f":"Singles!AD239","v":0},{"$f":"Singles!AE239","v":"TBC"},{"$f":"Singles!AF239","v":"TBC"},{"$f":"Singles!AG239","v":"TBC"},{"$f":"Singles!AH239","v":"TBC"},{"$f":"Singles!AI239","v":"TBC"},{"$f":"Singles!AJ239","v":"TBC"},{"$f":"Singles!AK239","v":"TBC"},null,{"$f":"Singles!AL239","v":0},{"$f":"Singles!AM239","v":0},{"$f":"Singles!AN239","v":0},null,null,null,null,null,null,null,null,null,null,null,null,null,null,null,null,null,null,null,null,0]
[null,40,{"$f":"Singles!AD240","v":0},{"$f":"Singles!AE240","v":"TBC"},{"$f":"Singles!AF240","v":"TBC"},{"$f":"Singles!AG240","v":"TBC"},{"$f":"Singles!AH240","v":"TBC"},{"$f":"Singles!AI240","v":"TBC"},{"$f":"Singles!AJ240","v":"TBC"},{"$f":"Singles!AK240","v":"TBC"},null,{"$f":"Singles!AL240","v":0},{"$f":"Singles!AM240","v":0},{"$f":"Singles!AN240","v":0},null,null,null,null,null,null,null,null,null,null,null,null,null,null,null,null,null,null,null,null,0]
[null,41,{"$f":"Singles!AD241","v":0},{"$f":"Singles!AE241","v":"TBC"},{"$f":"Singles!AF241","v":"TBC"},{"$f":"Singles!AG241","v":"TBC"},{"$f":"Singles!AH241","v":"TBC"},{"$f":"Singles!AI241","v":"TBC"},{"$f":"Singles!AJ241","v":"TBC"},{"$f":"Singles!AK241","v":"TBC"},null,{"$f":"Singles!AL241","v":0},{"$f":"Singles!AM241","v":0},{"$f":"Singles!AN241","v":0},null,null,null,null,null,null,null,null,null,null,null,null,null,null,null,null,null,null,null,null,0]
[null,42,{"$f":"Singles!AD242","v":0},{"$f":"Singles!AE242","v":"TBC"},{"$f":"Singles!AF242","v":"TBC"},{"$f":"Singles!AG242","v":"TBC"},{"$f":"Singles!AH242","v":"TBC"},{"$f":"Singles!AI242","v":"TBC"},{"$f":"Singles!AJ242","v":"TBC"},{"$f":"Singles!AK242","v":"TBC"},null,{"$f":"Singles!AL242","v":0},{"$f":"Singles!AM242","v":0},{"$f":"Singles!AN242","v":0},null,null,null,null,null,null,null,null,null,null,null,null,null,null,null,null,null,null,null,null,0]
[null,43,{"$f":"Singles!AD243","v":0},{"$f":"Singles!AE243","v":"TBC"},{"$f":"Singles!AF243","v":"TBC"},{"$f":"Singles!AG243","v":"TBC"},{"$f":"Singles!AH243","v":"TBC"},{"$f":"Singles!AI243","v":"TBC"},{"$f":"Singles!AJ243","v":"TBC"},{"$f":"Singles!AK243","v":"TBC"},null,{"$f":"Singles!AL243","v":0},{"$f":"Singles!AM243","v":0},{"$f":"Singles!AN243","v":0},null,null,null,null,null,null,null,null,null,null,null,null,null,null,null,null,null,null,null,null,0]
[null,44,{"$f":"Singles!AD244","v":0},{"$f":"Singles!AE244","v":"TBC"},{"$f":"Singles!AF244","v":"TBC"},{"$f":"Singles!AG244","v":"TBC"},{"$f":"Singles!AH244","v":"TBC"},{"$f":"Singles!AI244","v":"TBC"},{"$f":"Singles!AJ244","v":"TBC"},{"$f":"Singles!AK244","v":"TBC"},null,{"$f":"Singles!AL244","v":0},{"$f":"Singles!AM244","v":0},{"$f":"Singles!AN244","v":0},null,null,null,null,null,null,null,null,null,null,null,null,null,null,null,null,null,null,null,null,0]
[null,45,{"$f":"Singles!AD245","v":0},{"$f":"Singles!AE245","v":"TBC"},{"$f":"Singles!AF245","v":"TBC"},{"$f":"Singles!AG245","v":"TBC"},{"$f":"Singles!AH245","v":"TBC"},{"$f":"Singles!AI245","v":"TBC"},{"$f":"Singles!AJ245","v":"TBC"},{"$f":"Singles!AK245","v":"TBC"},null,{"$f":"Singles!AL245","v":0},{"$f":"Singles!AM245","v":0},{"$f":"Singles!AN245","v":0},null,null,null,null,null,null,null,null,null,null,null,null,null,null,null,null,null,null,null,null,0]
[null,46,{"$f":"Singles!AD246","v":0},{"$f":"Singles!AE246","v":"TBC"},{"$f":"Singles!AF246","v":"TBC"},{"$f":"Singles!AG246","v":"TBC"},{"$f":"Singles!AH246","v":"TBC"},{"$f":"Singles!AI246","v":"TBC"},{"$f":"Singles!AJ246","v":"TBC"},{"$f":"Singles!AK246","v":"TBC"},null,{"$f":"Singles!AL246","v":0},{"$f":"Singles!AM246","v":0},{"$f":"Singles!AN246","v":0},null,null,null,null,null,null,null,null,null,null,null,null,null,null,null,null,null,null,null,null,0]
[null,47,{"$f":"Singles!AD247","v":0},{"$f":"Singles!AE247","v":"TBC"},{"$f":"Singles!AF247","v":"TBC"},{"$f":"Singles!AG247","v":"TBC"},{"$f":"Singles!AH247","v":"TBC"},{"$f":"Singles!AI247","v":"TBC"},{"$f":"Singles!AJ247","v":"TBC"},{"$f":"Singles!AK247","v":"TBC"},null,{"$f":"Singles!AL247","v":0},{"$f":"Singles!AM247","v":0},{"$f":"Singles!AN247","v":0},null,null,null,null,null,null,null,null,null,null,null,null,null,null,null,null,null,null,null,null,0]
[null,48,{"$f":"Singles!AD248","v":0},{"$f":"Singles!AE248","v":"TBC"},{"$f":"Singles!AF248","v":"TBC"},{"$f":"Singles!AG248","v":"TBC"},{"$f":"Singles!AH248","v":"TBC"},{"$f":"Singles!AI248","v":"TBC"},{"$f":"Singles!AJ248","v":"TBC"},{"$f":"Singles!AK248","v":"TBC"},null,{"$f":"Singles!AL248","v":0},{"$f":"Singles!AM248","v":0},{"$f":"Singles!AN248","v":0},null,null,null,null,null,null,null,null,null,null,null,null,null,null,null,null,null,null,null,null,0]
[null,49,{"$f":"Singles!AD249","v":0},{"$f":"Singles!AE249","v":"TBC"},{"$f":"Singles!AF249","v":"TBC"},{"$f":"Singles!AG249","v":"TBC"},{"$f":"Singles!AH249","v":"TBC"},{"$f":"Singles!AI249","v":"TBC"},{"$f":"Singles!AJ249","v":"TBC"},{"$f":"Singles!AK249","v":"TBC"},null,{"$f":"Singles!AL249","v":0},{"$f":"Singles!AM249","v":0},{"$f":"Singles!AN249","v":0},null,null,null,null,null,null,null,null,null,null,null,null,null,null,null,null,null,null,null,null,0]
[null,50,{"$f":"Singles!AD250","v":0},{"$f":"Singles!AE250","v":"TBC"},{"$f":"Singles!AF250","v":"TBC"},{"$f":"Singles!AG250","v":"TBC"},{"$f":"Singles!AH250","v":"TBC"},{"$f":"Singles!AI250","v":"TBC"},{"$f":"Singles!AJ250","v":"TBC"},{"$f":"Singles!AK250","v":"TBC"},null,{"$f":"Singles!AL250","v":0},{"$f":"Singles!AM250","v":0},{"$f":"Singles!AN250","v":0},null,null,null,null,null,null,null,null,null,null,null,null,null,null,null,null,null,null,null,null,0]
[null,51,{"$f":"Singles!AD251","v":0},{"$f":"Singles!AE251","v":"TBC"},{"$f":"Singles!AF251","v":"TBC"},{"$f":"Singles!AG251","v":"TBC"},{"$f":"Singles!AH251","v":"TBC"},{"$f":"Singles!AI251","v":"TBC"},{"$f":"Singles!AJ251","v":"TBC"},{"$f":"Singles!AK251","v":"TBC"},null,{"$f":"Singles!AL251","v":0},{"$f":"Singles!AM251","v":0},{"$f":"Singles!AN251","v":0},null,null,null,null,null,null,null,null,null,null,null,null,null,null,null,null,null,null,null,null,0]
[null,52,{"$f":"Singles!AD252","v":0},{"$f":"Singles!AE252","v":"TBC"},{"$f":"Singles!AF252","v":"TBC"},{"$f":"Singles!AG252","v":"TBC"},{"$f":"Singles!AH252","v":"TBC"},{"$f":"Singles!AI252","v":"TBC"},{"$f":"Singles!AJ252","v":"TBC"},{"$f":"Singles!AK252","v":"TBC"},null,{"$f":"Singles!AL252","v":0},{"$f":"Singles!AM252","v":0},{"$f":"Singles!AN252","v":0},null,null,null,null,null,null,null,null,null,null,null,null,null,null,null,null,null,null,null,null,0]
[null,53,{"$f":"Singles!AD253","v":0},{"$f":"Singles!AE253","v":"TBC"},{"$f":"Singles!AF253","v":"TBC"},{"$f":"Singles!AG253","v":"TBC"},{"$f":"Singles!AH253","v":"TBC"},{"$f":"Singles!AI253","v":"TBC"},{"$f":"Singles!AJ253","v":"TBC"},{"$f":"Singles!AK253","v":"TBC"},null,{"$f":"Singles!AL253","v":0},{"$f":"Singles!AM253","v":0},{"$f":"Singles!AN253","v":0},null,null,null,null,null,null,null,null,null,null,null,null,null,null,null,null,null,null,null,null,0]
[null,54,{"$f":"Singles!AD254","v":0},{"$f":"Singles!AE254","v":"TBC"},{"$f":"Singles!AF254","v":"TBC"},{"$f":"Singles!AG254","v":"TBC"},{"$f":"Singles!AH254","v":"TBC"},{"$f":"Singles!AI254","v":"TBC"},{"$f":"Singles!AJ254","v":"TBC"},{"$f":"Singles!AK254","v":"TBC"},null,{"$f":"Singles!AL254","v":0},{"$f":"Singles!AM254","v":0},{"$f":"Singles!AN254","v":0},null,null,null,null,null,null,null,null,null,null,null,null,null,null,null,null,null,null,null,null,0]
[null,55,{"$f":"Singles!AD255","v":0},{"$f":"Singles!AE255","v":"TBC"},{"$f":"Singles!AF255","v":"TBC"},{"$f":"Singles!AG255","v":"TBC"},{"$f":"Singles!AH255","v":"TBC"},{"$f":"Singles!AI255","v":"TBC"},{"$f":"Singles!AJ255","v":"TBC"},{"$f":"Singles!AK255","v":"TBC"},null,{"$f":"Singles!AL255","v":0},{"$f":"Singles!AM255","v":0},{"$f":"Singles!AN255","v":0},null,null,null,null,null,null,null,null,null,null,null,null,null,null,null,null,null,null,null,null,0]
[null,56,{"$f":"Singles!AD256","v":0},{"$f":"Singles!AE256","v":"TBC"},{"$f":"Singles!AF256","v":"TBC"},{"$f":"Singles!AG256","v":"TBC"},{"$f":"Singles!AH256","v":"TBC"},{"$f":"Singles!AI256","v":"TBC"},{"$f":"Singles!AJ256","v":"TBC"},{"$f":"Singles!AK256","v":"TBC"},null,{"$f":"Singles!AL256","v":0},{"$f":"Singles!AM256","v":0},{"$f":"Singles!AN256","v":0},null,null,null,null,null,null,null,null,null,null,null,null,null,null,null,null,null,null,null,null,0]
[null,57,{"$f":"Singles!AD257","v":0},{"$f":"Singles!AE257","v":"TBC"},{"$f":"Singles!AF257","v":"TBC"},{"$f":"Singles!AG257","v":"TBC"},{"$f":"Singles!AH257","v":"TBC"},{"$f":"Singles!AI257","v":"TBC"},{"$f":"Singles!AJ257","v":"TBC"},{"$f":"Singles!AK257","v":"TBC"},null,{"$f":"Singles!AL257","v":0},{"$f":"Singles!AM257","v":0},{"$f":"Singles!AN257","v":0},null,null,null,null,null,null,null,null,null,null,null,null,null,null,null,null,null,null,null,null,0]
[null,58,{"$f":"Singles!AD258","v":0},{"$f":"Singles!AE258","v":"TBC"},{"$f":"Singles!AF258","v":"TBC"},{"$f":"Singles!AG258","v":"TBC"},{"$f":"Singles!AH258","v":"TBC"},{"$f":"Singles!AI258","v":"TBC"},{"$f":"Singles!AJ258","v":"TBC"},{"$f":"Singles!AK258","v":"TBC"},null,{"$f":"Singles!AL258","v":0},{"$f":"Singles!AM258","v":0},{"$f":"Singles!AN258","v":0},null,null,null,null,null,null,null,null,null,null,null,null,null,null,null,null,null,null,null,null,0]
[null,59,{"$f":"Singles!AD259","v":0},{"$f":"Singles!AE259","v":"TBC"},{"$f":"Singles!AF259","v":"TBC"},{"$f":"Singles!AG259","v":"TBC"},{"$f":"Singles!AH259","v":"TBC"},{"$f":"Singles!AI259","v":"TBC"},{"$f":"Singles!AJ259","v":"TBC"},{"$f":"Singles!AK259","v":"TBC"},null,{"$f":"Singles!AL259","v":0},{"$f":"Singles!AM259","v":0},{"$f":"Singles!AN259","v":0},null,null,null,null,null,null,null,null,null,null,null,null,null,null,null,null,null,null,null,null,0]
[null,60,{"$f":"Singles!AD260","v":0},{"$f":"Singles!AE260","v":"TBC"},{"$f":"Singles!AF260","v":"TBC"},{"$f":"Singles!AG260","v":"TBC"},{"$f":"Singles!AH260","v":"TBC"},{"$f":"Singles!AI260","v":"TBC"},{"$f":"Singles!AJ260","v":"TBC"},{"$f":"Singles!AK260","v":"TBC"},null,{"$f":"Singles!AL260","v":0},{"$f":"Singles!AM260","v":0},{"$f":"Singles!AN260","v":0},null,null,null,null,null,null,null,null,null,null,null,null,null,null,null,null,null,null,null,null,0]
[null,61,{"$f":"Singles!AD261","v":0},{"$f":"Singles!AE261","v":"TBC"},{"$f":"Singles!AF261","v":"TBC"},{"$f":"Singles!AG261","v":"TBC"},{"$f":"Singles!AH261","v":"TBC"},{"$f":"Singles!AI261","v":"TBC"},{"$f":"Singles!AJ261","v":"TBC"},{"$f":"Singles!AK261","v":"TBC"},null,{"$f":"Singles!AL261","v":0},{"$f":"Singles!AM261","v":0},{"$f":"Singles!AN261","v":0},null,null,null,null,null,null,null,null,null,null,null,null,null,null,null,null,null,null,null,null,0]
[null,62,{"$f":"Singles!AD262","v":0},{"$f":"Singles!AE262","v":"TBC"},{"$f":"Singles!AF262","v":"TBC"},{"$f":"Singles!AG262","v":"TBC"},{"$f":"Singles!AH262","v":"TBC"},{"$f":"Singles!AI262","v":"TBC"},{"$f":"Singles!AJ262","v":"TBC"},{"$f":"Singles!AK262","v":"TBC"},null,{"$f":"Singles!AL262","v":0},{"$f":"Singles!AM262","v":0},{"$f":"Singles!AN262","v":0},null,null,null,null,null,null,null,null,null,null,null,null,null,null,null,null,null,null,null,null,0]
[null,63,{"$f":"Singles!AD263","v":0},{"$f":"Singles!AE263","v":"TBC"},{"$f":"Singles!AF263","v":"TBC"},{"$f":"Singles!AG263","v":"TBC"},{"$f":"Singles!AH263","v":"TBC"},{"$f":"Singles!AI263","v":"TBC"},{"$f":"Singles!AJ263","v":"TBC"},{"$f":"Singles!AK263","v":"TBC"},null,{"$f":"Singles!AL263","v":0},{"$f":"Singles!AM263","v":0},{"$f":"Singles!AN263","v":0},null,null,null,null,null,null,null,null,null,null,null,null,null,null,null,null,null,null,null,null,0]
[null,64,{"$f":"Singles!AD264","v":0},{"$f":"Singles!AE264","v":"TBC"},{"$f":"Singles!AF264","v":"TBC"},{"$f":"Singles!AG264","v":"TBC"},{"$f":"Singles!AH264","v":"TBC"},{"$f":"Singles!AI264","v":"TBC"},{"$f":"Singles!AJ264","v":"TBC"},{"$f":"Singles!AK264","v":"TBC"},null,{"$f":"Singles!AL264","v":0},{"$f":"Singles!AM264","v":0},{"$f":"Singles!AN264","v":0},null,null,null,null,null,null,null,null,null,null,null,null,null,null,null,null,null,null,null,null,0]
[null,65,{"$f":"Singles!AD265","v":0},{"$f":"Singles!AE265","v":"TBC"},{"$f":"Singles!AF265","v":"TBC"},{"$f":"Singles!AG265","v":"TBC"},{"$f":"Singles!AH265","v":"TBC"},{"$f":"Singles!AI265","v":"TBC"},{"$f":"Singles!AJ265","v":"TBC"},{"$f":"Singles!AK265","v":"TBC"},null,{"$f":"Singles!AL265","v":0},{"$f":"Singles!AM265","v":0},{"$f":"Singles!AN265","v":0},null,null,null,null,null,null,null,null,null,null,null,null,null,null,null,null,null,null,null,null,0]
[null,66,{"$f":"Singles!AD266","v":0},{"$f":"Singles!AE266","v":"TBC"},{"$f":"Singles!AF266","v":"TBC"},{"$f":"Singles!AG266","v":"TBC"},{"$f":"Singles!AH266","v":"TBC"},{"$f":"Singles!AI266","v":"TBC"},{"$f":"Singles!AJ266","v":"TBC"},{"$f":"Singles!AK266","v":"TBC"},null,{"$f":"Singles!AL266","v":0},{"$f":"Singles!AM266","v":0},{"$f":"Singles!AN266","v":0},null,null,null,null,null,null,null,null,null,null,null,null,null,null,null,null,null,null,null,null,0]
[null,67,{"$f":"Singles!AD267","v":0},{"$f":"Singles!AE267","v":"TBC"},{"$f":"Singles!AF267","v":"TBC"},{"$f":"Singles!AG267","v":"TBC"},{"$f":"Singles!AH267","v":"TBC"},{"$f":"Singles!AI267","v":"TBC"},{"$f":"Singles!AJ267","v":"TBC"},{"$f":"Singles!AK267","v":"TBC"},null,{"$f":"Singles!AL267","v":0},{"$f":"Singles!AM267","v":0},{"$f":"Singles!AN267","v":0},null,null,null,null,null,null,null,null,null,null,null,null,null,null,null,null,null,null,null,null,0]
[null,68,{"$f":"Singles!AD268","v":0},{"$f":"Singles!AE268","v":"TBC"},{"$f":"Singles!AF268","v":"TBC"},{"$f":"Singles!AG268","v":"TBC"},{"$f":"Singles!AH268","v":"TBC"},{"$f":"Singles!AI268","v":"TBC"},{"$f":"Singles!AJ268","v":"TBC"},{"$f":"Singles!AK268","v":"TBC"},null,{"$f":"Singles!AL268","v":0},{"$f":"Singles!AM268","v":0},{"$f":"Singles!AN268","v":0},null,null,null,null,null,null,null,null,null,null,null,null,null,null,null,null,null,null,null,null,0]
[null,69,{"$f":"Singles!AD269","v":0},{"$f":"Singles!AE269","v":"TBC"},{"$f":"Singles!AF269","v":"TBC"},{"$f":"Singles!AG269","v":"TBC"},{"$f":"Singles!AH269","v":"TBC"},{"$f":"Singles!AI269","v":"TBC"},{"$f":"Singles!AJ269","v":"TBC"},{"$f":"Singles!AK269","v":"TBC"},null,{"$f":"Singles!AL269","v":0},{"$f":"Singles!AM269","v":0},{"$f":"Singles!AN269","v":0},null,null,null,null,null,null,null,null,null,null,null,null,null,null,null,null,null,null,null,null,0]
[null,70,{"$f":"Singles!AD270","v":0},{"$f":"Singles!AE270","v":"TBC"},{"$f":"Singles!AF270","v":"TBC"},{"$f":"Singles!AG270","v":"TBC"},{"$f":"Singles!AH270","v":"TBC"},{"$f":"Singles!AI270","v":"TBC"},{"$f":"Singles!AJ270","v":"TBC"},{"$f":"Singles!AK270","v":"TBC"},null,{"$f":"Singles!AL270","v":0},{"$f":"Singles!AM270","v":0},{"$f":"Singles!AN270","v":0},null,null,null,null,null,null,null,null,null,null,null,null,null,null,null,null,null,null,null,null,0]
[null,71,{"$f":"Singles!AD271","v":0},{"$f":"Singles!AE271","v":"TBC"},{"$f":"Singles!AF271","v":"TBC"},{"$f":"Singles!AG271","v":"TBC"},{"$f":"Singles!AH271","v":"TBC"},{"$f":"Singles!AI271","v":"TBC"},{"$f":"Singles!AJ271","v":"TBC"},{"$f":"Singles!AK271","v":"TBC"},null,{"$f":"Singles!AL271","v":0},{"$f":"Singles!AM271","v":0},{"$f":"Singles!AN271","v":0},null,null,null,null,null,null,null,null,null,null,null,null,null,null,null,null,null,null,null,null,0]
[null,72,{"$f":"Singles!AD272","v":0},{"$f":"Singles!AE272","v":"TBC"},{"$f":"Singles!AF272","v":"TBC"},{"$f":"Singles!AG272","v":"TBC"},{"$f":"Singles!AH272","v":"TBC"},{"$f":"Singles!AI272","v":"TBC"},{"$f":"Singles!AJ272","v":"TBC"},{"$f":"Singles!AK272","v":"TBC"},null,{"$f":"Singles!AL272","v":0},{"$f":"Singles!AM272","v":0},{"$f":"Singles!AN272","v":0},null,null,null,null,null,null,null,null,null,null,null,null,null,null,null,null,null,null,null,null,0]
[null,73,{"$f":"Singles!AD273","v":0},{"$f":"Singles!AE273","v":"TBC"},{"$f":"Singles!AF273","v":"TBC"},{"$f":"Singles!AG273","v":"TBC"},{"$f":"Singles!AH273","v":"TBC"},{"$f":"Singles!AI273","v":"TBC"},{"$f":"Singles!AJ273","v":"TBC"},{"$f":"Singles!AK273","v":"TBC"},null,{"$f":"Singles!AL273","v":0},{"$f":"Singles!AM273","v":0},{"$f":"Singles!AN273","v":0},null,null,null,null,null,null,null,null,null,null,null,null,null,null,null,null,null,null,null,null,0]
[null,74,{"$f":"Singles!AD274","v":0},{"$f":"Singles!AE274","v":"TBC"},{"$f":"Singles!AF274","v":"TBC"},{"$f":"Singles!AG274","v":"TBC"},{"$f":"Singles!AH274","v":"TBC"},{"$f":"Singles!AI274","v":"TBC"},{"$f":"Singles!AJ274","v":"TBC"},{"$f":"Singles!AK274","v":"TBC"},null,{"$f":"Singles!AL274","v":0},{"$f":"Singles!AM274","v":0},{"$f":"Singles!AN274","v":0},null,null,null,null,null,null,null,null,null,null,null,null,null,null,null,null,null,null,null,null,0]
[null,75,{"$f":"Singles!AD275","v":0},{"$f":"Singles!AE275","v":"TBC"},{"$f":"Singles!AF275","v":"TBC"},{"$f":"Singles!AG275","v":"TBC"},{"$f":"Singles!AH275","v":"TBC"},{"$f":"Singles!AI275","v":"TBC"},{"$f":"Singles!AJ275","v":"TBC"},{"$f":"Singles!AK275","v":"TBC"},null,{"$f":"Singles!AL275","v":0},{"$f":"Singles!AM275","v":0},{"$f":"Singles!AN275","v":0},null,null,null,null,null,null,null,null,null,null,null,null,null,null,null,null,null,null,null,null,0]
[{"$f":"$D$7","v":0}]

{"sheet":"RIF","index":5,"n_rows":82,"n_cols":35,"rows_kept":82,"cut":false,"hidden":true,"merged":[[0,0,0,14],[81,0,81,14],[4,1,4,9],[4,11,4,13],[1,14,80,14],[1,0,80,0],[1,4,1,9],[1,11,1,13],[1,1,3,3],[2,11,3,11],[2,12,3,12],[2,13,3,13],[1,10,80,10]]}
[{"$f":"$D$7","v":0}]
[0,"Female Intermediate Recurve",null,null,"Host Club",null,null,null,null,null,{"$f":"$D$7","v":0},"Scores",null,null,0,null,null,null,null,null,null,null,null,null,null,null,null,null,null,null,null,null,null,null,{"$f":"AI7","v":0}]
[null,null,null,null,{"$f":"Entries!K6","v":"DCU IV"},{"$f":"Entries!K7","v":"UCD/ITC IV"},{"$f":"Entries!K8","v":"DkIT IV"},null,{"$f":"Entries!K9","v":"NUIM/GMIT IV"},{"$f":"Entries!K10","v":"NUIG IV"},null,"Total","Lowest","League"]
[]
[null,0,null,null,null,null,null,null,null,null,null,0]
[null,null,"Name","College",{"$f":"Entries!K6","v":"DCU IV"},{"$f":"Entries!K7","v":"UCD/ITC IV"},{"$f":"Entries!K8","v":"DkIT IV"},null,{"$f":"Entries!K9","v":"NUIM/GMIT IV"},{"$f":"Entries!K10","v":"NUIG IV"},null,"Total","Lowest","League total"]
[null,1,{"$f":"Singles!AR201","v":0},{"$f":"Singles!AS201","v":0},{"$f":"Singles!AT201","v":0},{"$f":"Singles!AU201","v":"TBC"},{"$f":"Singles!AV201","v":"TBC"},{"$f":"Singles!AW201","v":"TBC"},{"$f":"Singles!AX201","v":"TBC"},{"$f":"Singles!AY201","v":"TBC"},null,{"$f":"Singles!AZ201","v":0},{"$f":"Singles!BA201","v":0},{"$f":"Singles!BB201","v":0},null,null,null,null,null,null,null,null,null,null,null,null,null,null,null,null,null,null,null,null,{"$f":"C7","v":0}]
[null,2,{"$f":"Singles!AR202","v":0},{"$f":"Singles!AS202","v":"TBC"},{"$f":"Singles!AT202","v":"TBC"},{"$f":"Singles!AU202","v":"TBC"},{"$f":"Singles!AV202","v":"TBC"},{"$f":"Singles!AW202","v":"TBC"},{"$f":"Singles!AX202","v":"TBC"},{"$f":"Singles!AY202","v":"TBC"},null,{"$f":"Singles!AZ202","v":0},{"$f":"Singles!BA202","v":0},{"$f":"Singles!BB202","v":0},null,null,null,null,null,null,null,null,null,null,null,null,null,null,null,null,null,null,null,null,0]
[null,3,{"$f":"Singles!AR203","v":0},{"$f":"Singles!AS203","v":"TBC"},{"$f":"Singles!AT203","v":"TBC"},{"$f":"Singles!AU203","v":"TBC"},{"$f":"Singles!AV203","v":"TBC"},{"$f":"Singles!AW203","v":"TBC"},{"$f":"Singles!AX203","v":"TBC"},{"$f":"Singles!AY203","v":"TBC"},null,{"$f":"Singles!AZ203","v":0},{"$f":"Singles!BA203","v":0},{"$f":"Singles!BB203","v":0},null,null,null,null,null,null,null,null,null,null,null,null,null,null,null,null,null,null,null,null,0]
[null,4,{"$f":"Singles!AR204","v":0},{"$f":"Singles!AS204","v":"TBC"},{"$f":"Singles!AT204","v":"TBC"},{"$f":"Singles!AU204","v":"TBC"},{"$f":"Singles!AV204","v":"TBC"},{"$f":"Singles!AW204","v":"TBC"},{"$f":"Singles!AX204","v":"TBC"},{"$f":"Singles!AY204","v":"TBC"},null,{"$f":"Singles!AZ204","v":0},{"$f":"Singles!BA204","v":0},{"$f":"Singles!BB204","v":0},null,null,null,null,null,null,null,null,null,null,null,null,null,null,null,null,null,null,null,null,0]
[null,5,{"$f":"Singles!AR205","v":0},{"$f":"Singles!AS205","v":"TBC"},{"$f":"Singles!AT205","v":"TBC"},{"$f":"Singles!AU205","v":"TBC"},{"$f":"Singles!AV205","v":"TBC"},{"$f":"Singles!AW205","v":"TBC"},{"$f":"Singles!AX205","v":"TBC"},{"$f":"Singles!AY205","v":"TBC"},null,{"$f":"Singles!AZ205","v":0},{"$f":"Singles!BA205","v":0},{"$f":"Singles!BB205","v":0},null,null,null,null,null,null,null,null,null,null,null,null,null,null,null,null,null,null,null,null,0]
[null,6,{"$f":"Singles!AR206","v":0},{"$f":"Singles!AS206","v":"TBC"},{"$f":"Singles!AT206","v":"TBC"},{"$f":"Singles!AU206","v":"TBC"},{"$f":"Singles!AV206","v":"TBC"},{"$f":"Singles!AW206","v":"TBC"},{"$f":"Singles!AX206","v":"TBC"},{"$f":"Singles!AY206","v":"TBC"},null,{"$f":"Singles!AZ206","v":0},{"$f":"Singles!BA206","v":0},{"$f":"Singles!BB206","v":0},null,null,null,null,null,null,null,null,null,null,null,null,null,null,null,null,null,null,null,null,0]
[null,7,{"$f":"Singles!AR208","v":0},{"$f":"Singles!AS208","v":"TBC"},{"$f":"Singles!AT208","v":"TBC"},{"$f":"Singles!AU208","v":"TBC"},{"$f":"Singles!AV208","v":"TBC"},{"$f":"Singles!AW208","v":"TBC"},{"$f":"Singles!AX208","v":"TBC"},{"$f":"Singles!AY208","v":"TBC"},null,{"$f":"Singles!AZ208","v":0},{"$f":"Singles!BA208","v":0},{"$f":"Singles!BB208","v":0},null,null,null,null,null,null,null,null,null,null,null,null,null,null,null,null,null,null,null,null,0]
[null,8,{"$f":"Singles!AR209","v":0},{"$f":"Singles!AS209","v":"TBC"},{"$f":"Singles!AT209","v":"TBC"},{"$f":"Singles!AU209","v":"TBC"},{"$f":"Singles!AV209","v":"TBC"},{"$f":"Singles!AW209","v":"TBC"},{"$f":"Singles!AX209","v":"TBC"},{"$f":"Singles!AY209","v":"TBC"},null,{"$f":"Singles!AZ209","v":0},{"$f":"Singles!BA209","v":0},{"$f":"Singles!BB209","v":0},null,null,null,null,null,null,null,null,null,null,null,null,null,null,null,null,null,null,null,null,0]
[null,9,{"$f":"Singles!AR207","v":0},{"$f":"Singles!AS207","v":"TBC"},{"$f":"Singles!AT207","v":"TBC"},{"$f":"Singles!AU207","v":"TBC"},{"$f":"Singles!AV207","v":"TBC"},{"$f":"Singles!AW207","v":"TBC"},{"$f":"Singles!AX207","v":"TBC"},{"$f":"Singles!AY207","v":"TBC"},null,{"$f":"Singles!AZ207","v":0},{"$f":"Singles!BA207","v":0},{"$f":"Singles!BB207","v":0},null,null,null,null,null,null,null,null,null,null,null,null,null,null,null,null,null,null,null,null,0]
[null,10,{"$f":"Singles!AR210","v":0},{"$f":"Singles!AS210","v":"TBC"},{"$f":"Singles!AT210","v":"TBC"},{"$f":"Singles!AU210","v":"TBC"},{"$f":"Singles!AV210","v":"TBC"},{"$f":"Singles!AW210","v":"TBC"},{"$f":"Singles!AX210","v":"TBC"},{"$f":"Singles!AY210","v":"TBC"},null,{"$f":"Singles!AZ210","v":0},{"$f":"Singles!BA210","v":0},{"$f":"Singles!BB210","v":0},null,null,null,null,null,null,null,null,null,null,null,null,null,null,null,null,null,null,null,null,0]
[null,11,{"$f":"Singles!AR211","v":0},{"$f":"Singles!AS211","v":"TBC"},{"$f":"Singles!AT211","v":"TBC"},{"$f":"Singles!AU211","v":"TBC"},{"$f":"Singles!AV211","v":"TBC"},{"$f":"Singles!AW211","v":"TBC"},{"$f":"Singles!AX211","v":"TBC"},{"$f":"Singles!AY211","v":"TBC"},null,{"$f":"Singles!AZ211","v":0},{"$f":"Singles!BA211","v":0},{"$f":"Singles!BB211","v":0},null,null,null,null,null,null,null,null,null,null,null,null,null,null,null,null,null,null,null,null,0]
[null,12,{"$f":"Singles!AR212","v":0},{"$f":"Singles!AS212","v":"TBC"},{"$f":"Singles!AT212","v":"TBC"},{"$f":"Singles!AU212","v":"TBC"},{"$f":"Singles!AV212","v":"TBC"},{"$f":"Singles!AW212","v":"TBC"},{"$f":"Singles!AX212","v":"TBC"},{"$f":"Singles!AY212","v":"TBC"},null,{"$f":"Singles!AZ212","v":0},{"$f":"Singles!BA212","v":0},{"$f":"Singles!BB212","v":0},null,null,null,null,null,null,null,null,null,null,null,null,null,null,null,null,null,null,null,null,0]
[null,13,{"$f":"Singles!AR213","v":0},{"$f":"Singles!AS213","v":"TBC"},{"$f":"Singles!AT213","v":"TBC"},{"$f":"Singles!AU213","v":"TBC"},{"$f":"Singles!AV213","v":"TBC"},{"$f":"Singles!AW213","v":"TBC"},{"$f":"Singles!AX213","v":"TBC"},{"$f":"Singles!AY213","v":"TBC"},null,{"$f":"Singles!AZ213","v":0},{"$f":"Singles!BA213","v":0},{"$f":"Singles!BB213","v":0},null,null,null,null,null,null,null,null,null,null,null,null,null,null,null,null,null,null,null,null,0]
[null,14,{"$f":"Singles!AR214","v":0},{"$f":"Singles!AS214","v":"TBC"},{"$f":"Singles!AT214","v":"TBC"},{"$f":"Singles!AU214","v":"TBC"},{"$f":"Singles!AV214","v":"TBC"},{"$f":"Singles!AW214","v":"TBC"},{"$f":"Singles!AX214","v":"TBC"},{"$f":"Singles!AY214","v":"TBC"},null,{"$f":"Singles!AZ214","v":0},{"$f":"Singles!BA214","v":0},{"$f":"Singles!BB214","v":0},null,null,null,null,null,null,null,null,null,null,null,null,null,null,null,null,null,null,null,null,0]
[null,15,{"$f":"Singles!AR215","v":0},{"$f":"Singles!AS215","v":"TBC"},{"$f":"Singles!AT215","v":"TBC"},{"$f":"Singles!AU215","v":"TBC"},{"$f":"Singles!AV215","v":"TBC"},{"$f":"Singles!AW215","v":"TBC"},{"$f":"Singles!AX215","v":"TBC"},{"$f":"Singles!AY215","v":"TBC"},null,{"$f":"Singles!AZ215","v":0},{"$f":"Singles!BA215","v":0},{"$f":"Singles!BB215","v":0},null,null,null,null,null,null,null,null,null,null,null,null,null,null,null,null,null,null,null,null,0]
[null,16,{"$f":"Singles!AR216","v":0},{"$f":"Singles!AS216","v":"TBC"},{"$f":"Singles!AT216","v":"TBC"},{"$f":"Singles!AU216","v":"TBC"},{"$f":"Singles!AV216","v":"TBC"},{"$f":"Singles!AW216","v":"TBC"},{"$f":"Singles!AX216","v":"TBC"},{"$f":"Singles!AY216","v":"TBC"},null,{"$f":"Singles!AZ216","v":0},{"$f":"Singles!BA216","v":0},{"$f":"Singles!BB216","v":0},null,null,null,null,null,null,null,null,null,null,null,null,null,null,null,null,null,null,null,null,0]
[null,17,{"$f":"Singles!AR217","v":0},{"$f":"Singles!AS217","v":"TBC"},{"$f":"Singles!AT217","v":"TBC"},{"$f":"Singles!AU217","v":"TBC"},{"$f":"Singles!AV217","v":"TBC"},{"$f":"Singles!AW217","v":"TBC"},{"$f":"Singles!AX217","v":"TBC"},{"$f":"Singles!AY217","v":"TBC"},null,{"$f":"Singles!AZ217","v":0},{"$f":"Singles!BA217","v":0},{"$f":"Singles!BB217","v":0},null,null,null,null,null,null,null,null,null,null,null,null,null,null,null,null,null,null,null,null,0]
[null,18,{"$f":"Singles!AR218","v":0},{"$f":"Singles!AS218","v":"TBC"},{"$f":"Singles!AT218","v":"TBC"},{"$f":"Singles!AU218","v":"TBC"},{"$f":"Singles!AV218","v":"TBC"},{"$f":"Singles!AW218","v":"TBC"},{"$f":"Singles!AX218","v":"TBC"},{"$f":"Singles!AY218","v":"TBC"},null,{"$f":"Singles!AZ218","v":0},{"$f":"Singles!BA218","v":0},{"$f":"Singles!BB218","v":0},null,null,null,null,null,null,null,null,null,null,null,null,null,null,null,null,null,null,null,null,0]
[null,19,{"$f":"Singles!AR219","v":0},{"$f":"Singles!AS219","v":"TBC"},{"$f":"Singles!AT219","v":"TBC"},{"$f":"Singles!AU219","v":"TBC"},{"$f":"Singles!AV219","v":"TBC"},{"$f":"Singles!AW219","v":"TBC"},{"$f":"Singles!AX219","v":"TBC"},{"$f":"Singles!AY219","v":"TBC"},null,{"$f":"Singles!AZ219","v":0},{"$f":"Singles!BA219","v":0},{"$f":"Singles!BB219","v":0},null,null,null,null,null,null,null,null,null,null,null,null,null,null,null,null,null,null,null,null,0]
[null,20,{"$f":"Singles!AR220","v":0},{"$f":"Singles!AS220","v":"TBC"},{"$f":"Singles!AT220","v":"TBC"},{"$f":"Singles!AU220","v":"TBC"},{"$f":"Singles!AV220","v":"TBC"},{"$f":"Singles!AW220","v":"TBC"},{"$f":"Singles!AX220","v":"TBC"},{"$f":"Singles!AY220","v":"TBC"},null,{"$f":"Singles!AZ220","v":0},{"$f":"Singles!BA220","v":0},{"$f":"Singles!BB220","v":0},null,null,null,null,null,null,null,null,null,null,null,null,null,null,null,null,null,null,null,null,0]
[null,21,{"$f":"Singles!AR221","v":0},{"$f":"Singles!AS221","v":"TBC"},{"$f":"Singles!AT221","v":"TBC"},{"$f":"Singles!AU221","v":"TBC"},{"$f":"Singles!AV221","v":"TBC"},{"$f":"Singles!AW221","v":"TBC"},{"$f":"Singles!AX221","v":"TBC"},{"$f":"Singles!AY221","v":"TBC"},null,{"$f":"Singles!AZ221","v":0},{"$f":"Singles!BA221","v":0},{"$f":"Singles!BB221","v":0},null,null,null,null,null,null,null,null,null,null,null,null,null,null,null,null,null,null,null,null,0]
[null,22,{"$f":"Singles!AR222","v":0},{"$f":"Singles!AS222","v":"TBC"},{"$f":"Singles!AT222","v":"TBC"},{"$f":"Singles!AU222","v":"TBC"},{"$f":"Singles!AV222","v":"TBC"},{"$f":"Singles!AW222","v":"TBC"},{"$f":"Singles!AX222","v":"TBC"},{"$f":"Singles!AY222","v":"TBC"},null,{"$f":"Singles!AZ222","v":0},{"$f":"Singles!BA222","v":0},{"$f":"Singles!BB222","v":0},null,null,null,null,null,null,null,null,null,null,null,null,null,null,null,null,null,null,null,null,0]
[null,23,{"$f":"Singles!AR223","v":0},{"$f":"Singles!AS223","v":"TBC"},{"$f":"Singles!AT223","v":"TBC"},{"$f":"Singles!AU223","v":"TBC"},{"$f":"Singles!AV223","v":"TBC"},{"$f":"Singles!AW223","v":"TBC"},{"$f":"Singles!AX223","v":"TBC"},{"$f":"Singles!AY223","v":"TBC"},null,{"$f":"Singles!AZ223","v":0},{"$f":"Singles!BA223","v":0},{"$f":"Singles!BB223","v":0},null,null,null,null,null,null,null,null,null,null,null,null,null,null,null,null,null,null,null,null,0]
[null,24,{"$f":"Singles!AR224","v":0},{"$f":"Singles!AS224","v":"TBC"},{"$f":"Singles!AT224","v":"TBC"},{"$f":"Singles!AU224","v":"TBC"},{"$f":"Singles!AV224","v":"TBC"},{"$f":"Singles!AW224","v":"TBC"},{"$f":"Singles!AX224","v":"TBC"},{"$f":"Singles!AY224","v":"TBC"},null,{"$f":"Singles!AZ224","v":0},{"$f":"Singles!BA224","v":0},{"$f":"Singles!BB224","v":0},null,null,null,null,null,null,null,null,null,null,null,null,null,null,null,null,null,null,null,null,0]
[null,25,{"$f":"Singles!AR225","v":0},{"$f":"Singles!AS225","v":"TBC"},{"$f":"Singles!AT225","v":"TBC"},{"$f":"Singles!AU225","v":"TBC"},{"$f":"Singles!AV225","v":"TBC"},{"$f":"Singles!AW225","v":"TBC"},{"$f":"Singles!AX225","v":"TBC"},{"$f":"Singles!AY225","v":"TBC"},null,{"$f":"Singles!AZ225","v":0},{"$f":"Singles!BA225","v":0},{"$f":"Singles!BB225","v":0},null,null,null,null,null,null,null,null,null,null,null,null,null,null,null,null,null,null,null,null,0]
[null,26,{"$f":"Singles!AR226","v":0},{"$f":"Singles!AS226","v":"TBC"},{"$f":"Singles!AT226","v":"TBC"},{"$f":"Singles!AU226","v":"TBC"},{"$f":"Singles!AV226","v":"TBC"},{"$f":"Singles!AW226","v":"TBC"},{"$f":"Singles!AX226","v":"TBC"},{"$f":"Singles!AY226","v":"TBC"},null,{"$f":"Singles!AZ226","v":0},{"$f":"Singles!BA226","v":0},{"$f":"Singles!BB226","v":0},null,null,null,null,null,null,null,null,null,null,null,null,null,null,null,null,null,null,null,null,0]
[null,27,{"$f":"Singles!AR227","v":0},{"$f":"Singles!AS227","v":"TBC"},{"$f":"Singles!AT227","v":"TBC"},{"$f":"Singles!AU227","v":"TBC"},{"$f":"Singles!AV227","v":"TBC"},{"$f":"Singles!AW227","v":"TBC"},{"$f":"Singles!AX227","v":"TBC"},{"$f":"Singles!AY227","v":"TBC"},null,{"$f":"Singles!AZ227","v":0},{"$f":"Singles!BA227","v":0},{"$f":"Singles!BB227","v":0},null,null,null,null,null,null,null,null,null,null,null,null,null,null,null,null,null,null,null,null,0]
[null,28,{"$f":"Singles!AR228","v":0},{"$f":"Singles!AS228","v":"TBC"},{"$f":"Singles!AT228","v":"TBC"},{"$f":"Singles!AU228","v":"TBC"},{"$f":"Singles!AV228","v":"TBC"},{"$f":"Singles!AW228","v":"TBC"},{"$f":"Singles!AX228","v":"TBC"},{"$f":"Singles!AY228","v":"TBC"},null,{"$f":"Singles!AZ228","v":0},{"$f":"Singles!BA228","v":0},{"$f":"Singles!BB228","v":0},null,null,null,null,null,null,null,null,null,null,null,null,null,null,null,null,null,null,null,null,0]
[null,29,{"$f":"Singles!AR229","v":0},{"$f":"Singles!AS229","v":"TBC"},{"$f":"Singles!AT229","v":"TBC"},{"$f":"Singles!AU229","v":"TBC"},{"$f":"Singles!AV229","v":"TBC"},{"$f":"Singles!AW229","v":"TBC"},{"$f":"Singles!AX229","v":"TBC"},{"$f":"Singles!AY229","v":"TBC"},null,{"$f":"Singles!AZ229","v":0},{"$f":"Singles!BA229","v":0},{"$f":"Singles!BB229","v":0},null,null,null,null,null,null,null,null,null,null,null,null,null,null,null,null,null,null,null,null,0]
[null,30,{"$f":"Singles!AR230","v":0},{"$f":"Singles!AS230","v":"TBC"},{"$f":"Singles!AT230","v":"TBC"},{"$f":"Singles!AU230","v":"TBC"},{"$f":"Singles!AV230","v":"TBC"},{"$f":"Singles!AW230","v":"TBC"},{"$f":"Singles!AX230","v":"TBC"},{"$f":"Singles!AY230","v":"TBC"},null,{"$f":"Singles!AZ230","v":0},{"$f":"Singles!BA230","v":0},{"$f":"Singles!BB230","v":0},null,null,null,null,null,null,null,null,null,null,null,null,null,null,null,null,null,null,null,null,0]
[null,31,{"$f":"Singles!AR231","v":0},{"$f":"Singles!AS231","v":"TBC"},{"$f":"Singles!AT231","v":"TBC"},{"$f":"Singles!AU231","v":"TBC"},{"$f":"Singles!AV231","v":"TBC"},{"$f":"Singles!AW231","v":"TBC"},{"$f":"Singles!AX231","v":"TBC"},{"$f":"Singles!AY231","v":"TBC"},null,{"$f":"Singles!AZ231","v":0},{"$f":"Singles!BA231","v":0},{"$f":"Singles!BB231","v":0},null,null,null,null,null,null,null,null,null,null,null,null,null,null,null,null,null,null,null,null,0]
[null,32,{"$f":"Singles!AR232","v":0},{"$f":"Singles!AS232","v":"TBC"},{"$f":"Singles!AT232","v":"TBC"},{"$f":"Singles!AU232","v":"TBC"},{"$f":"Singles!AV232","v":"TBC"},{"$f":"Singles!AW232","v":"TBC"},{"$f":"Singles!AX232","v":"TBC"},{"$f":"Singles!AY232","v":"TBC"},null,{"$f":"Singles!AZ232","v":0},{"$f":"Singles!BA232","v":0},{"$f":"Singles!BB232","v":0},null,null,null,null,null,null,null,null,null,null,null,null,null,null,null,null,null,null,null,null,0]
[null,33,{"$f":"Singles!AR233","v":0},{"$f":"Singles!AS233","v":"TBC"},{"$f":"Singles!AT233","v":"TBC"},{"$f":"Singles!AU233","v":"TBC"},{"$f":"Singles!AV233","v":"TBC"},{"$f":"Singles!AW233","v":"TBC"},{"$f":"Singles!AX233","v":"TBC"},{"$f":"Singles!AY233","v":"TBC"},null,{"$f":"Singles!AZ233","v":0},{"$f":"Singles!BA233","v":0},{"$f":"Singles!BB233","v":0},null,null,null,null,null,null,null,null,null,null,null,null,null,null,null,null,null,null,null,null,{"$f":"C39","v":0}]
[null,34,{"$f":"Singles!AR234","v":0},{"$f":"Singles!AS234","v":"TBC"},{"$f":"Singles!AT234","v":"TBC"},{"$f":"Singles!AU234","v":"TBC"},{"$f":"Singles!AV234","v":"TBC"},{"$f":"Singles!AW234","v":"TBC"},{"$f":"Singles!AX234","v":"TBC"},{"$f":"Singles!AY234","v":"TBC"},null,{"$f":"Singles!AZ234","v":0},{"$f":"Singles!BA234","v":0},{"$f":"Singles!BB234","v":0},null,null,null,null,null,null,null,null,null,null,null,null,null,null,null,null,null,null,null,null,0]
[null,35,{"$f":"Singles!AR235","v":0},{"$f":"Singles!AS235","v":"TBC"},{"$f":"Singles!AT235","v":"TBC"},{"$f":"Singles!AU235","v":"TBC"},{"$f":"Singles!AV235","v":"TBC"},{"$f":"Singles!AW235","v":"TBC"},{"$f":"Singles!AX235","v":"TBC"},{"$f":"Singles!AY235","v":"TBC"},null,{"$f":"Singles!AZ235","v":0},{"$f":"Singles!BA235","v":0},{"$f":"Singles!BB235","v":0},null,null,null,null,null,null,null,null,null,null,null,null,null,null,null,null,null,null,null,null,0]
[null,36,{"$f":"Singles!AR236","v":0},{"$f":"Singles!AS236","v":"TBC"},{"$f":"Singles!AT236","v":"TBC"},{"$f":"Singles!AU236","v":"TBC"},{"$f":"Singles!AV236","v":"TBC"},{"$f":"Singles!AW236","v":"TBC"},{"$f":"Singles!AX236","v":"TBC"},{"$f":"Singles!AY236","v":"TBC"},null,{"$f":"Singles!AZ236","v":0},{"$f":"Singles!BA236","v":0},{"$f":"Singles!BB236","v":0},null,null,null,null,null,null,null,null,null,null,null,null,null,null,null,null,null,null,null,null,0]
[null,37,{"$f":"Singles!AR237","v":0},{"$f":"Singles!AS237","v":"TBC"},{"$f":"Singles!AT237","v":"TBC"},{"$f":"Singles!AU237","v":"TBC"},{"$f":"Singles!AV237","v":"TBC"},{"$f":"Singles!AW237","v":"TBC"},{"$f":"Singles!AX237","v":"TBC"},{"$f":"Singles!AY237","v":"TBC"},null,{"$f":"Singles!AZ237","v":0},{"$f":"Singles!BA237","v":0},{"$f":"Singles!BB237","v":0},null,null,null,null,null,null,null,null,null,null,null,null,null,null,null,null,null,null,null,null,0]
[null,38,{"$f":"Singles!AR238","v":0},{"$f":"Singles!AS238","v":"TBC"},{"$f":"Singles!AT238","v":"TBC"},{"$f":"Singles!AU238","v":"TBC"},{"$f":"Singles!AV238","v":"TBC"},{"$f":"Singles!AW238","v":"TBC"},{"$f":"Singles!AX238","v":"TBC"},{"$f":"Singles!AY238","v":"TBC"},null,{"$f":"Singles!AZ238","v":0},{"$f":"Singles!BA238","v":0},{"$f":"Singles!BB238","v":0},null,null,null,null,null,null,null,null,null,null,null,null,null,null,null,null,null,null,null,null,0]
[null,39,{"$f":"Singles!AR239","v":0},{"$f":"Singles!AS239","v":"TBC"},{"$f":"Singles!AT239","v":"TBC"},{"$f":"Singles!AU239","v":"TBC"},{"$f":"Singles!AV239","v":"TBC"},{"$f":"Singles!AW239","v":"TBC"},{"$f":"Singles!AX239","v":"TBC"},{"$f":"Singles!AY239","v":"TBC"},null,{"$f":"Singles!AZ239","v":0},{"$f":"Singles!BA239","v":0},{"$f":"Singles!BB239","v":0},null,null,null,null,null,null,null,null,null,null,null,null,null,null,null,null,null,null,null,null,0]
[null,40,{"$f":"Singles!AR240","v":0},{"$f":"Singles!AS240","v":"TBC"},{"$f":"Singles!AT240","v":"TBC"},{"$f":"Singles!AU240","v":"TBC"},{"$f":"Singles!AV240","v":"TBC"},{"$f":"Singles!AW240","v":"TBC"},{"$f":"Singles!AX240","v":"TBC"},{"$f":"Singles!AY240","v":"TBC"},null,{"$f":"Singles!AZ240","v":0},{"$f":"Singles!BA240","v":0},{"$f":"Singles!BB240","v":0},null,null,null,null,null,null,null,null,null,null,null,null,null,null,null,null,null,null,null,null,0]
[null,41,{"$f":"Singles!AR241","v":0},{"$f":"Singles!AS241","v":"TBC"},{"$f":"Singles!AT241","v":"TBC"},{"$f":"Singles!AU241","v":"TBC"},{"$f":"Singles!AV241","v":"TBC"},{"$f":"Singles!AW241","v":"TBC"},{"$f":"Singles!AX241","v":"TBC"},{"$f":"Singles!AY241","v":"TBC"},null,{"$f":"Singles!AZ241","v":0},{"$f":"Singles!BA241","v":0},{"$f":"Singles!BB241","v":0},null,null,null,null,null,null,null,null,null,null,null,null,null,null,null,null,null,null,null,null,0]
[null,42,{"$f":"Singles!AR242","v":0},{"$f":"Singles!AS242","v":"TBC"},{"$f":"Singles!AT242","v":"TBC"},{"$f":"Singles!AU242","v":"TBC"},{"$f":"Singles!AV242","v":"TBC"},{"$f":"Singles!AW242","v":"TBC"},{"$f":"Singles!AX242","v":"TBC"},{"$f":"Singles!AY242","v":"TBC"},null,{"$f":"Singles!AZ242","v":0},{"$f":"Singles!BA242","v":0},{"$f":"Singles!BB242","v":0},null,null,null,null,null,null,null,null,null,null,null,null,null,null,null,null,null,null,null,null,0]
[null,43,{"$f":"Singles!AR243","v":0},{"$f":"Singles!AS243","v":"TBC"},{"$f":"Singles!AT243","v":"TBC"},{"$f":"Singles!AU243","v":"TBC"},{"$f":"Singles!AV243","v":"TBC"},{"$f":"Singles!AW243","v":"TBC"},{"$f":"Singles!AX243","v":"TBC"},{"$f":"Singles!AY243","v":"TBC"},null,{"$f":"Singles!AZ243","v":0},{"$f":"Singles!BA243","v":0},{"$f":"Singles!BB243","v":0},null,null,null,null,null,null,null,null,null,null,null,null,null,null,null,null,null,null,null,null,0]
[null,44,{"$f":"Singles!AR244","v":0},{"$f":"Singles!AS244","v":"TBC"},{"$f":"Singles!AT244","v":"TBC"},{"$f":"Singles!AU244","v":"TBC"},{"$f":"Singles!AV244","v":"TBC"},{"$f":"Singles!AW244","v":"TBC"},{"$f":"Singles!AX244","v":"TBC"},{"$f":"Singles!AY244","v":"TBC"},null,{"$f":"Singles!AZ244","v":0},{"$f":"Singles!BA244","v":0},{"$f":"Singles!BB244","v":0},null,null,null,null,null,null,null,null,null,null,null,null,null,null,null,null,null,null,null,null,0]
[null,45,{"$f":"Singles!AR245","v":0},{"$f":"Singles!AS245","v":"TBC"},{"$f":"Singles!AT245","v":"TBC"},{"$f":"Singles!AU245","v":"TBC"},{"$f":"Singles!AV245","v":"TBC"},{"$f":"Singles!AW245","v":"TBC"},{"$f":"Singles!AX245","v":"TBC"},{"$f":"Singles!AY245","v":"TBC"},null,{"$f":"Singles!AZ245","v":0},{"$f":"Singles!BA245","v":0},{"$f":"Singles!BB245","v":0},null,null,null,null,null,null,null,null,null,null,null,null,null,null,null,null,null,null,null,null,0]
[null,46,{"$f":"Singles!AR246","v":0},{"$f":"Singles!AS246","v":"TBC"},{"$f":"Singles!AT246","v":"TBC"},{"$f":"Singles!AU246","v":"TBC"},{"$f":"Singles!AV246","v":"TBC"},{"$f":"Singles!AW246","v":"TBC"},{"$f":"Singles!AX246","v":"TBC"},{"$f":"Singles!AY246","v":"TBC"},null,{"$f":"Singles!AZ246","v":0},{"$f":"Singles!BA246","v":0},{"$f":"Singles!BB246","v":0},null,null,null,null,null,null,null,null,null,null,null,null,null,null,null,null,null,null,null,null,0]
[null,47,{"$f":"Singles!AR247","v":0},{"$f":"Singles!AS247","v":"TBC"},{"$f":"Singles!AT247","v":"TBC"},{"$f":"Singles!AU247","v":"TBC"},{"$f":"Singles!AV247","v":"TBC"},{"$f":"Singles!AW247","v":"TBC"},{"$f":"Singles!AX247","v":"TBC"},{"$f":"Singles!AY247","v":"TBC"},null,{"$f":"Singles!AZ247","v":0},{"$f":"Singles!BA247","v":0},{"$f":"Singles!BB247","v":0},null,null,null,null,null,null,null,null,null,null,null,null,null,null,null,null,null,null,null,null,0]
[null,48,{"$f":"Singles!AR248","v":0},{"$f":"Singles!AS248","v":"TBC"},{"$f":"Singles!AT248","v":"TBC"},{"$f":"Singles!AU248","v":"TBC"},{"$f":"Singles!AV248","v":"TBC"},{"$f":"Singles!AW248","v":"TBC"},{"$f":"Singles!AX248","v":"TBC"},{"$f":"Singles!AY248","v":"TBC"},null,{"$f":"Singles!AZ248","v":0},{"$f":"Singles!BA248","v":0},{"$f":"Singles!BB248","v":0},null,null,null,null,null,null,null,null,null,null,null,null,null,null,null,null,null,null,null,null,0]
[null,49,{"$f":"Singles!AR249","v":0},{"$f":"Singles!AS249","v":"TBC"},{"$f":"Singles!AT249","v":"TBC"},{"$f":"Singles!AU249","v":"TBC"},{"$f":"Singles!AV249","v":"TBC"},{"$f":"Singles!AW249","v":"TBC"},{"$f":"Singles!AX249","v":"TBC"},{"$f":"Singles!AY249","v":"TBC"},null,{"$f":"Singles!AZ249","v":0},{"$f":"Singles!BA249","v":0},{"$f":"Singles!BB249","v":0},null,null,null,null,null,null,null,null,null,null,null,null,null,null,null,null,null,null,null,null,0]
[null,50,{"$f":"Singles!AR250","v":0},{"$f":"Singles!AS250","v":"TBC"},{"$f":"Singles!AT250","v":"TBC"},{"$f":"Singles!AU250","v":"TBC"},{"$f":"Singles!AV250","v":"TBC"},{"$f":"Singles!AW250","v":"TBC"},{"$f":"Singles!AX250","v":"TBC"},{"$f":"Singles!AY250","v":"TBC"},null,{"$f":"Singles!AZ250","v":0},{"$f":"Singles!BA250","v":0},{"$f":"Singles!BB250","v":0},null,null,null,null,null,null,null,null,null,null,null,null,null,null,null,null,null,null,null,null,0]
[null,51,{"$f":"Singles!AR251","v":0},{"$f":"Singles!AS251","v":"TBC"},{"$f":"Singles!AT251","v":"TBC"},{"$f":"Singles!AU251","v":"TBC"},{"$f":"Singles!AV251","v":"TBC"},{"$f":"Singles!AW251","v":"TBC"},{"$f":"Singles!AX251","v":"TBC"},{"$f":"Singles!AY251","v":"TBC"},null,{"$f":"Singles!AZ251","v":0},{"$f":"Singles!BA251","v":0},{"$f":"Singles!BB251","v":0},null,null,null,null,null,null,null,null,null,null,null,null,null,null,null,null,null,null,null,null,0]
[null,52,{"$f":"Singles!AR252","v":0},{"$f":"Singles!AS252","v":"TBC"},{"$f":"Singles!AT252","v":"TBC"},{"$f":"Singles!AU252","v":"TBC"},{"$f":"Singles!AV252","v":"TBC"},{"$f":"Singles!AW252","v":"TBC"},{"$f":"Singles!AX252","v":"TBC"},{"$f":"Singles!AY252","v":"TBC"},null,{"$f":"Singles!AZ252","v":0},{"$f":"Singles!BA252","v":0},{"$f":"Singles!BB252","v":0},null,null,null,null,null,null,null,null,null,null,null,null,null,null,null,null,null,null,null,null,0]
[null,53,{"$f":"Singles!AR253","v":0},{"$f":"Singles!AS253","v":"TBC"},{"$f":"Singles!AT253","v":"TBC"},{"$f":"Singles!AU253","v":"TBC"},{"$f":"Singles!AV253","v":"TBC"},{"$f":"Singles!AW253","v":"TBC"},{"$f":"Singles!AX253","v":"TBC"},{"$f":"Singles!AY253","v":"TBC"},null,{"$f":"Singles!AZ253","v":0},{"$f":"Singles!BA253","v":0},{"$f":"Singles!BB253","v":0},null,null,null,null,null,null,null,null,null,null,null,null,null,null,null,null,null,null,null,null,0]
[null,54,{"$f":"Singles!AR254","v":0},{"$f":"Singles!AS254","v":"TBC"},{"$f":"Singles!AT254","v":"TBC"},{"$f":"Singles!AU254","v":"TBC"},{"$f":"Singles!AV254","v":"TBC"},{"$f":"Singles!AW254","v":"TBC"},{"$f":"Singles!AX254","v":"TBC"},{"$f":"Singles!AY254","v":"TBC"},null,{"$f":"Singles!AZ254","v":0},{"$f":"Singles!BA254","v":0},{"$f":"Singles!BB254","v":0},null,null,null,null,null,null,null,null,null,null,null,null,null,null,null,null,null,null,null,null,0]
[null,55,{"$f":"Singles!AR255","v":0},{"$f":"Singles!AS255","v":"TBC"},{"$f":"Singles!AT255","v":"TBC"},{"$f":"Singles!AU255","v":"TBC"},{"$f":"Singles!AV255","v":"TBC"},{"$f":"Singles!AW255","v":"TBC"},{"$f":"Singles!AX255","v":"TBC"},{"$f":"Singles!AY255","v":"TBC"},null,{"$f":"Singles!AZ255","v":0},{"$f":"Singles!BA255","v":0},{"$f":"Singles!BB255","v":0},null,null,null,null,null,null,null,null,null,null,null,null,null,null,null,null,null,null,null,null,0]
[null,56,{"$f":"Singles!AR256","v":0},{"$f":"Singles!AS256","v":"TBC"},{"$f":"Singles!AT256","v":"TBC"},{"$f":"Singles!AU256","v":"TBC"},{"$f":"Singles!AV256","v":"TBC"},{"$f":"Singles!AW256","v":"TBC"},{"$f":"Singles!AX256","v":"TBC"},{"$f":"Singles!AY256","v":"TBC"},null,{"$f":"Singles!AZ256","v":0},{"$f":"Singles!BA256","v":0},{"$f":"Singles!BB256","v":0},null,null,null,null,null,null,null,null,null,null,null,null,null,null,null,null,null,null,null,null,0]
[null,57,{"$f":"Singles!AR257","v":0},{"$f":"Singles!AS257","v":"TBC"},{"$f":"Singles!AT257","v":"TBC"},{"$f":"Singles!AU257","v":"TBC"},{"$f":"Singles!AV257","v":"TBC"},{"$f":"Singles!AW257","v":"TBC"},{"$f":"Singles!AX257","v":"TBC"},{"$f":"Singles!AY257","v":"TBC"},null,{"$f":"Singles!AZ257","v":0},{"$f":"Singles!BA257","v":0},{"$f":"Singles!BB257","v":0},null,null,null,null,null,null,null,null,null,null,null,null,null,null,null,null,null,null,null,null,0]
[null,58,{"$f":"Singles!AR258","v":0},{"$f":"Singles!AS258","v":"TBC"},{"$f":"Singles!AT258","v":"TBC"},{"$f":"Singles!AU258","v":"TBC"},{"$f":"Singles!AV258","v":"TBC"},{"$f":"Singles!AW258","v":"TBC"},{"$f":"Singles!AX258","v":"TBC"},{"$f":"Singles!AY258","v":"TBC"},null,{"$f":"Singles!AZ258","v":0},{"$f":"Singles!BA258","v":0},{"$f":"Singles!BB258","v":0},null,null,null,null,null,null,null,null,null,null,null,null,null,null,null,null,null,null,null,null,0]
[null,59,{"$f":"Singles!AR259","v":0},{"$f":"Singles!AS259","v":"TBC"},{"$f":"Singles!AT259","v":"TBC"},{"$f":"Singles!AU259","v":"TBC"},{"$f":"Singles!AV259","v":"TBC"},{"$f":"Singles!AW259","v":"TBC"},{"$f":"Singles!AX259","v":"TBC"},{"$f":"Singles!AY259","v":"TBC"},null,{"$f":"Singles!AZ259","v":0},{"$f":"Singles!BA259","v":0},{"$f":"Singles!BB259","v":0},null,null,null,null,null,null,null,null,null,null,null,null,null,null,null,null,null,null,null,null,0]
[null,60,{"$f":"Singles!AR260","v":0},{"$f":"Singles!AS260","v":"TBC"},{"$f":"Singles!AT260","v":"TBC"},{"$f":"Singles!AU260","v":"TBC"},{"$f":"Singles!AV260","v":"TBC"},{"$f":"Singles!AW260","v":"TBC"},{"$f":"Singles!AX260","v":"TBC"},{"$f":"Singles!AY260","v":"TBC"},null,{"$f":"Singles!AZ260","v":0},{"$f":"Singles!BA260","v":0},{"$f":"Singles!BB260","v":0},null,null,null,null,null,null,null,null,null,null,null,null,null,null,null,null,null,null,null,null,0]
[null,61,{"$f":"Singles!AR261","v":0},{"$f":"Singles!AS261","v":"TBC"},{"$f":"Singles!AT261","v":"TBC"},{"$f":"Singles!AU261","v":"TBC"},{"$f":"Singles!AV261","v":"TBC"},{"$f":"Singles!AW261","v":"TBC"},{"$f":"Singles!AX261","v":"TBC"},{"$f":"Singles!AY261","v":"TBC"},null,{"$f":"Singles!AZ261","v":0},{"$f":"Singles!BA261","v":0},{"$f":"Singles!BB261","v":0},null,null,null,null,null,null,null,null,null,null,null,null,null,null,null,null,null,null,null,null,0]
[null,62,{"$f":"Singles!AR262","v":0},{"$f":"Singles!AS262","v":"TBC"},{"$f":"Singles!AT262","v":"TBC"},{"$f":"Singles!AU262","v":"TBC"},{"$f":"Singles!AV262","v":"TBC"},{"$f":"Singles!AW262","v":"TBC"},{"$f":"Singles!AX262","v":"TBC"},{"$f":"Singles!AY262","v":"TBC"},null,{"$f":"Singles!AZ262","v":0},{"$f":"Singles!BA262","v":0},{"$f":"Singles!BB262","v":0},null,null,null,null,null,null,null,null,null,null,null,null,null,null,null,null,null,null,null,null,0]
[null,63,{"$f":"Singles!AR263","v":0},{"$f":"Singles!AS263","v":"TBC"},{"$f":"Singles!AT263","v":"TBC"},{"$f":"Singles!AU263","v":"TBC"},{"$f":"Singles!AV263","v":"TBC"},{"$f":"Singles!AW263","v":"TBC"},{"$f":"Singles!AX263","v":"TBC"},{"$f":"Singles!AY263","v":"TBC"},null,{"$f":"Singles!AZ263","v":0},{"$f":"Singles!BA263","v":0},{"$f":"Singles!BB263","v":0},null,null,null,null,null,null,null,null,null,null,null,null,null,null,null,null,null,null,null,null,0]
[null,64,{"$f":"Singles!AR264","v":0},{"$f":"Singles!AS264","v":"TBC"},{"$f":"Singles!AT264","v":"TBC"},{"$f":"Singles!AU264","v":"TBC"},{"$f":"Singles!AV264","v":"TBC"},{"$f":"Singles!AW264","v":"TBC"},{"$f":"Singles!AX264","v":"TBC"},{"$f":"Singles!AY264","v":"TBC"},null,{"$f":"Singles!AZ264","v":0},{"$f":"Singles!BA264","v":0},{"$f":"Singles!BB264","v":0},null,null,null,null,null,null,null,null,null,null,null,null,null,null,null,null,null,null,null,null,0]
[null,65,{"$f":"Singles!AR265","v":0},{"$f":"Singles!AS265","v":"TBC"},{"$f":"Singles!AT265","v":"TBC"},{"$f":"Singles!AU265","v":"TBC"},{"$f":"Singles!AV265","v":"TBC"},{"$f":"Singles!AW265","v":"TBC"},{"$f":"Singles!AX265","v":"TBC"},{"$f":"Singles!AY265","v":"TBC"},null,{"$f":"Singles!AZ265","v":0},{"$f":"Singles!BA265","v":0},{"$f":"Singles!BB265","v":0},null,null,null,null,null,null,null,null,null,null,null,null,null,null,null,null,null,null,null,null,0]
[null,66,{"$f":"Singles!AR266","v":0},{"$f":"Singles!AS266","v":"TBC"},{"$f":"Singles!AT266","v":"TBC"},{"$f":"Singles!AU266","v":"TBC"},{"$f":"Singles!AV266","v":"TBC"},{"$f":"Singles!AW266","v":"TBC"},{"$f":"Singles!AX266","v":"TBC"},{"$f":"Singles!AY266","v":"TBC"},null,{"$f":"Singles!AZ266","v":0},{"$f":"Singles!BA266","v":0},{"$f":"Singles!BB266","v":0},null,null,null,null,null,null,null,null,null,null,null,null,null,null,null,null,null,null,null,null,0]
[null,67,{"$f":"Singles!AR267","v":0},{"$f":"Singles!AS267","v":"TBC"},{"$f":"Singles!AT267","v":"TBC"},{"$f":"Singles!AU267","v":"TBC"},{"$f":"Singles!AV267","v":"TBC"},{"$f":"Singles!AW267","v":"TBC"},{"$f":"Singles!AX267","v":"TBC"},{"$f":"Singles!AY267","v":"TBC"},null,{"$f":"Singles!AZ267","v":0},{"$f":"Singles!BA267","v":0},{"$f":"Singles!BB267","v":0},null,null,null,null,null,null,null,null,null,null,null,null,null,null,null,null,null,null,null,null,0]
[null,68,{"$f":"Singles!AR268","v":0},{"$f":"Singles!AS268","v":"TBC"},{"$f":"Singles!AT268","v":"TBC"},{"$f":"Singles!AU268","v":"TBC"},{"$f":"Singles!AV268","v":"TBC"},{"$f":"Singles!AW268","v":"TBC"},{"$f":"Singles!AX268","v":"TBC"},{"$f":"Singles!AY268","v":"TBC"},null,{"$f":"Singles!AZ268","v":0},{"$f":"Singles!BA268","v":0},{"$f":"Singles!BB268","v":0},null,null,null,null,null,null,null,null,null,null,null,null,null,null,null,null,null,null,null,null,0]
[null,69,{"$f":"Singles!AR269","v":0},{"$f":"Singles!AS269","v":"TBC"},{"$f":"Singles!AT269","v":"TBC"},{"$f":"Singles!AU269","v":"TBC"},{"$f":"Singles!AV269","v":"TBC"},{"$f":"Singles!AW269","v":"TBC"},{"$f":"Singles!AX269","v":"TBC"},{"$f":"Singles!AY269","v":"TBC"},null,{"$f":"Singles!AZ269","v":0},{"$f":"Singles!BA269","v":0},{"$f":"Singles!BB269","v":0},null,null,null,null,null,null,null,null,null,null,null,null,null,null,null,null,null,null,null,null,0]
[null,70,{"$f":"Singles!AR270","v":0},{"$f":"Singles!AS270","v":"TBC"},{"$f":"Singles!AT270","v":"TBC"},{"$f":"Singles!AU270","v":"TBC"},{"$f":"Singles!AV270","v":"TBC"},{"$f":"Singles!AW270","v":"TBC"},{"$f":"Singles!AX270","v":"TBC"},{"$f":"Singles!AY270","v":"TBC"},null,{"$f":"Singles!AZ270","v":0},{"$f":"Singles!BA270","v":0},{"$f":"Singles!BB270","v":0},null,null,null,null,null,null,null,null,null,null,null,null,null,null,null,null,null,null,null,null,0]
[null,71,{"$f":"Singles!AR271","v":0},{"$f":"Singles!AS271","v":"TBC"},{"$f":"Singles!AT271","v":"TBC"},{"$f":"Singles!AU271","v":"TBC"},{"$f":"Singles!AV271","v":"TBC"},{"$f":"Singles!AW271","v":"TBC"},{"$f":"Singles!AX271","v":"TBC"},{"$f":"Singles!AY271","v":"TBC"},null,{"$f":"Singles!AZ271","v":0},{"$f":"Singles!BA271","v":0},{"$f":"Singles!BB271","v":0},null,null,null,null,null,null,null,null,null,null,null,null,null,null,null,null,null,null,null,null,0]
[null,72,{"$f":"Singles!AR272","v":0},{"$f":"Singles!AS272","v":"TBC"},{"$f":"Singles!AT272","v":"TBC"},{"$f":"Singles!AU272","v":"TBC"},{"$f":"Singles!AV272","v":"TBC"},{"$f":"Singles!AW272","v":"TBC"},{"$f":"Singles!AX272","v":"TBC"},{"$f":"Singles!AY272","v":"TBC"},null,{"$f":"Singles!AZ272","v":0},{"$f":"Singles!BA272","v":0},{"$f":"Singles!BB272","v":0},null,null,null,null,null,null,null,null,null,null,null,null,null,null,null,null,null,null,null,null,0]
[null,73,{"$f":"Singles!AR273","v":0},{"$f":"Singles!AS273","v":"TBC"},{"$f":"Singles!AT273","v":"TBC"},{"$f":"Singles!AU273","v":"TBC"},{"$f":"Singles!AV273","v":"TBC"},{"$f":"Singles!AW273","v":"TBC"},{"$f":"Singles!AX273","v":"TBC"},{"$f":"Singles!AY273","v":"TBC"},null,{"$f":"Singles!AZ273","v":0},{"$f":"Singles!BA273","v":0},{"$f":"Singles!BB273","v":0},null,null,null,null,null,null,null,null,null,null,null,null,null,null,null,null,null,null,null,null,0]
[null,74,{"$f":"Singles!AR274","v":0},{"$f":"Singles!AS274","v":"TBC"},{"$f":"Singles!AT274","v":"TBC"},{"$f":"Singles!AU274","v":"TBC"},{"$f":"Singles!AV274","v":"TBC"},{"$f":"Singles!AW274","v":"TBC"},{"$f":"Singles!AX274","v":"TBC"},{"$f":"Singles!AY274","v":"TBC"},null,{"$f":"Singles!AZ274","v":0},{"$f":"Singles!BA274","v":0},{"$f":"Singles!BB274","v":0},null,null,null,null,null,null,null,null,null,null,null,null,null,null,null,null,null,null,null,null,0]
[null,75,{"$f":"Singles!AR275","v":0},{"$f":"Singles!AS275","v":"TBC"},{"$f":"Singles!AT275","v":"TBC"},{"$f":"Singles!AU275","v":"TBC"},{"$f":"Singles!AV275","v":"TBC"},{"$f":"Singles!AW275","v":"TBC"},{"$f":"Singles!AX275","v":"TBC"},{"$f":"Singles!AY275","v":"TBC"},null,{"$f":"Singles!AZ275","v":0},{"$f":"Singles!BA275","v":0},{"$f":"Singles!BB275","v":0},null,null,null,null,null,null,null,null,null,null,null,null,null,null,null,null,null,null,null,null,0]
[{"$f":"$D$7","v":0}]

{"sheet":"RAM","index":6,"n_rows":82,"n_cols":35,"rows_kept":82,"cut":false,"hidden":false,"merged":[[1,14,80,14],[81,0,81,14],[1,0,80,0],[0,0,0,14],[1,4,1,9],[1,11,1,13],[1,1,3,3],[2,11,3,11],[2,12,3,12],[2,13,3,13],[4,1,4,9],[4,11,4,13],[1,10,80,10]]}
[{"$f":"$D$7","v":"NUIG"}]
[{"$f":"$D$7","v":"NUIG"},"Male Advanced Recurve",null,null,"Host Club",null,null,null,null,null,{"$f":"$D$7","v":"NUIG"},"Scores",null,null,"NUIG",null,null,null,null,null,null,null,null,null,null,null,null,null,null,null,null,null,null,null,{"$f":"AI7","v":"Darren Wallace"}]
[null,null,null,null,{"$f":"Entries!K6","v":"DCU IV"},"UCD/ITC",{"$f":"Entries!K8","v":"DkIT IV"},"NUIM/GMIT",{"$f":"Entries!K10","v":"NUIG IV"},{"$f":"Entries!K11","v":"UL IV"},null,"Total","Lowest","League"]
[]
[null,"NUIG",null,null,null,null,null,null,null,null,null,"NUIG"]
[null,null,"Name","College","DCU IV","UCD/ITC IV","DkIT IV","NUIM/GMIT IV","NUIG IV","UL IV",null,"Total","Lowest","League total"]
[null,1,{"$f":"Singles!BF201","v":"Darren Wallace"},{"$f":"Singles!BG201","v":"NUIG"},{"$f":"Singles!BH201","v":564},{"$f":"Singles!BI201","v":560},{"$f":"Singles!BJ201","v":567},{"$f":"Singles!BK201","v":560},{"$f":"Singles!BL201","v":575},{"$f":"Singles!BM201","v":565},null,{"$f":"Singles!BN8","v":3391},{"$f":"Singles!BO8","v":560},{"$f":"Singles!BP8","v":2831.0575567000001},null,null,null,null,null,null,null,null,null,null,null,null,null,null,null,null,null,null,null,null,{"$f":"C7","v":"Darren Wallace"}]
[null,2,{"$f":"Singles!BF202","v":"Adam McSweeney"},{"$f":"Singles!BG202","v":"DCU"},{"$f":"Singles!BH202","v":547},{"$f":"Singles!BI202","v":547},{"$f":"Singles!BJ202","v":544},{"$f":"Singles!BK202","v":538},{"$f":"Singles!BL202","v":530},{"$f":"Singles!BM202","v":554},null,{"$f":"Singles!BN9","v":3260},{"$f":"Singles!BO9","v":530},{"$f":"Singles!BP9","v":2730.0547547000001},null,null,null,null,null,null,null,null,null,null,null,null,null,null,null,null,null,null,null,null,"Adam McSweeney"]
[null,3,{"$f":"Singles!BF203","v":"Brendan Forde"},{"$f":"Singles!BG203","v":"DkIT"},{"$f":"Singles!BH203","v":503},{"$f":"Singles!BI203","v":542},{"$f":"Singles!BJ203","v":496},{"$f":"Singles!BK203","v":513},{"$f":"Singles!BL203","v":556},{"$f":"Singles!BM203","v":531},null,{"$f":"Singles!BN10","v":3141},{"$f":"Singles!BO10","v":496},{"$f":"Singles!BP10","v":2645.0556541999999},null,null,null,null,null,null,null,null,null,null,null,null,null,null,null,null,null,null,null,null,"Brendan Forde"]
[null,4,{"$f":"Singles!BF214","v":"Ryan Byrne"},{"$f":"Singles!BG214","v":"DIT"},{"$f":"Singles!BH214","v":559},{"$f":"Singles!BI214","v":480},{"$f":"Singles!BJ214","v":527},{"$f":"Singles!BK214","v":530},{"$f":"Singles!BL214","v":0},{"$f":"Singles!BM214","v":530},null,{"$f":"Singles!BN21","v":2626},{"$f":"Singles!BO21","v":0},{"$f":"Singles!BP21","v":2626.055953},null,null,null,null,null,null,null,null,null,null,null,null,null,null,null,null,null,null,null,null,"Ryan Byrne"]
[null,5,{"$f":"Singles!BF205","v":"Sean Curtin"},{"$f":"Singles!BG205","v":"UL"},{"$f":"Singles!BH205","v":541},{"$f":"Singles!BI205","v":540},{"$f":"Singles!BJ205","v":494},{"$f":"Singles!BK205","v":529},{"$f":"Singles!BL205","v":491},{"$f":"Singles!BM205","v":499},null,{"$f":"Singles!BN12","v":3094},{"$f":"Singles!BO12","v":491},{"$f":"Singles!BP12","v":2603.0541539999999},null,null,null,null,null,null,null,null,null,null,null,null,null,null,null,null,null,null,null,null,"Sean Curtin"]
[null,6,{"$f":"Singles!BF204","v":"Sean Flavin"},{"$f":"Singles!BG204","v":"UL"},{"$f":"Singles!BH204","v":524},{"$f":"Singles!BI204","v":517},{"$f":"Singles!BJ204","v":505},{"$f":"Singles!BK204","v":522},{"$f":"Singles!BL204","v":527},{"$f":"Singles!BM204","v":503},null,{"$f":"Singles!BN11","v":3098},{"$f":"Singles!BO11","v":503},{"$f":"Singles!BP11","v":2595.0527524000004},null,null,null,null,null,null,null,null,null,null,null,null,null,null,null,null,null,null,null,null,"Sean Flavin"]
[null,7,{"$f":"Singles!BF206","v":"Dave Boyle"},{"$f":"Singles!BG206","v":"DCU"},{"$f":"Singles!BH206","v":513},{"$f":"Singles!BI206","v":533},{"$f":"Singles!BJ206","v":522},{"$f":"Singles!BK206","v":527},{"$f":"Singles!BL206","v":493},{"$f":"Singles!BM206","v":480},null,{"$f":"Singles!BN13","v":3068},{"$f":"Singles!BO13","v":480},{"$f":"Singles!BP13","v":2588.0533527000002},null,null,null,null,null,null,null,null,null,null,null,null,null,null,null,null,null,null,null,null,"Dave Boyle"]
[null,8,{"$f":"Singles!BF207","v":"John Hally"},{"$f":"Singles!BG207","v":"UL"},{"$f":"Singles!BH207","v":512},{"$f":"Singles!BI207","v":488},{"$f":"Singles!BJ207","v":541},{"$f":"Singles!BK207","v":497},{"$f":"Singles!BL207","v":515},{"$f":"Singles!BM207","v":511},null,{"$f":"Singles!BN14","v":3064},{"$f":"Singles!BO14","v":488},{"$f":"Singles!BP14","v":2576.0541515},null,null,null,null,null,null,null,null,null,null,null,null,null,null,null,null,null,null,null,null,"John Hally"]
[null,9,{"$f":"Singles!BF208","v":"James Byrne"},{"$f":"Singles!BG208","v":"DIT"},{"$f":"Singles!BH208","v":499},{"$f":"Singles!BI208","v":476},{"$f":"Singles!BJ208","v":494},{"$f":"Singles!BK208","v":488},{"$f":"Singles!BL208","v":508},{"$f":"Singles!BM208","v":503},null,{"$f":"Singles!BN15","v":2968},{"$f":"Singles!BO15","v":476},{"$f":"Singles!BP15","v":2492.0508498999998},null,null,null,null,null,null,null,null,null,null,null,null,null,null,null,null,null,null,null,null,"James Byrne"]
[null,10,{"$f":"Singles!BF209","v":"Diego Coyle Diez"},{"$f":"Singles!BG209","v":"NUIM"},{"$f":"Singles!BH209","v":505},{"$f":"Singles!BI209","v":504},{"$f":"Singles!BJ209","v":496},{"$f":"Singles!BK209","v":445},{"$f":"Singles!BL209","v":487},{"$f":"Singles!BM209","v":470},null,{"$f":"Singles!BN16","v":2907},{"$f":"Singles!BO16","v":445},{"$f":"Singles!BP16","v":2462.0505503999998},null,null,null,null,null,null,null,null,null,null,null,null,null,null,null,null,null,null,null,null,"Diego Coyle Diez"]
[null,11,{"$f":"Singles!BF211","v":"Ian Kenna"},{"$f":"Singles!BG211","v":"ITC"},{"$f":"Singles!BH211","v":429},{"$f":"Singles!BI211","v":393},{"$f":"Singles!BJ211","v":484},{"$f":"Singles!BK211","v":510},{"$f":"Singles!BL211","v":474},{"$f":"Singles!BM211","v":526},null,{"$f":"Singles!BN18","v":2816},{"$f":"Singles!BO18","v":393},{"$f":"Singles!BP18","v":2423.0510484000001},null,null,null,null,null,null,null,null,null,null,null,null,null,null,null,null,null,null,null,null,"Ian Kenna"]
[null,12,{"$f":"Singles!BF218","v":"Simon Henleywillis"},{"$f":"Singles!BG218","v":"UCC"},{"$f":"Singles!BH218","v":495},{"$f":"Singles!BI218","v":489},{"$f":"Singles!BJ218","v":486},{"$f":"Singles!BK218","v":0},{"$f":"Singles!BL218","v":488},{"$f":"Singles!BM218","v":465},null,{"$f":"Singles!BN25","v":2423},{"$f":"Singles!BO25","v":0},{"$f":"Singles!BP25","v":2423.0495489},null,null,null,null,null,null,null,null,null,null,null,null,null,null,null,null,null,null,null,null,"Simon Henleywillis"]
[null,13,{"$f":"Singles!BF219","v":"Youcheng Pan"},{"$f":"Singles!BG219","v":"DIT"},{"$f":"Singles!BH219","v":399},{"$f":"Singles!BI219","v":0},{"$f":"Singles!BJ219","v":480},{"$f":"Singles!BK219","v":509},{"$f":"Singles!BL219","v":529},{"$f":"Singles!BM219","v":499},null,{"$f":"Singles!BN26","v":2416},{"$f":"Singles!BO26","v":0},{"$f":"Singles!BP26","v":2416.0529509000003},null,null,null,null,null,null,null,null,null,null,null,null,null,null,null,null,null,null,null,null,"Youcheng Pan"]
[null,14,{"$f":"Singles!BF217","v":"Stephen Masterson"},{"$f":"Singles!BG217","v":"UCD"},{"$f":"Singles!BH217","v":466},{"$f":"Singles!BI217","v":75},{"$f":"Singles!BJ217","v":473},{"$f":"Singles!BK217","v":488},{"$f":"Singles!BL217","v":461},{"$f":"Singles!BM217","v":526},null,{"$f":"Singles!BN24","v":2489},{"$f":"Singles!BO24","v":75},{"$f":"Singles!BP24","v":2414.0488473},null,null,null,null,null,null,null,null,null,null,null,null,null,null,null,null,null,null,null,null,"Stephen Masterson"]
[null,15,{"$f":"Singles!BF212","v":"Adin Middleton"},{"$f":"Singles!BG212","v":"ITC"},{"$f":"Singles!BH212","v":474},{"$f":"Singles!BI212","v":400},{"$f":"Singles!BJ212","v":467},{"$f":"Singles!BK212","v":496},{"$f":"Singles!BL212","v":489},{"$f":"Singles!BM212","v":484},null,{"$f":"Singles!BN19","v":2810},{"$f":"Singles!BO19","v":400},{"$f":"Singles!BP19","v":2410.0496488999997},null,null,null,null,null,null,null,null,null,null,null,null,null,null,null,null,null,null,null,null,"Adin Middleton"]
[null,16,{"$f":"Singles!BF213","v":"Aldrin Campos"},{"$f":"Singles!BG213","v":"IT Tallaght"},{"$f":"Singles!BH213","v":392},{"$f":"Singles!BI213","v":499},{"$f":"Singles!BJ213","v":477},{"$f":"Singles!BK213","v":478},{"$f":"Singles!BL213","v":451},{"$f":"Singles!BM213","v":494},null,{"$f":"Singles!BN20","v":2791},{"$f":"Singles!BO20","v":392},{"$f":"Singles!BP20","v":2399.0499478000002},null,null,null,null,null,null,null,null,null,null,null,null,null,null,null,null,null,null,null,null,"Aldrin Campos"]
[null,17,{"$f":"Singles!BF210","v":"Thomas Brouder"},{"$f":"Singles!BG210","v":"UL"},{"$f":"Singles!BH210","v":452},{"$f":"Singles!BI210","v":453},{"$f":"Singles!BJ210","v":499},{"$f":"Singles!BK210","v":480},{"$f":"Singles!BL210","v":485},{"$f":"Singles!BM210","v":462},null,{"$f":"Singles!BN17","v":2831},{"$f":"Singles!BO17","v":452},{"$f":"Singles!BP17","v":2379.0499485},null,null,null,null,null,null,null,null,null,null,null,null,null,null,null,null,null,null,null,null,"Thomas Brouder"]
[null,18,{"$f":"Singles!BF220","v":"Pádraig Dunphy"},{"$f":"Singles!BG220","v":"NUIM"},{"$f":"Singles!BH220","v":401},{"$f":"Singles!BI220","v":476},{"$f":"Singles!BJ220","v":0},{"$f":"Singles!BK220","v":499},{"$f":"Singles!BL220","v":488},{"$f":"Singles!BM220","v":509},null,{"$f":"Singles!BN27","v":2373},{"$f":"Singles!BO27","v":0},{"$f":"Singles!BP27","v":2373.0499488},null,null,null,null,null,null,null,null,null,null,null,null,null,null,null,null,null,null,null,null,"Pádraig Dunphy"]
[null,19,{"$f":"Singles!BF221","v":"Adam Garton"},{"$f":"Singles!BG221","v":"DIT"},{"$f":"Singles!BH221","v":475},{"$f":"Singles!BI221","v":486},{"$f":"Singles!BJ221","v":0},{"$f":"Singles!BK221","v":485},{"$f":"Singles!BL221","v":437},{"$f":"Singles!BM221","v":478},null,{"$f":"Singles!BN28","v":2361},{"$f":"Singles!BO28","v":0},{"$f":"Singles!BP28","v":2361.0486485000001},null,null,null,null,null,null,null,null,null,null,null,null,null,null,null,null,null,null,null,null,"Adam Garton"]
[null,20,{"$f":"Singles!BF222","v":"Michael O Callaghan"},{"$f":"Singles!BG222","v":"UL"},{"$f":"Singles!BH222","v":448},{"$f":"Singles!BI222","v":449},{"$f":"Singles!BJ222","v":0},{"$f":"Singles!BK222","v":439},{"$f":"Singles!BL222","v":492},{"$f":"Singles!BM222","v":465},null,{"$f":"Singles!BN29","v":2293},{"$f":"Singles!BO29","v":0},{"$f":"Singles!BP29","v":2293.0492448999998},null,null,null,null,null,null,null,null,null,null,null,null,null,null,null,null,null,null,null,null,"Michael O Callaghan"]
[null,21,{"$f":"Singles!BF223","v":"Chris O'Leary"},{"$f":"Singles!BG223","v":"UCC"},{"$f":"Singles!BH223","v":452},{"$f":"Singles!BI223","v":450},{"$f":"Singles!BJ223","v":414},{"$f":"Singles!BK223","v":0},{"$f":"Singles!BL223","v":479},{"$f":"Singles!BM223","v":490},null,{"$f":"Singles!BN30","v":2285},{"$f":"Singles!BO30","v":0},{"$f":"Singles!BP30","v":2285.0479452},null,null,null,null,null,null,null,null,null,null,null,null,null,null,null,null,null,null,null,null,"Chris O'Leary"]
[null,22,{"$f":"Singles!BF224","v":"Peter Cummings"},{"$f":"Singles!BG224","v":"UU"},{"$f":"Singles!BH224","v":564},{"$f":"Singles!BI224","v":548},{"$f":"Singles!BJ224","v":559},{"$f":"Singles!BK224","v":557},{"$f":"Singles!BL224","v":0},{"$f":"Singles!BM224","v":0},null,{"$f":"Singles!BN31","v":2228},{"$f":"Singles!BO31","v":0},{"$f":"Singles!BP31","v":2228.0564558999999},null,null,null,null,null,null,null,null,null,null,null,null,null,null,null,null,null,null,null,null,"Peter Cummings"]
[null,23,{"$f":"Singles!BF215","v":"Patrick Molloy"},{"$f":"Singles!BG215","v":"NUIG"},{"$f":"Singles!BH215","v":454},{"$f":"Singles!BI215","v":459},{"$f":"Singles!BJ215","v":386},{"$f":"Singles!BK215","v":408},{"$f":"Singles!BL215","v":456},{"$f":"Singles!BM215","v":427},null,{"$f":"Singles!BN22","v":2590},{"$f":"Singles!BO22","v":386},{"$f":"Singles!BP22","v":2204.0459455999999},null,null,null,null,null,null,null,null,null,null,null,null,null,null,null,null,null,null,null,null,"Patrick Molloy"]
[null,24,{"$f":"Singles!BF216","v":"Muhammad Asyraf Maarof"},{"$f":"Singles!BG216","v":"NUIG"},{"$f":"Singles!BH216","v":410},{"$f":"Singles!BI216","v":404},{"$f":"Singles!BJ216","v":467},{"$f":"Singles!BK216","v":443},{"$f":"Singles!BL216","v":424},{"$f":"Singles!BM216","v":425},null,{"$f":"Singles!BN23","v":2573},{"$f":"Singles!BO23","v":404},{"$f":"Singles!BP23","v":2169.0467442999998},null,null,null,null,null,null,null,null,null,null,null,null,null,null,null,null,null,null,null,null,"Muhammad Asyraf Maarof"]
[null,25,{"$f":"Singles!BF225","v":"Mark Christiansen"},{"$f":"Singles!BG225","v":"NUIM"},{"$f":"Singles!BH225","v":0},{"$f":"Singles!BI225","v":440},{"$f":"Singles!BJ225","v":458},{"$f":"Singles!BK225","v":430},{"$f":"Singles!BL225","v":422},{"$f":"Singles!BM225","v":408},null,{"$f":"Singles!BN32","v":2158},{"$f":"Singles!BO32","v":0},{"$f":"Singles!BP32","v":2158.0458439999998},null,null,null,null,null,null,null,null,null,null,null,null,null,null,null,null,null,null,null,null,"Mark Christiansen"]
[null,26,{"$f":"Singles!BF226","v":"Austin Tobin"},{"$f":"Singles!BG226","v":"DCU"},{"$f":"Singles!BH226","v":0},{"$f":"Singles!BI226","v":0},{"$f":"Singles!BJ226","v":524},{"$f":"Singles!BK226","v":543},{"$f":"Singles!BL226","v":521},{"$f":"Singles!BM226","v":538},null,{"$f":"Singles!BN33","v":2126},{"$f":"Singles!BO33","v":0},{"$f":"Singles!BP33","v":2126.0543524},null,null,null,null,null,null,null,null,null,null,null,null,null,null,null,null,null,null,null,null,"Austin Tobin"]
[null,27,{"$f":"Singles!BF227","v":"Stephen Dillon"},{"$f":"Singles!BG227","v":"IT Tallaght"},{"$f":"Singles!BH227","v":497},{"$f":"Singles!BI227","v":0},{"$f":"Singles!BJ227","v":543},{"$f":"Singles!BK227","v":523},{"$f":"Singles!BL227","v":0},{"$f":"Singles!BM227","v":525},null,{"$f":"Singles!BN34","v":2088},{"$f":"Singles!BO34","v":0},{"$f":"Singles!BP34","v":2088.0543522999997},null,null,null,null,null,null,null,null,null,null,null,null,null,null,null,null,null,null,null,null,"Stephen Dillon"]
[null,28,{"$f":"Singles!BF228","v":"Philip Early"},{"$f":"Singles!BG228","v":"DCU"},{"$f":"Singles!BH228","v":406},{"$f":"Singles!BI228","v":408},{"$f":"Singles!BJ228","v":442},{"$f":"Singles!BK228","v":381},{"$f":"Singles!BL228","v":0},{"$f":"Singles!BM228","v":444},null,{"$f":"Singles!BN35","v":2081},{"$f":"Singles!BO35","v":0},{"$f":"Singles!BP35","v":2081.0442407999999},null,null,null,null,null,null,null,null,null,null,null,null,null,null,null,null,null,null,null,null,"Philip Early"]
[null,29,{"$f":"Singles!BF229","v":"Ciarán Lowe"},{"$f":"Singles!BG229","v":"NUIM"},{"$f":"Singles!BH229","v":0},{"$f":"Singles!BI229","v":519},{"$f":"Singles!BJ229","v":519},{"$f":"Singles!BK229","v":513},{"$f":"Singles!BL229","v":0},{"$f":"Singles!BM229","v":515},null,{"$f":"Singles!BN36","v":2066},{"$f":"Singles!BO36","v":0},{"$f":"Singles!BP36","v":2066.0519518999999},null,null,null,null,null,null,null,null,null,null,null,null,null,null,null,null,null,null,null,null,"Ciarán Lowe"]
[null,30,{"$f":"Singles!BF230","v":"Patrick Markey"},{"$f":"Singles!BG230","v":"DkIT"},{"$f":"Singles!BH230","v":424},{"$f":"Singles!BI230","v":394},{"$f":"Singles!BJ230","v":374},{"$f":"Singles!BK230","v":349},{"$f":"Singles!BL230","v":397},{"$f":"Singles!BM230","v":0},null,{"$f":"Singles!BN37","v":1938},{"$f":"Singles!BO37","v":0},{"$f":"Singles!BP37","v":1938.0424396999999},null,null,null,null,null,null,null,null,null,null,null,null,null,null,null,null,null,null,null,null,"Patrick Markey"]
[null,31,{"$f":"Singles!BF231","v":"Jordan McCord"},{"$f":"Singles!BG231","v":"UU"},{"$f":"Singles!BH231","v":445},{"$f":"Singles!BI231","v":472},{"$f":"Singles!BJ231","v":476},{"$f":"Singles!BK231","v":531},{"$f":"Singles!BL231","v":0},{"$f":"Singles!BM231","v":0},null,{"$f":"Singles!BN38","v":1924},{"$f":"Singles!BO38","v":0},{"$f":"Singles!BP38","v":1924.0531476000001},null,null,null,null,null,null,null,null,null,null,null,null,null,null,null,null,null,null,null,null,"Jordan McCord"]
[null,32,{"$f":"Singles!BF232","v":"Conor McCan"},{"$f":"Singles!BG232","v":"GMIT"},{"$f":"Singles!BH232","v":0},{"$f":"Singles!BI232","v":0},{"$f":"Singles!BJ232","v":389},{"$f":"Singles!BK232","v":437},{"$f":"Singles!BL232","v":458},{"$f":"Singles!BM232","v":444},null,{"$f":"Singles!BN39","v":1728},{"$f":"Singles!BO39","v":0},{"$f":"Singles!BP39","v":1728.0458437000002},null,null,null,null,null,null,null,null,null,null,null,null,null,null,null,null,null,null,null,null,"Conor McCan"]
[null,33,{"$f":"Singles!BF233","v":"Peter Callanan"},{"$f":"Singles!BG233","v":"UCD"},{"$f":"Singles!BH233","v":303},{"$f":"Singles!BI233","v":205},{"$f":"Singles!BJ233","v":350},{"$f":"Singles!BK233","v":0},{"$f":"Singles!BL233","v":328},{"$f":"Singles!BM233","v":451},null,{"$f":"Singles!BN40","v":1637},{"$f":"Singles!BO40","v":0},{"$f":"Singles!BP40","v":1637.0350328000002},null,null,null,null,null,null,null,null,null,null,null,null,null,null,null,null,null,null,null,null,{"$f":"C39","v":"Peter Callanan"}]
[null,34,{"$f":"Singles!BF234","v":"Eoin Miller"},{"$f":"Singles!BG234","v":"NUIM"},{"$f":"Singles!BH234","v":437},{"$f":"Singles!BI234","v":0},{"$f":"Singles!BJ234","v":0},{"$f":"Singles!BK234","v":414},{"$f":"Singles!BL234","v":392},{"$f":"Singles!BM234","v":386},null,{"$f":"Singles!BN41","v":1629},{"$f":"Singles!BO41","v":0},{"$f":"Singles!BP41","v":1629.0437414},null,null,null,null,null,null,null,null,null,null,null,null,null,null,null,null,null,null,null,null,"Eoin Miller"]
[null,35,{"$f":"Singles!BF235","v":"Brendan Browne"},{"$f":"Singles!BG235","v":"GMIT"},{"$f":"Singles!BH235","v":0},{"$f":"Singles!BI235","v":0},{"$f":"Singles!BJ235","v":400},{"$f":"Singles!BK235","v":380},{"$f":"Singles!BL235","v":422},{"$f":"Singles!BM235","v":371},null,{"$f":"Singles!BN42","v":1573},{"$f":"Singles!BO42","v":0},{"$f":"Singles!BP42","v":1573.04224},null,null,null,null,null,null,null,null,null,null,null,null,null,null,null,null,null,null,null,null,"Brendan Browne"]
[null,36,{"$f":"Singles!BF236","v":"Fan Zingliang"},{"$f":"Singles!BG236","v":"NUIG"},{"$f":"Singles!BH236","v":0},{"$f":"Singles!BI236","v":0},{"$f":"Singles!BJ236","v":0},{"$f":"Singles!BK236","v":502},{"$f":"Singles!BL236","v":507},{"$f":"Singles!BM236","v":522},null,{"$f":"Singles!BN43","v":1531},{"$f":"Singles!BO43","v":0},{"$f":"Singles!BP43","v":1531.0507502},null,null,null,null,null,null,null,null,null,null,null,null,null,null,null,null,null,null,null,null,"Fan Zingliang"]
[null,37,{"$f":"Singles!BF237","v":"Daniel Meyer"},{"$f":"Singles!BG237","v":"DCU"},{"$f":"Singles!BH237","v":0},{"$f":"Singles!BI237","v":0},{"$f":"Singles!BJ237","v":0},{"$f":"Singles!BK237","v":468},{"$f":"Singles!BL237","v":441},{"$f":"Singles!BM237","v":480},null,{"$f":"Singles!BN44","v":1389},{"$f":"Singles!BO44","v":0},{"$f":"Singles!BP44","v":1389.0468441},null,null,null,null,null,null,null,null,null,null,null,null,null,null,null,null,null,null,null,null,"Daniel Meyer"]
[null,38,{"$f":"Singles!BF238","v":"Tony Liu"},{"$f":"Singles!BG238","v":"DkIT"},{"$f":"Singles!BH238","v":466},{"$f":"Singles!BI238","v":442},{"$f":"Singles!BJ238","v":0},{"$f":"Singles!BK238","v":0},{"$f":"Singles!BL238","v":475},{"$f":"Singles!BM238","v":0},null,{"$f":"Singles!BN45","v":1383},{"$f":"Singles!BO45","v":0},{"$f":"Singles!BP45","v":1383.0475465999998},null,null,null,null,null,null,null,null,null,null,null,null,null,null,null,null,null,null,null,null,"Tony Liu"]
[null,39,{"$f":"Singles!BF239","v":"Marko Kovacevic"},{"$f":"Singles!BG239","v":"GMIT"},{"$f":"Singles!BH239","v":0},{"$f":"Singles!BI239","v":0},{"$f":"Singles!BJ239","v":0},{"$f":"Singles!BK239","v":430},{"$f":"Singles!BL239","v":444},{"$f":"Singles!BM239","v":472},null,{"$f":"Singles!BN46","v":1346},{"$f":"Singles!BO46","v":0},{"$f":"Singles!BP46","v":1346.044443},null,null,null,null,null,null,null,null,null,null,null,null,null,null,null,null,null,null,null,null,"Marko Kovacevic"]
[null,40,{"$f":"Singles!BF240","v":"Conor Lydon"},{"$f":"Singles!BG240","v":"NUIG"},{"$f":"Singles!BH240","v":245},{"$f":"Singles!BI240","v":0},{"$f":"Singles!BJ240","v":0},{"$f":"Singles!BK240","v":360},{"$f":"Singles!BL240","v":319},{"$f":"Singles!BM240","v":375},null,{"$f":"Singles!BN47","v":1299},{"$f":"Singles!BO47","v":0},{"$f":"Singles!BP47","v":1299.0360319000001},null,null,null,null,null,null,null,null,null,null,null,null,null,null,null,null,null,null,null,null,"Conor Lydon"]
[null,41,{"$f":"Singles!BF241","v":"Paul Beirne"},{"$f":"Singles!BG241","v":"UCD"},{"$f":"Singles!BH241","v":421},{"$f":"Singles!BI241","v":0},{"$f":"Singles!BJ241","v":0},{"$f":"Singles!BK241","v":419},{"$f":"Singles!BL241","v":0},{"$f":"Singles!BM241","v":446},null,{"$f":"Singles!BN48","v":1286},{"$f":"Singles!BO48","v":0},{"$f":"Singles!BP48","v":1286.0421418999999},null,null,null,null,null,null,null,null,null,null,null,null,null,null,null,null,null,null,null,null,"Paul Beirne"]
[null,42,{"$f":"Singles!BF242","v":"James Ryan"},{"$f":"Singles!BG242","v":"UCD"},{"$f":"Singles!BH242","v":531},{"$f":"Singles!BI242","v":535},{"$f":"Singles!BJ242","v":0},{"$f":"Singles!BK242","v":0},{"$f":"Singles!BL242","v":0},{"$f":"Singles!BM242","v":0},null,{"$f":"Singles!BN49","v":1066},{"$f":"Singles!BO49","v":0},{"$f":"Singles!BP49","v":1066.0535531},null,null,null,null,null,null,null,null,null,null,null,null,null,null,null,null,null,null,null,null,"James Ryan"]
[null,43,{"$f":"Singles!BF243","v":"Kevin Roche"},{"$f":"Singles!BG243","v":"UCD"},{"$f":"Singles!BH243","v":0},{"$f":"Singles!BI243","v":0},{"$f":"Singles!BJ243","v":0},{"$f":"Singles!BK243","v":0},{"$f":"Singles!BL243","v":520},{"$f":"Singles!BM243","v":526},null,{"$f":"Singles!BN50","v":1046},{"$f":"Singles!BO50","v":0},{"$f":"Singles!BP50","v":1046.0519999999999},null,null,null,null,null,null,null,null,null,null,null,null,null,null,null,null,null,null,null,null,"Kevin Roche"]
[null,44,{"$f":"Singles!BF245","v":"Thomas D'Arcy"},{"$f":"Singles!BG245","v":"UCD"},{"$f":"Singles!BH245","v":438},{"$f":"Singles!BI245","v":462},{"$f":"Singles!BJ245","v":0},{"$f":"Singles!BK245","v":0},{"$f":"Singles!BL245","v":0},{"$f":"Singles!BM245","v":0},null,{"$f":"Singles!BN52","v":900},{"$f":"Singles!BO52","v":0},{"$f":"Singles!BP52","v":900.04624379999996},null,null,null,null,null,null,null,null,null,null,null,null,null,null,null,null,null,null,null,null,"Thomas D'Arcy"]
[null,45,{"$f":"Singles!BF244","v":"Aaron Downes"},{"$f":"Singles!BG244","v":"GMIT"},{"$f":"Singles!BH244","v":242},{"$f":"Singles!BI244","v":88},{"$f":"Singles!BJ244","v":72},{"$f":"Singles!BK244","v":155},{"$f":"Singles!BL244","v":156},{"$f":"Singles!BM244","v":245},null,{"$f":"Singles!BN51","v":958},{"$f":"Singles!BO51","v":72},{"$f":"Singles!BP51","v":886.02421559999993},null,null,null,null,null,null,null,null,null,null,null,null,null,null,null,null,null,null,null,null,"Aaron Downes"]
[null,46,{"$f":"Singles!BF246","v":"Ian Hand"},{"$f":"Singles!BG246","v":"ITC"},{"$f":"Singles!BH246","v":0},{"$f":"Singles!BI246","v":448},{"$f":"Singles!BJ246","v":429},{"$f":"Singles!BK246","v":0},{"$f":"Singles!BL246","v":0},{"$f":"Singles!BM246","v":0},null,{"$f":"Singles!BN53","v":877},{"$f":"Singles!BO53","v":0},{"$f":"Singles!BP53","v":877.04484290000005},null,null,null,null,null,null,null,null,null,null,null,null,null,null,null,null,null,null,null,null,"Ian Hand"]
[null,47,{"$f":"Singles!BF247","v":"Shane Lordan"},{"$f":"Singles!BG247","v":"UCC"},{"$f":"Singles!BH247","v":383},{"$f":"Singles!BI247","v":458},{"$f":"Singles!BJ247","v":0},{"$f":"Singles!BK247","v":0},{"$f":"Singles!BL247","v":0},{"$f":"Singles!BM247","v":0},null,{"$f":"Singles!BN54","v":841},{"$f":"Singles!BO54","v":0},{"$f":"Singles!BP54","v":841.04583830000001},null,null,null,null,null,null,null,null,null,null,null,null,null,null,null,null,null,null,null,null,"Shane Lordan"]
[null,48,{"$f":"Singles!BF248","v":"Kieran Cullinane"},{"$f":"Singles!BG248","v":"NUIG"},{"$f":"Singles!BH248","v":383},{"$f":"Singles!BI248","v":0},{"$f":"Singles!BJ248","v":0},{"$f":"Singles!BK248","v":0},{"$f":"Singles!BL248","v":397},{"$f":"Singles!BM248","v":0},null,{"$f":"Singles!BN55","v":780},{"$f":"Singles!BO55","v":0},{"$f":"Singles!BP55","v":780.03973830000007},null,null,null,null,null,null,null,null,null,null,null,null,null,null,null,null,null,null,null,null,"Kieran Cullinane"]
[null,49,{"$f":"Singles!BF249","v":"Luke Watson"},{"$f":"Singles!BG249","v":"GMIT"},{"$f":"Singles!BH249","v":0},{"$f":"Singles!BI249","v":354},{"$f":"Singles!BJ249","v":0},{"$f":"Singles!BK249","v":0},{"$f":"Singles!BL249","v":378},{"$f":"Singles!BM249","v":0},null,{"$f":"Singles!BN56","v":732},{"$f":"Singles!BO56","v":0},{"$f":"Singles!BP56","v":732.03783539999995},null,null,null,null,null,null,null,null,null,null,null,null,null,null,null,null,null,null,null,null,"Luke Watson"]
[null,50,{"$f":"Singles!BF250","v":"David Burdon"},{"$f":"Singles!BG250","v":"NUIG"},{"$f":"Singles!BH250","v":0},{"$f":"Singles!BI250","v":0},{"$f":"Singles!BJ250","v":0},{"$f":"Singles!BK250","v":0},{"$f":"Singles!BL250","v":325},{"$f":"Singles!BM250","v":369},null,{"$f":"Singles!BN57","v":694},{"$f":"Singles!BO57","v":0},{"$f":"Singles!BP57","v":694.03250000000003},null,null,null,null,null,null,null,null,null,null,null,null,null,null,null,null,null,null,null,null,"David Burdon"]
[null,51,{"$f":"Singles!BF251","v":"Martin Stenson"},{"$f":"Singles!BG251","v":"GMIT"},{"$f":"Singles!BH251","v":168},{"$f":"Singles!BI251","v":0},{"$f":"Singles!BJ251","v":0},{"$f":"Singles!BK251","v":223},{"$f":"Singles!BL251","v":0},{"$f":"Singles!BM251","v":215},null,{"$f":"Singles!BN58","v":606},{"$f":"Singles!BO58","v":0},{"$f":"Singles!BP58","v":606.0223168},null,null,null,null,null,null,null,null,null,null,null,null,null,null,null,null,null,null,null,null,"Martin Stenson"]
[null,52,{"$f":"Singles!BF252","v":"Darren Daly"},{"$f":"Singles!BG252","v":"ITC"},{"$f":"Singles!BH252","v":0},{"$f":"Singles!BI252","v":535},{"$f":"Singles!BJ252","v":0},{"$f":"Singles!BK252","v":0},{"$f":"Singles!BL252","v":0},{"$f":"Singles!BM252","v":0},null,{"$f":"Singles!BN59","v":535},{"$f":"Singles!BO59","v":0},{"$f":"Singles!BP59","v":535.05349999999999},null,null,null,null,null,null,null,null,null,null,null,null,null,null,null,null,null,null,null,null,"Darren Daly"]
[null,53,{"$f":"Singles!BF253","v":"Lewis Holmes"},{"$f":"Singles!BG253","v":"UU"},{"$f":"Singles!BH253","v":0},{"$f":"Singles!BI253","v":500},{"$f":"Singles!BJ253","v":0},{"$f":"Singles!BK253","v":0},{"$f":"Singles!BL253","v":0},{"$f":"Singles!BM253","v":0},null,{"$f":"Singles!BN60","v":500},{"$f":"Singles!BO60","v":0},{"$f":"Singles!BP60","v":500.05},null,null,null,null,null,null,null,null,null,null,null,null,null,null,null,null,null,null,null,null,"Lewis Holmes"]
[null,54,{"$f":"Singles!BF254","v":"Gary Stuart"},{"$f":"Singles!BG254","v":"IT Tallaght"},{"$f":"Singles!BH254","v":497},{"$f":"Singles!BI254","v":0},{"$f":"Singles!BJ254","v":0},{"$f":"Singles!BK254","v":0},{"$f":"Singles!BL254","v":0},{"$f":"Singles!BM254","v":0},null,{"$f":"Singles!BN61","v":497},{"$f":"Singles!BO61","v":0},{"$f":"Singles!BP61","v":497.04969999999997},null,null,null,null,null,null,null,null,null,null,null,null,null,null,null,null,null,null,null,null,"Gary Stuart"]
[null,55,{"$f":"Singles!BF255","v":"Graham Enright"},{"$f":"Singles!BG255","v":"UCC"},{"$f":"Singles!BH255","v":448},{"$f":"Singles!BI255","v":0},{"$f":"Singles!BJ255","v":0},{"$f":"Singles!BK255","v":0},{"$f":"Singles!BL255","v":0},{"$f":"Singles!BM255","v":0},null,{"$f":"Singles!BN62","v":448},{"$f":"Singles!BO62","v":0},{"$f":"Singles!BP62","v":448.04480000000001},null,null,null,null,null,null,null,null,null,null,null,null,null,null,null,null,null,null,null,null,"Graham Enright"]
[null,56,{"$f":"Singles!BF256","v":"Gary Kelly"},{"$f":"Singles!BG256","v":"DCU"},{"$f":"Singles!BH256","v":437},{"$f":"Singles!BI256","v":0},{"$f":"Singles!BJ256","v":0},{"$f":"Singles!BK256","v":0},{"$f":"Singles!BL256","v":0},{"$f":"Singles!BM256","v":0},null,{"$f":"Singles!BN63","v":437},{"$f":"Singles!BO63","v":0},{"$f":"Singles!BP63","v":437.0437},null,null,null,null,null,null,null,null,null,null,null,null,null,null,null,null,null,null,null,null,"Gary Kelly"]
[null,57,{"$f":"Singles!BF257","v":"Shu Chen"},{"$f":"Singles!BG257","v":"DCU"},{"$f":"Singles!BH257","v":350},{"$f":"Singles!BI257","v":0},{"$f":"Singles!BJ257","v":0},{"$f":"Singles!BK257","v":0},{"$f":"Singles!BL257","v":0},{"$f":"Singles!BM257","v":0},null,{"$f":"Singles!BN64","v":350},{"$f":"Singles!BO64","v":0},{"$f":"Singles!BP64","v":350.03500000000003},null,null,null,null,null,null,null,null,null,null,null,null,null,null,null,null,null,null,null,null,"Shu Chen"]
[null,58,{"$f":"Singles!BF258","v":"William Clifford"},{"$f":"Singles!BG258","v":"NUIM"},{"$f":"Singles!BH258","v":0},{"$f":"Singles!BI258","v":0},{"$f":"Singles!BJ258","v":0},{"$f":"Singles!BK258","v":0},{"$f":"Singles!BL258","v":331},{"$f":"Singles!BM258","v":0},null,{"$f":"Singles!BN65","v":331},{"$f":"Singles!BO65","v":0},{"$f":"Singles!BP65","v":331.03309999999999},null,null,null,null,null,null,null,null,null,null,null,null,null,null,null,null,null,null,null,null,"William Clifford"]
[null,59,{"$f":"Singles!BF259","v":"Dara Oliver"},{"$f":"Singles!BG259","v":"NUIG"},{"$f":"Singles!BH259","v":0},{"$f":"Singles!BI259","v":0},{"$f":"Singles!BJ259","v":323},{"$f":"Singles!BK259","v":0},{"$f":"Singles!BL259","v":0},{"$f":"Singles!BM259","v":0},null,{"$f":"Singles!BN66","v":323},{"$f":"Singles!BO66","v":0},{"$f":"Singles!BP66","v":323.03230000000002},null,null,null,null,null,null,null,null,null,null,null,null,null,null,null,null,null,null,null,null,"Dara Oliver"]
[null,60,{"$f":"Singles!BF260","v":"Desmond Monaghan"},{"$f":"Singles!BG260","v":"GMIT"},{"$f":"Singles!BH260","v":252},{"$f":"Singles!BI260","v":0},{"$f":"Singles!BJ260","v":12},{"$f":"Singles!BK260","v":0},{"$f":"Singles!BL260","v":0},{"$f":"Singles!BM260","v":0},null,{"$f":"Singles!BN67","v":264},{"$f":"Singles!BO67","v":0},{"$f":"Singles!BP67","v":264.02520119999997},null,null,null,null,null,null,null,null,null,null,null,null,null,null,null,null,null,null,null,null,"Desmond Monaghan"]
[null,61,{"$f":"Singles!BF261","v":"Rob Ó Gallachóir"},{"$f":"Singles!BG261","v":"NUIM"},{"$f":"Singles!BH261","v":0},{"$f":"Singles!BI261","v":0},{"$f":"Singles!BJ261","v":0},{"$f":"Singles!BK261","v":0},{"$f":"Singles!BL261","v":187},{"$f":"Singles!BM261","v":0},null,{"$f":"Singles!BN68","v":187},{"$f":"Singles!BO68","v":0},{"$f":"Singles!BP68","v":187.0187},null,null,null,null,null,null,null,null,null,null,null,null,null,null,null,null,null,null,null,null,"Rob Ó Gallachóir"]
[null,62,{"$f":"Singles!BF262","v":0},{"$f":"Singles!BG262","v":"TBC"},{"$f":"Singles!BH262","v":"TBC"},{"$f":"Singles!BI262","v":"TBC"},{"$f":"Singles!BJ262","v":"TBC"},{"$f":"Singles!BK262","v":"TBC"},{"$f":"Singles!BL262","v":"TBC"},{"$f":"Singles!BM262","v":"TBC"},null,{"$f":"Singles!BN69","v":0},{"$f":"Singles!BO69","v":0},{"$f":"Singles!BP69","v":0},null,null,null,null,null,null,null,null,null,null,null,null,null,null,null,null,null,null,null,null,0]
[null,63,{"$f":"Singles!BF263","v":0},{"$f":"Singles!BG263","v":"TBC"},{"$f":"Singles!BH263","v":"TBC"},{"$f":"Singles!BI263","v":"TBC"},{"$f":"Singles!BJ263","v":"TBC"},{"$f":"Singles!BK263","v":"TBC"},{"$f":"Singles!BL263","v":"TBC"},{"$f":"Singles!BM263","v":"TBC"},null,{"$f":"Singles!BN70","v":0},{"$f":"Singles!BO70","v":0},{"$f":"Singles!BP70","v":0},null,null,null,null,null,null,null,null,null,null,null,null,null,null,null,null,null,null,null,null,0]
[null,64,{"$f":"Singles!BF264","v":0},{"$f":"Singles!BG264","v":"TBC"},{"$f":"Singles!BH264","v":"TBC"},{"$f":"Singles!BI264","v":"TBC"},{"$f":"Singles!BJ264","v":"TBC"},{"$f":"Singles!BK264","v":"TBC"},{"$f":"Singles!BL264","v":"TBC"},{"$f":"Singles!BM264","v":"TBC"},null,{"$f":"Singles!BN71","v":0},{"$f":"Singles!BO71","v":0},{"$f":"Singles!BP71","v":0},null,null,null,null,null,null,null,null,null,null,null,null,null,null,null,null,null,null,null,null,0]
[null,65,{"$f":"Singles!BF265","v":0},{"$f":"Singles!BG265","v":"TBC"},{"$f":"Singles!BH265","v":"TBC"},{"$f":"Singles!BI265","v":"TBC"},{"$f":"Singles!BJ265","v":"TBC"},{"$f":"Singles!BK265","v":"TBC"},{"$f":"Singles!BL265","v":"TBC"},{"$f":"Singles!BM265","v":"TBC"},null,{"$f":"Singles!BN72","v":0},{"$f":"Singles!BO72","v":0},{"$f":"Singles!BP72","v":0},null,null,null,null,null,null,null,null,null,null,null,null,null,null,null,null,null,null,null,null,0]
[null,66,{"$f":"Singles!BF266","v":0},{"$f":"Singles!BG266","v":"TBC"},{"$f":"Singles!BH266","v":"TBC"},{"$f":"Singles!BI266","v":"TBC"},{"$f":"Singles!BJ266","v":"TBC"},{"$f":"Singles!BK266","v":"TBC"},{"$f":"Singles!BL266","v":"TBC"},{"$f":"Singles!BM266","v":"TBC"},null,{"$f":"Singles!BN73","v":0},{"$f":"Singles!BO73","v":0},{"$f":"Singles!BP73","v":0},null,null,null,null,null,null,null,null,null,null,null,null,null,null,null,null,null,null,null,null,0]
[null,67,{"$f":"Singles!BF267","v":0},{"$f":"Singles!BG267","v":"TBC"},{"$f":"Singles!BH267","v":"TBC"},{"$f":"Singles!BI267","v":"TBC"},{"$f":"Singles!BJ267","v":"TBC"},{"$f":"Singles!BK267","v":"TBC"},{"$f":"Singles!BL267","v":"TBC"},{"$f":"Singles!BM267","v":"TBC"},null,{"$f":"Singles!BN74","v":0},{"$f":"Singles!BO74","v":0},{"$f":"Singles!BP74","v":0},null,null,null,null,null,null,null,null,null,null,null,null,null,null,null,null,null,null,null,null,0]
[null,68,{"$f":"Singles!BF268","v":0},{"$f":"Singles!BG268","v":"TBC"},{"$f":"Singles!BH268","v":"TBC"},{"$f":"Singles!BI268","v":"TBC"},{"$f":"Singles!BJ268","v":"TBC"},{"$f":"Singles!BK268","v":"TBC"},{"$f":"Singles!BL268","v":"TBC"},{"$f":"Singles!BM268","v":"TBC"},null,{"$f":"Singles!BN75","v":0},{"$f":"Singles!BO75","v":0},{"$f":"Singles!BP75","v":0},null,null,null,null,null,null,null,null,null,null,null,null,null,null,null,null,null,null,null,null,0]
[null,69,{"$f":"Singles!BF269","v":0},{"$f":"Singles!BG269","v":"TBC"},{"$f":"Singles!BH269","v":"TBC"},{"$f":"Singles!BI269","v":"TBC"},{"$f":"Singles!BJ269","v":"TBC"},{"$f":"Singles!BK269","v":"TBC"},{"$f":"Singles!BL269","v":"TBC"},{"$f":"Singles!BM269","v":"TBC"},null,{"$f":"Singles!BN76","v":0},{"$f":"Singles!BO76","v":0},{"$f":"Singles!BP76","v":0},null,null,null,null,null,null,null,null,null,null,null,null,null,null,null,null,null,null,null,null,0]
[null,70,{"$f":"Singles!BF270","v":0},{"$f":"Singles!BG270","v":"TBC"},{"$f":"Singles!BH270","v":"TBC"},{"$f":"Singles!BI270","v":"TBC"},{"$f":"Singles!BJ270","v":"TBC"},{"$f":"Singles!BK270","v":"TBC"},{"$f":"Singles!BL270","v":"TBC"},{"$f":"Singles!BM270","v":"TBC"},null,{"$f":"Singles!BN77","v":0},{"$f":"Singles!BO77","v":0},{"$f":"Singles!BP77","v":0},null,null,null,null,null,null,null,null,null,null,null,null,null,null,null,null,null,null,null,null,0]
[null,71,{"$f":"Singles!BF271","v":0},{"$f":"Singles!BG271","v":"TBC"},{"$f":"Singles!BH271","v":"TBC"},{"$f":"Singles!BI271","v":"TBC"},{"$f":"Singles!BJ271","v":"TBC"},{"$f":"Singles!BK271","v":"TBC"},{"$f":"Singles!BL271","v":"TBC"},{"$f":"Singles!BM271","v":"TBC"},null,{"$f":"Singles!BN78","v":0},{"$f":"Singles!BO78","v":0},{"$f":"Singles!BP78","v":0},null,null,null,null,null,null,null,null,null,null,null,null,null,null,null,null,null,null,null,null,0]
[null,72,{"$f":"Singles!BF272","v":0},{"$f":"Singles!BG272","v":"TBC"},{"$f":"Singles!BH272","v":"TBC"},{"$f":"Singles!BI272","v":"TBC"},{"$f":"Singles!BJ272","v":"TBC"},{"$f":"Singles!BK272","v":"TBC"},{"$f":"Singles!BL272","v":"TBC"},{"$f":"Singles!BM272","v":"TBC"},null,{"$f":"Singles!BN79","v":0},{"$f":"Singles!BO79","v":0},{"$f":"Singles!BP79","v":0},null,null,null,null,null,null,null,null,null,null,null,null,null,null,null,null,null,null,null,null,0]
[null,73,{"$f":"Singles!BF273","v":0},{"$f":"Singles!BG273","v":"TBC"},{"$f":"Singles!BH273","v":"TBC"},{"$f":"Singles!BI273","v":"TBC"},{"$f":"Singles!BJ273","v":"TBC"},{"$f":"Singles!BK273","v":"TBC"},{"$f":"Singles!BL273","v":"TBC"},{"$f":"Singles!BM273","v":"TBC"},null,{"$f":"Singles!BN80","v":0},{"$f":"Singles!BO80","v":0},{"$f":"Singles!BP80","v":0},null,null,null,null,null,null,null,null,null,null,null,null,null,null,null,null,null,null,null,null,0]
[null,74,{"$f":"Singles!BF274","v":0},{"$f":"Singles!BG274","v":"TBC"},{"$f":"Singles!BH274","v":"TBC"},{"$f":"Singles!BI274","v":"TBC"},{"$f":"Singles!BJ274","v":"TBC"},{"$f":"Singles!BK274","v":"TBC"},{"$f":"Singles!BL274","v":"TBC"},{"$f":"Singles!BM274","v":"TBC"},null,{"$f":"Singles!BN81","v":0},{"$f":"Singles!BO81","v":0},{"$f":"Singles!BP81","v":0},null,null,null,null,null,null,null,null,null,null,null,null,null,null,null,null,null,null,null,null,0]
[null,75,{"$f":"Singles!BF275","v":0},{"$f":"Singles!BG275","v":"TBC"},{"$f":"Singles!BH275","v":"TBC"},{"$f":"Singles!BI275","v":"TBC"},{"$f":"Singles!BJ275","v":"TBC"},{"$f":"Singles!BK275","v":"TBC"},{"$f":"Singles!BL275","v":"TBC"},{"$f":"Singles!BM275","v":"TBC"},null,{"$f":"Singles!BN82","v":0},{"$f":"Singles!BO82","v":0},{"$f":"Singles!BP82","v":0},null,null,null,null,null,null,null,null,null,null,null,null,null,null,null,null,null,null,null,null,0]
[{"$f":"$D$7","v":"NUIG"}]

{"sheet":"RAF","index":7,"n_rows":82,"n_cols":35,"rows_kept":82,"cut":false,"hidden":false,"merged":[[1,14,80,14],[81,0,81,14],[1,0,80,0],[0,0,0,14],[1,4,1,9],[1,11,1,13],[1,1,3,3],[2,11,3,11],[2,12,3,12],[2,13,3,13],[4,1,4,9],[4,11,4,13],[1,10,80,10]]}
[{"$f":"$D$7","v":"BCFE"}]
[{"$f":"$D$7","v":"BCFE"},"Female Advanced Recurve",null,null,"Host Club",null,null,null,null,null,{"$f":"$D$7","v":"BCFE"},"Scores",null,null,"BCFE",null,null,null,null,null,null,null,null,null,null,null,null,null,null,null,null,null,null,null,{"$f":"AI7","v":"Maeve Reidy"}]
[null,null,null,null,{"$f":"Entries!K6","v":"DCU IV"},"UCD/ITC",{"$f":"Entries!K8","v":"DkIT IV"},"NUIM/GMIT",{"$f":"Entries!K10","v":"NUIG IV"},{"$f":"Entries!K11","v":"UL IV"},null,"Total","Lowest","League"]
[]
[null,"BCFE",null,null,null,null,null,null,null,null,null,"BCFE"]
[null,null,"Name","College","DCU IV","UCD/ITC IV","DkIT IV","NUIM/GMIT IV","NUIG IV","UL IV",null,"Total","Lowest","League total"]
[null,1,{"$f":"Singles!BT201","v":"Maeve Reidy"},{"$f":"Singles!BU201","v":"BCFE"},{"$f":"Singles!BV201","v":552},{"$f":"Singles!BW201","v":546},{"$f":"Singles!BX201","v":562},{"$f":"Singles!BY201","v":550},{"$f":"Singles!BZ201","v":559},{"$f":"Singles!CA201","v":548},null,{"$f":"Singles!CB8","v":3317},{"$f":"Singles!CC8","v":546},{"$f":"Singles!CD8","v":2771.0562559},null,null,null,null,null,null,null,null,null,null,null,null,null,null,null,null,null,null,null,null,{"$f":"C7","v":"Maeve Reidy"}]
[null,2,{"$f":"Singles!BT202","v":"Aida Alexandru"},{"$f":"Singles!BU202","v":"NUIM"},{"$f":"Singles!BV202","v":505},{"$f":"Singles!BW202","v":521},{"$f":"Singles!BX202","v":525},{"$f":"Singles!BY202","v":492},{"$f":"Singles!BZ202","v":485},{"$f":"Singles!CA202","v":448},null,{"$f":"Singles!CB9","v":2976},{"$f":"Singles!CC9","v":448},{"$f":"Singles!CD9","v":2528.0525521},null,null,null,null,null,null,null,null,null,null,null,null,null,null,null,null,null,null,null,null,"Aida Alexandru"]
[null,3,{"$f":"Singles!BT203","v":"Ines Rauch"},{"$f":"Singles!BU203","v":"UCD"},{"$f":"Singles!BV203","v":473},{"$f":"Singles!BW203","v":458},{"$f":"Singles!BX203","v":537},{"$f":"Singles!BY203","v":502},{"$f":"Singles!BZ203","v":498},{"$f":"Singles!CA203","v":502},null,{"$f":"Singles!CB10","v":2970},{"$f":"Singles!CC10","v":458},{"$f":"Singles!CD10","v":2512.0537501999997},null,null,null,null,null,null,null,null,null,null,null,null,null,null,null,null,null,null,null,null,"Ines Rauch"]
[null,4,{"$f":"Singles!BT204","v":"Ailish Dennehy"},{"$f":"Singles!BU204","v":"UCD"},{"$f":"Singles!BV204","v":474},{"$f":"Singles!BW204","v":429},{"$f":"Singles!BX204","v":486},{"$f":"Singles!BY204","v":457},{"$f":"Singles!BZ204","v":479},{"$f":"Singles!CA204","v":494},null,{"$f":"Singles!CB11","v":2819},{"$f":"Singles!CC11","v":429},{"$f":"Singles!CD11","v":2390.0486479000001},null,null,null,null,null,null,null,null,null,null,null,null,null,null,null,null,null,null,null,null,"Ailish Dennehy"]
[null,5,{"$f":"Singles!BT205","v":"Sarah Maloney"},{"$f":"Singles!BU205","v":"DCU"},{"$f":"Singles!BV205","v":465},{"$f":"Singles!BW205","v":434},{"$f":"Singles!BX205","v":517},{"$f":"Singles!BY205","v":484},{"$f":"Singles!BZ205","v":431},{"$f":"Singles!CA205","v":474},null,{"$f":"Singles!CB12","v":2805},{"$f":"Singles!CC12","v":431},{"$f":"Singles!CD12","v":2374.0517484000002},null,null,null,null,null,null,null,null,null,null,null,null,null,null,null,null,null,null,null,null,"Sarah Maloney"]
[null,6,{"$f":"Singles!BT206","v":"Sinead O`Connell"},{"$f":"Singles!BU206","v":"NUIM"},{"$f":"Singles!BV206","v":433},{"$f":"Singles!BW206","v":477},{"$f":"Singles!BX206","v":472},{"$f":"Singles!BY206","v":428},{"$f":"Singles!BZ206","v":444},{"$f":"Singles!CA206","v":482},null,{"$f":"Singles!CB13","v":2736},{"$f":"Singles!CC13","v":428},{"$f":"Singles!CD13","v":2308.0477472000002},null,null,null,null,null,null,null,null,null,null,null,null,null,null,null,null,null,null,null,null,"Sinead O`Connell"]
[null,7,{"$f":"Singles!BT208","v":"Jennifer Nally"},{"$f":"Singles!BU208","v":"NUIM"},{"$f":"Singles!BV208","v":349},{"$f":"Singles!BW208","v":419},{"$f":"Singles!BX208","v":459},{"$f":"Singles!BY208","v":413},{"$f":"Singles!BZ208","v":478},{"$f":"Singles!CA208","v":419},null,{"$f":"Singles!CB15","v":2537},{"$f":"Singles!CC15","v":349},{"$f":"Singles!CD15","v":2188.0478458999996},null,null,null,null,null,null,null,null,null,null,null,null,null,null,null,null,null,null,null,null,"Jennifer Nally"]
[null,8,{"$f":"Singles!BT207","v":"Sinead Naughton"},{"$f":"Singles!BU207","v":"GMITC"},{"$f":"Singles!BV207","v":366},{"$f":"Singles!BW207","v":452},{"$f":"Singles!BX207","v":413},{"$f":"Singles!BY207","v":423},{"$f":"Singles!BZ207","v":445},{"$f":"Singles!CA207","v":452},null,{"$f":"Singles!CB14","v":2551},{"$f":"Singles!CC14","v":366},{"$f":"Singles!CD14","v":2185.0452445000001},null,null,null,null,null,null,null,null,null,null,null,null,null,null,null,null,null,null,null,null,"Sinead Naughton"]
[null,9,{"$f":"Singles!BT209","v":"Marie Phelan"},{"$f":"Singles!BU209","v":"DCU"},{"$f":"Singles!BV209","v":0},{"$f":"Singles!BW209","v":393},{"$f":"Singles!BX209","v":0},{"$f":"Singles!BY209","v":385},{"$f":"Singles!BZ209","v":0},{"$f":"Singles!CA209","v":408},null,{"$f":"Singles!CB16","v":1186},{"$f":"Singles!CC16","v":0},{"$f":"Singles!CD16","v":1186.0393385},null,null,null,null,null,null,null,null,null,null,null,null,null,null,null,null,null,null,null,null,"Marie Phelan"]
[null,10,{"$f":"Singles!BT210","v":"Aisling Finn"},{"$f":"Singles!BU210","v":"NUIG"},{"$f":"Singles!BV210","v":0},{"$f":"Singles!BW210","v":0},{"$f":"Singles!BX210","v":519},{"$f":"Singles!BY210","v":0},{"$f":"Singles!BZ210","v":501},{"$f":"Singles!CA210","v":0},null,{"$f":"Singles!CB17","v":1020},{"$f":"Singles!CC17","v":0},{"$f":"Singles!CD17","v":1020.0519501},null,null,null,null,null,null,null,null,null,null,null,null,null,null,null,null,null,null,null,null,"Aisling Finn"]
[null,11,{"$f":"Singles!BT211","v":"Sinead Walsh"},{"$f":"Singles!BU211","v":"UCC"},{"$f":"Singles!BV211","v":403},{"$f":"Singles!BW211","v":0},{"$f":"Singles!BX211","v":0},{"$f":"Singles!BY211","v":0},{"$f":"Singles!BZ211","v":252},{"$f":"Singles!CA211","v":314},null,{"$f":"Singles!CB18","v":969},{"$f":"Singles!CC18","v":0},{"$f":"Singles!CD18","v":969.04032519999998},null,null,null,null,null,null,null,null,null,null,null,null,null,null,null,null,null,null,null,null,"Sinead Walsh"]
[null,12,{"$f":"Singles!BT212","v":"Laura Adams"},{"$f":"Singles!BU212","v":"QUB"},{"$f":"Singles!BV212","v":454},{"$f":"Singles!BW212","v":0},{"$f":"Singles!BX212","v":0},{"$f":"Singles!BY212","v":0},{"$f":"Singles!BZ212","v":471},{"$f":"Singles!CA212","v":0},null,{"$f":"Singles!CB19","v":925},{"$f":"Singles!CC19","v":0},{"$f":"Singles!CD19","v":925.04714539999998},null,null,null,null,null,null,null,null,null,null,null,null,null,null,null,null,null,null,null,null,"Laura Adams"]
[null,13,{"$f":"Singles!BT213","v":"Ashley Allen"},{"$f":"Singles!BU213","v":"UCD"},{"$f":"Singles!BV213","v":407},{"$f":"Singles!BW213","v":0},{"$f":"Singles!BX213","v":0},{"$f":"Singles!BY213","v":105},{"$f":"Singles!BZ213","v":394},{"$f":"Singles!CA213","v":0},null,{"$f":"Singles!CB20","v":906},{"$f":"Singles!CC20","v":0},{"$f":"Singles!CD20","v":906.04073940000001},null,null,null,null,null,null,null,null,null,null,null,null,null,null,null,null,null,null,null,null,"Ashley Allen"]
[null,14,{"$f":"Singles!BT214","v":"Bríd Galvin"},{"$f":"Singles!BU214","v":"NUIG"},{"$f":"Singles!BV214","v":0},{"$f":"Singles!BW214","v":460},{"$f":"Singles!BX214","v":0},{"$f":"Singles!BY214","v":0},{"$f":"Singles!BZ214","v":389},{"$f":"Singles!CA214","v":0},null,{"$f":"Singles!CB21","v":849},{"$f":"Singles!CC21","v":0},{"$f":"Singles!CD21","v":849.0460389000001},null,null,null,null,null,null,null,null,null,null,null,null,null,null,null,null,null,null,null,null,"Bríd Galvin"]
[null,15,{"$f":"Singles!BT215","v":"Alysoun Killilea"},{"$f":"Singles!BU215","v":"UCC"},{"$f":"Singles!BV215","v":423},{"$f":"Singles!BW215","v":0},{"$f":"Singles!BX215","v":0},{"$f":"Singles!BY215","v":0},{"$f":"Singles!BZ215","v":399},{"$f":"Singles!CA215","v":0},null,{"$f":"Singles!CB22","v":822},{"$f":"Singles!CC22","v":0},{"$f":"Singles!CD22","v":822.0423399},null,null,null,null,null,null,null,null,null,null,null,null,null,null,null,null,null,null,null,null,"Alysoun Killilea"]
[null,16,{"$f":"Singles!BT216","v":"Laura Ford"},{"$f":"Singles!BU216","v":"DCU"},{"$f":"Singles!BV216","v":0},{"$f":"Singles!BW216","v":0},{"$f":"Singles!BX216","v":0},{"$f":"Singles!BY216","v":416},{"$f":"Singles!BZ216","v":403},{"$f":"Singles!CA216","v":0},null,{"$f":"Singles!CB23","v":819},{"$f":"Singles!CC23","v":0},{"$f":"Singles!CD23","v":819.04164030000004},null,null,null,null,null,null,null,null,null,null,null,null,null,null,null,null,null,null,null,null,"Laura Ford"]
[null,17,{"$f":"Singles!BT217","v":"Susan Ryan"},{"$f":"Singles!BU217","v":"UCD"},{"$f":"Singles!BV217","v":390},{"$f":"Singles!BW217","v":333},{"$f":"Singles!BX217","v":0},{"$f":"Singles!BY217","v":0},{"$f":"Singles!BZ217","v":0},{"$f":"Singles!CA217","v":0},null,{"$f":"Singles!CB24","v":723},{"$f":"Singles!CC24","v":0},{"$f":"Singles!CD24","v":723.03903330000003},null,null,null,null,null,null,null,null,null,null,null,null,null,null,null,null,null,null,null,null,"Susan Ryan"]
[null,18,{"$f":"Singles!BT218","v":"Katie Hamilton"},{"$f":"Singles!BU218","v":"UCC"},{"$f":"Singles!BV218","v":451},{"$f":"Singles!BW218","v":0},{"$f":"Singles!BX218","v":0},{"$f":"Singles!BY218","v":0},{"$f":"Singles!BZ218","v":0},{"$f":"Singles!CA218","v":0},null,{"$f":"Singles!CB25","v":451},{"$f":"Singles!CC25","v":0},{"$f":"Singles!CD25","v":451.04509999999999},null,null,null,null,null,null,null,null,null,null,null,null,null,null,null,null,null,null,null,null,"Katie Hamilton"]
[null,19,{"$f":"Singles!BT219","v":"sarah o sullivan"},{"$f":"Singles!BU219","v":"UL"},{"$f":"Singles!BV219","v":432},{"$f":"Singles!BW219","v":0},{"$f":"Singles!BX219","v":0},{"$f":"Singles!BY219","v":0},{"$f":"Singles!BZ219","v":0},{"$f":"Singles!CA219","v":0},null,{"$f":"Singles!CB26","v":432},{"$f":"Singles!CC26","v":0},{"$f":"Singles!CD26","v":432.04320000000001},null,null,null,null,null,null,null,null,null,null,null,null,null,null,null,null,null,null,null,null,"sarah o sullivan"]
[null,20,{"$f":"Singles!BT220","v":0},{"$f":"Singles!BU220","v":"TBC"},{"$f":"Singles!BV220","v":"TBC"},{"$f":"Singles!BW220","v":"TBC"},{"$f":"Singles!BX220","v":"TBC"},{"$f":"Singles!BY220","v":"TBC"},{"$f":"Singles!BZ220","v":"TBC"},{"$f":"Singles!CA220","v":"TBC"},null,{"$f":"Singles!CB27","v":0},{"$f":"Singles!CC27","v":0},{"$f":"Singles!CD27","v":0},null,null,null,null,null,null,null,null,null,null,null,null,null,null,null,null,null,null,null,null,0]
[null,21,{"$f":"Singles!BT221","v":0},{"$f":"Singles!BU221","v":"TBC"},{"$f":"Singles!BV221","v":"TBC"},{"$f":"Singles!BW221","v":"TBC"},{"$f":"Singles!BX221","v":"TBC"},{"$f":"Singles!BY221","v":"TBC"},{"$f":"Singles!BZ221","v":"TBC"},{"$f":"Singles!CA221","v":"TBC"},null,{"$f":"Singles!CB28","v":0},{"$f":"Singles!CC28","v":0},{"$f":"Singles!CD28","v":0},null,null,null,null,null,null,null,null,null,null,null,null,null,null,null,null,null,null,null,null,0]
[null,22,{"$f":"Singles!BT222","v":0},{"$f":"Singles!BU222","v":"TBC"},{"$f":"Singles!BV222","v":"TBC"},{"$f":"Singles!BW222","v":"TBC"},{"$f":"Singles!BX222","v":"TBC"},{"$f":"Singles!BY222","v":"TBC"},{"$f":"Singles!BZ222","v":"TBC"},{"$f":"Singles!CA222","v":"TBC"},null,{"$f":"Singles!CB29","v":0},{"$f":"Singles!CC29","v":0},{"$f":"Singles!CD29","v":0},null,null,null,null,null,null,null,null,null,null,null,null,null,null,null,null,null,null,null,null,0]
[null,23,{"$f":"Singles!BT223","v":0},{"$f":"Singles!BU223","v":"TBC"},{"$f":"Singles!BV223","v":"TBC"},{"$f":"Singles!BW223","v":"TBC"},{"$f":"Singles!BX223","v":"TBC"},{"$f":"Singles!BY223","v":"TBC"},{"$f":"Singles!BZ223","v":"TBC"},{"$f":"Singles!CA223","v":"TBC"},null,{"$f":"Singles!CB30","v":0},{"$f":"Singles!CC30","v":0},{"$f":"Singles!CD30","v":0},null,null,null,null,null,null,null,null,null,null,null,null,null,null,null,null,null,null,null,null,0]
[null,24,{"$f":"Singles!BT224","v":0},{"$f":"Singles!BU224","v":"TBC"},{"$f":"Singles!BV224","v":"TBC"},{"$f":"Singles!BW224","v":"TBC"},{"$f":"Singles!BX224","v":"TBC"},{"$f":"Singles!BY224","v":"TBC"},{"$f":"Singles!BZ224","v":"TBC"},{"$f":"Singles!CA224","v":"TBC"},null,{"$f":"Singles!CB31","v":0},{"$f":"Singles!CC31","v":0},{"$f":"Singles!CD31","v":0},null,null,null,null,null,null,null,null,null,null,null,null,null,null,null,null,null,null,null,null,0]
[null,25,{"$f":"Singles!BT225","v":0},{"$f":"Singles!BU225","v":"TBC"},{"$f":"Singles!BV225","v":"TBC"},{"$f":"Singles!BW225","v":"TBC"},{"$f":"Singles!BX225","v":"TBC"},{"$f":"Singles!BY225","v":"TBC"},{"$f":"Singles!BZ225","v":"TBC"},{"$f":"Singles!CA225","v":"TBC"},null,{"$f":"Singles!CB32","v":0},{"$f":"Singles!CC32","v":0},{"$f":"Singles!CD32","v":0},null,null,null,null,null,null,null,null,null,null,null,null,null,null,null,null,null,null,null,null,0]
[null,26,{"$f":"Singles!BT226","v":0},{"$f":"Singles!BU226","v":"TBC"},{"$f":"Singles!BV226","v":"TBC"},{"$f":"Singles!BW226","v":"TBC"},{"$f":"Singles!BX226","v":"TBC"},{"$f":"Singles!BY226","v":"TBC"},{"$f":"Singles!BZ226","v":"TBC"},{"$f":"Singles!CA226","v":"TBC"},null,{"$f":"Singles!CB33","v":0},{"$f":"Singles!CC33","v":0},{"$f":"Singles!CD33","v":0},null,null,null,null,null,null,null,null,null,null,null,null,null,null,null,null,null,null,null,null,0]
[null,27,{"$f":"Singles!BT227","v":0},{"$f":"Singles!BU227","v":"TBC"},{"$f":"Singles!BV227","v":"TBC"},{"$f":"Singles!BW227","v":"TBC"},{"$f":"Singles!BX227","v":"TBC"},{"$f":"Singles!BY227","v":"TBC"},{"$f":"Singles!BZ227","v":"TBC"},{"$f":"Singles!CA227","v":"TBC"},null,{"$f":"Singles!CB34","v":0},{"$f":"Singles!CC34","v":0},{"$f":"Singles!CD34","v":0},null,null,null,null,null,null,null,null,null,null,null,null,null,null,null,null,null,null,null,null,0]
[null,28,{"$f":"Singles!BT228","v":0},{"$f":"Singles!BU228","v":"TBC"},{"$f":"Singles!BV228","v":"TBC"},{"$f":"Singles!BW228","v":"TBC"},{"$f":"Singles!BX228","v":"TBC"},{"$f":"Singles!BY228","v":"TBC"},{"$f":"Singles!BZ228","v":"TBC"},{"$f":"Singles!CA228","v":"TBC"},null,{"$f":"Singles!CB35","v":0},{"$f":"Singles!CC35","v":0},{"$f":"Singles!CD35","v":0},null,null,null,null,null,null,null,null,null,null,null,null,null,null,null,null,null,null,null,null,0]
[null,29,{"$f":"Singles!BT229","v":0},{"$f":"Singles!BU229","v":"TBC"},{"$f":"Singles!BV229","v":"TBC"},{"$f":"Singles!BW229","v":"TBC"},{"$f":"Singles!BX229","v":"TBC"},{"$f":"Singles!BY229","v":"TBC"},{"$f":"Singles!BZ229","v":"TBC"},{"$f":"Singles!CA229","v":"TBC"},null,{"$f":"Singles!CB36","v":0},{"$f":"Singles!CC36","v":0},{"$f":"Singles!CD36","v":0},null,null,null,null,null,null,null,null,null,null,null,null,null,null,null,null,null,null,null,null,0]
[null,30,{"$f":"Singles!BT230","v":0},{"$f":"Singles!BU230","v":"TBC"},{"$f":"Singles!BV230","v":"TBC"},{"$f":"Singles!BW230","v":"TBC"},{"$f":"Singles!BX230","v":"TBC"},{"$f":"Singles!BY230","v":"TBC"},{"$f":"Singles!BZ230","v":"TBC"},{"$f":"Singles!CA230","v":"TBC"},null,{"$f":"Singles!CB37","v":0},{"$f":"Singles!CC37","v":0},{"$f":"Singles!CD37","v":0},null,null,null,null,null,null,null,null,null,null,null,null,null,null,null,null,null,null,null,null,0]
[null,31,{"$f":"Singles!BT231","v":0},{"$f":"Singles!BU231","v":"TBC"},{"$f":"Singles!BV231","v":"TBC"},{"$f":"Singles!BW231","v":"TBC"},{"$f":"Singles!BX231","v":"TBC"},{"$f":"Singles!BY231","v":"TBC"},{"$f":"Singles!BZ231","v":"TBC"},{"$f":"Singles!CA231","v":"TBC"},null,{"$f":"Singles!CB38","v":0},{"$f":"Singles!CC38","v":0},{"$f":"Singles!CD38","v":0},null,null,null,null,null,null,null,null,null,null,null,null,null,null,null,null,null,null,null,null,0]
[null,32,{"$f":"Singles!BT232","v":0},{"$f":"Singles!BU232","v":"TBC"},{"$f":"Singles!BV232","v":"TBC"},{"$f":"Singles!BW232","v":"TBC"},{"$f":"Singles!BX232","v":"TBC"},{"$f":"Singles!BY232","v":"TBC"},{"$f":"Singles!BZ232","v":"TBC"},{"$f":"Singles!CA232","v":"TBC"},null,{"$f":"Singles!CB39","v":0},{"$f":"Singles!CC39","v":0},{"$f":"Singles!CD39","v":0},null,null,null,null,null,null,null,null,null,null,null,null,null,null,null,null,null,null,null,null,0]
[null,33,{"$f":"Singles!BT233","v":0},{"$f":"Singles!BU233","v":"TBC"},{"$f":"Singles!BV233","v":"TBC"},{"$f":"Singles!BW233","v":"TBC"},{"$f":"Singles!BX233","v":"TBC"},{"$f":"Singles!BY233","v":"TBC"},{"$f":"Singles!BZ233","v":"TBC"},{"$f":"Singles!CA233","v":"TBC"},null,{"$f":"Singles!CB40","v":0},{"$f":"Singles!CC40","v":0},{"$f":"Singles!CD40","v":0},null,null,null,null,null,null,null,null,null,null,null,null,null,null,null,null,null,null,null,null,{"$f":"C39","v":0}]
[null,34,{"$f":"Singles!BT234","v":0},{"$f":"Singles!BU234","v":"TBC"},{"$f":"Singles!BV234","v":"TBC"},{"$f":"Singles!BW234","v":"TBC"},{"$f":"Singles!BX234","v":"TBC"},{"$f":"Singles!BY234","v":"TBC"},{"$f":"Singles!BZ234","v":"TBC"},{"$f":"Singles!CA234","v":"TBC"},null,{"$f":"Singles!CB41","v":0},{"$f":"Singles!CC41","v":0},{"$f":"Singles!CD41","v":0},null,null,null,null,null,null,null,null,null,null,null,null,null,null,null,null,null,null,null,null,0]
[null,35,{"$f":"Singles!BT235","v":0},{"$f":"Singles!BU235","v":"TBC"},{"$f":"Singles!BV235","v":"TBC"},{"$f":"Singles!BW235","v":"TBC"},{"$f":"Singles!BX235","v":"TBC"},{"$f":"Singles!BY235","v":"TBC"},{"$f":"Singles!BZ235","v":"TBC"},{"$f":"Singles!CA235","v":"TBC"},null,{"$f":"Singles!CB42","v":0},{"$f":"Singles!CC42","v":0},{"$f":"Singles!CD42","v":0},null,null,null,null,null,null,null,null,null,null,null,null,null,null,null,null,null,null,null,null,0]
[null,36,{"$f":"Singles!BT236","v":0},{"$f":"Singles!BU236","v":"TBC"},{"$f":"Singles!BV236","v":"TBC"},{"$f":"Singles!BW236","v":"TBC"},{"$f":"Singles!BX236","v":"TBC"},{"$f":"Singles!BY236","v":"TBC"},{"$f":"Singles!BZ236","v":"TBC"},{"$f":"Singles!CA236","v":"TBC"},null,{"$f":"Singles!CB43","v":0},{"$f":"Singles!CC43","v":0},{"$f":"Singles!CD43","v":0},null,null,null,null,null,null,null,null,null,null,null,null,null,null,null,null,null,null,null,null,0]
[null,37,{"$f":"Singles!BT237","v":0},{"$f":"Singles!BU237","v":"TBC"},{"$f":"Singles!BV237","v":"TBC"},{"$f":"Singles!BW237","v":"TBC"},{"$f":"Singles!BX237","v":"TBC"},{"$f":"Singles!BY237","v":"TBC"},{"$f":"Singles!BZ237","v":"TBC"},{"$f":"Singles!CA237","v":"TBC"},null,{"$f":"Singles!CB44","v":0},{"$f":"Singles!CC44","v":0},{"$f":"Singles!CD44","v":0},null,null,null,null,null,null,null,null,null,null,null,null,null,null,null,null,null,null,null,null,0]
[null,38,{"$f":"Singles!BT238","v":0},{"$f":"Singles!BU238","v":"TBC"},{"$f":"Singles!BV238","v":"TBC"},{"$f":"Singles!BW238","v":"TBC"},{"$f":"Singles!BX238","v":"TBC"},{"$f":"Singles!BY238","v":"TBC"},{"$f":"Singles!BZ238","v":"TBC"},{"$f":"Singles!CA238","v":"TBC"},null,{"$f":"Singles!CB45","v":0},{"$f":"Singles!CC45","v":0},{"$f":"Singles!CD45","v":0},null,null,null,null,null,null,null,null,null,null,null,null,null,null,null,null,null,null,null,null,0]
[null,39,{"$f":"Singles!BT239","v":0},{"$f":"Singles!BU239","v":"TBC"},{"$f":"Singles!BV239","v":"TBC"},{"$f":"Singles!BW239","v":"TBC"},{"$f":"Singles!BX239","v":"TBC"},{"$f":"Singles!BY239","v":"TBC"},{"$f":"Singles!BZ239","v":"TBC"},{"$f":"Singles!CA239","v":"TBC"},null,{"$f":"Singles!CB46","v":0},{"$f":"Singles!CC46","v":0},{"$f":"Singles!CD46","v":0},null,null,null,null,null,null,null,null,null,null,null,null,null,null,null,null,null,null,null,null,0]
[null,40,{"$f":"Singles!BT240","v":0},{"$f":"Singles!BU240","v":"TBC"},{"$f":"Singles!BV240","v":"TBC"},{"$f":"Singles!BW240","v":"TBC"},{"$f":"Singles!BX240","v":"TBC"},{"$f":"Singles!BY240","v":"TBC"},{"$f":"Singles!BZ240","v":"TBC"},{"$f":"Singles!CA240","v":"TBC"},null,{"$f":"Singles!CB47","v":0},{"$f":"Singles!CC47","v":0},{"$f":"Singles!CD47","v":0},null,null,null,null,null,null,null,null,null,null,null,null,null,null,null,null,null,null,null,null,0]
[null,41,{"$f":"Singles!BT241","v":0},{"$f":"Singles!BU241","v":"TBC"},{"$f":"Singles!BV241","v":"TBC"},{"$f":"Singles!BW241","v":"TBC"},{"$f":"Singles!BX241","v":"TBC"},{"$f":"Singles!BY241","v":"TBC"},{"$f":"Singles!BZ241","v":"TBC"},{"$f":"Singles!CA241","v":"TBC"},null,{"$f":"Singles!CB48","v":0},{"$f":"Singles!CC48","v":0},{"$f":"Singles!CD48","v":0},null,null,null,null,null,null,null,null,null,null,null,null,null,null,null,null,null,null,null,null,0]
[null,42,{"$f":"Singles!BT242","v":0},{"$f":"Singles!BU242","v":"TBC"},{"$f":"Singles!BV242","v":"TBC"},{"$f":"Singles!BW242","v":"TBC"},{"$f":"Singles!BX242","v":"TBC"},{"$f":"Singles!BY242","v":"TBC"},{"$f":"Singles!BZ242","v":"TBC"},{"$f":"Singles!CA242","v":"TBC"},null,{"$f":"Singles!CB49","v":0},{"$f":"Singles!CC49","v":0},{"$f":"Singles!CD49","v":0},null,null,null,null,null,null,null,null,null,null,null,null,null,null,null,null,null,null,null,null,0]
[null,43,{"$f":"Singles!BT243","v":0},{"$f":"Singles!BU243","v":"TBC"},{"$f":"Singles!BV243","v":"TBC"},{"$f":"Singles!BW243","v":"TBC"},{"$f":"Singles!BX243","v":"TBC"},{"$f":"Singles!BY243","v":"TBC"},{"$f":"Singles!BZ243","v":"TBC"},{"$f":"Singles!CA243","v":"TBC"},null,{"$f":"Singles!CB50","v":0},{"$f":"Singles!CC50","v":0},{"$f":"Singles!CD50","v":0},null,null,null,null,null,null,null,null,null,null,null,null,null,null,null,null,null,null,null,null,0]
[null,44,{"$f":"Singles!BT244","v":0},{"$f":"Singles!BU244","v":"TBC"},{"$f":"Singles!BV244","v":"TBC"},{"$f":"Singles!BW244","v":"TBC"},{"$f":"Singles!BX244","v":"TBC"},{"$f":"Singles!BY244","v":"TBC"},{"$f":"Singles!BZ244","v":"TBC"},{"$f":"Singles!CA244","v":"TBC"},null,{"$f":"Singles!CB51","v":0},{"$f":"Singles!CC51","v":0},{"$f":"Singles!CD51","v":0},null,null,null,null,null,null,null,null,null,null,null,null,null,null,null,null,null,null,null,null,0]
[null,45,{"$f":"Singles!BT245","v":0},{"$f":"Singles!BU245","v":"TBC"},{"$f":"Singles!BV245","v":"TBC"},{"$f":"Singles!BW245","v":"TBC"},{"$f":"Singles!BX245","v":"TBC"},{"$f":"Singles!BY245","v":"TBC"},{"$f":"Singles!BZ245","v":"TBC"},{"$f":"Singles!CA245","v":"TBC"},null,{"$f":"Singles!CB52","v":0},{"$f":"Singles!CC52","v":0},{"$f":"Singles!CD52","v":0},null,null,null,null,null,null,null,null,null,null,null,null,null,null,null,null,null,null,null,null,0]
[null,46,{"$f":"Singles!BT246","v":0},{"$f":"Singles!BU246","v":"TBC"},{"$f":"Singles!BV246","v":"TBC"},{"$f":"Singles!BW246","v":"TBC"},{"$f":"Singles!BX246","v":"TBC"},{"$f":"Singles!BY246","v":"TBC"},{"$f":"Singles!BZ246","v":"TBC"},{"$f":"Singles!CA246","v":"TBC"},null,{"$f":"Singles!CB53","v":0},{"$f":"Singles!CC53","v":0},{"$f":"Singles!CD53","v":0},null,null,null,null,null,null,null,null,null,null,null,null,null,null,null,null,null,null,null,null,0]
[null,47,{"$f":"Singles!BT247","v":0},{"$f":"Singles!BU247","v":"TBC"},{"$f":"Singles!BV247","v":"TBC"},{"$f":"Singles!BW247","v":"TBC"},{"$f":"Singles!BX247","v":"TBC"},{"$f":"Singles!BY247","v":"TBC"},{"$f":"Singles!BZ247","v":"TBC"},{"$f":"Singles!CA247","v":"TBC"},null,{"$f":"Singles!CB54","v":0},{"$f":"Singles!CC54","v":0},{"$f":"Singles!CD54","v":0},null,null,null,null,null,null,null,null,null,null,null,null,null,null,null,null,null,null,null,null,0]
[null,48,{"$f":"Singles!BT248","v":0},{"$f":"Singles!BU248","v":"TBC"},{"$f":"Singles!BV248","v":"TBC"},{"$f":"Singles!BW248","v":"TBC"},{"$f":"Singles!BX248","v":"TBC"},{"$f":"Singles!BY248","v":"TBC"},{"$f":"Singles!BZ248","v":"TBC"},{"$f":"Singles!CA248","v":"TBC"},null,{"$f":"Singles!CB55","v":0},{"$f":"Singles!CC55","v":0},{"$f":"Singles!CD55","v":0},null,null,null,null,null,null,null,null,null,null,null,null,null,null,null,null,null,null,null,null,0]
[null,49,{"$f":"Singles!BT249","v":0},{"$f":"Singles!BU249","v":"TBC"},{"$f":"Singles!BV249","v":"TBC"},{"$f":"Singles!BW249","v":"TBC"},{"$f":"Singles!BX249","v":"TBC"},{"$f":"Singles!BY249","v":"TBC"},{"$f":"Singles!BZ249","v":"TBC"},{"$f":"Singles!CA249","v":"TBC"},null,{"$f":"Singles!CB56","v":0},{"$f":"Singles!CC56","v":0},{"$f":"Singles!CD56","v":0},null,null,null,null,null,null,null,null,null,null,null,null,null,null,null,null,null,null,null,null,0]
[null,50,{"$f":"Singles!BT250","v":0},{"$f":"Singles!BU250","v":"TBC"},{"$f":"Singles!BV250","v":"TBC"},{"$f":"Singles!BW250","v":"TBC"},{"$f":"Singles!BX250","v":"TBC"},{"$f":"Singles!BY250","v":"TBC"},{"$f":"Singles!BZ250","v":"TBC"},{"$f":"Singles!CA250","v":"TBC"},null,{"$f":"Singles!CB57","v":0},{"$f":"Singles!CC57","v":0},{"$f":"Singles!CD57","v":0},null,null,null,null,null,null,null,null,null,null,null,null,null,null,null,null,null,null,null,null,0]
[null,51,{"$f":"Singles!BT251","v":0},{"$f":"Singles!BU251","v":"TBC"},{"$f":"Singles!BV251","v":"TBC"},{"$f":"Singles!BW251","v":"TBC"},{"$f":"Singles!BX251","v":"TBC"},{"$f":"Singles!BY251","v":"TBC"},{"$f":"Singles!BZ251","v":"TBC"},{"$f":"Singles!CA251","v":"TBC"},null,{"$f":"Singles!CB58","v":0},{"$f":"Singles!CC58","v":0},{"$f":"Singles!CD58","v":0},null,null,null,null,null,null,null,null,null,null,null,null,null,null,null,null,null,null,null,null,0]
[null,52,{"$f":"Singles!BT252","v":0},{"$f":"Singles!BU252","v":"TBC"},{"$f":"Singles!BV252","v":"TBC"},{"$f":"Singles!BW252","v":"TBC"},{"$f":"Singles!BX252","v":"TBC"},{"$f":"Singles!BY252","v":"TBC"},{"$f":"Singles!BZ252","v":"TBC"},{"$f":"Singles!CA252","v":"TBC"},null,{"$f":"Singles!CB59","v":0},{"$f":"Singles!CC59","v":0},{"$f":"Singles!CD59","v":0},null,null,null,null,null,null,null,null,null,null,null,null,null,null,null,null,null,null,null,null,0]
[null,53,{"$f":"Singles!BT253","v":0},{"$f":"Singles!BU253","v":"TBC"},{"$f":"Singles!BV253","v":"TBC"},{"$f":"Singles!BW253","v":"TBC"},{"$f":"Singles!BX253","v":"TBC"},{"$f":"Singles!BY253","v":"TBC"},{"$f":"Singles!BZ253","v":"TBC"},{"$f":"Singles!CA253","v":"TBC"},null,{"$f":"Singles!CB60","v":0},{"$f":"Singles!CC60","v":0},{"$f":"Singles!CD60","v":0},null,null,null,null,null,null,null,null,null,null,null,null,null,null,null,null,null,null,null,null,0]
[null,54,{"$f":"Singles!BT254","v":0},{"$f":"Singles!BU254","v":"TBC"},{"$f":"Singles!BV254","v":"TBC"},{"$f":"Singles!BW254","v":"TBC"},{"$f":"Singles!BX254","v":"TBC"},{"$f":"Singles!BY254","v":"TBC"},{"$f":"Singles!BZ254","v":"TBC"},{"$f":"Singles!CA254","v":"TBC"},null,{"$f":"Singles!CB61","v":0},{"$f":"Singles!CC61","v":0},{"$f":"Singles!CD61","v":0},null,null,null,null,null,null,null,null,null,null,null,null,null,null,null,null,null,null,null,null,0]
[null,55,{"$f":"Singles!BT255","v":0},{"$f":"Singles!BU255","v":"TBC"},{"$f":"Singles!BV255","v":"TBC"},{"$f":"Singles!BW255","v":"TBC"},{"$f":"Singles!BX255","v":"TBC"},{"$f":"Singles!BY255","v":"TBC"},{"$f":"Singles!BZ255","v":"TBC"},{"$f":"Singles!CA255","v":"TBC"},null,{"$f":"Singles!CB62","v":0},{"$f":"Singles!CC62","v":0},{"$f":"Singles!CD62","v":0},null,null,null,null,null,null,null,null,null,null,null,null,null,null,null,null,null,null,null,null,0]
[null,56,{"$f":"Singles!BT256","v":0},{"$f":"Singles!BU256","v":"TBC"},{"$f":"Singles!BV256","v":"TBC"},{"$f":"Singles!BW256","v":"TBC"},{"$f":"Singles!BX256","v":"TBC"},{"$f":"Singles!BY256","v":"TBC"},{"$f":"Singles!BZ256","v":"TBC"},{"$f":"Singles!CA256","v":"TBC"},null,{"$f":"Singles!CB63","v":0},{"$f":"Singles!CC63","v":0},{"$f":"Singles!CD63","v":0},null,null,null,null,null,null,null,null,null,null,null,null,null,null,null,null,null,null,null,null,0]
[null,57,{"$f":"Singles!BT257","v":0},{"$f":"Singles!BU257","v":"TBC"},{"$f":"Singles!BV257","v":"TBC"},{"$f":"Singles!BW257","v":"TBC"},{"$f":"Singles!BX257","v":"TBC"},{"$f":"Singles!BY257","v":"TBC"},{"$f":"Singles!BZ257","v":"TBC"},{"$f":"Singles!CA257","v":"TBC"},null,{"$f":"Singles!CB64","v":0},{"$f":"Singles!CC64","v":0},{"$f":"Singles!CD64","v":0},null,null,null,null,null,null,null,null,null,null,null,null,null,null,null,null,null,null,null,null,0]
[null,58,{"$f":"Singles!BT258","v":0},{"$f":"Singles!BU258","v":"TBC"},{"$f":"Singles!BV258","v":"TBC"},{"$f":"Singles!BW258","v":"TBC"},{"$f":"Singles!BX258","v":"TBC"},{"$f":"Singles!BY258","v":"TBC"},{"$f":"Singles!BZ258","v":"TBC"},{"$f":"Singles!CA258","v":"TBC"},null,{"$f":"Singles!CB65","v":0},{"$f":"Singles!CC65","v":0},{"$f":"Singles!CD65","v":0},null,null,null,null,null,null,null,null,null,null,null,null,null,null,null,null,null,null,null,null,0]
[null,59,{"$f":"Singles!BT259","v":0},{"$f":"Singles!BU259","v":"TBC"},{"$f":"Singles!BV259","v":"TBC"},{"$f":"Singles!BW259","v":"TBC"},{"$f":"Singles!BX259","v":"TBC"},{"$f":"Singles!BY259","v":"TBC"},{"$f":"Singles!BZ259","v":"TBC"},{"$f":"Singles!CA259","v":"TBC"},null,{"$f":"Singles!CB66","v":0},{"$f":"Singles!CC66","v":0},{"$f":"Singles!CD66","v":0},null,null,null,null,null,null,null,null,null,null,null,null,null,null,null,null,null,null,null,null,0]
[null,60,{"$f":"Singles!BT260","v":0},{"$f":"Singles!BU260","v":"TBC"},{"$f":"Singles!BV260","v":"TBC"},{"$f":"Singles!BW260","v":"TBC"},{"$f":"Singles!BX260","v":"TBC"},{"$f":"Singles!BY260","v":"TBC"},{"$f":"Singles!BZ260","v":"TBC"},{"$f":"Singles!CA260","v":"TBC"},null,{"$f":"Singles!CB67","v":0},{"$f":"Singles!CC67","v":0},{"$f":"Singles!CD67","v":0},null,null,null,null,null,null,null,null,null,null,null,null,null,null,null,null,null,null,null,null,0]
[null,61,{"$f":"Singles!BT261","v":0},{"$f":"Singles!BU261","v":"TBC"},{"$f":"Singles!BV261","v":"TBC"},{"$f":"Singles!BW261","v":"TBC"},{"$f":"Singles!BX261","v":"TBC"},{"$f":"Singles!BY261","v":"TBC"},{"$f":"Singles!BZ261","v":"TBC"},{"$f":"Singles!CA261","v":"TBC"},null,{"$f":"Singles!CB68","v":0},{"$f":"Singles!CC68","v":0},{"$f":"Singles!CD68","v":0},null,null,null,null,null,null,null,null,null,null,null,null,null,null,null,null,null,null,null,null,0]
[null,62,{"$f":"Singles!BT262","v":0},{"$f":"Singles!BU262","v":"TBC"},{"$f":"Singles!BV262","v":"TBC"},{"$f":"Singles!BW262","v":"TBC"},{"$f":"Singles!BX262","v":"TBC"},{"$f":"Singles!BY262","v":"TBC"},{"$f":"Singles!BZ262","v":"TBC"},{"$f":"Singles!CA262","v":"TBC"},null,{"$f":"Singles!CB69","v":0},{"$f":"Singles!CC69","v":0},{"$f":"Singles!CD69","v":0},null,null,null,null,null,null,null,null,null,null,null,null,null,null,null,null,null,null,null,null,0]
[null,63,{"$f":"Singles!BT263","v":0},{"$f":"Singles!BU263","v":"TBC"},{"$f":"Singles!BV263","v":"TBC"},{"$f":"Singles!BW263","v":"TBC"},{"$f":"Singles!BX263","v":"TBC"},{"$f":"Singles!BY263","v":"TBC"},{"$f":"Singles!BZ263","v":"TBC"},{"$f":"Singles!CA263","v":"TBC"},null,{"$f":"Singles!CB70","v":0},{"$f":"Singles!CC70","v":0},{"$f":"Singles!CD70","v":0},null,null,null,null,null,null,null,null,null,null,null,null,null,null,null,null,null,null,null,null,0]
[null,64,{"$f":"Singles!BT264","v":0},{"$f":"Singles!BU264","v":"TBC"},{"$f":"Singles!BV264","v":"TBC"},{"$f":"Singles!BW264","v":"TBC"},{"$f":"Singles!BX264","v":"TBC"},{"$f":"Singles!BY264","v":"TBC"},{"$f":"Singles!BZ264","v":"TBC"},{"$f":"Singles!CA264","v":"TBC"},null,{"$f":"Singles!CB71","v":0},{"$f":"Singles!CC71","v":0},{"$f":"Singles!CD71","v":0},null,null,null,null,null,null,null,null,null,null,null,null,null,null,null,null,null,null,null,null,0]
[null,65,{"$f":"Singles!BT265","v":0},{"$f":"Singles!BU265","v":"TBC"},{"$f":"Singles!BV265","v":"TBC"},{"$f":"Singles!BW265","v":"TBC"},{"$f":"Singles!BX265","v":"TBC"},{"$f":"Singles!BY265","v":"TBC"},{"$f":"Singles!BZ265","v":"TBC"},{"$f":"Singles!CA265","v":"TBC"},null,{"$f":"Singles!CB72","v":0},{"$f":"Singles!CC72","v":0},{"$f":"Singles!CD72","v":0},null,null,null,null,null,null,null,null,null,null,null,null,null,null,null,null,null,null,null,null,0]
[null,66,{"$f":"Singles!BT266","v":0},{"$f":"Singles!BU266","v":"TBC"},{"$f":"Singles!BV266","v":"TBC"},{"$f":"Singles!BW266","v":"TBC"},{"$f":"Singles!BX266","v":"TBC"},{"$f":"Singles!BY266","v":"TBC"},{"$f":"Singles!BZ266","v":"TBC"},{"$f":"Singles!CA266","v":"TBC"},null,{"$f":"Singles!CB73","v":0},{"$f":"Singles!CC73","v":0},{"$f":"Singles!CD73","v":0},null,null,null,null,null,null,null,null,null,null,null,null,null,null,null,null,null,null,null,null,0]
[null,67,{"$f":"Singles!BT267","v":0},{"$f":"Singles!BU267","v":"TBC"},{"$f":"Singles!BV267","v":"TBC"},{"$f":"Singles!BW267","v":"TBC"},{"$f":"Singles!BX267","v":"TBC"},{"$f":"Singles!BY267","v":"TBC"},{"$f":"Singles!BZ267","v":"TBC"},{"$f":"Singles!CA267","v":"TBC"},null,{"$f":"Singles!CB74","v":0},{"$f":"Singles!CC74","v":0},{"$f":"Singles!CD74","v":0},null,null,null,null,null,null,null,null,null,null,null,null,null,null,null,null,null,null,null,null,0]
[null,68,{"$f":"Singles!BT268","v":0},{"$f":"Singles!BU268","v":"TBC"},{"$f":"Singles!BV268","v":"TBC"},{"$f":"Singles!BW268","v":"TBC"},{"$f":"Singles!BX268","v":"TBC"},{"$f":"Singles!BY268","v":"TBC"},{"$f":"Singles!BZ268","v":"TBC"},{"$f":"Singles!CA268","v":"TBC"},null,{"$f":"Singles!CB75","v":0},{"$f":"Singles!CC75","v":0},{"$f":"Singles!CD75","v":0},null,null,null,null,null,null,null,null,null,null,null,null,null,null,null,null,null,null,null,null,0]
[null,69,{"$f":"Singles!BT269","v":0},{"$f":"Singles!BU269","v":"TBC"},{"$f":"Singles!BV269","v":"TBC"},{"$f":"Singles!BW269","v":"TBC"},{"$f":"Singles!BX269","v":"TBC"},{"$f":"Singles!BY269","v":"TBC"},{"$f":"Singles!BZ269","v":"TBC"},{"$f":"Singles!CA269","v":"TBC"},null,{"$f":"Singles!CB76","v":0},{"$f":"Singles!CC76","v":0},{"$f":"Singles!CD76","v":0},null,null,null,null,null,null,null,null,null,null,null,null,null,null,null,null,null,null,null,null,0]
[null,70,{"$f":"Singles!BT270","v":0},{"$f":"Singles!BU270","v":"TBC"},{"$f":"Singles!BV270","v":"TBC"},{"$f":"Singles!BW270","v":"TBC"},{"$f":"Singles!BX270","v":"TBC"},{"$f":"Singles!BY270","v":"TBC"},{"$f":"Singles!BZ270","v":"TBC"},{"$f":"Singles!CA270","v":"TBC"},null,{"$f":"Singles!CB77","v":0},{"$f":"Singles!CC77","v":0},{"$f":"Singles!CD77","v":0},null,null,null,null,null,null,null,null,null,null,null,null,null,null,null,null,null,null,null,null,0]
[null,71,{"$f":"Singles!BT271","v":0},{"$f":"Singles!BU271","v":"TBC"},{"$f":"Singles!BV271","v":"TBC"},{"$f":"Singles!BW271","v":"TBC"},{"$f":"Singles!BX271","v":"TBC"},{"$f":"Singles!BY271","v":"TBC"},{"$f":"Singles!BZ271","v":"TBC"},{"$f":"Singles!CA271","v":"TBC"},null,{"$f":"Singles!CB78","v":0},{"$f":"Singles!CC78","v":0},{"$f":"Singles!CD78","v":0},null,null,null,null,null,null,null,null,null,null,null,null,null,null,null,null,null,null,null,null,0]
[null,72,{"$f":"Singles!BT272","v":0},{"$f":"Singles!BU272","v":"TBC"},{"$f":"Singles!BV272","v":"TBC"},{"$f":"Singles!BW272","v":"TBC"},{"$f":"Singles!BX272","v":"TBC"},{"$f":"Singles!BY272","v":"TBC"},{"$f":"Singles!BZ272","v":"TBC"},{"$f":"Singles!CA272","v":"TBC"},null,{"$f":"Singles!CB79","v":0},{"$f":"Singles!CC79","v":0},{"$f":"Singles!CD79","v":0},null,null,null,null,null,null,null,null,null,null,null,null,null,null,null,null,null,null,null,null,0]
[null,73,{"$f":"Singles!BT273","v":0},{"$f":"Singles!BU273","v":"TBC"},{"$f":"Singles!BV273","v":"TBC"},{"$f":"Singles!BW273","v":"TBC"},{"$f":"Singles!BX273","v":"TBC"},{"$f":"Singles!BY273","v":"TBC"},{"$f":"Singles!BZ273","v":"TBC"},{"$f":"Singles!CA273","v":"TBC"},null,{"$f":"Singles!CB80","v":0},{"$f":"Singles!CC80","v":0},{"$f":"Singles!CD80","v":0},null,null,null,null,null,null,null,null,null,null,null,null,null,null,null,null,null,null,null,null,0]
[null,74,{"$f":"Singles!BT274","v":0},{"$f":"Singles!BU274","v":"TBC"},{"$f":"Singles!BV274","v":"TBC"},{"$f":"Singles!BW274","v":"TBC"},{"$f":"Singles!BX274","v":"TBC"},{"$f":"Singles!BY274","v":"TBC"},{"$f":"Singles!BZ274","v":"TBC"},{"$f":"Singles!CA274","v":"TBC"},null,{"$f":"Singles!CB81","v":0},{"$f":"Singles!CC81","v":0},{"$f":"Singles!CD81","v":0},null,null,null,null,null,null,null,null,null,null,null,null,null,null,null,null,null,null,null,null,0]
[null,75,{"$f":"Singles!BT275","v":0},{"$f":"Singles!BU275","v":"TBC"},{"$f":"Singles!BV275","v":"TBC"},{"$f":"Singles!BW275","v":"TBC"},{"$f":"Singles!BX275","v":"TBC"},{"$f":"Singles!BY275","v":"TBC"},{"$f":"Singles!BZ275","v":"TBC"},{"$f":"Singles!CA275","v":"TBC"},null,{"$f":"Singles!CB82","v":0},{"$f":"Singles!CC82","v":0},{"$f":"Singles!CD82","v":0},null,null,null,null,null,null,null,null,null,null,null,null,null,null,null,null,null,null,null,null,0]
[{"$f":"$D$7","v":"BCFE"}]

{"sheet":"BBM","index":8,"n_rows":82,"n_cols":48,"rows_kept":82,"cut":false,"hidden":true,"merged":[[0,0,0,14],[4,1,4,9],[4,11,4,13],[1,14,80,14],[81,0,81,14],[1,0,80,0],[1,4,1,9],[1,11,1,13],[1,1,3,3],[2,11,3,11],[2,12,3,12],[2,13,3,13],[1,10,80,10]]}
[{"$f":"$D$7","v":0}]
[0,"Male Beginner Barebow",null,null,"Host Club",null,null,null,null,null,{"$f":"$D$7","v":0},"Scores",null,null,0]
[null,null,null,null,{"$f":"Entries!K6","v":"DCU IV"},{"$f":"Entries!K7","v":"UCD/ITC IV"},{"$f":"Entries!K8","v":"DkIT IV"},null,{"$f":"Entries!K9","v":"NUIM/GMIT IV"},{"$f":"Entries!K10","v":"NUIG IV"},null,"Total","Lowest","League"]
[]
[null,0,null,null,null,null,null,null,null,null,null,0]
[null,null,"Name","College",{"$f":"Entries!K6","v":"DCU IV"},{"$f":"Entries!K7","v":"UCD/ITC IV"},{"$f":"Entries!K8","v":"DkIT IV"},null,{"$f":"Entries!K9","v":"NUIM/GMIT IV"},{"$f":"Entries!K10","v":"NUIG IV"},null,"Total","Lowest","League total"]
[null,1,{"$f":"Singles!B301","v":0},{"$f":"Singles!C301","v":0},{"$f":"Singles!D301","v":0},{"$f":"Singles!E301","v":"TBC"},{"$f":"Singles!F301","v":"TBC"},{"$f":"Singles!G301","v":"TBC"},{"$f":"Singles!H301","v":"TBC"},{"$f":"Singles!I301","v":"TBC"},null,{"$f":"Singles!J301","v":0},{"$f":"Singles!K301","v":0},{"$f":"Singles!L301","v":0},null,null,null,null,null,null,null,null,null,null,null,null,null,null,null,null,null,null,null,null,{"$f":"C7","v":0}]
[null,2,{"$f":"Singles!B303","v":0},{"$f":"Singles!C303","v":"TBC"},{"$f":"Singles!D303","v":"TBC"},{"$f":"Singles!E303","v":"TBC"},{"$f":"Singles!F303","v":"TBC"},{"$f":"Singles!G303","v":"TBC"},{"$f":"Singles!H303","v":"TBC"},{"$f":"Singles!I303","v":"TBC"},null,{"$f":"Singles!J303","v":0},{"$f":"Singles!K303","v":0},{"$f":"Singles!L303","v":0},null,null,null,null,null,null,null,null,null,null,null,null,null,null,null,null,null,null,null,null,0,null,null,null,null,null,null,null,null,null,null,null,"DCU CONDITIONAL FORMATTING FORMULA >","OR($AH7=Tables!$B$556,$AH7=Tables!$B$557,$AH7=Tables!$B$558,$AH7=Tables!$B$559,$AH7=Tables!$B$560,$AH7=Tables!$B$561,$AH7=Tables!$B$562,$AH7=Tables!$B$563,$AH7=Tables!$B$564,$AH7=Tables!$B$565,$AH7=Tables!$B$566,$AH7=Tables!$B$567,$AH7=Tables!$B$568,$AH7=Tables!$B$569,$AH7=Tables!$B$570,$AH7=Tables!$B$571,$AH7=Tables!$B$572,$AH7=Tables!$B$573,$AH7=Tables!$B$574,$AH7=Tables!$B$576,$AH7=Tables!$B$577)"]
[null,3,{"$f":"Singles!B302","v":0},{"$f":"Singles!C302","v":"TBC"},{"$f":"Singles!D302","v":"TBC"},{"$f":"Singles!E302","v":"TBC"},{"$f":"Singles!F302","v":"TBC"},{"$f":"Singles!G302","v":"TBC"},{"$f":"Singles!H302","v":"TBC"},{"$f":"Singles!I302","v":"TBC"},null,{"$f":"Singles!J302","v":0},{"$f":"Singles!K302","v":0},{"$f":"Singles!L302","v":0},null,null,null,null,null,null,null,null,null,null,null,null,null,null,null,null,null,null,null,null,0,null,null,null,null,null,null,null,null,null,null,null,"DIT CONDITIONAL FORMATTING FORMULA >","OR($AH7=Tables!$B$581,$AH7=Tables!$B$582,$AH7=Tables!$B$583,$AH7=Tables!$B$584,$AH7=Tables!$B$585,$AH7=Tables!$B$586,$AH7=Tables!$B$587,$AH7=Tables!$B$588,$AH7=Tables!$B$589,$AH7=Tables!$B$590,$AH7=Tables!$B$591,$AH7=Tables!$B$592,$AH7=Tables!$B$593,$AH7=Tables!$B$594,$AH7=Tables!$B$595,$AH7=Tables!$B$596,$AH7=Tables!$B$597,$AH7=Tables!$B$598,$AH7=Tables!$B$599,$AH7=Tables!$B$600,$AH7=Tables!$B$601)"]
[null,4,{"$f":"Singles!B304","v":0},{"$f":"Singles!C304","v":"TBC"},{"$f":"Singles!D304","v":"TBC"},{"$f":"Singles!E304","v":"TBC"},{"$f":"Singles!F304","v":"TBC"},{"$f":"Singles!G304","v":"TBC"},{"$f":"Singles!H304","v":"TBC"},{"$f":"Singles!I304","v":"TBC"},null,{"$f":"Singles!J304","v":0},{"$f":"Singles!K304","v":0},{"$f":"Singles!L304","v":0},null,null,null,null,null,null,null,null,null,null,null,null,null,null,null,null,null,null,null,null,0,null,null,null,null,null,null,null,null,null,null,null,"DKIT CONDITIONAL FORMATTING FORMULA >","OR($AH7=Tables!$B$606,$AH7=Tables!$B$607,$AH7=Tables!$B$608,$AH7=Tables!$B$609,$AH7=Tables!$B$610,$AH7=Tables!$B$611,$AH7=Tables!$B$612,$AH7=Tables!$B$613,$AH7=Tables!$B$614,$AH7=Tables!$B$615,$AH7=Tables!$B$616,$AH7=Tables!$B$617,$AH7=Tables!$B$618,$AH7=Tables!$B$619,$AH7=Tables!$B$620,$AH7=Tables!$B$621,$AH7=Tables!$B$622,$AH7=Tables!$B$623,$AH7=Tables!$B$624,$AH7=Tables!$B$625,$AH7=Tables!$B$626)"]
[null,5,{"$f":"Singles!B305","v":0},{"$f":"Singles!C305","v":"TBC"},{"$f":"Singles!D305","v":"TBC"},{"$f":"Singles!E305","v":"TBC"},{"$f":"Singles!F305","v":"TBC"},{"$f":"Singles!G305","v":"TBC"},{"$f":"Singles!H305","v":"TBC"},{"$f":"Singles!I305","v":"TBC"},null,{"$f":"Singles!J305","v":0},{"$f":"Singles!K305","v":0},{"$f":"Singles!L305","v":0},null,null,null,null,null,null,null,null,null,null,null,null,null,null,null,null,null,null,null,null,0,null,null,null,null,null,null,null,null,null,null,null,"DUAC CONDITIONAL FORMATTING FORMULA >","OR($AH7=Tables!$B$631,$AH7=Tables!$B$632,$AH7=Tables!$B$633,$AH7=Tables!$B$634,$AH7=Tables!$B$635,$AH7=Tables!$B$636,$AH7=Tables!$B$637,$AH7=Tables!$B$638,$AH7=Tables!$B$639,$AH7=Tables!$B$640,$AH7=Tables!$B$641,$AH7=Tables!$B$642,$AH7=Tables!$B$643,$AH7=Tables!$B$644,$AH7=Tables!$B$645,$AH7=Tables!$B$646,$AH7=Tables!$B$647,$AH7=Tables!$B$648,$AH7=Tables!$B$649,$AH7=Tables!$B$650,$AH7=Tables!$B$651)"]
[null,6,{"$f":"Singles!B306","v":0},{"$f":"Singles!C306","v":"TBC"},{"$f":"Singles!D306","v":"TBC"},{"$f":"Singles!E306","v":"TBC"},{"$f":"Singles!F306","v":"TBC"},{"$f":"Singles!G306","v":"TBC"},{"$f":"Singles!H306","v":"TBC"},{"$f":"Singles!I306","v":"TBC"},null,{"$f":"Singles!J306","v":0},{"$f":"Singles!K306","v":0},{"$f":"Singles!L306","v":0},null,null,null,null,null,null,null,null,null,null,null,null,null,null,null,null,null,null,null,null,0,null,null,null,null,null,null,null,null,null,null,null,"GMIT CONDITIONAL FORMATTING FORMULA >","OR($AH7=Tables!$B$656,$AH7=Tables!$B$657,$AH7=Tables!$B$658,$AH7=Tables!$B$659,$AH7=Tables!$B$660,$AH7=Tables!$B$661,$AH7=Tables!$B$662,$AH7=Tables!$B$663,$AH7=Tables!$B$664,$AH7=Tables!$B$665,$AH7=Tables!$B$666,$AH7=Tables!$B$667,$AH7=Tables!$B$668,$AH7=Tables!$B$669,$AH7=Tables!$B$670,$AH7=Tables!$B$671,$AH7=Tables!$B$672,$AH7=Tables!$B$673,$AH7=Tables!$B$674,$AH7=Tables!$B$675,$AH7=Tables!$B$676)"]
[null,7,{"$f":"Singles!B308","v":0},{"$f":"Singles!C308","v":"TBC"},{"$f":"Singles!D308","v":"TBC"},{"$f":"Singles!E308","v":"TBC"},{"$f":"Singles!F308","v":"TBC"},{"$f":"Singles!G308","v":"TBC"},{"$f":"Singles!H308","v":"TBC"},{"$f":"Singles!I308","v":"TBC"},null,{"$f":"Singles!J308","v":0},{"$f":"Singles!K308","v":0},{"$f":"Singles!L308","v":0},null,null,null,null,null,null,null,null,null,null,null,null,null,null,null,null,null,null,null,null,0,null,null,null,null,null,null,null,null,null,null,null,"GMITC CONDITIONAL FORMATTING FORMULA >","OR($AH7=Tables!$B$681,$AH7=Tables!$B$682,$AH7=Tables!$B$683,$AH7=Tables!$B$684,$AH7=Tables!$B$685,$AH7=Tables!$B$686,$AH7=Tables!$B$687,$AH7=Tables!$B$688,$AH7=Tables!$B$689,$AH7=Tables!$B$690,$AH7=Tables!$B$691,$AH7=Tables!$B$692,$AH7=Tables!$B$693,$AH7=Tables!$B$694,$AH7=Tables!$B$695,$AH7=Tables!$B$696,$AH7=Tables!$B$697,$AH7=Tables!$B$698,$AH7=Tables!$B$699,$AH7=Tables!$B$700,$AH7=Tables!$B$701)"]
[null,8,{"$f":"Singles!B307","v":0},{"$f":"Singles!C307","v":"TBC"},{"$f":"Singles!D307","v":"TBC"},{"$f":"Singles!E307","v":"TBC"},{"$f":"Singles!F307","v":"TBC"},{"$f":"Singles!G307","v":"TBC"},{"$f":"Singles!H307","v":"TBC"},{"$f":"Singles!I307","v":"TBC"},null,{"$f":"Singles!J307","v":0},{"$f":"Singles!K307","v":0},{"$f":"Singles!L307","v":0},null,null,null,null,null,null,null,null,null,null,null,null,null,null,null,null,null,null,null,null,0,null,null,null,null,null,null,null,null,null,null,null,"ITC CONDITIONAL FORMATTING FORMULA >","OR($AH7=Tables!$B$706,$AH7=Tables!$B$707,$AH7=Tables!$B$708,$AH7=Tables!$B$709,$AH7=Tables!$B$710,$AH7=Tables!$B$711,$AH7=Tables!$B$712,$AH7=Tables!$B$713,$AH7=Tables!$B$714,$AH7=Tables!$B$715,$AH7=Tables!$B$716,$AH7=Tables!$B$717,$AH7=Tables!$B$718,$AH7=Tables!$B$719,$AH7=Tables!$B$720,$AH7=Tables!$B$721,$AH7=Tables!$B$722,$AH7=Tables!$B$723,$AH7=Tables!$B$724,$AH7=Tables!$B$725,$AH7=Tables!$B$726)"]
[null,9,{"$f":"Singles!B310","v":0},{"$f":"Singles!C310","v":"TBC"},{"$f":"Singles!D310","v":"TBC"},{"$f":"Singles!E310","v":"TBC"},{"$f":"Singles!F310","v":"TBC"},{"$f":"Singles!G310","v":"TBC"},{"$f":"Singles!H310","v":"TBC"},{"$f":"Singles!I310","v":"TBC"},null,{"$f":"Singles!J310","v":0},{"$f":"Singles!K310","v":0},{"$f":"Singles!L310","v":0},null,null,null,null,null,null,null,null,null,null,null,null,null,null,null,null,null,null,null,null,0,null,null,null,null,null,null,null,null,null,null,null,"ITT CONDITIONAL FORMATTING FORMULA >","OR($AH7=Tables!$B$731,$AH7=Tables!$B$732,$AH7=Tables!$B$733,$AH7=Tables!$B$734,$AH7=Tables!$B$735,$AH7=Tables!$B$736,$AH7=Tables!$B$737,$AH7=Tables!$B$738,$AH7=Tables!$B$739,$AH7=Tables!$B$740,$AH7=Tables!$B$741,$AH7=Tables!$B$742,$AH7=Tables!$B$743,$AH7=Tables!$B$744,$AH7=Tables!$B$745,$AH7=Tables!$B$746,$AH7=Tables!$B$747,$AH7=Tables!$B$748,$AH7=Tables!$B$749,$AH7=Tables!$B$750,$AH7=Tables!$B$751)"]
[null,10,{"$f":"Singles!B311","v":0},{"$f":"Singles!C311","v":"TBC"},{"$f":"Singles!D311","v":"TBC"},{"$f":"Singles!E311","v":"TBC"},{"$f":"Singles!F311","v":"TBC"},{"$f":"Singles!G311","v":"TBC"},{"$f":"Singles!H311","v":"TBC"},{"$f":"Singles!I311","v":"TBC"},null,{"$f":"Singles!J311","v":0},{"$f":"Singles!K311","v":0},{"$f":"Singles!L311","v":0},null,null,null,null,null,null,null,null,null,null,null,null,null,null,null,null,null,null,null,null,0,null,null,null,null,null,null,null,null,null,null,null,"MU CONDITIONAL FORMATTING FORMULA >","OR($AH7=Tables!$B$756,$AH7=Tables!$B$757,$AH7=Tables!$B$758,$AH7=Tables!$B$759,$AH7=Tables!$B$760,$AH7=Tables!$B$761,$AH7=Tables!$B$762,$AH7=Tables!$B$763,$AH7=Tables!$B$764,$AH7=Tables!$B$765,$AH7=Tables!$B$766,$AH7=Tables!$B$767,$AH7=Tables!$B$768,$AH7=Tables!$B$769,$AH7=Tables!$B$770,$AH7=Tables!$B$771,$AH7=Tables!$B$772,$AH7=Tables!$B$773,$AH7=Tables!$B$774,$AH7=Tables!$B$775,$AH7=Tables!$B$776)"]
[null,11,{"$f":"Singles!B312","v":0},{"$f":"Singles!C312","v":"TBC"},{"$f":"Singles!D312","v":"TBC"},{"$f":"Singles!E312","v":"TBC"},{"$f":"Singles!F312","v":"TBC"},{"$f":"Singles!G312","v":"TBC"},{"$f":"Singles!H312","v":"TBC"},{"$f":"Singles!I312","v":"TBC"},null,{"$f":"Singles!J312","v":0},{"$f":"Singles!K312","v":0},{"$f":"Singles!L312","v":0},null,null,null,null,null,null,null,null,null,null,null,null,null,null,null,null,null,null,null,null,0,null,null,null,null,null,null,null,null,null,null,null,"NCAD CONDITIONAL FORMATTING FORMULA >","OR($AH7=Tables!$B$781,$AH7=Tables!$B$782,$AH7=Tables!$B$783,$AH7=Tables!$B$784,$AH7=Tables!$B$785,$AH7=Tables!$B$786,$AH7=Tables!$B$787,$AH7=Tables!$B$788,$AH7=Tables!$B$789,$AH7=Tables!$B$790,$AH7=Tables!$B$791,$AH7=Tables!$B$792,$AH7=Tables!$B$793,$AH7=Tables!$B$794,$AH7=Tables!$B$795,$AH7=Tables!$B$796,$AH7=Tables!$B$797,$AH7=Tables!$B$798,$AH7=Tables!$B$799,$AH7=Tables!$B$800,$AH7=Tables!$B$801)"]
[null,12,{"$f":"Singles!B309","v":0},{"$f":"Singles!C309","v":"TBC"},{"$f":"Singles!D309","v":"TBC"},{"$f":"Singles!E309","v":"TBC"},{"$f":"Singles!F309","v":"TBC"},{"$f":"Singles!G309","v":"TBC"},{"$f":"Singles!H309","v":"TBC"},{"$f":"Singles!I309","v":"TBC"},null,{"$f":"Singles!J309","v":0},{"$f":"Singles!K309","v":0},{"$f":"Singles!L309","v":0},null,null,null,null,null,null,null,null,null,null,null,null,null,null,null,null,null,null,null,null,0,null,null,null,null,null,null,null,null,null,null,null,"NUIG CONDITIONAL FORMATTING FORMULA >","OR($AH7=Tables!$B$806,$AH7=Tables!$B$807,$AH7=Tables!$B$808,$AH7=Tables!$B$809,$AH7=Tables!$B$810,$AH7=Tables!$B$811,$AH7=Tables!$B$812,$AH7=Tables!$B$813,$AH7=Tables!$B$814,$AH7=Tables!$B$815,$AH7=Tables!$B$816,$AH7=Tables!$B$817,$AH7=Tables!$B$818,$AH7=Tables!$B$819,$AH7=Tables!$B$820,$AH7=Tables!$B$821,$AH7=Tables!$B$822,$AH7=Tables!$B$823,$AH7=Tables!$B$824,$AH7=Tables!$B$825,$AH7=Tables!$B$826)"]
[null,13,{"$f":"Singles!B313","v":0},{"$f":"Singles!C313","v":"TBC"},{"$f":"Singles!D313","v":"TBC"},{"$f":"Singles!E313","v":"TBC"},{"$f":"Singles!F313","v":"TBC"},{"$f":"Singles!G313","v":"TBC"},{"$f":"Singles!H313","v":"TBC"},{"$f":"Singles!I313","v":"TBC"},null,{"$f":"Singles!J313","v":0},{"$f":"Singles!K313","v":0},{"$f":"Singles!L313","v":0},null,null,null,null,null,null,null,null,null,null,null,null,null,null,null,null,null,null,null,null,0,null,null,null,null,null,null,null,null,null,null,null,"RCSI CONDITIONAL FORMATTING FORMULA >","OR($AH7=Tables!$B$831,$AH7=Tables!$B$832,$AH7=Tables!$B$833,$AH7=Tables!$B$834,$AH7=Tables!$B$835,$AH7=Tables!$B$836,$AH7=Tables!$B$837,$AH7=Tables!$B$838,$AH7=Tables!$B$839,$AH7=Tables!$B$840,$AH7=Tables!$B$841,$AH7=Tables!$B$842,$AH7=Tables!$B$843,$AH7=Tables!$B$844,$AH7=Tables!$B$845,$AH7=Tables!$B$846,$AH7=Tables!$B$847,$AH7=Tables!$B$848,$AH7=Tables!$B$849,$AH7=Tables!$B$850,$AH7=Tables!$B$851)"]
[null,14,{"$f":"Singles!B314","v":0},{"$f":"Singles!C314","v":"TBC"},{"$f":"Singles!D314","v":"TBC"},{"$f":"Singles!E314","v":"TBC"},{"$f":"Singles!F314","v":"TBC"},{"$f":"Singles!G314","v":"TBC"},{"$f":"Singles!H314","v":"TBC"},{"$f":"Singles!I314","v":"TBC"},null,{"$f":"Singles!J314","v":0},{"$f":"Singles!K314","v":0},{"$f":"Singles!L314","v":0},null,null,null,null,null,null,null,null,null,null,null,null,null,null,null,null,null,null,null,null,0,null,null,null,null,null,null,null,null,null,null,null,"UCC CONDITIONAL FORMATTING FORMULA >","OR($AH7=Tables!$B$856,$AH7=Tables!$B$857,$AH7=Tables!$B$858,$AH7=Tables!$B$859,$AH7=Tables!$B$860,$AH7=Tables!$B$861,$AH7=Tables!$B$862,$AH7=Tables!$B$863,$AH7=Tables!$B$864,$AH7=Tables!$B$865,$AH7=Tables!$B$866,$AH7=Tables!$B$867,$AH7=Tables!$B$868,$AH7=Tables!$B$869,$AH7=Tables!$B$870,$AH7=Tables!$B$871,$AH7=Tables!$B$872,$AH7=Tables!$B$873,$AH7=Tables!$B$874,$AH7=Tables!$B$875,$AH7=Tables!$B$876)"]
[null,15,{"$f":"Singles!B315","v":0},{"$f":"Singles!C315","v":"TBC"},{"$f":"Singles!D315","v":"TBC"},{"$f":"Singles!E315","v":"TBC"},{"$f":"Singles!F315","v":"TBC"},{"$f":"Singles!G315","v":"TBC"},{"$f":"Singles!H315","v":"TBC"},{"$f":"Singles!I315","v":"TBC"},null,{"$f":"Singles!J315","v":0},{"$f":"Singles!K315","v":0},{"$f":"Singles!L315","v":0},null,null,null,null,null,null,null,null,null,null,null,null,null,null,null,null,null,null,null,null,0,null,null,null,null,null,null,null,null,null,null,null,"UCD CONDITIONAL FORMATTING FORMULA >","OR($AH7=Tables!$B$881,$AH7=Tables!$B$882,$AH7=Tables!$B$883,$AH7=Tables!$B$884,$AH7=Tables!$B$885,$AH7=Tables!$B$886,$AH7=Tables!$B$887,$AH7=Tables!$B$888,$AH7=Tables!$B$889,$AH7=Tables!$B$890,$AH7=Tables!$B$891,$AH7=Tables!$B$892,$AH7=Tables!$B$893,$AH7=Tables!$B$894,$AH7=Tables!$B$895,$AH7=Tables!$B$896,$AH7=Tables!$B$897,$AH7=Tables!$B$898,$AH7=Tables!$B$899,$AH7=Tables!$B$900,$AH7=Tables!$B$901)"]
[null,16,{"$f":"Singles!B316","v":0},{"$f":"Singles!C316","v":"TBC"},{"$f":"Singles!D316","v":"TBC"},{"$f":"Singles!E316","v":"TBC"},{"$f":"Singles!F316","v":"TBC"},{"$f":"Singles!G316","v":"TBC"},{"$f":"Singles!H316","v":"TBC"},{"$f":"Singles!I316","v":"TBC"},null,{"$f":"Singles!J316","v":0},{"$f":"Singles!K316","v":0},{"$f":"Singles!L316","v":0},null,null,null,null,null,null,null,null,null,null,null,null,null,null,null,null,null,null,null,null,0,null,null,null,null,null,null,null,null,null,null,null,"UL CONDITIONAL FORMATTING FORMULA >","OR($AH7=Tables!$B$906,$AH7=Tables!$B$907,$AH7=Tables!$B$908,$AH7=Tables!$B$909,$AH7=Tables!$B$910,$AH7=Tables!$B$911,$AH7=Tables!$B$912,$AH7=Tables!$B$913,$AH7=Tables!$B$914,$AH7=Tables!$B$915,$AH7=Tables!$B$916,$AH7=Tables!$B$917,$AH7=Tables!$B$918,$AH7=Tables!$B$919,$AH7=Tables!$B$920,$AH7=Tables!$B$921,$AH7=Tables!$B$922,$AH7=Tables!$B$923,$AH7=Tables!$B$924,$AH7=Tables!$B$925,$AH7=Tables!$B$926)"]
[null,17,{"$f":"Singles!B317","v":0},{"$f":"Singles!C317","v":"TBC"},{"$f":"Singles!D317","v":"TBC"},{"$f":"Singles!E317","v":"TBC"},{"$f":"Singles!F317","v":"TBC"},{"$f":"Singles!G317","v":"TBC"},{"$f":"Singles!H317","v":"TBC"},{"$f":"Singles!I317","v":"TBC"},null,{"$f":"Singles!J317","v":0},{"$f":"Singles!K317","v":0},{"$f":"Singles!L317","v":0},null,null,null,null,null,null,null,null,null,null,null,null,null,null,null,null,null,null,null,null,0,null,null,null,null,null,null,null,null,null,null,null,"UU CONDITIONAL FORMATTING FORMULA >","OR($AH7=Tables!$B$931,$AH7=Tables!$B$932,$AH7=Tables!$B$933,$AH7=Tables!$B$934,$AH7=Tables!$B$935,$AH7=Tables!$B$936,$AH7=Tables!$B$937,$AH7=Tables!$B$938,$AH7=Tables!$B$939,$AH7=Tables!$B$940,$AH7=Tables!$B$941,$AH7=Tables!$B$942,$AH7=Tables!$B$943,$AH7=Tables!$B$944,$AH7=Tables!$B$945,$AH7=Tables!$B$946,$AH7=Tables!$B$947,$AH7=Tables!$B$948,$AH7=Tables!$B$949,$AH7=Tables!$B$950,$AH7=Tables!$B$951)"]
[null,18,{"$f":"Singles!B318","v":0},{"$f":"Singles!C318","v":"TBC"},{"$f":"Singles!D318","v":"TBC"},{"$f":"Singles!E318","v":"TBC"},{"$f":"Singles!F318","v":"TBC"},{"$f":"Singles!G318","v":"TBC"},{"$f":"Singles!H318","v":"TBC"},{"$f":"Singles!I318","v":"TBC"},null,{"$f":"Singles!J318","v":0},{"$f":"Singles!K318","v":0},{"$f":"Singles!L318","v":0},null,null,null,null,null,null,null,null,null,null,null,null,null,null,null,null,null,null,null,null,0,null,null,null,null,null,null,null,null,null,null,null,"WIT CONDITIONAL FORMATTING FORMULA >","OR($AH7=Tables!$B$956,$AH7=Tables!$B$957,$AH7=Tables!$B$958,$AH7=Tables!$B$959,$AH7=Tables!$B$960,$AH7=Tables!$B$961,$AH7=Tables!$B$962,$AH7=Tables!$B$963,$AH7=Tables!$B$964,$AH7=Tables!$B$965,$AH7=Tables!$B$966,$AH7=Tables!$B$967,$AH7=Tables!$B$968,$AH7=Tables!$B$969,$AH7=Tables!$B$970,$AH7=Tables!$B$971,$AH7=Tables!$B$972,$AH7=Tables!$B$973,$AH7=Tables!$B$974,$AH7=Tables!$B$975,$AH7=Tables!$B$976)"]
[null,19,{"$f":"Singles!B319","v":0},{"$f":"Singles!C319","v":"TBC"},{"$f":"Singles!D319","v":"TBC"},{"$f":"Singles!E319","v":"TBC"},{"$f":"Singles!F319","v":"TBC"},{"$f":"Singles!G319","v":"TBC"},{"$f":"Singles!H319","v":"TBC"},{"$f":"Singles!I319","v":"TBC"},null,{"$f":"Singles!J319","v":0},{"$f":"Singles!K319","v":0},{"$f":"Singles!L319","v":0},null,null,null,null,null,null,null,null,null,null,null,null,null,null,null,null,null,null,null,null,0,null,null,null,null,null,null,null,null,null,null,null,"AAA CONDITIONAL FORMATTING FORMULA >","OR($AH7=Tables!$B$1276,$AH7=Tables!$B$1277,$AH7=Tables!$B$1278,$AH7=Tables!$B$1279,$AH7=Tables!$B$1280,$AH7=Tables!$B$1281,$AH7=Tables!$B$1282,$AH7=Tables!$B$1283,$AH7=Tables!$B$1284,$AH7=Tables!$B$1285,$AH7=Tables!$B$1286,$AH7=Tables!$B$1287,$AH7=Tables!$B$1288,$AH7=Tables!$B$1289,$AH7=Tables!$B$1290,$AH7=Tables!$B$1291,$AH7=Tables!$B$1292,$AH7=Tables!$B$1293,$AH7=Tables!$B$1294,$AH7=Tables!$B$1295,$AH7=Tables!$B$1296)"]
[null,20,{"$f":"Singles!B320","v":0},{"$f":"Singles!C320","v":"TBC"},{"$f":"Singles!D320","v":"TBC"},{"$f":"Singles!E320","v":"TBC"},{"$f":"Singles!F320","v":"TBC"},{"$f":"Singles!G320","v":"TBC"},{"$f":"Singles!H320","v":"TBC"},{"$f":"Singles!I320","v":"TBC"},null,{"$f":"Singles!J320","v":0},{"$f":"Singles!K320","v":0},{"$f":"Singles!L320","v":0},null,null,null,null,null,null,null,null,null,null,null,null,null,null,null,null,null,null,null,null,0,null,null,null,null,null,null,null,null,null,null,null,"BBB CONDITIONAL FORMATTING FORMULA >","OR($AH7=Tables!$B$1301,$AH7=Tables!$B$1302,$AH7=Tables!$B$1303,$AH7=Tables!$B$1304,$AH7=Tables!$B$1305,$AH7=Tables!$B$1306,$AH7=Tables!$B$1307,$AH7=Tables!$B$1308,$AH7=Tables!$B$1309,$AH7=Tables!$B$1310,$AH7=Tables!$B$1311,$AH7=Tables!$B$1312,$AH7=Tables!$B$1313,$AH7=Tables!$B$1314,$AH7=Tables!$B$1315,$AH7=Tables!$B$1316,$AH7=Tables!$B$1317,$AH7=Tables!$B$1318,$AH7=Tables!$B$1319,$AH7=Tables!$B$1320,$AH7=Tables!$B$1321)"]
[null,21,{"$f":"Singles!B321","v":0},{"$f":"Singles!C321","v":"TBC"},{"$f":"Singles!D321","v":"TBC"},{"$f":"Singles!E321","v":"TBC"},{"$f":"Singles!F321","v":"TBC"},{"$f":"Singles!G321","v":"TBC"},{"$f":"Singles!H321","v":"TBC"},{"$f":"Singles!I321","v":"TBC"},null,{"$f":"Singles!J321","v":0},{"$f":"Singles!K321","v":0},{"$f":"Singles!L321","v":0},null,null,null,null,null,null,null,null,null,null,null,null,null,null,null,null,null,null,null,null,0,null,null,null,null,null,null,null,null,null,null,null,"CCC CONDITIONAL FORMATTING FORMULA >","OR($AH7=Tables!$B$1326,$AH7=Tables!$B$1327,$AH7=Tables!$B$1328,$AH7=Tables!$B$1329,$AH7=Tables!$B$1330,$AH7=Tables!$B$1331,$AH7=Tables!$B$1332,$AH7=Tables!$B$1333,$AH7=Tables!$B$1334,$AH7=Tables!$B$1335,$AH7=Tables!$B$1336,$AH7=Tables!$B$1337,$AH7=Tables!$B$1338,$AH7=Tables!$B$1339,$AH7=Tables!$B$1340,$AH7=Tables!$B$1341,$AH7=Tables!$B$1342,$AH7=Tables!$B$1343,$AH7=Tables!$B$1344,$AH7=Tables!$B$1345,$AH7=Tables!$B$1346)"]
[null,22,{"$f":"Singles!B322","v":0},{"$f":"Singles!C322","v":"TBC"},{"$f":"Singles!D322","v":"TBC"},{"$f":"Singles!E322","v":"TBC"},{"$f":"Singles!F322","v":"TBC"},{"$f":"Singles!G322","v":"TBC"},{"$f":"Singles!H322","v":"TBC"},{"$f":"Singles!I322","v":"TBC"},null,{"$f":"Singles!J322","v":0},{"$f":"Singles!K322","v":0},{"$f":"Singles!L322","v":0},null,null,null,null,null,null,null,null,null,null,null,null,null,null,null,null,null,null,null,null,0,null,null,null,null,null,null,null,null,null,null,null,"DDD CONDITIONAL FORMATTING FORMULA >","OR($AH7=Tables!$B$1351,$AH7=Tables!$B$1352,$AH7=Tables!$B$1353,$AH7=Tables!$B$1354,$AH7=Tables!$B$1355,$AH7=Tables!$B$1356,$AH7=Tables!$B$1357,$AH7=Tables!$B$1358,$AH7=Tables!$B$1359,$AH7=Tables!$B$1360,$AH7=Tables!$B$1361,$AH7=Tables!$B$1362,$AH7=Tables!$B$1363,$AH7=Tables!$B$1364,$AH7=Tables!$B$1365,$AH7=Tables!$B$1366,$AH7=Tables!$B$1367,$AH7=Tables!$B$1368,$AH7=Tables!$B$1369,$AH7=Tables!$B$1370,$AH7=Tables!$B$1371)"]
[null,"=",{"$f":"Singles!B323","v":0},{"$f":"Singles!C323","v":"TBC"},{"$f":"Singles!D323","v":"TBC"},{"$f":"Singles!E323","v":"TBC"},{"$f":"Singles!F323","v":"TBC"},{"$f":"Singles!G323","v":"TBC"},{"$f":"Singles!H323","v":"TBC"},{"$f":"Singles!I323","v":"TBC"},null,{"$f":"Singles!J323","v":0},{"$f":"Singles!K323","v":0},{"$f":"Singles!L323","v":0},null,null,null,null,null,null,null,null,null,null,null,null,null,null,null,null,null,null,null,null,0,null,null,null,null,null,null,null,null,null,null,null,"EEE CONDITIONAL FORMATTING FORMULA >","OR($AH7=Tables!$B$1376,$AH7=Tables!$B$1377,$AH7=Tables!$B$1378,$AH7=Tables!$B$1379,$AH7=Tables!$B$1380,$AH7=Tables!$B$1381,$AH7=Tables!$B$1382,$AH7=Tables!$B$1383,$AH7=Tables!$B$1384,$AH7=Tables!$B$1385,$AH7=Tables!$B$1386,$AH7=Tables!$B$1387,$AH7=Tables!$B$1388,$AH7=Tables!$B$1389,$AH7=Tables!$B$1390,$AH7=Tables!$B$1391,$AH7=Tables!$B$1392,$AH7=Tables!$B$1393,$AH7=Tables!$B$1394,$AH7=Tables!$B$1395,$AH7=Tables!$B$1396)"]
[null,24,{"$f":"Singles!B324","v":0},{"$f":"Singles!C324","v":"TBC"},{"$f":"Singles!D324","v":"TBC"},{"$f":"Singles!E324","v":"TBC"},{"$f":"Singles!F324","v":"TBC"},{"$f":"Singles!G324","v":"TBC"},{"$f":"Singles!H324","v":"TBC"},{"$f":"Singles!I324","v":"TBC"},null,{"$f":"Singles!J324","v":0},{"$f":"Singles!K324","v":0},{"$f":"Singles!L324","v":0},null,null,null,null,null,null,null,null,null,null,null,null,null,null,null,null,null,null,null,null,0]
[null,25,{"$f":"Singles!B325","v":0},{"$f":"Singles!C325","v":"TBC"},{"$f":"Singles!D325","v":"TBC"},{"$f":"Singles!E325","v":"TBC"},{"$f":"Singles!F325","v":"TBC"},{"$f":"Singles!G325","v":"TBC"},{"$f":"Singles!H325","v":"TBC"},{"$f":"Singles!I325","v":"TBC"},null,{"$f":"Singles!J325","v":0},{"$f":"Singles!K325","v":0},{"$f":"Singles!L325","v":0},null,null,null,null,null,null,null,null,null,null,null,null,null,null,null,null,null,null,null,null,0]
[null,26,{"$f":"Singles!B326","v":0},{"$f":"Singles!C326","v":"TBC"},{"$f":"Singles!D326","v":"TBC"},{"$f":"Singles!E326","v":"TBC"},{"$f":"Singles!F326","v":"TBC"},{"$f":"Singles!G326","v":"TBC"},{"$f":"Singles!H326","v":"TBC"},{"$f":"Singles!I326","v":"TBC"},null,{"$f":"Singles!J326","v":0},{"$f":"Singles!K326","v":0},{"$f":"Singles!L326","v":0},null,null,null,null,null,null,null,null,null,null,null,null,null,null,null,null,null,null,null,null,0]
[null,27,{"$f":"Singles!B327","v":0},{"$f":"Singles!C327","v":"TBC"},{"$f":"Singles!D327","v":"TBC"},{"$f":"Singles!E327","v":"TBC"},{"$f":"Singles!F327","v":"TBC"},{"$f":"Singles!G327","v":"TBC"},{"$f":"Singles!H327","v":"TBC"},{"$f":"Singles!I327","v":"TBC"},null,{"$f":"Singles!J327","v":0},{"$f":"Singles!K327","v":0},{"$f":"Singles!L327","v":0},null,null,null,null,null,null,null,null,null,null,null,null,null,null,null,null,null,null,null,null,0]
[null,28,{"$f":"Singles!B328","v":0},{"$f":"Singles!C328","v":"TBC"},{"$f":"Singles!D328","v":"TBC"},{"$f":"Singles!E328","v":"TBC"},{"$f":"Singles!F328","v":"TBC"},{"$f":"Singles!G328","v":"TBC"},{"$f":"Singles!H328","v":"TBC"},{"$f":"Singles!I328","v":"TBC"},null,{"$f":"Singles!J328","v":0},{"$f":"Singles!K328","v":0},{"$f":"Singles!L328","v":0},null,null,null,null,null,null,null,null,null,null,null,null,null,null,null,null,null,null,null,null,0]
[null,29,{"$f":"Singles!B329","v":0},{"$f":"Singles!C329","v":"TBC"},{"$f":"Singles!D329","v":"TBC"},{"$f":"Singles!E329","v":"TBC"},{"$f":"Singles!F329","v":"TBC"},{"$f":"Singles!G329","v":"TBC"},{"$f":"Singles!H329","v":"TBC"},{"$f":"Singles!I329","v":"TBC"},null,{"$f":"Singles!J329","v":0},{"$f":"Singles!K329","v":0},{"$f":"Singles!L329","v":0},null,null,null,null,null,null,null,null,null,null,null,null,null,null,null,null,null,null,null,null,0]
[null,30,{"$f":"Singles!B330","v":0},{"$f":"Singles!C330","v":"TBC"},{"$f":"Singles!D330","v":"TBC"},{"$f":"Singles!E330","v":"TBC"},{"$f":"Singles!F330","v":"TBC"},{"$f":"Singles!G330","v":"TBC"},{"$f":"Singles!H330","v":"TBC"},{"$f":"Singles!I330","v":"TBC"},null,{"$f":"Singles!J330","v":0},{"$f":"Singles!K330","v":0},{"$f":"Singles!L330","v":0},null,null,null,null,null,null,null,null,null,null,null,null,null,null,null,null,null,null,null,null,0]
[null,31,{"$f":"Singles!B331","v":0},{"$f":"Singles!C331","v":"TBC"},{"$f":"Singles!D331","v":"TBC"},{"$f":"Singles!E331","v":"TBC"},{"$f":"Singles!F331","v":"TBC"},{"$f":"Singles!G331","v":"TBC"},{"$f":"Singles!H331","v":"TBC"},{"$f":"Singles!I331","v":"TBC"},null,{"$f":"Singles!J331","v":0},{"$f":"Singles!K331","v":0},{"$f":"Singles!L331","v":0},null,null,null,null,null,null,null,null,null,null,null,null,null,null,null,null,null,null,null,null,0]
[null,32,{"$f":"Singles!B332","v":0},{"$f":"Singles!C332","v":"TBC"},{"$f":"Singles!D332","v":"TBC"},{"$f":"Singles!E332","v":"TBC"},{"$f":"Singles!F332","v":"TBC"},{"$f":"Singles!G332","v":"TBC"},{"$f":"Singles!H332","v":"TBC"},{"$f":"Singles!I332","v":"TBC"},null,{"$f":"Singles!J332","v":0},{"$f":"Singles!K332","v":0},{"$f":"Singles!L332","v":0},null,null,null,null,null,null,null,null,null,null,null,null,null,null,null,null,null,null,null,null,0]
[null,33,{"$f":"Singles!B333","v":0},{"$f":"Singles!C333","v":"TBC"},{"$f":"Singles!D333","v":"TBC"},{"$f":"Singles!E333","v":"TBC"},{"$f":"Singles!F333","v":"TBC"},{"$f":"Singles!G333","v":"TBC"},{"$f":"Singles!H333","v":"TBC"},{"$f":"Singles!I333","v":"TBC"},null,{"$f":"Singles!J333","v":0},{"$f":"Singles!K333","v":0},{"$f":"Singles!L333","v":0},null,null,null,null,null,null,null,null,null,null,null,null,null,null,null,null,null,null,null,null,{"$f":"C39","v":0}]
[null,34,{"$f":"Singles!B334","v":0},{"$f":"Singles!C334","v":"TBC"},{"$f":"Singles!D334","v":"TBC"},{"$f":"Singles!E334","v":"TBC"},{"$f":"Singles!F334","v":"TBC"},{"$f":"Singles!G334","v":"TBC"},{"$f":"Singles!H334","v":"TBC"},{"$f":"Singles!I334","v":"TBC"},null,{"$f":"Singles!J334","v":0},{"$f":"Singles!K334","v":0},{"$f":"Singles!L334","v":0},null,null,null,null,null,null,null,null,null,null,null,null,null,null,null,null,null,null,null,null,0]
[null,35,{"$f":"Singles!B335","v":0},{"$f":"Singles!C335","v":"TBC"},{"$f":"Singles!D335","v":"TBC"},{"$f":"Singles!E335","v":"TBC"},{"$f":"Singles!F335","v":"TBC"},{"$f":"Singles!G335","v":"TBC"},{"$f":"Singles!H335","v":"TBC"},{"$f":"Singles!I335","v":"TBC"},null,{"$f":"Singles!J335","v":0},{"$f":"Singles!K335","v":0},{"$f":"Singles!L335","v":0},null,null,null,null,null,null,null,null,null,null,null,null,null,null,null,null,null,null,null,null,0]
[null,36,{"$f":"Singles!B336","v":0},{"$f":"Singles!C336","v":"TBC"},{"$f":"Singles!D336","v":"TBC"},{"$f":"Singles!E336","v":"TBC"},{"$f":"Singles!F336","v":"TBC"},{"$f":"Singles!G336","v":"TBC"},{"$f":"Singles!H336","v":"TBC"},{"$f":"Singles!I336","v":"TBC"},null,{"$f":"Singles!J336","v":0},{"$f":"Singles!K336","v":0},{"$f":"Singles!L336","v":0},null,null,null,null,null,null,null,null,null,null,null,null,null,null,null,null,null,null,null,null,0]
[null,37,{"$f":"Singles!B337","v":0},{"$f":"Singles!C337","v":"TBC"},{"$f":"Singles!D337","v":"TBC"},{"$f":"Singles!E337","v":"TBC"},{"$f":"Singles!F337","v":"TBC"},{"$f":"Singles!G337","v":"TBC"},{"$f":"Singles!H337","v":"TBC"},{"$f":"Singles!I337","v":"TBC"},null,{"$f":"Singles!J337","v":0},{"$f":"Singles!K337","v":0},{"$f":"Singles!L337","v":0},null,null,null,null,null,null,null,null,null,null,null,null,null,null,null,null,null,null,null,null,0]
[null,38,{"$f":"Singles!B338","v":0},{"$f":"Singles!C338","v":"TBC"},{"$f":"Singles!D338","v":"TBC"},{"$f":"Singles!E338","v":"TBC"},{"$f":"Singles!F338","v":"TBC"},{"$f":"Singles!G338","v":"TBC"},{"$f":"Singles!H338","v":"TBC"},{"$f":"Singles!I338","v":"TBC"},null,{"$f":"Singles!J338","v":0},{"$f":"Singles!K338","v":0},{"$f":"Singles!L338","v":0},null,null,null,null,null,null,null,null,null,null,null,null,null,null,null,null,null,null,null,null,0]
[null,39,{"$f":"Singles!B339","v":0},{"$f":"Singles!C339","v":"TBC"},{"$f":"Singles!D339","v":"TBC"},{"$f":"Singles!E339","v":"TBC"},{"$f":"Singles!F339","v":"TBC"},{"$f":"Singles!G339","v":"TBC"},{"$f":"Singles!H339","v":"TBC"},{"$f":"Singles!I339","v":"TBC"},null,{"$f":"Singles!J339","v":0},{"$f":"Singles!K339","v":0},{"$f":"Singles!L339","v":0},null,null,null,null,null,null,null,null,null,null,null,null,null,null,null,null,null,null,null,null,0]
[null,40,{"$f":"Singles!B340","v":0},{"$f":"Singles!C340","v":"TBC"},{"$f":"Singles!D340","v":"TBC"},{"$f":"Singles!E340","v":"TBC"},{"$f":"Singles!F340","v":"TBC"},{"$f":"Singles!G340","v":"TBC"},{"$f":"Singles!H340","v":"TBC"},{"$f":"Singles!I340","v":"TBC"},null,{"$f":"Singles!J340","v":0},{"$f":"Singles!K340","v":0},{"$f":"Singles!L340","v":0},null,null,null,null,null,null,null,null,null,null,null,null,null,null,null,null,null,null,null,null,0]
[null,41,{"$f":"Singles!B341","v":0},{"$f":"Singles!C341","v":"TBC"},{"$f":"Singles!D341","v":"TBC"},{"$f":"Singles!E341","v":"TBC"},{"$f":"Singles!F341","v":"TBC"},{"$f":"Singles!G341","v":"TBC"},{"$f":"Singles!H341","v":"TBC"},{"$f":"Singles!I341","v":"TBC"},null,{"$f":"Singles!J341","v":0},{"$f":"Singles!K341","v":0},{"$f":"Singles!L341","v":0},null,null,null,null,null,null,null,null,null,null,null,null,null,null,null,null,null,null,null,null,0]
[null,42,{"$f":"Singles!B342","v":0},{"$f":"Singles!C342","v":"TBC"},{"$f":"Singles!D342","v":"TBC"},{"$f":"Singles!E342","v":"TBC"},{"$f":"Singles!F342","v":"TBC"},{"$f":"Singles!G342","v":"TBC"},{"$f":"Singles!H342","v":"TBC"},{"$f":"Singles!I342","v":"TBC"},null,{"$f":"Singles!J342","v":0},{"$f":"Singles!K342","v":0},{"$f":"Singles!L342","v":0},null,null,null,null,null,null,null,null,null,null,null,null,null,null,null,null,null,null,null,null,0]
[null,43,{"$f":"Singles!B343","v":0},{"$f":"Singles!C343","v":"TBC"},{"$f":"Singles!D343","v":"TBC"},{"$f":"Singles!E343","v":"TBC"},{"$f":"Singles!F343","v":"TBC"},{"$f":"Singles!G343","v":"TBC"},{"$f":"Singles!H343","v":"TBC"},{"$f":"Singles!I343","v":"TBC"},null,{"$f":"Singles!J343","v":0},{"$f":"Singles!K343","v":0},{"$f":"Singles!L343","v":0},null,null,null,null,null,null,null,null,null,null,null,null,null,null,null,null,null,null,null,null,0]
[null,44,{"$f":"Singles!B344","v":0},{"$f":"Singles!C344","v":"TBC"},{"$f":"Singles!D344","v":"TBC"},{"$f":"Singles!E344","v":"TBC"},{"$f":"Singles!F344","v":"TBC"},{"$f":"Singles!G344","v":"TBC"},{"$f":"Singles!H344","v":"TBC"},{"$f":"Singles!I344","v":"TBC"},null,{"$f":"Singles!J344","v":0},{"$f":"Singles!K344","v":0},{"$f":"Singles!L344","v":0},null,null,null,null,null,null,null,null,null,null,null,null,null,null,null,null,null,null,null,null,0]
[null,45,{"$f":"Singles!B345","v":0},{"$f":"Singles!C345","v":"TBC"},{"$f":"Singles!D345","v":"TBC"},{"$f":"Singles!E345","v":"TBC"},{"$f":"Singles!F345","v":"TBC"},{"$f":"Singles!G345","v":"TBC"},{"$f":"Singles!H345","v":"TBC"},{"$f":"Singles!I345","v":"TBC"},null,{"$f":"Singles!J345","v":0},{"$f":"Singles!K345","v":0},{"$f":"Singles!L345","v":0},null,null,null,null,null,null,null,null,null,null,null,null,null,null,null,null,null,null,null,null,0]
[null,46,{"$f":"Singles!B346","v":0},{"$f":"Singles!C346","v":"TBC"},{"$f":"Singles!D346","v":"TBC"},{"$f":"Singles!E346","v":"TBC"},{"$f":"Singles!F346","v":"TBC"},{"$f":"Singles!G346","v":"TBC"},{"$f":"Singles!H346","v":"TBC"},{"$f":"Singles!I346","v":"TBC"},null,{"$f":"Singles!J346","v":0},{"$f":"Singles!K346","v":0},{"$f":"Singles!L346","v":0},null,null,null,null,null,null,null,null,null,null,null,null,null,null,null,null,null,null,null,null,0]
[null,47,{"$f":"Singles!B347","v":0},{"$f":"Singles!C347","v":"TBC"},{"$f":"Singles!D347","v":"TBC"},{"$f":"Singles!E347","v":"TBC"},{"$f":"Singles!F347","v":"TBC"},{"$f":"Singles!G347","v":"TBC"},{"$f":"Singles!H347","v":"TBC"},{"$f":"Singles!I347","v":"TBC"},null,{"$f":"Singles!J347","v":0},{"$f":"Singles!K347","v":0},{"$f":"Singles!L347","v":0},null,null,null,null,null,null,null,null,null,null,null,null,null,null,null,null,null,null,null,null,0]
[null,48,{"$f":"Singles!B348","v":0},{"$f":"Singles!C348","v":"TBC"},{"$f":"Singles!D348","v":"TBC"},{"$f":"Singles!E348","v":"TBC"},{"$f":"Singles!F348","v":"TBC"},{"$f":"Singles!G348","v":"TBC"},{"$f":"Singles!H348","v":"TBC"},{"$f":"Singles!I348","v":"TBC"},null,{"$f":"Singles!J348","v":0},{"$f":"Singles!K348","v":0},{"$f":"Singles!L348","v":0},null,null,null,null,null,null,null,null,null,null,null,null,null,null,null,null,null,null,null,null,0]
[null,49,{"$f":"Singles!B349","v":0},{"$f":"Singles!C349","v":"TBC"},{"$f":"Singles!D349","v":"TBC"},{"$f":"Singles!E349","v":"TBC"},{"$f":"Singles!F349","v":"TBC"},{"$f":"Singles!G349","v":"TBC"},{"$f":"Singles!H349","v":"TBC"},{"$f":"Singles!I349","v":"TBC"},null,{"$f":"Singles!J349","v":0},{"$f":"Singles!K349","v":0},{"$f":"Singles!L349","v":0},null,null,null,null,null,null,null,null,null,null,null,null,null,null,null,null,null,null,null,null,0]
[null,50,{"$f":"Singles!B350","v":0},{"$f":"Singles!C350","v":"TBC"},{"$f":"Singles!D350","v":"TBC"},{"$f":"Singles!E350","v":"TBC"},{"$f":"Singles!F350","v":"TBC"},{"$f":"Singles!G350","v":"TBC"},{"$f":"Singles!H350","v":"TBC"},{"$f":"Singles!I350","v":"TBC"},null,{"$f":"Singles!J350","v":0},{"$f":"Singles!K350","v":0},{"$f":"Singles!L350","v":0},null,null,null,null,null,null,null,null,null,null,null,null,null,null,null,null,null,null,null,null,0]
[null,51,{"$f":"Singles!B351","v":0},{"$f":"Singles!C351","v":"TBC"},{"$f":"Singles!D351","v":"TBC"},{"$f":"Singles!E351","v":"TBC"},{"$f":"Singles!F351","v":"TBC"},{"$f":"Singles!G351","v":"TBC"},{"$f":"Singles!H351","v":"TBC"},{"$f":"Singles!I351","v":"TBC"},null,{"$f":"Singles!J351","v":0},{"$f":"Singles!K351","v":0},{"$f":"Singles!L351","v":0},null,null,null,null,null,null,null,null,null,null,null,null,null,null,null,null,null,null,null,null,0]
[null,52,{"$f":"Singles!B352","v":0},{"$f":"Singles!C352","v":"TBC"},{"$f":"Singles!D352","v":"TBC"},{"$f":"Singles!E352","v":"TBC"},{"$f":"Singles!F352","v":"TBC"},{"$f":"Singles!G352","v":"TBC"},{"$f":"Singles!H352","v":"TBC"},{"$f":"Singles!I352","v":"TBC"},null,{"$f":"Singles!J352","v":0},{"$f":"Singles!K352","v":0},{"$f":"Singles!L352","v":0},null,null,null,null,null,null,null,null,null,null,null,null,null,null,null,null,null,null,null,null,0]
[null,53,{"$f":"Singles!B353","v":0},{"$f":"Singles!C353","v":"TBC"},{"$f":"Singles!D353","v":"TBC"},{"$f":"Singles!E353","v":"TBC"},{"$f":"Singles!F353","v":"TBC"},{"$f":"Singles!G353","v":"TBC"},{"$f":"Singles!H353","v":"TBC"},{"$f":"Singles!I353","v":"TBC"},null,{"$f":"Singles!J353","v":0},{"$f":"Singles!K353","v":0},{"$f":"Singles!L353","v":0},null,null,null,null,null,null,null,null,null,null,null,null,null,null,null,null,null,null,null,null,0]
[null,54,{"$f":"Singles!B354","v":0},{"$f":"Singles!C354","v":"TBC"},{"$f":"Singles!D354","v":"TBC"},{"$f":"Singles!E354","v":"TBC"},{"$f":"Singles!F354","v":"TBC"},{"$f":"Singles!G354","v":"TBC"},{"$f":"Singles!H354","v":"TBC"},{"$f":"Singles!I354","v":"TBC"},null,{"$f":"Singles!J354","v":0},{"$f":"Singles!K354","v":0},{"$f":"Singles!L354","v":0},null,null,null,null,null,null,null,null,null,null,null,null,null,null,null,null,null,null,null,null,0]
[null,55,{"$f":"Singles!B355","v":0},{"$f":"Singles!C355","v":"TBC"},{"$f":"Singles!D355","v":"TBC"},{"$f":"Singles!E355","v":"TBC"},{"$f":"Singles!F355","v":"TBC"},{"$f":"Singles!G355","v":"TBC"},{"$f":"Singles!H355","v":"TBC"},{"$f":"Singles!I355","v":"TBC"},null,{"$f":"Singles!J355","v":0},{"$f":"Singles!K355","v":0},{"$f":"Singles!L355","v":0},null,null,null,null,null,null,null,null,null,null,null,null,null,null,null,null,null,null,null,null,0]
[null,56,{"$f":"Singles!B356","v":0},{"$f":"Singles!C356","v":"TBC"},{"$f":"Singles!D356","v":"TBC"},{"$f":"Singles!E356","v":"TBC"},{"$f":"Singles!F356","v":"TBC"},{"$f":"Singles!G356","v":"TBC"},{"$f":"Singles!H356","v":"TBC"},{"$f":"Singles!I356","v":"TBC"},null,{"$f":"Singles!J356","v":0},{"$f":"Singles!K356","v":0},{"$f":"Singles!L356","v":0},null,null,null,null,null,null,null,null,null,null,null,null,null,null,null,null,null,null,null,null,0]
[null,57,{"$f":"Singles!B357","v":0},{"$f":"Singles!C357","v":"TBC"},{"$f":"Singles!D357","v":"TBC"},{"$f":"Singles!E357","v":"TBC"},{"$f":"Singles!F357","v":"TBC"},{"$f":"Singles!G357","v":"TBC"},{"$f":"Singles!H357","v":"TBC"},{"$f":"Singles!I357","v":"TBC"},null,{"$f":"Singles!J357","v":0},{"$f":"Singles!K357","v":0},{"$f":"Singles!L357","v":0},null,null,null,null,null,null,null,null,null,null,null,null,null,null,null,null,null,null,null,null,0]
[null,58,{"$f":"Singles!B358","v":0},{"$f":"Singles!C358","v":"TBC"},{"$f":"Singles!D358","v":"TBC"},{"$f":"Singles!E358","v":"TBC"},{"$f":"Singles!F358","v":"TBC"},{"$f":"Singles!G358","v":"TBC"},{"$f":"Singles!H358","v":"TBC"},{"$f":"Singles!I358","v":"TBC"},null,{"$f":"Singles!J358","v":0},{"$f":"Singles!K358","v":0},{"$f":"Singles!L358","v":0},null,null,null,null,null,null,null,null,null,null,null,null,null,null,null,null,null,null,null,null,0]
[null,59,{"$f":"Singles!B359","v":0},{"$f":"Singles!C359","v":"TBC"},{"$f":"Singles!D359","v":"TBC"},{"$f":"Singles!E359","v":"TBC"},{"$f":"Singles!F359","v":"TBC"},{"$f":"Singles!G359","v":"TBC"},{"$f":"Singles!H359","v":"TBC"},{"$f":"Singles!I359","v":"TBC"},null,{"$f":"Singles!J359","v":0},{"$f":"Singles!K359","v":0},{"$f":"Singles!L359","v":0},null,null,null,null,null,null,null,null,null,null,null,null,null,null,null,null,null,null,null,null,0]
[null,60,{"$f":"Singles!B360","v":0},{"$f":"Singles!C360","v":"TBC"},{"$f":"Singles!D360","v":"TBC"},{"$f":"Singles!E360","v":"TBC"},{"$f":"Singles!F360","v":"TBC"},{"$f":"Singles!G360","v":"TBC"},{"$f":"Singles!H360","v":"TBC"},{"$f":"Singles!I360","v":"TBC"},null,{"$f":"Singles!J360","v":0},{"$f":"Singles!K360","v":0},{"$f":"Singles!L360","v":0},null,null,null,null,null,null,null,null,null,null,null,null,null,null,null,null,null,null,null,null,0]
[null,61,{"$f":"Singles!B361","v":0},{"$f":"Singles!C361","v":"TBC"},{"$f":"Singles!D361","v":"TBC"},{"$f":"Singles!E361","v":"TBC"},{"$f":"Singles!F361","v":"TBC"},{"$f":"Singles!G361","v":"TBC"},{"$f":"Singles!H361","v":"TBC"},{"$f":"Singles!I361","v":"TBC"},null,{"$f":"Singles!J361","v":0},{"$f":"Singles!K361","v":0},{"$f":"Singles!L361","v":0},null,null,null,null,null,null,null,null,null,null,null,null,null,null,null,null,null,null,null,null,0]
[null,62,{"$f":"Singles!B362","v":0},{"$f":"Singles!C362","v":"TBC"},{"$f":"Singles!D362","v":"TBC"},{"$f":"Singles!E362","v":"TBC"},{"$f":"Singles!F362","v":"TBC"},{"$f":"Singles!G362","v":"TBC"},{"$f":"Singles!H362","v":"TBC"},{"$f":"Singles!I362","v":"TBC"},null,{"$f":"Singles!J362","v":0},{"$f":"Singles!K362","v":0},{"$f":"Singles!L362","v":0},null,null,null,null,null,null,null,null,null,null,null,null,null,null,null,null,null,null,null,null,0]
[null,63,{"$f":"Singles!B363","v":0},{"$f":"Singles!C363","v":"TBC"},{"$f":"Singles!D363","v":"TBC"},{"$f":"Singles!E363","v":"TBC"},{"$f":"Singles!F363","v":"TBC"},{"$f":"Singles!G363","v":"TBC"},{"$f":"Singles!H363","v":"TBC"},{"$f":"Singles!I363","v":"TBC"},null,{"$f":"Singles!J363","v":0},{"$f":"Singles!K363","v":0},{"$f":"Singles!L363","v":0},null,null,null,null,null,null,null,null,null,null,null,null,null,null,null,null,null,null,null,null,0]
[null,64,{"$f":"Singles!B364","v":0},{"$f":"Singles!C364","v":"TBC"},{"$f":"Singles!D364","v":"TBC"},{"$f":"Singles!E364","v":"TBC"},{"$f":"Singles!F364","v":"TBC"},{"$f":"Singles!G364","v":"TBC"},{"$f":"Singles!H364","v":"TBC"},{"$f":"Singles!I364","v":"TBC"},null,{"$f":"Singles!J364","v":0},{"$f":"Singles!K364","v":0},{"$f":"Singles!L364","v":0},null,null,null,null,null,null,null,null,null,null,null,null,null,null,null,null,null,null,null,null,0]
[null,65,{"$f":"Singles!B365","v":0},{"$f":"Singles!C365","v":"TBC"},{"$f":"Singles!D365","v":"TBC"},{"$f":"Singles!E365","v":"TBC"},{"$f":"Singles!F365","v":"TBC"},{"$f":"Singles!G365","v":"TBC"},{"$f":"Singles!H365","v":"TBC"},{"$f":"Singles!I365","v":"TBC"},null,{"$f":"Singles!J365","v":0},{"$f":"Singles!K365","v":0},{"$f":"Singles!L365","v":0},null,null,null,null,null,null,null,null,null,null,null,null,null,null,null,null,null,null,null,null,0]
[null,66,{"$f":"Singles!B366","v":0},{"$f":"Singles!C366","v":"TBC"},{"$f":"Singles!D366","v":"TBC"},{"$f":"Singles!E366","v":"TBC"},{"$f":"Singles!F366","v":"TBC"},{"$f":"Singles!G366","v":"TBC"},{"$f":"Singles!H366","v":"TBC"},{"$f":"Singles!I366","v":"TBC"},null,{"$f":"Singles!J366","v":0},{"$f":"Singles!K366","v":0},{"$f":"Singles!L366","v":0},null,null,null,null,null,null,null,null,null,null,null,null,null,null,null,null,null,null,null,null,0]
[null,67,{"$f":"Singles!B367","v":0},{"$f":"Singles!C367","v":"TBC"},{"$f":"Singles!D367","v":"TBC"},{"$f":"Singles!E367","v":"TBC"},{"$f":"Singles!F367","v":"TBC"},{"$f":"Singles!G367","v":"TBC"},{"$f":"Singles!H367","v":"TBC"},{"$f":"Singles!I367","v":"TBC"},null,{"$f":"Singles!J367","v":0},{"$f":"Singles!K367","v":0},{"$f":"Singles!L367","v":0},null,null,null,null,null,null,null,null,null,null,null,null,null,null,null,null,null,null,null,null,0]
[null,68,{"$f":"Singles!B368","v":0},{"$f":"Singles!C368","v":"TBC"},{"$f":"Singles!D368","v":"TBC"},{"$f":"Singles!E368","v":"TBC"},{"$f":"Singles!F368","v":"TBC"},{"$f":"Singles!G368","v":"TBC"},{"$f":"Singles!H368","v":"TBC"},{"$f":"Singles!I368","v":"TBC"},null,{"$f":"Singles!J368","v":0},{"$f":"Singles!K368","v":0},{"$f":"Singles!L368","v":0},null,null,null,null,null,null,null,null,null,null,null,null,null,null,null,null,null,null,null,null,0]
[null,69,{"$f":"Singles!B369","v":0},{"$f":"Singles!C369","v":"TBC"},{"$f":"Singles!D369","v":"TBC"},{"$f":"Singles!E369","v":"TBC"},{"$f":"Singles!F369","v":"TBC"},{"$f":"Singles!G369","v":"TBC"},{"$f":"Singles!H369","v":"TBC"},{"$f":"Singles!I369","v":"TBC"},null,{"$f":"Singles!J369","v":0},{"$f":"Singles!K369","v":0},{"$f":"Singles!L369","v":0},null,null,null,null,null,null,null,null,null,null,null,null,null,null,null,null,null,null,null,null,0]
[null,70,{"$f":"Singles!B370","v":0},{"$f":"Singles!C370","v":"TBC"},{"$f":"Singles!D370","v":"TBC"},{"$f":"Singles!E370","v":"TBC"},{"$f":"Singles!F370","v":"TBC"},{"$f":"Singles!G370","v":"TBC"},{"$f":"Singles!H370","v":"TBC"},{"$f":"Singles!I370","v":"TBC"},null,{"$f":"Singles!J370","v":0},{"$f":"Singles!K370","v":0},{"$f":"Singles!L370","v":0},null,null,null,null,null,null,null,null,null,null,null,null,null,null,null,null,null,null,null,null,0]
[null,71,{"$f":"Singles!B371","v":0},{"$f":"Singles!C371","v":"TBC"},{"$f":"Singles!D371","v":"TBC"},{"$f":"Singles!E371","v":"TBC"},{"$f":"Singles!F371","v":"TBC"},{"$f":"Singles!G371","v":"TBC"},{"$f":"Singles!H371","v":"TBC"},{"$f":"Singles!I371","v":"TBC"},null,{"$f":"Singles!J371","v":0},{"$f":"Singles!K371","v":0},{"$f":"Singles!L371","v":0},null,null,null,null,null,null,null,null,null,null,null,null,null,null,null,null,null,null,null,null,0]
[null,72,{"$f":"Singles!B372","v":0},{"$f":"Singles!C372","v":"TBC"},{"$f":"Singles!D372","v":"TBC"},{"$f":"Singles!E372","v":"TBC"},{"$f":"Singles!F372","v":"TBC"},{"$f":"Singles!G372","v":"TBC"},{"$f":"Singles!H372","v":"TBC"},{"$f":"Singles!I372","v":"TBC"},null,{"$f":"Singles!J372","v":0},{"$f":"Singles!K372","v":0},{"$f":"Singles!L372","v":0},null,null,null,null,null,null,null,null,null,null,null,null,null,null,null,null,null,null,null,null,0]
[null,73,{"$f":"Singles!B373","v":0},{"$f":"Singles!C373","v":"TBC"},{"$f":"Singles!D373","v":"TBC"},{"$f":"Singles!E373","v":"TBC"},{"$f":"Singles!F373","v":"TBC"},{"$f":"Singles!G373","v":"TBC"},{"$f":"Singles!H373","v":"TBC"},{"$f":"Singles!I373","v":"TBC"},null,{"$f":"Singles!J373","v":0},{"$f":"Singles!K373","v":0},{"$f":"Singles!L373","v":0},null,null,null,null,null,null,null,null,null,null,null,null,null,null,null,null,null,null,null,null,0]
[null,74,{"$f":"Singles!B374","v":0},{"$f":"Singles!C374","v":"TBC"},{"$f":"Singles!D374","v":"TBC"},{"$f":"Singles!E374","v":"TBC"},{"$f":"Singles!F374","v":"TBC"},{"$f":"Singles!G374","v":"TBC"},{"$f":"Singles!H374","v":"TBC"},{"$f":"Singles!I374","v":"TBC"},null,{"$f":"Singles!J374","v":0},{"$f":"Singles!K374","v":0},{"$f":"Singles!L374","v":0},null,null,null,null,null,null,null,null,null,null,null,null,null,null,null,null,null,null,null,null,0]
[null,75,{"$f":"Singles!B375","v":0},{"$f":"Singles!C375","v":"TBC"},{"$f":"Singles!D375","v":"TBC"},{"$f":"Singles!E375","v":"TBC"},{"$f":"Singles!F375","v":"TBC"},{"$f":"Singles!G375","v":"TBC"},{"$f":"Singles!H375","v":"TBC"},{"$f":"Singles!I375","v":"TBC"},null,{"$f":"Singles!J375","v":0},{"$f":"Singles!K375","v":0},{"$f":"Singles!L375","v":0},null,null,null,null,null,null,null,null,null,null,null,null,null,null,null,null,null,null,null,null,0]
[{"$f":"$D$7","v":0}]

{"sheet":"BBF","index":9,"n_rows":82,"n_cols":35,"rows_kept":82,"cut":false,"hidden":true,"merged":[[1,14,80,14],[81,0,81,14],[1,0,80,0],[0,0,0,14],[1,4,1,9],[1,11,1,13],[1,1,3,3],[2,11,3,11],[2,12,3,12],[2,13,3,13],[4,1,4,9],[4,11,4,13],[1,10,80,10]]}
[{"$f":"$D$7","v":0}]
[0,"Female Beginner Barebow",null,null,"Host Club",null,null,null,null,null,{"$f":"$D$7","v":0},"Scores",null,null,0,null,null,null,null,null,null,null,null,null,null,null,null,null,null,null,null,null,null,null,{"$f":"AI7","v":0}]
[null,null,null,null,{"$f":"Entries!K6","v":"DCU IV"},{"$f":"Entries!K7","v":"UCD/ITC IV"},{"$f":"Entries!K8","v":"DkIT IV"},null,{"$f":"Entries!K9","v":"NUIM/GMIT IV"},{"$f":"Entries!K10","v":"NUIG IV"},null,"Total","Lowest","League"]
[]
[null,0,null,null,null,null,null,null,null,null,null,0]
[null,null,"Name","College",{"$f":"Entries!K6","v":"DCU IV"},{"$f":"Entries!K7","v":"UCD/ITC IV"},{"$f":"Entries!K8","v":"DkIT IV"},null,{"$f":"Entries!K9","v":"NUIM/GMIT IV"},{"$f":"Entries!K10","v":"NUIG IV"},null,"Total","Lowest","League total"]
[null,1,{"$f":"Singles!P301","v":0},{"$f":"Singles!Q301","v":0},{"$f":"Singles!R301","v":0},{"$f":"Singles!S301","v":"TBC"},{"$f":"Singles!T301","v":"TBC"},{"$f":"Singles!U301","v":"TBC"},{"$f":"Singles!V301","v":"TBC"},{"$f":"Singles!W301","v":"TBC"},null,{"$f":"Singles!X301","v":0},{"$f":"Singles!Y301","v":0},{"$f":"Singles!Z301","v":0},null,null,null,null,null,null,null,null,null,null,null,null,null,null,null,null,null,null,null,null,{"$f":"C7","v":0}]
[null,2,{"$f":"Singles!P303","v":0},{"$f":"Singles!Q303","v":"TBC"},{"$f":"Singles!R303","v":"TBC"},{"$f":"Singles!S303","v":"TBC"},{"$f":"Singles!T303","v":"TBC"},{"$f":"Singles!U303","v":"TBC"},{"$f":"Singles!V303","v":"TBC"},{"$f":"Singles!W303","v":"TBC"},null,{"$f":"Singles!X303","v":0},{"$f":"Singles!Y303","v":0},{"$f":"Singles!Z303","v":0},null,null,null,null,null,null,null,null,null,null,null,null,null,null,null,null,null,null,null,null,0]
[null,3,{"$f":"Singles!P302","v":0},{"$f":"Singles!Q302","v":"TBC"},{"$f":"Singles!R302","v":"TBC"},{"$f":"Singles!S302","v":"TBC"},{"$f":"Singles!T302","v":"TBC"},{"$f":"Singles!U302","v":"TBC"},{"$f":"Singles!V302","v":"TBC"},{"$f":"Singles!W302","v":"TBC"},null,{"$f":"Singles!X302","v":0},{"$f":"Singles!Y302","v":0},{"$f":"Singles!Z302","v":0},null,null,null,null,null,null,null,null,null,null,null,null,null,null,null,null,null,null,null,null,0]
[null,4,{"$f":"Singles!P305","v":0},{"$f":"Singles!Q305","v":"TBC"},{"$f":"Singles!R305","v":"TBC"},{"$f":"Singles!S305","v":"TBC"},{"$f":"Singles!T305","v":"TBC"},{"$f":"Singles!U305","v":"TBC"},{"$f":"Singles!V305","v":"TBC"},{"$f":"Singles!W305","v":"TBC"},null,{"$f":"Singles!X305","v":0},{"$f":"Singles!Y305","v":0},{"$f":"Singles!Z305","v":0},null,null,null,null,null,null,null,null,null,null,null,null,null,null,null,null,null,null,null,null,0]
[null,5,{"$f":"Singles!P304","v":0},{"$f":"Singles!Q304","v":"TBC"},{"$f":"Singles!R304","v":"TBC"},{"$f":"Singles!S304","v":"TBC"},{"$f":"Singles!T304","v":"TBC"},{"$f":"Singles!U304","v":"TBC"},{"$f":"Singles!V304","v":"TBC"},{"$f":"Singles!W304","v":"TBC"},null,{"$f":"Singles!X304","v":0},{"$f":"Singles!Y304","v":0},{"$f":"Singles!Z304","v":0},null,null,null,null,null,null,null,null,null,null,null,null,null,null,null,null,null,null,null,null,0]
[null,6,{"$f":"Singles!P306","v":0},{"$f":"Singles!Q306","v":"TBC"},{"$f":"Singles!R306","v":"TBC"},{"$f":"Singles!S306","v":"TBC"},{"$f":"Singles!T306","v":"TBC"},{"$f":"Singles!U306","v":"TBC"},{"$f":"Singles!V306","v":"TBC"},{"$f":"Singles!W306","v":"TBC"},null,{"$f":"Singles!X306","v":0},{"$f":"Singles!Y306","v":0},{"$f":"Singles!Z306","v":0},null,null,null,null,null,null,null,null,null,null,null,null,null,null,null,null,null,null,null,null,0]
[null,7,{"$f":"Singles!P307","v":0},{"$f":"Singles!Q307","v":"TBC"},{"$f":"Singles!R307","v":"TBC"},{"$f":"Singles!S307","v":"TBC"},{"$f":"Singles!T307","v":"TBC"},{"$f":"Singles!U307","v":"TBC"},{"$f":"Singles!V307","v":"TBC"},{"$f":"Singles!W307","v":"TBC"},null,{"$f":"Singles!X307","v":0},{"$f":"Singles!Y307","v":0},{"$f":"Singles!Z307","v":0},null,null,null,null,null,null,null,null,null,null,null,null,null,null,null,null,null,null,null,null,0]
[null,8,{"$f":"Singles!P308","v":0},{"$f":"Singles!Q308","v":"TBC"},{"$f":"Singles!R308","v":"TBC"},{"$f":"Singles!S308","v":"TBC"},{"$f":"Singles!T308","v":"TBC"},{"$f":"Singles!U308","v":"TBC"},{"$f":"Singles!V308","v":"TBC"},{"$f":"Singles!W308","v":"TBC"},null,{"$f":"Singles!X308","v":0},{"$f":"Singles!Y308","v":0},{"$f":"Singles!Z308","v":0},null,null,null,null,null,null,null,null,null,null,null,null,null,null,null,null,null,null,null,null,0]
[null,9,{"$f":"Singles!P309","v":0},{"$f":"Singles!Q309","v":"TBC"},{"$f":"Singles!R309","v":"TBC"},{"$f":"Singles!S309","v":"TBC"},{"$f":"Singles!T309","v":"TBC"},{"$f":"Singles!U309","v":"TBC"},{"$f":"Singles!V309","v":"TBC"},{"$f":"Singles!W309","v":"TBC"},null,{"$f":"Singles!X309","v":0},{"$f":"Singles!Y309","v":0},{"$f":"Singles!Z309","v":0},null,null,null,null,null,null,null,null,null,null,null,null,null,null,null,null,null,null,null,null,0]
[null,10,{"$f":"Singles!P310","v":0},{"$f":"Singles!Q310","v":"TBC"},{"$f":"Singles!R310","v":"TBC"},{"$f":"Singles!S310","v":"TBC"},{"$f":"Singles!T310","v":"TBC"},{"$f":"Singles!U310","v":"TBC"},{"$f":"Singles!V310","v":"TBC"},{"$f":"Singles!W310","v":"TBC"},null,{"$f":"Singles!X310","v":0},{"$f":"Singles!Y310","v":0},{"$f":"Singles!Z310","v":0},null,null,null,null,null,null,null,null,null,null,null,null,null,null,null,null,null,null,null,null,0]
[null,11,{"$f":"Singles!P311","v":0},{"$f":"Singles!Q311","v":"TBC"},{"$f":"Singles!R311","v":"TBC"},{"$f":"Singles!S311","v":"TBC"},{"$f":"Singles!T311","v":"TBC"},{"$f":"Singles!U311","v":"TBC"},{"$f":"Singles!V311","v":"TBC"},{"$f":"Singles!W311","v":"TBC"},null,{"$f":"Singles!X311","v":0},{"$f":"Singles!Y311","v":0},{"$f":"Singles!Z311","v":0},null,null,null,null,null,null,null,null,null,null,null,null,null,null,null,null,null,null,null,null,0]
[null,12,{"$f":"Singles!P312","v":0},{"$f":"Singles!Q312","v":"TBC"},{"$f":"Singles!R312","v":"TBC"},{"$f":"Singles!S312","v":"TBC"},{"$f":"Singles!T312","v":"TBC"},{"$f":"Singles!U312","v":"TBC"},{"$f":"Singles!V312","v":"TBC"},{"$f":"Singles!W312","v":"TBC"},null,{"$f":"Singles!X312","v":0},{"$f":"Singles!Y312","v":0},{"$f":"Singles!Z312","v":0},null,null,null,null,null,null,null,null,null,null,null,null,null,null,null,null,null,null,null,null,0]
[null,13,{"$f":"Singles!P313","v":0},{"$f":"Singles!Q313","v":"TBC"},{"$f":"Singles!R313","v":"TBC"},{"$f":"Singles!S313","v":"TBC"},{"$f":"Singles!T313","v":"TBC"},{"$f":"Singles!U313","v":"TBC"},{"$f":"Singles!V313","v":"TBC"},{"$f":"Singles!W313","v":"TBC"},null,{"$f":"Singles!X313","v":0},{"$f":"Singles!Y313","v":0},{"$f":"Singles!Z313","v":0},null,null,null,null,null,null,null,null,null,null,null,null,null,null,null,null,null,null,null,null,0]
[null,14,{"$f":"Singles!P314","v":0},{"$f":"Singles!Q314","v":"TBC"},{"$f":"Singles!R314","v":"TBC"},{"$f":"Singles!S314","v":"TBC"},{"$f":"Singles!T314","v":"TBC"},{"$f":"Singles!U314","v":"TBC"},{"$f":"Singles!V314","v":"TBC"},{"$f":"Singles!W314","v":"TBC"},null,{"$f":"Singles!X314","v":0},{"$f":"Singles!Y314","v":0},{"$f":"Singles!Z314","v":0},null,null,null,null,null,null,null,null,null,null,null,null,null,null,null,null,null,null,null,null,0]
[null,15,{"$f":"Singles!P315","v":0},{"$f":"Singles!Q315","v":"TBC"},{"$f":"Singles!R315","v":"TBC"},{"$f":"Singles!S315","v":"TBC"},{"$f":"Singles!T315","v":"TBC"},{"$f":"Singles!U315","v":"TBC"},{"$f":"Singles!V315","v":"TBC"},{"$f":"Singles!W315","v":"TBC"},null,{"$f":"Singles!X315","v":0},{"$f":"Singles!Y315","v":0},{"$f":"Singles!Z315","v":0},null,null,null,null,null,null,null,null,null,null,null,null,null,null,null,null,null,null,null,null,0]
[null,16,{"$f":"Singles!P316","v":0},{"$f":"Singles!Q316","v":"TBC"},{"$f":"Singles!R316","v":"TBC"},{"$f":"Singles!S316","v":"TBC"},{"$f":"Singles!T316","v":"TBC"},{"$f":"Singles!U316","v":"TBC"},{"$f":"Singles!V316","v":"TBC"},{"$f":"Singles!W316","v":"TBC"},null,{"$f":"Singles!X316","v":0},{"$f":"Singles!Y316","v":0},{"$f":"Singles!Z316","v":0},null,null,null,null,null,null,null,null,null,null,null,null,null,null,null,null,null,null,null,null,0]
[null,17,{"$f":"Singles!P317","v":0},{"$f":"Singles!Q317","v":"TBC"},{"$f":"Singles!R317","v":"TBC"},{"$f":"Singles!S317","v":"TBC"},{"$f":"Singles!T317","v":"TBC"},{"$f":"Singles!U317","v":"TBC"},{"$f":"Singles!V317","v":"TBC"},{"$f":"Singles!W317","v":"TBC"},null,{"$f":"Singles!X317","v":0},{"$f":"Singles!Y317","v":0},{"$f":"Singles!Z317","v":0},null,null,null,null,null,null,null,null,null,null,null,null,null,null,null,null,null,null,null,null,0]
[null,18,{"$f":"Singles!P318","v":0},{"$f":"Singles!Q318","v":"TBC"},{"$f":"Singles!R318","v":"TBC"},{"$f":"Singles!S318","v":"TBC"},{"$f":"Singles!T318","v":"TBC"},{"$f":"Singles!U318","v":"TBC"},{"$f":"Singles!V318","v":"TBC"},{"$f":"Singles!W318","v":"TBC"},null,{"$f":"Singles!X318","v":0},{"$f":"Singles!Y318","v":0},{"$f":"Singles!Z318","v":0},null,null,null,null,null,null,null,null,null,null,null,null,null,null,null,null,null,null,null,null,0]
[null,19,{"$f":"Singles!P319","v":0},{"$f":"Singles!Q319","v":"TBC"},{"$f":"Singles!R319","v":"TBC"},{"$f":"Singles!S319","v":"TBC"},{"$f":"Singles!T319","v":"TBC"},{"$f":"Singles!U319","v":"TBC"},{"$f":"Singles!V319","v":"TBC"},{"$f":"Singles!W319","v":"TBC"},null,{"$f":"Singles!X319","v":0},{"$f":"Singles!Y319","v":0},{"$f":"Singles!Z319","v":0},null,null,null,null,null,null,null,null,null,null,null,null,null,null,null,null,null,null,null,null,0]
[null,20,{"$f":"Singles!P320","v":0},{"$f":"Singles!Q320","v":"TBC"},{"$f":"Singles!R320","v":"TBC"},{"$f":"Singles!S320","v":"TBC"},{"$f":"Singles!T320","v":"TBC"},{"$f":"Singles!U320","v":"TBC"},{"$f":"Singles!V320","v":"TBC"},{"$f":"Singles!W320","v":"TBC"},null,{"$f":"Singles!X320","v":0},{"$f":"Singles!Y320","v":0},{"$f":"Singles!Z320","v":0},null,null,null,null,null,null,null,null,null,null,null,null,null,null,null,null,null,null,null,null,0]
[null,21,{"$f":"Singles!P321","v":0},{"$f":"Singles!Q321","v":"TBC"},{"$f":"Singles!R321","v":"TBC"},{"$f":"Singles!S321","v":"TBC"},{"$f":"Singles!T321","v":"TBC"},{"$f":"Singles!U321","v":"TBC"},{"$f":"Singles!V321","v":"TBC"},{"$f":"Singles!W321","v":"TBC"},null,{"$f":"Singles!X321","v":0},{"$f":"Singles!Y321","v":0},{"$f":"Singles!Z321","v":0},null,null,null,null,null,null,null,null,null,null,null,null,null,null,null,null,null,null,null,null,0]
[null,22,{"$f":"Singles!P322","v":0},{"$f":"Singles!Q322","v":"TBC"},{"$f":"Singles!R322","v":"TBC"},{"$f":"Singles!S322","v":"TBC"},{"$f":"Singles!T322","v":"TBC"},{"$f":"Singles!U322","v":"TBC"},{"$f":"Singles!V322","v":"TBC"},{"$f":"Singles!W322","v":"TBC"},null,{"$f":"Singles!X322","v":0},{"$f":"Singles!Y322","v":0},{"$f":"Singles!Z322","v":0},null,null,null,null,null,null,null,null,null,null,null,null,null,null,null,null,null,null,null,null,0]
[null,23,{"$f":"Singles!P323","v":0},{"$f":"Singles!Q323","v":"TBC"},{"$f":"Singles!R323","v":"TBC"},{"$f":"Singles!S323","v":"TBC"},{"$f":"Singles!T323","v":"TBC"},{"$f":"Singles!U323","v":"TBC"},{"$f":"Singles!V323","v":"TBC"},{"$f":"Singles!W323","v":"TBC"},null,{"$f":"Singles!X323","v":0},{"$f":"Singles!Y323","v":0},{"$f":"Singles!Z323","v":0},null,null,null,null,null,null,null,null,null,null,null,null,null,null,null,null,null,null,null,null,0]
[null,24,{"$f":"Singles!P324","v":0},{"$f":"Singles!Q324","v":"TBC"},{"$f":"Singles!R324","v":"TBC"},{"$f":"Singles!S324","v":"TBC"},{"$f":"Singles!T324","v":"TBC"},{"$f":"Singles!U324","v":"TBC"},{"$f":"Singles!V324","v":"TBC"},{"$f":"Singles!W324","v":"TBC"},null,{"$f":"Singles!X324","v":0},{"$f":"Singles!Y324","v":0},{"$f":"Singles!Z324","v":0},null,null,null,null,null,null,null,null,null,null,null,null,null,null,null,null,null,null,null,null,0]
[null,25,{"$f":"Singles!P325","v":0},{"$f":"Singles!Q325","v":"TBC"},{"$f":"Singles!R325","v":"TBC"},{"$f":"Singles!S325","v":"TBC"},{"$f":"Singles!T325","v":"TBC"},{"$f":"Singles!U325","v":"TBC"},{"$f":"Singles!V325","v":"TBC"},{"$f":"Singles!W325","v":"TBC"},null,{"$f":"Singles!X325","v":0},{"$f":"Singles!Y325","v":0},{"$f":"Singles!Z325","v":0},null,null,null,null,null,null,null,null,null,null,null,null,null,null,null,null,null,null,null,null,0]
[null,26,{"$f":"Singles!P326","v":0},{"$f":"Singles!Q326","v":"TBC"},{"$f":"Singles!R326","v":"TBC"},{"$f":"Singles!S326","v":"TBC"},{"$f":"Singles!T326","v":"TBC"},{"$f":"Singles!U326","v":"TBC"},{"$f":"Singles!V326","v":"TBC"},{"$f":"Singles!W326","v":"TBC"},null,{"$f":"Singles!X326","v":0},{"$f":"Singles!Y326","v":0},{"$f":"Singles!Z326","v":0},null,null,null,null,null,null,null,null,null,null,null,null,null,null,null,null,null,null,null,null,0]
[null,27,{"$f":"Singles!P327","v":0},{"$f":"Singles!Q327","v":"TBC"},{"$f":"Singles!R327","v":"TBC"},{"$f":"Singles!S327","v":"TBC"},{"$f":"Singles!T327","v":"TBC"},{"$f":"Singles!U327","v":"TBC"},{"$f":"Singles!V327","v":"TBC"},{"$f":"Singles!W327","v":"TBC"},null,{"$f":"Singles!X327","v":0},{"$f":"Singles!Y327","v":0},{"$f":"Singles!Z327","v":0},null,null,null,null,null,null,null,null,null,null,null,null,null,null,null,null,null,null,null,null,0]
[null,28,{"$f":"Singles!P328","v":0},{"$f":"Singles!Q328","v":"TBC"},{"$f":"Singles!R328","v":"TBC"},{"$f":"Singles!S328","v":"TBC"},{"$f":"Singles!T328","v":"TBC"},{"$f":"Singles!U328","v":"TBC"},{"$f":"Singles!V328","v":"TBC"},{"$f":"Singles!W328","v":"TBC"},null,{"$f":"Singles!X328","v":0},{"$f":"Singles!Y328","v":0},{"$f":"Singles!Z328","v":0},null,null,null,null,null,null,null,null,null,null,null,null,null,null,null,null,null,null,null,null,0]
[null,29,{"$f":"Singles!P329","v":0},{"$f":"Singles!Q329","v":"TBC"},{"$f":"Singles!R329","v":"TBC"},{"$f":"Singles!S329","v":"TBC"},{"$f":"Singles!T329","v":"TBC"},{"$f":"Singles!U329","v":"TBC"},{"$f":"Singles!V329","v":"TBC"},{"$f":"Singles!W329","v":"TBC"},null,{"$f":"Singles!X329","v":0},{"$f":"Singles!Y329","v":0},{"$f":"Singles!Z329","v":0},null,null,null,null,null,null,null,null,null,null,null,null,null,null,null,null,null,null,null,null,0]
[null,30,{"$f":"Singles!P330","v":0},{"$f":"Singles!Q330","v":"TBC"},{"$f":"Singles!R330","v":"TBC"},{"$f":"Singles!S330","v":"TBC"},{"$f":"Singles!T330","v":"TBC"},{"$f":"Singles!U330","v":"TBC"},{"$f":"Singles!V330","v":"TBC"},{"$f":"Singles!W330","v":"TBC"},null,{"$f":"Singles!X330","v":0},{"$f":"Singles!Y330","v":0},{"$f":"Singles!Z330","v":0},null,null,null,null,null,null,null,null,null,null,null,null,null,null,null,null,null,null,null,null,0]
[null,31,{"$f":"Singles!P331","v":0},{"$f":"Singles!Q331","v":"TBC"},{"$f":"Singles!R331","v":"TBC"},{"$f":"Singles!S331","v":"TBC"},{"$f":"Singles!T331","v":"TBC"},{"$f":"Singles!U331","v":"TBC"},{"$f":"Singles!V331","v":"TBC"},{"$f":"Singles!W331","v":"TBC"},null,{"$f":"Singles!X331","v":0},{"$f":"Singles!Y331","v":0},{"$f":"Singles!Z331","v":0},null,null,null,null,null,null,null,null,null,null,null,null,null,null,null,null,null,null,null,null,0]
[null,32,{"$f":"Singles!P332","v":0},{"$f":"Singles!Q332","v":"TBC"},{"$f":"Singles!R332","v":"TBC"},{"$f":"Singles!S332","v":"TBC"},{"$f":"Singles!T332","v":"TBC"},{"$f":"Singles!U332","v":"TBC"},{"$f":"Singles!V332","v":"TBC"},{"$f":"Singles!W332","v":"TBC"},null,{"$f":"Singles!X332","v":0},{"$f":"Singles!Y332","v":0},{"$f":"Singles!Z332","v":0},null,null,null,null,null,null,null,null,null,null,null,null,null,null,null,null,null,null,null,null,0]
[null,33,{"$f":"Singles!P333","v":0},{"$f":"Singles!Q333","v":"TBC"},{"$f":"Singles!R333","v":"TBC"},{"$f":"Singles!S333","v":"TBC"},{"$f":"Singles!T333","v":"TBC"},{"$f":"Singles!U333","v":"TBC"},{"$f":"Singles!V333","v":"TBC"},{"$f":"Singles!W333","v":"TBC"},null,{"$f":"Singles!X333","v":0},{"$f":"Singles!Y333","v":0},{"$f":"Singles!Z333","v":0},null,null,null,null,null,null,null,null,null,null,null,null,null,null,null,null,null,null,null,null,{"$f":"C39","v":0}]
[null,34,{"$f":"Singles!P334","v":0},{"$f":"Singles!Q334","v":"TBC"},{"$f":"Singles!R334","v":"TBC"},{"$f":"Singles!S334","v":"TBC"},{"$f":"Singles!T334","v":"TBC"},{"$f":"Singles!U334","v":"TBC"},{"$f":"Singles!V334","v":"TBC"},{"$f":"Singles!W334","v":"TBC"},null,{"$f":"Singles!X334","v":0},{"$f":"Singles!Y334","v":0},{"$f":"Singles!Z334","v":0},null,null,null,null,null,null,null,null,null,null,null,null,null,null,null,null,null,null,null,null,0]
[null,35,{"$f":"Singles!P335","v":0},{"$f":"Singles!Q335","v":"TBC"},{"$f":"Singles!R335","v":"TBC"},{"$f":"Singles!S335","v":"TBC"},{"$f":"Singles!T335","v":"TBC"},{"$f":"Singles!U335","v":"TBC"},{"$f":"Singles!V335","v":"TBC"},{"$f":"Singles!W335","v":"TBC"},null,{"$f":"Singles!X335","v":0},{"$f":"Singles!Y335","v":0},{"$f":"Singles!Z335","v":0},null,null,null,null,null,null,null,null,null,null,null,null,null,null,null,null,null,null,null,null,0]
[null,36,{"$f":"Singles!P336","v":0},{"$f":"Singles!Q336","v":"TBC"},{"$f":"Singles!R336","v":"TBC"},{"$f":"Singles!S336","v":"TBC"},{"$f":"Singles!T336","v":"TBC"},{"$f":"Singles!U336","v":"TBC"},{"$f":"Singles!V336","v":"TBC"},{"$f":"Singles!W336","v":"TBC"},null,{"$f":"Singles!X336","v":0},{"$f":"Singles!Y336","v":0},{"$f":"Singles!Z336","v":0},null,null,null,null,null,null,null,null,null,null,null,null,null,null,null,null,null,null,null,null,0]
[null,37,{"$f":"Singles!P337","v":0},{"$f":"Singles!Q337","v":"TBC"},{"$f":"Singles!R337","v":"TBC"},{"$f":"Singles!S337","v":"TBC"},{"$f":"Singles!T337","v":"TBC"},{"$f":"Singles!U337","v":"TBC"},{"$f":"Singles!V337","v":"TBC"},{"$f":"Singles!W337","v":"TBC"},null,{"$f":"Singles!X337","v":0},{"$f":"Singles!Y337","v":0},{"$f":"Singles!Z337","v":0},null,null,null,null,null,null,null,null,null,null,null,null,null,null,null,null,null,null,null,null,0]
[null,38,{"$f":"Singles!P338","v":0},{"$f":"Singles!Q338","v":"TBC"},{"$f":"Singles!R338","v":"TBC"},{"$f":"Singles!S338","v":"TBC"},{"$f":"Singles!T338","v":"TBC"},{"$f":"Singles!U338","v":"TBC"},{"$f":"Singles!V338","v":"TBC"},{"$f":"Singles!W338","v":"TBC"},null,{"$f":"Singles!X338","v":0},{"$f":"Singles!Y338","v":0},{"$f":"Singles!Z338","v":0},null,null,null,null,null,null,null,null,null,null,null,null,null,null,null,null,null,null,null,null,0]
[null,39,{"$f":"Singles!P339","v":0},{"$f":"Singles!Q339","v":"TBC"},{"$f":"Singles!R339","v":"TBC"},{"$f":"Singles!S339","v":"TBC"},{"$f":"Singles!T339","v":"TBC"},{"$f":"Singles!U339","v":"TBC"},{"$f":"Singles!V339","v":"TBC"},{"$f":"Singles!W339","v":"TBC"},null,{"$f":"Singles!X339","v":0},{"$f":"Singles!Y339","v":0},{"$f":"Singles!Z339","v":0},null,null,null,null,null,null,null,null,null,null,null,null,null,null,null,null,null,null,null,null,0]
[null,40,{"$f":"Singles!P340","v":0},{"$f":"Singles!Q340","v":"TBC"},{"$f":"Singles!R340","v":"TBC"},{"$f":"Singles!S340","v":"TBC"},{"$f":"Singles!T340","v":"TBC"},{"$f":"Singles!U340","v":"TBC"},{"$f":"Singles!V340","v":"TBC"},{"$f":"Singles!W340","v":"TBC"},null,{"$f":"Singles!X340","v":0},{"$f":"Singles!Y340","v":0},{"$f":"Singles!Z340","v":0},null,null,null,null,null,null,null,null,null,null,null,null,null,null,null,null,null,null,null,null,0]
[null,41,{"$f":"Singles!P341","v":0},{"$f":"Singles!Q341","v":"TBC"},{"$f":"Singles!R341","v":"TBC"},{"$f":"Singles!S341","v":"TBC"},{"$f":"Singles!T341","v":"TBC"},{"$f":"Singles!U341","v":"TBC"},{"$f":"Singles!V341","v":"TBC"},{"$f":"Singles!W341","v":"TBC"},null,{"$f":"Singles!X341","v":0},{"$f":"Singles!Y341","v":0},{"$f":"Singles!Z341","v":0},null,null,null,null,null,null,null,null,null,null,null,null,null,null,null,null,null,null,null,null,0]
[null,42,{"$f":"Singles!P342","v":0},{"$f":"Singles!Q342","v":"TBC"},{"$f":"Singles!R342","v":"TBC"},{"$f":"Singles!S342","v":"TBC"},{"$f":"Singles!T342","v":"TBC"},{"$f":"Singles!U342","v":"TBC"},{"$f":"Singles!V342","v":"TBC"},{"$f":"Singles!W342","v":"TBC"},null,{"$f":"Singles!X342","v":0},{"$f":"Singles!Y342","v":0},{"$f":"Singles!Z342","v":0},null,null,null,null,null,null,null,null,null,null,null,null,null,null,null,null,null,null,null,null,0]
[null,43,{"$f":"Singles!P343","v":0},{"$f":"Singles!Q343","v":"TBC"},{"$f":"Singles!R343","v":"TBC"},{"$f":"Singles!S343","v":"TBC"},{"$f":"Singles!T343","v":"TBC"},{"$f":"Singles!U343","v":"TBC"},{"$f":"Singles!V343","v":"TBC"},{"$f":"Singles!W343","v":"TBC"},null,{"$f":"Singles!X343","v":0},{"$f":"Singles!Y343","v":0},{"$f":"Singles!Z343","v":0},null,null,null,null,null,null,null,null,null,null,null,null,null,null,null,null,null,null,null,null,0]
[null,44,{"$f":"Singles!P344","v":0},{"$f":"Singles!Q344","v":"TBC"},{"$f":"Singles!R344","v":"TBC"},{"$f":"Singles!S344","v":"TBC"},{"$f":"Singles!T344","v":"TBC"},{"$f":"Singles!U344","v":"TBC"},{"$f":"Singles!V344","v":"TBC"},{"$f":"Singles!W344","v":"TBC"},null,{"$f":"Singles!X344","v":0},{"$f":"Singles!Y344","v":0},{"$f":"Singles!Z344","v":0},null,null,null,null,null,null,null,null,null,null,null,null,null,null,null,null,null,null,null,null,0]
[null,45,{"$f":"Singles!P345","v":0},{"$f":"Singles!Q345","v":"TBC"},{"$f":"Singles!R345","v":"TBC"},{"$f":"Singles!S345","v":"TBC"},{"$f":"Singles!T345","v":"TBC"},{"$f":"Singles!U345","v":"TBC"},{"$f":"Singles!V345","v":"TBC"},{"$f":"Singles!W345","v":"TBC"},null,{"$f":"Singles!X345","v":0},{"$f":"Singles!Y345","v":0},{"$f":"Singles!Z345","v":0},null,null,null,null,null,null,null,null,null,null,null,null,null,null,null,null,null,null,null,null,0]
[null,46,{"$f":"Singles!P346","v":0},{"$f":"Singles!Q346","v":"TBC"},{"$f":"Singles!R346","v":"TBC"},{"$f":"Singles!S346","v":"TBC"},{"$f":"Singles!T346","v":"TBC"},{"$f":"Singles!U346","v":"TBC"},{"$f":"Singles!V346","v":"TBC"},{"$f":"Singles!W346","v":"TBC"},null,{"$f":"Singles!X346","v":0},{"$f":"Singles!Y346","v":0},{"$f":"Singles!Z346","v":0},null,null,null,null,null,null,null,null,null,null,null,null,null,null,null,null,null,null,null,null,0]
[null,47,{"$f":"Singles!P347","v":0},{"$f":"Singles!Q347","v":"TBC"},{"$f":"Singles!R347","v":"TBC"},{"$f":"Singles!S347","v":"TBC"},{"$f":"Singles!T347","v":"TBC"},{"$f":"Singles!U347","v":"TBC"},{"$f":"Singles!V347","v":"TBC"},{"$f":"Singles!W347","v":"TBC"},null,{"$f":"Singles!X347","v":0},{"$f":"Singles!Y347","v":0},{"$f":"Singles!Z347","v":0},null,null,null,null,null,null,null,null,null,null,null,null,null,null,null,null,null,null,null,null,0]
[null,48,{"$f":"Singles!P348","v":0},{"$f":"Singles!Q348","v":"TBC"},{"$f":"Singles!R348","v":"TBC"},{"$f":"Singles!S348","v":"TBC"},{"$f":"Singles!T348","v":"TBC"},{"$f":"Singles!U348","v":"TBC"},{"$f":"Singles!V348","v":"TBC"},{"$f":"Singles!W348","v":"TBC"},null,{"$f":"Singles!X348","v":0},{"$f":"Singles!Y348","v":0},{"$f":"Singles!Z348","v":0},null,null,null,null,null,null,null,null,null,null,null,null,null,null,null,null,null,null,null,null,0]
[null,49,{"$f":"Singles!P349","v":0},{"$f":"Singles!Q349","v":"TBC"},{"$f":"Singles!R349","v":"TBC"},{"$f":"Singles!S349","v":"TBC"},{"$f":"Singles!T349","v":"TBC"},{"$f":"Singles!U349","v":"TBC"},{"$f":"Singles!V349","v":"TBC"},{"$f":"Singles!W349","v":"TBC"},null,{"$f":"Singles!X349","v":0},{"$f":"Singles!Y349","v":0},{"$f":"Singles!Z349","v":0},null,null,null,null,null,null,null,null,null,null,null,null,null,null,null,null,null,null,null,null,0]
[null,50,{"$f":"Singles!P350","v":0},{"$f":"Singles!Q350","v":"TBC"},{"$f":"Singles!R350","v":"TBC"},{"$f":"Singles!S350","v":"TBC"},{"$f":"Singles!T350","v":"TBC"},{"$f":"Singles!U350","v":"TBC"},{"$f":"Singles!V350","v":"TBC"},{"$f":"Singles!W350","v":"TBC"},null,{"$f":"Singles!X350","v":0},{"$f":"Singles!Y350","v":0},{"$f":"Singles!Z350","v":0},null,null,null,null,null,null,null,null,null,null,null,null,null,null,null,null,null,null,null,null,0]
[null,51,{"$f":"Singles!P351","v":0},{"$f":"Singles!Q351","v":"TBC"},{"$f":"Singles!R351","v":"TBC"},{"$f":"Singles!S351","v":"TBC"},{"$f":"Singles!T351","v":"TBC"},{"$f":"Singles!U351","v":"TBC"},{"$f":"Singles!V351","v":"TBC"},{"$f":"Singles!W351","v":"TBC"},null,{"$f":"Singles!X351","v":0},{"$f":"Singles!Y351","v":0},{"$f":"Singles!Z351","v":0},null,null,null,null,null,null,null,null,null,null,null,null,null,null,null,null,null,null,null,null,0]
[null,52,{"$f":"Singles!P352","v":0},{"$f":"Singles!Q352","v":"TBC"},{"$f":"Singles!R352","v":"TBC"},{"$f":"Singles!S352","v":"TBC"},{"$f":"Singles!T352","v":"TBC"},{"$f":"Singles!U352","v":"TBC"},{"$f":"Singles!V352","v":"TBC"},{"$f":"Singles!W352","v":"TBC"},null,{"$f":"Singles!X352","v":0},{"$f":"Singles!Y352","v":0},{"$f":"Singles!Z352","v":0},null,null,null,null,null,null,null,null,null,null,null,null,null,null,null,null,null,null,null,null,0]
[null,53,{"$f":"Singles!P353","v":0},{"$f":"Singles!Q353","v":"TBC"},{"$f":"Singles!R353","v":"TBC"},{"$f":"Singles!S353","v":"TBC"},{"$f":"Singles!T353","v":"TBC"},{"$f":"Singles!U353","v":"TBC"},{"$f":"Singles!V353","v":"TBC"},{"$f":"Singles!W353","v":"TBC"},null,{"$f":"Singles!X353","v":0},{"$f":"Singles!Y353","v":0},{"$f":"Singles!Z353","v":0},null,null,null,null,null,null,null,null,null,null,null,null,null,null,null,null,null,null,null,null,0]
[null,54,{"$f":"Singles!P354","v":0},{"$f":"Singles!Q354","v":"TBC"},{"$f":"Singles!R354","v":"TBC"},{"$f":"Singles!S354","v":"TBC"},{"$f":"Singles!T354","v":"TBC"},{"$f":"Singles!U354","v":"TBC"},{"$f":"Singles!V354","v":"TBC"},{"$f":"Singles!W354","v":"TBC"},null,{"$f":"Singles!X354","v":0},{"$f":"Singles!Y354","v":0},{"$f":"Singles!Z354","v":0},null,null,null,null,null,null,null,null,null,null,null,null,null,null,null,null,null,null,null,null,0]
[null,55,{"$f":"Singles!P355","v":0},{"$f":"Singles!Q355","v":"TBC"},{"$f":"Singles!R355","v":"TBC"},{"$f":"Singles!S355","v":"TBC"},{"$f":"Singles!T355","v":"TBC"},{"$f":"Singles!U355","v":"TBC"},{"$f":"Singles!V355","v":"TBC"},{"$f":"Singles!W355","v":"TBC"},null,{"$f":"Singles!X355","v":0},{"$f":"Singles!Y355","v":0},{"$f":"Singles!Z355","v":0},null,null,null,null,null,null,null,null,null,null,null,null,null,null,null,null,null,null,null,null,0]
[null,56,{"$f":"Singles!P356","v":0},{"$f":"Singles!Q356","v":"TBC"},{"$f":"Singles!R356","v":"TBC"},{"$f":"Singles!S356","v":"TBC"},{"$f":"Singles!T356","v":"TBC"},{"$f":"Singles!U356","v":"TBC"},{"$f":"Singles!V356","v":"TBC"},{"$f":"Singles!W356","v":"TBC"},null,{"$f":"Singles!X356","v":0},{"$f":"Singles!Y356","v":0},{"$f":"Singles!Z356","v":0},null,null,null,null,null,null,null,null,null,null,null,null,null,null,null,null,null,null,null,null,0]
[null,57,{"$f":"Singles!P357","v":0},{"$f":"Singles!Q357","v":"TBC"},{"$f":"Singles!R357","v":"TBC"},{"$f":"Singles!S357","v":"TBC"},{"$f":"Singles!T357","v":"TBC"},{"$f":"Singles!U357","v":"TBC"},{"$f":"Singles!V357","v":"TBC"},{"$f":"Singles!W357","v":"TBC"},null,{"$f":"Singles!X357","v":0},{"$f":"Singles!Y357","v":0},{"$f":"Singles!Z357","v":0},null,null,null,null,null,null,null,null,null,null,null,null,null,null,null,null,null,null,null,null,0]
[null,58,{"$f":"Singles!P358","v":0},{"$f":"Singles!Q358","v":"TBC"},{"$f":"Singles!R358","v":"TBC"},{"$f":"Singles!S358","v":"TBC"},{"$f":"Singles!T358","v":"TBC"},{"$f":"Singles!U358","v":"TBC"},{"$f":"Singles!V358","v":"TBC"},{"$f":"Singles!W358","v":"TBC"},null,{"$f":"Singles!X358","v":0},{"$f":"Singles!Y358","v":0},{"$f":"Singles!Z358","v":0},null,null,null,null,null,null,null,null,null,null,null,null,null,null,null,null,null,null,null,null,0]
[null,59,{"$f":"Singles!P359","v":0},{"$f":"Singles!Q359","v":"TBC"},{"$f":"Singles!R359","v":"TBC"},{"$f":"Singles!S359","v":"TBC"},{"$f":"Singles!T359","v":"TBC"},{"$f":"Singles!U359","v":"TBC"},{"$f":"Singles!V359","v":"TBC"},{"$f":"Singles!W359","v":"TBC"},null,{"$f":"Singles!X359","v":0},{"$f":"Singles!Y359","v":0},{"$f":"Singles!Z359","v":0},null,null,null,null,null,null,null,null,null,null,null,null,null,null,null,null,null,null,null,null,0]
[null,60,{"$f":"Singles!P360","v":0},{"$f":"Singles!Q360","v":"TBC"},{"$f":"Singles!R360","v":"TBC"},{"$f":"Singles!S360","v":"TBC"},{"$f":"Singles!T360","v":"TBC"},{"$f":"Singles!U360","v":"TBC"},{"$f":"Singles!V360","v":"TBC"},{"$f":"Singles!W360","v":"TBC"},null,{"$f":"Singles!X360","v":0},{"$f":"Singles!Y360","v":0},{"$f":"Singles!Z360","v":0},null,null,null,null,null,null,null,null,null,null,null,null,null,null,null,null,null,null,null,null,0]
[null,61,{"$f":"Singles!P361","v":0},{"$f":"Singles!Q361","v":"TBC"},{"$f":"Singles!R361","v":"TBC"},{"$f":"Singles!S361","v":"TBC"},{"$f":"Singles!T361","v":"TBC"},{"$f":"Singles!U361","v":"TBC"},{"$f":"Singles!V361","v":"TBC"},{"$f":"Singles!W361","v":"TBC"},null,{"$f":"Singles!X361","v":0},{"$f":"Singles!Y361","v":0},{"$f":"Singles!Z361","v":0},null,null,null,null,null,null,null,null,null,null,null,null,null,null,null,null,null,null,null,null,0]
[null,62,{"$f":"Singles!P362","v":0},{"$f":"Singles!Q362","v":"TBC"},{"$f":"Singles!R362","v":"TBC"},{"$f":"Singles!S362","v":"TBC"},{"$f":"Singles!T362","v":"TBC"},{"$f":"Singles!U362","v":"TBC"},{"$f":"Singles!V362","v":"TBC"},{"$f":"Singles!W362","v":"TBC"},null,{"$f":"Singles!X362","v":0},{"$f":"Singles!Y362","v":0},{"$f":"Singles!Z362","v":0},null,null,null,null,null,null,null,null,null,null,null,null,null,null,null,null,null,null,null,null,0]
[null,63,{"$f":"Singles!P363","v":0},{"$f":"Singles!Q363","v":"TBC"},{"$f":"Singles!R363","v":"TBC"},{"$f":"Singles!S363","v":"TBC"},{"$f":"Singles!T363","v":"TBC"},{"$f":"Singles!U363","v":"TBC"},{"$f":"Singles!V363","v":"TBC"},{"$f":"Singles!W363","v":"TBC"},null,{"$f":"Singles!X363","v":0},{"$f":"Singles!Y363","v":0},{"$f":"Singles!Z363","v":0},null,null,null,null,null,null,null,null,null,null,null,null,null,null,null,null,null,null,null,null,0]
[null,64,{"$f":"Singles!P364","v":0},{"$f":"Singles!Q364","v":"TBC"},{"$f":"Singles!R364","v":"TBC"},{"$f":"Singles!S364","v":"TBC"},{"$f":"Singles!T364","v":"TBC"},{"$f":"Singles!U364","v":"TBC"},{"$f":"Singles!V364","v":"TBC"},{"$f":"Singles!W364","v":"TBC"},null,{"$f":"Singles!X364","v":0},{"$f":"Singles!Y364","v":0},{"$f":"Singles!Z364","v":0},null,null,null,null,null,null,null,null,null,null,null,null,null,null,null,null,null,null,null,null,0]
[null,65,{"$f":"Singles!P365","v":0},{"$f":"Singles!Q365","v":"TBC"},{"$f":"Singles!R365","v":"TBC"},{"$f":"Singles!S365","v":"TBC"},{"$f":"Singles!T365","v":"TBC"},{"$f":"Singles!U365","v":"TBC"},{"$f":"Singles!V365","v":"TBC"},{"$f":"Singles!W365","v":"TBC"},null,{"$f":"Singles!X365","v":0},{"$f":"Singles!Y365","v":0},{"$f":"Singles!Z365","v":0},null,null,null,null,null,null,null,null,null,null,null,null,null,null,null,null,null,null,null,null,0]
[null,66,{"$f":"Singles!P366","v":0},{"$f":"Singles!Q366","v":"TBC"},{"$f":"Singles!R366","v":"TBC"},{"$f":"Singles!S366","v":"TBC"},{"$f":"Singles!T366","v":"TBC"},{"$f":"Singles!U366","v":"TBC"},{"$f":"Singles!V366","v":"TBC"},{"$f":"Singles!W366","v":"TBC"},null,{"$f":"Singles!X366","v":0},{"$f":"Singles!Y366","v":0},{"$f":"Singles!Z366","v":0},null,null,null,null,null,null,null,null,null,null,null,null,null,null,null,null,null,null,null,null,0]
[null,67,{"$f":"Singles!P367","v":0},{"$f":"Singles!Q367","v":"TBC"},{"$f":"Singles!R367","v":"TBC"},{"$f":"Singles!S367","v":"TBC"},{"$f":"Singles!T367","v":"TBC"},{"$f":"Singles!U367","v":"TBC"},{"$f":"Singles!V367","v":"TBC"},{"$f":"Singles!W367","v":"TBC"},null,{"$f":"Singles!X367","v":0},{"$f":"Singles!Y367","v":0},{"$f":"Singles!Z367","v":0},null,null,null,null,null,null,null,null,null,null,null,null,null,null,null,null,null,null,null,null,0]
[null,68,{"$f":"Singles!P368","v":0},{"$f":"Singles!Q368","v":"TBC"},{"$f":"Singles!R368","v":"TBC"},{"$f":"Singles!S368","v":"TBC"},{"$f":"Singles!T368","v":"TBC"},{"$f":"Singles!U368","v":"TBC"},{"$f":"Singles!V368","v":"TBC"},{"$f":"Singles!W368","v":"TBC"},null,{"$f":"Singles!X368","v":0},{"$f":"Singles!Y368","v":0},{"$f":"Singles!Z368","v":0},null,null,null,null,null,null,null,null,null,null,null,null,null,null,null,null,null,null,null,null,0]
[null,69,{"$f":"Singles!P369","v":0},{"$f":"Singles!Q369","v":"TBC"},{"$f":"Singles!R369","v":"TBC"},{"$f":"Singles!S369","v":"TBC"},{"$f":"Singles!T369","v":"TBC"},{"$f":"Singles!U369","v":"TBC"},{"$f":"Singles!V369","v":"TBC"},{"$f":"Singles!W369","v":"TBC"},null,{"$f":"Singles!X369","v":0},{"$f":"Singles!Y369","v":0},{"$f":"Singles!Z369","v":0},null,null,null,null,null,null,null,null,null,null,null,null,null,null,null,null,null,null,null,null,0]
[null,70,{"$f":"Singles!P370","v":0},{"$f":"Singles!Q370","v":"TBC"},{"$f":"Singles!R370","v":"TBC"},{"$f":"Singles!S370","v":"TBC"},{"$f":"Singles!T370","v":"TBC"},{"$f":"Singles!U370","v":"TBC"},{"$f":"Singles!V370","v":"TBC"},{"$f":"Singles!W370","v":"TBC"},null,{"$f":"Singles!X370","v":0},{"$f":"Singles!Y370","v":0},{"$f":"Singles!Z370","v":0},null,null,null,null,null,null,null,null,null,null,null,null,null,null,null,null,null,null,null,null,0]
[null,71,{"$f":"Singles!P371","v":0},{"$f":"Singles!Q371","v":"TBC"},{"$f":"Singles!R371","v":"TBC"},{"$f":"Singles!S371","v":"TBC"},{"$f":"Singles!T371","v":"TBC"},{"$f":"Singles!U371","v":"TBC"},{"$f":"Singles!V371","v":"TBC"},{"$f":"Singles!W371","v":"TBC"},null,{"$f":"Singles!X371","v":0},{"$f":"Singles!Y371","v":0},{"$f":"Singles!Z371","v":0},null,null,null,null,null,null,null,null,null,null,null,null,null,null,null,null,null,null,null,null,0]
[null,72,{"$f":"Singles!P372","v":0},{"$f":"Singles!Q372","v":"TBC"},{"$f":"Singles!R372","v":"TBC"},{"$f":"Singles!S372","v":"TBC"},{"$f":"Singles!T372","v":"TBC"},{"$f":"Singles!U372","v":"TBC"},{"$f":"Singles!V372","v":"TBC"},{"$f":"Singles!W372","v":"TBC"},null,{"$f":"Singles!X372","v":0},{"$f":"Singles!Y372","v":0},{"$f":"Singles!Z372","v":0},null,null,null,null,null,null,null,null,null,null,null,null,null,null,null,null,null,null,null,null,0]
[null,73,{"$f":"Singles!P373","v":0},{"$f":"Singles!Q373","v":"TBC"},{"$f":"Singles!R373","v":"TBC"},{"$f":"Singles!S373","v":"TBC"},{"$f":"Singles!T373","v":"TBC"},{"$f":"Singles!U373","v":"TBC"},{"$f":"Singles!V373","v":"TBC"},{"$f":"Singles!W373","v":"TBC"},null,{"$f":"Singles!X373","v":0},{"$f":"Singles!Y373","v":0},{"$f":"Singles!Z373","v":0},null,null,null,null,null,null,null,null,null,null,null,null,null,null,null,null,null,null,null,null,0]
[null,74,{"$f":"Singles!P374","v":0},{"$f":"Singles!Q374","v":"TBC"},{"$f":"Singles!R374","v":"TBC"},{"$f":"Singles!S374","v":"TBC"},{"$f":"Singles!T374","v":"TBC"},{"$f":"Singles!U374","v":"TBC"},{"$f":"Singles!V374","v":"TBC"},{"$f":"Singles!W374","v":"TBC"},null,{"$f":"Singles!X374","v":0},{"$f":"Singles!Y374","v":0},{"$f":"Singles!Z374","v":0},null,null,null,null,null,null,null,null,null,null,null,null,null,null,null,null,null,null,null,null,0]
[null,75,{"$f":"Singles!P375","v":0},{"$f":"Singles!Q375","v":"TBC"},{"$f":"Singles!R375","v":"TBC"},{"$f":"Singles!S375","v":"TBC"},{"$f":"Singles!T375","v":"TBC"},{"$f":"Singles!U375","v":"TBC"},{"$f":"Singles!V375","v":"TBC"},{"$f":"Singles!W375","v":"TBC"},null,{"$f":"Singles!X375","v":0},{"$f":"Singles!Y375","v":0},{"$f":"Singles!Z375","v":0},null,null,null,null,null,null,null,null,null,null,null,null,null,null,null,null,null,null,null,null,0]
[{"$f":"$D$7","v":0}]

{"sheet":"BAM","index":10,"n_rows":82,"n_cols":35,"rows_kept":82,"cut":false,"hidden":false,"merged":[[1,14,80,14],[81,0,81,14],[1,0,80,0],[0,0,0,14],[1,4,1,9],[1,11,1,13],[1,1,3,3],[2,11,3,11],[2,12,3,12],[2,13,3,13],[4,1,4,9],[4,11,4,13],[1,10,80,10]]}
[{"$f":"$D$7","v":"UL"}]
[{"$f":"$D$7","v":"UL"},"Male Advanced Barebow",null,null,"Host Club",null,null,null,null,null,{"$f":"$D$7","v":"UL"},"Scores",null,null,"UL",null,null,null,null,null,null,null,null,null,null,null,null,null,null,null,null,null,null,null,{"$f":"AI7","v":"Jeffery McMahon"}]
[null,null,null,null,{"$f":"Entries!K6","v":"DCU IV"},"UCD/ITC",{"$f":"Entries!K8","v":"DkIT IV"},"NUIM/GMIT",{"$f":"Entries!K10","v":"NUIG IV"},{"$f":"Entries!K11","v":"UL IV"},null,"Total","Lowest","League"]
[]
[null,"UL",null,null,null,null,null,null,null,null,null,"UL"]
[null,null,"Name","College","DCU IV","UCD/ITC IV","DkIT IV","NUIM/GMIT IV","NUIG IV","UL IV",null,"Total","Lowest","League total"]
[null,1,{"$f":"Singles!AD301","v":"Jeffery McMahon"},{"$f":"Singles!AE301","v":"UL"},{"$f":"Singles!AF301","v":409},{"$f":"Singles!AG301","v":406},{"$f":"Singles!AH301","v":432},{"$f":"Singles!AI301","v":436},{"$f":"Singles!AJ301","v":420},{"$f":"Singles!AK301","v":427},null,{"$f":"Singles!AL93","v":2530},{"$f":"Singles!AM93","v":406},{"$f":"Singles!AN93","v":2124.0436432000001},null,null,null,null,null,null,null,null,null,null,null,null,null,null,null,null,null,null,null,null,{"$f":"C7","v":"Jeffery McMahon"}]
[null,2,{"$f":"Singles!AD302","v":"Tom McGrath"},{"$f":"Singles!AE302","v":"NUIG"},{"$f":"Singles!AF302","v":398},{"$f":"Singles!AG302","v":304},{"$f":"Singles!AH302","v":411},{"$f":"Singles!AI302","v":306},{"$f":"Singles!AJ302","v":430},{"$f":"Singles!AK302","v":345},null,{"$f":"Singles!AL94","v":2194},{"$f":"Singles!AM94","v":304},{"$f":"Singles!AN94","v":1890.0430411},null,null,null,null,null,null,null,null,null,null,null,null,null,null,null,null,null,null,null,null,"Tom McGrath"]
[null,3,{"$f":"Singles!AD303","v":"David Price"},{"$f":"Singles!AE303","v":"ITC"},{"$f":"Singles!AF303","v":220},{"$f":"Singles!AG303","v":145},{"$f":"Singles!AH303","v":318},{"$f":"Singles!AI303","v":381},{"$f":"Singles!AJ303","v":396},{"$f":"Singles!AK303","v":445},null,{"$f":"Singles!AL95","v":1905},{"$f":"Singles!AM95","v":145},{"$f":"Singles!AN95","v":1760.0396381},null,null,null,null,null,null,null,null,null,null,null,null,null,null,null,null,null,null,null,null,"David Price"]
[null,4,{"$f":"Singles!AD304","v":"Shane Hyland"},{"$f":"Singles!AE304","v":"GMIT"},{"$f":"Singles!AF304","v":322},{"$f":"Singles!AG304","v":269},{"$f":"Singles!AH304","v":378},{"$f":"Singles!AI304","v":179},{"$f":"Singles!AJ304","v":265},{"$f":"Singles!AK304","v":248},null,{"$f":"Singles!AL96","v":1661},{"$f":"Singles!AM96","v":179},{"$f":"Singles!AN96","v":1482.0378322000001},null,null,null,null,null,null,null,null,null,null,null,null,null,null,null,null,null,null,null,null,"Shane Hyland"]
[null,5,{"$f":"Singles!AD305","v":"Jericho Siababa"},{"$f":"Singles!AE305","v":"DCU"},{"$f":"Singles!AF305","v":301},{"$f":"Singles!AG305","v":381},{"$f":"Singles!AH305","v":0},{"$f":"Singles!AI305","v":325},{"$f":"Singles!AJ305","v":0},{"$f":"Singles!AK305","v":430},null,{"$f":"Singles!AL97","v":1437},{"$f":"Singles!AM97","v":0},{"$f":"Singles!AN97","v":1437.0381325000001},null,null,null,null,null,null,null,null,null,null,null,null,null,null,null,null,null,null,null,null,"Jericho Siababa"]
[null,6,{"$f":"Singles!AD306","v":"Sean Brogan"},{"$f":"Singles!AE306","v":"NUIG"},{"$f":"Singles!AF306","v":0},{"$f":"Singles!AG306","v":317},{"$f":"Singles!AH306","v":389},{"$f":"Singles!AI306","v":306},{"$f":"Singles!AJ306","v":0},{"$f":"Singles!AK306","v":276},null,{"$f":"Singles!AL98","v":1288},{"$f":"Singles!AM98","v":0},{"$f":"Singles!AN98","v":1288.0389316999999},null,null,null,null,null,null,null,null,null,null,null,null,null,null,null,null,null,null,null,null,"Sean Brogan"]
[null,7,{"$f":"Singles!AD307","v":"Darren Griffin"},{"$f":"Singles!AE307","v":"GMITC"},{"$f":"Singles!AF307","v":309},{"$f":"Singles!AG307","v":0},{"$f":"Singles!AH307","v":419},{"$f":"Singles!AI307","v":0},{"$f":"Singles!AJ307","v":359},{"$f":"Singles!AK307","v":0},null,{"$f":"Singles!AL99","v":1087},{"$f":"Singles!AM99","v":0},{"$f":"Singles!AN99","v":1087.0419359},null,null,null,null,null,null,null,null,null,null,null,null,null,null,null,null,null,null,null,null,"Darren Griffin"]
[null,8,{"$f":"Singles!AD308","v":"Paul Dixon"},{"$f":"Singles!AE308","v":"GMITC"},{"$f":"Singles!AF308","v":0},{"$f":"Singles!AG308","v":0},{"$f":"Singles!AH308","v":304},{"$f":"Singles!AI308","v":405},{"$f":"Singles!AJ308","v":0},{"$f":"Singles!AK308","v":274},null,{"$f":"Singles!AL100","v":983},{"$f":"Singles!AM100","v":0},{"$f":"Singles!AN100","v":983.04053039999997},null,null,null,null,null,null,null,null,null,null,null,null,null,null,null,null,null,null,null,null,"Paul Dixon"]
[null,9,{"$f":"Singles!AD309","v":"Stephen Sheppard"},{"$f":"Singles!AE309","v":"ITC"},{"$f":"Singles!AF309","v":303},{"$f":"Singles!AG309","v":259},{"$f":"Singles!AH309","v":415},{"$f":"Singles!AI309","v":0},{"$f":"Singles!AJ309","v":0},{"$f":"Singles!AK309","v":0},null,{"$f":"Singles!AL101","v":977},{"$f":"Singles!AM101","v":0},{"$f":"Singles!AN101","v":977.04153030000009},null,null,null,null,null,null,null,null,null,null,null,null,null,null,null,null,null,null,null,null,"Stephen Sheppard"]
[null,10,{"$f":"Singles!AD310","v":"Andrew Warrington"},{"$f":"Singles!AE310","v":"GMITC"},{"$f":"Singles!AF310","v":0},{"$f":"Singles!AG310","v":281},{"$f":"Singles!AH310","v":0},{"$f":"Singles!AI310","v":287},{"$f":"Singles!AJ310","v":0},{"$f":"Singles!AK310","v":380},null,{"$f":"Singles!AL102","v":948},{"$f":"Singles!AM102","v":0},{"$f":"Singles!AN102","v":948.02872809999997},null,null,null,null,null,null,null,null,null,null,null,null,null,null,null,null,null,null,null,null,"Andrew Warrington"]
[null,11,{"$f":"Singles!AD311","v":"Carlton Bennett"},{"$f":"Singles!AE311","v":"GMITC"},{"$f":"Singles!AF311","v":0},{"$f":"Singles!AG311","v":0},{"$f":"Singles!AH311","v":0},{"$f":"Singles!AI311","v":269},{"$f":"Singles!AJ311","v":283},{"$f":"Singles!AK311","v":326},null,{"$f":"Singles!AL103","v":878},{"$f":"Singles!AM103","v":0},{"$f":"Singles!AN103","v":878.02832689999991},null,null,null,null,null,null,null,null,null,null,null,null,null,null,null,null,null,null,null,null,"Carlton Bennett"]
[null,12,{"$f":"Singles!AD312","v":"Dara MacEoin"},{"$f":"Singles!AE312","v":"NUIG"},{"$f":"Singles!AF312","v":241},{"$f":"Singles!AG312","v":0},{"$f":"Singles!AH312","v":284},{"$f":"Singles!AI312","v":267},{"$f":"Singles!AJ312","v":0},{"$f":"Singles!AK312","v":0},null,{"$f":"Singles!AL104","v":792},{"$f":"Singles!AM104","v":0},{"$f":"Singles!AN104","v":792.02842670000007},null,null,null,null,null,null,null,null,null,null,null,null,null,null,null,null,null,null,null,null,"Dara MacEoin"]
[null,13,{"$f":"Singles!AD313","v":"Sam Schultz"},{"$f":"Singles!AE313","v":"NUIG"},{"$f":"Singles!AF313","v":0},{"$f":"Singles!AG313","v":0},{"$f":"Singles!AH313","v":356},{"$f":"Singles!AI313","v":0},{"$f":"Singles!AJ313","v":434},{"$f":"Singles!AK313","v":0},null,{"$f":"Singles!AL105","v":790},{"$f":"Singles!AM105","v":0},{"$f":"Singles!AN105","v":790.04343560000007},null,null,null,null,null,null,null,null,null,null,null,null,null,null,null,null,null,null,null,null,"Sam Schultz"]
[null,14,{"$f":"Singles!AD314","v":"Alan Gibbons"},{"$f":"Singles!AE314","v":"GMITC"},{"$f":"Singles!AF314","v":0},{"$f":"Singles!AG314","v":0},{"$f":"Singles!AH314","v":414},{"$f":"Singles!AI314","v":0},{"$f":"Singles!AJ314","v":0},{"$f":"Singles!AK314","v":367},null,{"$f":"Singles!AL106","v":781},{"$f":"Singles!AM106","v":0},{"$f":"Singles!AN106","v":781.04139999999995},null,null,null,null,null,null,null,null,null,null,null,null,null,null,null,null,null,null,null,null,"Alan Gibbons"]
[null,15,{"$f":"Singles!AD315","v":"Liam Maloney"},{"$f":"Singles!AE315","v":"ITC"},{"$f":"Singles!AF315","v":0},{"$f":"Singles!AG315","v":0},{"$f":"Singles!AH315","v":377},{"$f":"Singles!AI315","v":0},{"$f":"Singles!AJ315","v":400},{"$f":"Singles!AK315","v":0},null,{"$f":"Singles!AL107","v":777},{"$f":"Singles!AM107","v":0},{"$f":"Singles!AN107","v":777.04003769999997},null,null,null,null,null,null,null,null,null,null,null,null,null,null,null,null,null,null,null,null,"Liam Maloney"]
[null,16,{"$f":"Singles!AD316","v":"Derek Naughton"},{"$f":"Singles!AE316","v":"NUIG"},{"$f":"Singles!AF316","v":0},{"$f":"Singles!AG316","v":0},{"$f":"Singles!AH316","v":0},{"$f":"Singles!AI316","v":0},{"$f":"Singles!AJ316","v":389},{"$f":"Singles!AK316","v":336},null,{"$f":"Singles!AL108","v":725},{"$f":"Singles!AM108","v":0},{"$f":"Singles!AN108","v":725.03890000000001},null,null,null,null,null,null,null,null,null,null,null,null,null,null,null,null,null,null,null,null,"Derek Naughton"]
[null,17,{"$f":"Singles!AD317","v":"Jay Mc Carron"},{"$f":"Singles!AE317","v":"GMIT"},{"$f":"Singles!AF317","v":370},{"$f":"Singles!AG317","v":118},{"$f":"Singles!AH317","v":0},{"$f":"Singles!AI317","v":210},{"$f":"Singles!AJ317","v":0},{"$f":"Singles!AK317","v":0},null,{"$f":"Singles!AL109","v":698},{"$f":"Singles!AM109","v":0},{"$f":"Singles!AN109","v":698.03702099999998},null,null,null,null,null,null,null,null,null,null,null,null,null,null,null,null,null,null,null,null,"Jay Mc Carron"]
[null,18,{"$f":"Singles!AD318","v":"John O'Toole"},{"$f":"Singles!AE318","v":"NUIM"},{"$f":"Singles!AF318","v":0},{"$f":"Singles!AG318","v":0},{"$f":"Singles!AH318","v":0},{"$f":"Singles!AI318","v":332},{"$f":"Singles!AJ318","v":0},{"$f":"Singles!AK318","v":344},null,{"$f":"Singles!AL110","v":676},{"$f":"Singles!AM110","v":0},{"$f":"Singles!AN110","v":676.03319999999997},null,null,null,null,null,null,null,null,null,null,null,null,null,null,null,null,null,null,null,null,"John O'Toole"]
[null,19,{"$f":"Singles!AD319","v":"Tony Keane"},{"$f":"Singles!AE319","v":"GMITC"},{"$f":"Singles!AF319","v":0},{"$f":"Singles!AG319","v":0},{"$f":"Singles!AH319","v":0},{"$f":"Singles!AI319","v":312},{"$f":"Singles!AJ319","v":0},{"$f":"Singles!AK319","v":359},null,{"$f":"Singles!AL111","v":671},{"$f":"Singles!AM111","v":0},{"$f":"Singles!AN111","v":671.03120000000001},null,null,null,null,null,null,null,null,null,null,null,null,null,null,null,null,null,null,null,null,"Tony Keane"]
[null,20,{"$f":"Singles!AD320","v":"Marc Creehan"},{"$f":"Singles!AE320","v":"UCC"},{"$f":"Singles!AF320","v":0},{"$f":"Singles!AG320","v":0},{"$f":"Singles!AH320","v":259},{"$f":"Singles!AI320","v":0},{"$f":"Singles!AJ320","v":161},{"$f":"Singles!AK320","v":246},null,{"$f":"Singles!AL112","v":666},{"$f":"Singles!AM112","v":0},{"$f":"Singles!AN112","v":666.02591610000002},null,null,null,null,null,null,null,null,null,null,null,null,null,null,null,null,null,null,null,null,"Marc Creehan"]
[null,21,{"$f":"Singles!AD321","v":"David Doyle"},{"$f":"Singles!AE321","v":"NUIM"},{"$f":"Singles!AF321","v":0},{"$f":"Singles!AG321","v":0},{"$f":"Singles!AH321","v":0},{"$f":"Singles!AI321","v":0},{"$f":"Singles!AJ321","v":331},{"$f":"Singles!AK321","v":277},null,{"$f":"Singles!AL113","v":608},{"$f":"Singles!AM113","v":0},{"$f":"Singles!AN113","v":608.03309999999999},null,null,null,null,null,null,null,null,null,null,null,null,null,null,null,null,null,null,null,null,"David Doyle"]
[null,22,{"$f":"Singles!AD322","v":"Aiman Rahim"},{"$f":"Singles!AE322","v":"RCSI"},{"$f":"Singles!AF322","v":331},{"$f":"Singles!AG322","v":0},{"$f":"Singles!AH322","v":0},{"$f":"Singles!AI322","v":0},{"$f":"Singles!AJ322","v":0},{"$f":"Singles!AK322","v":216},null,{"$f":"Singles!AL114","v":547},{"$f":"Singles!AM114","v":0},{"$f":"Singles!AN114","v":547.03309999999999},null,null,null,null,null,null,null,null,null,null,null,null,null,null,null,null,null,null,null,null,"Aiman Rahim"]
[null,23,{"$f":"Singles!AD323","v":"Daeln Murphy"},{"$f":"Singles!AE323","v":"DCU"},{"$f":"Singles!AF323","v":216},{"$f":"Singles!AG323","v":292},{"$f":"Singles!AH323","v":0},{"$f":"Singles!AI323","v":0},{"$f":"Singles!AJ323","v":0},{"$f":"Singles!AK323","v":0},null,{"$f":"Singles!AL115","v":508},{"$f":"Singles!AM115","v":0},{"$f":"Singles!AN115","v":508.02922160000003},null,null,null,null,null,null,null,null,null,null,null,null,null,null,null,null,null,null,null,null,"Daeln Murphy"]
[null,24,{"$f":"Singles!AD324","v":"Brian Breslin"},{"$f":"Singles!AE324","v":"ITC"},{"$f":"Singles!AF324","v":224},{"$f":"Singles!AG324","v":227},{"$f":"Singles!AH324","v":0},{"$f":"Singles!AI324","v":0},{"$f":"Singles!AJ324","v":0},{"$f":"Singles!AK324","v":0},null,{"$f":"Singles!AL116","v":451},{"$f":"Singles!AM116","v":0},{"$f":"Singles!AN116","v":451.02272239999996},null,null,null,null,null,null,null,null,null,null,null,null,null,null,null,null,null,null,null,null,"Brian Breslin"]
[null,25,{"$f":"Singles!AD325","v":"Alan Sheppard"},{"$f":"Singles!AE325","v":"ITC"},{"$f":"Singles!AF325","v":187},{"$f":"Singles!AG325","v":248},{"$f":"Singles!AH325","v":0},{"$f":"Singles!AI325","v":0},{"$f":"Singles!AJ325","v":0},{"$f":"Singles!AK325","v":0},null,{"$f":"Singles!AL117","v":435},{"$f":"Singles!AM117","v":0},{"$f":"Singles!AN117","v":435.02481870000003},null,null,null,null,null,null,null,null,null,null,null,null,null,null,null,null,null,null,null,null,"Alan Sheppard"]
[null,26,{"$f":"Singles!AD326","v":"Gary Smith"},{"$f":"Singles!AE326","v":"IT Tallaght"},{"$f":"Singles!AF326","v":0},{"$f":"Singles!AG326","v":0},{"$f":"Singles!AH326","v":0},{"$f":"Singles!AI326","v":0},{"$f":"Singles!AJ326","v":0},{"$f":"Singles!AK326","v":331},null,{"$f":"Singles!AL118","v":331},{"$f":"Singles!AM118","v":0},{"$f":"Singles!AN118","v":331},null,null,null,null,null,null,null,null,null,null,null,null,null,null,null,null,null,null,null,null,"Gary Smith"]
[null,27,{"$f":"Singles!AD327","v":"Nik Idlan Faiq"},{"$f":"Singles!AE327","v":"RCSI"},{"$f":"Singles!AF327","v":0},{"$f":"Singles!AG327","v":174},{"$f":"Singles!AH327","v":0},{"$f":"Singles!AI327","v":0},{"$f":"Singles!AJ327","v":0},{"$f":"Singles!AK327","v":108},null,{"$f":"Singles!AL119","v":282},{"$f":"Singles!AM119","v":0},{"$f":"Singles!AN119","v":282.01740000000001},null,null,null,null,null,null,null,null,null,null,null,null,null,null,null,null,null,null,null,null,"Nik Idlan Faiq"]
[null,28,{"$f":"Singles!AD328","v":"Eamonn Dunleavy"},{"$f":"Singles!AE328","v":"GMITC"},{"$f":"Singles!AF328","v":0},{"$f":"Singles!AG328","v":280},{"$f":"Singles!AH328","v":0},{"$f":"Singles!AI328","v":0},{"$f":"Singles!AJ328","v":0},{"$f":"Singles!AK328","v":0},null,{"$f":"Singles!AL120","v":280},{"$f":"Singles!AM120","v":0},{"$f":"Singles!AN120","v":280.02800000000002},null,null,null,null,null,null,null,null,null,null,null,null,null,null,null,null,null,null,null,null,"Eamonn Dunleavy"]
[null,29,{"$f":"Singles!AD329","v":"Marco Tulios"},{"$f":"Singles!AE329","v":"GMITC"},{"$f":"Singles!AF329","v":0},{"$f":"Singles!AG329","v":0},{"$f":"Singles!AH329","v":0},{"$f":"Singles!AI329","v":0},{"$f":"Singles!AJ329","v":279},{"$f":"Singles!AK329","v":0},null,{"$f":"Singles!AL121","v":279},{"$f":"Singles!AM121","v":0},{"$f":"Singles!AN121","v":279.02789999999999},null,null,null,null,null,null,null,null,null,null,null,null,null,null,null,null,null,null,null,null,"Marco Tulios"]
[null,30,{"$f":"Singles!AD330","v":"conor watkins"},{"$f":"Singles!AE330","v":"UL"},{"$f":"Singles!AF330","v":278},{"$f":"Singles!AG330","v":0},{"$f":"Singles!AH330","v":0},{"$f":"Singles!AI330","v":0},{"$f":"Singles!AJ330","v":0},{"$f":"Singles!AK330","v":0},null,{"$f":"Singles!AL122","v":278},{"$f":"Singles!AM122","v":0},{"$f":"Singles!AN122","v":278.02780000000001},null,null,null,null,null,null,null,null,null,null,null,null,null,null,null,null,null,null,null,null,"conor watkins"]
[null,31,{"$f":"Singles!AD331","v":"Omar Mustafa"},{"$f":"Singles!AE331","v":"NUIG"},{"$f":"Singles!AF331","v":0},{"$f":"Singles!AG331","v":0},{"$f":"Singles!AH331","v":0},{"$f":"Singles!AI331","v":0},{"$f":"Singles!AJ331","v":270},{"$f":"Singles!AK331","v":0},null,{"$f":"Singles!AL123","v":270},{"$f":"Singles!AM123","v":0},{"$f":"Singles!AN123","v":270.02699999999999},null,null,null,null,null,null,null,null,null,null,null,null,null,null,null,null,null,null,null,null,"Omar Mustafa"]
[null,32,{"$f":"Singles!AD332","v":"Kevin May"},{"$f":"Singles!AE332","v":"RCSI"},{"$f":"Singles!AF332","v":254},{"$f":"Singles!AG332","v":0},{"$f":"Singles!AH332","v":0},{"$f":"Singles!AI332","v":0},{"$f":"Singles!AJ332","v":0},{"$f":"Singles!AK332","v":0},null,{"$f":"Singles!AL124","v":254},{"$f":"Singles!AM124","v":0},{"$f":"Singles!AN124","v":254.02539999999999},null,null,null,null,null,null,null,null,null,null,null,null,null,null,null,null,null,null,null,null,"Kevin May"]
[null,33,{"$f":"Singles!AD333","v":"Eammon McGrory"},{"$f":"Singles!AE333","v":"NUIM"},{"$f":"Singles!AF333","v":0},{"$f":"Singles!AG333","v":239},{"$f":"Singles!AH333","v":0},{"$f":"Singles!AI333","v":0},{"$f":"Singles!AJ333","v":0},{"$f":"Singles!AK333","v":0},null,{"$f":"Singles!AL125","v":239},{"$f":"Singles!AM125","v":0},{"$f":"Singles!AN125","v":239.0239},null,null,null,null,null,null,null,null,null,null,null,null,null,null,null,null,null,null,null,null,{"$f":"C39","v":"Eammon McGrory"}]
[null,34,{"$f":"Singles!AD334","v":"Simon Lavin"},{"$f":"Singles!AE334","v":"GMITC"},{"$f":"Singles!AF334","v":0},{"$f":"Singles!AG334","v":0},{"$f":"Singles!AH334","v":0},{"$f":"Singles!AI334","v":232},{"$f":"Singles!AJ334","v":0},{"$f":"Singles!AK334","v":0},null,{"$f":"Singles!AL126","v":232},{"$f":"Singles!AM126","v":0},{"$f":"Singles!AN126","v":232.0232},null,null,null,null,null,null,null,null,null,null,null,null,null,null,null,null,null,null,null,null,"Simon Lavin"]
[null,35,{"$f":"Singles!AD335","v":"Jonathan Cassidy"},{"$f":"Singles!AE335","v":"NUIG"},{"$f":"Singles!AF335","v":0},{"$f":"Singles!AG335","v":0},{"$f":"Singles!AH335","v":0},{"$f":"Singles!AI335","v":0},{"$f":"Singles!AJ335","v":229},{"$f":"Singles!AK335","v":0},null,{"$f":"Singles!AL127","v":229},{"$f":"Singles!AM127","v":0},{"$f":"Singles!AN127","v":229.02289999999999},null,null,null,null,null,null,null,null,null,null,null,null,null,null,null,null,null,null,null,null,"Jonathan Cassidy"]
[null,36,{"$f":"Singles!AD336","v":"Robert Dore"},{"$f":"Singles!AE336","v":"IT Tallaght"},{"$f":"Singles!AF336","v":0},{"$f":"Singles!AG336","v":0},{"$f":"Singles!AH336","v":0},{"$f":"Singles!AI336","v":223},{"$f":"Singles!AJ336","v":0},{"$f":"Singles!AK336","v":0},null,{"$f":"Singles!AL128","v":223},{"$f":"Singles!AM128","v":0},{"$f":"Singles!AN128","v":223.0223},null,null,null,null,null,null,null,null,null,null,null,null,null,null,null,null,null,null,null,null,"Robert Dore"]
[null,37,{"$f":"Singles!AD337","v":"Lukas Frese"},{"$f":"Singles!AE337","v":"UCD"},{"$f":"Singles!AF337","v":0},{"$f":"Singles!AG337","v":0},{"$f":"Singles!AH337","v":0},{"$f":"Singles!AI337","v":0},{"$f":"Singles!AJ337","v":0},{"$f":"Singles!AK337","v":204},null,{"$f":"Singles!AL129","v":204},{"$f":"Singles!AM129","v":0},{"$f":"Singles!AN129","v":204},null,null,null,null,null,null,null,null,null,null,null,null,null,null,null,null,null,null,null,null,"Lukas Frese"]
[null,38,{"$f":"Singles!AD338","v":"Keelan Bancroft "},{"$f":"Singles!AE338","v":"GMITC"},{"$f":"Singles!AF338","v":0},{"$f":"Singles!AG338","v":0},{"$f":"Singles!AH338","v":0},{"$f":"Singles!AI338","v":0},{"$f":"Singles!AJ338","v":0},{"$f":"Singles!AK338","v":147},null,{"$f":"Singles!AL130","v":147},{"$f":"Singles!AM130","v":0},{"$f":"Singles!AN130","v":147},null,null,null,null,null,null,null,null,null,null,null,null,null,null,null,null,null,null,null,null,"Keelan Bancroft "]
[null,39,{"$f":"Singles!AD339","v":"Arief Naimun"},{"$f":"Singles!AE339","v":"RCSI"},{"$f":"Singles!AF339","v":0},{"$f":"Singles!AG339","v":0},{"$f":"Singles!AH339","v":0},{"$f":"Singles!AI339","v":143},{"$f":"Singles!AJ339","v":0},{"$f":"Singles!AK339","v":0},null,{"$f":"Singles!AL131","v":143},{"$f":"Singles!AM131","v":0},{"$f":"Singles!AN131","v":143.01429999999999},null,null,null,null,null,null,null,null,null,null,null,null,null,null,null,null,null,null,null,null,"Arief Naimun"]
[null,40,{"$f":"Singles!AD340","v":"Derek Dooley"},{"$f":"Singles!AE340","v":"GMITC"},{"$f":"Singles!AF340","v":0},{"$f":"Singles!AG340","v":0},{"$f":"Singles!AH340","v":0},{"$f":"Singles!AI340","v":136},{"$f":"Singles!AJ340","v":0},{"$f":"Singles!AK340","v":0},null,{"$f":"Singles!AL132","v":136},{"$f":"Singles!AM132","v":0},{"$f":"Singles!AN132","v":136.0136},null,null,null,null,null,null,null,null,null,null,null,null,null,null,null,null,null,null,null,null,"Derek Dooley"]
[null,41,{"$f":"Singles!AD341","v":"Paul Fox"},{"$f":"Singles!AE341","v":"RCSI"},{"$f":"Singles!AF341","v":0},{"$f":"Singles!AG341","v":0},{"$f":"Singles!AH341","v":0},{"$f":"Singles!AI341","v":131},{"$f":"Singles!AJ341","v":0},{"$f":"Singles!AK341","v":0},null,{"$f":"Singles!AL133","v":131},{"$f":"Singles!AM133","v":0},{"$f":"Singles!AN133","v":131.01310000000001},null,null,null,null,null,null,null,null,null,null,null,null,null,null,null,null,null,null,null,null,"Paul Fox"]
[null,42,{"$f":"Singles!AD342","v":"Craig Hill"},{"$f":"Singles!AE342","v":"GMITC"},{"$f":"Singles!AF342","v":0},{"$f":"Singles!AG342","v":0},{"$f":"Singles!AH342","v":0},{"$f":"Singles!AI342","v":0},{"$f":"Singles!AJ342","v":123},{"$f":"Singles!AK342","v":0},null,{"$f":"Singles!AL134","v":123},{"$f":"Singles!AM134","v":0},{"$f":"Singles!AN134","v":123.0123},null,null,null,null,null,null,null,null,null,null,null,null,null,null,null,null,null,null,null,null,"Craig Hill"]
[null,43,{"$f":"Singles!AD343","v":"Cody Meadows"},{"$f":"Singles!AE343","v":"NUIG"},{"$f":"Singles!AF343","v":0},{"$f":"Singles!AG343","v":0},{"$f":"Singles!AH343","v":0},{"$f":"Singles!AI343","v":0},{"$f":"Singles!AJ343","v":105},{"$f":"Singles!AK343","v":0},null,{"$f":"Singles!AL135","v":105},{"$f":"Singles!AM135","v":0},{"$f":"Singles!AN135","v":105.01049999999999},null,null,null,null,null,null,null,null,null,null,null,null,null,null,null,null,null,null,null,null,"Cody Meadows"]
[null,44,{"$f":"Singles!AD344","v":0},{"$f":"Singles!AE344","v":"TBC"},{"$f":"Singles!AF344","v":"TBC"},{"$f":"Singles!AG344","v":"TBC"},{"$f":"Singles!AH344","v":"TBC"},{"$f":"Singles!AI344","v":"TBC"},{"$f":"Singles!AJ344","v":"TBC"},{"$f":"Singles!AK344","v":"TBC"},null,{"$f":"Singles!AL136","v":0},{"$f":"Singles!AM136","v":0},{"$f":"Singles!AN136","v":0},null,null,null,null,null,null,null,null,null,null,null,null,null,null,null,null,null,null,null,null,0]
[null,45,{"$f":"Singles!AD345","v":0},{"$f":"Singles!AE345","v":"TBC"},{"$f":"Singles!AF345","v":"TBC"},{"$f":"Singles!AG345","v":"TBC"},{"$f":"Singles!AH345","v":"TBC"},{"$f":"Singles!AI345","v":"TBC"},{"$f":"Singles!AJ345","v":"TBC"},{"$f":"Singles!AK345","v":"TBC"},null,{"$f":"Singles!AL137","v":0},{"$f":"Singles!AM137","v":0},{"$f":"Singles!AN137","v":0},null,null,null,null,null,null,null,null,null,null,null,null,null,null,null,null,null,null,null,null,0]
[null,46,{"$f":"Singles!AD346","v":0},{"$f":"Singles!AE346","v":"TBC"},{"$f":"Singles!AF346","v":"TBC"},{"$f":"Singles!AG346","v":"TBC"},{"$f":"Singles!AH346","v":"TBC"},{"$f":"Singles!AI346","v":"TBC"},{"$f":"Singles!AJ346","v":"TBC"},{"$f":"Singles!AK346","v":"TBC"},null,{"$f":"Singles!AL138","v":0},{"$f":"Singles!AM138","v":0},{"$f":"Singles!AN138","v":0},null,null,null,null,null,null,null,null,null,null,null,null,null,null,null,null,null,null,null,null,0]
[null,47,{"$f":"Singles!AD347","v":0},{"$f":"Singles!AE347","v":"TBC"},{"$f":"Singles!AF347","v":"TBC"},{"$f":"Singles!AG347","v":"TBC"},{"$f":"Singles!AH347","v":"TBC"},{"$f":"Singles!AI347","v":"TBC"},{"$f":"Singles!AJ347","v":"TBC"},{"$f":"Singles!AK347","v":"TBC"},null,{"$f":"Singles!AL139","v":0},{"$f":"Singles!AM139","v":0},{"$f":"Singles!AN139","v":0},null,null,null,null,null,null,null,null,null,null,null,null,null,null,null,null,null,null,null,null,0]
[null,48,{"$f":"Singles!AD348","v":0},{"$f":"Singles!AE348","v":"TBC"},{"$f":"Singles!AF348","v":"TBC"},{"$f":"Singles!AG348","v":"TBC"},{"$f":"Singles!AH348","v":"TBC"},{"$f":"Singles!AI348","v":"TBC"},{"$f":"Singles!AJ348","v":"TBC"},{"$f":"Singles!AK348","v":"TBC"},null,{"$f":"Singles!AL140","v":0},{"$f":"Singles!AM140","v":0},{"$f":"Singles!AN140","v":0},null,null,null,null,null,null,null,null,null,null,null,null,null,null,null,null,null,null,null,null,0]
[null,49,{"$f":"Singles!AD349","v":0},{"$f":"Singles!AE349","v":"TBC"},{"$f":"Singles!AF349","v":"TBC"},{"$f":"Singles!AG349","v":"TBC"},{"$f":"Singles!AH349","v":"TBC"},{"$f":"Singles!AI349","v":"TBC"},{"$f":"Singles!AJ349","v":"TBC"},{"$f":"Singles!AK349","v":"TBC"},null,{"$f":"Singles!AL141","v":0},{"$f":"Singles!AM141","v":0},{"$f":"Singles!AN141","v":0},null,null,null,null,null,null,null,null,null,null,null,null,null,null,null,null,null,null,null,null,0]
[null,50,{"$f":"Singles!AD350","v":0},{"$f":"Singles!AE350","v":"TBC"},{"$f":"Singles!AF350","v":"TBC"},{"$f":"Singles!AG350","v":"TBC"},{"$f":"Singles!AH350","v":"TBC"},{"$f":"Singles!AI350","v":"TBC"},{"$f":"Singles!AJ350","v":"TBC"},{"$f":"Singles!AK350","v":"TBC"},null,{"$f":"Singles!AL142","v":0},{"$f":"Singles!AM142","v":0},{"$f":"Singles!AN142","v":0},null,null,null,null,null,null,null,null,null,null,null,null,null,null,null,null,null,null,null,null,0]
[null,51,{"$f":"Singles!AD351","v":0},{"$f":"Singles!AE351","v":"TBC"},{"$f":"Singles!AF351","v":"TBC"},{"$f":"Singles!AG351","v":"TBC"},{"$f":"Singles!AH351","v":"TBC"},{"$f":"Singles!AI351","v":"TBC"},{"$f":"Singles!AJ351","v":"TBC"},{"$f":"Singles!AK351","v":"TBC"},null,{"$f":"Singles!AL143","v":0},{"$f":"Singles!AM143","v":0},{"$f":"Singles!AN143","v":0},null,null,null,null,null,null,null,null,null,null,null,null,null,null,null,null,null,null,null,null,0]
[null,52,{"$f":"Singles!AD352","v":0},{"$f":"Singles!AE352","v":"TBC"},{"$f":"Singles!AF352","v":"TBC"},{"$f":"Singles!AG352","v":"TBC"},{"$f":"Singles!AH352","v":"TBC"},{"$f":"Singles!AI352","v":"TBC"},{"$f":"Singles!AJ352","v":"TBC"},{"$f":"Singles!AK352","v":"TBC"},null,{"$f":"Singles!AL144","v":0},{"$f":"Singles!AM144","v":0},{"$f":"Singles!AN144","v":0},null,null,null,null,null,null,null,null,null,null,null,null,null,null,null,null,null,null,null,null,0]
[null,53,{"$f":"Singles!AD353","v":0},{"$f":"Singles!AE353","v":"TBC"},{"$f":"Singles!AF353","v":"TBC"},{"$f":"Singles!AG353","v":"TBC"},{"$f":"Singles!AH353","v":"TBC"},{"$f":"Singles!AI353","v":"TBC"},{"$f":"Singles!AJ353","v":"TBC"},{"$f":"Singles!AK353","v":"TBC"},null,{"$f":"Singles!AL145","v":0},{"$f":"Singles!AM145","v":0},{"$f":"Singles!AN145","v":0},null,null,null,null,null,null,null,null,null,null,null,null,null,null,null,null,null,null,null,null,0]
[null,54,{"$f":"Singles!AD354","v":0},{"$f":"Singles!AE354","v":"TBC"},{"$f":"Singles!AF354","v":"TBC"},{"$f":"Singles!AG354","v":"TBC"},{"$f":"Singles!AH354","v":"TBC"},{"$f":"Singles!AI354","v":"TBC"},{"$f":"Singles!AJ354","v":"TBC"},{"$f":"Singles!AK354","v":"TBC"},null,{"$f":"Singles!AL146","v":0},{"$f":"Singles!AM146","v":0},{"$f":"Singles!AN146","v":0},null,null,null,null,null,null,null,null,null,null,null,null,null,null,null,null,null,null,null,null,0]
[null,55,{"$f":"Singles!AD355","v":0},{"$f":"Singles!AE355","v":"TBC"},{"$f":"Singles!AF355","v":"TBC"},{"$f":"Singles!AG355","v":"TBC"},{"$f":"Singles!AH355","v":"TBC"},{"$f":"Singles!AI355","v":"TBC"},{"$f":"Singles!AJ355","v":"TBC"},{"$f":"Singles!AK355","v":"TBC"},null,{"$f":"Singles!AL147","v":0},{"$f":"Singles!AM147","v":0},{"$f":"Singles!AN147","v":0},null,null,null,null,null,null,null,null,null,null,null,null,null,null,null,null,null,null,null,null,0]
[null,56,{"$f":"Singles!AD356","v":0},{"$f":"Singles!AE356","v":"TBC"},{"$f":"Singles!AF356","v":"TBC"},{"$f":"Singles!AG356","v":"TBC"},{"$f":"Singles!AH356","v":"TBC"},{"$f":"Singles!AI356","v":"TBC"},{"$f":"Singles!AJ356","v":"TBC"},{"$f":"Singles!AK356","v":"TBC"},null,{"$f":"Singles!AL148","v":0},{"$f":"Singles!AM148","v":0},{"$f":"Singles!AN148","v":0},null,null,null,null,null,null,null,null,null,null,null,null,null,null,null,null,null,null,null,null,0]
[null,57,{"$f":"Singles!AD357","v":0},{"$f":"Singles!AE357","v":"TBC"},{"$f":"Singles!AF357","v":"TBC"},{"$f":"Singles!AG357","v":"TBC"},{"$f":"Singles!AH357","v":"TBC"},{"$f":"Singles!AI357","v":"TBC"},{"$f":"Singles!AJ357","v":"TBC"},{"$f":"Singles!AK357","v":"TBC"},null,{"$f":"Singles!AL149","v":0},{"$f":"Singles!AM149","v":0},{"$f":"Singles!AN149","v":0},null,null,null,null,null,null,null,null,null,null,null,null,null,null,null,null,null,null,null,null,0]
[null,58,{"$f":"Singles!AD358","v":0},{"$f":"Singles!AE358","v":"TBC"},{"$f":"Singles!AF358","v":"TBC"},{"$f":"Singles!AG358","v":"TBC"},{"$f":"Singles!AH358","v":"TBC"},{"$f":"Singles!AI358","v":"TBC"},{"$f":"Singles!AJ358","v":"TBC"},{"$f":"Singles!AK358","v":"TBC"},null,{"$f":"Singles!AL150","v":0},{"$f":"Singles!AM150","v":0},{"$f":"Singles!AN150","v":0},null,null,null,null,null,null,null,null,null,null,null,null,null,null,null,null,null,null,null,null,0]
[null,59,{"$f":"Singles!AD359","v":0},{"$f":"Singles!AE359","v":"TBC"},{"$f":"Singles!AF359","v":"TBC"},{"$f":"Singles!AG359","v":"TBC"},{"$f":"Singles!AH359","v":"TBC"},{"$f":"Singles!AI359","v":"TBC"},{"$f":"Singles!AJ359","v":"TBC"},{"$f":"Singles!AK359","v":"TBC"},null,{"$f":"Singles!AL151","v":0},{"$f":"Singles!AM151","v":0},{"$f":"Singles!AN151","v":0},null,null,null,null,null,null,null,null,null,null,null,null,null,null,null,null,null,null,null,null,0]
[null,60,{"$f":"Singles!AD360","v":0},{"$f":"Singles!AE360","v":"TBC"},{"$f":"Singles!AF360","v":"TBC"},{"$f":"Singles!AG360","v":"TBC"},{"$f":"Singles!AH360","v":"TBC"},{"$f":"Singles!AI360","v":"TBC"},{"$f":"Singles!AJ360","v":"TBC"},{"$f":"Singles!AK360","v":"TBC"},null,{"$f":"Singles!AL152","v":0},{"$f":"Singles!AM152","v":0},{"$f":"Singles!AN152","v":0},null,null,null,null,null,null,null,null,null,null,null,null,null,null,null,null,null,null,null,null,0]
[null,61,{"$f":"Singles!AD361","v":0},{"$f":"Singles!AE361","v":"TBC"},{"$f":"Singles!AF361","v":"TBC"},{"$f":"Singles!AG361","v":"TBC"},{"$f":"Singles!AH361","v":"TBC"},{"$f":"Singles!AI361","v":"TBC"},{"$f":"Singles!AJ361","v":"TBC"},{"$f":"Singles!AK361","v":"TBC"},null,{"$f":"Singles!AL153","v":0},{"$f":"Singles!AM153","v":0},{"$f":"Singles!AN153","v":0},null,null,null,null,null,null,null,null,null,null,null,null,null,null,null,null,null,null,null,null,0]
[null,62,{"$f":"Singles!AD362","v":0},{"$f":"Singles!AE362","v":"TBC"},{"$f":"Singles!AF362","v":"TBC"},{"$f":"Singles!AG362","v":"TBC"},{"$f":"Singles!AH362","v":"TBC"},{"$f":"Singles!AI362","v":"TBC"},{"$f":"Singles!AJ362","v":"TBC"},{"$f":"Singles!AK362","v":"TBC"},null,{"$f":"Singles!AL154","v":0},{"$f":"Singles!AM154","v":0},{"$f":"Singles!AN154","v":0},null,null,null,null,null,null,null,null,null,null,null,null,null,null,null,null,null,null,null,null,0]
[null,63,{"$f":"Singles!AD363","v":0},{"$f":"Singles!AE363","v":"TBC"},{"$f":"Singles!AF363","v":"TBC"},{"$f":"Singles!AG363","v":"TBC"},{"$f":"Singles!AH363","v":"TBC"},{"$f":"Singles!AI363","v":"TBC"},{"$f":"Singles!AJ363","v":"TBC"},{"$f":"Singles!AK363","v":"TBC"},null,{"$f":"Singles!AL155","v":0},{"$f":"Singles!AM155","v":0},{"$f":"Singles!AN155","v":0},null,null,null,null,null,null,null,null,null,null,null,null,null,null,null,null,null,null,null,null,0]
[null,64,{"$f":"Singles!AD364","v":0},{"$f":"Singles!AE364","v":"TBC"},{"$f":"Singles!AF364","v":"TBC"},{"$f":"Singles!AG364","v":"TBC"},{"$f":"Singles!AH364","v":"TBC"},{"$f":"Singles!AI364","v":"TBC"},{"$f":"Singles!AJ364","v":"TBC"},{"$f":"Singles!AK364","v":"TBC"},null,{"$f":"Singles!AL156","v":0},{"$f":"Singles!AM156","v":0},{"$f":"Singles!AN156","v":0},null,null,null,null,null,null,null,null,null,null,null,null,null,null,null,null,null,null,null,null,0]
[null,65,{"$f":"Singles!AD365","v":0},{"$f":"Singles!AE365","v":"TBC"},{"$f":"Singles!AF365","v":"TBC"},{"$f":"Singles!AG365","v":"TBC"},{"$f":"Singles!AH365","v":"TBC"},{"$f":"Singles!AI365","v":"TBC"},{"$f":"Singles!AJ365","v":"TBC"},{"$f":"Singles!AK365","v":"TBC"},null,{"$f":"Singles!AL157","v":0},{"$f":"Singles!AM157","v":0},{"$f":"Singles!AN157","v":0},null,null,null,null,null,null,null,null,null,null,null,null,null,null,null,null,null,null,null,null,0]
[null,66,{"$f":"Singles!AD366","v":0},{"$f":"Singles!AE366","v":"TBC"},{"$f":"Singles!AF366","v":"TBC"},{"$f":"Singles!AG366","v":"TBC"},{"$f":"Singles!AH366","v":"TBC"},{"$f":"Singles!AI366","v":"TBC"},{"$f":"Singles!AJ366","v":"TBC"},{"$f":"Singles!AK366","v":"TBC"},null,{"$f":"Singles!AL158","v":0},{"$f":"Singles!AM158","v":0},{"$f":"Singles!AN158","v":0},null,null,null,null,null,null,null,null,null,null,null,null,null,null,null,null,null,null,null,null,0]
[null,67,{"$f":"Singles!AD367","v":0},{"$f":"Singles!AE367","v":"TBC"},{"$f":"Singles!AF367","v":"TBC"},{"$f":"Singles!AG367","v":"TBC"},{"$f":"Singles!AH367","v":"TBC"},{"$f":"Singles!AI367","v":"TBC"},{"$f":"Singles!AJ367","v":"TBC"},{"$f":"Singles!AK367","v":"TBC"},null,{"$f":"Singles!AL159","v":0},{"$f":"Singles!AM159","v":0},{"$f":"Singles!AN159","v":0},null,null,null,null,null,null,null,null,null,null,null,null,null,null,null,null,null,null,null,null,0]
[null,68,{"$f":"Singles!AD368","v":0},{"$f":"Singles!AE368","v":"TBC"},{"$f":"Singles!AF368","v":"TBC"},{"$f":"Singles!AG368","v":"TBC"},{"$f":"Singles!AH368","v":"TBC"},{"$f":"Singles!AI368","v":"TBC"},{"$f":"Singles!AJ368","v":"TBC"},{"$f":"Singles!AK368","v":"TBC"},null,{"$f":"Singles!AL160","v":0},{"$f":"Singles!AM160","v":0},{"$f":"Singles!AN160","v":0},null,null,null,null,null,null,null,null,null,null,null,null,null,null,null,null,null,null,null,null,0]
[null,69,{"$f":"Singles!AD369","v":0},{"$f":"Singles!AE369","v":"TBC"},{"$f":"Singles!AF369","v":"TBC"},{"$f":"Singles!AG369","v":"TBC"},{"$f":"Singles!AH369","v":"TBC"},{"$f":"Singles!AI369","v":"TBC"},{"$f":"Singles!AJ369","v":"TBC"},{"$f":"Singles!AK369","v":"TBC"},null,{"$f":"Singles!AL161","v":0},{"$f":"Singles!AM161","v":0},{"$f":"Singles!AN161","v":0},null,null,null,null,null,null,null,null,null,null,null,null,null,null,null,null,null,null,null,null,0]
[null,70,{"$f":"Singles!AD370","v":0},{"$f":"Singles!AE370","v":"TBC"},{"$f":"Singles!AF370","v":"TBC"},{"$f":"Singles!AG370","v":"TBC"},{"$f":"Singles!AH370","v":"TBC"},{"$f":"Singles!AI370","v":"TBC"},{"$f":"Singles!AJ370","v":"TBC"},{"$f":"Singles!AK370","v":"TBC"},null,{"$f":"Singles!AL162","v":0},{"$f":"Singles!AM162","v":0},{"$f":"Singles!AN162","v":0},null,null,null,null,null,null,null,null,null,null,null,null,null,null,null,null,null,null,null,null,0]
[null,71,{"$f":"Singles!AD371","v":0},{"$f":"Singles!AE371","v":"TBC"},{"$f":"Singles!AF371","v":"TBC"},{"$f":"Singles!AG371","v":"TBC"},{"$f":"Singles!AH371","v":"TBC"},{"$f":"Singles!AI371","v":"TBC"},{"$f":"Singles!AJ371","v":"TBC"},{"$f":"Singles!AK371","v":"TBC"},null,{"$f":"Singles!AL163","v":0},{"$f":"Singles!AM163","v":0},{"$f":"Singles!AN163","v":0},null,null,null,null,null,null,null,null,null,null,null,null,null,null,null,null,null,null,null,null,0]
[null,72,{"$f":"Singles!AD372","v":0},{"$f":"Singles!AE372","v":"TBC"},{"$f":"Singles!AF372","v":"TBC"},{"$f":"Singles!AG372","v":"TBC"},{"$f":"Singles!AH372","v":"TBC"},{"$f":"Singles!AI372","v":"TBC"},{"$f":"Singles!AJ372","v":"TBC"},{"$f":"Singles!AK372","v":"TBC"},null,{"$f":"Singles!AL164","v":0},{"$f":"Singles!AM164","v":0},{"$f":"Singles!AN164","v":0},null,null,null,null,null,null,null,null,null,null,null,null,null,null,null,null,null,null,null,null,0]
[null,73,{"$f":"Singles!AD373","v":0},{"$f":"Singles!AE373","v":"TBC"},{"$f":"Singles!AF373","v":"TBC"},{"$f":"Singles!AG373","v":"TBC"},{"$f":"Singles!AH373","v":"TBC"},{"$f":"Singles!AI373","v":"TBC"},{"$f":"Singles!AJ373","v":"TBC"},{"$f":"Singles!AK373","v":"TBC"},null,{"$f":"Singles!AL165","v":0},{"$f":"Singles!AM165","v":0},{"$f":"Singles!AN165","v":0},null,null,null,null,null,null,null,null,null,null,null,null,null,null,null,null,null,null,null,null,0]
[null,74,{"$f":"Singles!AD374","v":0},{"$f":"Singles!AE374","v":"TBC"},{"$f":"Singles!AF374","v":"TBC"},{"$f":"Singles!AG374","v":"TBC"},{"$f":"Singles!AH374","v":"TBC"},{"$f":"Singles!AI374","v":"TBC"},{"$f":"Singles!AJ374","v":"TBC"},{"$f":"Singles!AK374","v":"TBC"},null,{"$f":"Singles!AL166","v":0},{"$f":"Singles!AM166","v":0},{"$f":"Singles!AN166","v":0},null,null,null,null,null,null,null,null,null,null,null,null,null,null,null,null,null,null,null,null,0]
[null,75,{"$f":"Singles!AD375","v":0},{"$f":"Singles!AE375","v":"TBC"},{"$f":"Singles!AF375","v":"TBC"},{"$f":"Singles!AG375","v":"TBC"},{"$f":"Singles!AH375","v":"TBC"},{"$f":"Singles!AI375","v":"TBC"},{"$f":"Singles!AJ375","v":"TBC"},{"$f":"Singles!AK375","v":"TBC"},null,{"$f":"Singles!AL167","v":0},{"$f":"Singles!AM167","v":0},{"$f":"Singles!AN167","v":0},null,null,null,null,null,null,null,null,null,null,null,null,null,null,null,null,null,null,null,null,0]
[{"$f":"$D$7","v":"UL"}]

{"sheet":"BAF","index":11,"n_rows":82,"n_cols":35,"rows_kept":82,"cut":false,"hidden":false,"merged":[[1,14,80,14],[81,0,81,14],[1,0,80,0],[0,0,0,14],[1,4,1,9],[1,11,1,13],[1,1,3,3],[2,11,3,11],[2,12,3,12],[2,13,3,13],[4,1,4,9],[4,11,4,13],[1,10,80,10]]}
[{"$f":"$D$7","v":"NUIM"}]
["NUIM","Female Advanced Barebow",null,null,"Host Club",null,null,null,null,null,{"$f":"$D$7","v":"NUIM"},"Scores",null,null,"NUIM",null,null,null,null,null,null,null,null,null,null,null,null,null,null,null,null,null,null,null,{"$f":"AI7","v":"Tami Baumann"}]
[null,null,null,null,{"$f":"Entries!K6","v":"DCU IV"},"UCD/ITC",{"$f":"Entries!K8","v":"DkIT IV"},"NUIM/GMIT",{"$f":"Entries!K10","v":"NUIG IV"},{"$f":"Entries!K11","v":"UL IV"},null,"Total","Lowest","League"]
[]
[null,"NUIM",null,null,null,null,null,null,null,null,null,"NUIM"]
[null,null,"Name","College","DCU IV","UCD/ITC IV","DkIT IV","NUIM/GMIT IV","NUIG IV","UL IV",null,"Total","Lowest","League total"]
[null,1,{"$f":"Singles!AR301","v":"Tami Baumann"},{"$f":"Singles!AS301","v":"NUIM"},{"$f":"Singles!AT301","v":361},{"$f":"Singles!AU301","v":378},{"$f":"Singles!AV301","v":0},{"$f":"Singles!AW301","v":421},{"$f":"Singles!AX301","v":469},{"$f":"Singles!AY301","v":356},null,{"$f":"Singles!AZ93","v":1985},{"$f":"Singles!BA93","v":0},{"$f":"Singles!BB93","v":1985.0469421},null,null,null,null,null,null,null,null,null,null,null,null,null,null,null,null,null,null,null,null,{"$f":"C7","v":"Tami Baumann"}]
[null,2,{"$f":"Singles!AR302","v":"Nada Khaled-Abdo"},{"$f":"Singles!AS302","v":"NUIG"},{"$f":"Singles!AT302","v":306},{"$f":"Singles!AU302","v":332},{"$f":"Singles!AV302","v":0},{"$f":"Singles!AW302","v":357},{"$f":"Singles!AX302","v":364},{"$f":"Singles!AY302","v":346},null,{"$f":"Singles!AZ94","v":1705},{"$f":"Singles!BA94","v":0},{"$f":"Singles!BB94","v":1705.0364356999999},null,null,null,null,null,null,null,null,null,null,null,null,null,null,null,null,null,null,null,null,"Nada Khaled-Abdo"]
[null,3,{"$f":"Singles!AR303","v":"Aoife Monaghan"},{"$f":"Singles!AS303","v":"GMIT"},{"$f":"Singles!AT303","v":0},{"$f":"Singles!AU303","v":231},{"$f":"Singles!AV303","v":253},{"$f":"Singles!AW303","v":274},{"$f":"Singles!AX303","v":314},{"$f":"Singles!AY303","v":319},null,{"$f":"Singles!AZ95","v":1391},{"$f":"Singles!BA95","v":0},{"$f":"Singles!BB95","v":1391.0314274},null,null,null,null,null,null,null,null,null,null,null,null,null,null,null,null,null,null,null,null,"Aoife Monaghan"]
[null,4,{"$f":"Singles!AR304","v":"Emily Flanagan"},{"$f":"Singles!AS304","v":"NUIG"},{"$f":"Singles!AT304","v":0},{"$f":"Singles!AU304","v":357},{"$f":"Singles!AV304","v":309},{"$f":"Singles!AW304","v":0},{"$f":"Singles!AX304","v":380},{"$f":"Singles!AY304","v":0},null,{"$f":"Singles!AZ96","v":1046},{"$f":"Singles!BA96","v":0},{"$f":"Singles!BB96","v":1046.0380356999999},null,null,null,null,null,null,null,null,null,null,null,null,null,null,null,null,null,null,null,null,"Emily Flanagan"]
[null,5,{"$f":"Singles!AR305","v":"Katrina Prakhova"},{"$f":"Singles!AS305","v":"ITC"},{"$f":"Singles!AT305","v":335},{"$f":"Singles!AU305","v":293},{"$f":"Singles!AV305","v":368},{"$f":"Singles!AW305","v":0},{"$f":"Singles!AX305","v":0},{"$f":"Singles!AY305","v":0},null,{"$f":"Singles!AZ97","v":996},{"$f":"Singles!BA97","v":0},{"$f":"Singles!BB97","v":996.03683349999994},null,null,null,null,null,null,null,null,null,null,null,null,null,null,null,null,null,null,null,null,"Katrina Prakhova"]
[null,6,{"$f":"Singles!AR306","v":"Raizel Burstein-Frame"},{"$f":"Singles!AS306","v":"NUIG"},{"$f":"Singles!AT306","v":0},{"$f":"Singles!AU306","v":0},{"$f":"Singles!AV306","v":187},{"$f":"Singles!AW306","v":0},{"$f":"Singles!AX306","v":254},{"$f":"Singles!AY306","v":317},null,{"$f":"Singles!AZ98","v":758},{"$f":"Singles!BA98","v":0},{"$f":"Singles!BB98","v":758.02541870000005},null,null,null,null,null,null,null,null,null,null,null,null,null,null,null,null,null,null,null,null,"Raizel Burstein-Frame"]
[null,7,{"$f":"Singles!AR307","v":"Jennifer Keegan"},{"$f":"Singles!AS307","v":"GMITC"},{"$f":"Singles!AT307","v":0},{"$f":"Singles!AU307","v":0},{"$f":"Singles!AV307","v":352},{"$f":"Singles!AW307","v":0},{"$f":"Singles!AX307","v":332},{"$f":"Singles!AY307","v":0},null,{"$f":"Singles!AZ99","v":684},{"$f":"Singles!BA99","v":0},{"$f":"Singles!BB99","v":684.03523319999999},null,null,null,null,null,null,null,null,null,null,null,null,null,null,null,null,null,null,null,null,"Jennifer Keegan"]
[null,8,{"$f":"Singles!AR308","v":"Caroline Greene"},{"$f":"Singles!AS308","v":"GMIT"},{"$f":"Singles!AT308","v":153},{"$f":"Singles!AU308","v":0},{"$f":"Singles!AV308","v":0},{"$f":"Singles!AW308","v":255},{"$f":"Singles!AX308","v":245},{"$f":"Singles!AY308","v":0},null,{"$f":"Singles!AZ100","v":653},{"$f":"Singles!BA100","v":0},{"$f":"Singles!BB100","v":653.02552449999996},null,null,null,null,null,null,null,null,null,null,null,null,null,null,null,null,null,null,null,null,"Caroline Greene"]
[null,9,{"$f":"Singles!AR309","v":"Kate Forte"},{"$f":"Singles!AS309","v":"NUIM"},{"$f":"Singles!AT309","v":0},{"$f":"Singles!AU309","v":0},{"$f":"Singles!AV309","v":0},{"$f":"Singles!AW309","v":210},{"$f":"Singles!AX309","v":0},{"$f":"Singles!AY309","v":348},null,{"$f":"Singles!AZ101","v":558},{"$f":"Singles!BA101","v":0},{"$f":"Singles!BB101","v":558.02099999999996},null,null,null,null,null,null,null,null,null,null,null,null,null,null,null,null,null,null,null,null,"Kate Forte"]
[null,10,{"$f":"Singles!AR310","v":"Wiebke Hasselmann"},{"$f":"Singles!AS310","v":"NUIG"},{"$f":"Singles!AT310","v":0},{"$f":"Singles!AU310","v":306},{"$f":"Singles!AV310","v":0},{"$f":"Singles!AW310","v":0},{"$f":"Singles!AX310","v":0},{"$f":"Singles!AY310","v":0},null,{"$f":"Singles!AZ102","v":306},{"$f":"Singles!BA102","v":0},{"$f":"Singles!BB102","v":306.03059999999999},null,null,null,null,null,null,null,null,null,null,null,null,null,null,null,null,null,null,null,null,"Wiebke Hasselmann"]
[null,11,{"$f":"Singles!AR311","v":"Tara Kilcommons"},{"$f":"Singles!AS311","v":"GMITC"},{"$f":"Singles!AT311","v":0},{"$f":"Singles!AU311","v":0},{"$f":"Singles!AV311","v":0},{"$f":"Singles!AW311","v":0},{"$f":"Singles!AX311","v":0},{"$f":"Singles!AY311","v":283},null,{"$f":"Singles!AZ103","v":283},{"$f":"Singles!BA103","v":0},{"$f":"Singles!BB103","v":283},null,null,null,null,null,null,null,null,null,null,null,null,null,null,null,null,null,null,null,null,"Tara Kilcommons"]
[null,12,{"$f":"Singles!AR312","v":"Abigail Miller"},{"$f":"Singles!AS312","v":"NUIG"},{"$f":"Singles!AT312","v":0},{"$f":"Singles!AU312","v":0},{"$f":"Singles!AV312","v":0},{"$f":"Singles!AW312","v":258},{"$f":"Singles!AX312","v":0},{"$f":"Singles!AY312","v":0},null,{"$f":"Singles!AZ104","v":258},{"$f":"Singles!BA104","v":0},{"$f":"Singles!BB104","v":258.0258},null,null,null,null,null,null,null,null,null,null,null,null,null,null,null,null,null,null,null,null,"Abigail Miller"]
[null,13,{"$f":"Singles!AR313","v":"Siobhan O'Connor"},{"$f":"Singles!AS313","v":"GMITC"},{"$f":"Singles!AT313","v":0},{"$f":"Singles!AU313","v":0},{"$f":"Singles!AV313","v":0},{"$f":"Singles!AW313","v":0},{"$f":"Singles!AX313","v":256},{"$f":"Singles!AY313","v":0},null,{"$f":"Singles!AZ105","v":256},{"$f":"Singles!BA105","v":0},{"$f":"Singles!BB105","v":256.0256},null,null,null,null,null,null,null,null,null,null,null,null,null,null,null,null,null,null,null,null,"Siobhan O'Connor"]
[null,14,{"$f":"Singles!AR314","v":"Karina Wrzesinska"},{"$f":"Singles!AS314","v":"IT Tallaght"},{"$f":"Singles!AT314","v":0},{"$f":"Singles!AU314","v":0},{"$f":"Singles!AV314","v":0},{"$f":"Singles!AW314","v":247},{"$f":"Singles!AX314","v":0},{"$f":"Singles!AY314","v":0},null,{"$f":"Singles!AZ106","v":247},{"$f":"Singles!BA106","v":0},{"$f":"Singles!BB106","v":247.0247},null,null,null,null,null,null,null,null,null,null,null,null,null,null,null,null,null,null,null,null,"Karina Wrzesinska"]
[null,15,{"$f":"Singles!AR315","v":0},{"$f":"Singles!AS315","v":"TBC"},{"$f":"Singles!AT315","v":"TBC"},{"$f":"Singles!AU315","v":"TBC"},{"$f":"Singles!AV315","v":"TBC"},{"$f":"Singles!AW315","v":"TBC"},{"$f":"Singles!AX315","v":"TBC"},{"$f":"Singles!AY315","v":"TBC"},null,{"$f":"Singles!AZ107","v":0},{"$f":"Singles!BA107","v":0},{"$f":"Singles!BB107","v":0},null,null,null,null,null,null,null,null,null,null,null,null,null,null,null,null,null,null,null,null,0]
[null,16,{"$f":"Singles!AR316","v":0},{"$f":"Singles!AS316","v":"TBC"},{"$f":"Singles!AT316","v":"TBC"},{"$f":"Singles!AU316","v":"TBC"},{"$f":"Singles!AV316","v":"TBC"},{"$f":"Singles!AW316","v":"TBC"},{"$f":"Singles!AX316","v":"TBC"},{"$f":"Singles!AY316","v":"TBC"},null,{"$f":"Singles!AZ108","v":0},{"$f":"Singles!BA108","v":0},{"$f":"Singles!BB108","v":0},null,null,null,null,null,null,null,null,null,null,null,null,null,null,null,null,null,null,null,null,0]
[null,17,{"$f":"Singles!AR317","v":0},{"$f":"Singles!AS317","v":"TBC"},{"$f":"Singles!AT317","v":"TBC"},{"$f":"Singles!AU317","v":"TBC"},{"$f":"Singles!AV317","v":"TBC"},{"$f":"Singles!AW317","v":"TBC"},{"$f":"Singles!AX317","v":"TBC"},{"$f":"Singles!AY317","v":"TBC"},null,{"$f":"Singles!AZ109","v":0},{"$f":"Singles!BA109","v":0},{"$f":"Singles!BB109","v":0},null,null,null,null,null,null,null,null,null,null,null,null,null,null,null,null,null,null,null,null,0]
[null,18,{"$f":"Singles!AR318","v":0},{"$f":"Singles!AS318","v":"TBC"},{"$f":"Singles!AT318","v":"TBC"},{"$f":"Singles!AU318","v":"TBC"},{"$f":"Singles!AV318","v":"TBC"},{"$f":"Singles!AW318","v":"TBC"},{"$f":"Singles!AX318","v":"TBC"},{"$f":"Singles!AY318","v":"TBC"},null,{"$f":"Singles!AZ110","v":0},{"$f":"Singles!BA110","v":0},{"$f":"Singles!BB110","v":0},null,null,null,null,null,null,null,null,null,null,null,null,null,null,null,null,null,null,null,null,0]
[null,19,{"$f":"Singles!AR319","v":0},{"$f":"Singles!AS319","v":"TBC"},{"$f":"Singles!AT319","v":"TBC"},{"$f":"Singles!AU319","v":"TBC"},{"$f":"Singles!AV319","v":"TBC"},{"$f":"Singles!AW319","v":"TBC"},{"$f":"Singles!AX319","v":"TBC"},{"$f":"Singles!AY319","v":"TBC"},null,{"$f":"Singles!AZ111","v":0},{"$f":"Singles!BA111","v":0},{"$f":"Singles!BB111","v":0},null,null,null,null,null,null,null,null,null,null,null,null,null,null,null,null,null,null,null,null,0]
[null,20,{"$f":"Singles!AR320","v":0},{"$f":"Singles!AS320","v":"TBC"},{"$f":"Singles!AT320","v":"TBC"},{"$f":"Singles!AU320","v":"TBC"},{"$f":"Singles!AV320","v":"TBC"},{"$f":"Singles!AW320","v":"TBC"},{"$f":"Singles!AX320","v":"TBC"},{"$f":"Singles!AY320","v":"TBC"},null,{"$f":"Singles!AZ112","v":0},{"$f":"Singles!BA112","v":0},{"$f":"Singles!BB112","v":0},null,null,null,null,null,null,null,null,null,null,null,null,null,null,null,null,null,null,null,null,0]
[null,21,{"$f":"Singles!AR321","v":0},{"$f":"Singles!AS321","v":"TBC"},{"$f":"Singles!AT321","v":"TBC"},{"$f":"Singles!AU321","v":"TBC"},{"$f":"Singles!AV321","v":"TBC"},{"$f":"Singles!AW321","v":"TBC"},{"$f":"Singles!AX321","v":"TBC"},{"$f":"Singles!AY321","v":"TBC"},null,{"$f":"Singles!AZ113","v":0},{"$f":"Singles!BA113","v":0},{"$f":"Singles!BB113","v":0},null,null,null,null,null,null,null,null,null,null,null,null,null,null,null,null,null,null,null,null,0]
[null,22,{"$f":"Singles!AR322","v":0},{"$f":"Singles!AS322","v":"TBC"},{"$f":"Singles!AT322","v":"TBC"},{"$f":"Singles!AU322","v":"TBC"},{"$f":"Singles!AV322","v":"TBC"},{"$f":"Singles!AW322","v":"TBC"},{"$f":"Singles!AX322","v":"TBC"},{"$f":"Singles!AY322","v":"TBC"},null,{"$f":"Singles!AZ114","v":0},{"$f":"Singles!BA114","v":0},{"$f":"Singles!BB114","v":0},null,null,null,null,null,null,null,null,null,null,null,null,null,null,null,null,null,null,null,null,0]
[null,23,{"$f":"Singles!AR323","v":0},{"$f":"Singles!AS323","v":"TBC"},{"$f":"Singles!AT323","v":"TBC"},{"$f":"Singles!AU323","v":"TBC"},{"$f":"Singles!AV323","v":"TBC"},{"$f":"Singles!AW323","v":"TBC"},{"$f":"Singles!AX323","v":"TBC"},{"$f":"Singles!AY323","v":"TBC"},null,{"$f":"Singles!AZ115","v":0},{"$f":"Singles!BA115","v":0},{"$f":"Singles!BB115","v":0},null,null,null,null,null,null,null,null,null,null,null,null,null,null,null,null,null,null,null,null,0]
[null,24,{"$f":"Singles!AR324","v":0},{"$f":"Singles!AS324","v":"TBC"},{"$f":"Singles!AT324","v":"TBC"},{"$f":"Singles!AU324","v":"TBC"},{"$f":"Singles!AV324","v":"TBC"},{"$f":"Singles!AW324","v":"TBC"},{"$f":"Singles!AX324","v":"TBC"},{"$f":"Singles!AY324","v":"TBC"},null,{"$f":"Singles!AZ116","v":0},{"$f":"Singles!BA116","v":0},{"$f":"Singles!BB116","v":0},null,null,null,null,null,null,null,null,null,null,null,null,null,null,null,null,null,null,null,null,0]
[null,25,{"$f":"Singles!AR325","v":0},{"$f":"Singles!AS325","v":"TBC"},{"$f":"Singles!AT325","v":"TBC"},{"$f":"Singles!AU325","v":"TBC"},{"$f":"Singles!AV325","v":"TBC"},{"$f":"Singles!AW325","v":"TBC"},{"$f":"Singles!AX325","v":"TBC"},{"$f":"Singles!AY325","v":"TBC"},null,{"$f":"Singles!AZ117","v":0},{"$f":"Singles!BA117","v":0},{"$f":"Singles!BB117","v":0},null,null,null,null,null,null,null,null,null,null,null,null,null,null,null,null,null,null,null,null,0]
[null,26,{"$f":"Singles!AR326","v":0},{"$f":"Singles!AS326","v":"TBC"},{"$f":"Singles!AT326","v":"TBC"},{"$f":"Singles!AU326","v":"TBC"},{"$f":"Singles!AV326","v":"TBC"},{"$f":"Singles!AW326","v":"TBC"},{"$f":"Singles!AX326","v":"TBC"},{"$f":"Singles!AY326","v":"TBC"},null,{"$f":"Singles!AZ118","v":0},{"$f":"Singles!BA118","v":0},{"$f":"Singles!BB118","v":0},null,null,null,null,null,null,null,null,null,null,null,null,null,null,null,null,null,null,null,null,0]
[null,27,{"$f":"Singles!AR327","v":0},{"$f":"Singles!AS327","v":"TBC"},{"$f":"Singles!AT327","v":"TBC"},{"$f":"Singles!AU327","v":"TBC"},{"$f":"Singles!AV327","v":"TBC"},{"$f":"Singles!AW327","v":"TBC"},{"$f":"Singles!AX327","v":"TBC"},{"$f":"Singles!AY327","v":"TBC"},null,{"$f":"Singles!AZ119","v":0},{"$f":"Singles!BA119","v":0},{"$f":"Singles!BB119","v":0},null,null,null,null,null,null,null,null,null,null,null,null,null,null,null,null,null,null,null,null,0]
[null,28,{"$f":"Singles!AR328","v":0},{"$f":"Singles!AS328","v":"TBC"},{"$f":"Singles!AT328","v":"TBC"},{"$f":"Singles!AU328","v":"TBC"},{"$f":"Singles!AV328","v":"TBC"},{"$f":"Singles!AW328","v":"TBC"},{"$f":"Singles!AX328","v":"TBC"},{"$f":"Singles!AY328","v":"TBC"},null,{"$f":"Singles!AZ120","v":0},{"$f":"Singles!BA120","v":0},{"$f":"Singles!BB120","v":0},null,null,null,null,null,null,null,null,null,null,null,null,null,null,null,null,null,null,null,null,0]
[null,29,{"$f":"Singles!AR329","v":0},{"$f":"Singles!AS329","v":"TBC"},{"$f":"Singles!AT329","v":"TBC"},{"$f":"Singles!AU329","v":"TBC"},{"$f":"Singles!AV329","v":"TBC"},{"$f":"Singles!AW329","v":"TBC"},{"$f":"Singles!AX329","v":"TBC"},{"$f":"Singles!AY329","v":"TBC"},null,{"$f":"Singles!AZ121","v":0},{"$f":"Singles!BA121","v":0},{"$f":"Singles!BB121","v":0},null,null,null,null,null,null,null,null,null,null,null,null,null,null,null,null,null,null,null,null,0]
[null,30,{"$f":"Singles!AR330","v":0},{"$f":"Singles!AS330","v":"TBC"},{"$f":"Singles!AT330","v":"TBC"},{"$f":"Singles!AU330","v":"TBC"},{"$f":"Singles!AV330","v":"TBC"},{"$f":"Singles!AW330","v":"TBC"},{"$f":"Singles!AX330","v":"TBC"},{"$f":"Singles!AY330","v":"TBC"},null,{"$f":"Singles!AZ122","v":0},{"$f":"Singles!BA122","v":0},{"$f":"Singles!BB122","v":0},null,null,null,null,null,null,null,null,null,null,null,null,null,null,null,null,null,null,null,null,0]
[null,31,{"$f":"Singles!AR331","v":0},{"$f":"Singles!AS331","v":"TBC"},{"$f":"Singles!AT331","v":"TBC"},{"$f":"Singles!AU331","v":"TBC"},{"$f":"Singles!AV331","v":"TBC"},{"$f":"Singles!AW331","v":"TBC"},{"$f":"Singles!AX331","v":"TBC"},{"$f":"Singles!AY331","v":"TBC"},null,{"$f":"Singles!AZ123","v":0},{"$f":"Singles!BA123","v":0},{"$f":"Singles!BB123","v":0},null,null,null,null,null,null,null,null,null,null,null,null,null,null,null,null,null,null,null,null,0]
[null,32,{"$f":"Singles!AR332","v":0},{"$f":"Singles!AS332","v":"TBC"},{"$f":"Singles!AT332","v":"TBC"},{"$f":"Singles!AU332","v":"TBC"},{"$f":"Singles!AV332","v":"TBC"},{"$f":"Singles!AW332","v":"TBC"},{"$f":"Singles!AX332","v":"TBC"},{"$f":"Singles!AY332","v":"TBC"},null,{"$f":"Singles!AZ124","v":0},{"$f":"Singles!BA124","v":0},{"$f":"Singles!BB124","v":0},null,null,null,null,null,null,null,null,null,null,null,null,null,null,null,null,null,null,null,null,0]
[null,33,{"$f":"Singles!AR333","v":0},{"$f":"Singles!AS333","v":"TBC"},{"$f":"Singles!AT333","v":"TBC"},{"$f":"Singles!AU333","v":"TBC"},{"$f":"Singles!AV333","v":"TBC"},{"$f":"Singles!AW333","v":"TBC"},{"$f":"Singles!AX333","v":"TBC"},{"$f":"Singles!AY333","v":"TBC"},null,{"$f":"Singles!AZ125","v":0},{"$f":"Singles!BA125","v":0},{"$f":"Singles!BB125","v":0},null,null,null,null,null,null,null,null,null,null,null,null,null,null,null,null,null,null,null,null,{"$f":"C39","v":0}]
[null,34,{"$f":"Singles!AR334","v":0},{"$f":"Singles!AS334","v":"TBC"},{"$f":"Singles!AT334","v":"TBC"},{"$f":"Singles!AU334","v":"TBC"},{"$f":"Singles!AV334","v":"TBC"},{"$f":"Singles!AW334","v":"TBC"},{"$f":"Singles!AX334","v":"TBC"},{"$f":"Singles!AY334","v":"TBC"},null,{"$f":"Singles!AZ126","v":0},{"$f":"Singles!BA126","v":0},{"$f":"Singles!BB126","v":0},null,null,null,null,null,null,null,null,null,null,null,null,null,null,null,null,null,null,null,null,0]
[null,35,{"$f":"Singles!AR335","v":0},{"$f":"Singles!AS335","v":"TBC"},{"$f":"Singles!AT335","v":"TBC"},{"$f":"Singles!AU335","v":"TBC"},{"$f":"Singles!AV335","v":"TBC"},{"$f":"Singles!AW335","v":"TBC"},{"$f":"Singles!AX335","v":"TBC"},{"$f":"Singles!AY335","v":"TBC"},null,{"$f":"Singles!AZ127","v":0},{"$f":"Singles!BA127","v":0},{"$f":"Singles!BB127","v":0},null,null,null,null,null,null,null,null,null,null,null,null,null,null,null,null,null,null,null,null,0]
[null,36,{"$f":"Singles!AR336","v":0},{"$f":"Singles!AS336","v":"TBC"},{"$f":"Singles!AT336","v":"TBC"},{"$f":"Singles!AU336","v":"TBC"},{"$f":"Singles!AV336","v":"TBC"},{"$f":"Singles!AW336","v":"TBC"},{"$f":"Singles!AX336","v":"TBC"},{"$f":"Singles!AY336","v":"TBC"},null,{"$f":"Singles!AZ128","v":0},{"$f":"Singles!BA128","v":0},{"$f":"Singles!BB128","v":0},null,null,null,null,null,null,null,null,null,null,null,null,null,null,null,null,null,null,null,null,0]
[null,37,{"$f":"Singles!AR337","v":0},{"$f":"Singles!AS337","v":"TBC"},{"$f":"Singles!AT337","v":"TBC"},{"$f":"Singles!AU337","v":"TBC"},{"$f":"Singles!AV337","v":"TBC"},{"$f":"Singles!AW337","v":"TBC"},{"$f":"Singles!AX337","v":"TBC"},{"$f":"Singles!AY337","v":"TBC"},null,{"$f":"Singles!AZ129","v":0},{"$f":"Singles!BA129","v":0},{"$f":"Singles!BB129","v":0},null,null,null,null,null,null,null,null,null,null,null,null,null,null,null,null,null,null,null,null,0]
[null,38,{"$f":"Singles!AR338","v":0},{"$f":"Singles!AS338","v":"TBC"},{"$f":"Singles!AT338","v":"TBC"},{"$f":"Singles!AU338","v":"TBC"},{"$f":"Singles!AV338","v":"TBC"},{"$f":"Singles!AW338","v":"TBC"},{"$f":"Singles!AX338","v":"TBC"},{"$f":"Singles!AY338","v":"TBC"},null,{"$f":"Singles!AZ130","v":0},{"$f":"Singles!BA130","v":0},{"$f":"Singles!BB130","v":0},null,null,null,null,null,null,null,null,null,null,null,null,null,null,null,null,null,null,null,null,0]
[null,39,{"$f":"Singles!AR339","v":0},{"$f":"Singles!AS339","v":"TBC"},{"$f":"Singles!AT339","v":"TBC"},{"$f":"Singles!AU339","v":"TBC"},{"$f":"Singles!AV339","v":"TBC"},{"$f":"Singles!AW339","v":"TBC"},{"$f":"Singles!AX339","v":"TBC"},{"$f":"Singles!AY339","v":"TBC"},null,{"$f":"Singles!AZ131","v":0},{"$f":"Singles!BA131","v":0},{"$f":"Singles!BB131","v":0},null,null,null,null,null,null,null,null,null,null,null,null,null,null,null,null,null,null,null,null,0]
[null,40,{"$f":"Singles!AR340","v":0},{"$f":"Singles!AS340","v":"TBC"},{"$f":"Singles!AT340","v":"TBC"},{"$f":"Singles!AU340","v":"TBC"},{"$f":"Singles!AV340","v":"TBC"},{"$f":"Singles!AW340","v":"TBC"},{"$f":"Singles!AX340","v":"TBC"},{"$f":"Singles!AY340","v":"TBC"},null,{"$f":"Singles!AZ132","v":0},{"$f":"Singles!BA132","v":0},{"$f":"Singles!BB132","v":0},null,null,null,null,null,null,null,null,null,null,null,null,null,null,null,null,null,null,null,null,0]
[null,41,{"$f":"Singles!AR341","v":0},{"$f":"Singles!AS341","v":"TBC"},{"$f":"Singles!AT341","v":"TBC"},{"$f":"Singles!AU341","v":"TBC"},{"$f":"Singles!AV341","v":"TBC"},{"$f":"Singles!AW341","v":"TBC"},{"$f":"Singles!AX341","v":"TBC"},{"$f":"Singles!AY341","v":"TBC"},null,{"$f":"Singles!AZ133","v":0},{"$f":"Singles!BA133","v":0},{"$f":"Singles!BB133","v":0},null,null,null,null,null,null,null,null,null,null,null,null,null,null,null,null,null,null,null,null,0]
[null,42,{"$f":"Singles!AR342","v":0},{"$f":"Singles!AS342","v":"TBC"},{"$f":"Singles!AT342","v":"TBC"},{"$f":"Singles!AU342","v":"TBC"},{"$f":"Singles!AV342","v":"TBC"},{"$f":"Singles!AW342","v":"TBC"},{"$f":"Singles!AX342","v":"TBC"},{"$f":"Singles!AY342","v":"TBC"},null,{"$f":"Singles!AZ134","v":0},{"$f":"Singles!BA134","v":0},{"$f":"Singles!BB134","v":0},null,null,null,null,null,null,null,null,null,null,null,null,null,null,null,null,null,null,null,null,0]
[null,43,{"$f":"Singles!AR343","v":0},{"$f":"Singles!AS343","v":"TBC"},{"$f":"Singles!AT343","v":"TBC"},{"$f":"Singles!AU343","v":"TBC"},{"$f":"Singles!AV343","v":"TBC"},{"$f":"Singles!AW343","v":"TBC"},{"$f":"Singles!AX343","v":"TBC"},{"$f":"Singles!AY343","v":"TBC"},null,{"$f":"Singles!AZ135","v":0},{"$f":"Singles!BA135","v":0},{"$f":"Singles!BB135","v":0},null,null,null,null,null,null,null,null,null,null,null,null,null,null,null,null,null,null,null,null,0]
[null,44,{"$f":"Singles!AR344","v":0},{"$f":"Singles!AS344","v":"TBC"},{"$f":"Singles!AT344","v":"TBC"},{"$f":"Singles!AU344","v":"TBC"},{"$f":"Singles!AV344","v":"TBC"},{"$f":"Singles!AW344","v":"TBC"},{"$f":"Singles!AX344","v":"TBC"},{"$f":"Singles!AY344","v":"TBC"},null,{"$f":"Singles!AZ136","v":0},{"$f":"Singles!BA136","v":0},{"$f":"Singles!BB136","v":0},null,null,null,null,null,null,null,null,null,null,null,null,null,null,null,null,null,null,null,null,0]
[null,45,{"$f":"Singles!AR345","v":0},{"$f":"Singles!AS345","v":"TBC"},{"$f":"Singles!AT345","v":"TBC"},{"$f":"Singles!AU345","v":"TBC"},{"$f":"Singles!AV345","v":"TBC"},{"$f":"Singles!AW345","v":"TBC"},{"$f":"Singles!AX345","v":"TBC"},{"$f":"Singles!AY345","v":"TBC"},null,{"$f":"Singles!AZ137","v":0},{"$f":"Singles!BA137","v":0},{"$f":"Singles!BB137","v":0},null,null,null,null,null,null,null,null,null,null,null,null,null,null,null,null,null,null,null,null,0]
[null,46,{"$f":"Singles!AR346","v":0},{"$f":"Singles!AS346","v":"TBC"},{"$f":"Singles!AT346","v":"TBC"},{"$f":"Singles!AU346","v":"TBC"},{"$f":"Singles!AV346","v":"TBC"},{"$f":"Singles!AW346","v":"TBC"},{"$f":"Singles!AX346","v":"TBC"},{"$f":"Singles!AY346","v":"TBC"},null,{"$f":"Singles!AZ138","v":0},{"$f":"Singles!BA138","v":0},{"$f":"Singles!BB138","v":0},null,null,null,null,null,null,null,null,null,null,null,null,null,null,null,null,null,null,null,null,0]
[null,47,{"$f":"Singles!AR347","v":0},{"$f":"Singles!AS347","v":"TBC"},{"$f":"Singles!AT347","v":"TBC"},{"$f":"Singles!AU347","v":"TBC"},{"$f":"Singles!AV347","v":"TBC"},{"$f":"Singles!AW347","v":"TBC"},{"$f":"Singles!AX347","v":"TBC"},{"$f":"Singles!AY347","v":"TBC"},null,{"$f":"Singles!AZ139","v":0},{"$f":"Singles!BA139","v":0},{"$f":"Singles!BB139","v":0},null,null,null,null,null,null,null,null,null,null,null,null,null,null,null,null,null,null,null,null,0]
[null,48,{"$f":"Singles!AR348","v":0},{"$f":"Singles!AS348","v":"TBC"},{"$f":"Singles!AT348","v":"TBC"},{"$f":"Singles!AU348","v":"TBC"},{"$f":"Singles!AV348","v":"TBC"},{"$f":"Singles!AW348","v":"TBC"},{"$f":"Singles!AX348","v":"TBC"},{"$f":"Singles!AY348","v":"TBC"},null,{"$f":"Singles!AZ140","v":0},{"$f":"Singles!BA140","v":0},{"$f":"Singles!BB140","v":0},null,null,null,null,null,null,null,null,null,null,null,null,null,null,null,null,null,null,null,null,0]
[null,49,{"$f":"Singles!AR349","v":0},{"$f":"Singles!AS349","v":"TBC"},{"$f":"Singles!AT349","v":"TBC"},{"$f":"Singles!AU349","v":"TBC"},{"$f":"Singles!AV349","v":"TBC"},{"$f":"Singles!AW349","v":"TBC"},{"$f":"Singles!AX349","v":"TBC"},{"$f":"Singles!AY349","v":"TBC"},null,{"$f":"Singles!AZ141","v":0},{"$f":"Singles!BA141","v":0},{"$f":"Singles!BB141","v":0},null,null,null,null,null,null,null,null,null,null,null,null,null,null,null,null,null,null,null,null,0]
[null,50,{"$f":"Singles!AR350","v":0},{"$f":"Singles!AS350","v":"TBC"},{"$f":"Singles!AT350","v":"TBC"},{"$f":"Singles!AU350","v":"TBC"},{"$f":"Singles!AV350","v":"TBC"},{"$f":"Singles!AW350","v":"TBC"},{"$f":"Singles!AX350","v":"TBC"},{"$f":"Singles!AY350","v":"TBC"},null,{"$f":"Singles!AZ142","v":0},{"$f":"Singles!BA142","v":0},{"$f":"Singles!BB142","v":0},null,null,null,null,null,null,null,null,null,null,null,null,null,null,null,null,null,null,null,null,0]
[null,51,{"$f":"Singles!AR351","v":0},{"$f":"Singles!AS351","v":"TBC"},{"$f":"Singles!AT351","v":"TBC"},{"$f":"Singles!AU351","v":"TBC"},{"$f":"Singles!AV351","v":"TBC"},{"$f":"Singles!AW351","v":"TBC"},{"$f":"Singles!AX351","v":"TBC"},{"$f":"Singles!AY351","v":"TBC"},null,{"$f":"Singles!AZ143","v":0},{"$f":"Singles!BA143","v":0},{"$f":"Singles!BB143","v":0},null,null,null,null,null,null,null,null,null,null,null,null,null,null,null,null,null,null,null,null,0]
[null,52,{"$f":"Singles!AR352","v":0},{"$f":"Singles!AS352","v":"TBC"},{"$f":"Singles!AT352","v":"TBC"},{"$f":"Singles!AU352","v":"TBC"},{"$f":"Singles!AV352","v":"TBC"},{"$f":"Singles!AW352","v":"TBC"},{"$f":"Singles!AX352","v":"TBC"},{"$f":"Singles!AY352","v":"TBC"},null,{"$f":"Singles!AZ144","v":0},{"$f":"Singles!BA144","v":0},{"$f":"Singles!BB144","v":0},null,null,null,null,null,null,null,null,null,null,null,null,null,null,null,null,null,null,null,null,0]
[null,53,{"$f":"Singles!AR353","v":0},{"$f":"Singles!AS353","v":"TBC"},{"$f":"Singles!AT353","v":"TBC"},{"$f":"Singles!AU353","v":"TBC"},{"$f":"Singles!AV353","v":"TBC"},{"$f":"Singles!AW353","v":"TBC"},{"$f":"Singles!AX353","v":"TBC"},{"$f":"Singles!AY353","v":"TBC"},null,{"$f":"Singles!AZ145","v":0},{"$f":"Singles!BA145","v":0},{"$f":"Singles!BB145","v":0},null,null,null,null,null,null,null,null,null,null,null,null,null,null,null,null,null,null,null,null,0]
[null,54,{"$f":"Singles!AR354","v":0},{"$f":"Singles!AS354","v":"TBC"},{"$f":"Singles!AT354","v":"TBC"},{"$f":"Singles!AU354","v":"TBC"},{"$f":"Singles!AV354","v":"TBC"},{"$f":"Singles!AW354","v":"TBC"},{"$f":"Singles!AX354","v":"TBC"},{"$f":"Singles!AY354","v":"TBC"},null,{"$f":"Singles!AZ146","v":0},{"$f":"Singles!BA146","v":0},{"$f":"Singles!BB146","v":0},null,null,null,null,null,null,null,null,null,null,null,null,null,null,null,null,null,null,null,null,0]
[null,55,{"$f":"Singles!AR355","v":0},{"$f":"Singles!AS355","v":"TBC"},{"$f":"Singles!AT355","v":"TBC"},{"$f":"Singles!AU355","v":"TBC"},{"$f":"Singles!AV355","v":"TBC"},{"$f":"Singles!AW355","v":"TBC"},{"$f":"Singles!AX355","v":"TBC"},{"$f":"Singles!AY355","v":"TBC"},null,{"$f":"Singles!AZ147","v":0},{"$f":"Singles!BA147","v":0},{"$f":"Singles!BB147","v":0},null,null,null,null,null,null,null,null,null,null,null,null,null,null,null,null,null,null,null,null,0]
[null,56,{"$f":"Singles!AR356","v":0},{"$f":"Singles!AS356","v":"TBC"},{"$f":"Singles!AT356","v":"TBC"},{"$f":"Singles!AU356","v":"TBC"},{"$f":"Singles!AV356","v":"TBC"},{"$f":"Singles!AW356","v":"TBC"},{"$f":"Singles!AX356","v":"TBC"},{"$f":"Singles!AY356","v":"TBC"},null,{"$f":"Singles!AZ148","v":0},{"$f":"Singles!BA148","v":0},{"$f":"Singles!BB148","v":0},null,null,null,null,null,null,null,null,null,null,null,null,null,null,null,null,null,null,null,null,0]
[null,57,{"$f":"Singles!AR357","v":0},{"$f":"Singles!AS357","v":"TBC"},{"$f":"Singles!AT357","v":"TBC"},{"$f":"Singles!AU357","v":"TBC"},{"$f":"Singles!AV357","v":"TBC"},{"$f":"Singles!AW357","v":"TBC"},{"$f":"Singles!AX357","v":"TBC"},{"$f":"Singles!AY357","v":"TBC"},null,{"$f":"Singles!AZ149","v":0},{"$f":"Singles!BA149","v":0},{"$f":"Singles!BB149","v":0},null,null,null,null,null,null,null,null,null,null,null,null,null,null,null,null,null,null,null,null,0]
[null,58,{"$f":"Singles!AR358","v":0},{"$f":"Singles!AS358","v":"TBC"},{"$f":"Singles!AT358","v":"TBC"},{"$f":"Singles!AU358","v":"TBC"},{"$f":"Singles!AV358","v":"TBC"},{"$f":"Singles!AW358","v":"TBC"},{"$f":"Singles!AX358","v":"TBC"},{"$f":"Singles!AY358","v":"TBC"},null,{"$f":"Singles!AZ150","v":0},{"$f":"Singles!BA150","v":0},{"$f":"Singles!BB150","v":0},null,null,null,null,null,null,null,null,null,null,null,null,null,null,null,null,null,null,null,null,0]
[null,59,{"$f":"Singles!AR359","v":0},{"$f":"Singles!AS359","v":"TBC"},{"$f":"Singles!AT359","v":"TBC"},{"$f":"Singles!AU359","v":"TBC"},{"$f":"Singles!AV359","v":"TBC"},{"$f":"Singles!AW359","v":"TBC"},{"$f":"Singles!AX359","v":"TBC"},{"$f":"Singles!AY359","v":"TBC"},null,{"$f":"Singles!AZ151","v":0},{"$f":"Singles!BA151","v":0},{"$f":"Singles!BB151","v":0},null,null,null,null,null,null,null,null,null,null,null,null,null,null,null,null,null,null,null,null,0]
[null,60,{"$f":"Singles!AR360","v":0},{"$f":"Singles!AS360","v":"TBC"},{"$f":"Singles!AT360","v":"TBC"},{"$f":"Singles!AU360","v":"TBC"},{"$f":"Singles!AV360","v":"TBC"},{"$f":"Singles!AW360","v":"TBC"},{"$f":"Singles!AX360","v":"TBC"},{"$f":"Singles!AY360","v":"TBC"},null,{"$f":"Singles!AZ152","v":0},{"$f":"Singles!BA152","v":0},{"$f":"Singles!BB152","v":0},null,null,null,null,null,null,null,null,null,null,null,null,null,null,null,null,null,null,null,null,0]
[null,61,{"$f":"Singles!AR361","v":0},{"$f":"Singles!AS361","v":"TBC"},{"$f":"Singles!AT361","v":"TBC"},{"$f":"Singles!AU361","v":"TBC"},{"$f":"Singles!AV361","v":"TBC"},{"$f":"Singles!AW361","v":"TBC"},{"$f":"Singles!AX361","v":"TBC"},{"$f":"Singles!AY361","v":"TBC"},null,{"$f":"Singles!AZ153","v":0},{"$f":"Singles!BA153","v":0},{"$f":"Singles!BB153","v":0},null,null,null,null,null,null,null,null,null,null,null,null,null,null,null,null,null,null,null,null,0]
[null,62,{"$f":"Singles!AR362","v":0},{"$f":"Singles!AS362","v":"TBC"},{"$f":"Singles!AT362","v":"TBC"},{"$f":"Singles!AU362","v":"TBC"},{"$f":"Singles!AV362","v":"TBC"},{"$f":"Singles!AW362","v":"TBC"},{"$f":"Singles!AX362","v":"TBC"},{"$f":"Singles!AY362","v":"TBC"},null,{"$f":"Singles!AZ154","v":0},{"$f":"Singles!BA154","v":0},{"$f":"Singles!BB154","v":0},null,null,null,null,null,null,null,null,null,null,null,null,null,null,null,null,null,null,null,null,0]
[null,63,{"$f":"Singles!AR363","v":0},{"$f":"Singles!AS363","v":"TBC"},{"$f":"Singles!AT363","v":"TBC"},{"$f":"Singles!AU363","v":"TBC"},{"$f":"Singles!AV363","v":"TBC"},{"$f":"Singles!AW363","v":"TBC"},{"$f":"Singles!AX363","v":"TBC"},{"$f":"Singles!AY363","v":"TBC"},null,{"$f":"Singles!AZ155","v":0},{"$f":"Singles!BA155","v":0},{"$f":"Singles!BB155","v":0},null,null,null,null,null,null,null,null,null,null,null,null,null,null,null,null,null,null,null,null,0]
[null,64,{"$f":"Singles!AR364","v":0},{"$f":"Singles!AS364","v":"TBC"},{"$f":"Singles!AT364","v":"TBC"},{"$f":"Singles!AU364","v":"TBC"},{"$f":"Singles!AV364","v":"TBC"},{"$f":"Singles!AW364","v":"TBC"},{"$f":"Singles!AX364","v":"TBC"},{"$f":"Singles!AY364","v":"TBC"},null,{"$f":"Singles!AZ156","v":0},{"$f":"Singles!BA156","v":0},{"$f":"Singles!BB156","v":0},null,null,null,null,null,null,null,null,null,null,null,null,null,null,null,null,null,null,null,null,0]
[null,65,{"$f":"Singles!AR365","v":0},{"$f":"Singles!AS365","v":"TBC"},{"$f":"Singles!AT365","v":"TBC"},{"$f":"Singles!AU365","v":"TBC"},{"$f":"Singles!AV365","v":"TBC"},{"$f":"Singles!AW365","v":"TBC"},{"$f":"Singles!AX365","v":"TBC"},{"$f":"Singles!AY365","v":"TBC"},null,{"$f":"Singles!AZ157","v":0},{"$f":"Singles!BA157","v":0},{"$f":"Singles!BB157","v":0},null,null,null,null,null,null,null,null,null,null,null,null,null,null,null,null,null,null,null,null,0]
[null,66,{"$f":"Singles!AR366","v":0},{"$f":"Singles!AS366","v":"TBC"},{"$f":"Singles!AT366","v":"TBC"},{"$f":"Singles!AU366","v":"TBC"},{"$f":"Singles!AV366","v":"TBC"},{"$f":"Singles!AW366","v":"TBC"},{"$f":"Singles!AX366","v":"TBC"},{"$f":"Singles!AY366","v":"TBC"},null,{"$f":"Singles!AZ158","v":0},{"$f":"Singles!BA158","v":0},{"$f":"Singles!BB158","v":0},null,null,null,null,null,null,null,null,null,null,null,null,null,null,null,null,null,null,null,null,0]
[null,67,{"$f":"Singles!AR367","v":0},{"$f":"Singles!AS367","v":"TBC"},{"$f":"Singles!AT367","v":"TBC"},{"$f":"Singles!AU367","v":"TBC"},{"$f":"Singles!AV367","v":"TBC"},{"$f":"Singles!AW367","v":"TBC"},{"$f":"Singles!AX367","v":"TBC"},{"$f":"Singles!AY367","v":"TBC"},null,{"$f":"Singles!AZ159","v":0},{"$f":"Singles!BA159","v":0},{"$f":"Singles!BB159","v":0},null,null,null,null,null,null,null,null,null,null,null,null,null,null,null,null,null,null,null,null,0]
[null,68,{"$f":"Singles!AR368","v":0},{"$f":"Singles!AS368","v":"TBC"},{"$f":"Singles!AT368","v":"TBC"},{"$f":"Singles!AU368","v":"TBC"},{"$f":"Singles!AV368","v":"TBC"},{"$f":"Singles!AW368","v":"TBC"},{"$f":"Singles!AX368","v":"TBC"},{"$f":"Singles!AY368","v":"TBC"},null,{"$f":"Singles!AZ160","v":0},{"$f":"Singles!BA160","v":0},{"$f":"Singles!BB160","v":0},null,null,null,null,null,null,null,null,null,null,null,null,null,null,null,null,null,null,null,null,0]
[null,69,{"$f":"Singles!AR369","v":0},{"$f":"Singles!AS369","v":"TBC"},{"$f":"Singles!AT369","v":"TBC"},{"$f":"Singles!AU369","v":"TBC"},{"$f":"Singles!AV369","v":"TBC"},{"$f":"Singles!AW369","v":"TBC"},{"$f":"Singles!AX369","v":"TBC"},{"$f":"Singles!AY369","v":"TBC"},null,{"$f":"Singles!AZ161","v":0},{"$f":"Singles!BA161","v":0},{"$f":"Singles!BB161","v":0},null,null,null,null,null,null,null,null,null,null,null,null,null,null,null,null,null,null,null,null,0]
[null,70,{"$f":"Singles!AR370","v":0},{"$f":"Singles!AS370","v":"TBC"},{"$f":"Singles!AT370","v":"TBC"},{"$f":"Singles!AU370","v":"TBC"},{"$f":"Singles!AV370","v":"TBC"},{"$f":"Singles!AW370","v":"TBC"},{"$f":"Singles!AX370","v":"TBC"},{"$f":"Singles!AY370","v":"TBC"},null,{"$f":"Singles!AZ162","v":0},{"$f":"Singles!BA162","v":0},{"$f":"Singles!BB162","v":0},null,null,null,null,null,null,null,null,null,null,null,null,null,null,null,null,null,null,null,null,0]
[null,71,{"$f":"Singles!AR371","v":0},{"$f":"Singles!AS371","v":"TBC"},{"$f":"Singles!AT371","v":"TBC"},{"$f":"Singles!AU371","v":"TBC"},{"$f":"Singles!AV371","v":"TBC"},{"$f":"Singles!AW371","v":"TBC"},{"$f":"Singles!AX371","v":"TBC"},{"$f":"Singles!AY371","v":"TBC"},null,{"$f":"Singles!AZ163","v":0},{"$f":"Singles!BA163","v":0},{"$f":"Singles!BB163","v":0},null,null,null,null,null,null,null,null,null,null,null,null,null,null,null,null,null,null,null,null,0]
[null,72,{"$f":"Singles!AR372","v":0},{"$f":"Singles!AS372","v":"TBC"},{"$f":"Singles!AT372","v":"TBC"},{"$f":"Singles!AU372","v":"TBC"},{"$f":"Singles!AV372","v":"TBC"},{"$f":"Singles!AW372","v":"TBC"},{"$f":"Singles!AX372","v":"TBC"},{"$f":"Singles!AY372","v":"TBC"},null,{"$f":"Singles!AZ164","v":0},{"$f":"Singles!BA164","v":0},{"$f":"Singles!BB164","v":0},null,null,null,null,null,null,null,null,null,null,null,null,null,null,null,null,null,null,null,null,0]
[null,73,{"$f":"Singles!AR373","v":0},{"$f":"Singles!AS373","v":"TBC"},{"$f":"Singles!AT373","v":"TBC"},{"$f":"Singles!AU373","v":"TBC"},{"$f":"Singles!AV373","v":"TBC"},{"$f":"Singles!AW373","v":"TBC"},{"$f":"Singles!AX373","v":"TBC"},{"$f":"Singles!AY373","v":"TBC"},null,{"$f":"Singles!AZ165","v":0},{"$f":"Singles!BA165","v":0},{"$f":"Singles!BB165","v":0},null,null,null,null,null,null,null,null,null,null,null,null,null,null,null,null,null,null,null,null,0]
[null,74,{"$f":"Singles!AR374","v":0},{"$f":"Singles!AS374","v":"TBC"},{"$f":"Singles!AT374","v":"TBC"},{"$f":"Singles!AU374","v":"TBC"},{"$f":"Singles!AV374","v":"TBC"},{"$f":"Singles!AW374","v":"TBC"},{"$f":"Singles!AX374","v":"TBC"},{"$f":"Singles!AY374","v":"TBC"},null,{"$f":"Singles!AZ166","v":0},{"$f":"Singles!BA166","v":0},{"$f":"Singles!BB166","v":0},null,null,null,null,null,null,null,null,null,null,null,null,null,null,null,null,null,null,null,null,0]
[null,75,{"$f":"Singles!AR375","v":0},{"$f":"Singles!AS375","v":"TBC"},{"$f":"Singles!AT375","v":"TBC"},{"$f":"Singles!AU375","v":"TBC"},{"$f":"Singles!AV375","v":"TBC"},{"$f":"Singles!AW375","v":"TBC"},{"$f":"Singles!AX375","v":"TBC"},{"$f":"Singles!AY375","v":"TBC"},null,{"$f":"Singles!AZ167","v":0},{"$f":"Singles!BA167","v":0},{"$f":"Singles!BB167","v":0},null,null,null,null,null,null,null,null,null,null,null,null,null,null,null,null,null,null,null,null,0]
[{"$f":"$D$7","v":"NUIM"}]

{"sheet":"CM","index":12,"n_rows":82,"n_cols":48,"rows_kept":82,"cut":false,"hidden":false,"merged":[[1,14,80,14],[81,0,81,14],[1,0,80,0],[0,0,0,14],[1,4,1,9],[1,11,1,13],[1,1,3,3],[2,11,3,11],[2,12,3,12],[2,13,3,13],[4,1,4,9],[4,11,4,13],[1,10,80,10]]}
[{"$f":"$D$7","v":"NUIG"}]
[{"$f":"$D$7","v":"NUIG"},"Male Compound",null,null,"Host Club",null,null,null,null,null,{"$f":"$D$7","v":"NUIG"},"Scores",null,null,"NUIG"]
[null,null,null,null,{"$f":"Entries!K6","v":"DCU IV"},"UCD/ITC",{"$f":"Entries!K8","v":"DkIT IV"},"NUIM/GMIT",{"$f":"Entries!K10","v":"NUIG IV"},{"$f":"Entries!K11","v":"UL IV"},null,"Total","Lowest","League"]
[]
[null,"NUIG",null,null,null,null,null,null,null,null,null,"NUIG"]
[null,null,"Name","College","DCU IV","UCD/ITC IV","DkIT IV","NUIM/GMIT IV","NUIG IV","UL IV",null,"Total","Lowest","League total"]
[null,1,{"$f":"Singles!BF301","v":"Carl Byrne"},{"$f":"Singles!BG301","v":"NUIG"},{"$f":"Singles!BH301","v":566},{"$f":"Singles!BI301","v":566},{"$f":"Singles!BJ301","v":576},{"$f":"Singles!BK301","v":567},{"$f":"Singles!BL301","v":575},{"$f":"Singles!BM301","v":572},null,{"$f":"Singles!BN93","v":3422},{"$f":"Singles!BO93","v":566},{"$f":"Singles!BP93","v":2856.0576575},null,null,null,null,null,null,null,null,null,null,null,null,null,null,null,null,null,null,null,null,{"$f":"C7","v":"Carl Byrne"}]
[null,2,{"$f":"Singles!BF302","v":"Mark Sharvin"},{"$f":"Singles!BG302","v":"DCU"},{"$f":"Singles!BH302","v":557},{"$f":"Singles!BI302","v":550},{"$f":"Singles!BJ302","v":572},{"$f":"Singles!BK302","v":557},{"$f":"Singles!BL302","v":557},{"$f":"Singles!BM302","v":569},null,{"$f":"Singles!BN94","v":3362},{"$f":"Singles!BO94","v":550},{"$f":"Singles!BP94","v":2812.0572557},null,null,null,null,null,null,null,null,null,null,null,null,null,null,null,null,null,null,null,null,"Mark Sharvin",null,null,null,null,null,null,null,null,null,null,null,"DCU CONDITIONAL FORMATTING FORMULA >","OR($AH7=Tables!$B$981,$AH7=Tables!$B$982,$AH7=Tables!$B$983,$AH7=Tables!$B$984,$AH7=Tables!$B$985)"]
[null,3,{"$f":"Singles!BF305","v":"Andrew Egan"},{"$f":"Singles!BG305","v":"UCC"},{"$f":"Singles!BH305","v":534},{"$f":"Singles!BI305","v":550},{"$f":"Singles!BJ305","v":553},{"$f":"Singles!BK305","v":0},{"$f":"Singles!BL305","v":554},{"$f":"Singles!BM305","v":559},null,{"$f":"Singles!BN97","v":2750},{"$f":"Singles!BO97","v":0},{"$f":"Singles!BP97","v":2750.0554553000002},null,null,null,null,null,null,null,null,null,null,null,null,null,null,null,null,null,null,null,null,"Andrew Egan",null,null,null,null,null,null,null,null,null,null,null,"DIT CONDITIONAL FORMATTING FORMULA >","OR($AH7=Tables!$B$991,$AH7=Tables!$B$992,$AH7=Tables!$B$993,$AH7=Tables!$B$994,$AH7=Tables!$B$995)"]
[null,4,{"$f":"Singles!BF303","v":"Christopher Ryan"},{"$f":"Singles!BG303","v":"NUIG"},{"$f":"Singles!BH303","v":513},{"$f":"Singles!BI303","v":539},{"$f":"Singles!BJ303","v":547},{"$f":"Singles!BK303","v":525},{"$f":"Singles!BL303","v":350},{"$f":"Singles!BM303","v":544},null,{"$f":"Singles!BN95","v":3018},{"$f":"Singles!BO95","v":350},{"$f":"Singles!BP95","v":2668.0547538999999},null,null,null,null,null,null,null,null,null,null,null,null,null,null,null,null,null,null,null,null,"Christopher Ryan",null,null,null,null,null,null,null,null,null,null,null,"DKIT CONDITIONAL FORMATTING FORMULA >","OR($AH7=Tables!$B$1001,$AH7=Tables!$B$1002,$AH7=Tables!$B$1003,$AH7=Tables!$B$1004,$AH7=Tables!$B$1005)"]
[null,5,{"$f":"Singles!BF304","v":"Callum Conroy"},{"$f":"Singles!BG304","v":"NUIG"},{"$f":"Singles!BH304","v":505},{"$f":"Singles!BI304","v":469},{"$f":"Singles!BJ304","v":493},{"$f":"Singles!BK304","v":468},{"$f":"Singles!BL304","v":524},{"$f":"Singles!BM304","v":540},null,{"$f":"Singles!BN96","v":2999},{"$f":"Singles!BO96","v":468},{"$f":"Singles!BP96","v":2531.0524504999998},null,null,null,null,null,null,null,null,null,null,null,null,null,null,null,null,null,null,null,null,"Callum Conroy",null,null,null,null,null,null,null,null,null,null,null,"DUAC CONDITIONAL FORMATTING FORMULA >","OR($AH7=Tables!$B$1011,$AH7=Tables!$B$1012,$AH7=Tables!$B$1013,$AH7=Tables!$B$1014,$AH7=Tables!$B$1015)"]
[null,6,{"$f":"Singles!BF306","v":"Glen Conway"},{"$f":"Singles!BG306","v":"CD"},{"$f":"Singles!BH306","v":555},{"$f":"Singles!BI306","v":546},{"$f":"Singles!BJ306","v":557},{"$f":"Singles!BK306","v":0},{"$f":"Singles!BL306","v":0},{"$f":"Singles!BM306","v":560},null,{"$f":"Singles!BN98","v":2218},{"$f":"Singles!BO98","v":0},{"$f":"Singles!BP98","v":2218.0557555},null,null,null,null,null,null,null,null,null,null,null,null,null,null,null,null,null,null,null,null,"Glen Conway",null,null,null,null,null,null,null,null,null,null,null,"GMIT CONDITIONAL FORMATTING FORMULA >","OR($AH7=Tables!$B$1021,$AH7=Tables!$B$1022,$AH7=Tables!$B$1023,$AH7=Tables!$B$1024,$AH7=Tables!$B$1025)"]
[null,7,{"$f":"Singles!BF307","v":"Cillian Byrne"},{"$f":"Singles!BG307","v":"DCU"},{"$f":"Singles!BH307","v":524},{"$f":"Singles!BI307","v":538},{"$f":"Singles!BJ307","v":0},{"$f":"Singles!BK307","v":542},{"$f":"Singles!BL307","v":544},{"$f":"Singles!BM307","v":0},null,{"$f":"Singles!BN99","v":2148},{"$f":"Singles!BO99","v":0},{"$f":"Singles!BP99","v":2148.0544541999998},null,null,null,null,null,null,null,null,null,null,null,null,null,null,null,null,null,null,null,null,"Cillian Byrne",null,null,null,null,null,null,null,null,null,null,null,"GMITC CONDITIONAL FORMATTING FORMULA >","OR($AH7=Tables!$B$1031,$AH7=Tables!$B$1032,$AH7=Tables!$B$1033,$AH7=Tables!$B$1034,$AH7=Tables!$B$1035)"]
[null,8,{"$f":"Singles!BF308","v":"Sean Scott"},{"$f":"Singles!BG308","v":"DIT"},{"$f":"Singles!BH308","v":0},{"$f":"Singles!BI308","v":513},{"$f":"Singles!BJ308","v":524},{"$f":"Singles!BK308","v":0},{"$f":"Singles!BL308","v":514},{"$f":"Singles!BM308","v":513},null,{"$f":"Singles!BN100","v":2064},{"$f":"Singles!BO100","v":0},{"$f":"Singles!BP100","v":2064.0524513999999},null,null,null,null,null,null,null,null,null,null,null,null,null,null,null,null,null,null,null,null,"Sean Scott",null,null,null,null,null,null,null,null,null,null,null,"ITC CONDITIONAL FORMATTING FORMULA >","OR($AH7=Tables!$B$1041,$AH7=Tables!$B$1042,$AH7=Tables!$B$1043,$AH7=Tables!$B$1044,$AH7=Tables!$B$1045)"]
[null,9,{"$f":"Singles!BF309","v":"John Smith"},{"$f":"Singles!BG309","v":"DIT"},{"$f":"Singles!BH309","v":564},{"$f":"Singles!BI309","v":566},{"$f":"Singles!BJ309","v":570},{"$f":"Singles!BK309","v":0},{"$f":"Singles!BL309","v":0},{"$f":"Singles!BM309","v":0},null,{"$f":"Singles!BN101","v":1700},{"$f":"Singles!BO101","v":0},{"$f":"Singles!BP101","v":1700.0570566000001},null,null,null,null,null,null,null,null,null,null,null,null,null,null,null,null,null,null,null,null,"John Smith",null,null,null,null,null,null,null,null,null,null,null,"ITT CONDITIONAL FORMATTING FORMULA >","OR($AH7=Tables!$B$1051,$AH7=Tables!$B$1052,$AH7=Tables!$B$1053,$AH7=Tables!$B$1054,$AH7=Tables!$B$1055)"]
[null,10,{"$f":"Singles!BF310","v":"Marko Kovacevic"},{"$f":"Singles!BG310","v":"GMIT"},{"$f":"Singles!BH310","v":515},{"$f":"Singles!BI310","v":512},{"$f":"Singles!BJ310","v":527},{"$f":"Singles!BK310","v":0},{"$f":"Singles!BL310","v":0},{"$f":"Singles!BM310","v":0},null,{"$f":"Singles!BN102","v":1554},{"$f":"Singles!BO102","v":0},{"$f":"Singles!BP102","v":1554.0527514999999},null,null,null,null,null,null,null,null,null,null,null,null,null,null,null,null,null,null,null,null,"Marko Kovacevic",null,null,null,null,null,null,null,null,null,null,null,"MU CONDITIONAL FORMATTING FORMULA >","OR($AH7=Tables!$B$1061,$AH7=Tables!$B$1062,$AH7=Tables!$B$1063,$AH7=Tables!$B$1064,$AH7=Tables!$B$1065)"]
[null,11,{"$f":"Singles!BF311","v":"Will Hurley"},{"$f":"Singles!BG311","v":"NUIG"},{"$f":"Singles!BH311","v":0},{"$f":"Singles!BI311","v":498},{"$f":"Singles!BJ311","v":0},{"$f":"Singles!BK311","v":0},{"$f":"Singles!BL311","v":0},{"$f":"Singles!BM311","v":0},null,{"$f":"Singles!BN103","v":498},{"$f":"Singles!BO103","v":0},{"$f":"Singles!BP103","v":498.0498},null,null,null,null,null,null,null,null,null,null,null,null,null,null,null,null,null,null,null,null,"Will Hurley",null,null,null,null,null,null,null,null,null,null,null,"NCAD CONDITIONAL FORMATTING FORMULA >","OR($AH7=Tables!$B$1071,$AH7=Tables!$B$1072,$AH7=Tables!$B$1073,$AH7=Tables!$B$1074,$AH7=Tables!$B$1075)"]
[null,12,{"$f":"Singles!BF312","v":"Lukas Korcak"},{"$f":"Singles!BG312","v":"ITC"},{"$f":"Singles!BH312","v":362},{"$f":"Singles!BI312","v":0},{"$f":"Singles!BJ312","v":0},{"$f":"Singles!BK312","v":0},{"$f":"Singles!BL312","v":0},{"$f":"Singles!BM312","v":0},null,{"$f":"Singles!BN104","v":362},{"$f":"Singles!BO104","v":0},{"$f":"Singles!BP104","v":362.03620000000001},null,null,null,null,null,null,null,null,null,null,null,null,null,null,null,null,null,null,null,null,"Lukas Korcak",null,null,null,null,null,null,null,null,null,null,null,"NUIG CONDITIONAL FORMATTING FORMULA >","OR($AH7=Tables!$B$1081,$AH7=Tables!$B$1082,$AH7=Tables!$B$1083,$AH7=Tables!$B$1084,$AH7=Tables!$B$1085)"]
[null,13,{"$f":"Singles!BF313","v":0},{"$f":"Singles!BG313","v":"TBC"},{"$f":"Singles!BH313","v":"TBC"},{"$f":"Singles!BI313","v":"TBC"},{"$f":"Singles!BJ313","v":"TBC"},{"$f":"Singles!BK313","v":"TBC"},{"$f":"Singles!BL313","v":"TBC"},{"$f":"Singles!BM313","v":"TBC"},null,{"$f":"Singles!BN105","v":0},{"$f":"Singles!BO105","v":0},{"$f":"Singles!BP105","v":0},null,null,null,null,null,null,null,null,null,null,null,null,null,null,null,null,null,null,null,null,0,null,null,null,null,null,null,null,null,null,null,null,"RCSI CONDITIONAL FORMATTING FORMULA >","OR($AH7=Tables!$B$1091,$AH7=Tables!$B$1092,$AH7=Tables!$B$1093,$AH7=Tables!$B$1094,$AH7=Tables!$B$1095)"]
[null,14,{"$f":"Singles!BF314","v":0},{"$f":"Singles!BG314","v":"TBC"},{"$f":"Singles!BH314","v":"TBC"},{"$f":"Singles!BI314","v":"TBC"},{"$f":"Singles!BJ314","v":"TBC"},{"$f":"Singles!BK314","v":"TBC"},{"$f":"Singles!BL314","v":"TBC"},{"$f":"Singles!BM314","v":"TBC"},null,{"$f":"Singles!BN106","v":0},{"$f":"Singles!BO106","v":0},{"$f":"Singles!BP106","v":0},null,null,null,null,null,null,null,null,null,null,null,null,null,null,null,null,null,null,null,null,0,null,null,null,null,null,null,null,null,null,null,null,"UCC CONDITIONAL FORMATTING FORMULA >","OR($AH7=Tables!$B$1101,$AH7=Tables!$B$1102,$AH7=Tables!$B$1103,$AH7=Tables!$B$1104,$AH7=Tables!$B$1105)"]
[null,15,{"$f":"Singles!BF315","v":0},{"$f":"Singles!BG315","v":"TBC"},{"$f":"Singles!BH315","v":"TBC"},{"$f":"Singles!BI315","v":"TBC"},{"$f":"Singles!BJ315","v":"TBC"},{"$f":"Singles!BK315","v":"TBC"},{"$f":"Singles!BL315","v":"TBC"},{"$f":"Singles!BM315","v":"TBC"},null,{"$f":"Singles!BN107","v":0},{"$f":"Singles!BO107","v":0},{"$f":"Singles!BP107","v":0},null,null,null,null,null,null,null,null,null,null,null,null,null,null,null,null,null,null,null,null,0,null,null,null,null,null,null,null,null,null,null,null,"UCD CONDITIONAL FORMATTING FORMULA >","OR($AH7=Tables!$B$1111,$AH7=Tables!$B$1112,$AH7=Tables!$B$1113,$AH7=Tables!$B$1114,$AH7=Tables!$B$1115)"]
[null,16,{"$f":"Singles!BF316","v":0},{"$f":"Singles!BG316","v":"TBC"},{"$f":"Singles!BH316","v":"TBC"},{"$f":"Singles!BI316","v":"TBC"},{"$f":"Singles!BJ316","v":"TBC"},{"$f":"Singles!BK316","v":"TBC"},{"$f":"Singles!BL316","v":"TBC"},{"$f":"Singles!BM316","v":"TBC"},null,{"$f":"Singles!BN108","v":0},{"$f":"Singles!BO108","v":0},{"$f":"Singles!BP108","v":0},null,null,null,null,null,null,null,null,null,null,null,null,null,null,null,null,null,null,null,null,0,null,null,null,null,null,null,null,null,null,null,null,"UL CONDITIONAL FORMATTING FORMULA >","OR($AH7=Tables!$B$1121,$AH7=Tables!$B$1122,$AH7=Tables!$B$1123,$AH7=Tables!$B$1124,$AH7=Tables!$B$1125)"]
[null,17,{"$f":"Singles!BF317","v":0},{"$f":"Singles!BG317","v":"TBC"},{"$f":"Singles!BH317","v":"TBC"},{"$f":"Singles!BI317","v":"TBC"},{"$f":"Singles!BJ317","v":"TBC"},{"$f":"Singles!BK317","v":"TBC"},{"$f":"Singles!BL317","v":"TBC"},{"$f":"Singles!BM317","v":"TBC"},null,{"$f":"Singles!BN109","v":0},{"$f":"Singles!BO109","v":0},{"$f":"Singles!BP109","v":0},null,null,null,null,null,null,null,null,null,null,null,null,null,null,null,null,null,null,null,null,0,null,null,null,null,null,null,null,null,null,null,null,"UU CONDITIONAL FORMATTING FORMULA >","OR($AH7=Tables!$B$1131,$AH7=Tables!$B$1132,$AH7=Tables!$B$1133,$AH7=Tables!$B$1134,$AH7=Tables!$B$1135)"]
[null,18,{"$f":"Singles!BF318","v":0},{"$f":"Singles!BG318","v":"TBC"},{"$f":"Singles!BH318","v":"TBC"},{"$f":"Singles!BI318","v":"TBC"},{"$f":"Singles!BJ318","v":"TBC"},{"$f":"Singles!BK318","v":"TBC"},{"$f":"Singles!BL318","v":"TBC"},{"$f":"Singles!BM318","v":"TBC"},null,{"$f":"Singles!BN110","v":0},{"$f":"Singles!BO110","v":0},{"$f":"Singles!BP110","v":0},null,null,null,null,null,null,null,null,null,null,null,null,null,null,null,null,null,null,null,null,0,null,null,null,null,null,null,null,null,null,null,null,"WIT CONDITIONAL FORMATTING FORMULA >","OR($AH7=Tables!$B$1141,$AH7=Tables!$B$1142,$AH7=Tables!$B$1143,$AH7=Tables!$B$1144,$AH7=Tables!$B$1155)"]
[null,19,{"$f":"Singles!BF319","v":0},{"$f":"Singles!BG319","v":"TBC"},{"$f":"Singles!BH319","v":"TBC"},{"$f":"Singles!BI319","v":"TBC"},{"$f":"Singles!BJ319","v":"TBC"},{"$f":"Singles!BK319","v":"TBC"},{"$f":"Singles!BL319","v":"TBC"},{"$f":"Singles!BM319","v":"TBC"},null,{"$f":"Singles!BN111","v":0},{"$f":"Singles!BO111","v":0},{"$f":"Singles!BP111","v":0},null,null,null,null,null,null,null,null,null,null,null,null,null,null,null,null,null,null,null,null,0,null,null,null,null,null,null,null,null,null,null,null,"AAA CONDITIONAL FORMATTING FORMULA >","OR($AH7=Tables!$B$1401,$AH7=Tables!$B$1402,$AH7=Tables!$B$1403,$AH7=Tables!$B$1404,$AH7=Tables!$B$1405)"]
[null,20,{"$f":"Singles!BF320","v":0},{"$f":"Singles!BG320","v":"TBC"},{"$f":"Singles!BH320","v":"TBC"},{"$f":"Singles!BI320","v":"TBC"},{"$f":"Singles!BJ320","v":"TBC"},{"$f":"Singles!BK320","v":"TBC"},{"$f":"Singles!BL320","v":"TBC"},{"$f":"Singles!BM320","v":"TBC"},null,{"$f":"Singles!BN112","v":0},{"$f":"Singles!BO112","v":0},{"$f":"Singles!BP112","v":0},null,null,null,null,null,null,null,null,null,null,null,null,null,null,null,null,null,null,null,null,0,null,null,null,null,null,null,null,null,null,null,null,"BBB CONDITIONAL FORMATTING FORMULA >","OR($AH7=Tables!$B$1411,$AH7=Tables!$B$1412,$AH7=Tables!$B$1413,$AH7=Tables!$B$1414,$AH7=Tables!$B$1415)"]
[null,21,{"$f":"Singles!BF321","v":0},{"$f":"Singles!BG321","v":"TBC"},{"$f":"Singles!BH321","v":"TBC"},{"$f":"Singles!BI321","v":"TBC"},{"$f":"Singles!BJ321","v":"TBC"},{"$f":"Singles!BK321","v":"TBC"},{"$f":"Singles!BL321","v":"TBC"},{"$f":"Singles!BM321","v":"TBC"},null,{"$f":"Singles!BN113","v":0},{"$f":"Singles!BO113","v":0},{"$f":"Singles!BP113","v":0},null,null,null,null,null,null,null,null,null,null,null,null,null,null,null,null,null,null,null,null,0,null,null,null,null,null,null,null,null,null,null,null,"CCC CONDITIONAL FORMATTING FORMULA >","OR($AH7=Tables!$B$1421,$AH7=Tables!$B$1422,$AH7=Tables!$B$1423,$AH7=Tables!$B$1424,$AH7=Tables!$B$1425)"]
[null,22,{"$f":"Singles!BF322","v":0},{"$f":"Singles!BG322","v":"TBC"},{"$f":"Singles!BH322","v":"TBC"},{"$f":"Singles!BI322","v":"TBC"},{"$f":"Singles!BJ322","v":"TBC"},{"$f":"Singles!BK322","v":"TBC"},{"$f":"Singles!BL322","v":"TBC"},{"$f":"Singles!BM322","v":"TBC"},null,{"$f":"Singles!BN114","v":0},{"$f":"Singles!BO114","v":0},{"$f":"Singles!BP114","v":0},null,null,null,null,null,null,null,null,null,null,null,null,null,null,null,null,null,null,null,null,0,null,null,null,null,null,null,null,null,null,null,null,"DDD CONDITIONAL FORMATTING FORMULA >","OR($AH7=Tables!$B$1431,$AH7=Tables!$B$1432,$AH7=Tables!$B$1433,$AH7=Tables!$B$1434,$AH7=Tables!$B$1435)"]
[null,23,{"$f":"Singles!BF323","v":0},{"$f":"Singles!BG323","v":"TBC"},{"$f":"Singles!BH323","v":"TBC"},{"$f":"Singles!BI323","v":"TBC"},{"$f":"Singles!BJ323","v":"TBC"},{"$f":"Singles!BK323","v":"TBC"},{"$f":"Singles!BL323","v":"TBC"},{"$f":"Singles!BM323","v":"TBC"},null,{"$f":"Singles!BN115","v":0},{"$f":"Singles!BO115","v":0},{"$f":"Singles!BP115","v":0},null,null,null,null,null,null,null,null,null,null,null,null,null,null,null,null,null,null,null,null,0,null,null,null,null,null,null,null,null,null,null,null,"EEE CONDITIONAL FORMATTING FORMULA >","OR($AH7=Tables!$B$1441,$AH7=Tables!$B$1442,$AH7=Tables!$B$1443,$AH7=Tables!$B$1444,$AH7=Tables!$B$1455)"]
[null,24,{"$f":"Singles!BF324","v":0},{"$f":"Singles!BG324","v":"TBC"},{"$f":"Singles!BH324","v":"TBC"},{"$f":"Singles!BI324","v":"TBC"},{"$f":"Singles!BJ324","v":"TBC"},{"$f":"Singles!BK324","v":"TBC"},{"$f":"Singles!BL324","v":"TBC"},{"$f":"Singles!BM324","v":"TBC"},null,{"$f":"Singles!BN116","v":0},{"$f":"Singles!BO116","v":0},{"$f":"Singles!BP116","v":0},null,null,null,null,null,null,null,null,null,null,null,null,null,null,null,null,null,null,null,null,0]
[null,25,{"$f":"Singles!BF325","v":0},{"$f":"Singles!BG325","v":"TBC"},{"$f":"Singles!BH325","v":"TBC"},{"$f":"Singles!BI325","v":"TBC"},{"$f":"Singles!BJ325","v":"TBC"},{"$f":"Singles!BK325","v":"TBC"},{"$f":"Singles!BL325","v":"TBC"},{"$f":"Singles!BM325","v":"TBC"},null,{"$f":"Singles!BN117","v":0},{"$f":"Singles!BO117","v":0},{"$f":"Singles!BP117","v":0},null,null,null,null,null,null,null,null,null,null,null,null,null,null,null,null,null,null,null,null,0]
[null,26,{"$f":"Singles!BF326","v":0},{"$f":"Singles!BG326","v":"TBC"},{"$f":"Singles!BH326","v":"TBC"},{"$f":"Singles!BI326","v":"TBC"},{"$f":"Singles!BJ326","v":"TBC"},{"$f":"Singles!BK326","v":"TBC"},{"$f":"Singles!BL326","v":"TBC"},{"$f":"Singles!BM326","v":"TBC"},null,{"$f":"Singles!BN118","v":0},{"$f":"Singles!BO118","v":0},{"$f":"Singles!BP118","v":0},null,null,null,null,null,null,null,null,null,null,null,null,null,null,null,null,null,null,null,null,0]
[null,27,{"$f":"Singles!BF327","v":0},{"$f":"Singles!BG327","v":"TBC"},{"$f":"Singles!BH327","v":"TBC"},{"$f":"Singles!BI327","v":"TBC"},{"$f":"Singles!BJ327","v":"TBC"},{"$f":"Singles!BK327","v":"TBC"},{"$f":"Singles!BL327","v":"TBC"},{"$f":"Singles!BM327","v":"TBC"},null,{"$f":"Singles!BN119","v":0},{"$f":"Singles!BO119","v":0},{"$f":"Singles!BP119","v":0},null,null,null,null,null,null,null,null,null,null,null,null,null,null,null,null,null,null,null,null,0]
[null,28,{"$f":"Singles!BF328","v":0},{"$f":"Singles!BG328","v":"TBC"},{"$f":"Singles!BH328","v":"TBC"},{"$f":"Singles!BI328","v":"TBC"},{"$f":"Singles!BJ328","v":"TBC"},{"$f":"Singles!BK328","v":"TBC"},{"$f":"Singles!BL328","v":"TBC"},{"$f":"Singles!BM328","v":"TBC"},null,{"$f":"Singles!BN120","v":0},{"$f":"Singles!BO120","v":0},{"$f":"Singles!BP120","v":0},null,null,null,null,null,null,null,null,null,null,null,null,null,null,null,null,null,null,null,null,0]
[null,29,{"$f":"Singles!BF329","v":0},{"$f":"Singles!BG329","v":"TBC"},{"$f":"Singles!BH329","v":"TBC"},{"$f":"Singles!BI329","v":"TBC"},{"$f":"Singles!BJ329","v":"TBC"},{"$f":"Singles!BK329","v":"TBC"},{"$f":"Singles!BL329","v":"TBC"},{"$f":"Singles!BM329","v":"TBC"},null,{"$f":"Singles!BN121","v":0},{"$f":"Singles!BO121","v":0},{"$f":"Singles!BP121","v":0},null,null,null,null,null,null,null,null,null,null,null,null,null,null,null,null,null,null,null,null,0]
[null,30,{"$f":"Singles!BF330","v":0},{"$f":"Singles!BG330","v":"TBC"},{"$f":"Singles!BH330","v":"TBC"},{"$f":"Singles!BI330","v":"TBC"},{"$f":"Singles!BJ330","v":"TBC"},{"$f":"Singles!BK330","v":"TBC"},{"$f":"Singles!BL330","v":"TBC"},{"$f":"Singles!BM330","v":"TBC"},null,{"$f":"Singles!BN122","v":0},{"$f":"Singles!BO122","v":0},{"$f":"Singles!BP122","v":0},null,null,null,null,null,null,null,null,null,null,null,null,null,null,null,null,null,null,null,null,0]
[null,31,{"$f":"Singles!BF331","v":0},{"$f":"Singles!BG331","v":"TBC"},{"$f":"Singles!BH331","v":"TBC"},{"$f":"Singles!BI331","v":"TBC"},{"$f":"Singles!BJ331","v":"TBC"},{"$f":"Singles!BK331","v":"TBC"},{"$f":"Singles!BL331","v":"TBC"},{"$f":"Singles!BM331","v":"TBC"},null,{"$f":"Singles!BN123","v":0},{"$f":"Singles!BO123","v":0},{"$f":"Singles!BP123","v":0},null,null,null,null,null,null,null,null,null,null,null,null,null,null,null,null,null,null,null,null,0]
[null,32,{"$f":"Singles!BF332","v":0},{"$f":"Singles!BG332","v":"TBC"},{"$f":"Singles!BH332","v":"TBC"},{"$f":"Singles!BI332","v":"TBC"},{"$f":"Singles!BJ332","v":"TBC"},{"$f":"Singles!BK332","v":"TBC"},{"$f":"Singles!BL332","v":"TBC"},{"$f":"Singles!BM332","v":"TBC"},null,{"$f":"Singles!BN124","v":0},{"$f":"Singles!BO124","v":0},{"$f":"Singles!BP124","v":0},null,null,null,null,null,null,null,null,null,null,null,null,null,null,null,null,null,null,null,null,0]
[null,33,{"$f":"Singles!BF333","v":0},{"$f":"Singles!BG333","v":"TBC"},{"$f":"Singles!BH333","v":"TBC"},{"$f":"Singles!BI333","v":"TBC"},{"$f":"Singles!BJ333","v":"TBC"},{"$f":"Singles!BK333","v":"TBC"},{"$f":"Singles!BL333","v":"TBC"},{"$f":"Singles!BM333","v":"TBC"},null,{"$f":"Singles!BN125","v":0},{"$f":"Singles!BO125","v":0},{"$f":"Singles!BP125","v":0},null,null,null,null,null,null,null,null,null,null,null,null,null,null,null,null,null,null,null,null,{"$f":"C39","v":0}]
[null,34,{"$f":"Singles!BF334","v":0},{"$f":"Singles!BG334","v":"TBC"},{"$f":"Singles!BH334","v":"TBC"},{"$f":"Singles!BI334","v":"TBC"},{"$f":"Singles!BJ334","v":"TBC"},{"$f":"Singles!BK334","v":"TBC"},{"$f":"Singles!BL334","v":"TBC"},{"$f":"Singles!BM334","v":"TBC"},null,{"$f":"Singles!BN126","v":0},{"$f":"Singles!BO126","v":0},{"$f":"Singles!BP126","v":0},null,null,null,null,null,null,null,null,null,null,null,null,null,null,null,null,null,null,null,null,0]
[null,35,{"$f":"Singles!BF335","v":0},{"$f":"Singles!BG335","v":"TBC"},{"$f":"Singles!BH335","v":"TBC"},{"$f":"Singles!BI335","v":"TBC"},{"$f":"Singles!BJ335","v":"TBC"},{"$f":"Singles!BK335","v":"TBC"},{"$f":"Singles!BL335","v":"TBC"},{"$f":"Singles!BM335","v":"TBC"},null,{"$f":"Singles!BN127","v":0},{"$f":"Singles!BO127","v":0},{"$f":"Singles!BP127","v":0},null,null,null,null,null,null,null,null,null,null,null,null,null,null,null,null,null,null,null,null,0]
[null,36,{"$f":"Singles!BF336","v":0},{"$f":"Singles!BG336","v":"TBC"},{"$f":"Singles!BH336","v":"TBC"},{"$f":"Singles!BI336","v":"TBC"},{"$f":"Singles!BJ336","v":"TBC"},{"$f":"Singles!BK336","v":"TBC"},{"$f":"Singles!BL336","v":"TBC"},{"$f":"Singles!BM336","v":"TBC"},null,{"$f":"Singles!BN128","v":0},{"$f":"Singles!BO128","v":0},{"$f":"Singles!BP128","v":0},null,null,null,null,null,null,null,null,null,null,null,null,null,null,null,null,null,null,null,null,0]
[null,37,{"$f":"Singles!BF337","v":0},{"$f":"Singles!BG337","v":"TBC"},{"$f":"Singles!BH337","v":"TBC"},{"$f":"Singles!BI337","v":"TBC"},{"$f":"Singles!BJ337","v":"TBC"},{"$f":"Singles!BK337","v":"TBC"},{"$f":"Singles!BL337","v":"TBC"},{"$f":"Singles!BM337","v":"TBC"},null,{"$f":"Singles!BN129","v":0},{"$f":"Singles!BO129","v":0},{"$f":"Singles!BP129","v":0},null,null,null,null,null,null,null,null,null,null,null,null,null,null,null,null,null,null,null,null,0]
[null,38,{"$f":"Singles!BF338","v":0},{"$f":"Singles!BG338","v":"TBC"},{"$f":"Singles!BH338","v":"TBC"},{"$f":"Singles!BI338","v":"TBC"},{"$f":"Singles!BJ338","v":"TBC"},{"$f":"Singles!BK338","v":"TBC"},{"$f":"Singles!BL338","v":"TBC"},{"$f":"Singles!BM338","v":"TBC"},null,{"$f":"Singles!BN130","v":0},{"$f":"Singles!BO130","v":0},{"$f":"Singles!BP130","v":0},null,null,null,null,null,null,null,null,null,null,null,null,null,null,null,null,null,null,null,null,0]
[null,39,{"$f":"Singles!BF339","v":0},{"$f":"Singles!BG339","v":"TBC"},{"$f":"Singles!BH339","v":"TBC"},{"$f":"Singles!BI339","v":"TBC"},{"$f":"Singles!BJ339","v":"TBC"},{"$f":"Singles!BK339","v":"TBC"},{"$f":"Singles!BL339","v":"TBC"},{"$f":"Singles!BM339","v":"TBC"},null,{"$f":"Singles!BN131","v":0},{"$f":"Singles!BO131","v":0},{"$f":"Singles!BP131","v":0},null,null,null,null,null,null,null,null,null,null,null,null,null,null,null,null,null,null,null,null,0]
[null,40,{"$f":"Singles!BF340","v":0},{"$f":"Singles!BG340","v":"TBC"},{"$f":"Singles!BH340","v":"TBC"},{"$f":"Singles!BI340","v":"TBC"},{"$f":"Singles!BJ340","v":"TBC"},{"$f":"Singles!BK340","v":"TBC"},{"$f":"Singles!BL340","v":"TBC"},{"$f":"Singles!BM340","v":"TBC"},null,{"$f":"Singles!BN132","v":0},{"$f":"Singles!BO132","v":0},{"$f":"Singles!BP132","v":0},null,null,null,null,null,null,null,null,null,null,null,null,null,null,null,null,null,null,null,null,0]
[null,41,{"$f":"Singles!BF341","v":0},{"$f":"Singles!BG341","v":"TBC"},{"$f":"Singles!BH341","v":"TBC"},{"$f":"Singles!BI341","v":"TBC"},{"$f":"Singles!BJ341","v":"TBC"},{"$f":"Singles!BK341","v":"TBC"},{"$f":"Singles!BL341","v":"TBC"},{"$f":"Singles!BM341","v":"TBC"},null,{"$f":"Singles!BN133","v":0},{"$f":"Singles!BO133","v":0},{"$f":"Singles!BP133","v":0},null,null,null,null,null,null,null,null,null,null,null,null,null,null,null,null,null,null,null,null,0]
[null,42,{"$f":"Singles!BF342","v":0},{"$f":"Singles!BG342","v":"TBC"},{"$f":"Singles!BH342","v":"TBC"},{"$f":"Singles!BI342","v":"TBC"},{"$f":"Singles!BJ342","v":"TBC"},{"$f":"Singles!BK342","v":"TBC"},{"$f":"Singles!BL342","v":"TBC"},{"$f":"Singles!BM342","v":"TBC"},null,{"$f":"Singles!BN134","v":0},{"$f":"Singles!BO134","v":0},{"$f":"Singles!BP134","v":0},null,null,null,null,null,null,null,null,null,null,null,null,null,null,null,null,null,null,null,null,0]
[null,43,{"$f":"Singles!BF343","v":0},{"$f":"Singles!BG343","v":"TBC"},{"$f":"Singles!BH343","v":"TBC"},{"$f":"Singles!BI343","v":"TBC"},{"$f":"Singles!BJ343","v":"TBC"},{"$f":"Singles!BK343","v":"TBC"},{"$f":"Singles!BL343","v":"TBC"},{"$f":"Singles!BM343","v":"TBC"},null,{"$f":"Singles!BN135","v":0},{"$f":"Singles!BO135","v":0},{"$f":"Singles!BP135","v":0},null,null,null,null,null,null,null,null,null,null,null,null,null,null,null,null,null,null,null,null,0]
[null,44,{"$f":"Singles!BF344","v":0},{"$f":"Singles!BG344","v":"TBC"},{"$f":"Singles!BH344","v":"TBC"},{"$f":"Singles!BI344","v":"TBC"},{"$f":"Singles!BJ344","v":"TBC"},{"$f":"Singles!BK344","v":"TBC"},{"$f":"Singles!BL344","v":"TBC"},{"$f":"Singles!BM344","v":"TBC"},null,{"$f":"Singles!BN136","v":0},{"$f":"Singles!BO136","v":0},{"$f":"Singles!BP136","v":0},null,null,null,null,null,null,null,null,null,null,null,null,null,null,null,null,null,null,null,null,0]
[null,45,{"$f":"Singles!BF345","v":0},{"$f":"Singles!BG345","v":"TBC"},{"$f":"Singles!BH345","v":"TBC"},{"$f":"Singles!BI345","v":"TBC"},{"$f":"Singles!BJ345","v":"TBC"},{"$f":"Singles!BK345","v":"TBC"},{"$f":"Singles!BL345","v":"TBC"},{"$f":"Singles!BM345","v":"TBC"},null,{"$f":"Singles!BN137","v":0},{"$f":"Singles!BO137","v":0},{"$f":"Singles!BP137","v":0},null,null,null,null,null,null,null,null,null,null,null,null,null,null,null,null,null,null,null,null,0]
[null,46,{"$f":"Singles!BF346","v":0},{"$f":"Singles!BG346","v":"TBC"},{"$f":"Singles!BH346","v":"TBC"},{"$f":"Singles!BI346","v":"TBC"},{"$f":"Singles!BJ346","v":"TBC"},{"$f":"Singles!BK346","v":"TBC"},{"$f":"Singles!BL346","v":"TBC"},{"$f":"Singles!BM346","v":"TBC"},null,{"$f":"Singles!BN138","v":0},{"$f":"Singles!BO138","v":0},{"$f":"Singles!BP138","v":0},null,null,null,null,null,null,null,null,null,null,null,null,null,null,null,null,null,null,null,null,0]
[null,47,{"$f":"Singles!BF347","v":0},{"$f":"Singles!BG347","v":"TBC"},{"$f":"Singles!BH347","v":"TBC"},{"$f":"Singles!BI347","v":"TBC"},{"$f":"Singles!BJ347","v":"TBC"},{"$f":"Singles!BK347","v":"TBC"},{"$f":"Singles!BL347","v":"TBC"},{"$f":"Singles!BM347","v":"TBC"},null,{"$f":"Singles!BN139","v":0},{"$f":"Singles!BO139","v":0},{"$f":"Singles!BP139","v":0},null,null,null,null,null,null,null,null,null,null,null,null,null,null,null,null,null,null,null,null,0]
[null,48,{"$f":"Singles!BF348","v":0},{"$f":"Singles!BG348","v":"TBC"},{"$f":"Singles!BH348","v":"TBC"},{"$f":"Singles!BI348","v":"TBC"},{"$f":"Singles!BJ348","v":"TBC"},{"$f":"Singles!BK348","v":"TBC"},{"$f":"Singles!BL348","v":"TBC"},{"$f":"Singles!BM348","v":"TBC"},null,{"$f":"Singles!BN140","v":0},{"$f":"Singles!BO140","v":0},{"$f":"Singles!BP140","v":0},null,null,null,null,null,null,null,null,null,null,null,null,null,null,null,null,null,null,null,null,0]
[null,49,{"$f":"Singles!BF349","v":0},{"$f":"Singles!BG349","v":"TBC"},{"$f":"Singles!BH349","v":"TBC"},{"$f":"Singles!BI349","v":"TBC"},{"$f":"Singles!BJ349","v":"TBC"},{"$f":"Singles!BK349","v":"TBC"},{"$f":"Singles!BL349","v":"TBC"},{"$f":"Singles!BM349","v":"TBC"},null,{"$f":"Singles!BN141","v":0},{"$f":"Singles!BO141","v":0},{"$f":"Singles!BP141","v":0},null,null,null,null,null,null,null,null,null,null,null,null,null,null,null,null,null,null,null,null,0]
[null,50,{"$f":"Singles!BF350","v":0},{"$f":"Singles!BG350","v":"TBC"},{"$f":"Singles!BH350","v":"TBC"},{"$f":"Singles!BI350","v":"TBC"},{"$f":"Singles!BJ350","v":"TBC"},{"$f":"Singles!BK350","v":"TBC"},{"$f":"Singles!BL350","v":"TBC"},{"$f":"Singles!BM350","v":"TBC"},null,{"$f":"Singles!BN142","v":0},{"$f":"Singles!BO142","v":0},{"$f":"Singles!BP142","v":0},null,null,null,null,null,null,null,null,null,null,null,null,null,null,null,null,null,null,null,null,0]
[null,51,{"$f":"Singles!BF351","v":0},{"$f":"Singles!BG351","v":"TBC"},{"$f":"Singles!BH351","v":"TBC"},{"$f":"Singles!BI351","v":"TBC"},{"$f":"Singles!BJ351","v":"TBC"},{"$f":"Singles!BK351","v":"TBC"},{"$f":"Singles!BL351","v":"TBC"},{"$f":"Singles!BM351","v":"TBC"},null,{"$f":"Singles!BN143","v":0},{"$f":"Singles!BO143","v":0},{"$f":"Singles!BP143","v":0},null,null,null,null,null,null,null,null,null,null,null,null,null,null,null,null,null,null,null,null,0]
[null,52,{"$f":"Singles!BF352","v":0},{"$f":"Singles!BG352","v":"TBC"},{"$f":"Singles!BH352","v":"TBC"},{"$f":"Singles!BI352","v":"TBC"},{"$f":"Singles!BJ352","v":"TBC"},{"$f":"Singles!BK352","v":"TBC"},{"$f":"Singles!BL352","v":"TBC"},{"$f":"Singles!BM352","v":"TBC"},null,{"$f":"Singles!BN144","v":0},{"$f":"Singles!BO144","v":0},{"$f":"Singles!BP144","v":0},null,null,null,null,null,null,null,null,null,null,null,null,null,null,null,null,null,null,null,null,0]
[null,53,{"$f":"Singles!BF353","v":0},{"$f":"Singles!BG353","v":"TBC"},{"$f":"Singles!BH353","v":"TBC"},{"$f":"Singles!BI353","v":"TBC"},{"$f":"Singles!BJ353","v":"TBC"},{"$f":"Singles!BK353","v":"TBC"},{"$f":"Singles!BL353","v":"TBC"},{"$f":"Singles!BM353","v":"TBC"},null,{"$f":"Singles!BN145","v":0},{"$f":"Singles!BO145","v":0},{"$f":"Singles!BP145","v":0},null,null,null,null,null,null,null,null,null,null,null,null,null,null,null,null,null,null,null,null,0]
[null,54,{"$f":"Singles!BF354","v":0},{"$f":"Singles!BG354","v":"TBC"},{"$f":"Singles!BH354","v":"TBC"},{"$f":"Singles!BI354","v":"TBC"},{"$f":"Singles!BJ354","v":"TBC"},{"$f":"Singles!BK354","v":"TBC"},{"$f":"Singles!BL354","v":"TBC"},{"$f":"Singles!BM354","v":"TBC"},null,{"$f":"Singles!BN146","v":0},{"$f":"Singles!BO146","v":0},{"$f":"Singles!BP146","v":0},null,null,null,null,null,null,null,null,null,null,null,null,null,null,null,null,null,null,null,null,0]
[null,55,{"$f":"Singles!BF355","v":0},{"$f":"Singles!BG355","v":"TBC"},{"$f":"Singles!BH355","v":"TBC"},{"$f":"Singles!BI355","v":"TBC"},{"$f":"Singles!BJ355","v":"TBC"},{"$f":"Singles!BK355","v":"TBC"},{"$f":"Singles!BL355","v":"TBC"},{"$f":"Singles!BM355","v":"TBC"},null,{"$f":"Singles!BN147","v":0},{"$f":"Singles!BO147","v":0},{"$f":"Singles!BP147","v":0},null,null,null,null,null,null,null,null,null,null,null,null,null,null,null,null,null,null,null,null,0]
[null,56,{"$f":"Singles!BF356","v":0},{"$f":"Singles!BG356","v":"TBC"},{"$f":"Singles!BH356","v":"TBC"},{"$f":"Singles!BI356","v":"TBC"},{"$f":"Singles!BJ356","v":"TBC"},{"$f":"Singles!BK356","v":"TBC"},{"$f":"Singles!BL356","v":"TBC"},{"$f":"Singles!BM356","v":"TBC"},null,{"$f":"Singles!BN148","v":0},{"$f":"Singles!BO148","v":0},{"$f":"Singles!BP148","v":0},null,null,null,null,null,null,null,null,null,null,null,null,null,null,null,null,null,null,null,null,0]
[null,57,{"$f":"Singles!BF357","v":0},{"$f":"Singles!BG357","v":"TBC"},{"$f":"Singles!BH357","v":"TBC"},{"$f":"Singles!BI357","v":"TBC"},{"$f":"Singles!BJ357","v":"TBC"},{"$f":"Singles!BK357","v":"TBC"},{"$f":"Singles!BL357","v":"TBC"},{"$f":"Singles!BM357","v":"TBC"},null,{"$f":"Singles!BN149","v":0},{"$f":"Singles!BO149","v":0},{"$f":"Singles!BP149","v":0},null,null,null,null,null,null,null,null,null,null,null,null,null,null,null,null,null,null,null,null,0]
[null,58,{"$f":"Singles!BF358","v":0},{"$f":"Singles!BG358","v":"TBC"},{"$f":"Singles!BH358","v":"TBC"},{"$f":"Singles!BI358","v":"TBC"},{"$f":"Singles!BJ358","v":"TBC"},{"$f":"Singles!BK358","v":"TBC"},{"$f":"Singles!BL358","v":"TBC"},{"$f":"Singles!BM358","v":"TBC"},null,{"$f":"Singles!BN150","v":0},{"$f":"Singles!BO150","v":0},{"$f":"Singles!BP150","v":0},null,null,null,null,null,null,null,null,null,null,null,null,null,null,null,null,null,null,null,null,0]
[null,59,{"$f":"Singles!BF359","v":0},{"$f":"Singles!BG359","v":"TBC"},{"$f":"Singles!BH359","v":"TBC"},{"$f":"Singles!BI359","v":"TBC"},{"$f":"Singles!BJ359","v":"TBC"},{"$f":"Singles!BK359","v":"TBC"},{"$f":"Singles!BL359","v":"TBC"},{"$f":"Singles!BM359","v":"TBC"},null,{"$f":"Singles!BN151","v":0},{"$f":"Singles!BO151","v":0},{"$f":"Singles!BP151","v":0},null,null,null,null,null,null,null,null,null,null,null,null,null,null,null,null,null,null,null,null,0]
[null,60,{"$f":"Singles!BF360","v":0},{"$f":"Singles!BG360","v":"TBC"},{"$f":"Singles!BH360","v":"TBC"},{"$f":"Singles!BI360","v":"TBC"},{"$f":"Singles!BJ360","v":"TBC"},{"$f":"Singles!BK360","v":"TBC"},{"$f":"Singles!BL360","v":"TBC"},{"$f":"Singles!BM360","v":"TBC"},null,{"$f":"Singles!BN152","v":0},{"$f":"Singles!BO152","v":0},{"$f":"Singles!BP152","v":0},null,null,null,null,null,null,null,null,null,null,null,null,null,null,null,null,null,null,null,null,0]
[null,61,{"$f":"Singles!BF361","v":0},{"$f":"Singles!BG361","v":"TBC"},{"$f":"Singles!BH361","v":"TBC"},{"$f":"Singles!BI361","v":"TBC"},{"$f":"Singles!BJ361","v":"TBC"},{"$f":"Singles!BK361","v":"TBC"},{"$f":"Singles!BL361","v":"TBC"},{"$f":"Singles!BM361","v":"TBC"},null,{"$f":"Singles!BN153","v":0},{"$f":"Singles!BO153","v":0},{"$f":"Singles!BP153","v":0},null,null,null,null,null,null,null,null,null,null,null,null,null,null,null,null,null,null,null,null,0]
[null,62,{"$f":"Singles!BF362","v":0},{"$f":"Singles!BG362","v":"TBC"},{"$f":"Singles!BH362","v":"TBC"},{"$f":"Singles!BI362","v":"TBC"},{"$f":"Singles!BJ362","v":"TBC"},{"$f":"Singles!BK362","v":"TBC"},{"$f":"Singles!BL362","v":"TBC"},{"$f":"Singles!BM362","v":"TBC"},null,{"$f":"Singles!BN154","v":0},{"$f":"Singles!BO154","v":0},{"$f":"Singles!BP154","v":0},null,null,null,null,null,null,null,null,null,null,null,null,null,null,null,null,null,null,null,null,0]
[null,63,{"$f":"Singles!BF363","v":0},{"$f":"Singles!BG363","v":"TBC"},{"$f":"Singles!BH363","v":"TBC"},{"$f":"Singles!BI363","v":"TBC"},{"$f":"Singles!BJ363","v":"TBC"},{"$f":"Singles!BK363","v":"TBC"},{"$f":"Singles!BL363","v":"TBC"},{"$f":"Singles!BM363","v":"TBC"},null,{"$f":"Singles!BN155","v":0},{"$f":"Singles!BO155","v":0},{"$f":"Singles!BP155","v":0},null,null,null,null,null,null,null,null,null,null,null,null,null,null,null,null,null,null,null,null,0]
[null,64,{"$f":"Singles!BF364","v":0},{"$f":"Singles!BG364","v":"TBC"},{"$f":"Singles!BH364","v":"TBC"},{"$f":"Singles!BI364","v":"TBC"},{"$f":"Singles!BJ364","v":"TBC"},{"$f":"Singles!BK364","v":"TBC"},{"$f":"Singles!BL364","v":"TBC"},{"$f":"Singles!BM364","v":"TBC"},null,{"$f":"Singles!BN156","v":0},{"$f":"Singles!BO156","v":0},{"$f":"Singles!BP156","v":0},null,null,null,null,null,null,null,null,null,null,null,null,null,null,null,null,null,null,null,null,0]
[null,65,{"$f":"Singles!BF365","v":0},{"$f":"Singles!BG365","v":"TBC"},{"$f":"Singles!BH365","v":"TBC"},{"$f":"Singles!BI365","v":"TBC"},{"$f":"Singles!BJ365","v":"TBC"},{"$f":"Singles!BK365","v":"TBC"},{"$f":"Singles!BL365","v":"TBC"},{"$f":"Singles!BM365","v":"TBC"},null,{"$f":"Singles!BN157","v":0},{"$f":"Singles!BO157","v":0},{"$f":"Singles!BP157","v":0},null,null,null,null,null,null,null,null,null,null,null,null,null,null,null,null,null,null,null,null,0]
[null,66,{"$f":"Singles!BF366","v":0},{"$f":"Singles!BG366","v":"TBC"},{"$f":"Singles!BH366","v":"TBC"},{"$f":"Singles!BI366","v":"TBC"},{"$f":"Singles!BJ366","v":"TBC"},{"$f":"Singles!BK366","v":"TBC"},{"$f":"Singles!BL366","v":"TBC"},{"$f":"Singles!BM366","v":"TBC"},null,{"$f":"Singles!BN158","v":0},{"$f":"Singles!BO158","v":0},{"$f":"Singles!BP158","v":0},null,null,null,null,null,null,null,null,null,null,null,null,null,null,null,null,null,null,null,null,0]
[null,67,{"$f":"Singles!BF367","v":0},{"$f":"Singles!BG367","v":"TBC"},{"$f":"Singles!BH367","v":"TBC"},{"$f":"Singles!BI367","v":"TBC"},{"$f":"Singles!BJ367","v":"TBC"},{"$f":"Singles!BK367","v":"TBC"},{"$f":"Singles!BL367","v":"TBC"},{"$f":"Singles!BM367","v":"TBC"},null,{"$f":"Singles!BN159","v":0},{"$f":"Singles!BO159","v":0},{"$f":"Singles!BP159","v":0},null,null,null,null,null,null,null,null,null,null,null,null,null,null,null,null,null,null,null,null,0]
[null,68,{"$f":"Singles!BF368","v":0},{"$f":"Singles!BG368","v":"TBC"},{"$f":"Singles!BH368","v":"TBC"},{"$f":"Singles!BI368","v":"TBC"},{"$f":"Singles!BJ368","v":"TBC"},{"$f":"Singles!BK368","v":"TBC"},{"$f":"Singles!BL368","v":"TBC"},{"$f":"Singles!BM368","v":"TBC"},null,{"$f":"Singles!BN160","v":0},{"$f":"Singles!BO160","v":0},{"$f":"Singles!BP160","v":0},null,null,null,null,null,null,null,null,null,null,null,null,null,null,null,null,null,null,null,null,0]
[null,69,{"$f":"Singles!BF369","v":0},{"$f":"Singles!BG369","v":"TBC"},{"$f":"Singles!BH369","v":"TBC"},{"$f":"Singles!BI369","v":"TBC"},{"$f":"Singles!BJ369","v":"TBC"},{"$f":"Singles!BK369","v":"TBC"},{"$f":"Singles!BL369","v":"TBC"},{"$f":"Singles!BM369","v":"TBC"},null,{"$f":"Singles!BN161","v":0},{"$f":"Singles!BO161","v":0},{"$f":"Singles!BP161","v":0},null,null,null,null,null,null,null,null,null,null,null,null,null,null,null,null,null,null,null,null,0]
[null,70,{"$f":"Singles!BF370","v":0},{"$f":"Singles!BG370","v":"TBC"},{"$f":"Singles!BH370","v":"TBC"},{"$f":"Singles!BI370","v":"TBC"},{"$f":"Singles!BJ370","v":"TBC"},{"$f":"Singles!BK370","v":"TBC"},{"$f":"Singles!BL370","v":"TBC"},{"$f":"Singles!BM370","v":"TBC"},null,{"$f":"Singles!BN162","v":0},{"$f":"Singles!BO162","v":0},{"$f":"Singles!BP162","v":0},null,null,null,null,null,null,null,null,null,null,null,null,null,null,null,null,null,null,null,null,0]
[null,71,{"$f":"Singles!BF371","v":0},{"$f":"Singles!BG371","v":"TBC"},{"$f":"Singles!BH371","v":"TBC"},{"$f":"Singles!BI371","v":"TBC"},{"$f":"Singles!BJ371","v":"TBC"},{"$f":"Singles!BK371","v":"TBC"},{"$f":"Singles!BL371","v":"TBC"},{"$f":"Singles!BM371","v":"TBC"},null,{"$f":"Singles!BN163","v":0},{"$f":"Singles!BO163","v":0},{"$f":"Singles!BP163","v":0},null,null,null,null,null,null,null,null,null,null,null,null,null,null,null,null,null,null,null,null,0]
[null,72,{"$f":"Singles!BF372","v":0},{"$f":"Singles!BG372","v":"TBC"},{"$f":"Singles!BH372","v":"TBC"},{"$f":"Singles!BI372","v":"TBC"},{"$f":"Singles!BJ372","v":"TBC"},{"$f":"Singles!BK372","v":"TBC"},{"$f":"Singles!BL372","v":"TBC"},{"$f":"Singles!BM372","v":"TBC"},null,{"$f":"Singles!BN164","v":0},{"$f":"Singles!BO164","v":0},{"$f":"Singles!BP164","v":0},null,null,null,null,null,null,null,null,null,null,null,null,null,null,null,null,null,null,null,null,0]
[null,73,{"$f":"Singles!BF373","v":0},{"$f":"Singles!BG373","v":"TBC"},{"$f":"Singles!BH373","v":"TBC"},{"$f":"Singles!BI373","v":"TBC"},{"$f":"Singles!BJ373","v":"TBC"},{"$f":"Singles!BK373","v":"TBC"},{"$f":"Singles!BL373","v":"TBC"},{"$f":"Singles!BM373","v":"TBC"},null,{"$f":"Singles!BN165","v":0},{"$f":"Singles!BO165","v":0},{"$f":"Singles!BP165","v":0},null,null,null,null,null,null,null,null,null,null,null,null,null,null,null,null,null,null,null,null,0]
[null,74,{"$f":"Singles!BF374","v":0},{"$f":"Singles!BG374","v":"TBC"},{"$f":"Singles!BH374","v":"TBC"},{"$f":"Singles!BI374","v":"TBC"},{"$f":"Singles!BJ374","v":"TBC"},{"$f":"Singles!BK374","v":"TBC"},{"$f":"Singles!BL374","v":"TBC"},{"$f":"Singles!BM374","v":"TBC"},null,{"$f":"Singles!BN166","v":0},{"$f":"Singles!BO166","v":0},{"$f":"Singles!BP166","v":0},null,null,null,null,null,null,null,null,null,null,null,null,null,null,null,null,null,null,null,null,0]
[null,75,{"$f":"Singles!BF375","v":0},{"$f":"Singles!BG375","v":"TBC"},{"$f":"Singles!BH375","v":"TBC"},{"$f":"Singles!BI375","v":"TBC"},{"$f":"Singles!BJ375","v":"TBC"},{"$f":"Singles!BK375","v":"TBC"},{"$f":"Singles!BL375","v":"TBC"},{"$f":"Singles!BM375","v":"TBC"},null,{"$f":"Singles!BN167","v":0},{"$f":"Singles!BO167","v":0},{"$f":"Singles!BP167","v":0},null,null,null,null,null,null,null,null,null,null,null,null,null,null,null,null,null,null,null,null,0]
[{"$f":"$D$7","v":"NUIG"}]

{"sheet":"CF","index":13,"n_rows":82,"n_cols":35,"rows_kept":82,"cut":false,"hidden":false,"merged":[[1,14,80,14],[81,0,81,14],[1,0,80,0],[0,0,0,14],[1,4,1,9],[1,11,1,13],[1,1,3,3],[2,11,3,11],[2,12,3,12],[2,13,3,13],[4,1,4,9],[4,11,4,13],[1,10,80,10]]}
[{"$f":"$D$7","v":"NUIM"}]
["NUIM","Female Compound",null,null,"Host Club",null,null,null,null,null,{"$f":"$D$7","v":"NUIM"},"Scores",null,null,"NUIM",null,null,null,null,null,null,null,null,null,null,null,null,null,null,null,null,null,null,null,{"$f":"AI7","v":"Kerrie Leonard"}]
[null,null,null,null,{"$f":"Entries!K6","v":"DCU IV"},"UCD/ITC",{"$f":"Entries!K8","v":"DkIT IV"},"NUIM/GMIT",{"$f":"Entries!K10","v":"NUIG IV"},{"$f":"Entries!K11","v":"UL IV"},null,"Total","Lowest","League"]
[]
[null,"NUIM",null,null,null,null,null,null,null,null,null,"NUIM"]
[null,null,"Name","College","DCU IV","UCD/ITC IV","DkIT IV","NUIM/GMIT IV","NUIG IV","UL IV",null,"Total","Lowest","League total"]
[null,1,{"$f":"Singles!BT301","v":"Kerrie Leonard"},{"$f":"Singles!BU301","v":"NUIM"},{"$f":"Singles!BV301","v":506},{"$f":"Singles!BW301","v":479},{"$f":"Singles!BX301","v":510},{"$f":"Singles!BY301","v":495},{"$f":"Singles!BZ301","v":524},{"$f":"Singles!CA301","v":512},null,{"$f":"Singles!CB93","v":3026},{"$f":"Singles!CC93","v":479},{"$f":"Singles!CD93","v":2547.052451},null,null,null,null,null,null,null,null,null,null,null,null,null,null,null,null,null,null,null,null,{"$f":"C7","v":"Kerrie Leonard"}]
[null,2,{"$f":"Singles!BT302","v":"Stephanie Martin"},{"$f":"Singles!BU302","v":"DCU"},{"$f":"Singles!BV302","v":511},{"$f":"Singles!BW302","v":517},{"$f":"Singles!BX302","v":0},{"$f":"Singles!BY302","v":516},{"$f":"Singles!BZ302","v":0},{"$f":"Singles!CA302","v":522},null,{"$f":"Singles!CB94","v":2066},{"$f":"Singles!CC94","v":0},{"$f":"Singles!CD94","v":2066.0517516},null,null,null,null,null,null,null,null,null,null,null,null,null,null,null,null,null,null,null,null,"Stephanie Martin"]
[null,3,{"$f":"Singles!BT303","v":"Adria Quinn"},{"$f":"Singles!BU303","v":"GMITC"},{"$f":"Singles!BV303","v":528},{"$f":"Singles!BW303","v":533},{"$f":"Singles!BX303","v":512},{"$f":"Singles!BY303","v":0},{"$f":"Singles!BZ303","v":0},{"$f":"Singles!CA303","v":0},null,{"$f":"Singles!CB95","v":1573},{"$f":"Singles!CC95","v":0},{"$f":"Singles!CD95","v":1573.0533528000001},null,null,null,null,null,null,null,null,null,null,null,null,null,null,null,null,null,null,null,null,"Adria Quinn"]
[null,4,{"$f":"Singles!BT304","v":"Nicole Shellenbarger"},{"$f":"Singles!BU304","v":"NUIG"},{"$f":"Singles!BV304","v":0},{"$f":"Singles!BW304","v":0},{"$f":"Singles!BX304","v":0},{"$f":"Singles!BY304","v":477},{"$f":"Singles!BZ304","v":414},{"$f":"Singles!CA304","v":463},null,{"$f":"Singles!CB96","v":1354},{"$f":"Singles!CC96","v":0},{"$f":"Singles!CD96","v":1354.0477414000002},null,null,null,null,null,null,null,null,null,null,null,null,null,null,null,null,null,null,null,null,"Nicole Shellenbarger"]
[null,5,{"$f":"Singles!BT305","v":"Katie Hamilton"},{"$f":"Singles!BU305","v":"UCC"},{"$f":"Singles!BV305","v":0},{"$f":"Singles!BW305","v":0},{"$f":"Singles!BX305","v":0},{"$f":"Singles!BY305","v":0},{"$f":"Singles!BZ305","v":491},{"$f":"Singles!CA305","v":0},null,{"$f":"Singles!CB97","v":491},{"$f":"Singles!CC97","v":0},{"$f":"Singles!CD97","v":491.04910000000001},null,null,null,null,null,null,null,null,null,null,null,null,null,null,null,null,null,null,null,null,"Katie Hamilton"]
[null,6,{"$f":"Singles!BT306","v":0},{"$f":"Singles!BU306","v":"TBC"},{"$f":"Singles!BV306","v":"TBC"},{"$f":"Singles!BW306","v":"TBC"},{"$f":"Singles!BX306","v":"TBC"},{"$f":"Singles!BY306","v":"TBC"},{"$f":"Singles!BZ306","v":"TBC"},{"$f":"Singles!CA306","v":"TBC"},null,{"$f":"Singles!CB98","v":0},{"$f":"Singles!CC98","v":0},{"$f":"Singles!CD98","v":0},null,null,null,null,null,null,null,null,null,null,null,null,null,null,null,null,null,null,null,null,0]
[null,7,{"$f":"Singles!BT307","v":0},{"$f":"Singles!BU307","v":"TBC"},{"$f":"Singles!BV307","v":"TBC"},{"$f":"Singles!BW307","v":"TBC"},{"$f":"Singles!BX307","v":"TBC"},{"$f":"Singles!BY307","v":"TBC"},{"$f":"Singles!BZ307","v":"TBC"},{"$f":"Singles!CA307","v":"TBC"},null,{"$f":"Singles!CB99","v":0},{"$f":"Singles!CC99","v":0},{"$f":"Singles!CD99","v":0},null,null,null,null,null,null,null,null,null,null,null,null,null,null,null,null,null,null,null,null,0]
[null,8,{"$f":"Singles!BT308","v":0},{"$f":"Singles!BU308","v":"TBC"},{"$f":"Singles!BV308","v":"TBC"},{"$f":"Singles!BW308","v":"TBC"},{"$f":"Singles!BX308","v":"TBC"},{"$f":"Singles!BY308","v":"TBC"},{"$f":"Singles!BZ308","v":"TBC"},{"$f":"Singles!CA308","v":"TBC"},null,{"$f":"Singles!CB100","v":0},{"$f":"Singles!CC100","v":0},{"$f":"Singles!CD100","v":0},null,null,null,null,null,null,null,null,null,null,null,null,null,null,null,null,null,null,null,null,0]
[null,9,{"$f":"Singles!BT309","v":0},{"$f":"Singles!BU309","v":"TBC"},{"$f":"Singles!BV309","v":"TBC"},{"$f":"Singles!BW309","v":"TBC"},{"$f":"Singles!BX309","v":"TBC"},{"$f":"Singles!BY309","v":"TBC"},{"$f":"Singles!BZ309","v":"TBC"},{"$f":"Singles!CA309","v":"TBC"},null,{"$f":"Singles!CB101","v":0},{"$f":"Singles!CC101","v":0},{"$f":"Singles!CD101","v":0},null,null,null,null,null,null,null,null,null,null,null,null,null,null,null,null,null,null,null,null,0]
[null,10,{"$f":"Singles!BT310","v":0},{"$f":"Singles!BU310","v":"TBC"},{"$f":"Singles!BV310","v":"TBC"},{"$f":"Singles!BW310","v":"TBC"},{"$f":"Singles!BX310","v":"TBC"},{"$f":"Singles!BY310","v":"TBC"},{"$f":"Singles!BZ310","v":"TBC"},{"$f":"Singles!CA310","v":"TBC"},null,{"$f":"Singles!CB102","v":0},{"$f":"Singles!CC102","v":0},{"$f":"Singles!CD102","v":0},null,null,null,null,null,null,null,null,null,null,null,null,null,null,null,null,null,null,null,null,0]
[null,11,{"$f":"Singles!BT311","v":0},{"$f":"Singles!BU311","v":"TBC"},{"$f":"Singles!BV311","v":"TBC"},{"$f":"Singles!BW311","v":"TBC"},{"$f":"Singles!BX311","v":"TBC"},{"$f":"Singles!BY311","v":"TBC"},{"$f":"Singles!BZ311","v":"TBC"},{"$f":"Singles!CA311","v":"TBC"},null,{"$f":"Singles!CB103","v":0},{"$f":"Singles!CC103","v":0},{"$f":"Singles!CD103","v":0},null,null,null,null,null,null,null,null,null,null,null,null,null,null,null,null,null,null,null,null,0]
[null,12,{"$f":"Singles!BT312","v":0},{"$f":"Singles!BU312","v":"TBC"},{"$f":"Singles!BV312","v":"TBC"},{"$f":"Singles!BW312","v":"TBC"},{"$f":"Singles!BX312","v":"TBC"},{"$f":"Singles!BY312","v":"TBC"},{"$f":"Singles!BZ312","v":"TBC"},{"$f":"Singles!CA312","v":"TBC"},null,{"$f":"Singles!CB104","v":0},{"$f":"Singles!CC104","v":0},{"$f":"Singles!CD104","v":0},null,null,null,null,null,null,null,null,null,null,null,null,null,null,null,null,null,null,null,null,0]
[null,13,{"$f":"Singles!BT313","v":0},{"$f":"Singles!BU313","v":"TBC"},{"$f":"Singles!BV313","v":"TBC"},{"$f":"Singles!BW313","v":"TBC"},{"$f":"Singles!BX313","v":"TBC"},{"$f":"Singles!BY313","v":"TBC"},{"$f":"Singles!BZ313","v":"TBC"},{"$f":"Singles!CA313","v":"TBC"},null,{"$f":"Singles!CB105","v":0},{"$f":"Singles!CC105","v":0},{"$f":"Singles!CD105","v":0},null,null,null,null,null,null,null,null,null,null,null,null,null,null,null,null,null,null,null,null,0]
[null,14,{"$f":"Singles!BT314","v":0},{"$f":"Singles!BU314","v":"TBC"},{"$f":"Singles!BV314","v":"TBC"},{"$f":"Singles!BW314","v":"TBC"},{"$f":"Singles!BX314","v":"TBC"},{"$f":"Singles!BY314","v":"TBC"},{"$f":"Singles!BZ314","v":"TBC"},{"$f":"Singles!CA314","v":"TBC"},null,{"$f":"Singles!CB106","v":0},{"$f":"Singles!CC106","v":0},{"$f":"Singles!CD106","v":0},null,null,null,null,null,null,null,null,null,null,null,null,null,null,null,null,null,null,null,null,0]
[null,15,{"$f":"Singles!BT315","v":0},{"$f":"Singles!BU315","v":"TBC"},{"$f":"Singles!BV315","v":"TBC"},{"$f":"Singles!BW315","v":"TBC"},{"$f":"Singles!BX315","v":"TBC"},{"$f":"Singles!BY315","v":"TBC"},{"$f":"Singles!BZ315","v":"TBC"},{"$f":"Singles!CA315","v":"TBC"},null,{"$f":"Singles!CB107","v":0},{"$f":"Singles!CC107","v":0},{"$f":"Singles!CD107","v":0},null,null,null,null,null,null,null,null,null,null,null,null,null,null,null,null,null,null,null,null,0]
[null,16,{"$f":"Singles!BT316","v":0},{"$f":"Singles!BU316","v":"TBC"},{"$f":"Singles!BV316","v":"TBC"},{"$f":"Singles!BW316","v":"TBC"},{"$f":"Singles!BX316","v":"TBC"},{"$f":"Singles!BY316","v":"TBC"},{"$f":"Singles!BZ316","v":"TBC"},{"$f":"Singles!CA316","v":"TBC"},null,{"$f":"Singles!CB108","v":0},{"$f":"Singles!CC108","v":0},{"$f":"Singles!CD108","v":0},null,null,null,null,null,null,null,null,null,null,null,null,null,null,null,null,null,null,null,null,0]
[null,17,{"$f":"Singles!BT317","v":0},{"$f":"Singles!BU317","v":"TBC"},{"$f":"Singles!BV317","v":"TBC"},{"$f":"Singles!BW317","v":"TBC"},{"$f":"Singles!BX317","v":"TBC"},{"$f":"Singles!BY317","v":"TBC"},{"$f":"Singles!BZ317","v":"TBC"},{"$f":"Singles!CA317","v":"TBC"},null,{"$f":"Singles!CB109","v":0},{"$f":"Singles!CC109","v":0},{"$f":"Singles!CD109","v":0},null,null,null,null,null,null,null,null,null,null,null,null,null,null,null,null,null,null,null,null,0]
[null,18,{"$f":"Singles!BT318","v":0},{"$f":"Singles!BU318","v":"TBC"},{"$f":"Singles!BV318","v":"TBC"},{"$f":"Singles!BW318","v":"TBC"},{"$f":"Singles!BX318","v":"TBC"},{"$f":"Singles!BY318","v":"TBC"},{"$f":"Singles!BZ318","v":"TBC"},{"$f":"Singles!CA318","v":"TBC"},null,{"$f":"Singles!CB110","v":0},{"$f":"Singles!CC110","v":0},{"$f":"Singles!CD110","v":0},null,null,null,null,null,null,null,null,null,null,null,null,null,null,null,null,null,null,null,null,0]
[null,19,{"$f":"Singles!BT319","v":0},{"$f":"Singles!BU319","v":"TBC"},{"$f":"Singles!BV319","v":"TBC"},{"$f":"Singles!BW319","v":"TBC"},{"$f":"Singles!BX319","v":"TBC"},{"$f":"Singles!BY319","v":"TBC"},{"$f":"Singles!BZ319","v":"TBC"},{"$f":"Singles!CA319","v":"TBC"},null,{"$f":"Singles!CB111","v":0},{"$f":"Singles!CC111","v":0},{"$f":"Singles!CD111","v":0},null,null,null,null,null,null,null,null,null,null,null,null,null,null,null,null,null,null,null,null,0]
[null,20,{"$f":"Singles!BT320","v":0},{"$f":"Singles!BU320","v":"TBC"},{"$f":"Singles!BV320","v":"TBC"},{"$f":"Singles!BW320","v":"TBC"},{"$f":"Singles!BX320","v":"TBC"},{"$f":"Singles!BY320","v":"TBC"},{"$f":"Singles!BZ320","v":"TBC"},{"$f":"Singles!CA320","v":"TBC"},null,{"$f":"Singles!CB112","v":0},{"$f":"Singles!CC112","v":0},{"$f":"Singles!CD112","v":0},null,null,null,null,null,null,null,null,null,null,null,null,null,null,null,null,null,null,null,null,0]
[null,21,{"$f":"Singles!BT321","v":0},{"$f":"Singles!BU321","v":"TBC"},{"$f":"Singles!BV321","v":"TBC"},{"$f":"Singles!BW321","v":"TBC"},{"$f":"Singles!BX321","v":"TBC"},{"$f":"Singles!BY321","v":"TBC"},{"$f":"Singles!BZ321","v":"TBC"},{"$f":"Singles!CA321","v":"TBC"},null,{"$f":"Singles!CB113","v":0},{"$f":"Singles!CC113","v":0},{"$f":"Singles!CD113","v":0},null,null,null,null,null,null,null,null,null,null,null,null,null,null,null,null,null,null,null,null,0]
[null,22,{"$f":"Singles!BT322","v":0},{"$f":"Singles!BU322","v":"TBC"},{"$f":"Singles!BV322","v":"TBC"},{"$f":"Singles!BW322","v":"TBC"},{"$f":"Singles!BX322","v":"TBC"},{"$f":"Singles!BY322","v":"TBC"},{"$f":"Singles!BZ322","v":"TBC"},{"$f":"Singles!CA322","v":"TBC"},null,{"$f":"Singles!CB114","v":0},{"$f":"Singles!CC114","v":0},{"$f":"Singles!CD114","v":0},null,null,null,null,null,null,null,null,null,null,null,null,null,null,null,null,null,null,null,null,0]
[null,23,{"$f":"Singles!BT323","v":0},{"$f":"Singles!BU323","v":"TBC"},{"$f":"Singles!BV323","v":"TBC"},{"$f":"Singles!BW323","v":"TBC"},{"$f":"Singles!BX323","v":"TBC"},{"$f":"Singles!BY323","v":"TBC"},{"$f":"Singles!BZ323","v":"TBC"},{"$f":"Singles!CA323","v":"TBC"},null,{"$f":"Singles!CB115","v":0},{"$f":"Singles!CC115","v":0},{"$f":"Singles!CD115","v":0},null,null,null,null,null,null,null,null,null,null,null,null,null,null,null,null,null,null,null,null,0]
[null,24,{"$f":"Singles!BT324","v":0},{"$f":"Singles!BU324","v":"TBC"},{"$f":"Singles!BV324","v":"TBC"},{"$f":"Singles!BW324","v":"TBC"},{"$f":"Singles!BX324","v":"TBC"},{"$f":"Singles!BY324","v":"TBC"},{"$f":"Singles!BZ324","v":"TBC"},{"$f":"Singles!CA324","v":"TBC"},null,{"$f":"Singles!CB116","v":0},{"$f":"Singles!CC116","v":0},{"$f":"Singles!CD116","v":0},null,null,null,null,null,null,null,null,null,null,null,null,null,null,null,null,null,null,null,null,0]
[null,25,{"$f":"Singles!BT325","v":0},{"$f":"Singles!BU325","v":"TBC"},{"$f":"Singles!BV325","v":"TBC"},{"$f":"Singles!BW325","v":"TBC"},{"$f":"Singles!BX325","v":"TBC"},{"$f":"Singles!BY325","v":"TBC"},{"$f":"Singles!BZ325","v":"TBC"},{"$f":"Singles!CA325","v":"TBC"},null,{"$f":"Singles!CB117","v":0},{"$f":"Singles!CC117","v":0},{"$f":"Singles!CD117","v":0},null,null,null,null,null,null,null,null,null,null,null,null,null,null,null,null,null,null,null,null,0]
[null,26,{"$f":"Singles!BT326","v":0},{"$f":"Singles!BU326","v":"TBC"},{"$f":"Singles!BV326","v":"TBC"},{"$f":"Singles!BW326","v":"TBC"},{"$f":"Singles!BX326","v":"TBC"},{"$f":"Singles!BY326","v":"TBC"},{"$f":"Singles!BZ326","v":"TBC"},{"$f":"Singles!CA326","v":"TBC"},null,{"$f":"Singles!CB118","v":0},{"$f":"Singles!CC118","v":0},{"$f":"Singles!CD118","v":0},null,null,null,null,null,null,null,null,null,null,null,null,null,null,null,null,null,null,null,null,0]
[null,27,{"$f":"Singles!BT327","v":0},{"$f":"Singles!BU327","v":"TBC"},{"$f":"Singles!BV327","v":"TBC"},{"$f":"Singles!BW327","v":"TBC"},{"$f":"Singles!BX327","v":"TBC"},{"$f":"Singles!BY327","v":"TBC"},{"$f":"Singles!BZ327","v":"TBC"},{"$f":"Singles!CA327","v":"TBC"},null,{"$f":"Singles!CB119","v":0},{"$f":"Singles!CC119","v":0},{"$f":"Singles!CD119","v":0},null,null,null,null,null,null,null,null,null,null,null,null,null,null,null,null,null,null,null,null,0]
[null,28,{"$f":"Singles!BT328","v":0},{"$f":"Singles!BU328","v":"TBC"},{"$f":"Singles!BV328","v":"TBC"},{"$f":"Singles!BW328","v":"TBC"},{"$f":"Singles!BX328","v":"TBC"},{"$f":"Singles!BY328","v":"TBC"},{"$f":"Singles!BZ328","v":"TBC"},{"$f":"Singles!CA328","v":"TBC"},null,{"$f":"Singles!CB120","v":0},{"$f":"Singles!CC120","v":0},{"$f":"Singles!CD120","v":0},null,null,null,null,null,null,null,null,null,null,null,null,null,null,null,null,null,null,null,null,0]
[null,29,{"$f":"Singles!BT329","v":0},{"$f":"Singles!BU329","v":"TBC"},{"$f":"Singles!BV329","v":"TBC"},{"$f":"Singles!BW329","v":"TBC"},{"$f":"Singles!BX329","v":"TBC"},{"$f":"Singles!BY329","v":"TBC"},{"$f":"Singles!BZ329","v":"TBC"},{"$f":"Singles!CA329","v":"TBC"},null,{"$f":"Singles!CB121","v":0},{"$f":"Singles!CC121","v":0},{"$f":"Singles!CD121","v":0},null,null,null,null,null,null,null,null,null,null,null,null,null,null,null,null,null,null,null,null,0]
[null,30,{"$f":"Singles!BT330","v":0},{"$f":"Singles!BU330","v":"TBC"},{"$f":"Singles!BV330","v":"TBC"},{"$f":"Singles!BW330","v":"TBC"},{"$f":"Singles!BX330","v":"TBC"},{"$f":"Singles!BY330","v":"TBC"},{"$f":"Singles!BZ330","v":"TBC"},{"$f":"Singles!CA330","v":"TBC"},null,{"$f":"Singles!CB122","v":0},{"$f":"Singles!CC122","v":0},{"$f":"Singles!CD122","v":0},null,null,null,null,null,null,null,null,null,null,null,null,null,null,null,null,null,null,null,null,0]
[null,31,{"$f":"Singles!BT331","v":0},{"$f":"Singles!BU331","v":"TBC"},{"$f":"Singles!BV331","v":"TBC"},{"$f":"Singles!BW331","v":"TBC"},{"$f":"Singles!BX331","v":"TBC"},{"$f":"Singles!BY331","v":"TBC"},{"$f":"Singles!BZ331","v":"TBC"},{"$f":"Singles!CA331","v":"TBC"},null,{"$f":"Singles!CB123","v":0},{"$f":"Singles!CC123","v":0},{"$f":"Singles!CD123","v":0},null,null,null,null,null,null,null,null,null,null,null,null,null,null,null,null,null,null,null,null,0]
[null,32,{"$f":"Singles!BT332","v":0},{"$f":"Singles!BU332","v":"TBC"},{"$f":"Singles!BV332","v":"TBC"},{"$f":"Singles!BW332","v":"TBC"},{"$f":"Singles!BX332","v":"TBC"},{"$f":"Singles!BY332","v":"TBC"},{"$f":"Singles!BZ332","v":"TBC"},{"$f":"Singles!CA332","v":"TBC"},null,{"$f":"Singles!CB124","v":0},{"$f":"Singles!CC124","v":0},{"$f":"Singles!CD124","v":0},null,null,null,null,null,null,null,null,null,null,null,null,null,null,null,null,null,null,null,null,0]
[null,33,{"$f":"Singles!BT333","v":0},{"$f":"Singles!BU333","v":"TBC"},{"$f":"Singles!BV333","v":"TBC"},{"$f":"Singles!BW333","v":"TBC"},{"$f":"Singles!BX333","v":"TBC"},{"$f":"Singles!BY333","v":"TBC"},{"$f":"Singles!BZ333","v":"TBC"},{"$f":"Singles!CA333","v":"TBC"},null,{"$f":"Singles!CB125","v":0},{"$f":"Singles!CC125","v":0},{"$f":"Singles!CD125","v":0},null,null,null,null,null,null,null,null,null,null,null,null,null,null,null,null,null,null,null,null,{"$f":"C39","v":0}]
[null,34,{"$f":"Singles!BT334","v":0},{"$f":"Singles!BU334","v":"TBC"},{"$f":"Singles!BV334","v":"TBC"},{"$f":"Singles!BW334","v":"TBC"},{"$f":"Singles!BX334","v":"TBC"},{"$f":"Singles!BY334","v":"TBC"},{"$f":"Singles!BZ334","v":"TBC"},{"$f":"Singles!CA334","v":"TBC"},null,{"$f":"Singles!CB126","v":0},{"$f":"Singles!CC126","v":0},{"$f":"Singles!CD126","v":0},null,null,null,null,null,null,null,null,null,null,null,null,null,null,null,null,null,null,null,null,0]
[null,35,{"$f":"Singles!BT335","v":0},{"$f":"Singles!BU335","v":"TBC"},{"$f":"Singles!BV335","v":"TBC"},{"$f":"Singles!BW335","v":"TBC"},{"$f":"Singles!BX335","v":"TBC"},{"$f":"Singles!BY335","v":"TBC"},{"$f":"Singles!BZ335","v":"TBC"},{"$f":"Singles!CA335","v":"TBC"},null,{"$f":"Singles!CB127","v":0},{"$f":"Singles!CC127","v":0},{"$f":"Singles!CD127","v":0},null,null,null,null,null,null,null,null,null,null,null,null,null,null,null,null,null,null,null,null,0]
[null,36,{"$f":"Singles!BT336","v":0},{"$f":"Singles!BU336","v":"TBC"},{"$f":"Singles!BV336","v":"TBC"},{"$f":"Singles!BW336","v":"TBC"},{"$f":"Singles!BX336","v":"TBC"},{"$f":"Singles!BY336","v":"TBC"},{"$f":"Singles!BZ336","v":"TBC"},{"$f":"Singles!CA336","v":"TBC"},null,{"$f":"Singles!CB128","v":0},{"$f":"Singles!CC128","v":0},{"$f":"Singles!CD128","v":0},null,null,null,null,null,null,null,null,null,null,null,null,null,null,null,null,null,null,null,null,0]
[null,37,{"$f":"Singles!BT337","v":0},{"$f":"Singles!BU337","v":"TBC"},{"$f":"Singles!BV337","v":"TBC"},{"$f":"Singles!BW337","v":"TBC"},{"$f":"Singles!BX337","v":"TBC"},{"$f":"Singles!BY337","v":"TBC"},{"$f":"Singles!BZ337","v":"TBC"},{"$f":"Singles!CA337","v":"TBC"},null,{"$f":"Singles!CB129","v":0},{"$f":"Singles!CC129","v":0},{"$f":"Singles!CD129","v":0},null,null,null,null,null,null,null,null,null,null,null,null,null,null,null,null,null,null,null,null,0]
[null,38,{"$f":"Singles!BT338","v":0},{"$f":"Singles!BU338","v":"TBC"},{"$f":"Singles!BV338","v":"TBC"},{"$f":"Singles!BW338","v":"TBC"},{"$f":"Singles!BX338","v":"TBC"},{"$f":"Singles!BY338","v":"TBC"},{"$f":"Singles!BZ338","v":"TBC"},{"$f":"Singles!CA338","v":"TBC"},null,{"$f":"Singles!CB130","v":0},{"$f":"Singles!CC130","v":0},{"$f":"Singles!CD130","v":0},null,null,null,null,null,null,null,null,null,null,null,null,null,null,null,null,null,null,null,null,0]
[null,39,{"$f":"Singles!BT339","v":0},{"$f":"Singles!BU339","v":"TBC"},{"$f":"Singles!BV339","v":"TBC"},{"$f":"Singles!BW339","v":"TBC"},{"$f":"Singles!BX339","v":"TBC"},{"$f":"Singles!BY339","v":"TBC"},{"$f":"Singles!BZ339","v":"TBC"},{"$f":"Singles!CA339","v":"TBC"},null,{"$f":"Singles!CB131","v":0},{"$f":"Singles!CC131","v":0},{"$f":"Singles!CD131","v":0},null,null,null,null,null,null,null,null,null,null,null,null,null,null,null,null,null,null,null,null,0]
[null,40,{"$f":"Singles!BT340","v":0},{"$f":"Singles!BU340","v":"TBC"},{"$f":"Singles!BV340","v":"TBC"},{"$f":"Singles!BW340","v":"TBC"},{"$f":"Singles!BX340","v":"TBC"},{"$f":"Singles!BY340","v":"TBC"},{"$f":"Singles!BZ340","v":"TBC"},{"$f":"Singles!CA340","v":"TBC"},null,{"$f":"Singles!CB132","v":0},{"$f":"Singles!CC132","v":0},{"$f":"Singles!CD132","v":0},null,null,null,null,null,null,null,null,null,null,null,null,null,null,null,null,null,null,null,null,0]
[null,41,{"$f":"Singles!BT341","v":0},{"$f":"Singles!BU341","v":"TBC"},{"$f":"Singles!BV341","v":"TBC"},{"$f":"Singles!BW341","v":"TBC"},{"$f":"Singles!BX341","v":"TBC"},{"$f":"Singles!BY341","v":"TBC"},{"$f":"Singles!BZ341","v":"TBC"},{"$f":"Singles!CA341","v":"TBC"},null,{"$f":"Singles!CB133","v":0},{"$f":"Singles!CC133","v":0},{"$f":"Singles!CD133","v":0},null,null,null,null,null,null,null,null,null,null,null,null,null,null,null,null,null,null,null,null,0]
[null,42,{"$f":"Singles!BT342","v":0},{"$f":"Singles!BU342","v":"TBC"},{"$f":"Singles!BV342","v":"TBC"},{"$f":"Singles!BW342","v":"TBC"},{"$f":"Singles!BX342","v":"TBC"},{"$f":"Singles!BY342","v":"TBC"},{"$f":"Singles!BZ342","v":"TBC"},{"$f":"Singles!CA342","v":"TBC"},null,{"$f":"Singles!CB134","v":0},{"$f":"Singles!CC134","v":0},{"$f":"Singles!CD134","v":0},null,null,null,null,null,null,null,null,null,null,null,null,null,null,null,null,null,null,null,null,0]
[null,43,{"$f":"Singles!BT343","v":0},{"$f":"Singles!BU343","v":"TBC"},{"$f":"Singles!BV343","v":"TBC"},{"$f":"Singles!BW343","v":"TBC"},{"$f":"Singles!BX343","v":"TBC"},{"$f":"Singles!BY343","v":"TBC"},{"$f":"Singles!BZ343","v":"TBC"},{"$f":"Singles!CA343","v":"TBC"},null,{"$f":"Singles!CB135","v":0},{"$f":"Singles!CC135","v":0},{"$f":"Singles!CD135","v":0},null,null,null,null,null,null,null,null,null,null,null,null,null,null,null,null,null,null,null,null,0]
[null,44,{"$f":"Singles!BT344","v":0},{"$f":"Singles!BU344","v":"TBC"},{"$f":"Singles!BV344","v":"TBC"},{"$f":"Singles!BW344","v":"TBC"},{"$f":"Singles!BX344","v":"TBC"},{"$f":"Singles!BY344","v":"TBC"},{"$f":"Singles!BZ344","v":"TBC"},{"$f":"Singles!CA344","v":"TBC"},null,{"$f":"Singles!CB136","v":0},{"$f":"Singles!CC136","v":0},{"$f":"Singles!CD136","v":0},null,null,null,null,null,null,null,null,null,null,null,null,null,null,null,null,null,null,null,null,0]
[null,45,{"$f":"Singles!BT345","v":0},{"$f":"Singles!BU345","v":"TBC"},{"$f":"Singles!BV345","v":"TBC"},{"$f":"Singles!BW345","v":"TBC"},{"$f":"Singles!BX345","v":"TBC"},{"$f":"Singles!BY345","v":"TBC"},{"$f":"Singles!BZ345","v":"TBC"},{"$f":"Singles!CA345","v":"TBC"},null,{"$f":"Singles!CB137","v":0},{"$f":"Singles!CC137","v":0},{"$f":"Singles!CD137","v":0},null,null,null,null,null,null,null,null,null,null,null,null,null,null,null,null,null,null,null,null,0]
[null,46,{"$f":"Singles!BT346","v":0},{"$f":"Singles!BU346","v":"TBC"},{"$f":"Singles!BV346","v":"TBC"},{"$f":"Singles!BW346","v":"TBC"},{"$f":"Singles!BX346","v":"TBC"},{"$f":"Singles!BY346","v":"TBC"},{"$f":"Singles!BZ346","v":"TBC"},{"$f":"Singles!CA346","v":"TBC"},null,{"$f":"Singles!CB138","v":0},{"$f":"Singles!CC138","v":0},{"$f":"Singles!CD138","v":0},null,null,null,null,null,null,null,null,null,null,null,null,null,null,null,null,null,null,null,null,0]
[null,47,{"$f":"Singles!BT347","v":0},{"$f":"Singles!BU347","v":"TBC"},{"$f":"Singles!BV347","v":"TBC"},{"$f":"Singles!BW347","v":"TBC"},{"$f":"Singles!BX347","v":"TBC"},{"$f":"Singles!BY347","v":"TBC"},{"$f":"Singles!BZ347","v":"TBC"},{"$f":"Singles!CA347","v":"TBC"},null,{"$f":"Singles!CB139","v":0},{"$f":"Singles!CC139","v":0},{"$f":"Singles!CD139","v":0},null,null,null,null,null,null,null,null,null,null,null,null,null,null,null,null,null,null,null,null,0]
[null,48,{"$f":"Singles!BT348","v":0},{"$f":"Singles!BU348","v":"TBC"},{"$f":"Singles!BV348","v":"TBC"},{"$f":"Singles!BW348","v":"TBC"},{"$f":"Singles!BX348","v":"TBC"},{"$f":"Singles!BY348","v":"TBC"},{"$f":"Singles!BZ348","v":"TBC"},{"$f":"Singles!CA348","v":"TBC"},null,{"$f":"Singles!CB140","v":0},{"$f":"Singles!CC140","v":0},{"$f":"Singles!CD140","v":0},null,null,null,null,null,null,null,null,null,null,null,null,null,null,null,null,null,null,null,null,0]
[null,49,{"$f":"Singles!BT349","v":0},{"$f":"Singles!BU349","v":"TBC"},{"$f":"Singles!BV349","v":"TBC"},{"$f":"Singles!BW349","v":"TBC"},{"$f":"Singles!BX349","v":"TBC"},{"$f":"Singles!BY349","v":"TBC"},{"$f":"Singles!BZ349","v":"TBC"},{"$f":"Singles!CA349","v":"TBC"},null,{"$f":"Singles!CB141","v":0},{"$f":"Singles!CC141","v":0},{"$f":"Singles!CD141","v":0},null,null,null,null,null,null,null,null,null,null,null,null,null,null,null,null,null,null,null,null,0]
[null,50,{"$f":"Singles!BT350","v":0},{"$f":"Singles!BU350","v":"TBC"},{"$f":"Singles!BV350","v":"TBC"},{"$f":"Singles!BW350","v":"TBC"},{"$f":"Singles!BX350","v":"TBC"},{"$f":"Singles!BY350","v":"TBC"},{"$f":"Singles!BZ350","v":"TBC"},{"$f":"Singles!CA350","v":"TBC"},null,{"$f":"Singles!CB142","v":0},{"$f":"Singles!CC142","v":0},{"$f":"Singles!CD142","v":0},null,null,null,null,null,null,null,null,null,null,null,null,null,null,null,null,null,null,null,null,0]
[null,51,{"$f":"Singles!BT351","v":0},{"$f":"Singles!BU351","v":"TBC"},{"$f":"Singles!BV351","v":"TBC"},{"$f":"Singles!BW351","v":"TBC"},{"$f":"Singles!BX351","v":"TBC"},{"$f":"Singles!BY351","v":"TBC"},{"$f":"Singles!BZ351","v":"TBC"},{"$f":"Singles!CA351","v":"TBC"},null,{"$f":"Singles!CB143","v":0},{"$f":"Singles!CC143","v":0},{"$f":"Singles!CD143","v":0},null,null,null,null,null,null,null,null,null,null,null,null,null,null,null,null,null,null,null,null,0]
[null,52,{"$f":"Singles!BT352","v":0},{"$f":"Singles!BU352","v":"TBC"},{"$f":"Singles!BV352","v":"TBC"},{"$f":"Singles!BW352","v":"TBC"},{"$f":"Singles!BX352","v":"TBC"},{"$f":"Singles!BY352","v":"TBC"},{"$f":"Singles!BZ352","v":"TBC"},{"$f":"Singles!CA352","v":"TBC"},null,{"$f":"Singles!CB144","v":0},{"$f":"Singles!CC144","v":0},{"$f":"Singles!CD144","v":0},null,null,null,null,null,null,null,null,null,null,null,null,null,null,null,null,null,null,null,null,0]
[null,53,{"$f":"Singles!BT353","v":0},{"$f":"Singles!BU353","v":"TBC"},{"$f":"Singles!BV353","v":"TBC"},{"$f":"Singles!BW353","v":"TBC"},{"$f":"Singles!BX353","v":"TBC"},{"$f":"Singles!BY353","v":"TBC"},{"$f":"Singles!BZ353","v":"TBC"},{"$f":"Singles!CA353","v":"TBC"},null,{"$f":"Singles!CB145","v":0},{"$f":"Singles!CC145","v":0},{"$f":"Singles!CD145","v":0},null,null,null,null,null,null,null,null,null,null,null,null,null,null,null,null,null,null,null,null,0]
[null,54,{"$f":"Singles!BT354","v":0},{"$f":"Singles!BU354","v":"TBC"},{"$f":"Singles!BV354","v":"TBC"},{"$f":"Singles!BW354","v":"TBC"},{"$f":"Singles!BX354","v":"TBC"},{"$f":"Singles!BY354","v":"TBC"},{"$f":"Singles!BZ354","v":"TBC"},{"$f":"Singles!CA354","v":"TBC"},null,{"$f":"Singles!CB146","v":0},{"$f":"Singles!CC146","v":0},{"$f":"Singles!CD146","v":0},null,null,null,null,null,null,null,null,null,null,null,null,null,null,null,null,null,null,null,null,0]
[null,55,{"$f":"Singles!BT355","v":0},{"$f":"Singles!BU355","v":"TBC"},{"$f":"Singles!BV355","v":"TBC"},{"$f":"Singles!BW355","v":"TBC"},{"$f":"Singles!BX355","v":"TBC"},{"$f":"Singles!BY355","v":"TBC"},{"$f":"Singles!BZ355","v":"TBC"},{"$f":"Singles!CA355","v":"TBC"},null,{"$f":"Singles!CB147","v":0},{"$f":"Singles!CC147","v":0},{"$f":"Singles!CD147","v":0},null,null,null,null,null,null,null,null,null,null,null,null,null,null,null,null,null,null,null,null,0]
[null,56,{"$f":"Singles!BT356","v":0},{"$f":"Singles!BU356","v":"TBC"},{"$f":"Singles!BV356","v":"TBC"},{"$f":"Singles!BW356","v":"TBC"},{"$f":"Singles!BX356","v":"TBC"},{"$f":"Singles!BY356","v":"TBC"},{"$f":"Singles!BZ356","v":"TBC"},{"$f":"Singles!CA356","v":"TBC"},null,{"$f":"Singles!CB148","v":0},{"$f":"Singles!CC148","v":0},{"$f":"Singles!CD148","v":0},null,null,null,null,null,null,null,null,null,null,null,null,null,null,null,null,null,null,null,null,0]
[null,57,{"$f":"Singles!BT357","v":0},{"$f":"Singles!BU357","v":"TBC"},{"$f":"Singles!BV357","v":"TBC"},{"$f":"Singles!BW357","v":"TBC"},{"$f":"Singles!BX357","v":"TBC"},{"$f":"Singles!BY357","v":"TBC"},{"$f":"Singles!BZ357","v":"TBC"},{"$f":"Singles!CA357","v":"TBC"},null,{"$f":"Singles!CB149","v":0},{"$f":"Singles!CC149","v":0},{"$f":"Singles!CD149","v":0},null,null,null,null,null,null,null,null,null,null,null,null,null,null,null,null,null,null,null,null,0]
[null,58,{"$f":"Singles!BT358","v":0},{"$f":"Singles!BU358","v":"TBC"},{"$f":"Singles!BV358","v":"TBC"},{"$f":"Singles!BW358","v":"TBC"},{"$f":"Singles!BX358","v":"TBC"},{"$f":"Singles!BY358","v":"TBC"},{"$f":"Singles!BZ358","v":"TBC"},{"$f":"Singles!CA358","v":"TBC"},null,{"$f":"Singles!CB150","v":0},{"$f":"Singles!CC150","v":0},{"$f":"Singles!CD150","v":0},null,null,null,null,null,null,null,null,null,null,null,null,null,null,null,null,null,null,null,null,0]
[null,59,{"$f":"Singles!BT359","v":0},{"$f":"Singles!BU359","v":"TBC"},{"$f":"Singles!BV359","v":"TBC"},{"$f":"Singles!BW359","v":"TBC"},{"$f":"Singles!BX359","v":"TBC"},{"$f":"Singles!BY359","v":"TBC"},{"$f":"Singles!BZ359","v":"TBC"},{"$f":"Singles!CA359","v":"TBC"},null,{"$f":"Singles!CB151","v":0},{"$f":"Singles!CC151","v":0},{"$f":"Singles!CD151","v":0},null,null,null,null,null,null,null,null,null,null,null,null,null,null,null,null,null,null,null,null,0]
[null,60,{"$f":"Singles!BT360","v":0},{"$f":"Singles!BU360","v":"TBC"},{"$f":"Singles!BV360","v":"TBC"},{"$f":"Singles!BW360","v":"TBC"},{"$f":"Singles!BX360","v":"TBC"},{"$f":"Singles!BY360","v":"TBC"},{"$f":"Singles!BZ360","v":"TBC"},{"$f":"Singles!CA360","v":"TBC"},null,{"$f":"Singles!CB152","v":0},{"$f":"Singles!CC152","v":0},{"$f":"Singles!CD152","v":0},null,null,null,null,null,null,null,null,null,null,null,null,null,null,null,null,null,null,null,null,0]
[null,61,{"$f":"Singles!BT361","v":0},{"$f":"Singles!BU361","v":"TBC"},{"$f":"Singles!BV361","v":"TBC"},{"$f":"Singles!BW361","v":"TBC"},{"$f":"Singles!BX361","v":"TBC"},{"$f":"Singles!BY361","v":"TBC"},{"$f":"Singles!BZ361","v":"TBC"},{"$f":"Singles!CA361","v":"TBC"},null,{"$f":"Singles!CB153","v":0},{"$f":"Singles!CC153","v":0},{"$f":"Singles!CD153","v":0},null,null,null,null,null,null,null,null,null,null,null,null,null,null,null,null,null,null,null,null,0]
[null,62,{"$f":"Singles!BT362","v":0},{"$f":"Singles!BU362","v":"TBC"},{"$f":"Singles!BV362","v":"TBC"},{"$f":"Singles!BW362","v":"TBC"},{"$f":"Singles!BX362","v":"TBC"},{"$f":"Singles!BY362","v":"TBC"},{"$f":"Singles!BZ362","v":"TBC"},{"$f":"Singles!CA362","v":"TBC"},null,{"$f":"Singles!CB154","v":0},{"$f":"Singles!CC154","v":0},{"$f":"Singles!CD154","v":0},null,null,null,null,null,null,null,null,null,null,null,null,null,null,null,null,null,null,null,null,0]
[null,63,{"$f":"Singles!BT363","v":0},{"$f":"Singles!BU363","v":"TBC"},{"$f":"Singles!BV363","v":"TBC"},{"$f":"Singles!BW363","v":"TBC"},{"$f":"Singles!BX363","v":"TBC"},{"$f":"Singles!BY363","v":"TBC"},{"$f":"Singles!BZ363","v":"TBC"},{"$f":"Singles!CA363","v":"TBC"},null,{"$f":"Singles!CB155","v":0},{"$f":"Singles!CC155","v":0},{"$f":"Singles!CD155","v":0},null,null,null,null,null,null,null,null,null,null,null,null,null,null,null,null,null,null,null,null,0]
[null,64,{"$f":"Singles!BT364","v":0},{"$f":"Singles!BU364","v":"TBC"},{"$f":"Singles!BV364","v":"TBC"},{"$f":"Singles!BW364","v":"TBC"},{"$f":"Singles!BX364","v":"TBC"},{"$f":"Singles!BY364","v":"TBC"},{"$f":"Singles!BZ364","v":"TBC"},{"$f":"Singles!CA364","v":"TBC"},null,{"$f":"Singles!CB156","v":0},{"$f":"Singles!CC156","v":0},{"$f":"Singles!CD156","v":0},null,null,null,null,null,null,null,null,null,null,null,null,null,null,null,null,null,null,null,null,0]
[null,65,{"$f":"Singles!BT365","v":0},{"$f":"Singles!BU365","v":"TBC"},{"$f":"Singles!BV365","v":"TBC"},{"$f":"Singles!BW365","v":"TBC"},{"$f":"Singles!BX365","v":"TBC"},{"$f":"Singles!BY365","v":"TBC"},{"$f":"Singles!BZ365","v":"TBC"},{"$f":"Singles!CA365","v":"TBC"},null,{"$f":"Singles!CB157","v":0},{"$f":"Singles!CC157","v":0},{"$f":"Singles!CD157","v":0},null,null,null,null,null,null,null,null,null,null,null,null,null,null,null,null,null,null,null,null,0]
[null,66,{"$f":"Singles!BT366","v":0},{"$f":"Singles!BU366","v":"TBC"},{"$f":"Singles!BV366","v":"TBC"},{"$f":"Singles!BW366","v":"TBC"},{"$f":"Singles!BX366","v":"TBC"},{"$f":"Singles!BY366","v":"TBC"},{"$f":"Singles!BZ366","v":"TBC"},{"$f":"Singles!CA366","v":"TBC"},null,{"$f":"Singles!CB158","v":0},{"$f":"Singles!CC158","v":0},{"$f":"Singles!CD158","v":0},null,null,null,null,null,null,null,null,null,null,null,null,null,null,null,null,null,null,null,null,0]
[null,67,{"$f":"Singles!BT367","v":0},{"$f":"Singles!BU367","v":"TBC"},{"$f":"Singles!BV367","v":"TBC"},{"$f":"Singles!BW367","v":"TBC"},{"$f":"Singles!BX367","v":"TBC"},{"$f":"Singles!BY367","v":"TBC"},{"$f":"Singles!BZ367","v":"TBC"},{"$f":"Singles!CA367","v":"TBC"},null,{"$f":"Singles!CB159","v":0},{"$f":"Singles!CC159","v":0},{"$f":"Singles!CD159","v":0},null,null,null,null,null,null,null,null,null,null,null,null,null,null,null,null,null,null,null,null,0]
[null,68,{"$f":"Singles!BT368","v":0},{"$f":"Singles!BU368","v":"TBC"},{"$f":"Singles!BV368","v":"TBC"},{"$f":"Singles!BW368","v":"TBC"},{"$f":"Singles!BX368","v":"TBC"},{"$f":"Singles!BY368","v":"TBC"},{"$f":"Singles!BZ368","v":"TBC"},{"$f":"Singles!CA368","v":"TBC"},null,{"$f":"Singles!CB160","v":0},{"$f":"Singles!CC160","v":0},{"$f":"Singles!CD160","v":0},null,null,null,null,null,null,null,null,null,null,null,null,null,null,null,null,null,null,null,null,0]
[null,69,{"$f":"Singles!BT369","v":0},{"$f":"Singles!BU369","v":"TBC"},{"$f":"Singles!BV369","v":"TBC"},{"$f":"Singles!BW369","v":"TBC"},{"$f":"Singles!BX369","v":"TBC"},{"$f":"Singles!BY369","v":"TBC"},{"$f":"Singles!BZ369","v":"TBC"},{"$f":"Singles!CA369","v":"TBC"},null,{"$f":"Singles!CB161","v":0},{"$f":"Singles!CC161","v":0},{"$f":"Singles!CD161","v":0},null,null,null,null,null,null,null,null,null,null,null,null,null,null,null,null,null,null,null,null,0]
[null,70,{"$f":"Singles!BT370","v":0},{"$f":"Singles!BU370","v":"TBC"},{"$f":"Singles!BV370","v":"TBC"},{"$f":"Singles!BW370","v":"TBC"},{"$f":"Singles!BX370","v":"TBC"},{"$f":"Singles!BY370","v":"TBC"},{"$f":"Singles!BZ370","v":"TBC"},{"$f":"Singles!CA370","v":"TBC"},null,{"$f":"Singles!CB162","v":0},{"$f":"Singles!CC162","v":0},{"$f":"Singles!CD162","v":0},null,null,null,null,null,null,null,null,null,null,null,null,null,null,null,null,null,null,null,null,0]
[null,71,{"$f":"Singles!BT371","v":0},{"$f":"Singles!BU371","v":"TBC"},{"$f":"Singles!BV371","v":"TBC"},{"$f":"Singles!BW371","v":"TBC"},{"$f":"Singles!BX371","v":"TBC"},{"$f":"Singles!BY371","v":"TBC"},{"$f":"Singles!BZ371","v":"TBC"},{"$f":"Singles!CA371","v":"TBC"},null,{"$f":"Singles!CB163","v":0},{"$f":"Singles!CC163","v":0},{"$f":"Singles!CD163","v":0},null,null,null,null,null,null,null,null,null,null,null,null,null,null,null,null,null,null,null,null,0]
[null,72,{"$f":"Singles!BT372","v":0},{"$f":"Singles!BU372","v":"TBC"},{"$f":"Singles!BV372","v":"TBC"},{"$f":"Singles!BW372","v":"TBC"},{"$f":"Singles!BX372","v":"TBC"},{"$f":"Singles!BY372","v":"TBC"},{"$f":"Singles!BZ372","v":"TBC"},{"$f":"Singles!CA372","v":"TBC"},null,{"$f":"Singles!CB164","v":0},{"$f":"Singles!CC164","v":0},{"$f":"Singles!CD164","v":0},null,null,null,null,null,null,null,null,null,null,null,null,null,null,null,null,null,null,null,null,0]
[null,73,{"$f":"Singles!BT373","v":0},{"$f":"Singles!BU373","v":"TBC"},{"$f":"Singles!BV373","v":"TBC"},{"$f":"Singles!BW373","v":"TBC"},{"$f":"Singles!BX373","v":"TBC"},{"$f":"Singles!BY373","v":"TBC"},{"$f":"Singles!BZ373","v":"TBC"},{"$f":"Singles!CA373","v":"TBC"},null,{"$f":"Singles!CB165","v":0},{"$f":"Singles!CC165","v":0},{"$f":"Singles!CD165","v":0},null,null,null,null,null,null,null,null,null,null,null,null,null,null,null,null,null,null,null,null,0]
[null,74,{"$f":"Singles!BT374","v":0},{"$f":"Singles!BU374","v":"TBC"},{"$f":"Singles!BV374","v":"TBC"},{"$f":"Singles!BW374","v":"TBC"},{"$f":"Singles!BX374","v":"TBC"},{"$f":"Singles!BY374","v":"TBC"},{"$f":"Singles!BZ374","v":"TBC"},{"$f":"Singles!CA374","v":"TBC"},null,{"$f":"Singles!CB166","v":0},{"$f":"Singles!CC166","v":0},{"$f":"Singles!CD166","v":0},null,null,null,null,null,null,null,null,null,null,null,null,null,null,null,null,null,null,null,null,0]
[null,75,{"$f":"Singles!BT375","v":0},{"$f":"Singles!BU375","v":"TBC"},{"$f":"Singles!BV375","v":"TBC"},{"$f":"Singles!BW375","v":"TBC"},{"$f":"Singles!BX375","v":"TBC"},{"$f":"Singles!BY375","v":"TBC"},{"$f":"Singles!BZ375","v":"TBC"},{"$f":"Singles!CA375","v":"TBC"},null,{"$f":"Singles!CB167","v":0},{"$f":"Singles!CC167","v":0},{"$f":"Singles!CD167","v":0},null,null,null,null,null,null,null,null,null,null,null,null,null,null,null,null,null,null,null,null,0]
[{"$f":"$D$7","v":"NUIM"}]

{"sheet":"Tables","index":14,"n_rows":1446,"n_cols":259,"rows_kept":1446,"cut":false,"hidden":false,"merged":[[86,4,88,8],[86,16,88,20],[86,28,88,32],[86,40,88,44],[86,52,88,56],[86,64,88,68],[86,76,88,80],[86,88,88,92],[86,100,88,104],[86,81,88,83],[86,69,88,71],[86,57,88,59],[86,45,88,47],[86,33,88,35],[86,21,88,23],[86,9,88,11],[43,4,45,8],[43,16,45,20],[43,28,45,32],[43,40,45,44],[43,52,45,56],[43,64,45,68],[43,76,45,80],[43,88,45,92],[43,100,45,104],[49,160,51,164],[43,172,45,176],[43,184,45,188],[2,4,4,8],[2,16,4,20],[2,28,4,32],[2,40,4,44],[2,52,4,56],[2,64,4,68],[2,76,4,80],[2,88,4,92],[2,100,4,104],[2,177,4,179],[49,165,51,167],[47,142,48,142],[47,143,48,143],[47,154,48,154],[47,155,48,155],[47,178,48,178],[2,184,4,188],[6,178,7,178],[47,179,48,179],[47,94,48,94],[47,95,48,95],[6,179,7,179],[6,106,7,106],[43,148,45,152],[6,10,7,10],[6,11,7,11],[43,141,45,143],[43,153,45,155],[6,166,7,166],[6,167,7,167],[43,9,45,11],[43,177,45,179],[43,112,45,116],[43,124,45,128],[43,136,45,140],[6,107,7,107],[6,34,7,34],[6,35,7,35],[6,142,7,142],[6,143,7,143],[6,46,7,46],[6,47,7,47],[6,58,7,58],[6,59,7,59],[6,22,7,22],[2,21,4,23],[43,21,45,23],[2,9,4,11],[2,105,4,107],[43,81,45,83],[43,69,45,71],[2,33,4,35],[2,45,4,47],[43,33,45,35],[43,45,45,47],[2,57,4,59],[43,57,45,59],[6,70,7,70],[6,71,7,71],[6,82,7,82],[6,83,7,83],[2,69,4,71],[2,81,4,83],[2,93,4,95],[6,23,7,23],[2,112,4,116],[2,124,4,128],[2,136,4,140],[2,148,4,152],[2,160,4,164],[2,172,4,176],[2,117,4,119],[2,129,4,131],[2,141,4,143],[86,208,88,211],[47,213,48,213],[47,214,48,214],[86,230,88,233],[86,219,88,222],[47,224,48,224],[47,225,48,225],[47,235,48,235],[47,236,48,236],[86,212,88,214],[47,202,48,202],[47,203,48,203],[43,230,45,233],[43,196,45,200],[86,172,88,176],[86,184,88,188],[86,196,88,200],[47,10,48,10],[47,11,48,11],[47,22,48,22],[47,190,48,190],[47,191,48,191],[86,117,88,119],[47,23,48,23],[47,34,48,34],[47,35,48,35],[47,46,48,46],[47,47,48,47],[47,58,48,58],[47,59,48,59],[47,70,48,70],[47,71,48,71],[47,82,48,82],[47,83,48,83],[47,107,48,107],[47,118,48,118],[47,119,48,119],[6,130,7,130],[6,94,7,94],[6,95,7,95],[47,130,48,130],[43,129,45,131],[43,117,45,119],[43,105,45,107],[43,93,45,95],[6,118,7,118],[6,119,7,119],[6,131,7,131],[47,131,48,131],[47,106,48,106],[90,257,91,257],[90,258,91,258],[90,246,91,246],[90,247,91,247],[90,235,91,235],[90,236,91,236],[90,224,91,224],[90,225,91,225],[47,246,48,246],[47,247,48,247],[47,257,48,257],[47,258,48,258],[86,256,88,258],[86,245,88,247],[86,234,88,236],[86,223,88,225],[86,252,88,255],[86,241,88,244],[90,118,91,118],[90,119,91,119],[90,106,91,106],[90,107,91,107],[90,213,91,213],[90,214,91,214],[90,202,91,202],[90,203,91,203],[90,190,91,190],[90,191,91,191],[90,178,91,178],[90,179,91,179],[90,166,91,166],[90,167,91,167],[90,154,91,154],[90,155,91,155],[90,142,91,142],[90,143,91,143],[90,130,91,130],[90,131,91,131],[90,94,91,94],[90,95,91,95],[90,22,91,22],[90,23,91,23],[90,10,91,10],[90,11,91,11],[90,82,91,82],[90,83,91,83],[90,70,91,70],[90,71,91,71],[90,58,91,58],[90,59,91,59],[90,46,91,46],[90,47,91,47],[90,34,91,34],[90,35,91,35],[43,201,45,203],[2,212,4,214],[43,212,45,214],[43,223,45,225],[2,223,4,225],[2,234,4,236],[2,219,4,222],[43,219,45,222],[6,154,7,154],[6,155,7,155],[6,190,7,190],[6,191,7,191],[6,213,7,213],[6,214,7,214],[43,208,45,211],[2,201,4,203],[2,208,4,211],[6,202,7,202],[6,203,7,203],[2,196,4,200],[2,189,4,191],[2,153,4,155],[2,165,4,167],[43,189,45,191],[2,245,4,247],[2,256,4,258],[43,256,45,258],[43,245,45,247],[43,234,45,236],[6,224,7,224],[6,225,7,225],[6,257,7,257],[6,258,7,258],[6,246,7,246],[6,247,7,247],[6,235,7,235],[6,236,7,236],[2,230,4,233],[2,241,4,244],[2,252,4,255],[43,252,45,255],[43,241,45,244],[86,201,88,203],[86,189,88,191],[86,177,88,179],[86,165,88,167],[86,153,88,155],[86,141,88,143],[86,129,88,131],[86,105,88,107],[86,93,88,95],[86,112,88,116],[86,124,88,128],[86,136,88,140],[86,148,88,152],[86,160,88,164]]}
[null,null,null,{"$f":"LARGE(C9:C41,1)","v":547},null,null,null,null,null,null,null,null,null,null,null,{"$f":"LARGE(O9:O41,1)","v":559},null,null,null,null,null,null,null,null,null,null,null,{"$f":"LARGE(AA9:AA41,1)","v":503},null,null,null,null,null,null,null,null,null,null,null,{"$f":"LARGE(AM9:AM41,1)","v":552},null,null,null,null,null,null,null,null,null,null,null,{"$f":"LARGE(AY9:AY41,1)","v":346},null,null,null,null,null,null,null,null,null,null,null,{"$f":"LARGE(BK9:BK41,1)","v":366},null,null,null,null,null,null,null,null,null,null,null,{"$f":"LARGE(BW9:BW41,1)","v":497},null,null,null,null,null,null,null,null,null,null,null,{"$f":"LARGE(CI9:CI41,1)","v":474},null,null,null,null,null,null,null,null,null,null,null,{"$f":"LARGE(CU9:CU41,1)","v":523},null,null,null,null,null,null,null,null,null,null,null,{"$f":"LARGE(DG9:DG41,1)","v":0},null,null,null,null,null,null,null,null,null,null,null,{"$f":"LARGE(DS9:DS41,1)","v":564},null,null,null,null,null,null,null,null,null,null,null,{"$f":"LARGE(EE9:EE41,1)","v":259},null,null,null,null,null,null,null,null,null,null,null,{"$f":"LARGE(EQ9:EQ41,1)","v":495},null,null,null,null,null,null,null,null,null,null,null,{"$f":"LARGE(FC9:FC41,1)","v":531},null,null,null,null,null,null,null,null,null,null,null,{"$f":"LARGE(FO9:FO41,1)","v":541},null,null,null,null,null,null,null,null,null,null,null,{"$f":"LARGE(GA9:GA41,1)","v":564},null,null,null,null,null,null,null,null,null,null,null,{"$f":"LARGE(GM9:GM41,1)","v":454}]
[null,"College","DCU",{"$f":"LARGE(D9:D41,1)","v":547},null,null,null,null,null,null,null,null,null,"College","DIT",{"$f":"LARGE(P9:P41,1)","v":486},null,null,null,null,null,null,null,null,null,"College","DkIT",{"$f":"LARGE(AB9:AB41,1)","v":542},null,null,null,null,null,null,null,null,null,"College","BCFE",{"$f":"LARGE(AN9:AN41,1)","v":546},null,null,null,null,null,null,null,null,null,"College","GMIT",{"$f":"LARGE(AZ9:AZ41,1)","v":354},null,null,null,null,null,null,null,null,null,"College","GMITC",{"$f":"LARGE(BL9:BL41,1)","v":452},null,null,null,null,null,null,null,null,null,"College","IT Tallaght",{"$f":"LARGE(BX9:BX41,1)","v":499},null,null,null,null,null,null,null,null,null,"College","ITC",{"$f":"LARGE(CJ9:CJ41,1)","v":535},null,null,null,null,null,null,null,null,null,"College","NUIM",{"$f":"LARGE(CV9:CV41,1)","v":521},null,null,null,null,null,null,null,null,null,"College","CD",{"$f":"LARGE(DH9:DH41,1)","v":0},null,null,null,null,null,null,null,null,null,"College","NUIG",{"$f":"LARGE(DT9:DT41,1)","v":560},null,null,null,null,null,null,null,null,null,"College","RCSI",{"$f":"LARGE(EF9:EF41,1)","v":282},null,null,null,null,null,null,null,null,null,"College","UCC",{"$f":"LARGE(ER9:ER41,1)","v":489},null,null,null,null,null,null,null,null,null,"College","UCD",{"$f":"LARGE(FD9:FD41,1)","v":535},null,null,null,null,null,null,null,null,null,"College","UL",{"$f":"LARGE(FP9:FP41,1)","v":540},null,null,null,null,null,null,null,null,null,"College","UU",{"$f":"LARGE(GB9:GB41,1)","v":548},null,null,null,null,null,null,null,null,null,"College","QUB",{"$f":"LARGE(GN9:GN41,1)","v":0},null,null,null,null,null,null,null,null,null,"College","AAA",{"$f":"LARGE(GY9:GY41,1)","v":0},null,null,null,null,null,null,null,null,"College","BBB",{"$f":"LARGE(HJ9:HJ41,1)","v":0},null,null,null,null,null,null,null,null,"College","CCC",{"$f":"LARGE(HU9:HU41,1)","v":0},null,null,null,null,null,null,null,null,"College","DDD",{"$f":"LARGE(IF9:IF41,1)","v":0},null,null,null,null,null,null,null,null,"College","EEE",{"$f":"LARGE(IQ9:IQ41,1)","v":0}]
[null,"Gender","(Multiple Items)",{"$f":"LARGE(E9:E41,1)","v":544},{"$f":"C2","v":"DCU"},null,null,null,null,{"$f":"C4","v":"Recurve"},null,null,null,"Gender","(Multiple Items)",{"$f":"LARGE(Q9:Q41,1)","v":527},{"$f":"O2","v":"DIT"},null,null,null,null,{"$f":"O4","v":"Recurve"},null,null,null,"Gender","(Multiple Items)",{"$f":"LARGE(AC9:AC41,1)","v":496},{"$f":"AA2","v":"DkIT"},null,null,null,null,{"$f":"AA4","v":"Recurve"},null,null,null,"Gender","(Multiple Items)",{"$f":"LARGE(AO9:AO41,1)","v":562},{"$f":"AM2","v":"BCFE"},null,null,null,null,{"$f":"AM4","v":"Recurve"},null,null,null,"Gender","(Multiple Items)",{"$f":"LARGE(BA9:BA41,1)","v":424},{"$f":"AY2","v":"GMIT"},null,null,null,null,{"$f":"AY4","v":"Recurve"},null,null,null,"Gender","(Multiple Items)",{"$f":"LARGE(BM9:BM41,1)","v":413},{"$f":"BK2","v":"GMITC"},null,null,null,null,{"$f":"BK4","v":"Recurve"},null,null,null,"Gender","(Multiple Items)",{"$f":"LARGE(BY9:BY41,1)","v":543},{"$f":"BW2","v":"IT Tallaght"},null,null,null,null,{"$f":"BW4","v":"Recurve"},null,null,null,"Gender","(Multiple Items)",{"$f":"LARGE(CK9:CK41,1)","v":484},{"$f":"CI2","v":"ITC"},null,null,null,null,{"$f":"CI4","v":"Recurve"},null,null,null,"Gender","(Multiple Items)",{"$f":"LARGE(CW9:CW41,1)","v":525},{"$f":"CU2","v":"NUIM"},null,null,null,null,{"$f":"CU4","v":"Recurve"},null,null,null,"Gender","(Multiple Items)",{"$f":"LARGE(DI9:DI41,1)","v":0},{"$f":"DG2","v":"CD"},null,null,null,null,{"$f":"DG4","v":"Recurve"},null,null,null,"Gender","(Multiple Items)",{"$f":"LARGE(DU9:DU41,1)","v":567},{"$f":"DS2","v":"NUIG"},null,null,null,null,{"$f":"DS4","v":"Recurve"},null,null,null,"Gender","(Multiple Items)",{"$f":"LARGE(EG9:EG41,1)","v":0},{"$f":"EE2","v":"RCSI"},null,null,null,null,{"$f":"EE4","v":"Recurve"},null,null,null,"Gender","(Multiple Items)",{"$f":"LARGE(ES9:ES41,1)","v":486},{"$f":"EQ2","v":"UCC"},null,null,null,null,{"$f":"EQ4","v":"Recurve"},null,null,null,"Gender","(Multiple Items)",{"$f":"LARGE(FE9:FE41,1)","v":537},{"$f":"FC2","v":"UCD"},null,null,null,null,{"$f":"FC4","v":"Recurve"},null,null,null,"Gender","(Multiple Items)",{"$f":"LARGE(FQ9:FQ41,1)","v":541},{"$f":"FO2","v":"UL"},null,null,null,null,{"$f":"FO4","v":"Recurve"},null,null,null,"Gender","(Multiple Items)",{"$f":"LARGE(GC9:GC41,1)","v":559},{"$f":"GA2","v":"UU"},null,null,null,null,{"$f":"GA4","v":"Recurve"},null,null,null,"Gender","(Multiple Items)",{"$f":"LARGE(GO9:GO41,1)","v":0},{"$f":"GM2","v":"QUB"},null,null,null,null,{"$f":"GM4","v":"Recurve"},null,null,null,"Gender","(Multiple Items)",{"$f":"LARGE(GZ9:GZ41,1)","v":0},{"$f":"GY2","v":"AAA"},null,null,null,{"$f":"GY4","v":"Recurve"},null,null,null,"Gender","(Multiple Items)",{"$f":"LARGE(HK9:HK41,1)","v":0},{"$f":"HJ2","v":"BBB"},null,null,null,{"$f":"HJ4","v":"Recurve"},null,null,null,"Gender","(Multiple Items)",{"$f":"LARGE(HV9:HV41,1)","v":0},{"$f":"HU2","v":"CCC"},null,null,null,{"$f":"HU4","v":"Recurve"},null,null,null,"Gender","(Multiple Items)",{"$f":"LARGE(IG9:IG41,1)","v":0},{"$f":"IF2","v":"DDD"},null,null,null,{"$f":"IF4","v":"Recurve"},null,null,null,"Gender","(Multiple Items)",{"$f":"LARGE(IR9:IR41,1)","v":0},{"$f":"IQ2","v":"EEE"},null,null,null,{"$f":"IQ4","v":"Recurve"}]
[null,"Bow","Recurve",{"$f":"LARGE(F9:F41,1)","v":543},null,null,null,null,null,null,null,null,null,"Bow","Recurve",{"$f":"LARGE(R9:R41,1)","v":530},null,null,null,null,null,null,null,null,null,"Bow","Recurve",{"$f":"LARGE(AD9:AD41,1)","v":513},null,null,null,null,null,null,null,null,null,"Bow","Recurve",{"$f":"LARGE(AP9:AP41,1)","v":550},null,null,null,null,null,null,null,null,null,"Bow","Recurve",{"$f":"LARGE(BB9:BB41,1)","v":437},null,null,null,null,null,null,null,null,null,"Bow","Recurve",{"$f":"LARGE(BN9:BN41,1)","v":423},null,null,null,null,null,null,null,null,null,"Bow","Recurve",{"$f":"LARGE(BZ9:BZ41,1)","v":523},null,null,null,null,null,null,null,null,null,"Bow","Recurve",{"$f":"LARGE(CL9:CL41,1)","v":510},null,null,null,null,null,null,null,null,null,"Bow","Recurve",{"$f":"LARGE(CX9:CX41,1)","v":513},null,null,null,null,null,null,null,null,null,"Bow","Recurve",{"$f":"LARGE(DJ9:DJ41,1)","v":0},null,null,null,null,null,null,null,null,null,"Bow","Recurve",{"$f":"LARGE(DV9:DV41,1)","v":560},null,null,null,null,null,null,null,null,null,"Bow","Recurve",{"$f":"LARGE(EH9:EH41,1)","v":444},null,null,null,null,null,null,null,null,null,"Bow","Recurve",{"$f":"LARGE(ET9:ET41,1)","v":0},null,null,null,null,null,null,null,null,null,"Bow","Recurve",{"$f":"LARGE(FF9:FF41,1)","v":502},null,null,null,null,null,null,null,null,null,"Bow","Recurve",{"$f":"LARGE(FR9:FR41,1)","v":529},null,null,null,null,null,null,null,null,null,"Bow","Recurve",{"$f":"LARGE(GD9:GD41,1)","v":557},null,null,null,null,null,null,null,null,null,"Bow","Recurve",{"$f":"LARGE(GP9:GP41,1)","v":0},null,null,null,null,null,null,null,null,null,"Bow","Recurve",{"$f":"LARGE(HA9:HA41,1)","v":0},null,null,null,null,null,null,null,null,"Bow","Recurve",{"$f":"LARGE(HL9:HL41,1)","v":0},null,null,null,null,null,null,null,null,"Bow","Recurve",{"$f":"LARGE(HW9:HW41,1)","v":0},null,null,null,null,null,null,null,null,"Bow","Recurve",{"$f":"LARGE(IH9:IH41,1)","v":0},null,null,null,null,null,null,null,null,"Bow","Recurve",{"$f":"LARGE(IS9:IS41,1)","v":0}]
[null,"Level","(Multiple Items)",{"$f":"LARGE(G9:G41,1)","v":530},null,null,null,null,null,null,null,null,null,"Level","(Multiple Items)",{"$f":"LARGE(S9:S41,1)","v":529},null,null,null,null,null,null,null,null,null,"Level","(Multiple Items)",{"$f":"LARGE(AE9:AE41,1)","v":556},null,null,null,null,null,null,null,null,null,"Level","(Multiple Items)",{"$f":"LARGE(AQ9:AQ41,1)","v":559},null,null,null,null,null,null,null,null,null,"Level","(Multiple Items)",{"$f":"LARGE(BC9:BC41,1)","v":458},null,null,null,null,null,null,null,null,null,"Level","(Multiple Items)",{"$f":"LARGE(BO9:BO41,1)","v":445},null,null,null,null,null,null,null,null,null,"Level","(Multiple Items)",{"$f":"LARGE(CA9:CA41,1)","v":451},null,null,null,null,null,null,null,null,null,"Level","(Multiple Items)",{"$f":"LARGE(CM9:CM41,1)","v":489},null,null,null,null,null,null,null,null,null,"Level","(Multiple Items)",{"$f":"LARGE(CY9:CY41,1)","v":488},null,null,null,null,null,null,null,null,null,"Level","(Multiple Items)",{"$f":"LARGE(DK9:DK41,1)","v":0},null,null,null,null,null,null,null,null,null,"Level","(Multiple Items)",{"$f":"LARGE(DW9:DW41,1)","v":575},null,null,null,null,null,null,null,null,null,"Level","(Multiple Items)",{"$f":"LARGE(EI9:EI41,1)","v":366},null,null,null,null,null,null,null,null,null,"Level","(Multiple Items)",{"$f":"LARGE(EU9:EU41,1)","v":488},null,null,null,null,null,null,null,null,null,"Level","(Multiple Items)",{"$f":"LARGE(FG9:FG41,1)","v":520},null,null,null,null,null,null,null,null,null,"Level","(Multiple Items)",{"$f":"LARGE(FS9:FS41,1)","v":527},null,null,null,null,null,null,null,null,null,"Level","(Multiple Items)",{"$f":"LARGE(GE9:GE41,1)","v":0},null,null,null,null,null,null,null,null,null,"Level","(Multiple Items)",{"$f":"LARGE(GQ9:GQ41,1)","v":471},null,null,null,null,null,null,null,null,null,"Level","(Multiple Items)",{"$f":"LARGE(HB9:HB41,1)","v":0},null,null,null,null,null,null,null,null,"Level","(Multiple Items)",{"$f":"LARGE(HM9:HM41,1)","v":0},null,null,null,null,null,null,null,null,"Level","(Multiple Items)",{"$f":"LARGE(HX9:HX41,1)","v":0},null,null,null,null,null,null,null,null,"Level","(Multiple Items)",{"$f":"LARGE(II9:II41,1)","v":0},null,null,null,null,null,null,null,null,"Level","(Multiple Items)",{"$f":"LARGE(IT9:IT41,1)","v":0}]
[null,null,null,{"$f":"LARGE(H9:H31,1)","v":554},null,null,null,null,null,null,null,null,null,null,null,{"$f":"LARGE(T9:T31,1)","v":530},null,null,null,null,null,null,null,null,null,null,null,{"$f":"LARGE(AF9:AF31,1)","v":531},null,null,null,null,null,null,null,null,null,null,null,{"$f":"LARGE(AR9:AR31,1)","v":548},null,null,null,null,null,null,null,null,null,null,null,{"$f":"LARGE(BD9:BD31,1)","v":472},null,null,null,null,null,null,null,null,null,null,null,{"$f":"LARGE(BP9:BP31,1)","v":452},null,null,null,null,null,null,null,null,null,null,null,{"$f":"LARGE(CB9:CB31,1)","v":525},null,null,null,null,null,null,null,null,null,null,null,{"$f":"LARGE(CN9:CN31,1)","v":526},null,null,null,null,null,null,null,null,null,null,null,{"$f":"LARGE(CZ9:CZ31,1)","v":515},null,null,null,null,null,null,null,null,null,null,null,{"$f":"LARGE(DL9:DL31,1)","v":0},null,null,null,null,null,null,null,null,null,null,null,{"$f":"LARGE(DX9:DX31,1)","v":565},null,null,null,null,null,null,null,null,null,null,null,{"$f":"LARGE(EJ9:EJ31,1)","v":407},null,null,null,null,null,null,null,null,null,null,null,{"$f":"LARGE(EV9:EV31,1)","v":490},null,null,null,null,null,null,null,null,null,null,null,{"$f":"LARGE(FH9:FH31,1)","v":526},null,null,null,null,null,null,null,null,null,null,null,{"$f":"LARGE(FT9:FT31,1)","v":511},null,null,null,null,null,null,null,null,null,null,null,{"$f":"LARGE(GF9:GF31,1)","v":0},null,null,null,null,null,null,null,null,null,null,null,{"$f":"LARGE(GR9:GR31,1)","v":0},null,null,null,null,null,null,null,null,null,null,null,{"$f":"LARGE(HC9:HC41,1)","v":0},null,null,null,null,null,null,null,null,null,null,{"$f":"LARGE(HN9:HN41,1)","v":0},null,null,null,null,null,null,null,null,null,null,{"$f":"LARGE(HY9:HY41,1)","v":0},null,null,null,null,null,null,null,null,null,null,{"$f":"LARGE(IJ9:IJ41,1)","v":0},null,null,null,null,null,null,null,null,null,null,{"$f":"LARGE(IU9:IU41,1)","v":0}]
[null,"Sum of Points","Column Labels",null,null,null,null,null,null,null,"League Score","Rank",null,"Sum of Points","Column Labels",null,null,null,null,null,null,null,"League Score","Rank",null,"Sum of Points","Column Labels",null,null,null,null,null,null,null,"League Score","Rank",null,"Sum of Points","Column Labels",null,null,null,null,null,null,null,"League Score","Rank",null,"Sum of Points","Column Labels",null,null,null,null,null,null,null,"League Score","Rank",null,"Sum of Points","Column Labels",null,null,null,null,null,null,null,"League Score","Rank",null,"Sum of Points","Column Labels",null,null,null,null,null,null,null,"League Score","Rank",null,"Sum of Points","Column Labels",null,null,null,null,null,null,null,"League Score","Rank",null,"Sum of Points","Column Labels",null,null,null,null,null,null,null,"League Score","Rank",null,"Sum of Points","Column Labels",null,null,null,null,null,null,null,"League Score","Rank",null,"Sum of Points","Column Labels",null,null,null,null,null,null,null,"League Score","Rank",null,"Sum of Points","Column Labels",null,null,null,null,null,null,null,"League Score","Rank",null,"Sum of Points","Column Labels",null,null,null,null,null,null,null,"League Score","Rank",null,"Sum of Points","Column Labels",null,null,null,null,null,null,null,"League Score","Rank",null,"Sum of Points","Column Labels",null,null,null,null,null,null,null,"League Score","Rank",null,"Sum of Points","Column Labels",null,null,null,null,null,null,null,"League Score","Rank",null,"Sum of Points","Column Labels",null,null,null,null,null,null,null,"League Score","Rank",null,"Sum of Points","Column Labels",null,null,null,null,null,null,"League Score","Rank",null,"Sum of Points","Column Labels",null,null,null,null,null,null,"League Score","Rank",null,"Sum of Points","Column Labels",null,null,null,null,null,null,"League Score","Rank",null,"Sum of Points","Column Labels",null,null,null,null,null,null,"League Score","Rank",null,"Sum of Points","Column Labels",null,null,null,null,null,null,"League Score","Rank"]
[null,"Row Labels","DCU","UCD/ITC","DkIT","NUIM/GMIT","NUIG","UL","Grand Total","Lowest",null,null,null,"Row Labels","DCU","UCD/ITC","DkIT","NUIM/GMIT","NUIG","UL","Grand Total","Lowest",null,null,null,"Row Labels","DCU","UCD/ITC","DkIT","NUIM/GMIT","NUIG","UL","Grand Total","Lowest",null,null,null,"Row Labels","DCU","UCD/ITC","DkIT","NUIM/GMIT","NUIG","UL","Grand Total","Lowest",null,null,null,"Row Labels","DCU","UCD/ITC","DkIT","NUIM/GMIT","NUIG","UL","Grand Total","Lowest",null,null,null,"Row Labels","DCU","UCD/ITC","DkIT","NUIM/GMIT","NUIG","UL","Grand Total","Lowest",null,null,null,"Row Labels","DCU","UCD/ITC","DkIT","NUIM/GMIT","NUIG","UL","Grand Total","Lowest",null,null,null,"Row Labels","DCU","UCD/ITC","DkIT","NUIM/GMIT","NUIG","UL","Grand Total","Lowest",null,null,null,"Row Labels","DCU","UCD/ITC","DkIT","NUIM/GMIT","NUIG","UL","Grand Total","Lowest",null,null,null,"Row Labels","DCU","UCD/ITC","DkIT","NUIM/GMIT","NUIG","UL","Grand Total","Lowest",null,null,null,"Row Labels","DCU","UCD/ITC","DkIT","NUIM/GMIT","NUIG","UL","Grand Total","Lowest",null,null,null,"Row Labels","DCU","UCD/ITC","DkIT","NUIM/GMIT","NUIG","UL","Grand Total","Lowest",null,null,null,"Row Labels","DCU","UCD/ITC","DkIT","NUIM/GMIT","NUIG","UL","Grand Total","Lowest",null,null,null,"Row Labels","DCU","UCD/ITC","DkIT","NUIM/GMIT","NUIG","UL","Grand Total","Lowest",null,null,null,"Row Labels","DCU","UCD/ITC","DkIT","NUIM/GMIT","NUIG","UL","Grand Total","Lowest",null,null,null,"Row Labels","DCU","UCD/ITC","DkIT","NUIM/GMIT","NUIG","UL","Grand Total","Lowest",null,null,null,"Row Labels","DCU","UCD/ITC","DkIT","NUIM/GMIT","NUIG","UL","Grand Total","Lowest",null,null,null,"Row Labels","DCU","MU","ITC","UCD","IT Tallaght","Grand Total","Lowest",null,null,null,"Row Labels","DCU","MU","ITC","UCD","IT Tallaght","Grand Total","Lowest",null,null,null,"Row Labels","DCU","MU","ITC","UCD","IT Tallaght","Grand Total","Lowest",null,null,null,"Row Labels","DCU","MU","ITC","UCD","IT Tallaght","Grand Total","Lowest",null,null,null,"Row Labels","DCU","MU","ITC","UCD","IT Tallaght","Grand Total","Lowest"]
[null,"Adam McSweeney",547,547,544,538,530,554,3260,{"$f":"MIN(C9:H9)","v":530},{"$f":"I9-J9","v":2730},{"$f":"IF(K9>1,RANK(K9,K$9:K$41,0),\"\")","v":1},null,"James Byrne",499,476,494,488,508,503,2968,{"$f":"MIN(O9:T9)","v":476},{"$f":"U9-V9","v":2492},{"$f":"IF(W9>1,RANK(W9,W$9:W$41,0),\"\")","v":2},null,"Brendan Forde",503,542,496,513,556,531,3141,{"$f":"MIN(AA9:AF9)","v":496},{"$f":"AG9-AH9","v":2645},{"$f":"IF(AI9>1,RANK(AI9,AI$9:AI$41,0),\"\")","v":1},null,"Maeve Reidy",552,546,562,550,559,548,3317,{"$f":"MIN(AM9:AR9)","v":546},{"$f":"AS9-AT9","v":2771},{"$f":"IF(AU9>1,RANK(AU9,AU$9:AU$41,0),\"\")","v":1},null,"Conor McCan",0,0,389,437,458,444,1728,{"$f":"MIN(AY9:BD9)","v":0},{"$f":"BE9-BF9","v":1728},{"$f":"IF(BG9>1,RANK(BG9,BG$9:BG$41,0),\"\")","v":1},null,"Sinead Naughton",366,452,413,423,445,452,2551,{"$f":"MIN(BK9:BP9)","v":366},{"$f":"BQ9-BR9","v":2185},{"$f":"IF(BS9>1,RANK(BS9,BS$9:BS$41,0),\"\")","v":1},null,"Aldrin Campos",392,499,477,478,451,494,2791,{"$f":"MIN(BW9:CB9)","v":392},{"$f":"CC9-CD9","v":2399},{"$f":"IF(CE9>1,RANK(CE9,CE$9:CE$41,0),\"\")","v":1},null,"Ian Kenna",429,393,484,510,474,526,2816,{"$f":"MIN(CI9:CN9)","v":393},{"$f":"CO9-CP9","v":2423},{"$f":"IF(CQ9>1,RANK(CQ9,CQ$9:CQ$41,0),\"\")","v":1},null,"Aida Alexandru",505,521,525,492,485,448,2976,{"$f":"MIN(CU9:CZ9)","v":448},{"$f":"DA9-DB9","v":2528},{"$f":"IF(DC9>1,RANK(DC9,DC$9:DC$41,0),\"\")","v":1},null,null,0,0,0,0,0,0,null,{"$f":"MIN(DG9:DL9)","v":0},{"$f":"DM9-DN9","v":0},{"$f":"IF(DO9>1,RANK(DO9,DO$9:DO$41,0),\"\")","v":""},null,"Darren Wallace",564,560,567,560,575,565,3391,{"$f":"MIN(DS9:DX9)","v":560},{"$f":"DY9-DZ9","v":2831},{"$f":"IF(EA9>1,RANK(EA9,EA$9:EA$41,0),\"\")","v":1},null,"Tan Shu leed",0,282,0,0,366,407,1055,{"$f":"MIN(EE9:EJ9)","v":0},{"$f":"EK9-EL9","v":1055},{"$f":"IF(EM9>1,RANK(EM9,EM$9:EM$41,0),\"\")","v":1},null,"Simon Henleywillis",495,489,486,0,488,465,2423,{"$f":"MIN(EQ9:EV9)","v":0},{"$f":"EW9-EX9","v":2423},{"$f":"IF(EY9>1,RANK(EY9,EY$9:EY$41,0),\"\")","v":1},null,"Ines Rauch",473,458,537,502,498,502,2970,{"$f":"MIN(FC9:FH9)","v":458},{"$f":"FI9-FJ9","v":2512},{"$f":"IF(FK9>1,RANK(FK9,FK$9:FK$44,0),\"\")","v":1},null,"Sean Flavin",524,517,505,522,527,503,3098,{"$f":"MIN(FO9:FT9)","v":503},{"$f":"FU9-FV9","v":2595},{"$f":"IF(FW9>1,RANK(FW9,FW$9:FW$41,0),\"\")","v":2},null,"Peter Cummings",564,548,559,557,0,0,2228,{"$f":"MIN(GA9:GF9)","v":0},{"$f":"GG9-GH9","v":2228},{"$f":"IF(GI9>1,RANK(GI9,GI$9:GI$41,0),\"\")","v":1},null,"Laura Adams",454,0,0,0,471,0,925,{"$f":"MIN(GM9:GR9)","v":0},{"$f":"GS9-GT9","v":925},{"$f":"IF(GU9>1,RANK(GU9,GU$9:GU$41,0),\"\")","v":1},null,null,0,0,0,0,0,null,{"$f":"IF(Entries!$K$20=5,MIN(GY9,GZ9,HA9,HB9,HC9),IF(Entries!$K$20=4,MIN(GY9,GZ9,HA9,HB9),IF(Entries!$K$20=3,MIN(GY9,GZ9,HA9),IF(Entries!$K$20=2,MIN(GY9,GZ9),IF(Entries!$K$20=1,0,0)))))","v":0},{"$f":"HD9-HE9","v":0},{"$f":"IF(HF9>1,RANK(HF9,HF$9:HF$41,0),\"\")","v":""},null,null,0,0,0,0,0,null,{"$f":"IF(Entries!$K$20=5,MIN(HJ9,HK9,HL9,HM9,HN9),IF(Entries!$K$20=4,MIN(HJ9,HK9,HL9,HM9),IF(Entries!$K$20=3,MIN(HJ9,HK9,HL9),IF(Entries!$K$20=2,MIN(HJ9,HK9),IF(Entries!$K$20=1,0,0)))))","v":0},{"$f":"HO9-HP9","v":0},{"$f":"IF(HQ9>1,RANK(HQ9,HQ$9:HQ$41,0),\"\")","v":""},null,null,0,0,0,0,0,null,{"$f":"IF(Entries!$K$20=5,MIN(HU9,HV9,HW9,HX9,HY9),IF(Entries!$K$20=4,MIN(HU9,HV9,HW9,HX9),IF(Entries!$K$20=3,MIN(HU9,HV9,HW9),IF(Entries!$K$20=2,MIN(HU9,HV9),IF(Entries!$K$20=1,0,0)))))","v":0},{"$f":"HZ9-IA9","v":0},{"$f":"IF(IB9>1,RANK(IB9,IB$9:IB$41,0),\"\")","v":""},null,null,0,0,0,0,0,null,{"$f":"IF(Entries!$K$20=5,MIN(IF9,IG9,IH9,II9,IJ9),IF(Entries!$K$20=4,MIN(IF9,IG9,IH9,II9),IF(Entries!$K$20=3,MIN(IF9,IG9,IH9),IF(Entries!$K$20=2,MIN(IF9,IG9),IF(Entries!$K$20=1,0,0)))))","v":0},{"$f":"IK9-IL9","v":0},{"$f":"IF(IM9>1,RANK(IM9,IM$9:IM$41,0),\"\")","v":""},null,null,0,0,0,0,0,null,{"$f":"IF(Entries!$K$20=5,MIN(IQ9,IR9,IS9,IT9,IU9),IF(Entries!$K$20=4,MIN(IQ9,IR9,IS9,IT9),IF(Entries!$K$20=3,MIN(IQ9,IR9,IS9),IF(Entries!$K$20=2,MIN(IQ9,IR9),IF(Entries!$K$20=1,0,0)))))","v":0},{"$f":"IV9-IW9","v":0},{"$f":"IF(IX9>1,RANK(IX9,IX$9:IX$41,0),\"\")","v":""}]
[null,"Dave Boyle",513,533,522,527,493,480,3068,{"$f":"MIN(C10:H10)","v":480},{"$f":"I10-J10","v":2588},{"$f":"IF(K10>1,RANK(K10,K$9:K$41,0),\"\")","v":2},null,"Ryan Byrne",559,480,527,530,0,530,2626,{"$f":"MIN(O10:T10)","v":0},{"$f":"U10-V10","v":2626},{"$f":"IF(W10>1,RANK(W10,W$9:W$41,0),\"\")","v":1},null,"Kevin Kok Zhi Hao",452,427,462,413,446,432,2632,{"$f":"MIN(AA10:AF10)","v":413},{"$f":"AG10-AH10","v":2219},{"$f":"IF(AI10>1,RANK(AI10,AI$9:AI$41,0),\"\")","v":2},null,null,0,0,0,0,0,0,null,{"$f":"MIN(AM10:AR10)","v":0},{"$f":"AS10-AT10","v":0},{"$f":"IF(AU10>1,RANK(AU10,AU$9:AU$41,0),\"\")","v":""},null,"Brendan Browne",0,0,400,380,422,371,1573,{"$f":"MIN(AY10:BD10)","v":0},{"$f":"BE10-BF10","v":1573},{"$f":"IF(BG10>1,RANK(BG10,BG$9:BG$41,0),\"\")","v":2},null,"Eamonn Dunleavy",337,0,0,0,0,0,337,{"$f":"MIN(BK10:BP10)","v":0},{"$f":"BQ10-BR10","v":337},{"$f":"IF(BS10>1,RANK(BS10,BS$9:BS$41,0),\"\")","v":2},null,"Stephen Dillon",497,0,543,523,0,525,2088,{"$f":"MIN(BW10:CB10)","v":0},{"$f":"CC10-CD10","v":2088},{"$f":"IF(CE10>1,RANK(CE10,CE$9:CE$41,0),\"\")","v":2},null,"Adin Middleton",474,400,467,496,489,484,2810,{"$f":"MIN(CI10:CN10)","v":400},{"$f":"CO10-CP10","v":2410},{"$f":"IF(CQ10>1,RANK(CQ10,CQ$9:CQ$41,0),\"\")","v":2},null,"Diego Coyle Diez",505,504,496,445,487,470,2907,{"$f":"MIN(CU10:CZ10)","v":445},{"$f":"DA10-DB10","v":2462},{"$f":"IF(DC10>1,RANK(DC10,DC$9:DC$41,0),\"\")","v":2},null,null,0,0,0,0,0,0,null,{"$f":"MIN(DG10:DL10)","v":0},{"$f":"DM10-DN10","v":0},{"$f":"IF(DO10>1,RANK(DO10,DO$9:DO$41,0),\"\")","v":""},null,"Patrick Molloy",454,459,386,408,456,427,2590,{"$f":"MIN(DS10:DX10)","v":386},{"$f":"DY10-DZ10","v":2204},{"$f":"IF(EA10>1,RANK(EA10,EA$9:EA$41,0),\"\")","v":2},null,"Muhammad Hakim Mohd Nasir",224,239,0,444,0,114,1021,{"$f":"MIN(EE10:EJ10)","v":0},{"$f":"EK10-EL10","v":1021},{"$f":"IF(EM10>1,RANK(EM10,EM$9:EM$41,0),\"\")","v":2},null,"Chris O'Leary",452,450,414,0,479,490,2285,{"$f":"MIN(EQ10:EV10)","v":0},{"$f":"EW10-EX10","v":2285},{"$f":"IF(EY10>1,RANK(EY10,EY$9:EY$41,0),\"\")","v":2},null,"Ailish Dennehy",474,429,486,457,479,494,2819,{"$f":"MIN(FC10:FH10)","v":429},{"$f":"FI10-FJ10","v":2390},{"$f":"IF(FK10>1,RANK(FK10,FK$9:FK$44,0),\"\")","v":3},null,"Sean Curtin",541,540,494,529,491,499,3094,{"$f":"MIN(FO10:FT10)","v":491},{"$f":"FU10-FV10","v":2603},{"$f":"IF(FW10>1,RANK(FW10,FW$9:FW$41,0),\"\")","v":1},null,"Jordan McCord",445,472,476,531,0,0,1924,{"$f":"MIN(GA10:GF10)","v":0},{"$f":"GG10-GH10","v":1924},{"$f":"IF(GI10>1,RANK(GI10,GI$9:GI$41,0),\"\")","v":2},null,null,0,0,0,0,0,0,null,{"$f":"MIN(GM10:GR10)","v":0},{"$f":"GS10-GT10","v":0},{"$f":"IF(GU10>1,RANK(GU10,GU$9:GU$41,0),\"\")","v":""},null,null,0,0,0,0,0,null,{"$f":"IF(Entries!$K$20=5,MIN(GY10,GZ10,HA10,HB10,HC10),IF(Entries!$K$20=4,MIN(GY10,GZ10,HA10,HB10),IF(Entries!$K$20=3,MIN(GY10,GZ10,HA10),IF(Entries!$K$20=2,MIN(GY10,GZ10),IF(Entries!$K$20=1,0,0)))))","v":0},0,{"$f":"IF(HF10>1,RANK(HF10,HF$9:HF$41,0),\"\")","v":""},null,null,0,0,0,0,0,null,{"$f":"IF(Entries!$K$20=5,MIN(HJ10,HK10,HL10,HM10,HN10),IF(Entries!$K$20=4,MIN(HJ10,HK10,HL10,HM10),IF(Entries!$K$20=3,MIN(HJ10,HK10,HL10),IF(Entries!$K$20=2,MIN(HJ10,HK10),IF(Entries!$K$20=1,0,0)))))","v":0},0,{"$f":"IF(HQ10>1,RANK(HQ10,HQ$9:HQ$41,0),\"\")","v":""},null,null,0,0,0,0,0,null,{"$f":"IF(Entries!$K$20=5,MIN(HU10,HV10,HW10,HX10,HY10),IF(Entries!$K$20=4,MIN(HU10,HV10,HW10,HX10),IF(Entries!$K$20=3,MIN(HU10,HV10,HW10),IF(Entries!$K$20=2,MIN(HU10,HV10),IF(Entries!$K$20=1,0,0)))))","v":0},0,{"$f":"IF(IB10>1,RANK(IB10,IB$9:IB$41,0),\"\")","v":""},null,null,0,0,0,0,0,null,{"$f":"IF(Entries!$K$20=5,MIN(IF10,IG10,IH10,II10,IJ10),IF(Entries!$K$20=4,MIN(IF10,IG10,IH10,II10),IF(Entries!$K$20=3,MIN(IF10,IG10,IH10),IF(Entries!$K$20=2,MIN(IF10,IG10),IF(Entries!$K$20=1,0,0)))))","v":0},0,{"$f":"IF(IM10>1,RANK(IM10,IM$9:IM$41,0),\"\")","v":""},null,null,0,0,0,0,0,null,{"$f":"IF(Entries!$K$20=5,MIN(IQ10,IR10,IS10,IT10,IU10),IF(Entries!$K$20=4,MIN(IQ10,IR10,IS10,IT10),IF(Entries!$K$20=3,MIN(IQ10,IR10,IS10),IF(Entries!$K$20=2,MIN(IQ10,IR10),IF(Entries!$K$20=1,0,0)))))","v":0},0,{"$f":"IF(IX10>1,RANK(IX10,IX$9:IX$41,0),\"\")","v":""}]
[null,"Sarah Maloney",465,434,517,484,431,474,2805,431,2374,3,null,"Jen Daly",355,467,389,373,398,464,2446,355,2091,5,null,"Edwin Ma",399,464,394,323,334,350,2264,323,1941,4,null,null,0,0,0,0,0,0,null,0,0,"",null,"Shane McGloin",0,0,325,373,428,361,1487,0,1487,3,null,null,0,0,0,0,0,0,null,0,0,"",null,"Paul Ferguson",0,0,0,480,0,423,903,0,903,3,null,"Leo Byrne",0,0,304,313,337,399,1353,0,1353,3,null,"Sinead O`Connell",433,477,472,428,444,482,2736,428,2308,4,null,null,0,0,0,0,0,0,null,0,0,"",null,"Muhammad Asyraf Maarof",410,404,467,443,424,425,2573,404,2169,3,null,"Muhammad Izrin Syukri Mohd Nasri",0,240,0,0,282,382,904,0,904,3,null,"Linda Hearn",450,312,374,0,0,405,1541,0,1541,3,null,"Stephen Masterson",466,75,473,488,461,526,2489,75,2414,2,null,"John Hally",512,488,541,497,515,511,3064,488,2576,3,null,"Martha Chege",0,322,0,381,0,0,703,0,703,3,null,null,0,0,0,0,0,0,null,0,0,"",null,null,0,0,0,0,0,null,{"$f":"IF(Entries!$K$20=5,MIN(GY11,GZ11,HA11,HB11,HC11),IF(Entries!$K$20=4,MIN(GY11,GZ11,HA11,HB11),IF(Entries!$K$20=3,MIN(GY11,GZ11,HA11),IF(Entries!$K$20=2,MIN(GY11,GZ11),IF(Entries!$K$20=1,0,0)))))","v":0},0,"",null,null,0,0,0,0,0,null,{"$f":"IF(Entries!$K$20=5,MIN(HJ11,HK11,HL11,HM11,HN11),IF(Entries!$K$20=4,MIN(HJ11,HK11,HL11,HM11),IF(Entries!$K$20=3,MIN(HJ11,HK11,HL11),IF(Entries!$K$20=2,MIN(HJ11,HK11),IF(Entries!$K$20=1,0,0)))))","v":0},0,"",null,null,0,0,0,0,0,null,{"$f":"IF(Entries!$K$20=5,MIN(HU11,HV11,HW11,HX11,HY11),IF(Entries!$K$20=4,MIN(HU11,HV11,HW11,HX11),IF(Entries!$K$20=3,MIN(HU11,HV11,HW11),IF(Entries!$K$20=2,MIN(HU11,HV11),IF(Entries!$K$20=1,0,0)))))","v":0},0,"",null,null,0,0,0,0,0,null,{"$f":"IF(Entries!$K$20=5,MIN(IF11,IG11,IH11,II11,IJ11),IF(Entries!$K$20=4,MIN(IF11,IG11,IH11,II11),IF(Entries!$K$20=3,MIN(IF11,IG11,IH11),IF(Entries!$K$20=2,MIN(IF11,IG11),IF(Entries!$K$20=1,0,0)))))","v":0},0,"",null,null,0,0,0,0,0,null,{"$f":"IF(Entries!$K$20=5,MIN(IQ11,IR11,IS11,IT11,IU11),IF(Entries!$K$20=4,MIN(IQ11,IR11,IS11,IT11),IF(Entries!$K$20=3,MIN(IQ11,IR11,IS11),IF(Entries!$K$20=2,MIN(IQ11,IR11),IF(Entries!$K$20=1,0,0)))))","v":0},0,""]
[null,"Christina Somers",366,446,377,456,397,431,2473,366,2107,5,null,"Youcheng Pan",399,0,480,509,529,499,2416,0,2416,3,null,"See Qui Ren",471,422,414,362,292,301,2262,292,1970,3,null,null,0,0,0,0,0,0,null,0,0,"",null,"Marko Kovacevic",0,0,0,430,444,472,1346,0,1346,4,null,null,0,0,0,0,0,0,null,0,0,"",null,"Rose Comendador",0,0,0,283,0,250,533,0,533,4,null,"Ian Hand",0,448,429,0,0,0,877,0,877,4,null,"Jennifer Nally",349,419,459,413,478,419,2537,349,2188,5,null,null,0,0,0,0,0,0,null,0,0,"",null,"Mark Walsh",354,394,449,355,354,0,1906,0,1906,4,null,"Zhi-Miin Ong",0,0,0,318,251,0,569,0,569,4,null,"Sinead Walsh",403,0,0,0,252,314,969,0,969,4,null,"Peter Callanan",303,205,350,0,328,451,1637,0,1637,4,null,"Thomas Brouder",452,453,499,480,485,462,2831,452,2379,4,null,"Lewis Holmes",0,500,0,0,0,0,500,0,500,4,null,null,0,0,0,0,0,0,null,0,0,"",null,null,0,0,0,0,0,null,{"$f":"IF(Entries!$K$20=5,MIN(GY12,GZ12,HA12,HB12,HC12),IF(Entries!$K$20=4,MIN(GY12,GZ12,HA12,HB12),IF(Entries!$K$20=3,MIN(GY12,GZ12,HA12),IF(Entries!$K$20=2,MIN(GY12,GZ12),IF(Entries!$K$20=1,0,0)))))","v":0},0,"",null,null,0,0,0,0,0,null,{"$f":"IF(Entries!$K$20=5,MIN(HJ12,HK12,HL12,HM12,HN12),IF(Entries!$K$20=4,MIN(HJ12,HK12,HL12,HM12),IF(Entries!$K$20=3,MIN(HJ12,HK12,HL12),IF(Entries!$K$20=2,MIN(HJ12,HK12),IF(Entries!$K$20=1,0,0)))))","v":0},0,"",null,null,0,0,0,0,0,null,{"$f":"IF(Entries!$K$20=5,MIN(HU12,HV12,HW12,HX12,HY12),IF(Entries!$K$20=4,MIN(HU12,HV12,HW12,HX12),IF(Entries!$K$20=3,MIN(HU12,HV12,HW12),IF(Entries!$K$20=2,MIN(HU12,HV12),IF(Entries!$K$20=1,0,0)))))","v":0},0,"",null,null,0,0,0,0,0,null,{"$f":"IF(Entries!$K$20=5,MIN(IF12,IG12,IH12,II12,IJ12),IF(Entries!$K$20=4,MIN(IF12,IG12,IH12,II12),IF(Entries!$K$20=3,MIN(IF12,IG12,IH12),IF(Entries!$K$20=2,MIN(IF12,IG12),IF(Entries!$K$20=1,0,0)))))","v":0},0,"",null,null,0,0,0,0,0,null,{"$f":"IF(Entries!$K$20=5,MIN(IQ12,IR12,IS12,IT12,IU12),IF(Entries!$K$20=4,MIN(IQ12,IR12,IS12,IT12),IF(Entries!$K$20=3,MIN(IQ12,IR12,IS12),IF(Entries!$K$20=2,MIN(IQ12,IR12),IF(Entries!$K$20=1,0,0)))))","v":0},0,""]
[null,"Austin Tobin",0,0,524,543,521,538,2126,0,2126,4,null,"Adam Garton",475,486,0,485,437,478,2361,0,2361,4,null,"Jessica Lee",347,388,342,404,337,351,2169,337,1832,6,null,null,null,null,null,null,null,null,null,0,0,"",null,"Lukasz wrobel",346,0,424,225,286,0,1281,0,1281,5,null,null,null,null,null,null,null,null,null,0,0,"",null,"Gary Stuart",497,0,0,0,0,0,497,0,497,5,null,"Darren Daly",0,535,0,0,0,0,535,0,535,5,null,"Pádraig Dunphy",401,476,0,499,488,509,2373,0,2373,3,null,null,null,null,null,null,null,null,null,0,0,"",null,"Fan Zingliang",0,0,0,502,507,522,1531,0,1531,5,null,"Farah Nadia Zikhtar",187,186,0,0,0,66,439,0,439,5,null,"Shane Lordan",383,458,0,0,0,0,841,0,841,5,null,"Zul Farhan",399,426,0,312,0,355,1492,0,1492,5,null,"Frank Stafford",501,376,387,427,399,441,2531,376,2155,6,null,null,null,null,null,null,null,null,null,0,0,"",null,null,null,null,null,null,null,null,null,0,0,"",null,null,null,null,null,null,null,null,{"$f":"IF(Entries!$K$20=5,MIN(GY13,GZ13,HA13,HB13,HC13),IF(Entries!$K$20=4,MIN(GY13,GZ13,HA13,HB13),IF(Entries!$K$20=3,MIN(GY13,GZ13,HA13),IF(Entries!$K$20=2,MIN(GY13,GZ13),IF(Entries!$K$20=1,0,0)))))","v":0},0,"",null,null,null,null,null,null,null,null,{"$f":"IF(Entries!$K$20=5,MIN(HJ13,HK13,HL13,HM13,HN13),IF(Entries!$K$20=4,MIN(HJ13,HK13,HL13,HM13),IF(Entries!$K$20=3,MIN(HJ13,HK13,HL13),IF(Entries!$K$20=2,MIN(HJ13,HK13),IF(Entries!$K$20=1,0,0)))))","v":0},0,"",null,null,null,null,null,null,null,null,{"$f":"IF(Entries!$K$20=5,MIN(HU13,HV13,HW13,HX13,HY13),IF(Entries!$K$20=4,MIN(HU13,HV13,HW13,HX13),IF(Entries!$K$20=3,MIN(HU13,HV13,HW13),IF(Entries!$K$20=2,MIN(HU13,HV13),IF(Entries!$K$20=1,0,0)))))","v":0},0,"",null,null,null,null,null,null,null,null,{"$f":"IF(Entries!$K$20=5,MIN(IF13,IG13,IH13,II13,IJ13),IF(Entries!$K$20=4,MIN(IF13,IG13,IH13,II13),IF(Entries!$K$20=3,MIN(IF13,IG13,IH13),IF(Entries!$K$20=2,MIN(IF13,IG13),IF(Entries!$K$20=1,0,0)))))","v":0},0,"",null,null,null,null,null,null,null,null,{"$f":"IF(Entries!$K$20=5,MIN(IQ13,IR13,IS13,IT13,IU13),IF(Entries!$K$20=4,MIN(IQ13,IR13,IS13,IT13),IF(Entries!$K$20=3,MIN(IQ13,IR13,IS13),IF(Entries!$K$20=2,MIN(IQ13,IR13),IF(Entries!$K$20=1,0,0)))))","v":0},0,""]
[null,"Philip Early",406,408,442,381,0,444,2081,0,2081,6,null,"Graham Buckley",0,0,437,0,366,340,1143,0,1143,6,null,"Keet Wai Hong",287,402,358,339,357,355,2098,287,1811,7,null,null,null,null,null,null,null,null,null,0,0,"",null,"Aaron Downes",242,88,72,155,156,245,958,72,886,6,null,null,null,null,null,null,null,null,null,0,0,"",null,"Eoghan Brophy",0,0,0,170,0,0,170,0,170,6,null,null,null,null,null,null,null,null,null,0,0,"",null,"Mark Christiansen",0,440,458,430,422,408,2158,0,2158,6,null,null,null,null,null,null,null,null,null,0,0,"",null,"Eric Moore",0,0,315,387,343,455,1500,0,1500,6,null,"Tengku Nazim Tengku Yusof",0,0,0,248,159,0,407,0,407,6,null,"Alysoun Killilea",423,0,0,0,399,0,822,0,822,6,null,"Eoin Hinkson",313,270,456,0,0,400,1439,0,1439,6,null,"Michael O Callaghan",448,449,0,439,492,465,2293,0,2293,5,null,null,null,null,null,null,null,null,null,0,0,"",null,null,null,null,null,null,null,null,null,0,0,"",null,null,null,null,null,null,null,null,{"$f":"IF(Entries!$K$20=5,MIN(GY14,GZ14,HA14,HB14,HC14),IF(Entries!$K$20=4,MIN(GY14,GZ14,HA14,HB14),IF(Entries!$K$20=3,MIN(GY14,GZ14,HA14),IF(Entries!$K$20=2,MIN(GY14,GZ14),IF(Entries!$K$20=1,0,0)))))","v":0},0,"",null,null,null,null,null,null,null,null,{"$f":"IF(Entries!$K$20=5,MIN(HJ14,HK14,HL14,HM14,HN14),IF(Entries!$K$20=4,MIN(HJ14,HK14,HL14,HM14),IF(Entries!$K$20=3,MIN(HJ14,HK14,HL14),IF(Entries!$K$20=2,MIN(HJ14,HK14),IF(Entries!$K$20=1,0,0)))))","v":0},0,"",null,null,null,null,null,null,null,null,{"$f":"IF(Entries!$K$20=5,MIN(HU14,HV14,HW14,HX14,HY14),IF(Entries!$K$20=4,MIN(HU14,HV14,HW14,HX14),IF(Entries!$K$20=3,MIN(HU14,HV14,HW14),IF(Entries!$K$20=2,MIN(HU14,HV14),IF(Entries!$K$20=1,0,0)))))","v":0},0,"",null,null,null,null,null,null,null,null,{"$f":"IF(Entries!$K$20=5,MIN(IF14,IG14,IH14,II14,IJ14),IF(Entries!$K$20=4,MIN(IF14,IG14,IH14,II14),IF(Entries!$K$20=3,MIN(IF14,IG14,IH14),IF(Entries!$K$20=2,MIN(IF14,IG14),IF(Entries!$K$20=1,0,0)))))","v":0},0,"",null,null,null,null,null,null,null,null,{"$f":"IF(Entries!$K$20=5,MIN(IQ14,IR14,IS14,IT14,IU14),IF(Entries!$K$20=4,MIN(IQ14,IR14,IS14,IT14),IF(Entries!$K$20=3,MIN(IQ14,IR14,IS14),IF(Entries!$K$20=2,MIN(IQ14,IR14),IF(Entries!$K$20=1,0,0)))))","v":0},0,""]
[null,"Ciara O'Sullivan",0,284,410,410,380,363,1847,0,1847,7,null,"Alan Boylan",421,0,0,0,0,0,421,0,421,7,null,"Jocelyn Yee",337,320,443,279,247,352,1978,247,1731,8,null,null,null,null,null,null,null,null,null,0,0,"",null,"Luke Watson",0,354,0,0,378,0,732,0,732,7,null,null,null,null,null,null,null,null,null,0,0,"",null,"William Oliver",53,0,0,0,0,0,53,0,53,7,null,null,null,null,null,null,null,null,null,0,0,"",null,"Ciarán Lowe",0,519,519,513,0,515,2066,0,2066,7,null,null,null,null,null,null,null,null,null,0,0,"",null,"Thomas Kear",0,337,180,365,298,279,1459,0,1459,7,null,"Fahad Alabdullatif",0,0,0,371,0,0,371,0,371,7,null,"Katie Hamilton",451,0,0,0,0,0,451,0,451,7,null,"Paul Beirne",421,0,0,419,0,446,1286,0,1286,7,null,"Karen Power",394,364,0,433,487,357,2035,0,2035,7,null,null,null,null,null,null,null,null,null,0,0,"",null,null,null,null,null,null,null,null,null,0,0,"",null,null,null,null,null,null,null,null,{"$f":"IF(Entries!$K$20=5,MIN(GY15,GZ15,HA15,HB15,HC15),IF(Entries!$K$20=4,MIN(GY15,GZ15,HA15,HB15),IF(Entries!$K$20=3,MIN(GY15,GZ15,HA15),IF(Entries!$K$20=2,MIN(GY15,GZ15),IF(Entries!$K$20=1,0,0)))))","v":0},0,"",null,null,null,null,null,null,null,null,{"$f":"IF(Entries!$K$20=5,MIN(HJ15,HK15,HL15,HM15,HN15),IF(Entries!$K$20=4,MIN(HJ15,HK15,HL15,HM15),IF(Entries!$K$20=3,MIN(HJ15,HK15,HL15),IF(Entries!$K$20=2,MIN(HJ15,HK15),IF(Entries!$K$20=1,0,0)))))","v":0},0,"",null,null,null,null,null,null,null,null,{"$f":"IF(Entries!$K$20=5,MIN(HU15,HV15,HW15,HX15,HY15),IF(Entries!$K$20=4,MIN(HU15,HV15,HW15,HX15),IF(Entries!$K$20=3,MIN(HU15,HV15,HW15),IF(Entries!$K$20=2,MIN(HU15,HV15),IF(Entries!$K$20=1,0,0)))))","v":0},0,"",null,null,null,null,null,null,null,null,{"$f":"IF(Entries!$K$20=5,MIN(IF15,IG15,IH15,II15,IJ15),IF(Entries!$K$20=4,MIN(IF15,IG15,IH15,II15),IF(Entries!$K$20=3,MIN(IF15,IG15,IH15),IF(Entries!$K$20=2,MIN(IF15,IG15),IF(Entries!$K$20=1,0,0)))))","v":0},0,"",null,null,null,null,null,null,null,null,{"$f":"IF(Entries!$K$20=5,MIN(IQ15,IR15,IS15,IT15,IU15),IF(Entries!$K$20=4,MIN(IQ15,IR15,IS15,IT15),IF(Entries!$K$20=3,MIN(IQ15,IR15,IS15),IF(Entries!$K$20=2,MIN(IQ15,IR15),IF(Entries!$K$20=1,0,0)))))","v":0},0,""]
[null,"Paul Coleman",454,372,0,0,314,375,1515,0,1515,8,null,"Robin Collins",0,372,0,0,0,0,372,0,372,8,null,"Victoria Tan",291,267,401,352,313,330,1954,267,1687,10,null,null,null,null,null,null,null,null,null,0,0,"",null,"Martin Stenson",168,0,0,223,0,215,606,0,606,8,null,null,null,null,null,null,null,null,null,0,0,"",null,null,null,null,null,null,null,null,null,0,0,"",null,null,null,null,null,null,null,null,null,0,0,"",null,"Eoin Miller",437,0,0,414,392,386,1629,0,1629,8,null,null,null,null,null,null,null,null,null,0,0,"",null,"Conor Lydon",245,0,0,360,319,375,1299,0,1299,8,null,"Faiq Syukri",0,0,0,0,359,0,359,0,359,8,null,"Graham Enright",448,0,0,0,0,0,448,0,448,8,null,"Tara Dunne",272,184,0,256,287,280,1279,0,1279,8,null,"sean Morrisey",391,398,507,0,0,374,1670,0,1670,8,null,null,null,null,null,null,null,null,null,0,0,"",null,null,null,null,null,null,null,null,null,0,0,"",null,null,null,null,null,null,null,null,{"$f":"IF(Entries!$K$20=5,MIN(GY16,GZ16,HA16,HB16,HC16),IF(Entries!$K$20=4,MIN(GY16,GZ16,HA16,HB16),IF(Entries!$K$20=3,MIN(GY16,GZ16,HA16),IF(Entries!$K$20=2,MIN(GY16,GZ16),IF(Entries!$K$20=1,0,0)))))","v":0},0,"",null,null,null,null,null,null,null,null,{"$f":"IF(Entries!$K$20=5,MIN(HJ16,HK16,HL16,HM16,HN16),IF(Entries!$K$20=4,MIN(HJ16,HK16,HL16,HM16),IF(Entries!$K$20=3,MIN(HJ16,HK16,HL16),IF(Entries!$K$20=2,MIN(HJ16,HK16),IF(Entries!$K$20=1,0,0)))))","v":0},0,"",null,null,null,null,null,null,null,null,{"$f":"IF(Entries!$K$20=5,MIN(HU16,HV16,HW16,HX16,HY16),IF(Entries!$K$20=4,MIN(HU16,HV16,HW16,HX16),IF(Entries!$K$20=3,MIN(HU16,HV16,HW16),IF(Entries!$K$20=2,MIN(HU16,HV16),IF(Entries!$K$20=1,0,0)))))","v":0},0,"",null,null,null,null,null,null,null,null,{"$f":"IF(Entries!$K$20=5,MIN(IF16,IG16,IH16,II16,IJ16),IF(Entries!$K$20=4,MIN(IF16,IG16,IH16,II16),IF(Entries!$K$20=3,MIN(IF16,IG16,IH16),IF(Entries!$K$20=2,MIN(IF16,IG16),IF(Entries!$K$20=1,0,0)))))","v":0},0,"",null,null,null,null,null,null,null,null,{"$f":"IF(Entries!$K$20=5,MIN(IQ16,IR16,IS16,IT16,IU16),IF(Entries!$K$20=4,MIN(IQ16,IR16,IS16,IT16),IF(Entries!$K$20=3,MIN(IQ16,IR16,IS16),IF(Entries!$K$20=2,MIN(IQ16,IR16),IF(Entries!$K$20=1,0,0)))))","v":0},0,""]
[null,"Daniel Meyer",0,0,0,468,441,480,1389,0,1389,9,null,"Artem Eremin",0,0,0,0,365,0,365,0,365,9,null,"Patrick Markey",424,394,374,349,397,0,1938,0,1938,5,null,null,null,null,null,null,null,null,null,0,0,"",null,"Desmond Monaghan",252,0,12,0,0,0,264,0,264,9,null,null,null,null,null,null,null,null,null,0,0,"",null,null,null,null,null,null,null,null,null,0,0,"",null,null,null,null,null,null,null,null,null,0,0,"",null,"Ester Schwarz",0,375,0,359,393,416,1543,0,1543,9,null,null,null,null,null,null,null,null,null,0,0,"",null,"Aisling Brady",0,0,402,260,280,271,1213,0,1213,9,null,"Shahrizan Majid Allapitchai",259,0,0,0,0,0,259,0,259,9,null,"Ian Mc Dermot",0,266,0,0,0,0,266,0,266,9,null,"Darren Ng",0,391,457,0,0,418,1266,0,1266,9,null,"alannah redington",356,325,0,449,0,381,1511,0,1511,9,null,null,null,null,null,null,null,null,null,0,0,"",null,null,null,null,null,null,null,null,null,0,0,"",null,null,null,null,null,null,null,null,{"$f":"IF(Entries!$K$20=5,MIN(GY17,GZ17,HA17,HB17,HC17),IF(Entries!$K$20=4,MIN(GY17,GZ17,HA17,HB17),IF(Entries!$K$20=3,MIN(GY17,GZ17,HA17),IF(Entries!$K$20=2,MIN(GY17,GZ17),IF(Entries!$K$20=1,0,0)))))","v":0},0,"",null,null,null,null,null,null,null,null,{"$f":"IF(Entries!$K$20=5,MIN(HJ17,HK17,HL17,HM17,HN17),IF(Entries!$K$20=4,MIN(HJ17,HK17,HL17,HM17),IF(Entries!$K$20=3,MIN(HJ17,HK17,HL17),IF(Entries!$K$20=2,MIN(HJ17,HK17),IF(Entries!$K$20=1,0,0)))))","v":0},0,"",null,null,null,null,null,null,null,null,{"$f":"IF(Entries!$K$20=5,MIN(HU17,HV17,HW17,HX17,HY17),IF(Entries!$K$20=4,MIN(HU17,HV17,HW17,HX17),IF(Entries!$K$20=3,MIN(HU17,HV17,HW17),IF(Entries!$K$20=2,MIN(HU17,HV17),IF(Entries!$K$20=1,0,0)))))","v":0},0,"",null,null,null,null,null,null,null,null,{"$f":"IF(Entries!$K$20=5,MIN(IF17,IG17,IH17,II17,IJ17),IF(Entries!$K$20=4,MIN(IF17,IG17,IH17,II17),IF(Entries!$K$20=3,MIN(IF17,IG17,IH17),IF(Entries!$K$20=2,MIN(IF17,IG17),IF(Entries!$K$20=1,0,0)))))","v":0},0,"",null,null,null,null,null,null,null,null,{"$f":"IF(Entries!$K$20=5,MIN(IQ17,IR17,IS17,IT17,IU17),IF(Entries!$K$20=4,MIN(IQ17,IR17,IS17,IT17),IF(Entries!$K$20=3,MIN(IQ17,IR17,IS17),IF(Entries!$K$20=2,MIN(IQ17,IR17),IF(Entries!$K$20=1,0,0)))))","v":0},0,""]
[null,"Laura Ni Riada",477,415,0,0,0,369,1261,0,1261,10,null,"Elizabeth Clare Lao",287,0,0,0,0,0,287,0,287,10,null,"Yeo Eng Jet",465,344,350,200,228,342,1929,200,1729,9,null,null,null,null,null,null,null,null,null,0,0,"",null,"Ciaran McElhinney",252,0,0,0,0,0,252,0,252,10,null,null,null,null,null,null,null,null,null,0,0,"",null,null,null,null,null,null,null,null,null,0,0,"",null,null,null,null,null,null,null,null,null,0,0,"",null,"Max Klein",462,0,272,384,363,0,1481,0,1481,10,null,null,null,null,null,null,null,null,null,0,0,"",null,"Sarah Delaney",0,421,0,361,252,0,1034,0,1034,10,null,"zahratulfatin ",0,0,0,0,0,232,232,0,232,10,null,"Nassira Musa",0,241,0,0,0,0,241,0,241,10,null,"Katy Doyle",0,203,0,313,278,341,1135,0,1135,10,null,"Paul Murphy",470,0,0,321,0,424,1215,0,1215,10,null,null,null,null,null,null,null,null,null,0,0,"",null,null,null,null,null,null,null,null,null,0,0,"",null,null,null,null,null,null,null,null,{"$f":"IF(Entries!$K$20=5,MIN(GY18,GZ18,HA18,HB18,HC18),IF(Entries!$K$20=4,MIN(GY18,GZ18,HA18,HB18),IF(Entries!$K$20=3,MIN(GY18,GZ18,HA18),IF(Entries!$K$20=2,MIN(GY18,GZ18),IF(Entries!$K$20=1,0,0)))))","v":0},0,"",null,null,null,null,null,null,null,null,{"$f":"IF(Entries!$K$20=5,MIN(HJ18,HK18,HL18,HM18,HN18),IF(Entries!$K$20=4,MIN(HJ18,HK18,HL18,HM18),IF(Entries!$K$20=3,MIN(HJ18,HK18,HL18),IF(Entries!$K$20=2,MIN(HJ18,HK18),IF(Entries!$K$20=1,0,0)))))","v":0},0,"",null,null,null,null,null,null,null,null,{"$f":"IF(Entries!$K$20=5,MIN(HU18,HV18,HW18,HX18,HY18),IF(Entries!$K$20=4,MIN(HU18,HV18,HW18,HX18),IF(Entries!$K$20=3,MIN(HU18,HV18,HW18),IF(Entries!$K$20=2,MIN(HU18,HV18),IF(Entries!$K$20=1,0,0)))))","v":0},0,"",null,null,null,null,null,null,null,null,{"$f":"IF(Entries!$K$20=5,MIN(IF18,IG18,IH18,II18,IJ18),IF(Entries!$K$20=4,MIN(IF18,IG18,IH18,II18),IF(Entries!$K$20=3,MIN(IF18,IG18,IH18),IF(Entries!$K$20=2,MIN(IF18,IG18),IF(Entries!$K$20=1,0,0)))))","v":0},0,"",null,null,null,null,null,null,null,null,{"$f":"IF(Entries!$K$20=5,MIN(IQ18,IR18,IS18,IT18,IU18),IF(Entries!$K$20=4,MIN(IQ18,IR18,IS18,IT18),IF(Entries!$K$20=3,MIN(IQ18,IR18,IS18),IF(Entries!$K$20=2,MIN(IQ18,IR18),IF(Entries!$K$20=1,0,0)))))","v":0},0,""]
[null,"Marie Phelan",0,393,0,385,0,408,1186,0,1186,11,null,null,null,null,null,null,null,null,null,0,0,"",null,"Colm McClelland",279,342,402,244,253,336,1856,244,1612,11,null,null,null,null,null,null,null,null,null,0,0,"",null,null,null,null,null,null,null,null,null,0,0,"",null,null,null,null,null,null,null,null,null,0,0,"",null,null,null,null,null,null,null,null,null,0,0,"",null,null,null,null,null,null,null,null,null,0,0,"",null,"John Power",523,464,419,0,0,0,1406,0,1406,11,null,null,null,null,null,null,null,null,null,0,0,"",null,"Aisling Finn",0,0,519,0,501,0,1020,0,1020,11,null,"Shenelle Samodee",0,0,0,0,230,0,230,0,230,11,null,"Marc Creehan",0,166,0,0,0,0,166,0,166,11,null,"James Ryan",531,535,0,0,0,0,1066,0,1066,11,null,"Conor Moran",391,401,0,230,0,0,1022,0,1022,11,null,null,null,null,null,null,null,null,null,0,0,"",null,null,null,null,null,null,null,null,null,0,0,"",null,null,null,null,null,null,null,null,{"$f":"IF(Entries!$K$20=5,MIN(GY19,GZ19,HA19,HB19,HC19),IF(Entries!$K$20=4,MIN(GY19,GZ19,HA19,HB19),IF(Entries!$K$20=3,MIN(GY19,GZ19,HA19),IF(Entries!$K$20=2,MIN(GY19,GZ19),IF(Entries!$K$20=1,0,0)))))","v":0},0,"",null,null,null,null,null,null,null,null,{"$f":"IF(Entries!$K$20=5,MIN(HJ19,HK19,HL19,HM19,HN19),IF(Entries!$K$20=4,MIN(HJ19,HK19,HL19,HM19),IF(Entries!$K$20=3,MIN(HJ19,HK19,HL19),IF(Entries!$K$20=2,MIN(HJ19,HK19),IF(Entries!$K$20=1,0,0)))))","v":0},0,"",null,null,null,null,null,null,null,null,{"$f":"IF(Entries!$K$20=5,MIN(HU19,HV19,HW19,HX19,HY19),IF(Entries!$K$20=4,MIN(HU19,HV19,HW19,HX19),IF(Entries!$K$20=3,MIN(HU19,HV19,HW19),IF(Entries!$K$20=2,MIN(HU19,HV19),IF(Entries!$K$20=1,0,0)))))","v":0},0,"",null,null,null,null,null,null,null,null,{"$f":"IF(Entries!$K$20=5,MIN(IF19,IG19,IH19,II19,IJ19),IF(Entries!$K$20=4,MIN(IF19,IG19,IH19,II19),IF(Entries!$K$20=3,MIN(IF19,IG19,IH19),IF(Entries!$K$20=2,MIN(IF19,IG19),IF(Entries!$K$20=1,0,0)))))","v":0},0,"",null,null,null,null,null,null,null,null,{"$f":"IF(Entries!$K$20=5,MIN(IQ19,IR19,IS19,IT19,IU19),IF(Entries!$K$20=4,MIN(IQ19,IR19,IS19,IT19),IF(Entries!$K$20=3,MIN(IQ19,IR19,IS19),IF(Entries!$K$20=2,MIN(IQ19,IR19),IF(Entries!$K$20=1,0,0)))))","v":0},0,""]
[null,"Gary Cooney",516,449,0,0,0,0,965,0,965,12,null,null,null,null,null,null,null,null,null,0,0,"",null,"Tony Liu",466,442,0,0,475,0,1383,0,1383,12,null,null,null,null,null,null,null,null,null,0,0,"",null,null,null,null,null,null,null,null,null,0,0,"",null,null,null,null,null,null,null,null,null,0,0,"",null,null,null,null,null,null,null,null,null,0,0,"",null,null,null,null,null,null,null,null,null,0,0,"",null,"Mark Kearns",417,363,0,386,0,0,1166,0,1166,12,null,null,null,null,null,null,null,null,null,0,0,"",null,"Sam Schultz",486,435,0,0,0,0,921,0,921,12,null,"Tajul Syaqqil Tajor Amar",0,173,0,0,0,0,173,0,173,12,null,null,null,null,null,null,null,null,null,0,0,"",null,"Conor dePaor",0,0,0,415,366,276,1057,0,1057,12,null,"geoffrey doorbosch",446,438,0,0,0,0,884,0,884,12,null,null,null,null,null,null,null,null,null,0,0,"",null,null,null,null,null,null,null,null,null,0,0,"",null,null,null,null,null,null,null,null,{"$f":"IF(Entries!$K$20=5,MIN(GY20,GZ20,HA20,HB20,HC20),IF(Entries!$K$20=4,MIN(GY20,GZ20,HA20,HB20),IF(Entries!$K$20=3,MIN(GY20,GZ20,HA20),IF(Entries!$K$20=2,MIN(GY20,GZ20),IF(Entries!$K$20=1,0,0)))))","v":0},0,"",null,null,null,null,null,null,null,null,{"$f":"IF(Entries!$K$20=5,MIN(HJ20,HK20,HL20,HM20,HN20),IF(Entries!$K$20=4,MIN(HJ20,HK20,HL20,HM20),IF(Entries!$K$20=3,MIN(HJ20,HK20,HL20),IF(Entries!$K$20=2,MIN(HJ20,HK20),IF(Entries!$K$20=1,0,0)))))","v":0},0,"",null,null,null,null,null,null,null,null,{"$f":"IF(Entries!$K$20=5,MIN(HU20,HV20,HW20,HX20,HY20),IF(Entries!$K$20=4,MIN(HU20,HV20,HW20,HX20),IF(Entries!$K$20=3,MIN(HU20,HV20,HW20),IF(Entries!$K$20=2,MIN(HU20,HV20),IF(Entries!$K$20=1,0,0)))))","v":0},0,"",null,null,null,null,null,null,null,null,{"$f":"IF(Entries!$K$20=5,MIN(IF20,IG20,IH20,II20,IJ20),IF(Entries!$K$20=4,MIN(IF20,IG20,IH20,II20),IF(Entries!$K$20=3,MIN(IF20,IG20,IH20),IF(Entries!$K$20=2,MIN(IF20,IG20),IF(Entries!$K$20=1,0,0)))))","v":0},0,"",null,null,null,null,null,null,null,null,{"$f":"IF(Entries!$K$20=5,MIN(IQ20,IR20,IS20,IT20,IU20),IF(Entries!$K$20=4,MIN(IQ20,IR20,IS20,IT20),IF(Entries!$K$20=3,MIN(IQ20,IR20,IS20),IF(Entries!$K$20=2,MIN(IQ20,IR20),IF(Entries!$K$20=1,0,0)))))","v":0},0,""]
[null,"Laura Ford",0,0,0,416,403,0,819,0,819,13,null,null,null,null,null,null,null,null,null,0,0,"",null,"Rebecca Ward",272,0,331,0,0,0,603,0,603,13,null,null,null,null,null,null,null,null,null,0,0,"",null,null,null,null,null,null,null,null,null,0,0,"",null,null,null,null,null,null,null,null,null,0,0,"",null,null,null,null,null,null,null,null,null,0,0,"",null,null,null,null,null,null,null,null,null,0,0,"",null,"Brendan Burke",0,0,0,344,0,370,714,0,714,13,null,null,null,null,null,null,null,null,null,0,0,"",null,"Katrina Kelly",0,0,363,146,404,0,913,0,913,13,null,"Rubasangkari Rajaderam",149,0,0,0,0,0,149,0,149,13,null,null,null,null,null,null,null,null,null,0,0,"",null,"Kevin Roche",0,0,0,0,520,526,1046,0,1046,13,null,"danny neill",462,0,0,0,0,0,462,0,462,13,null,null,null,null,null,null,null,null,null,0,0,"",null,null,null,null,null,null,null,null,null,0,0,"",null,null,null,null,null,null,null,null,{"$f":"IF(Entries!$K$20=5,MIN(GY21,GZ21,HA21,HB21,HC21),IF(Entries!$K$20=4,MIN(GY21,GZ21,HA21,HB21),IF(Entries!$K$20=3,MIN(GY21,GZ21,HA21),IF(Entries!$K$20=2,MIN(GY21,GZ21),IF(Entries!$K$20=1,0,0)))))","v":0},0,"",null,null,null,null,null,null,null,null,{"$f":"IF(Entries!$K$20=5,MIN(HJ21,HK21,HL21,HM21,HN21),IF(Entries!$K$20=4,MIN(HJ21,HK21,HL21,HM21),IF(Entries!$K$20=3,MIN(HJ21,HK21,HL21),IF(Entries!$K$20=2,MIN(HJ21,HK21),IF(Entries!$K$20=1,0,0)))))","v":0},0,"",null,null,null,null,null,null,null,null,{"$f":"IF(Entries!$K$20=5,MIN(HU21,HV21,HW21,HX21,HY21),IF(Entries!$K$20=4,MIN(HU21,HV21,HW21,HX21),IF(Entries!$K$20=3,MIN(HU21,HV21,HW21),IF(Entries!$K$20=2,MIN(HU21,HV21),IF(Entries!$K$20=1,0,0)))))","v":0},0,"",null,null,null,null,null,null,null,null,{"$f":"IF(Entries!$K$20=5,MIN(IF21,IG21,IH21,II21,IJ21),IF(Entries!$K$20=4,MIN(IF21,IG21,IH21,II21),IF(Entries!$K$20=3,MIN(IF21,IG21,IH21),IF(Entries!$K$20=2,MIN(IF21,IG21),IF(Entries!$K$20=1,0,0)))))","v":0},0,"",null,null,null,null,null,null,null,null,{"$f":"IF(Entries!$K$20=5,MIN(IQ21,IR21,IS21,IT21,IU21),IF(Entries!$K$20=4,MIN(IQ21,IR21,IS21,IT21),IF(Entries!$K$20=3,MIN(IQ21,IR21,IS21),IF(Entries!$K$20=2,MIN(IQ21,IR21),IF(Entries!$K$20=1,0,0)))))","v":0},0,""]
[null,"Gary Kelly",437,0,0,0,0,0,437,0,437,14,null,null,null,null,null,null,null,null,null,0,0,"",null,"Brona Howard",0,0,421,0,0,0,421,0,421,14,null,null,null,null,null,null,null,null,null,0,0,"",null,null,null,null,null,null,null,null,null,0,0,"",null,null,null,null,null,null,null,null,null,0,0,"",null,null,null,null,null,null,null,null,null,0,0,"",null,null,null,null,null,null,null,null,null,0,0,"",null,"Pavle Barbaric",0,445,0,0,0,0,445,0,445,14,null,null,null,null,null,null,null,null,null,0,0,"",null,"Bríd Galvin",0,460,0,0,389,0,849,0,849,14,null,"Yogeswran Muthukumaru",0,0,0,0,96,0,96,0,96,14,null,null,null,null,null,null,null,null,null,0,0,"",null,"Ronan Walsh",0,268,247,0,0,469,984,0,984,14,null,"sarah o sullivan",432,0,0,0,0,0,432,0,432,14,null,null,null,null,null,null,null,null,null,0,0,"",null,null,null,null,null,null,null,null,null,0,0,"",null,null,null,null,null,null,null,null,{"$f":"IF(Entries!$K$20=5,MIN(GY22,GZ22,HA22,HB22,HC22),IF(Entries!$K$20=4,MIN(GY22,GZ22,HA22,HB22),IF(Entries!$K$20=3,MIN(GY22,GZ22,HA22),IF(Entries!$K$20=2,MIN(GY22,GZ22),IF(Entries!$K$20=1,0,0)))))","v":0},0,"",null,null,null,null,null,null,null,null,{"$f":"IF(Entries!$K$20=5,MIN(HJ22,HK22,HL22,HM22,HN22),IF(Entries!$K$20=4,MIN(HJ22,HK22,HL22,HM22),IF(Entries!$K$20=3,MIN(HJ22,HK22,HL22),IF(Entries!$K$20=2,MIN(HJ22,HK22),IF(Entries!$K$20=1,0,0)))))","v":0},0,"",null,null,null,null,null,null,null,null,{"$f":"IF(Entries!$K$20=5,MIN(HU22,HV22,HW22,HX22,HY22),IF(Entries!$K$20=4,MIN(HU22,HV22,HW22,HX22),IF(Entries!$K$20=3,MIN(HU22,HV22,HW22),IF(Entries!$K$20=2,MIN(HU22,HV22),IF(Entries!$K$20=1,0,0)))))","v":0},0,"",null,null,null,null,null,null,null,null,{"$f":"IF(Entries!$K$20=5,MIN(IF22,IG22,IH22,II22,IJ22),IF(Entries!$K$20=4,MIN(IF22,IG22,IH22,II22),IF(Entries!$K$20=3,MIN(IF22,IG22,IH22),IF(Entries!$K$20=2,MIN(IF22,IG22),IF(Entries!$K$20=1,0,0)))))","v":0},0,"",null,null,null,null,null,null,null,null,{"$f":"IF(Entries!$K$20=5,MIN(IQ22,IR22,IS22,IT22,IU22),IF(Entries!$K$20=4,MIN(IQ22,IR22,IS22,IT22),IF(Entries!$K$20=3,MIN(IQ22,IR22,IS22),IF(Entries!$K$20=2,MIN(IQ22,IR22),IF(Entries!$K$20=1,0,0)))))","v":0},0,""]
[null,"Shu Chen",350,0,0,0,0,0,350,0,350,15,null,null,null,null,null,null,null,null,null,0,0,"",null,null,null,null,null,null,null,null,null,0,0,"",null,null,null,null,null,null,null,null,null,0,0,"",null,null,null,null,null,null,null,null,null,0,0,"",null,null,null,null,null,null,null,null,null,0,0,"",null,null,null,null,null,null,null,null,null,0,0,"",null,null,null,null,null,null,null,null,null,0,0,"",null,"William Clifford",0,0,0,0,331,0,331,0,331,15,null,null,null,null,null,null,null,null,null,0,0,"",null,"Omar Mustafa",414,386,0,0,0,0,800,0,800,15,null,"Auni Awang Dahan",94,0,0,0,0,0,94,0,94,15,null,null,null,null,null,null,null,null,null,0,0,"",null,"Maria Jacob",0,0,230,410,0,274,914,0,914,15,null,"Maria Dunne",0,0,0,0,0,257,257,0,257,15,null,null,null,null,null,null,null,null,null,0,0,"",null,null,null,null,null,null,null,null,null,0,0,"",null,null,null,null,null,null,null,null,{"$f":"IF(Entries!$K$20=5,MIN(GY23,GZ23,HA23,HB23,HC23),IF(Entries!$K$20=4,MIN(GY23,GZ23,HA23,HB23),IF(Entries!$K$20=3,MIN(GY23,GZ23,HA23),IF(Entries!$K$20=2,MIN(GY23,GZ23),IF(Entries!$K$20=1,0,0)))))","v":0},0,"",null,null,null,null,null,null,null,null,{"$f":"IF(Entries!$K$20=5,MIN(HJ23,HK23,HL23,HM23,HN23),IF(Entries!$K$20=4,MIN(HJ23,HK23,HL23,HM23),IF(Entries!$K$20=3,MIN(HJ23,HK23,HL23),IF(Entries!$K$20=2,MIN(HJ23,HK23),IF(Entries!$K$20=1,0,0)))))","v":0},0,"",null,null,null,null,null,null,null,null,{"$f":"IF(Entries!$K$20=5,MIN(HU23,HV23,HW23,HX23,HY23),IF(Entries!$K$20=4,MIN(HU23,HV23,HW23,HX23),IF(Entries!$K$20=3,MIN(HU23,HV23,HW23),IF(Entries!$K$20=2,MIN(HU23,HV23),IF(Entries!$K$20=1,0,0)))))","v":0},0,"",null,null,null,null,null,null,null,null,{"$f":"IF(Entries!$K$20=5,MIN(IF23,IG23,IH23,II23,IJ23),IF(Entries!$K$20=4,MIN(IF23,IG23,IH23,II23),IF(Entries!$K$20=3,MIN(IF23,IG23,IH23),IF(Entries!$K$20=2,MIN(IF23,IG23),IF(Entries!$K$20=1,0,0)))))","v":0},0,"",null,null,null,null,null,null,null,null,{"$f":"IF(Entries!$K$20=5,MIN(IQ23,IR23,IS23,IT23,IU23),IF(Entries!$K$20=4,MIN(IQ23,IR23,IS23,IT23),IF(Entries!$K$20=3,MIN(IQ23,IR23,IS23),IF(Entries!$K$20=2,MIN(IQ23,IR23),IF(Entries!$K$20=1,0,0)))))","v":0},0,""]
[null,"Hana Cúipéir",0,275,0,0,0,0,275,0,275,16,null,null,null,null,null,null,null,null,null,0,0,"",null,null,null,null,null,null,null,null,null,0,0,"",null,null,null,null,null,null,null,null,null,0,0,"",null,null,null,null,null,null,null,null,null,0,0,"",null,null,null,null,null,null,null,null,null,0,0,"",null,null,null,null,null,null,null,null,null,0,0,"",null,null,null,null,null,null,null,null,null,0,0,"",null,"Rob Ó Gallachóir",0,0,0,0,187,0,187,0,187,16,null,null,null,null,null,null,null,null,null,0,0,"",null,"Kieran Cullinane",383,0,0,0,397,0,780,0,780,16,null,"Nurhidayah Miswan",0,84,0,0,0,0,84,0,84,16,null,null,null,null,null,null,null,null,null,0,0,"",null,"Ashley Allen",407,0,0,105,394,0,906,0,906,16,null,null,null,null,null,null,null,null,null,0,0,"",null,null,null,null,null,null,null,null,null,0,0,"",null,null,null,null,null,null,null,null,null,0,0,"",null,null,null,null,null,null,null,null,{"$f":"IF(Entries!$K$20=5,MIN(GY24,GZ24,HA24,HB24,HC24),IF(Entries!$K$20=4,MIN(GY24,GZ24,HA24,HB24),IF(Entries!$K$20=3,MIN(GY24,GZ24,HA24),IF(Entries!$K$20=2,MIN(GY24,GZ24),IF(Entries!$K$20=1,0,0)))))","v":0},0,"",null,null,null,null,null,null,null,null,{"$f":"IF(Entries!$K$20=5,MIN(HJ24,HK24,HL24,HM24,HN24),IF(Entries!$K$20=4,MIN(HJ24,HK24,HL24,HM24),IF(Entries!$K$20=3,MIN(HJ24,HK24,HL24),IF(Entries!$K$20=2,MIN(HJ24,HK24),IF(Entries!$K$20=1,0,0)))))","v":0},0,"",null,null,null,null,null,null,null,null,{"$f":"IF(Entries!$K$20=5,MIN(HU24,HV24,HW24,HX24,HY24),IF(Entries!$K$20=4,MIN(HU24,HV24,HW24,HX24),IF(Entries!$K$20=3,MIN(HU24,HV24,HW24),IF(Entries!$K$20=2,MIN(HU24,HV24),IF(Entries!$K$20=1,0,0)))))","v":0},0,"",null,null,null,null,null,null,null,null,{"$f":"IF(Entries!$K$20=5,MIN(IF24,IG24,IH24,II24,IJ24),IF(Entries!$K$20=4,MIN(IF24,IG24,IH24,II24),IF(Entries!$K$20=3,MIN(IF24,IG24,IH24),IF(Entries!$K$20=2,MIN(IF24,IG24),IF(Entries!$K$20=1,0,0)))))","v":0},0,"",null,null,null,null,null,null,null,null,{"$f":"IF(Entries!$K$20=5,MIN(IQ24,IR24,IS24,IT24,IU24),IF(Entries!$K$20=4,MIN(IQ24,IR24,IS24,IT24),IF(Entries!$K$20=3,MIN(IQ24,IR24,IS24),IF(Entries!$K$20=2,MIN(IQ24,IR24),IF(Entries!$K$20=1,0,0)))))","v":0},0,""]
[null,null,null,null,null,null,null,null,null,0,0,"",null,null,null,null,null,null,null,null,null,0,0,"",null,null,null,null,null,null,null,null,null,0,0,"",null,null,null,null,null,null,null,null,null,0,0,"",null,null,null,null,null,null,null,null,null,0,0,"",null,null,null,null,null,null,null,null,null,0,0,"",null,null,null,null,null,null,null,null,null,0,0,"",null,null,null,null,null,null,null,null,null,0,0,"",null,null,null,null,null,null,null,null,null,0,0,"",null,null,null,null,null,null,null,null,null,0,0,"",null,"Richard Jeffery",0,436,304,0,0,0,740,0,740,17,null,"Siti Nur Syazwana Mohammad Shafiee",0,76,0,0,0,0,76,0,76,17,null,null,null,null,null,null,null,null,null,0,0,"",null,"Thomas D'Arcy",438,462,0,0,0,0,900,0,900,17,null,null,null,null,null,null,null,null,null,0,0,"",null,null,null,null,null,null,null,null,null,0,0,"",null,null,null,null,null,null,null,null,null,0,0,"",null,null,null,null,null,null,null,null,{"$f":"IF(Entries!$K$20=5,MIN(GY25,GZ25,HA25,HB25,HC25),IF(Entries!$K$20=4,MIN(GY25,GZ25,HA25,HB25),IF(Entries!$K$20=3,MIN(GY25,GZ25,HA25),IF(Entries!$K$20=2,MIN(GY25,GZ25),IF(Entries!$K$20=1,0,0)))))","v":0},0,"",null,null,null,null,null,null,null,null,{"$f":"IF(Entries!$K$20=5,MIN(HJ25,HK25,HL25,HM25,HN25),IF(Entries!$K$20=4,MIN(HJ25,HK25,HL25,HM25),IF(Entries!$K$20=3,MIN(HJ25,HK25,HL25),IF(Entries!$K$20=2,MIN(HJ25,HK25),IF(Entries!$K$20=1,0,0)))))","v":0},0,"",null,null,null,null,null,null,null,null,{"$f":"IF(Entries!$K$20=5,MIN(HU25,HV25,HW25,HX25,HY25),IF(Entries!$K$20=4,MIN(HU25,HV25,HW25,HX25),IF(Entries!$K$20=3,MIN(HU25,HV25,HW25),IF(Entries!$K$20=2,MIN(HU25,HV25),IF(Entries!$K$20=1,0,0)))))","v":0},0,"",null,null,null,null,null,null,null,null,{"$f":"IF(Entries!$K$20=5,MIN(IF25,IG25,IH25,II25,IJ25),IF(Entries!$K$20=4,MIN(IF25,IG25,IH25,II25),IF(Entries!$K$20=3,MIN(IF25,IG25,IH25),IF(Entries!$K$20=2,MIN(IF25,IG25),IF(Entries!$K$20=1,0,0)))))","v":0},0,"",null,null,null,null,null,null,null,null,{"$f":"IF(Entries!$K$20=5,MIN(IQ25,IR25,IS25,IT25,IU25),IF(Entries!$K$20=4,MIN(IQ25,IR25,IS25,IT25),IF(Entries!$K$20=3,MIN(IQ25,IR25,IS25),IF(Entries!$K$20=2,MIN(IQ25,IR25),IF(Entries!$K$20=1,0,0)))))","v":0},0,""]
[null,null,null,null,null,null,null,null,null,0,0,"",null,null,null,null,null,null,null,null,null,0,0,"",null,null,null,null,null,null,null,null,null,0,0,"",null,null,null,null,null,null,null,null,null,0,0,"",null,null,null,null,null,null,null,null,null,0,0,"",null,null,null,null,null,null,null,null,null,0,0,"",null,null,null,null,null,null,null,null,null,0,0,"",null,null,null,null,null,null,null,null,null,0,0,"",null,null,null,null,null,null,null,null,null,0,0,"",null,null,null,null,null,null,null,null,null,0,0,"",null,"David Burdon",0,0,0,0,325,369,694,0,694,18,null,null,null,null,null,null,null,null,null,0,0,"",null,null,null,null,null,null,null,null,null,0,0,"",null,"Susan Ryan",390,333,0,0,0,0,723,0,723,18,null,null,null,null,null,null,null,null,null,0,0,"",null,null,null,null,null,null,null,null,null,0,0,"",null,null,null,null,null,null,null,null,null,0,0,"",null,null,null,null,null,null,null,null,{"$f":"IF(Entries!$K$20=5,MIN(GY26,GZ26,HA26,HB26,HC26),IF(Entries!$K$20=4,MIN(GY26,GZ26,HA26,HB26),IF(Entries!$K$20=3,MIN(GY26,GZ26,HA26),IF(Entries!$K$20=2,MIN(GY26,GZ26),IF(Entries!$K$20=1,0,0)))))","v":0},0,"",null,null,null,null,null,null,null,null,{"$f":"IF(Entries!$K$20=5,MIN(HJ26,HK26,HL26,HM26,HN26),IF(Entries!$K$20=4,MIN(HJ26,HK26,HL26,HM26),IF(Entries!$K$20=3,MIN(HJ26,HK26,HL26),IF(Entries!$K$20=2,MIN(HJ26,HK26),IF(Entries!$K$20=1,0,0)))))","v":0},0,"",null,null,null,null,null,null,null,null,{"$f":"IF(Entries!$K$20=5,MIN(HU26,HV26,HW26,HX26,HY26),IF(Entries!$K$20=4,MIN(HU26,HV26,HW26,HX26),IF(Entries!$K$20=3,MIN(HU26,HV26,HW26),IF(Entries!$K$20=2,MIN(HU26,HV26),IF(Entries!$K$20=1,0,0)))))","v":0},0,"",null,null,null,null,null,null,null,null,{"$f":"IF(Entries!$K$20=5,MIN(IF26,IG26,IH26,II26,IJ26),IF(Entries!$K$20=4,MIN(IF26,IG26,IH26,II26),IF(Entries!$K$20=3,MIN(IF26,IG26,IH26),IF(Entries!$K$20=2,MIN(IF26,IG26),IF(Entries!$K$20=1,0,0)))))","v":0},0,"",null,null,null,null,null,null,null,null,{"$f":"IF(Entries!$K$20=5,MIN(IQ26,IR26,IS26,IT26,IU26),IF(Entries!$K$20=4,MIN(IQ26,IR26,IS26,IT26),IF(Entries!$K$20=3,MIN(IQ26,IR26,IS26),IF(Entries!$K$20=2,MIN(IQ26,IR26),IF(Entries!$K$20=1,0,0)))))","v":0},0,""]
[null,null,null,null,null,null,null,null,null,0,0,"",null,null,null,null,null,null,null,null,null,0,0,"",null,null,null,null,null,null,null,null,null,0,0,"",null,null,null,null,null,null,null,null,null,0,0,"",null,null,null,null,null,null,null,null,null,0,0,"",null,null,null,null,null,null,null,null,null,0,0,"",null,null,null,null,null,null,null,null,null,0,0,"",null,null,null,null,null,null,null,null,null,0,0,"",null,null,null,null,null,null,null,null,null,0,0,"",null,null,null,null,null,null,null,null,null,0,0,"",null,"Paul Connolly",0,0,0,259,0,375,634,0,634,19,null,null,null,null,null,null,null,null,null,0,0,"",null,null,null,null,null,null,null,null,null,0,0,"",null,"Eric Brown",0,484,0,0,0,0,484,0,484,19,null,null,null,null,null,null,null,null,null,0,0,"",null,null,null,null,null,null,null,null,null,0,0,"",null,null,null,null,null,null,null,null,null,0,0,"",null,null,null,null,null,null,null,null,{"$f":"IF(Entries!$K$20=5,MIN(GY27,GZ27,HA27,HB27,HC27),IF(Entries!$K$20=4,MIN(GY27,GZ27,HA27,HB27),IF(Entries!$K$20=3,MIN(GY27,GZ27,HA27),IF(Entries!$K$20=2,MIN(GY27,GZ27),IF(Entries!$K$20=1,0,0)))))","v":0},0,"",null,null,null,null,null,null,null,null,{"$f":"IF(Entries!$K$20=5,MIN(HJ27,HK27,HL27,HM27,HN27),IF(Entries!$K$20=4,MIN(HJ27,HK27,HL27,HM27),IF(Entries!$K$20=3,MIN(HJ27,HK27,HL27),IF(Entries!$K$20=2,MIN(HJ27,HK27),IF(Entries!$K$20=1,0,0)))))","v":0},0,"",null,null,null,null,null,null,null,null,{"$f":"IF(Entries!$K$20=5,MIN(HU27,HV27,HW27,HX27,HY27),IF(Entries!$K$20=4,MIN(HU27,HV27,HW27,HX27),IF(Entries!$K$20=3,MIN(HU27,HV27,HW27),IF(Entries!$K$20=2,MIN(HU27,HV27),IF(Entries!$K$20=1,0,0)))))","v":0},0,"",null,null,null,null,null,null,null,null,{"$f":"IF(Entries!$K$20=5,MIN(IF27,IG27,IH27,II27,IJ27),IF(Entries!$K$20=4,MIN(IF27,IG27,IH27,II27),IF(Entries!$K$20=3,MIN(IF27,IG27,IH27),IF(Entries!$K$20=2,MIN(IF27,IG27),IF(Entries!$K$20=1,0,0)))))","v":0},0,"",null,null,null,null,null,null,null,null,{"$f":"IF(Entries!$K$20=5,MIN(IQ27,IR27,IS27,IT27,IU27),IF(Entries!$K$20=4,MIN(IQ27,IR27,IS27,IT27),IF(Entries!$K$20=3,MIN(IQ27,IR27,IS27),IF(Entries!$K$20=2,MIN(IQ27,IR27),IF(Entries!$K$20=1,0,0)))))","v":0},0,""]
[null,null,null,null,null,null,null,null,null,0,0,"",null,null,null,null,null,null,null,null,null,0,0,"",null,null,null,null,null,null,null,null,null,0,0,"",null,null,null,null,null,null,null,null,null,0,0,"",null,null,null,null,null,null,null,null,null,0,0,"",null,null,null,null,null,null,null,null,null,0,0,"",null,null,null,null,null,null,null,null,null,0,0,"",null,null,null,null,null,null,null,null,null,0,0,"",null,null,null,null,null,null,null,null,null,0,0,"",null,null,null,null,null,null,null,null,null,0,0,"",null,"Liu Min",0,0,0,0,238,249,487,0,487,20,null,null,null,null,null,null,null,null,null,0,0,"",null,null,null,null,null,null,null,null,null,0,0,"",null,"Cian Aherne",0,233,244,0,0,0,477,0,477,20,null,null,null,null,null,null,null,null,null,0,0,"",null,null,null,null,null,null,null,null,null,0,0,"",null,null,null,null,null,null,null,null,null,0,0,"",null,null,null,null,null,null,null,null,{"$f":"IF(Entries!$K$20=5,MIN(GY28,GZ28,HA28,HB28,HC28),IF(Entries!$K$20=4,MIN(GY28,GZ28,HA28,HB28),IF(Entries!$K$20=3,MIN(GY28,GZ28,HA28),IF(Entries!$K$20=2,MIN(GY28,GZ28),IF(Entries!$K$20=1,0,0)))))","v":0},0,"",null,null,null,null,null,null,null,null,{"$f":"IF(Entries!$K$20=5,MIN(HJ28,HK28,HL28,HM28,HN28),IF(Entries!$K$20=4,MIN(HJ28,HK28,HL28,HM28),IF(Entries!$K$20=3,MIN(HJ28,HK28,HL28),IF(Entries!$K$20=2,MIN(HJ28,HK28),IF(Entries!$K$20=1,0,0)))))","v":0},0,"",null,null,null,null,null,null,null,null,{"$f":"IF(Entries!$K$20=5,MIN(HU28,HV28,HW28,HX28,HY28),IF(Entries!$K$20=4,MIN(HU28,HV28,HW28,HX28),IF(Entries!$K$20=3,MIN(HU28,HV28,HW28),IF(Entries!$K$20=2,MIN(HU28,HV28),IF(Entries!$K$20=1,0,0)))))","v":0},0,"",null,null,null,null,null,null,null,null,{"$f":"IF(Entries!$K$20=5,MIN(IF28,IG28,IH28,II28,IJ28),IF(Entries!$K$20=4,MIN(IF28,IG28,IH28,II28),IF(Entries!$K$20=3,MIN(IF28,IG28,IH28),IF(Entries!$K$20=2,MIN(IF28,IG28),IF(Entries!$K$20=1,0,0)))))","v":0},0,"",null,null,null,null,null,null,null,null,{"$f":"IF(Entries!$K$20=5,MIN(IQ28,IR28,IS28,IT28,IU28),IF(Entries!$K$20=4,MIN(IQ28,IR28,IS28,IT28),IF(Entries!$K$20=3,MIN(IQ28,IR28,IS28),IF(Entries!$K$20=2,MIN(IQ28,IR28),IF(Entries!$K$20=1,0,0)))))","v":0},0,""]
[null,null,null,null,null,null,null,null,null,0,0,"",null,null,null,null,null,null,null,null,null,0,0,"",null,null,null,null,null,null,null,null,null,0,0,"",null,null,null,null,null,null,null,null,null,0,0,"",null,null,null,null,null,null,null,null,null,0,0,"",null,null,null,null,null,null,null,null,null,0,0,"",null,null,null,null,null,null,null,null,null,0,0,"",null,null,null,null,null,null,null,null,null,0,0,"",null,null,null,null,null,null,null,null,null,0,0,"",null,null,null,null,null,null,null,null,null,0,0,"",null,"Cara Brennan",0,0,0,263,224,0,487,0,487,20,null,null,null,null,null,null,null,null,null,0,0,"",null,null,null,null,null,null,null,null,null,0,0,"",null,"Davy Shaw",0,263,187,0,0,0,450,0,450,21,null,null,null,null,null,null,null,null,null,0,0,"",null,null,null,null,null,null,null,null,null,0,0,"",null,null,null,null,null,null,null,null,null,0,0,"",null,null,null,null,null,null,null,null,{"$f":"IF(Entries!$K$20=5,MIN(GY29,GZ29,HA29,HB29,HC29),IF(Entries!$K$20=4,MIN(GY29,GZ29,HA29,HB29),IF(Entries!$K$20=3,MIN(GY29,GZ29,HA29),IF(Entries!$K$20=2,MIN(GY29,GZ29),IF(Entries!$K$20=1,0,0)))))","v":0},0,"",null,null,null,null,null,null,null,null,{"$f":"IF(Entries!$K$20=5,MIN(HJ29,HK29,HL29,HM29,HN29),IF(Entries!$K$20=4,MIN(HJ29,HK29,HL29,HM29),IF(Entries!$K$20=3,MIN(HJ29,HK29,HL29),IF(Entries!$K$20=2,MIN(HJ29,HK29),IF(Entries!$K$20=1,0,0)))))","v":0},0,"",null,null,null,null,null,null,null,null,{"$f":"IF(Entries!$K$20=5,MIN(HU29,HV29,HW29,HX29,HY29),IF(Entries!$K$20=4,MIN(HU29,HV29,HW29,HX29),IF(Entries!$K$20=3,MIN(HU29,HV29,HW29),IF(Entries!$K$20=2,MIN(HU29,HV29),IF(Entries!$K$20=1,0,0)))))","v":0},0,"",null,null,null,null,null,null,null,null,{"$f":"IF(Entries!$K$20=5,MIN(IF29,IG29,IH29,II29,IJ29),IF(Entries!$K$20=4,MIN(IF29,IG29,IH29,II29),IF(Entries!$K$20=3,MIN(IF29,IG29,IH29),IF(Entries!$K$20=2,MIN(IF29,IG29),IF(Entries!$K$20=1,0,0)))))","v":0},0,"",null,null,null,null,null,null,null,null,{"$f":"IF(Entries!$K$20=5,MIN(IQ29,IR29,IS29,IT29,IU29),IF(Entries!$K$20=4,MIN(IQ29,IR29,IS29,IT29),IF(Entries!$K$20=3,MIN(IQ29,IR29,IS29),IF(Entries!$K$20=2,MIN(IQ29,IR29),IF(Entries!$K$20=1,0,0)))))","v":0},0,""]
[null,null,null,null,null,null,null,null,null,0,0,"",null,null,null,null,null,null,null,null,null,0,0,"",null,null,null,null,null,null,null,null,null,0,0,"",null,null,null,null,null,null,null,null,null,0,0,"",null,null,null,null,null,null,null,null,null,0,0,"",null,null,null,null,null,null,null,null,null,0,0,"",null,null,null,null,null,null,null,null,null,0,0,"",null,null,null,null,null,null,null,null,null,0,0,"",null,null,null,null,null,null,null,null,null,0,0,"",null,null,null,null,null,null,null,null,null,0,0,"",null,"Dara Oliver",0,0,323,0,0,0,323,0,323,22,null,null,null,null,null,null,null,null,null,0,0,"",null,null,null,null,null,null,null,null,null,0,0,"",null,"James Greer",0,0,0,0,429,0,429,0,429,22,null,null,null,null,null,null,null,null,null,0,0,"",null,null,null,null,null,null,null,null,null,0,0,"",null,null,null,null,null,null,null,null,null,0,0,"",null,null,null,null,null,null,null,null,{"$f":"IF(Entries!$K$20=5,MIN(GY30,GZ30,HA30,HB30,HC30),IF(Entries!$K$20=4,MIN(GY30,GZ30,HA30,HB30),IF(Entries!$K$20=3,MIN(GY30,GZ30,HA30),IF(Entries!$K$20=2,MIN(GY30,GZ30),IF(Entries!$K$20=1,0,0)))))","v":0},0,"",null,null,null,null,null,null,null,null,{"$f":"IF(Entries!$K$20=5,MIN(HJ30,HK30,HL30,HM30,HN30),IF(Entries!$K$20=4,MIN(HJ30,HK30,HL30,HM30),IF(Entries!$K$20=3,MIN(HJ30,HK30,HL30),IF(Entries!$K$20=2,MIN(HJ30,HK30),IF(Entries!$K$20=1,0,0)))))","v":0},0,"",null,null,null,null,null,null,null,null,{"$f":"IF(Entries!$K$20=5,MIN(HU30,HV30,HW30,HX30,HY30),IF(Entries!$K$20=4,MIN(HU30,HV30,HW30,HX30),IF(Entries!$K$20=3,MIN(HU30,HV30,HW30),IF(Entries!$K$20=2,MIN(HU30,HV30),IF(Entries!$K$20=1,0,0)))))","v":0},0,"",null,null,null,null,null,null,null,null,{"$f":"IF(Entries!$K$20=5,MIN(IF30,IG30,IH30,II30,IJ30),IF(Entries!$K$20=4,MIN(IF30,IG30,IH30,II30),IF(Entries!$K$20=3,MIN(IF30,IG30,IH30),IF(Entries!$K$20=2,MIN(IF30,IG30),IF(Entries!$K$20=1,0,0)))))","v":0},0,"",null,null,null,null,null,null,null,null,{"$f":"IF(Entries!$K$20=5,MIN(IQ30,IR30,IS30,IT30,IU30),IF(Entries!$K$20=4,MIN(IQ30,IR30,IS30,IT30),IF(Entries!$K$20=3,MIN(IQ30,IR30,IS30),IF(Entries!$K$20=2,MIN(IQ30,IR30),IF(Entries!$K$20=1,0,0)))))","v":0},0,""]
[null,null,null,null,null,null,null,null,null,0,0,"",null,null,null,null,null,null,null,null,null,0,0,"",null,null,null,null,null,null,null,null,null,0,0,"",null,null,null,null,null,null,null,null,null,0,0,"",null,null,null,null,null,null,null,null,null,0,0,"",null,null,null,null,null,null,null,null,null,0,0,"",null,null,null,null,null,null,null,null,null,0,0,"",null,null,null,null,null,null,null,null,null,0,0,"",null,null,null,null,null,null,null,null,null,0,0,"",null,null,null,null,null,null,null,null,null,0,0,"",null,"Thomas Carr",318,0,0,0,0,0,318,0,318,23,null,null,null,null,null,null,null,null,null,0,0,"",null,null,null,null,null,null,null,null,null,0,0,"",null,"Mark McGrane",185,204,0,0,0,0,389,0,389,23,null,null,null,null,null,null,null,null,null,0,0,"",null,null,null,null,null,null,null,null,null,0,0,"",null,null,null,null,null,null,null,null,null,0,0,"",null,null,null,null,null,null,null,null,{"$f":"IF(Entries!$K$20=5,MIN(GY31,GZ31,HA31,HB31,HC31),IF(Entries!$K$20=4,MIN(GY31,GZ31,HA31,HB31),IF(Entries!$K$20=3,MIN(GY31,GZ31,HA31),IF(Entries!$K$20=2,MIN(GY31,GZ31),IF(Entries!$K$20=1,0,0)))))","v":0},0,"",null,null,null,null,null,null,null,null,{"$f":"IF(Entries!$K$20=5,MIN(HJ31,HK31,HL31,HM31,HN31),IF(Entries!$K$20=4,MIN(HJ31,HK31,HL31,HM31),IF(Entries!$K$20=3,MIN(HJ31,HK31,HL31),IF(Entries!$K$20=2,MIN(HJ31,HK31),IF(Entries!$K$20=1,0,0)))))","v":0},0,"",null,null,null,null,null,null,null,null,{"$f":"IF(Entries!$K$20=5,MIN(HU31,HV31,HW31,HX31,HY31),IF(Entries!$K$20=4,MIN(HU31,HV31,HW31,HX31),IF(Entries!$K$20=3,MIN(HU31,HV31,HW31),IF(Entries!$K$20=2,MIN(HU31,HV31),IF(Entries!$K$20=1,0,0)))))","v":0},0,"",null,null,null,null,null,null,null,null,{"$f":"IF(Entries!$K$20=5,MIN(IF31,IG31,IH31,II31,IJ31),IF(Entries!$K$20=4,MIN(IF31,IG31,IH31,II31),IF(Entries!$K$20=3,MIN(IF31,IG31,IH31),IF(Entries!$K$20=2,MIN(IF31,IG31),IF(Entries!$K$20=1,0,0)))))","v":0},0,"",null,null,null,null,null,null,null,null,{"$f":"IF(Entries!$K$20=5,MIN(IQ31,IR31,IS31,IT31,IU31),IF(Entries!$K$20=4,MIN(IQ31,IR31,IS31,IT31),IF(Entries!$K$20=3,MIN(IQ31,IR31,IS31),IF(Entries!$K$20=2,MIN(IQ31,IR31),IF(Entries!$K$20=1,0,0)))))","v":0},0,""]
[null,null,null,null,null,null,null,null,null,0,0,"",null,null,null,null,null,null,null,null,null,0,0,"",null,null,null,null,null,null,null,null,null,0,0,"",null,null,null,null,null,null,null,null,null,0,0,"",null,null,null,null,null,null,null,null,null,0,0,"",null,null,null,null,null,null,null,null,null,0,0,"",null,null,null,null,null,null,null,null,null,0,0,"",null,null,null,null,null,null,null,null,null,0,0,"",null,null,null,null,null,null,null,null,null,0,0,"",null,null,null,null,null,null,null,null,null,0,0,"",null,"Daniel Olajide",0,280,0,0,0,0,280,0,280,24,null,null,null,null,null,null,null,null,null,0,0,"",null,null,null,null,null,null,null,null,null,0,0,"",null,"Daniel Sinnott",383,0,0,0,0,0,383,0,383,24,null,null,null,null,null,null,null,null,null,0,0,"",null,null,null,null,null,null,null,null,null,0,0,"",null,null,null,null,null,null,null,null,null,0,0,"",null,null,null,null,null,null,null,null,{"$f":"IF(Entries!$K$20=5,MIN(GY32,GZ32,HA32,HB32,HC32),IF(Entries!$K$20=4,MIN(GY32,GZ32,HA32,HB32),IF(Entries!$K$20=3,MIN(GY32,GZ32,HA32),IF(Entries!$K$20=2,MIN(GY32,GZ32),IF(Entries!$K$20=1,0,0)))))","v":0},0,"",null,null,null,null,null,null,null,null,{"$f":"IF(Entries!$K$20=5,MIN(HJ32,HK32,HL32,HM32,HN32),IF(Entries!$K$20=4,MIN(HJ32,HK32,HL32,HM32),IF(Entries!$K$20=3,MIN(HJ32,HK32,HL32),IF(Entries!$K$20=2,MIN(HJ32,HK32),IF(Entries!$K$20=1,0,0)))))","v":0},0,"",null,null,null,null,null,null,null,null,{"$f":"IF(Entries!$K$20=5,MIN(HU32,HV32,HW32,HX32,HY32),IF(Entries!$K$20=4,MIN(HU32,HV32,HW32,HX32),IF(Entries!$K$20=3,MIN(HU32,HV32,HW32),IF(Entries!$K$20=2,MIN(HU32,HV32),IF(Entries!$K$20=1,0,0)))))","v":0},0,"",null,null,null,null,null,null,null,null,{"$f":"IF(Entries!$K$20=5,MIN(IF32,IG32,IH32,II32,IJ32),IF(Entries!$K$20=4,MIN(IF32,IG32,IH32,II32),IF(Entries!$K$20=3,MIN(IF32,IG32,IH32),IF(Entries!$K$20=2,MIN(IF32,IG32),IF(Entries!$K$20=1,0,0)))))","v":0},0,"",null,null,null,null,null,null,null,null,{"$f":"IF(Entries!$K$20=5,MIN(IQ32,IR32,IS32,IT32,IU32),IF(Entries!$K$20=4,MIN(IQ32,IR32,IS32,IT32),IF(Entries!$K$20=3,MIN(IQ32,IR32,IS32),IF(Entries!$K$20=2,MIN(IQ32,IR32),IF(Entries!$K$20=1,0,0)))))","v":0},0,""]
[null,null,null,null,null,null,null,null,null,0,0,"",null,null,null,null,null,null,null,null,null,0,0,"",null,null,null,null,null,null,null,null,null,0,0,"",null,null,null,null,null,null,null,null,null,0,0,"",null,null,null,null,null,null,null,null,null,0,0,"",null,null,null,null,null,null,null,null,null,0,0,"",null,null,null,null,null,null,null,null,null,0,0,"",null,null,null,null,null,null,null,null,null,0,0,"",null,null,null,null,null,null,null,null,null,0,0,"",null,null,null,null,null,null,null,null,null,0,0,"",null,"Jonathan Cassidy",122,0,0,0,0,0,122,0,122,25,null,null,null,null,null,null,null,null,null,0,0,"",null,null,null,null,null,null,null,null,null,0,0,"",null,"Ruaidhri",0,360,0,0,0,0,360,0,360,25,null,null,null,null,null,null,null,null,null,0,0,"",null,null,null,null,null,null,null,null,null,0,0,"",null,null,null,null,null,null,null,null,null,0,0,"",null,null,null,null,null,null,null,null,{"$f":"IF(Entries!$K$20=5,MIN(GY33,GZ33,HA33,HB33,HC33),IF(Entries!$K$20=4,MIN(GY33,GZ33,HA33,HB33),IF(Entries!$K$20=3,MIN(GY33,GZ33,HA33),IF(Entries!$K$20=2,MIN(GY33,GZ33),IF(Entries!$K$20=1,0,0)))))","v":0},0,"",null,null,null,null,null,null,null,null,{"$f":"IF(Entries!$K$20=5,MIN(HJ33,HK33,HL33,HM33,HN33),IF(Entries!$K$20=4,MIN(HJ33,HK33,HL33,HM33),IF(Entries!$K$20=3,MIN(HJ33,HK33,HL33),IF(Entries!$K$20=2,MIN(HJ33,HK33),IF(Entries!$K$20=1,0,0)))))","v":0},0,"",null,null,null,null,null,null,null,null,{"$f":"IF(Entries!$K$20=5,MIN(HU33,HV33,HW33,HX33,HY33),IF(Entries!$K$20=4,MIN(HU33,HV33,HW33,HX33),IF(Entries!$K$20=3,MIN(HU33,HV33,HW33),IF(Entries!$K$20=2,MIN(HU33,HV33),IF(Entries!$K$20=1,0,0)))))","v":0},0,"",null,null,null,null,null,null,null,null,{"$f":"IF(Entries!$K$20=5,MIN(IF33,IG33,IH33,II33,IJ33),IF(Entries!$K$20=4,MIN(IF33,IG33,IH33,II33),IF(Entries!$K$20=3,MIN(IF33,IG33,IH33),IF(Entries!$K$20=2,MIN(IF33,IG33),IF(Entries!$K$20=1,0,0)))))","v":0},0,"",null,null,null,null,null,null,null,null,{"$f":"IF(Entries!$K$20=5,MIN(IQ33,IR33,IS33,IT33,IU33),IF(Entries!$K$20=4,MIN(IQ33,IR33,IS33,IT33),IF(Entries!$K$20=3,MIN(IQ33,IR33,IS33),IF(Entries!$K$20=2,MIN(IQ33,IR33),IF(Entries!$K$20=1,0,0)))))","v":0},0,""]
[null,null,null,null,null,null,null,null,null,0,0,"",null,null,null,null,null,null,null,null,null,0,0,"",null,null,null,null,null,null,null,null,null,0,0,"",null,null,null,null,null,null,null,null,null,0,0,"",null,null,null,null,null,null,null,null,null,0,0,"",null,null,null,null,null,null,null,null,null,0,0,"",null,null,null,null,null,null,null,null,null,0,0,"",null,null,null,null,null,null,null,null,null,0,0,"",null,null,null,null,null,null,null,null,null,0,0,"",null,null,null,null,null,null,null,null,null,0,0,"",null,null,null,null,null,null,null,null,null,0,0,"",null,null,null,null,null,null,null,null,null,0,0,"",null,null,null,null,null,null,null,null,null,0,0,"",null,"Eilis Ni Shuilleabhain",0,339,0,0,0,0,339,0,339,26,null,null,null,null,null,null,null,null,null,0,0,"",null,null,null,null,null,null,null,null,null,0,0,"",null,null,null,null,null,null,null,null,null,0,0,"",null,null,null,null,null,null,null,null,{"$f":"IF(Entries!$K$20=5,MIN(GY34,GZ34,HA34,HB34,HC34),IF(Entries!$K$20=4,MIN(GY34,GZ34,HA34,HB34),IF(Entries!$K$20=3,MIN(GY34,GZ34,HA34),IF(Entries!$K$20=2,MIN(GY34,GZ34),IF(Entries!$K$20=1,0,0)))))","v":0},0,"",null,null,null,null,null,null,null,null,{"$f":"IF(Entries!$K$20=5,MIN(HJ34,HK34,HL34,HM34,HN34),IF(Entries!$K$20=4,MIN(HJ34,HK34,HL34,HM34),IF(Entries!$K$20=3,MIN(HJ34,HK34,HL34),IF(Entries!$K$20=2,MIN(HJ34,HK34),IF(Entries!$K$20=1,0,0)))))","v":0},0,"",null,null,null,null,null,null,null,null,{"$f":"IF(Entries!$K$20=5,MIN(HU34,HV34,HW34,HX34,HY34),IF(Entries!$K$20=4,MIN(HU34,HV34,HW34,HX34),IF(Entries!$K$20=3,MIN(HU34,HV34,HW34),IF(Entries!$K$20=2,MIN(HU34,HV34),IF(Entries!$K$20=1,0,0)))))","v":0},0,"",null,null,null,null,null,null,null,null,{"$f":"IF(Entries!$K$20=5,MIN(IF34,IG34,IH34,II34,IJ34),IF(Entries!$K$20=4,MIN(IF34,IG34,IH34,II34),IF(Entries!$K$20=3,MIN(IF34,IG34,IH34),IF(Entries!$K$20=2,MIN(IF34,IG34),IF(Entries!$K$20=1,0,0)))))","v":0},0,"",null,null,null,null,null,null,null,null,{"$f":"IF(Entries!$K$20=5,MIN(IQ34,IR34,IS34,IT34,IU34),IF(Entries!$K$20=4,MIN(IQ34,IR34,IS34,IT34),IF(Entries!$K$20=3,MIN(IQ34,IR34,IS34),IF(Entries!$K$20=2,MIN(IQ34,IR34),IF(Entries!$K$20=1,0,0)))))","v":0},0,""]
[null,null,null,null,null,null,null,null,null,0,0,"",null,null,null,null,null,null,null,null,null,0,0,"",null,null,null,null,null,null,null,null,null,0,0,"",null,null,null,null,null,null,null,null,null,0,0,"",null,null,null,null,null,null,null,null,null,0,0,"",null,null,null,null,null,null,null,null,null,0,0,"",null,null,null,null,null,null,null,null,null,0,0,"",null,null,null,null,null,null,null,null,null,0,0,"",null,null,null,null,null,null,null,null,null,0,0,"",null,null,null,null,null,null,null,null,null,0,0,"",null,null,null,null,null,null,null,null,null,0,0,"",null,null,null,null,null,null,null,null,null,0,0,"",null,null,null,null,null,null,null,null,null,0,0,"",null,"Eoin Codd",0,304,0,0,0,0,304,0,304,27,null,null,null,null,null,null,null,null,null,0,0,"",null,null,null,null,null,null,null,null,null,0,0,"",null,null,null,null,null,null,null,null,null,0,0,"",null,null,null,null,null,null,null,null,{"$f":"IF(Entries!$K$20=5,MIN(GY35,GZ35,HA35,HB35,HC35),IF(Entries!$K$20=4,MIN(GY35,GZ35,HA35,HB35),IF(Entries!$K$20=3,MIN(GY35,GZ35,HA35),IF(Entries!$K$20=2,MIN(GY35,GZ35),IF(Entries!$K$20=1,0,0)))))","v":0},0,"",null,null,null,null,null,null,null,null,{"$f":"IF(Entries!$K$20=5,MIN(HJ35,HK35,HL35,HM35,HN35),IF(Entries!$K$20=4,MIN(HJ35,HK35,HL35,HM35),IF(Entries!$K$20=3,MIN(HJ35,HK35,HL35),IF(Entries!$K$20=2,MIN(HJ35,HK35),IF(Entries!$K$20=1,0,0)))))","v":0},0,"",null,null,null,null,null,null,null,null,{"$f":"IF(Entries!$K$20=5,MIN(HU35,HV35,HW35,HX35,HY35),IF(Entries!$K$20=4,MIN(HU35,HV35,HW35,HX35),IF(Entries!$K$20=3,MIN(HU35,HV35,HW35),IF(Entries!$K$20=2,MIN(HU35,HV35),IF(Entries!$K$20=1,0,0)))))","v":0},0,"",null,null,null,null,null,null,null,null,{"$f":"IF(Entries!$K$20=5,MIN(IF35,IG35,IH35,II35,IJ35),IF(Entries!$K$20=4,MIN(IF35,IG35,IH35,II35),IF(Entries!$K$20=3,MIN(IF35,IG35,IH35),IF(Entries!$K$20=2,MIN(IF35,IG35),IF(Entries!$K$20=1,0,0)))))","v":0},0,"",null,null,null,null,null,null,null,null,{"$f":"IF(Entries!$K$20=5,MIN(IQ35,IR35,IS35,IT35,IU35),IF(Entries!$K$20=4,MIN(IQ35,IR35,IS35,IT35),IF(Entries!$K$20=3,MIN(IQ35,IR35,IS35),IF(Entries!$K$20=2,MIN(IQ35,IR35),IF(Entries!$K$20=1,0,0)))))","v":0},0,""]
[null,null,null,null,null,null,null,null,null,0,0,"",null,null,null,null,null,null,null,null,null,0,0,"",null,null,null,null,null,null,null,null,null,0,0,"",null,null,null,null,null,null,null,null,null,0,0,"",null,null,null,null,null,null,null,null,null,0,0,"",null,null,null,null,null,null,null,null,null,0,0,"",null,null,null,null,null,null,null,null,null,0,0,"",null,null,null,null,null,null,null,null,null,0,0,"",null,null,null,null,null,null,null,null,null,0,0,"",null,null,null,null,null,null,null,null,null,0,0,"",null,null,null,null,null,null,null,null,null,0,0,"",null,null,null,null,null,null,null,null,null,0,0,"",null,null,null,null,null,null,null,null,null,0,0,"",null,"Dennis Reynor",0,0,0,0,302,0,302,0,302,28,null,null,null,null,null,null,null,null,null,0,0,"",null,null,null,null,null,null,null,null,null,0,0,"",null,null,null,null,null,null,null,null,null,0,0,"",null,null,null,null,null,null,null,null,{"$f":"IF(Entries!$K$20=5,MIN(GY36,GZ36,HA36,HB36,HC36),IF(Entries!$K$20=4,MIN(GY36,GZ36,HA36,HB36),IF(Entries!$K$20=3,MIN(GY36,GZ36,HA36),IF(Entries!$K$20=2,MIN(GY36,GZ36),IF(Entries!$K$20=1,0,0)))))","v":0},0,"",null,null,null,null,null,null,null,null,{"$f":"IF(Entries!$K$20=5,MIN(HJ36,HK36,HL36,HM36,HN36),IF(Entries!$K$20=4,MIN(HJ36,HK36,HL36,HM36),IF(Entries!$K$20=3,MIN(HJ36,HK36,HL36),IF(Entries!$K$20=2,MIN(HJ36,HK36),IF(Entries!$K$20=1,0,0)))))","v":0},0,"",null,null,null,null,null,null,null,null,{"$f":"IF(Entries!$K$20=5,MIN(HU36,HV36,HW36,HX36,HY36),IF(Entries!$K$20=4,MIN(HU36,HV36,HW36,HX36),IF(Entries!$K$20=3,MIN(HU36,HV36,HW36),IF(Entries!$K$20=2,MIN(HU36,HV36),IF(Entries!$K$20=1,0,0)))))","v":0},0,"",null,null,null,null,null,null,null,null,{"$f":"IF(Entries!$K$20=5,MIN(IF36,IG36,IH36,II36,IJ36),IF(Entries!$K$20=4,MIN(IF36,IG36,IH36,II36),IF(Entries!$K$20=3,MIN(IF36,IG36,IH36),IF(Entries!$K$20=2,MIN(IF36,IG36),IF(Entries!$K$20=1,0,0)))))","v":0},0,"",null,null,null,null,null,null,null,null,{"$f":"IF(Entries!$K$20=5,MIN(IQ36,IR36,IS36,IT36,IU36),IF(Entries!$K$20=4,MIN(IQ36,IR36,IS36,IT36),IF(Entries!$K$20=3,MIN(IQ36,IR36,IS36),IF(Entries!$K$20=2,MIN(IQ36,IR36),IF(Entries!$K$20=1,0,0)))))","v":0},0,""]
[null,null,null,null,null,null,null,null,null,0,0,"",null,null,null,null,null,null,null,null,null,0,0,"",null,null,null,null,null,null,null,null,null,0,0,"",null,null,null,null,null,null,null,null,null,0,0,"",null,null,null,null,null,null,null,null,null,0,0,"",null,null,null,null,null,null,null,null,null,0,0,"",null,null,null,null,null,null,null,null,null,0,0,"",null,null,null,null,null,null,null,null,null,0,0,"",null,null,null,null,null,null,null,null,null,0,0,"",null,null,null,null,null,null,null,null,null,0,0,"",null,null,null,null,null,null,null,null,null,0,0,"",null,null,null,null,null,null,null,null,null,0,0,"",null,null,null,null,null,null,null,null,null,0,0,"",null,"Tudor Varga",0,300,0,0,0,0,300,0,300,29,null,null,null,null,null,null,null,null,null,0,0,"",null,null,null,null,null,null,null,null,null,0,0,"",null,null,null,null,null,null,null,null,null,0,0,"",null,null,null,null,null,null,null,null,{"$f":"IF(Entries!$K$20=5,MIN(GY37,GZ37,HA37,HB37,HC37),IF(Entries!$K$20=4,MIN(GY37,GZ37,HA37,HB37),IF(Entries!$K$20=3,MIN(GY37,GZ37,HA37),IF(Entries!$K$20=2,MIN(GY37,GZ37),IF(Entries!$K$20=1,0,0)))))","v":0},0,"",null,null,null,null,null,null,null,null,{"$f":"IF(Entries!$K$20=5,MIN(HJ37,HK37,HL37,HM37,HN37),IF(Entries!$K$20=4,MIN(HJ37,HK37,HL37,HM37),IF(Entries!$K$20=3,MIN(HJ37,HK37,HL37),IF(Entries!$K$20=2,MIN(HJ37,HK37),IF(Entries!$K$20=1,0,0)))))","v":0},0,"",null,null,null,null,null,null,null,null,{"$f":"IF(Entries!$K$20=5,MIN(HU37,HV37,HW37,HX37,HY37),IF(Entries!$K$20=4,MIN(HU37,HV37,HW37,HX37),IF(Entries!$K$20=3,MIN(HU37,HV37,HW37),IF(Entries!$K$20=2,MIN(HU37,HV37),IF(Entries!$K$20=1,0,0)))))","v":0},0,"",null,null,null,null,null,null,null,null,{"$f":"IF(Entries!$K$20=5,MIN(IF37,IG37,IH37,II37,IJ37),IF(Entries!$K$20=4,MIN(IF37,IG37,IH37,II37),IF(Entries!$K$20=3,MIN(IF37,IG37,IH37),IF(Entries!$K$20=2,MIN(IF37,IG37),IF(Entries!$K$20=1,0,0)))))","v":0},0,"",null,null,null,null,null,null,null,null,{"$f":"IF(Entries!$K$20=5,MIN(IQ37,IR37,IS37,IT37,IU37),IF(Entries!$K$20=4,MIN(IQ37,IR37,IS37,IT37),IF(Entries!$K$20=3,MIN(IQ37,IR37,IS37),IF(Entries!$K$20=2,MIN(IQ37,IR37),IF(Entries!$K$20=1,0,0)))))","v":0},0,""]
[null,null,null,null,null,null,null,null,null,0,0,"",null,null,null,null,null,null,null,null,null,0,0,"",null,null,null,null,null,null,null,null,null,0,0,"",null,null,null,null,null,null,null,null,null,0,0,"",null,null,null,null,null,null,null,null,null,0,0,"",null,null,null,null,null,null,null,null,null,0,0,"",null,null,null,null,null,null,null,null,null,0,0,"",null,null,null,null,null,null,null,null,null,0,0,"",null,null,null,null,null,null,null,null,null,0,0,"",null,null,null,null,null,null,null,null,null,0,0,"",null,null,null,null,null,null,null,null,null,0,0,"",null,null,null,null,null,null,null,null,null,0,0,"",null,null,null,null,null,null,null,null,null,0,0,"",null,"Cathal Mc Guire",0,272,0,0,0,0,272,0,272,30,null,null,null,null,null,null,null,null,null,0,0,"",null,null,null,null,null,null,null,null,null,0,0,"",null,null,null,null,null,null,null,null,null,0,0,"",null,null,null,null,null,null,null,null,{"$f":"IF(Entries!$K$20=5,MIN(GY38,GZ38,HA38,HB38,HC38),IF(Entries!$K$20=4,MIN(GY38,GZ38,HA38,HB38),IF(Entries!$K$20=3,MIN(GY38,GZ38,HA38),IF(Entries!$K$20=2,MIN(GY38,GZ38),IF(Entries!$K$20=1,0,0)))))","v":0},0,"",null,null,null,null,null,null,null,null,{"$f":"IF(Entries!$K$20=5,MIN(HJ38,HK38,HL38,HM38,HN38),IF(Entries!$K$20=4,MIN(HJ38,HK38,HL38,HM38),IF(Entries!$K$20=3,MIN(HJ38,HK38,HL38),IF(Entries!$K$20=2,MIN(HJ38,HK38),IF(Entries!$K$20=1,0,0)))))","v":0},0,"",null,null,null,null,null,null,null,null,{"$f":"IF(Entries!$K$20=5,MIN(HU38,HV38,HW38,HX38,HY38),IF(Entries!$K$20=4,MIN(HU38,HV38,HW38,HX38),IF(Entries!$K$20=3,MIN(HU38,HV38,HW38),IF(Entries!$K$20=2,MIN(HU38,HV38),IF(Entries!$K$20=1,0,0)))))","v":0},0,"",null,null,null,null,null,null,null,null,{"$f":"IF(Entries!$K$20=5,MIN(IF38,IG38,IH38,II38,IJ38),IF(Entries!$K$20=4,MIN(IF38,IG38,IH38,II38),IF(Entries!$K$20=3,MIN(IF38,IG38,IH38),IF(Entries!$K$20=2,MIN(IF38,IG38),IF(Entries!$K$20=1,0,0)))))","v":0},0,"",null,null,null,null,null,null,null,null,{"$f":"IF(Entries!$K$20=5,MIN(IQ38,IR38,IS38,IT38,IU38),IF(Entries!$K$20=4,MIN(IQ38,IR38,IS38,IT38),IF(Entries!$K$20=3,MIN(IQ38,IR38,IS38),IF(Entries!$K$20=2,MIN(IQ38,IR38),IF(Entries!$K$20=1,0,0)))))","v":0},0,""]
[null,null,null,null,null,null,null,null,null,0,0,"",null,null,null,null,null,null,null,null,null,0,0,"",null,null,null,null,null,null,null,null,null,0,0,"",null,null,null,null,null,null,null,null,null,0,0,"",null,null,null,null,null,null,null,null,null,0,0,"",null,null,null,null,null,null,null,null,null,0,0,"",null,null,null,null,null,null,null,null,null,0,0,"",null,null,null,null,null,null,null,null,null,0,0,"",null,null,null,null,null,null,null,null,null,0,0,"",null,null,null,null,null,null,null,null,null,0,0,"",null,null,null,null,null,null,null,null,null,0,0,"",null,null,null,null,null,null,null,null,null,0,0,"",null,null,null,null,null,null,null,null,null,0,0,"",null,"Shauna O Brien",0,0,249,0,0,0,249,0,249,31,null,null,null,null,null,null,null,null,null,0,0,"",null,null,null,null,null,null,null,null,null,0,0,"",null,null,null,null,null,null,null,null,null,0,0,"",null,null,null,null,null,null,null,null,{"$f":"IF(Entries!$K$20=5,MIN(GY39,GZ39,HA39,HB39,HC39),IF(Entries!$K$20=4,MIN(GY39,GZ39,HA39,HB39),IF(Entries!$K$20=3,MIN(GY39,GZ39,HA39),IF(Entries!$K$20=2,MIN(GY39,GZ39),IF(Entries!$K$20=1,0,0)))))","v":0},0,"",null,null,null,null,null,null,null,null,{"$f":"IF(Entries!$K$20=5,MIN(HJ39,HK39,HL39,HM39,HN39),IF(Entries!$K$20=4,MIN(HJ39,HK39,HL39,HM39),IF(Entries!$K$20=3,MIN(HJ39,HK39,HL39),IF(Entries!$K$20=2,MIN(HJ39,HK39),IF(Entries!$K$20=1,0,0)))))","v":0},0,"",null,null,null,null,null,null,null,null,{"$f":"IF(Entries!$K$20=5,MIN(HU39,HV39,HW39,HX39,HY39),IF(Entries!$K$20=4,MIN(HU39,HV39,HW39,HX39),IF(Entries!$K$20=3,MIN(HU39,HV39,HW39),IF(Entries!$K$20=2,MIN(HU39,HV39),IF(Entries!$K$20=1,0,0)))))","v":0},0,"",null,null,null,null,null,null,null,null,{"$f":"IF(Entries!$K$20=5,MIN(IF39,IG39,IH39,II39,IJ39),IF(Entries!$K$20=4,MIN(IF39,IG39,IH39,II39),IF(Entries!$K$20=3,MIN(IF39,IG39,IH39),IF(Entries!$K$20=2,MIN(IF39,IG39),IF(Entries!$K$20=1,0,0)))))","v":0},0,"",null,null,null,null,null,null,null,null,{"$f":"IF(Entries!$K$20=5,MIN(IQ39,IR39,IS39,IT39,IU39),IF(Entries!$K$20=4,MIN(IQ39,IR39,IS39,IT39),IF(Entries!$K$20=3,MIN(IQ39,IR39,IS39),IF(Entries!$K$20=2,MIN(IQ39,IR39),IF(Entries!$K$20=1,0,0)))))","v":0},0,""]
[null,null,null,null,null,null,null,null,null,0,0,"",null,null,null,null,null,null,null,null,null,0,0,"",null,null,null,null,null,null,null,null,null,0,0,"",null,null,null,null,null,null,null,null,null,0,0,"",null,null,null,null,null,null,null,null,null,0,0,"",null,null,null,null,null,null,null,null,null,0,0,"",null,null,null,null,null,null,null,null,null,0,0,"",null,null,null,null,null,null,null,null,null,0,0,"",null,null,null,null,null,null,null,null,null,0,0,"",null,null,null,null,null,null,null,null,null,0,0,"",null,null,null,null,null,null,null,null,null,0,0,"",null,null,null,null,null,null,null,null,null,0,0,"",null,null,null,null,null,null,null,null,null,0,0,"",null,"Syahira Najua Zulkefly",0,221,0,0,0,0,221,0,221,32,null,null,null,null,null,null,null,null,null,0,0,"",null,null,null,null,null,null,null,null,null,0,0,"",null,null,null,null,null,null,null,null,null,0,0,"",null,null,null,null,null,null,null,null,{"$f":"IF(Entries!$K$20=5,MIN(GY40,GZ40,HA40,HB40,HC40),IF(Entries!$K$20=4,MIN(GY40,GZ40,HA40,HB40),IF(Entries!$K$20=3,MIN(GY40,GZ40,HA40),IF(Entries!$K$20=2,MIN(GY40,GZ40),IF(Entries!$K$20=1,0,0)))))","v":0},0,"",null,null,null,null,null,null,null,null,{"$f":"IF(Entries!$K$20=5,MIN(HJ40,HK40,HL40,HM40,HN40),IF(Entries!$K$20=4,MIN(HJ40,HK40,HL40,HM40),IF(Entries!$K$20=3,MIN(HJ40,HK40,HL40),IF(Entries!$K$20=2,MIN(HJ40,HK40),IF(Entries!$K$20=1,0,0)))))","v":0},0,"",null,null,null,null,null,null,null,null,{"$f":"IF(Entries!$K$20=5,MIN(HU40,HV40,HW40,HX40,HY40),IF(Entries!$K$20=4,MIN(HU40,HV40,HW40,HX40),IF(Entries!$K$20=3,MIN(HU40,HV40,HW40),IF(Entries!$K$20=2,MIN(HU40,HV40),IF(Entries!$K$20=1,0,0)))))","v":0},0,"",null,null,null,null,null,null,null,null,{"$f":"IF(Entries!$K$20=5,MIN(IF40,IG40,IH40,II40,IJ40),IF(Entries!$K$20=4,MIN(IF40,IG40,IH40,II40),IF(Entries!$K$20=3,MIN(IF40,IG40,IH40),IF(Entries!$K$20=2,MIN(IF40,IG40),IF(Entries!$K$20=1,0,0)))))","v":0},0,"",null,null,null,null,null,null,null,null,{"$f":"IF(Entries!$K$20=5,MIN(IQ40,IR40,IS40,IT40,IU40),IF(Entries!$K$20=4,MIN(IQ40,IR40,IS40,IT40),IF(Entries!$K$20=3,MIN(IQ40,IR40,IS40),IF(Entries!$K$20=2,MIN(IQ40,IR40),IF(Entries!$K$20=1,0,0)))))","v":0},0,""]
[null,null,null,null,null,null,null,null,null,0,0,"",null,null,null,null,null,null,null,null,null,0,0,"",null,null,null,null,null,null,null,null,null,0,0,"",null,null,null,null,null,null,null,null,null,0,0,"",null,null,null,null,null,null,null,null,null,0,0,"",null,null,null,null,null,null,null,null,null,0,0,"",null,null,null,null,null,null,null,null,null,0,0,"",null,null,null,null,null,null,null,null,null,0,0,"",null,null,null,null,null,null,null,null,null,0,0,"",null,null,null,null,null,null,null,null,null,0,0,"",null,null,null,null,null,null,null,null,null,0,0,"",null,null,null,null,null,null,null,null,null,0,0,"",null,null,null,null,null,null,null,null,null,0,0,"",null,"Rebecca Watkin",0,0,179,0,0,0,179,0,179,33,null,null,null,null,null,null,null,null,null,0,0,"",null,null,null,null,null,null,null,null,null,0,0,"",null,null,null,null,null,null,null,null,null,0,0,"",null,null,null,null,null,null,null,null,{"$f":"IF(Entries!$K$20=5,MIN(GY41,GZ41,HA41,HB41,HC41),IF(Entries!$K$20=4,MIN(GY41,GZ41,HA41,HB41),IF(Entries!$K$20=3,MIN(GY41,GZ41,HA41),IF(Entries!$K$20=2,MIN(GY41,GZ41),IF(Entries!$K$20=1,0,0)))))","v":0},0,"",null,null,null,null,null,null,null,null,{"$f":"IF(Entries!$K$20=5,MIN(HJ41,HK41,HL41,HM41,HN41),IF(Entries!$K$20=4,MIN(HJ41,HK41,HL41,HM41),IF(Entries!$K$20=3,MIN(HJ41,HK41,HL41),IF(Entries!$K$20=2,MIN(HJ41,HK41),IF(Entries!$K$20=1,0,0)))))","v":0},0,"",null,null,null,null,null,null,null,null,{"$f":"IF(Entries!$K$20=5,MIN(HU41,HV41,HW41,HX41,HY41),IF(Entries!$K$20=4,MIN(HU41,HV41,HW41,HX41),IF(Entries!$K$20=3,MIN(HU41,HV41,HW41),IF(Entries!$K$20=2,MIN(HU41,HV41),IF(Entries!$K$20=1,0,0)))))","v":0},0,"",null,null,null,null,null,null,null,null,{"$f":"IF(Entries!$K$20=5,MIN(IF41,IG41,IH41,II41,IJ41),IF(Entries!$K$20=4,MIN(IF41,IG41,IH41,II41),IF(Entries!$K$20=3,MIN(IF41,IG41,IH41),IF(Entries!$K$20=2,MIN(IF41,IG41),IF(Entries!$K$20=1,0,0)))))","v":0},0,"",null,null,null,null,null,null,null,null,{"$f":"IF(Entries!$K$20=5,MIN(IQ41,IR41,IS41,IT41,IU41),IF(Entries!$K$20=4,MIN(IQ41,IR41,IS41,IT41),IF(Entries!$K$20=3,MIN(IQ41,IR41,IS41),IF(Entries!$K$20=2,MIN(IQ41,IR41),IF(Entries!$K$20=1,0,0)))))","v":0},0,""]
[null,null,null,{"$f":"LARGE(C50:C82,1)","v":301},null,null,null,null,null,null,null,null,null,null,null,{"$f":"LARGE(O50:O82,1)","v":0},null,null,null,null,null,null,null,null,null,null,null,{"$f":"LARGE(AA50:AA82,1)","v":0},null,null,null,null,null,null,null,null,null,null,null,{"$f":"LARGE(AM50:AM82,1)","v":0},null,null,null,null,null,null,null,null,null,null,null,{"$f":"LARGE(AY50:AY82,1)","v":370},null,null,null,null,null,null,null,null,null,null,null,{"$f":"LARGE(BK50:BK82,1)","v":309},null,null,null,null,null,null,null,null,null,null,null,{"$f":"LARGE(BX49:BX81,1)","v":0},null,null,null,null,null,null,null,null,null,null,null,{"$f":"LARGE(CI50:CI82,1)","v":335},null,null,null,null,null,null,null,null,null,null,null,{"$f":"LARGE(CU50:CU82,1)","v":361},null,null,null,null,null,null,null,null,null,null,null,{"$f":"LARGE(DG50:DG82,1)","v":0},null,null,null,null,null,null,null,null,null,null,null,{"$f":"LARGE(DS50:DS82,1)","v":398},null,null,null,null,null,null,null,null,null,null,null,{"$f":"LARGE(EE50:EE82,1)","v":331},null,null,null,null,null,null,null,null,null,null,null,{"$f":"LARGE(EQ50:EQ82,1)","v":0},null,null,null,null,null,null,null,null,null,"Zain Bari",0,123,0,0,0,0,123,{"$f":"MIN(FC42:FH42)","v":0},{"$f":"FI42-FJ42","v":123},34,null,null,null,{"$f":"LARGE(FO50:FO82,1)","v":409},null,null,null,null,null,null,null,null,null,null,null,{"$f":"LARGE(GA50:GA82,1)","v":0},null,null,null,null,null,null,null,null,null,null,null,{"$f":"LARGE(GM50:GM82,1)","v":0}]
[null,"College","DCU",{"$f":"LARGE(D50:D82,1)","v":381},null,null,null,null,null,null,null,null,null,"College","DIT",{"$f":"LARGE(P50:P82,1)","v":0},null,null,null,null,null,null,null,null,null,"College","DkIT",{"$f":"LARGE(AB50:AB82,1)","v":0},null,null,null,null,null,null,null,null,null,"College","BCFE",{"$f":"LARGE(AN50:AN82,1)","v":0},null,null,null,null,null,null,null,null,null,"College","GMIT",{"$f":"LARGE(AZ50:AZ82,1)","v":269},null,null,null,null,null,null,null,null,null,"College","GMITC",{"$f":"LARGE(BL50:BL82,1)","v":281},null,null,null,null,null,null,null,null,null,"College","IT Tallaght",{"$f":"LARGE(BX50:BX82,1)","v":0},null,null,null,null,null,null,null,null,null,"College","ITC",{"$f":"LARGE(CJ50:CJ82,1)","v":293},null,null,null,null,null,null,null,null,null,"College","NUIM",{"$f":"LARGE(CV50:CV82,1)","v":378},null,null,null,null,null,null,null,null,null,"College","CD",{"$f":"LARGE(DH50:DH82,1)","v":0},null,null,null,null,null,null,null,null,null,"College","NUIG",{"$f":"LARGE(DT50:DT82,1)","v":357},null,null,null,null,null,null,null,null,null,"College","RCSI",{"$f":"LARGE(EF50:EF82,1)","v":174},null,null,null,null,null,null,null,null,null,"College","UCC",{"$f":"LARGE(ER50:ER82,1)","v":0},null,null,null,null,null,null,null,null,null,"Lorenzo",0,104,0,0,0,0,104,0,104,35,null,"College","UL",{"$f":"LARGE(FP50:FP82,1)","v":406},null,null,null,null,null,null,null,null,null,"College","UU",{"$f":"LARGE(GB50:GB82,1)","v":0},null,null,null,null,null,null,null,null,null,"College","QUB",{"$f":"LARGE(GN50:GN82,1)","v":0},null,null,null,null,null,null,null,null,null,"College","AAA",{"$f":"LARGE(GY50:GY82,1)","v":0},null,null,null,null,null,null,null,null,"College","BBB",{"$f":"LARGE(HJ50:HJ82,1)","v":0},null,null,null,null,null,null,null,null,"College","CCC",{"$f":"LARGE(HU50:HU82,1)","v":0},null,null,null,null,null,null,null,null,"College","DDD",{"$f":"LARGE(IF50:IF82,1)","v":0},null,null,null,null,null,null,null,null,"College","EEE",{"$f":"LARGE(IQ50:IQ82,1)","v":0}]
[null,"Gender","(Multiple Items)",{"$f":"LARGE(E50:E82,1)","v":0},{"$f":"C43","v":"DCU"},null,null,null,null,{"$f":"C45","v":"Barebow"},null,null,null,"Gender","(Multiple Items)",{"$f":"LARGE(Q50:Q82,1)","v":0},{"$f":"O43","v":"DIT"},null,null,null,null,{"$f":"O45","v":"Barebow"},null,null,null,"Gender","(Multiple Items)",{"$f":"LARGE(AC50:AC82,1)","v":0},{"$f":"AA43","v":"DkIT"},null,null,null,null,{"$f":"AA45","v":"Barebow"},null,null,null,"Gender","(Multiple Items)",{"$f":"LARGE(AO50:AO82,1)","v":0},{"$f":"AM43","v":"BCFE"},null,null,null,null,{"$f":"AM45","v":"Barebow"},null,null,null,"Gender","(Multiple Items)",{"$f":"LARGE(BA50:BA82,1)","v":378},{"$f":"AY43","v":"GMIT"},null,null,null,null,{"$f":"AY45","v":"Barebow"},null,null,null,"Gender","(Multiple Items)",{"$f":"LARGE(BM50:BM82,1)","v":419},{"$f":"BK43","v":"GMITC"},null,null,null,null,{"$f":"BK45","v":"Barebow"},null,null,null,"Gender","(Multiple Items)",{"$f":"LARGE(BY50:BY82,1)","v":0},{"$f":"BW43","v":"IT Tallaght"},null,null,null,null,{"$f":"BW45","v":"Barebow"},null,null,null,"Gender","(Multiple Items)",{"$f":"LARGE(CK50:CK82,1)","v":415},{"$f":"CI43","v":"ITC"},null,null,null,null,{"$f":"CI45","v":"Barebow"},null,null,null,"Gender","(Multiple Items)",{"$f":"LARGE(CW50:CW82,1)","v":0},{"$f":"CU43","v":"NUIM"},null,null,null,null,{"$f":"CU45","v":"Barebow"},null,null,null,"Gender","(Multiple Items)",{"$f":"LARGE(DI50:DI82,1)","v":0},{"$f":"DG43","v":"CD"},null,null,null,null,{"$f":"DG45","v":"Barebow"},null,null,null,"Gender","(Multiple Items)",{"$f":"LARGE(DU50:DU82,1)","v":411},{"$f":"DS43","v":"NUIG"},null,null,null,null,{"$f":"DS45","v":"Barebow"},null,null,null,"Gender","(Multiple Items)",{"$f":"LARGE(EG50:EG82,1)","v":0},{"$f":"EE43","v":"RCSI"},null,null,null,null,{"$f":"EE45","v":"Barebow"},null,null,null,"Gender","(Multiple Items)",{"$f":"LARGE(ES50:ES82,1)","v":259},{"$f":"EQ43","v":"UCC"},null,null,null,null,{"$f":"EQ45","v":"Barebow"},null,null,null,"Kevin Lynch",0,31,0,0,0,0,31,0,31,36,null,"Gender","(Multiple Items)",{"$f":"LARGE(FQ50:FQ82,1)","v":432},{"$f":"FO43","v":"UL"},null,null,null,null,{"$f":"FO45","v":"Barebow"},null,null,null,"Gender","(Multiple Items)",{"$f":"LARGE(GC50:GC82,1)","v":0},{"$f":"GA43","v":"UU"},null,null,null,null,{"$f":"GA45","v":"Barebow"},null,null,null,"Gender","(Multiple Items)",{"$f":"LARGE(GO50:GO82,1)","v":0},{"$f":"GM43","v":"QUB"},null,null,null,null,{"$f":"GM45","v":"Barebow"},null,null,null,"Gender","(Multiple Items)",{"$f":"LARGE(GZ50:GZ82,1)","v":0},{"$f":"GY43","v":"AAA"},null,null,null,{"$f":"GY45","v":"Barebow"},null,null,null,"Gender","(Multiple Items)",{"$f":"LARGE(HK50:HK82,1)","v":0},{"$f":"HJ43","v":"BBB"},null,null,null,{"$f":"HJ45","v":"Barebow"},null,null,null,"Gender","(Multiple Items)",{"$f":"LARGE(HV50:HV82,1)","v":0},{"$f":"HU43","v":"CCC"},null,null,null,{"$f":"HU45","v":"Barebow"},null,null,null,"Gender","(Multiple Items)",{"$f":"LARGE(IG50:IG82,1)","v":0},{"$f":"IF43","v":"DDD"},null,null,null,{"$f":"IF45","v":"Barebow"},null,null,null,"Gender","(Multiple Items)",{"$f":"LARGE(IR50:IR82,1)","v":0},{"$f":"IQ43","v":"EEE"},null,null,null,{"$f":"IQ45","v":"Barebow"}]
[null,"Bow","Barebow",{"$f":"LARGE(F50:F82,1)","v":325},null,null,null,null,null,null,null,null,null,"Bow","Barebow",{"$f":"LARGE(R50:R82,1)","v":0},null,null,null,null,null,null,null,null,null,"Bow","Barebow",{"$f":"LARGE(AD50:AD82,1)","v":0},null,null,null,null,null,null,null,null,null,"Bow","Barebow",{"$f":"LARGE(AP50:AP82,1)","v":0},null,null,null,null,null,null,null,null,null,"Bow","Barebow",{"$f":"LARGE(BB50:BB82,1)","v":274},null,null,null,null,null,null,null,null,null,"Bow","Barebow",{"$f":"LARGE(BN50:BN82,1)","v":405},null,null,null,null,null,null,null,null,null,"Bow","Barebow",{"$f":"LARGE(BZ50:BZ82,1)","v":247},null,null,null,null,null,null,null,null,null,"Bow","Barebow",{"$f":"LARGE(CL50:CL82,1)","v":381},null,null,null,null,null,null,null,null,null,"Bow","Barebow",{"$f":"LARGE(CX50:CX82,1)","v":421},null,null,null,null,null,null,null,null,null,"Bow","Barebow",{"$f":"LARGE(DJ50:DJ82,1)","v":0},null,null,null,null,null,null,null,null,null,"Bow","Barebow",{"$f":"LARGE(DV50:DV82,1)","v":357},null,null,null,null,null,null,null,null,null,"Bow","Barebow",{"$f":"LARGE(EH50:EH82,1)","v":143},null,null,null,null,null,null,null,null,null,"Bow","Barebow",{"$f":"LARGE(ET50:ET82,1)","v":0},null,null,null,null,null,null,null,null,null,null,null,null,null,null,null,null,null,null,null,null,null,"Bow","Barebow",{"$f":"LARGE(FR50:FR82,1)","v":436},null,null,null,null,null,null,null,null,null,"Bow","Barebow",{"$f":"LARGE(GD50:GD82,1)","v":0},null,null,null,null,null,null,null,null,null,"Bow","Barebow",{"$f":"LARGE(GP50:GP82,1)","v":0},null,null,null,null,null,null,null,null,null,"Bow","Barebow",{"$f":"LARGE(HA50:HA82,1)","v":0},null,null,null,null,null,null,null,null,"Bow","Barebow",{"$f":"LARGE(HL50:HL82,1)","v":0},null,null,null,null,null,null,null,null,"Bow","Barebow",{"$f":"LARGE(HW50:HW82,1)","v":0},null,null,null,null,null,null,null,null,"Bow","Barebow",{"$f":"LARGE(IH50:IH82,1)","v":0},null,null,null,null,null,null,null,null,"Bow","Barebow",{"$f":"LARGE(IS50:IS82,1)","v":0}]
[null,"Level","(Multiple Items)",{"$f":"LARGE(G50:G82,1)","v":0},null,null,null,null,null,null,null,null,null,"Level","(Multiple Items)",{"$f":"LARGE(S50:S82,1)","v":0},null,null,null,null,null,null,null,null,null,"Level","(Multiple Items)",{"$f":"LARGE(AE50:AE82,1)","v":0},null,null,null,null,null,null,null,null,null,"Level","(Multiple Items)",{"$f":"LARGE(AQ50:AQ82,1)","v":0},null,null,null,null,null,null,null,null,null,"Level","(Multiple Items)",{"$f":"LARGE(BC50:BC82,1)","v":314},null,null,null,null,null,null,null,null,null,"Level","(Multiple Items)",{"$f":"LARGE(BO50:BO82,1)","v":359},null,null,null,null,null,null,null,null,null,"Level","(Multiple Items)",{"$f":"LARGE(CA50:CA82,1)","v":0},null,null,null,null,null,null,null,null,null,"Level","(Multiple Items)",{"$f":"LARGE(CM50:CM82,1)","v":400},null,null,null,null,null,null,null,null,null,"Level","(Multiple Items)",{"$f":"LARGE(CY50:CY82,1)","v":469},null,null,null,null,null,null,null,null,null,"Level","(Multiple Items)",{"$f":"LARGE(DK50:DK82,1)","v":0},null,null,null,null,null,null,null,null,null,"Level","(Multiple Items)",{"$f":"LARGE(DW50:DW82,1)","v":434},null,null,null,null,null,null,null,null,null,"Level","(Multiple Items)",{"$f":"LARGE(EI50:EI82,1)","v":0},null,null,null,null,null,null,null,null,null,"Level","(Multiple Items)",{"$f":"LARGE(EU50:EU82,1)","v":161},null,null,null,null,null,null,null,null,null,null,null,null,null,null,null,null,null,null,null,null,null,"Level","(Multiple Items)",{"$f":"LARGE(FS50:FS82,1)","v":420},null,null,null,null,null,null,null,null,null,"Level","(Multiple Items)",{"$f":"LARGE(GE50:GE82,1)","v":0},null,null,null,null,null,null,null,null,null,"Level","(Multiple Items)",{"$f":"LARGE(GQ50:GQ82,1)","v":0},null,null,null,null,null,null,null,null,null,"Level","(Multiple Items)",{"$f":"LARGE(HB50:HB82,1)","v":0},null,null,null,null,null,null,null,null,"Level","(Multiple Items)",{"$f":"LARGE(HM50:HM82,1)","v":0},null,null,null,null,null,null,null,null,"Level","(Multiple Items)",{"$f":"LARGE(HX50:HX82,1)","v":0},null,null,null,null,null,null,null,null,"Level","(Multiple Items)",{"$f":"LARGE(II50:II82,1)","v":0},null,null,null,null,null,null,null,null,"Level","(Multiple Items)",{"$f":"LARGE(IT50:IT82,1)","v":0}]
[null,null,null,{"$f":"LARGE(H50:H72,1)","v":430},null,null,null,null,null,null,null,null,null,null,null,{"$f":"LARGE(T50:T72,1)","v":0},null,null,null,null,null,null,null,null,null,null,null,{"$f":"LARGE(AF50:AF72,1)","v":0},null,null,null,null,null,null,null,null,null,null,null,{"$f":"LARGE(AR50:AR72,1)","v":0},null,null,null,null,null,null,null,null,null,null,null,{"$f":"LARGE(BD50:BD72,1)","v":319},null,null,null,null,null,null,null,null,null,null,null,{"$f":"LARGE(BP50:BP72,1)","v":380},null,null,null,null,null,null,null,null,null,null,null,{"$f":"LARGE(CB50:CB72,1)","v":331},null,null,null,null,null,null,null,null,null,null,null,{"$f":"LARGE(CN50:CN72,1)","v":445},null,null,null,null,null,null,null,null,null,null,null,{"$f":"LARGE(CZ50:CZ72,1)","v":356},null,null,null,null,null,null,null,null,null,null,null,{"$f":"LARGE(DL50:DL72,1)","v":0},null,null,null,null,null,null,null,null,null,null,null,{"$f":"LARGE(DX50:DX72,1)","v":346},null,null,null,null,null,null,null,null,null,null,null,{"$f":"LARGE(EJ50:EJ72,1)","v":216},null,null,null,null,null,null,null,null,null,null,null,{"$f":"LARGE(EV50:EV72,1)","v":246},null,null,null,null,null,null,null,null,null,null,null,null,null,null,null,null,null,null,null,null,null,null,null,{"$f":"LARGE(FT50:FT72,1)","v":427},null,null,null,null,null,null,null,null,null,null,null,{"$f":"LARGE(GF50:GF72,1)","v":0},null,null,null,null,null,null,null,null,null,null,null,{"$f":"LARGE(GR50:GR72,1)","v":0},null,null,null,null,null,null,null,null,null,null,null,{"$f":"LARGE(HC50:HC82,1)","v":0},null,null,null,null,null,null,null,null,null,null,{"$f":"LARGE(HN50:HN82,1)","v":0},null,null,null,null,null,null,null,null,null,null,{"$f":"LARGE(HY50:HY82,1)","v":0},null,null,null,null,null,null,null,null,null,null,{"$f":"LARGE(IJ50:IJ82,1)","v":0},null,null,null,null,null,null,null,null,null,null,{"$f":"LARGE(IU50:IU82,1)","v":0}]
[null,"Sum of Points","Column Labels",null,null,null,null,null,null,null,"League Score","Rank",null,"Sum of Points","Column Labels",null,null,null,null,null,null,null,"League Score","Rank",null,"Sum of Points","Column Labels",null,null,null,null,null,null,null,"League Score","Rank",null,"Sum of Points","Column Labels",null,null,null,null,null,null,null,"League Score","Rank",null,"Sum of Points","Column Labels",null,null,null,null,null,null,null,"League Score","Rank",null,"Sum of Points","Column Labels",null,null,null,null,null,null,null,"League Score","Rank",null,"Sum of Points","Column Labels",null,null,null,null,null,null,null,"League Score","Rank",null,"Sum of Points","Column Labels",null,null,null,null,null,null,null,"League Score","Rank",null,"Sum of Points","Column Labels",null,null,null,null,null,null,null,"League Score","Rank",null,"Sum of Points","Column Labels",null,null,null,null,null,null,null,"League Score","Rank",null,"Sum of Points","Column Labels",null,null,null,null,null,null,null,"League Score","Rank",null,"Sum of Points","Column Labels",null,null,null,null,null,null,null,"League Score","Rank",null,"Sum of Points","Column Labels",null,null,null,null,null,null,null,"League Score","Rank",null,null,null,{"$f":"LARGE(FC56:FC88,1)","v":0},null,null,null,null,null,null,null,null,null,"Sum of Points","Column Labels",null,null,null,null,null,null,null,"League Score","Rank",null,"Sum of Points","Column Labels",null,null,null,null,null,null,null,"League Score","Rank",null,"Sum of Points","Column Labels",null,null,null,null,null,null,null,"League Score","Rank",null,"Sum of Points","Column Labels",null,null,null,null,null,null,"League Score","Rank",null,"Sum of Points","Column Labels",null,null,null,null,null,null,"League Score","Rank",null,"Sum of Points","Column Labels",null,null,null,null,null,null,"League Score","Rank",null,"Sum of Points","Column Labels",null,null,null,null,null,null,"League Score","Rank",null,"Sum of Points","Column Labels",null,null,null,null,null,null,"League Score","Rank"]
[null,"Row Labels","DCU","UCD/ITC","DkIT","NUIM/GMIT","NUIG","UL","Grand Total","Lowest",null,null,null,"Row Labels","DCU","UCD/ITC","DkIT","NUIM/GMIT","NUIG","UL","Grand Total","Lowest",null,null,null,"Row Labels","DCU","UCD/ITC","DkIT","NUIM/GMIT","NUIG","UL","Grand Total","Lowest",null,null,null,"Row Labels","DCU","UCD/ITC","DkIT","NUIM/GMIT","NUIG","UL","Grand Total","Lowest",null,null,null,"Row Labels","DCU","UCD/ITC","DkIT","NUIM/GMIT","NUIG","UL","Grand Total","Lowest",null,null,null,"Row Labels","DCU","UCD/ITC","DkIT","NUIM/GMIT","NUIG","UL","Grand Total","Lowest",null,null,null,"Row Labels","DCU","UCD/ITC","DkIT","NUIM/GMIT","NUIG","UL","Grand Total","Lowest",null,null,null,"Row Labels","DCU","UCD/ITC","DkIT","NUIM/GMIT","NUIG","UL","Grand Total","Lowest",null,null,null,"Row Labels","DCU","UCD/ITC","DkIT","NUIM/GMIT","NUIG","UL","Grand Total","Lowest",null,null,null,"Row Labels","DCU","UCD/ITC","DkIT","NUIM/GMIT","NUIG","UL","Grand Total","Lowest",null,null,null,"Row Labels","DCU","UCD/ITC","DkIT","NUIM/GMIT","NUIG","UL","Grand Total","Lowest",null,null,null,"Row Labels","DCU","UCD/ITC","DkIT","NUIM/GMIT","NUIG","UL","Grand Total","Lowest",null,null,null,"Row Labels","DCU","UCD/ITC","DkIT","NUIM/GMIT","NUIG","UL","Grand Total","Lowest",null,null,null,"College","UCD",{"$f":"LARGE(FD56:FD88,1)","v":0},null,null,null,null,null,null,null,null,null,"Row Labels","DCU","UCD/ITC","DkIT","NUIM/GMIT","NUIG","UL","Grand Total","Lowest",null,null,null,"Row Labels","DCU","UCD/ITC","DkIT","NUIM/GMIT","NUIG","UL","Grand Total","Lowest",null,null,null,"Row Labels","DCU","UCD/ITC","DkIT","NUIM/GMIT","NUIG","UL","Grand Total","Lowest",null,null,null,"Row Labels","DCU","MU","ITC","UCD","IT Tallaght","Grand Total","Lowest",null,null,null,"Row Labels","DCU","MU","ITC","UCD","IT Tallaght","Grand Total","Lowest",null,null,null,"Row Labels","DCU","MU","ITC","UCD","IT Tallaght","Grand Total","Lowest",null,null,null,"Row Labels","DCU","MU","ITC","UCD","IT Tallaght","Grand Total","Lowest",null,null,null,"Row Labels","DCU","MU","ITC","UCD","IT Tallaght","Grand Total","Lowest"]
[null,"Jericho Siababa",301,381,0,325,0,430,1437,{"$f":"MIN(C50:H50)","v":0},{"$f":"I50-J50","v":1437},{"$f":"IF(K50>1,RANK(K50,K$50:K$82,0),\"\")","v":1},null,null,0,0,0,0,0,0,null,{"$f":"MIN(O50:T50)","v":0},{"$f":"U50-V50","v":0},{"$f":"IF(W50>1,RANK(W50,W$50:W$82,0),\"\")","v":""},null,null,0,0,0,0,0,0,null,{"$f":"MIN(AA50:AF50)","v":0},{"$f":"AG50-AH50","v":0},{"$f":"IF(AI50>1,RANK(AI50,AI$50:AI$82,0),\"\")","v":""},null,null,0,0,0,0,0,0,null,{"$f":"MIN(AM50:AR50)","v":0},{"$f":"AS50-AT50","v":0},{"$f":"IF(AU50>1,RANK(AU50,AU$50:AU$82,0),\"\")","v":""},null,"Shane Hyland",322,269,378,179,265,248,1661,{"$f":"MIN(AY50:BD50)","v":179},{"$f":"BE50-BF50","v":1482},{"$f":"IF(BG50>1,RANK(BG50,BG$50:BG$82,0),\"\")","v":1},null,"Darren Griffin",309,0,419,0,359,0,1087,{"$f":"MIN(BK50:BP50)","v":0},{"$f":"BQ50-BR50","v":1087},{"$f":"IF(BS50>1,RANK(BS50,BS$50:BS$82,0),\"\")","v":1},null,"Gary Smith",0,0,0,0,0,331,331,{"$f":"MIN(BW50:CB50)","v":0},{"$f":"CC50-CD50","v":331},{"$f":"IF(CE50>1,RANK(CE50,CE$50:CE$82,0),\"\")","v":1},null,"David Price",220,145,318,381,396,445,1905,{"$f":"MIN(CI50:CN50)","v":145},{"$f":"CO50-CP50","v":1760},{"$f":"IF(CQ50>1,RANK(CQ50,CQ$50:CQ$82,0),\"\")","v":1},null,"Tami Baumann",361,378,0,421,469,356,1985,{"$f":"MIN(CU50:CZ50)","v":0},{"$f":"DA50-DB50","v":1985},{"$f":"IF(DC50>1,RANK(DC50,DC$50:DC$82,0),\"\")","v":1},null,null,0,0,0,0,0,0,null,{"$f":"MIN(DG50:DL50)","v":0},{"$f":"DM50-DN50","v":0},{"$f":"IF(DO50>1,RANK(DO50,DO$50:DO$82,0),\"\")","v":""},null,"Tom McGrath",398,304,411,306,430,345,2194,{"$f":"MIN(DS50:DX50)","v":304},{"$f":"DY50-DZ50","v":1890},{"$f":"IF(EA50>1,RANK(EA50,EA$50:EA$82,0),\"\")","v":1},null,"Aiman Rahim",331,0,0,0,0,216,547,{"$f":"MIN(EE50:EJ50)","v":0},{"$f":"EK50-EL50","v":547},{"$f":"IF(EM50>1,RANK(EM50,EM$50:EM$82,0),\"\")","v":1},null,"Marc Creehan",0,0,259,0,161,246,666,{"$f":"MIN(EQ50:EV50)","v":0},{"$f":"EW50-EX50","v":666},{"$f":"IF(EY50>1,RANK(EY50,EY$50:EY$82,0),\"\")","v":1},null,"Gender","(Multiple Items)",{"$f":"LARGE(FE56:FE88,1)","v":0},{"$f":"FC49","v":"UCD"},null,null,null,null,{"$f":"FC51","v":"Barebow"},null,null,null,"Jeffery McMahon",409,406,432,436,420,427,2530,{"$f":"MIN(FO50:FT50)","v":406},{"$f":"FU50-FV50","v":2124},{"$f":"IF(FW50>1,RANK(FW50,FW$50:FW$82,0),\"\")","v":1},null,null,0,0,0,0,0,0,null,{"$f":"MIN(GA50:GF50)","v":0},{"$f":"GG50-GH50","v":0},{"$f":"IF(GI50>1,RANK(GI50,GI$50:GI$82,0),\"\")","v":""},null,null,0,0,0,0,0,0,null,{"$f":"MIN(GM50:GR50)","v":0},{"$f":"GS50-GT50","v":0},{"$f":"IF(GU50>1,RANK(GU50,GU$50:GU$82,0),\"\")","v":""},null,null,0,0,0,0,0,null,{"$f":"IF(Entries!$K$20=5,MIN(GY50,GZ50,HA50,HB50,HC50),IF(Entries!$K$20=4,MIN(GY50,GZ50,HA50,HB50),IF(Entries!$K$20=3,MIN(GY50,GZ50,HA50),IF(Entries!$K$20=2,MIN(GY50,GZ50),IF(Entries!$K$20=1,0,0)))))","v":0},{"$f":"HD50-HE50","v":0},{"$f":"IF(HF50>1,RANK(HF50,HF$50:HF$82,0),\"\")","v":""},null,null,0,0,0,0,0,null,{"$f":"IF(Entries!$K$20=5,MIN(HJ50,HK50,HL50,HM50,HN50),IF(Entries!$K$20=4,MIN(HJ50,HK50,HL50,HM50),IF(Entries!$K$20=3,MIN(HJ50,HK50,HL50),IF(Entries!$K$20=2,MIN(HJ50,HK50),IF(Entries!$K$20=1,0,0)))))","v":0},{"$f":"HO50-HP50","v":0},{"$f":"IF(HQ50>1,RANK(HQ50,HQ$50:HQ$82,0),\"\")","v":""},null,null,0,0,0,0,0,null,{"$f":"IF(Entries!$K$20=5,MIN(HU50,HV50,HW50,HX50,HY50),IF(Entries!$K$20=4,MIN(HU50,HV50,HW50,HX50),IF(Entries!$K$20=3,MIN(HU50,HV50,HW50),IF(Entries!$K$20=2,MIN(HU50,HV50),IF(Entries!$K$20=1,0,0)))))","v":0},{"$f":"HZ50-IA50","v":0},{"$f":"IF(IB50>1,RANK(IB50,IB$50:IB$82,0),\"\")","v":""},null,null,0,0,0,0,0,null,{"$f":"IF(Entries!$K$20=5,MIN(IF50,IG50,IH50,II50,IJ50),IF(Entries!$K$20=4,MIN(IF50,IG50,IH50,II50),IF(Entries!$K$20=3,MIN(IF50,IG50,IH50),IF(Entries!$K$20=2,MIN(IF50,IG50),IF(Entries!$K$20=1,0,0)))))","v":0},{"$f":"IK50-IL50","v":0},{"$f":"IF(IM50>1,RANK(IM50,IM$50:IM$82,0),\"\")","v":""},null,null,0,0,0,0,0,null,{"$f":"IF(Entries!$K$20=5,MIN(IQ50,IR50,IS50,IT50,IU50),IF(Entries!$K$20=4,MIN(IQ50,IR50,IS50,IT50),IF(Entries!$K$20=3,MIN(IQ50,IR50,IS50),IF(Entries!$K$20=2,MIN(IQ50,IR50),IF(Entries!$K$20=1,0,0)))))","v":0},{"$f":"IV50-IW50","v":0},{"$f":"IF(IX50>1,RANK(IX50,IX$50:IX$82,0),\"\")","v":""}]
[null,"Daeln Murphy",216,292,0,0,0,0,508,{"$f":"MIN(C51:H51)","v":0},{"$f":"I51-J51","v":508},{"$f":"IF(K51>1,RANK(K51,K$50:K$82,0),\"\")","v":2},null,null,0,0,0,0,0,0,null,{"$f":"MIN(O51:T51)","v":0},{"$f":"U51-V51","v":0},{"$f":"IF(W51>1,RANK(W51,W$50:W$82,0),\"\")","v":""},null,null,0,0,0,0,0,0,null,{"$f":"MIN(AA51:AF51)","v":0},{"$f":"AG51-AH51","v":0},{"$f":"IF(AI51>1,RANK(AI51,AI$50:AI$82,0),\"\")","v":""},null,null,0,0,0,0,0,0,null,{"$f":"MIN(AM51:AR51)","v":0},{"$f":"AS51-AT51","v":0},{"$f":"IF(AU51>1,RANK(AU51,AU$50:AU$82,0),\"\")","v":""},null,"Aoife Monaghan",0,231,253,274,314,319,1391,{"$f":"MIN(AY51:BD51)","v":0},{"$f":"BE51-BF51","v":1391},{"$f":"IF(BG51>1,RANK(BG51,BG$50:BG$82,0),\"\")","v":2},null,"Paul Dixon",0,0,304,405,0,274,983,{"$f":"MIN(BK51:BP51)","v":0},{"$f":"BQ51-BR51","v":983},{"$f":"IF(BS51>1,RANK(BS51,BS$50:BS$82,0),\"\")","v":2},null,"Karina Wrzesinska",0,0,0,247,0,0,247,{"$f":"MIN(BW51:CB51)","v":0},{"$f":"CC51-CD51","v":247},{"$f":"IF(CE51>1,RANK(CE51,CE$50:CE$82,0),\"\")","v":2},null,"Katrina Prakhova",335,293,368,0,0,0,996,{"$f":"MIN(CI51:CN51)","v":0},{"$f":"CO51-CP51","v":996},{"$f":"IF(CQ51>1,RANK(CQ51,CQ$50:CQ$82,0),\"\")","v":2},null,"John O'Toole",0,0,0,332,0,344,676,{"$f":"MIN(CU51:CZ51)","v":0},{"$f":"DA51-DB51","v":676},{"$f":"IF(DC51>1,RANK(DC51,DC$50:DC$82,0),\"\")","v":2},null,null,0,0,0,0,0,0,null,{"$f":"MIN(DG51:DL51)","v":0},{"$f":"DM51-DN51","v":0},{"$f":"IF(DO51>1,RANK(DO51,DO$50:DO$82,0),\"\")","v":""},null,"Nada Khaled-Abdo",306,332,0,357,364,346,1705,{"$f":"MIN(DS51:DX51)","v":0},{"$f":"DY51-DZ51","v":1705},{"$f":"IF(EA51>1,RANK(EA51,EA$50:EA$82,0),\"\")","v":2},null,"Nik Idlan Faiq",0,174,0,0,0,108,282,{"$f":"MIN(EE51:EJ51)","v":0},{"$f":"EK51-EL51","v":282},{"$f":"IF(EM51>1,RANK(EM51,EM$50:EM$82,0),\"\")","v":2},null,null,0,0,0,0,0,0,null,{"$f":"MIN(EQ51:EV51)","v":0},{"$f":"EW51-EX51","v":0},{"$f":"IF(EY51>1,RANK(EY51,EY$50:EY$82,0),\"\")","v":""},null,"Bow","Barebow",{"$f":"LARGE(FF56:FF88,1)","v":0},null,null,null,null,null,null,null,null,null,"conor watkins",278,0,0,0,0,0,278,{"$f":"MIN(FO51:FT51)","v":0},{"$f":"FU51-FV51","v":278},{"$f":"IF(FW51>1,RANK(FW51,FW$50:FW$82,0),\"\")","v":2},null,null,0,0,0,0,0,0,null,{"$f":"MIN(GA51:GF51)","v":0},{"$f":"GG51-GH51","v":0},{"$f":"IF(GI51>1,RANK(GI51,GI$50:GI$82,0),\"\")","v":""},null,null,0,0,0,0,0,0,null,{"$f":"MIN(GM51:GR51)","v":0},{"$f":"GS51-GT51","v":0},{"$f":"IF(GU51>1,RANK(GU51,GU$50:GU$82,0),\"\")","v":""},null,null,0,0,0,0,0,null,{"$f":"IF(Entries!$K$20=5,MIN(GY51,GZ51,HA51,HB51,HC51),IF(Entries!$K$20=4,MIN(GY51,GZ51,HA51,HB51),IF(Entries!$K$20=3,MIN(GY51,GZ51,HA51),IF(Entries!$K$20=2,MIN(GY51,GZ51),IF(Entries!$K$20=1,0,0)))))","v":0},0,{"$f":"IF(HF51>1,RANK(HF51,HF$50:HF$82,0),\"\")","v":""},null,null,0,0,0,0,0,null,{"$f":"IF(Entries!$K$20=5,MIN(HJ51,HK51,HL51,HM51,HN51),IF(Entries!$K$20=4,MIN(HJ51,HK51,HL51,HM51),IF(Entries!$K$20=3,MIN(HJ51,HK51,HL51),IF(Entries!$K$20=2,MIN(HJ51,HK51),IF(Entries!$K$20=1,0,0)))))","v":0},0,{"$f":"IF(HQ51>1,RANK(HQ51,HQ$50:HQ$82,0),\"\")","v":""},null,null,0,0,0,0,0,null,{"$f":"IF(Entries!$K$20=5,MIN(HU51,HV51,HW51,HX51,HY51),IF(Entries!$K$20=4,MIN(HU51,HV51,HW51,HX51),IF(Entries!$K$20=3,MIN(HU51,HV51,HW51),IF(Entries!$K$20=2,MIN(HU51,HV51),IF(Entries!$K$20=1,0,0)))))","v":0},0,{"$f":"IF(IB51>1,RANK(IB51,IB$50:IB$82,0),\"\")","v":""},null,null,0,0,0,0,0,null,{"$f":"IF(Entries!$K$20=5,MIN(IF51,IG51,IH51,II51,IJ51),IF(Entries!$K$20=4,MIN(IF51,IG51,IH51,II51),IF(Entries!$K$20=3,MIN(IF51,IG51,IH51),IF(Entries!$K$20=2,MIN(IF51,IG51),IF(Entries!$K$20=1,0,0)))))","v":0},0,{"$f":"IF(IM51>1,RANK(IM51,IM$50:IM$82,0),\"\")","v":""},null,null,0,0,0,0,0,null,{"$f":"IF(Entries!$K$20=5,MIN(IQ51,IR51,IS51,IT51,IU51),IF(Entries!$K$20=4,MIN(IQ51,IR51,IS51,IT51),IF(Entries!$K$20=3,MIN(IQ51,IR51,IS51),IF(Entries!$K$20=2,MIN(IQ51,IR51),IF(Entries!$K$20=1,0,0)))))","v":0},0,{"$f":"IF(IX51>1,RANK(IX51,IX$50:IX$82,0),\"\")","v":""}]
[null,null,0,0,0,0,0,0,null,0,0,"",null,null,0,0,0,0,0,0,null,0,0,"",null,null,0,0,0,0,0,0,null,0,0,"",null,null,0,0,0,0,0,0,null,0,0,"",null,"Jay Mc Carron",370,118,0,210,0,0,698,0,698,3,null,"Andrew Warrington",0,281,0,287,0,380,948,0,948,3,null,"Robert Dore",0,0,0,223,0,0,223,0,223,3,null,"Stephen Sheppard",303,259,415,0,0,0,977,0,977,3,null,"David Doyle",0,0,0,0,331,277,608,0,608,3,null,null,0,0,0,0,0,0,null,0,0,"",null,"Sean Brogan",0,317,389,306,0,276,1288,0,1288,3,null,"Kevin May",254,0,0,0,0,0,254,0,254,3,null,null,0,0,0,0,0,0,null,0,0,"",null,"Level","(Multiple Items)",{"$f":"LARGE(FG56:FG88,1)","v":0},null,null,null,null,null,null,null,null,null,null,0,0,0,0,0,0,null,0,0,"",null,null,0,0,0,0,0,0,null,0,0,"",null,null,0,0,0,0,0,0,null,0,0,"",null,null,0,0,0,0,0,null,{"$f":"IF(Entries!$K$20=5,MIN(GY52,GZ52,HA52,HB52,HC52),IF(Entries!$K$20=4,MIN(GY52,GZ52,HA52,HB52),IF(Entries!$K$20=3,MIN(GY52,GZ52,HA52),IF(Entries!$K$20=2,MIN(GY52,GZ52),IF(Entries!$K$20=1,0,0)))))","v":0},0,"",null,null,0,0,0,0,0,null,{"$f":"IF(Entries!$K$20=5,MIN(HJ52,HK52,HL52,HM52,HN52),IF(Entries!$K$20=4,MIN(HJ52,HK52,HL52,HM52),IF(Entries!$K$20=3,MIN(HJ52,HK52,HL52),IF(Entries!$K$20=2,MIN(HJ52,HK52),IF(Entries!$K$20=1,0,0)))))","v":0},0,"",null,null,0,0,0,0,0,null,{"$f":"IF(Entries!$K$20=5,MIN(HU52,HV52,HW52,HX52,HY52),IF(Entries!$K$20=4,MIN(HU52,HV52,HW52,HX52),IF(Entries!$K$20=3,MIN(HU52,HV52,HW52),IF(Entries!$K$20=2,MIN(HU52,HV52),IF(Entries!$K$20=1,0,0)))))","v":0},0,"",null,null,0,0,0,0,0,null,{"$f":"IF(Entries!$K$20=5,MIN(IF52,IG52,IH52,II52,IJ52),IF(Entries!$K$20=4,MIN(IF52,IG52,IH52,II52),IF(Entries!$K$20=3,MIN(IF52,IG52,IH52),IF(Entries!$K$20=2,MIN(IF52,IG52),IF(Entries!$K$20=1,0,0)))))","v":0},0,"",null,null,0,0,0,0,0,null,{"$f":"IF(Entries!$K$20=5,MIN(IQ52,IR52,IS52,IT52,IU52),IF(Entries!$K$20=4,MIN(IQ52,IR52,IS52,IT52),IF(Entries!$K$20=3,MIN(IQ52,IR52,IS52),IF(Entries!$K$20=2,MIN(IQ52,IR52),IF(Entries!$K$20=1,0,0)))))","v":0},0,""]
[null,null,null,null,null,null,null,null,null,0,0,"",null,null,null,null,null,null,null,null,null,0,0,"",null,null,null,null,null,null,null,null,null,0,0,"",null,null,null,null,null,null,null,null,null,0,0,"",null,"Caroline Greene",153,0,0,255,245,0,653,0,653,4,null,"Carlton Bennett",0,0,0,269,283,326,878,0,878,4,null,null,null,null,null,null,null,null,null,0,0,"",null,"Liam Maloney",0,0,377,0,400,0,777,0,777,4,null,"Kate Forte",0,0,0,210,0,348,558,0,558,4,null,null,null,null,null,null,null,null,null,0,0,"",null,"Emily Flanagan",0,357,309,0,380,0,1046,0,1046,4,null,"Arief Naimun",0,0,0,143,0,0,143,0,143,4,null,null,null,null,null,null,null,null,null,0,0,"",null,null,null,{"$f":"LARGE(FH56:FH78,1)","v":204},null,null,null,null,null,null,null,null,null,null,null,null,null,null,null,null,null,0,0,"",null,null,null,null,null,null,null,null,null,0,0,"",null,null,null,null,null,null,null,null,null,0,0,"",null,null,null,null,null,null,null,null,{"$f":"IF(Entries!$K$20=5,MIN(GY53,GZ53,HA53,HB53,HC53),IF(Entries!$K$20=4,MIN(GY53,GZ53,HA53,HB53),IF(Entries!$K$20=3,MIN(GY53,GZ53,HA53),IF(Entries!$K$20=2,MIN(GY53,GZ53),IF(Entries!$K$20=1,0,0)))))","v":0},0,"",null,null,null,null,null,null,null,null,{"$f":"IF(Entries!$K$20=5,MIN(HJ53,HK53,HL53,HM53,HN53),IF(Entries!$K$20=4,MIN(HJ53,HK53,HL53,HM53),IF(Entries!$K$20=3,MIN(HJ53,HK53,HL53),IF(Entries!$K$20=2,MIN(HJ53,HK53),IF(Entries!$K$20=1,0,0)))))","v":0},0,"",null,null,null,null,null,null,null,null,{"$f":"IF(Entries!$K$20=5,MIN(HU53,HV53,HW53,HX53,HY53),IF(Entries!$K$20=4,MIN(HU53,HV53,HW53,HX53),IF(Entries!$K$20=3,MIN(HU53,HV53,HW53),IF(Entries!$K$20=2,MIN(HU53,HV53),IF(Entries!$K$20=1,0,0)))))","v":0},0,"",null,null,null,null,null,null,null,null,{"$f":"IF(Entries!$K$20=5,MIN(IF53,IG53,IH53,II53,IJ53),IF(Entries!$K$20=4,MIN(IF53,IG53,IH53,II53),IF(Entries!$K$20=3,MIN(IF53,IG53,IH53),IF(Entries!$K$20=2,MIN(IF53,IG53),IF(Entries!$K$20=1,0,0)))))","v":0},0,"",null,null,null,null,null,null,null,null,{"$f":"IF(Entries!$K$20=5,MIN(IQ53,IR53,IS53,IT53,IU53),IF(Entries!$K$20=4,MIN(IQ53,IR53,IS53,IT53),IF(Entries!$K$20=3,MIN(IQ53,IR53,IS53),IF(Entries!$K$20=2,MIN(IQ53,IR53),IF(Entries!$K$20=1,0,0)))))","v":0},0,""]
[null,null,null,null,null,null,null,null,null,0,0,"",null,null,null,null,null,null,null,null,null,0,0,"",null,null,null,null,null,null,null,null,null,0,0,"",null,null,null,null,null,null,null,null,null,0,0,"",null,null,null,null,null,null,null,null,null,0,0,"",null,"Alan Gibbons",0,0,414,0,0,367,781,0,781,5,null,null,null,null,null,null,null,null,null,0,0,"",null,"Brian Breslin",224,227,0,0,0,0,451,0,451,5,null,"Eammon McGrory",0,239,0,0,0,0,239,0,239,5,null,null,null,null,null,null,null,null,null,0,0,"",null,"Dara MacEoin",241,0,284,267,0,0,792,0,792,5,null,"Paul Fox",0,0,0,131,0,0,131,0,131,5,null,null,null,null,null,null,null,null,null,0,0,"",null,"Sum of Points","Column Labels",null,null,null,null,null,null,null,"League Score","Rank",null,null,null,null,null,null,null,null,null,0,0,"",null,null,null,null,null,null,null,null,null,0,0,"",null,null,null,null,null,null,null,null,null,0,0,"",null,null,null,null,null,null,null,null,{"$f":"IF(Entries!$K$20=5,MIN(GY54,GZ54,HA54,HB54,HC54),IF(Entries!$K$20=4,MIN(GY54,GZ54,HA54,HB54),IF(Entries!$K$20=3,MIN(GY54,GZ54,HA54),IF(Entries!$K$20=2,MIN(GY54,GZ54),IF(Entries!$K$20=1,0,0)))))","v":0},0,"",null,null,null,null,null,null,null,null,{"$f":"IF(Entries!$K$20=5,MIN(HJ54,HK54,HL54,HM54,HN54),IF(Entries!$K$20=4,MIN(HJ54,HK54,HL54,HM54),IF(Entries!$K$20=3,MIN(HJ54,HK54,HL54),IF(Entries!$K$20=2,MIN(HJ54,HK54),IF(Entries!$K$20=1,0,0)))))","v":0},0,"",null,null,null,null,null,null,null,null,{"$f":"IF(Entries!$K$20=5,MIN(HU54,HV54,HW54,HX54,HY54),IF(Entries!$K$20=4,MIN(HU54,HV54,HW54,HX54),IF(Entries!$K$20=3,MIN(HU54,HV54,HW54),IF(Entries!$K$20=2,MIN(HU54,HV54),IF(Entries!$K$20=1,0,0)))))","v":0},0,"",null,null,null,null,null,null,null,null,{"$f":"IF(Entries!$K$20=5,MIN(IF54,IG54,IH54,II54,IJ54),IF(Entries!$K$20=4,MIN(IF54,IG54,IH54,II54),IF(Entries!$K$20=3,MIN(IF54,IG54,IH54),IF(Entries!$K$20=2,MIN(IF54,IG54),IF(Entries!$K$20=1,0,0)))))","v":0},0,"",null,null,null,null,null,null,null,null,{"$f":"IF(Entries!$K$20=5,MIN(IQ54,IR54,IS54,IT54,IU54),IF(Entries!$K$20=4,MIN(IQ54,IR54,IS54,IT54),IF(Entries!$K$20=3,MIN(IQ54,IR54,IS54),IF(Entries!$K$20=2,MIN(IQ54,IR54),IF(Entries!$K$20=1,0,0)))))","v":0},0,""]
[null,null,null,null,null,null,null,null,null,0,0,"",null,null,null,null,null,null,null,null,null,0,0,"",null,null,null,null,null,null,null,null,null,0,0,"",null,null,null,null,null,null,null,null,null,0,0,"",null,null,null,null,null,null,null,null,null,0,0,"",null,"Jennifer Keegan",0,0,352,0,332,0,684,0,684,6,null,null,null,null,null,null,null,null,null,0,0,"",null,"Alan Sheppard",187,248,0,0,0,0,435,0,435,6,null,null,null,null,null,null,null,null,null,0,0,"",null,null,null,null,null,null,null,null,null,0,0,"",null,"Sam Schultz",0,0,356,0,434,0,790,0,790,6,null,null,null,null,null,null,null,null,null,0,0,"",null,null,null,null,null,null,null,null,null,0,0,"",null,"Row Labels","DCU","UCD/ITC","DkIT","NUIM/GMIT","NUIG","UL","Grand Total","Lowest",null,null,null,null,null,null,null,null,null,null,null,0,0,"",null,null,null,null,null,null,null,null,null,0,0,"",null,null,null,null,null,null,null,null,null,0,0,"",null,null,null,null,null,null,null,null,{"$f":"IF(Entries!$K$20=5,MIN(GY55,GZ55,HA55,HB55,HC55),IF(Entries!$K$20=4,MIN(GY55,GZ55,HA55,HB55),IF(Entries!$K$20=3,MIN(GY55,GZ55,HA55),IF(Entries!$K$20=2,MIN(GY55,GZ55),IF(Entries!$K$20=1,0,0)))))","v":0},0,"",null,null,null,null,null,null,null,null,{"$f":"IF(Entries!$K$20=5,MIN(HJ55,HK55,HL55,HM55,HN55),IF(Entries!$K$20=4,MIN(HJ55,HK55,HL55,HM55),IF(Entries!$K$20=3,MIN(HJ55,HK55,HL55),IF(Entries!$K$20=2,MIN(HJ55,HK55),IF(Entries!$K$20=1,0,0)))))","v":0},0,"",null,null,null,null,null,null,null,null,{"$f":"IF(Entries!$K$20=5,MIN(HU55,HV55,HW55,HX55,HY55),IF(Entries!$K$20=4,MIN(HU55,HV55,HW55,HX55),IF(Entries!$K$20=3,MIN(HU55,HV55,HW55),IF(Entries!$K$20=2,MIN(HU55,HV55),IF(Entries!$K$20=1,0,0)))))","v":0},0,"",null,null,null,null,null,null,null,null,{"$f":"IF(Entries!$K$20=5,MIN(IF55,IG55,IH55,II55,IJ55),IF(Entries!$K$20=4,MIN(IF55,IG55,IH55,II55),IF(Entries!$K$20=3,MIN(IF55,IG55,IH55),IF(Entries!$K$20=2,MIN(IF55,IG55),IF(Entries!$K$20=1,0,0)))))","v":0},0,"",null,null,null,null,null,null,null,null,{"$f":"IF(Entries!$K$20=5,MIN(IQ55,IR55,IS55,IT55,IU55),IF(Entries!$K$20=4,MIN(IQ55,IR55,IS55,IT55),IF(Entries!$K$20=3,MIN(IQ55,IR55,IS55),IF(Entries!$K$20=2,MIN(IQ55,IR55),IF(Entries!$K$20=1,0,0)))))","v":0},0,""]
[null,null,null,null,null,null,null,null,null,0,0,"",null,null,null,null,null,null,null,null,null,0,0,"",null,null,null,null,null,null,null,null,null,0,0,"",null,null,null,null,null,null,null,null,null,0,0,"",null,null,null,null,null,null,null,null,null,0,0,"",null,"Tony Keane",0,0,0,312,0,359,671,0,671,7,null,null,null,null,null,null,null,null,null,0,0,"",null,null,null,null,null,null,null,null,null,0,0,"",null,null,null,null,null,null,null,null,null,0,0,"",null,null,null,null,null,null,null,null,null,0,0,"",null,"Raizel Burstein-Frame",0,0,187,0,254,317,758,0,758,7,null,null,null,null,null,null,null,null,null,0,0,"",null,null,null,null,null,null,null,null,null,0,0,"",null,"Lukas Frese",0,0,0,0,0,204,204,{"$f":"MIN(FC56:FH56)","v":0},{"$f":"FI56-FJ56","v":204},{"$f":"IF(FK56>1,RANK(FK56,FK$56:FK$82,0),\"\")","v":1},null,null,null,null,null,null,null,null,null,0,0,"",null,null,null,null,null,null,null,null,null,0,0,"",null,null,null,null,null,null,null,null,null,0,0,"",null,null,null,null,null,null,null,null,{"$f":"IF(Entries!$K$20=5,MIN(GY56,GZ56,HA56,HB56,HC56),IF(Entries!$K$20=4,MIN(GY56,GZ56,HA56,HB56),IF(Entries!$K$20=3,MIN(GY56,GZ56,HA56),IF(Entries!$K$20=2,MIN(GY56,GZ56),IF(Entries!$K$20=1,0,0)))))","v":0},0,"",null,null,null,null,null,null,null,null,{"$f":"IF(Entries!$K$20=5,MIN(HJ56,HK56,HL56,HM56,HN56),IF(Entries!$K$20=4,MIN(HJ56,HK56,HL56,HM56),IF(Entries!$K$20=3,MIN(HJ56,HK56,HL56),IF(Entries!$K$20=2,MIN(HJ56,HK56),IF(Entries!$K$20=1,0,0)))))","v":0},0,"",null,null,null,null,null,null,null,null,{"$f":"IF(Entries!$K$20=5,MIN(HU56,HV56,HW56,HX56,HY56),IF(Entries!$K$20=4,MIN(HU56,HV56,HW56,HX56),IF(Entries!$K$20=3,MIN(HU56,HV56,HW56),IF(Entries!$K$20=2,MIN(HU56,HV56),IF(Entries!$K$20=1,0,0)))))","v":0},0,"",null,null,null,null,null,null,null,null,{"$f":"IF(Entries!$K$20=5,MIN(IF56,IG56,IH56,II56,IJ56),IF(Entries!$K$20=4,MIN(IF56,IG56,IH56,II56),IF(Entries!$K$20=3,MIN(IF56,IG56,IH56),IF(Entries!$K$20=2,MIN(IF56,IG56),IF(Entries!$K$20=1,0,0)))))","v":0},0,"",null,null,null,null,null,null,null,null,{"$f":"IF(Entries!$K$20=5,MIN(IQ56,IR56,IS56,IT56,IU56),IF(Entries!$K$20=4,MIN(IQ56,IR56,IS56,IT56),IF(Entries!$K$20=3,MIN(IQ56,IR56,IS56),IF(Entries!$K$20=2,MIN(IQ56,IR56),IF(Entries!$K$20=1,0,0)))))","v":0},0,""]
[null,null,null,null,null,null,null,null,null,0,0,"",null,null,null,null,null,null,null,null,null,0,0,"",null,null,null,null,null,null,null,null,null,0,0,"",null,null,null,null,null,null,null,null,null,0,0,"",null,null,null,null,null,null,null,null,null,0,0,"",null,"Tara Kilcommons",0,0,0,0,0,283,283,0,283,8,null,null,null,null,null,null,null,null,null,0,0,"",null,null,null,null,null,null,null,null,null,0,0,"",null,null,null,null,null,null,null,null,null,0,0,"",null,null,null,null,null,null,null,null,null,0,0,"",null,"Derek Naughton",0,0,0,0,389,336,725,0,725,8,null,null,null,null,null,null,null,null,null,0,0,"",null,null,null,null,null,null,null,null,null,0,0,"",null,null,0,0,0,0,0,0,null,{"$f":"MIN(FC57:FH57)","v":0},{"$f":"FI57-FJ57","v":0},"",null,null,null,null,null,null,null,null,null,0,0,"",null,null,null,null,null,null,null,null,null,0,0,"",null,null,null,null,null,null,null,null,null,0,0,"",null,null,null,null,null,null,null,null,{"$f":"IF(Entries!$K$20=5,MIN(GY57,GZ57,HA57,HB57,HC57),IF(Entries!$K$20=4,MIN(GY57,GZ57,HA57,HB57),IF(Entries!$K$20=3,MIN(GY57,GZ57,HA57),IF(Entries!$K$20=2,MIN(GY57,GZ57),IF(Entries!$K$20=1,0,0)))))","v":0},0,"",null,null,null,null,null,null,null,null,{"$f":"IF(Entries!$K$20=5,MIN(HJ57,HK57,HL57,HM57,HN57),IF(Entries!$K$20=4,MIN(HJ57,HK57,HL57,HM57),IF(Entries!$K$20=3,MIN(HJ57,HK57,HL57),IF(Entries!$K$20=2,MIN(HJ57,HK57),IF(Entries!$K$20=1,0,0)))))","v":0},0,"",null,null,null,null,null,null,null,null,{"$f":"IF(Entries!$K$20=5,MIN(HU57,HV57,HW57,HX57,HY57),IF(Entries!$K$20=4,MIN(HU57,HV57,HW57,HX57),IF(Entries!$K$20=3,MIN(HU57,HV57,HW57),IF(Entries!$K$20=2,MIN(HU57,HV57),IF(Entries!$K$20=1,0,0)))))","v":0},0,"",null,null,null,null,null,null,null,null,{"$f":"IF(Entries!$K$20=5,MIN(IF57,IG57,IH57,II57,IJ57),IF(Entries!$K$20=4,MIN(IF57,IG57,IH57,II57),IF(Entries!$K$20=3,MIN(IF57,IG57,IH57),IF(Entries!$K$20=2,MIN(IF57,IG57),IF(Entries!$K$20=1,0,0)))))","v":0},0,"",null,null,null,null,null,null,null,null,{"$f":"IF(Entries!$K$20=5,MIN(IQ57,IR57,IS57,IT57,IU57),IF(Entries!$K$20=4,MIN(IQ57,IR57,IS57,IT57),IF(Entries!$K$20=3,MIN(IQ57,IR57,IS57),IF(Entries!$K$20=2,MIN(IQ57,IR57),IF(Entries!$K$20=1,0,0)))))","v":0},0,""]
[null,null,null,null,null,null,null,null,null,0,0,"",null,null,null,null,null,null,null,null,null,0,0,"",null,null,null,null,null,null,null,null,null,0,0,"",null,null,null,null,null,null,null,null,null,0,0,"",null,null,null,null,null,null,null,null,null,0,0,"",null,"Eamonn Dunleavy",0,280,0,0,0,0,280,0,280,9,null,null,null,null,null,null,null,null,null,0,0,"",null,null,null,null,null,null,null,null,null,0,0,"",null,null,null,null,null,null,null,null,null,0,0,"",null,null,null,null,null,null,null,null,null,0,0,"",null,"Wiebke Hasselmann",0,306,0,0,0,0,306,0,306,9,null,null,null,null,null,null,null,null,null,0,0,"",null,null,null,null,null,null,null,null,null,0,0,"",null,null,0,0,0,0,0,0,null,0,0,"",null,null,null,null,null,null,null,null,null,0,0,"",null,null,null,null,null,null,null,null,null,0,0,"",null,null,null,null,null,null,null,null,null,0,0,"",null,null,null,null,null,null,null,null,{"$f":"IF(Entries!$K$20=5,MIN(GY58,GZ58,HA58,HB58,HC58),IF(Entries!$K$20=4,MIN(GY58,GZ58,HA58,HB58),IF(Entries!$K$20=3,MIN(GY58,GZ58,HA58),IF(Entries!$K$20=2,MIN(GY58,GZ58),IF(Entries!$K$20=1,0,0)))))","v":0},0,"",null,null,null,null,null,null,null,null,{"$f":"IF(Entries!$K$20=5,MIN(HJ58,HK58,HL58,HM58,HN58),IF(Entries!$K$20=4,MIN(HJ58,HK58,HL58,HM58),IF(Entries!$K$20=3,MIN(HJ58,HK58,HL58),IF(Entries!$K$20=2,MIN(HJ58,HK58),IF(Entries!$K$20=1,0,0)))))","v":0},0,"",null,null,null,null,null,null,null,null,{"$f":"IF(Entries!$K$20=5,MIN(HU58,HV58,HW58,HX58,HY58),IF(Entries!$K$20=4,MIN(HU58,HV58,HW58,HX58),IF(Entries!$K$20=3,MIN(HU58,HV58,HW58),IF(Entries!$K$20=2,MIN(HU58,HV58),IF(Entries!$K$20=1,0,0)))))","v":0},0,"",null,null,null,null,null,null,null,null,{"$f":"IF(Entries!$K$20=5,MIN(IF58,IG58,IH58,II58,IJ58),IF(Entries!$K$20=4,MIN(IF58,IG58,IH58,II58),IF(Entries!$K$20=3,MIN(IF58,IG58,IH58),IF(Entries!$K$20=2,MIN(IF58,IG58),IF(Entries!$K$20=1,0,0)))))","v":0},0,"",null,null,null,null,null,null,null,null,{"$f":"IF(Entries!$K$20=5,MIN(IQ58,IR58,IS58,IT58,IU58),IF(Entries!$K$20=4,MIN(IQ58,IR58,IS58,IT58),IF(Entries!$K$20=3,MIN(IQ58,IR58,IS58),IF(Entries!$K$20=2,MIN(IQ58,IR58),IF(Entries!$K$20=1,0,0)))))","v":0},0,""]
[null,null,null,null,null,null,null,null,null,0,0,"",null,null,null,null,null,null,null,null,null,0,0,"",null,null,null,null,null,null,null,null,null,0,0,"",null,null,null,null,null,null,null,null,null,0,0,"",null,null,null,null,null,null,null,null,null,0,0,"",null,"Marco Tulios",0,0,0,0,279,0,279,0,279,10,null,null,null,null,null,null,null,null,null,0,0,"",null,null,null,null,null,null,null,null,null,0,0,"",null,null,null,null,null,null,null,null,null,0,0,"",null,null,null,null,null,null,null,null,null,0,0,"",null,"Omar Mustafa",0,0,0,0,270,0,270,0,270,10,null,null,null,null,null,null,null,null,null,0,0,"",null,null,null,null,null,null,null,null,null,0,0,"",null,null,null,null,null,null,null,null,null,0,0,"",null,null,null,null,null,null,null,null,null,0,0,"",null,null,null,null,null,null,null,null,null,0,0,"",null,null,null,null,null,null,null,null,null,0,0,"",null,null,null,null,null,null,null,null,{"$f":"IF(Entries!$K$20=5,MIN(GY59,GZ59,HA59,HB59,HC59),IF(Entries!$K$20=4,MIN(GY59,GZ59,HA59,HB59),IF(Entries!$K$20=3,MIN(GY59,GZ59,HA59),IF(Entries!$K$20=2,MIN(GY59,GZ59),IF(Entries!$K$20=1,0,0)))))","v":0},0,"",null,null,null,null,null,null,null,null,{"$f":"IF(Entries!$K$20=5,MIN(HJ59,HK59,HL59,HM59,HN59),IF(Entries!$K$20=4,MIN(HJ59,HK59,HL59,HM59),IF(Entries!$K$20=3,MIN(HJ59,HK59,HL59),IF(Entries!$K$20=2,MIN(HJ59,HK59),IF(Entries!$K$20=1,0,0)))))","v":0},0,"",null,null,null,null,null,null,null,null,{"$f":"IF(Entries!$K$20=5,MIN(HU59,HV59,HW59,HX59,HY59),IF(Entries!$K$20=4,MIN(HU59,HV59,HW59,HX59),IF(Entries!$K$20=3,MIN(HU59,HV59,HW59),IF(Entries!$K$20=2,MIN(HU59,HV59),IF(Entries!$K$20=1,0,0)))))","v":0},0,"",null,null,null,null,null,null,null,null,{"$f":"IF(Entries!$K$20=5,MIN(IF59,IG59,IH59,II59,IJ59),IF(Entries!$K$20=4,MIN(IF59,IG59,IH59,II59),IF(Entries!$K$20=3,MIN(IF59,IG59,IH59),IF(Entries!$K$20=2,MIN(IF59,IG59),IF(Entries!$K$20=1,0,0)))))","v":0},0,"",null,null,null,null,null,null,null,null,{"$f":"IF(Entries!$K$20=5,MIN(IQ59,IR59,IS59,IT59,IU59),IF(Entries!$K$20=4,MIN(IQ59,IR59,IS59,IT59),IF(Entries!$K$20=3,MIN(IQ59,IR59,IS59),IF(Entries!$K$20=2,MIN(IQ59,IR59),IF(Entries!$K$20=1,0,0)))))","v":0},0,""]
[null,null,null,null,null,null,null,null,null,0,0,"",null,null,null,null,null,null,null,null,null,0,0,"",null,null,null,null,null,null,null,null,null,0,0,"",null,null,null,null,null,null,null,null,null,0,0,"",null,null,null,null,null,null,null,null,null,0,0,"",null,"Siobhan O'Connor",0,0,0,0,256,0,256,0,256,11,null,null,null,null,null,null,null,null,null,0,0,"",null,null,null,null,null,null,null,null,null,0,0,"",null,null,null,null,null,null,null,null,null,0,0,"",null,null,null,null,null,null,null,null,null,0,0,"",null,"Abigail Miller",0,0,0,258,0,0,258,0,258,11,null,null,null,null,null,null,null,null,null,0,0,"",null,null,null,null,null,null,null,null,null,0,0,"",null,null,null,null,null,null,null,null,null,0,0,"",null,null,null,null,null,null,null,null,null,0,0,"",null,null,null,null,null,null,null,null,null,0,0,"",null,null,null,null,null,null,null,null,null,0,0,"",null,null,null,null,null,null,null,null,{"$f":"IF(Entries!$K$20=5,MIN(GY60,GZ60,HA60,HB60,HC60),IF(Entries!$K$20=4,MIN(GY60,GZ60,HA60,HB60),IF(Entries!$K$20=3,MIN(GY60,GZ60,HA60),IF(Entries!$K$20=2,MIN(GY60,GZ60),IF(Entries!$K$20=1,0,0)))))","v":0},0,"",null,null,null,null,null,null,null,null,{"$f":"IF(Entries!$K$20=5,MIN(HJ60,HK60,HL60,HM60,HN60),IF(Entries!$K$20=4,MIN(HJ60,HK60,HL60,HM60),IF(Entries!$K$20=3,MIN(HJ60,HK60,HL60),IF(Entries!$K$20=2,MIN(HJ60,HK60),IF(Entries!$K$20=1,0,0)))))","v":0},0,"",null,null,null,null,null,null,null,null,{"$f":"IF(Entries!$K$20=5,MIN(HU60,HV60,HW60,HX60,HY60),IF(Entries!$K$20=4,MIN(HU60,HV60,HW60,HX60),IF(Entries!$K$20=3,MIN(HU60,HV60,HW60),IF(Entries!$K$20=2,MIN(HU60,HV60),IF(Entries!$K$20=1,0,0)))))","v":0},0,"",null,null,null,null,null,null,null,null,{"$f":"IF(Entries!$K$20=5,MIN(IF60,IG60,IH60,II60,IJ60),IF(Entries!$K$20=4,MIN(IF60,IG60,IH60,II60),IF(Entries!$K$20=3,MIN(IF60,IG60,IH60),IF(Entries!$K$20=2,MIN(IF60,IG60),IF(Entries!$K$20=1,0,0)))))","v":0},0,"",null,null,null,null,null,null,null,null,{"$f":"IF(Entries!$K$20=5,MIN(IQ60,IR60,IS60,IT60,IU60),IF(Entries!$K$20=4,MIN(IQ60,IR60,IS60,IT60),IF(Entries!$K$20=3,MIN(IQ60,IR60,IS60),IF(Entries!$K$20=2,MIN(IQ60,IR60),IF(Entries!$K$20=1,0,0)))))","v":0},0,""]
[null,null,null,null,null,null,null,null,null,0,0,"",null,null,null,null,null,null,null,null,null,0,0,"",null,null,null,null,null,null,null,null,null,0,0,"",null,null,null,null,null,null,null,null,null,0,0,"",null,null,null,null,null,null,null,null,null,0,0,"",null,"Simon Lavin",0,0,0,232,0,0,232,0,232,12,null,null,null,null,null,null,null,null,null,0,0,"",null,null,null,null,null,null,null,null,null,0,0,"",null,null,null,null,null,null,null,null,null,0,0,"",null,null,null,null,null,null,null,null,null,0,0,"",null,"Jonathan Cassidy",0,0,0,0,229,0,229,0,229,12,null,null,null,null,null,null,null,null,null,0,0,"",null,null,null,null,null,null,null,null,null,0,0,"",null,null,null,null,null,null,null,null,null,0,0,"",null,null,null,null,null,null,null,null,null,0,0,"",null,null,null,null,null,null,null,null,null,0,0,"",null,null,null,null,null,null,null,null,null,0,0,"",null,null,null,null,null,null,null,null,{"$f":"IF(Entries!$K$20=5,MIN(GY61,GZ61,HA61,HB61,HC61),IF(Entries!$K$20=4,MIN(GY61,GZ61,HA61,HB61),IF(Entries!$K$20=3,MIN(GY61,GZ61,HA61),IF(Entries!$K$20=2,MIN(GY61,GZ61),IF(Entries!$K$20=1,0,0)))))","v":0},0,"",null,null,null,null,null,null,null,null,{"$f":"IF(Entries!$K$20=5,MIN(HJ61,HK61,HL61,HM61,HN61),IF(Entries!$K$20=4,MIN(HJ61,HK61,HL61,HM61),IF(Entries!$K$20=3,MIN(HJ61,HK61,HL61),IF(Entries!$K$20=2,MIN(HJ61,HK61),IF(Entries!$K$20=1,0,0)))))","v":0},0,"",null,null,null,null,null,null,null,null,{"$f":"IF(Entries!$K$20=5,MIN(HU61,HV61,HW61,HX61,HY61),IF(Entries!$K$20=4,MIN(HU61,HV61,HW61,HX61),IF(Entries!$K$20=3,MIN(HU61,HV61,HW61),IF(Entries!$K$20=2,MIN(HU61,HV61),IF(Entries!$K$20=1,0,0)))))","v":0},0,"",null,null,null,null,null,null,null,null,{"$f":"IF(Entries!$K$20=5,MIN(IF61,IG61,IH61,II61,IJ61),IF(Entries!$K$20=4,MIN(IF61,IG61,IH61,II61),IF(Entries!$K$20=3,MIN(IF61,IG61,IH61),IF(Entries!$K$20=2,MIN(IF61,IG61),IF(Entries!$K$20=1,0,0)))))","v":0},0,"",null,null,null,null,null,null,null,null,{"$f":"IF(Entries!$K$20=5,MIN(IQ61,IR61,IS61,IT61,IU61),IF(Entries!$K$20=4,MIN(IQ61,IR61,IS61,IT61),IF(Entries!$K$20=3,MIN(IQ61,IR61,IS61),IF(Entries!$K$20=2,MIN(IQ61,IR61),IF(Entries!$K$20=1,0,0)))))","v":0},0,""]
[null,null,null,null,null,null,null,null,null,0,0,"",null,null,null,null,null,null,null,null,null,0,0,"",null,null,null,null,null,null,null,null,null,0,0,"",null,null,null,null,null,null,null,null,null,0,0,"",null,null,null,null,null,null,null,null,null,0,0,"",null,"Keelan Bancroft ",0,0,0,0,0,147,147,0,147,13,null,null,null,null,null,null,null,null,null,0,0,"",null,null,null,null,null,null,null,null,null,0,0,"",null,null,null,null,null,null,null,null,null,0,0,"",null,null,null,null,null,null,null,null,null,0,0,"",null,"Cody Meadows",0,0,0,0,105,0,105,0,105,13,null,null,null,null,null,null,null,null,null,0,0,"",null,null,null,null,null,null,null,null,null,0,0,"",null,null,null,null,null,null,null,null,null,0,0,"",null,null,null,null,null,null,null,null,null,0,0,"",null,null,null,null,null,null,null,null,null,0,0,"",null,null,null,null,null,null,null,null,null,0,0,"",null,null,null,null,null,null,null,null,{"$f":"IF(Entries!$K$20=5,MIN(GY62,GZ62,HA62,HB62,HC62),IF(Entries!$K$20=4,MIN(GY62,GZ62,HA62,HB62),IF(Entries!$K$20=3,MIN(GY62,GZ62,HA62),IF(Entries!$K$20=2,MIN(GY62,GZ62),IF(Entries!$K$20=1,0,0)))))","v":0},0,"",null,null,null,null,null,null,null,null,{"$f":"IF(Entries!$K$20=5,MIN(HJ62,HK62,HL62,HM62,HN62),IF(Entries!$K$20=4,MIN(HJ62,HK62,HL62,HM62),IF(Entries!$K$20=3,MIN(HJ62,HK62,HL62),IF(Entries!$K$20=2,MIN(HJ62,HK62),IF(Entries!$K$20=1,0,0)))))","v":0},0,"",null,null,null,null,null,null,null,null,{"$f":"IF(Entries!$K$20=5,MIN(HU62,HV62,HW62,HX62,HY62),IF(Entries!$K$20=4,MIN(HU62,HV62,HW62,HX62),IF(Entries!$K$20=3,MIN(HU62,HV62,HW62),IF(Entries!$K$20=2,MIN(HU62,HV62),IF(Entries!$K$20=1,0,0)))))","v":0},0,"",null,null,null,null,null,null,null,null,{"$f":"IF(Entries!$K$20=5,MIN(IF62,IG62,IH62,II62,IJ62),IF(Entries!$K$20=4,MIN(IF62,IG62,IH62,II62),IF(Entries!$K$20=3,MIN(IF62,IG62,IH62),IF(Entries!$K$20=2,MIN(IF62,IG62),IF(Entries!$K$20=1,0,0)))))","v":0},0,"",null,null,null,null,null,null,null,null,{"$f":"IF(Entries!$K$20=5,MIN(IQ62,IR62,IS62,IT62,IU62),IF(Entries!$K$20=4,MIN(IQ62,IR62,IS62,IT62),IF(Entries!$K$20=3,MIN(IQ62,IR62,IS62),IF(Entries!$K$20=2,MIN(IQ62,IR62),IF(Entries!$K$20=1,0,0)))))","v":0},0,""]
[null,null,null,null,null,null,null,null,null,0,0,"",null,null,null,null,null,null,null,null,null,0,0,"",null,null,null,null,null,null,null,null,null,0,0,"",null,null,null,null,null,null,null,null,null,0,0,"",null,null,null,null,null,null,null,null,null,0,0,"",null,"Derek Dooley",0,0,0,136,0,0,136,0,136,14,null,null,null,null,null,null,null,null,null,0,0,"",null,null,null,null,null,null,null,null,null,0,0,"",null,null,null,null,null,null,null,null,null,0,0,"",null,null,null,null,null,null,null,null,null,0,0,"",null,null,null,null,null,null,null,null,null,0,0,"",null,null,null,null,null,null,null,null,null,0,0,"",null,null,null,null,null,null,null,null,null,0,0,"",null,null,null,null,null,null,null,null,null,0,0,"",null,null,null,null,null,null,null,null,null,0,0,"",null,null,null,null,null,null,null,null,null,0,0,"",null,null,null,null,null,null,null,null,null,0,0,"",null,null,null,null,null,null,null,null,{"$f":"IF(Entries!$K$20=5,MIN(GY63,GZ63,HA63,HB63,HC63),IF(Entries!$K$20=4,MIN(GY63,GZ63,HA63,HB63),IF(Entries!$K$20=3,MIN(GY63,GZ63,HA63),IF(Entries!$K$20=2,MIN(GY63,GZ63),IF(Entries!$K$20=1,0,0)))))","v":0},0,"",null,null,null,null,null,null,null,null,{"$f":"IF(Entries!$K$20=5,MIN(HJ63,HK63,HL63,HM63,HN63),IF(Entries!$K$20=4,MIN(HJ63,HK63,HL63,HM63),IF(Entries!$K$20=3,MIN(HJ63,HK63,HL63),IF(Entries!$K$20=2,MIN(HJ63,HK63),IF(Entries!$K$20=1,0,0)))))","v":0},0,"",null,null,null,null,null,null,null,null,{"$f":"IF(Entries!$K$20=5,MIN(HU63,HV63,HW63,HX63,HY63),IF(Entries!$K$20=4,MIN(HU63,HV63,HW63,HX63),IF(Entries!$K$20=3,MIN(HU63,HV63,HW63),IF(Entries!$K$20=2,MIN(HU63,HV63),IF(Entries!$K$20=1,0,0)))))","v":0},0,"",null,null,null,null,null,null,null,null,{"$f":"IF(Entries!$K$20=5,MIN(IF63,IG63,IH63,II63,IJ63),IF(Entries!$K$20=4,MIN(IF63,IG63,IH63,II63),IF(Entries!$K$20=3,MIN(IF63,IG63,IH63),IF(Entries!$K$20=2,MIN(IF63,IG63),IF(Entries!$K$20=1,0,0)))))","v":0},0,"",null,null,null,null,null,null,null,null,{"$f":"IF(Entries!$K$20=5,MIN(IQ63,IR63,IS63,IT63,IU63),IF(Entries!$K$20=4,MIN(IQ63,IR63,IS63,IT63),IF(Entries!$K$20=3,MIN(IQ63,IR63,IS63),IF(Entries!$K$20=2,MIN(IQ63,IR63),IF(Entries!$K$20=1,0,0)))))","v":0},0,""]
[null,null,null,null,null,null,null,null,null,0,0,"",null,null,null,null,null,null,null,null,null,0,0,"",null,null,null,null,null,null,null,null,null,0,0,"",null,null,null,null,null,null,null,null,null,0,0,"",null,null,null,null,null,null,null,null,null,0,0,"",null,"Craig Hill",0,0,0,0,123,0,123,0,123,15,null,null,null,null,null,null,null,null,null,0,0,"",null,null,null,null,null,null,null,null,null,0,0,"",null,null,null,null,null,null,null,null,null,0,0,"",null,null,null,null,null,null,null,null,null,0,0,"",null,null,null,null,null,null,null,null,null,0,0,"",null,null,null,null,null,null,null,null,null,0,0,"",null,null,null,null,null,null,null,null,null,0,0,"",null,null,null,null,null,null,null,null,null,0,0,"",null,null,null,null,null,null,null,null,null,0,0,"",null,null,null,null,null,null,null,null,null,0,0,"",null,null,null,null,null,null,null,null,null,0,0,"",null,null,null,null,null,null,null,null,{"$f":"IF(Entries!$K$20=5,MIN(GY64,GZ64,HA64,HB64,HC64),IF(Entries!$K$20=4,MIN(GY64,GZ64,HA64,HB64),IF(Entries!$K$20=3,MIN(GY64,GZ64,HA64),IF(Entries!$K$20=2,MIN(GY64,GZ64),IF(Entries!$K$20=1,0,0)))))","v":0},0,"",null,null,null,null,null,null,null,null,{"$f":"IF(Entries!$K$20=5,MIN(HJ64,HK64,HL64,HM64,HN64),IF(Entries!$K$20=4,MIN(HJ64,HK64,HL64,HM64),IF(Entries!$K$20=3,MIN(HJ64,HK64,HL64),IF(Entries!$K$20=2,MIN(HJ64,HK64),IF(Entries!$K$20=1,0,0)))))","v":0},0,"",null,null,null,null,null,null,null,null,{"$f":"IF(Entries!$K$20=5,MIN(HU64,HV64,HW64,HX64,HY64),IF(Entries!$K$20=4,MIN(HU64,HV64,HW64,HX64),IF(Entries!$K$20=3,MIN(HU64,HV64,HW64),IF(Entries!$K$20=2,MIN(HU64,HV64),IF(Entries!$K$20=1,0,0)))))","v":0},0,"",null,null,null,null,null,null,null,null,{"$f":"IF(Entries!$K$20=5,MIN(IF64,IG64,IH64,II64,IJ64),IF(Entries!$K$20=4,MIN(IF64,IG64,IH64,II64),IF(Entries!$K$20=3,MIN(IF64,IG64,IH64),IF(Entries!$K$20=2,MIN(IF64,IG64),IF(Entries!$K$20=1,0,0)))))","v":0},0,"",null,null,null,null,null,null,null,null,{"$f":"IF(Entries!$K$20=5,MIN(IQ64,IR64,IS64,IT64,IU64),IF(Entries!$K$20=4,MIN(IQ64,IR64,IS64,IT64),IF(Entries!$K$20=3,MIN(IQ64,IR64,IS64),IF(Entries!$K$20=2,MIN(IQ64,IR64),IF(Entries!$K$20=1,0,0)))))","v":0},0,""]
[null,null,null,null,null,null,null,null,null,0,0,"",null,null,null,null,null,null,null,null,null,0,0,"",null,null,null,null,null,null,null,null,null,0,0,"",null,null,null,null,null,null,null,null,null,0,0,"",null,null,null,null,null,null,null,null,null,0,0,"",null,null,null,null,null,null,null,null,null,0,0,"",null,null,null,null,null,null,null,null,null,0,0,"",null,null,null,null,null,null,null,null,null,0,0,"",null,null,null,null,null,null,null,null,null,0,0,"",null,null,null,null,null,null,null,null,null,0,0,"",null,null,null,null,null,null,null,null,null,0,0,"",null,null,null,null,null,null,null,null,null,0,0,"",null,null,null,null,null,null,null,null,null,0,0,"",null,null,null,null,null,null,null,null,null,0,0,"",null,null,null,null,null,null,null,null,null,0,0,"",null,null,null,null,null,null,null,null,null,0,0,"",null,null,null,null,null,null,null,null,null,0,0,"",null,null,null,null,null,null,null,null,{"$f":"IF(Entries!$K$20=5,MIN(GY65,GZ65,HA65,HB65,HC65),IF(Entries!$K$20=4,MIN(GY65,GZ65,HA65,HB65),IF(Entries!$K$20=3,MIN(GY65,GZ65,HA65),IF(Entries!$K$20=2,MIN(GY65,GZ65),IF(Entries!$K$20=1,0,0)))))","v":0},0,"",null,null,null,null,null,null,null,null,{"$f":"IF(Entries!$K$20=5,MIN(HJ65,HK65,HL65,HM65,HN65),IF(Entries!$K$20=4,MIN(HJ65,HK65,HL65,HM65),IF(Entries!$K$20=3,MIN(HJ65,HK65,HL65),IF(Entries!$K$20=2,MIN(HJ65,HK65),IF(Entries!$K$20=1,0,0)))))","v":0},0,"",null,null,null,null,null,null,null,null,{"$f":"IF(Entries!$K$20=5,MIN(HU65,HV65,HW65,HX65,HY65),IF(Entries!$K$20=4,MIN(HU65,HV65,HW65,HX65),IF(Entries!$K$20=3,MIN(HU65,HV65,HW65),IF(Entries!$K$20=2,MIN(HU65,HV65),IF(Entries!$K$20=1,0,0)))))","v":0},0,"",null,null,null,null,null,null,null,null,{"$f":"IF(Entries!$K$20=5,MIN(IF65,IG65,IH65,II65,IJ65),IF(Entries!$K$20=4,MIN(IF65,IG65,IH65,II65),IF(Entries!$K$20=3,MIN(IF65,IG65,IH65),IF(Entries!$K$20=2,MIN(IF65,IG65),IF(Entries!$K$20=1,0,0)))))","v":0},0,"",null,null,null,null,null,null,null,null,{"$f":"IF(Entries!$K$20=5,MIN(IQ65,IR65,IS65,IT65,IU65),IF(Entries!$K$20=4,MIN(IQ65,IR65,IS65,IT65),IF(Entries!$K$20=3,MIN(IQ65,IR65,IS65),IF(Entries!$K$20=2,MIN(IQ65,IR65),IF(Entries!$K$20=1,0,0)))))","v":0},0,""]
[null,null,null,null,null,null,null,null,null,0,0,"",null,null,null,null,null,null,null,null,null,0,0,"",null,null,null,null,null,null,null,null,null,0,0,"",null,null,null,null,null,null,null,null,null,0,0,"",null,null,null,null,null,null,null,null,null,0,0,"",null,null,null,null,null,null,null,null,null,0,0,"",null,null,null,null,null,null,null,null,null,0,0,"",null,null,null,null,null,null,null,null,null,0,0,"",null,null,null,null,null,null,null,null,null,0,0,"",null,null,null,null,null,null,null,null,null,0,0,"",null,null,null,null,null,null,null,null,null,0,0,"",null,null,null,null,null,null,null,null,null,0,0,"",null,null,null,null,null,null,null,null,null,0,0,"",null,null,null,null,null,null,null,null,null,0,0,"",null,null,null,null,null,null,null,null,null,0,0,"",null,null,null,null,null,null,null,null,null,0,0,"",null,null,null,null,null,null,null,null,null,0,0,"",null,null,null,null,null,null,null,null,{"$f":"IF(Entries!$K$20=5,MIN(GY66,GZ66,HA66,HB66,HC66),IF(Entries!$K$20=4,MIN(GY66,GZ66,HA66,HB66),IF(Entries!$K$20=3,MIN(GY66,GZ66,HA66),IF(Entries!$K$20=2,MIN(GY66,GZ66),IF(Entries!$K$20=1,0,0)))))","v":0},0,"",null,null,null,null,null,null,null,null,{"$f":"IF(Entries!$K$20=5,MIN(HJ66,HK66,HL66,HM66,HN66),IF(Entries!$K$20=4,MIN(HJ66,HK66,HL66,HM66),IF(Entries!$K$20=3,MIN(HJ66,HK66,HL66),IF(Entries!$K$20=2,MIN(HJ66,HK66),IF(Entries!$K$20=1,0,0)))))","v":0},0,"",null,null,null,null,null,null,null,null,{"$f":"IF(Entries!$K$20=5,MIN(HU66,HV66,HW66,HX66,HY66),IF(Entries!$K$20=4,MIN(HU66,HV66,HW66,HX66),IF(Entries!$K$20=3,MIN(HU66,HV66,HW66),IF(Entries!$K$20=2,MIN(HU66,HV66),IF(Entries!$K$20=1,0,0)))))","v":0},0,"",null,null,null,null,null,null,null,null,{"$f":"IF(Entries!$K$20=5,MIN(IF66,IG66,IH66,II66,IJ66),IF(Entries!$K$20=4,MIN(IF66,IG66,IH66,II66),IF(Entries!$K$20=3,MIN(IF66,IG66,IH66),IF(Entries!$K$20=2,MIN(IF66,IG66),IF(Entries!$K$20=1,0,0)))))","v":0},0,"",null,null,null,null,null,null,null,null,{"$f":"IF(Entries!$K$20=5,MIN(IQ66,IR66,IS66,IT66,IU66),IF(Entries!$K$20=4,MIN(IQ66,IR66,IS66,IT66),IF(Entries!$K$20=3,MIN(IQ66,IR66,IS66),IF(Entries!$K$20=2,MIN(IQ66,IR66),IF(Entries!$K$20=1,0,0)))))","v":0},0,""]
[null,null,null,null,null,null,null,null,null,0,0,"",null,null,null,null,null,null,null,null,null,0,0,"",null,null,null,null,null,null,null,null,null,0,0,"",null,null,null,null,null,null,null,null,null,0,0,"",null,null,null,null,null,null,null,null,null,0,0,"",null,null,null,null,null,null,null,null,null,0,0,"",null,null,null,null,null,null,null,null,null,0,0,"",null,null,null,null,null,null,null,null,null,0,0,"",null,null,null,null,null,null,null,null,null,0,0,"",null,null,null,null,null,null,null,null,null,0,0,"",null,null,null,null,null,null,null,null,null,0,0,"",null,null,null,null,null,null,null,null,null,0,0,"",null,null,null,null,null,null,null,null,null,0,0,"",null,null,null,null,null,null,null,null,null,0,0,"",null,null,null,null,null,null,null,null,null,0,0,"",null,null,null,null,null,null,null,null,null,0,0,"",null,null,null,null,null,null,null,null,null,0,0,"",null,null,null,null,null,null,null,null,{"$f":"IF(Entries!$K$20=5,MIN(GY67,GZ67,HA67,HB67,HC67),IF(Entries!$K$20=4,MIN(GY67,GZ67,HA67,HB67),IF(Entries!$K$20=3,MIN(GY67,GZ67,HA67),IF(Entries!$K$20=2,MIN(GY67,GZ67),IF(Entries!$K$20=1,0,0)))))","v":0},0,"",null,null,null,null,null,null,null,null,{"$f":"IF(Entries!$K$20=5,MIN(HJ67,HK67,HL67,HM67,HN67),IF(Entries!$K$20=4,MIN(HJ67,HK67,HL67,HM67),IF(Entries!$K$20=3,MIN(HJ67,HK67,HL67),IF(Entries!$K$20=2,MIN(HJ67,HK67),IF(Entries!$K$20=1,0,0)))))","v":0},0,"",null,null,null,null,null,null,null,null,{"$f":"IF(Entries!$K$20=5,MIN(HU67,HV67,HW67,HX67,HY67),IF(Entries!$K$20=4,MIN(HU67,HV67,HW67,HX67),IF(Entries!$K$20=3,MIN(HU67,HV67,HW67),IF(Entries!$K$20=2,MIN(HU67,HV67),IF(Entries!$K$20=1,0,0)))))","v":0},0,"",null,null,null,null,null,null,null,null,{"$f":"IF(Entries!$K$20=5,MIN(IF67,IG67,IH67,II67,IJ67),IF(Entries!$K$20=4,MIN(IF67,IG67,IH67,II67),IF(Entries!$K$20=3,MIN(IF67,IG67,IH67),IF(Entries!$K$20=2,MIN(IF67,IG67),IF(Entries!$K$20=1,0,0)))))","v":0},0,"",null,null,null,null,null,null,null,null,{"$f":"IF(Entries!$K$20=5,MIN(IQ67,IR67,IS67,IT67,IU67),IF(Entries!$K$20=4,MIN(IQ67,IR67,IS67,IT67),IF(Entries!$K$20=3,MIN(IQ67,IR67,IS67),IF(Entries!$K$20=2,MIN(IQ67,IR67),IF(Entries!$K$20=1,0,0)))))","v":0},0,""]
[null,null,null,null,null,null,null,null,null,0,0,"",null,null,null,null,null,null,null,null,null,0,0,"",null,null,null,null,null,null,null,null,null,0,0,"",null,null,null,null,null,null,null,null,null,0,0,"",null,null,null,null,null,null,null,null,null,0,0,"",null,null,null,null,null,null,null,null,null,0,0,"",null,null,null,null,null,null,null,null,null,0,0,"",null,null,null,null,null,null,null,null,null,0,0,"",null,null,null,null,null,null,null,null,null,0,0,"",null,null,null,null,null,null,null,null,null,0,0,"",null,null,null,null,null,null,null,null,null,0,0,"",null,null,null,null,null,null,null,null,null,0,0,"",null,null,null,null,null,null,null,null,null,0,0,"",null,null,null,null,null,null,null,null,null,0,0,"",null,null,null,null,null,null,null,null,null,0,0,"",null,null,null,null,null,null,null,null,null,0,0,"",null,null,null,null,null,null,null,null,null,0,0,"",null,null,null,null,null,null,null,null,{"$f":"IF(Entries!$K$20=5,MIN(GY68,GZ68,HA68,HB68,HC68),IF(Entries!$K$20=4,MIN(GY68,GZ68,HA68,HB68),IF(Entries!$K$20=3,MIN(GY68,GZ68,HA68),IF(Entries!$K$20=2,MIN(GY68,GZ68),IF(Entries!$K$20=1,0,0)))))","v":0},0,"",null,null,null,null,null,null,null,null,{"$f":"IF(Entries!$K$20=5,MIN(HJ68,HK68,HL68,HM68,HN68),IF(Entries!$K$20=4,MIN(HJ68,HK68,HL68,HM68),IF(Entries!$K$20=3,MIN(HJ68,HK68,HL68),IF(Entries!$K$20=2,MIN(HJ68,HK68),IF(Entries!$K$20=1,0,0)))))","v":0},0,"",null,null,null,null,null,null,null,null,{"$f":"IF(Entries!$K$20=5,MIN(HU68,HV68,HW68,HX68,HY68),IF(Entries!$K$20=4,MIN(HU68,HV68,HW68,HX68),IF(Entries!$K$20=3,MIN(HU68,HV68,HW68),IF(Entries!$K$20=2,MIN(HU68,HV68),IF(Entries!$K$20=1,0,0)))))","v":0},0,"",null,null,null,null,null,null,null,null,{"$f":"IF(Entries!$K$20=5,MIN(IF68,IG68,IH68,II68,IJ68),IF(Entries!$K$20=4,MIN(IF68,IG68,IH68,II68),IF(Entries!$K$20=3,MIN(IF68,IG68,IH68),IF(Entries!$K$20=2,MIN(IF68,IG68),IF(Entries!$K$20=1,0,0)))))","v":0},0,"",null,null,null,null,null,null,null,null,{"$f":"IF(Entries!$K$20=5,MIN(IQ68,IR68,IS68,IT68,IU68),IF(Entries!$K$20=4,MIN(IQ68,IR68,IS68,IT68),IF(Entries!$K$20=3,MIN(IQ68,IR68,IS68),IF(Entries!$K$20=2,MIN(IQ68,IR68),IF(Entries!$K$20=1,0,0)))))","v":0},0,""]
[null,null,null,null,null,null,null,null,null,0,0,"",null,null,null,null,null,null,null,null,null,0,0,"",null,null,null,null,null,null,null,null,null,0,0,"",null,null,null,null,null,null,null,null,null,0,0,"",null,null,null,null,null,null,null,null,null,0,0,"",null,null,null,null,null,null,null,null,null,0,0,"",null,null,null,null,null,null,null,null,null,0,0,"",null,null,null,null,null,null,null,null,null,0,0,"",null,null,null,null,null,null,null,null,null,0,0,"",null,null,null,null,null,null,null,null,null,0,0,"",null,null,null,null,null,null,null,null,null,0,0,"",null,null,null,null,null,null,null,null,null,0,0,"",null,null,null,null,null,null,null,null,null,0,0,"",null,null,null,null,null,null,null,null,null,0,0,"",null,null,null,null,null,null,null,null,null,0,0,"",null,null,null,null,null,null,null,null,null,0,0,"",null,null,null,null,null,null,null,null,null,0,0,"",null,null,null,null,null,null,null,null,{"$f":"IF(Entries!$K$20=5,MIN(GY69,GZ69,HA69,HB69,HC69),IF(Entries!$K$20=4,MIN(GY69,GZ69,HA69,HB69),IF(Entries!$K$20=3,MIN(GY69,GZ69,HA69),IF(Entries!$K$20=2,MIN(GY69,GZ69),IF(Entries!$K$20=1,0,0)))))","v":0},0,"",null,null,null,null,null,null,null,null,{"$f":"IF(Entries!$K$20=5,MIN(HJ69,HK69,HL69,HM69,HN69),IF(Entries!$K$20=4,MIN(HJ69,HK69,HL69,HM69),IF(Entries!$K$20=3,MIN(HJ69,HK69,HL69),IF(Entries!$K$20=2,MIN(HJ69,HK69),IF(Entries!$K$20=1,0,0)))))","v":0},0,"",null,null,null,null,null,null,null,null,{"$f":"IF(Entries!$K$20=5,MIN(HU69,HV69,HW69,HX69,HY69),IF(Entries!$K$20=4,MIN(HU69,HV69,HW69,HX69),IF(Entries!$K$20=3,MIN(HU69,HV69,HW69),IF(Entries!$K$20=2,MIN(HU69,HV69),IF(Entries!$K$20=1,0,0)))))","v":0},0,"",null,null,null,null,null,null,null,null,{"$f":"IF(Entries!$K$20=5,MIN(IF69,IG69,IH69,II69,IJ69),IF(Entries!$K$20=4,MIN(IF69,IG69,IH69,II69),IF(Entries!$K$20=3,MIN(IF69,IG69,IH69),IF(Entries!$K$20=2,MIN(IF69,IG69),IF(Entries!$K$20=1,0,0)))))","v":0},0,"",null,null,null,null,null,null,null,null,{"$f":"IF(Entries!$K$20=5,MIN(IQ69,IR69,IS69,IT69,IU69),IF(Entries!$K$20=4,MIN(IQ69,IR69,IS69,IT69),IF(Entries!$K$20=3,MIN(IQ69,IR69,IS69),IF(Entries!$K$20=2,MIN(IQ69,IR69),IF(Entries!$K$20=1,0,0)))))","v":0},0,""]
[null,null,null,null,null,null,null,null,null,0,0,"",null,null,null,null,null,null,null,null,null,0,0,"",null,null,null,null,null,null,null,null,null,0,0,"",null,null,null,null,null,null,null,null,null,0,0,"",null,null,null,null,null,null,null,null,null,0,0,"",null,null,null,null,null,null,null,null,null,0,0,"",null,null,null,null,null,null,null,null,null,0,0,"",null,null,null,null,null,null,null,null,null,0,0,"",null,null,null,null,null,null,null,null,null,0,0,"",null,null,null,null,null,null,null,null,null,0,0,"",null,null,null,null,null,null,null,null,null,0,0,"",null,null,null,null,null,null,null,null,null,0,0,"",null,null,null,null,null,null,null,null,null,0,0,"",null,null,null,null,null,null,null,null,null,0,0,"",null,null,null,null,null,null,null,null,null,0,0,"",null,null,null,null,null,null,null,null,null,0,0,"",null,null,null,null,null,null,null,null,null,0,0,"",null,null,null,null,null,null,null,null,{"$f":"IF(Entries!$K$20=5,MIN(GY70,GZ70,HA70,HB70,HC70),IF(Entries!$K$20=4,MIN(GY70,GZ70,HA70,HB70),IF(Entries!$K$20=3,MIN(GY70,GZ70,HA70),IF(Entries!$K$20=2,MIN(GY70,GZ70),IF(Entries!$K$20=1,0,0)))))","v":0},0,"",null,null,null,null,null,null,null,null,{"$f":"IF(Entries!$K$20=5,MIN(HJ70,HK70,HL70,HM70,HN70),IF(Entries!$K$20=4,MIN(HJ70,HK70,HL70,HM70),IF(Entries!$K$20=3,MIN(HJ70,HK70,HL70),IF(Entries!$K$20=2,MIN(HJ70,HK70),IF(Entries!$K$20=1,0,0)))))","v":0},0,"",null,null,null,null,null,null,null,null,{"$f":"IF(Entries!$K$20=5,MIN(HU70,HV70,HW70,HX70,HY70),IF(Entries!$K$20=4,MIN(HU70,HV70,HW70,HX70),IF(Entries!$K$20=3,MIN(HU70,HV70,HW70),IF(Entries!$K$20=2,MIN(HU70,HV70),IF(Entries!$K$20=1,0,0)))))","v":0},0,"",null,null,null,null,null,null,null,null,{"$f":"IF(Entries!$K$20=5,MIN(IF70,IG70,IH70,II70,IJ70),IF(Entries!$K$20=4,MIN(IF70,IG70,IH70,II70),IF(Entries!$K$20=3,MIN(IF70,IG70,IH70),IF(Entries!$K$20=2,MIN(IF70,IG70),IF(Entries!$K$20=1,0,0)))))","v":0},0,"",null,null,null,null,null,null,null,null,{"$f":"IF(Entries!$K$20=5,MIN(IQ70,IR70,IS70,IT70,IU70),IF(Entries!$K$20=4,MIN(IQ70,IR70,IS70,IT70),IF(Entries!$K$20=3,MIN(IQ70,IR70,IS70),IF(Entries!$K$20=2,MIN(IQ70,IR70),IF(Entries!$K$20=1,0,0)))))","v":0},0,""]
[null,null,null,null,null,null,null,null,null,0,0,"",null,null,null,null,null,null,null,null,null,0,0,"",null,null,null,null,null,null,null,null,null,0,0,"",null,null,null,null,null,null,null,null,null,0,0,"",null,null,null,null,null,null,null,null,null,0,0,"",null,null,null,null,null,null,null,null,null,0,0,"",null,null,null,null,null,null,null,null,null,0,0,"",null,null,null,null,null,null,null,null,null,0,0,"",null,null,null,null,null,null,null,null,null,0,0,"",null,null,null,null,null,null,null,null,null,0,0,"",null,null,null,null,null,null,null,null,null,0,0,"",null,null,null,null,null,null,null,null,null,0,0,"",null,null,null,null,null,null,null,null,null,0,0,"",null,null,null,null,null,null,null,null,null,0,0,"",null,null,null,null,null,null,null,null,null,0,0,"",null,null,null,null,null,null,null,null,null,0,0,"",null,null,null,null,null,null,null,null,null,0,0,"",null,null,null,null,null,null,null,null,{"$f":"IF(Entries!$K$20=5,MIN(GY71,GZ71,HA71,HB71,HC71),IF(Entries!$K$20=4,MIN(GY71,GZ71,HA71,HB71),IF(Entries!$K$20=3,MIN(GY71,GZ71,HA71),IF(Entries!$K$20=2,MIN(GY71,GZ71),IF(Entries!$K$20=1,0,0)))))","v":0},0,"",null,null,null,null,null,null,null,null,{"$f":"IF(Entries!$K$20=5,MIN(HJ71,HK71,HL71,HM71,HN71),IF(Entries!$K$20=4,MIN(HJ71,HK71,HL71,HM71),IF(Entries!$K$20=3,MIN(HJ71,HK71,HL71),IF(Entries!$K$20=2,MIN(HJ71,HK71),IF(Entries!$K$20=1,0,0)))))","v":0},0,"",null,null,null,null,null,null,null,null,{"$f":"IF(Entries!$K$20=5,MIN(HU71,HV71,HW71,HX71,HY71),IF(Entries!$K$20=4,MIN(HU71,HV71,HW71,HX71),IF(Entries!$K$20=3,MIN(HU71,HV71,HW71),IF(Entries!$K$20=2,MIN(HU71,HV71),IF(Entries!$K$20=1,0,0)))))","v":0},0,"",null,null,null,null,null,null,null,null,{"$f":"IF(Entries!$K$20=5,MIN(IF71,IG71,IH71,II71,IJ71),IF(Entries!$K$20=4,MIN(IF71,IG71,IH71,II71),IF(Entries!$K$20=3,MIN(IF71,IG71,IH71),IF(Entries!$K$20=2,MIN(IF71,IG71),IF(Entries!$K$20=1,0,0)))))","v":0},0,"",null,null,null,null,null,null,null,null,{"$f":"IF(Entries!$K$20=5,MIN(IQ71,IR71,IS71,IT71,IU71),IF(Entries!$K$20=4,MIN(IQ71,IR71,IS71,IT71),IF(Entries!$K$20=3,MIN(IQ71,IR71,IS71),IF(Entries!$K$20=2,MIN(IQ71,IR71),IF(Entries!$K$20=1,0,0)))))","v":0},0,""]
[null,null,null,null,null,null,null,null,null,0,0,"",null,null,null,null,null,null,null,null,null,0,0,"",null,null,null,null,null,null,null,null,null,0,0,"",null,null,null,null,null,null,null,null,null,0,0,"",null,null,null,null,null,null,null,null,null,0,0,"",null,null,null,null,null,null,null,null,null,0,0,"",null,null,null,null,null,null,null,null,null,0,0,"",null,null,null,null,null,null,null,null,null,0,0,"",null,null,null,null,null,null,null,null,null,0,0,"",null,null,null,null,null,null,null,null,null,0,0,"",null,null,null,null,null,null,null,null,null,0,0,"",null,null,null,null,null,null,null,null,null,0,0,"",null,null,null,null,null,null,null,null,null,0,0,"",null,null,null,null,null,null,null,null,null,0,0,"",null,null,null,null,null,null,null,null,null,0,0,"",null,null,null,null,null,null,null,null,null,0,0,"",null,null,null,null,null,null,null,null,null,0,0,"",null,null,null,null,null,null,null,null,{"$f":"IF(Entries!$K$20=5,MIN(GY72,GZ72,HA72,HB72,HC72),IF(Entries!$K$20=4,MIN(GY72,GZ72,HA72,HB72),IF(Entries!$K$20=3,MIN(GY72,GZ72,HA72),IF(Entries!$K$20=2,MIN(GY72,GZ72),IF(Entries!$K$20=1,0,0)))))","v":0},0,"",null,null,null,null,null,null,null,null,{"$f":"IF(Entries!$K$20=5,MIN(HJ72,HK72,HL72,HM72,HN72),IF(Entries!$K$20=4,MIN(HJ72,HK72,HL72,HM72),IF(Entries!$K$20=3,MIN(HJ72,HK72,HL72),IF(Entries!$K$20=2,MIN(HJ72,HK72),IF(Entries!$K$20=1,0,0)))))","v":0},0,"",null,null,null,null,null,null,null,null,{"$f":"IF(Entries!$K$20=5,MIN(HU72,HV72,HW72,HX72,HY72),IF(Entries!$K$20=4,MIN(HU72,HV72,HW72,HX72),IF(Entries!$K$20=3,MIN(HU72,HV72,HW72),IF(Entries!$K$20=2,MIN(HU72,HV72),IF(Entries!$K$20=1,0,0)))))","v":0},0,"",null,null,null,null,null,null,null,null,{"$f":"IF(Entries!$K$20=5,MIN(IF72,IG72,IH72,II72,IJ72),IF(Entries!$K$20=4,MIN(IF72,IG72,IH72,II72),IF(Entries!$K$20=3,MIN(IF72,IG72,IH72),IF(Entries!$K$20=2,MIN(IF72,IG72),IF(Entries!$K$20=1,0,0)))))","v":0},0,"",null,null,null,null,null,null,null,null,{"$f":"IF(Entries!$K$20=5,MIN(IQ72,IR72,IS72,IT72,IU72),IF(Entries!$K$20=4,MIN(IQ72,IR72,IS72,IT72),IF(Entries!$K$20=3,MIN(IQ72,IR72,IS72),IF(Entries!$K$20=2,MIN(IQ72,IR72),IF(Entries!$K$20=1,0,0)))))","v":0},0,""]
[null,null,null,null,null,null,null,null,null,0,0,"",null,null,null,null,null,null,null,null,null,0,0,"",null,null,null,null,null,null,null,null,null,0,0,"",null,null,null,null,null,null,null,null,null,0,0,"",null,null,null,null,null,null,null,null,null,0,0,"",null,null,null,null,null,null,null,null,null,0,0,"",null,null,null,null,null,null,null,null,null,0,0,"",null,null,null,null,null,null,null,null,null,0,0,"",null,null,null,null,null,null,null,null,null,0,0,"",null,null,null,null,null,null,null,null,null,0,0,"",null,null,null,null,null,null,null,null,null,0,0,"",null,null,null,null,null,null,null,null,null,0,0,"",null,null,null,null,null,null,null,null,null,0,0,"",null,null,null,null,null,null,null,null,null,0,0,"",null,null,null,null,null,null,null,null,null,0,0,"",null,null,null,null,null,null,null,null,null,0,0,"",null,null,null,null,null,null,null,null,null,0,0,"",null,null,null,null,null,null,null,null,{"$f":"IF(Entries!$K$20=5,MIN(GY73,GZ73,HA73,HB73,HC73),IF(Entries!$K$20=4,MIN(GY73,GZ73,HA73,HB73),IF(Entries!$K$20=3,MIN(GY73,GZ73,HA73),IF(Entries!$K$20=2,MIN(GY73,GZ73),IF(Entries!$K$20=1,0,0)))))","v":0},0,"",null,null,null,null,null,null,null,null,{"$f":"IF(Entries!$K$20=5,MIN(HJ73,HK73,HL73,HM73,HN73),IF(Entries!$K$20=4,MIN(HJ73,HK73,HL73,HM73),IF(Entries!$K$20=3,MIN(HJ73,HK73,HL73),IF(Entries!$K$20=2,MIN(HJ73,HK73),IF(Entries!$K$20=1,0,0)))))","v":0},0,"",null,null,null,null,null,null,null,null,{"$f":"IF(Entries!$K$20=5,MIN(HU73,HV73,HW73,HX73,HY73),IF(Entries!$K$20=4,MIN(HU73,HV73,HW73,HX73),IF(Entries!$K$20=3,MIN(HU73,HV73,HW73),IF(Entries!$K$20=2,MIN(HU73,HV73),IF(Entries!$K$20=1,0,0)))))","v":0},0,"",null,null,null,null,null,null,null,null,{"$f":"IF(Entries!$K$20=5,MIN(IF73,IG73,IH73,II73,IJ73),IF(Entries!$K$20=4,MIN(IF73,IG73,IH73,II73),IF(Entries!$K$20=3,MIN(IF73,IG73,IH73),IF(Entries!$K$20=2,MIN(IF73,IG73),IF(Entries!$K$20=1,0,0)))))","v":0},0,"",null,null,null,null,null,null,null,null,{"$f":"IF(Entries!$K$20=5,MIN(IQ73,IR73,IS73,IT73,IU73),IF(Entries!$K$20=4,MIN(IQ73,IR73,IS73,IT73),IF(Entries!$K$20=3,MIN(IQ73,IR73,IS73),IF(Entries!$K$20=2,MIN(IQ73,IR73),IF(Entries!$K$20=1,0,0)))))","v":0},0,""]
[null,null,null,null,null,null,null,null,null,0,0,"",null,null,null,null,null,null,null,null,null,0,0,"",null,null,null,null,null,null,null,null,null,0,0,"",null,null,null,null,null,null,null,null,null,0,0,"",null,null,null,null,null,null,null,null,null,0,0,"",null,null,null,null,null,null,null,null,null,0,0,"",null,null,null,null,null,null,null,null,null,0,0,"",null,null,null,null,null,null,null,null,null,0,0,"",null,null,null,null,null,null,null,null,null,0,0,"",null,null,null,null,null,null,null,null,null,0,0,"",null,null,null,null,null,null,null,null,null,0,0,"",null,null,null,null,null,null,null,null,null,0,0,"",null,null,null,null,null,null,null,null,null,0,0,"",null,null,null,null,null,null,null,null,null,0,0,"",null,null,null,null,null,null,null,null,null,0,0,"",null,null,null,null,null,null,null,null,null,0,0,"",null,null,null,null,null,null,null,null,null,0,0,"",null,null,null,null,null,null,null,null,{"$f":"IF(Entries!$K$20=5,MIN(GY74,GZ74,HA74,HB74,HC74),IF(Entries!$K$20=4,MIN(GY74,GZ74,HA74,HB74),IF(Entries!$K$20=3,MIN(GY74,GZ74,HA74),IF(Entries!$K$20=2,MIN(GY74,GZ74),IF(Entries!$K$20=1,0,0)))))","v":0},0,"",null,null,null,null,null,null,null,null,{"$f":"IF(Entries!$K$20=5,MIN(HJ74,HK74,HL74,HM74,HN74),IF(Entries!$K$20=4,MIN(HJ74,HK74,HL74,HM74),IF(Entries!$K$20=3,MIN(HJ74,HK74,HL74),IF(Entries!$K$20=2,MIN(HJ74,HK74),IF(Entries!$K$20=1,0,0)))))","v":0},0,"",null,null,null,null,null,null,null,null,{"$f":"IF(Entries!$K$20=5,MIN(HU74,HV74,HW74,HX74,HY74),IF(Entries!$K$20=4,MIN(HU74,HV74,HW74,HX74),IF(Entries!$K$20=3,MIN(HU74,HV74,HW74),IF(Entries!$K$20=2,MIN(HU74,HV74),IF(Entries!$K$20=1,0,0)))))","v":0},0,"",null,null,null,null,null,null,null,null,{"$f":"IF(Entries!$K$20=5,MIN(IF74,IG74,IH74,II74,IJ74),IF(Entries!$K$20=4,MIN(IF74,IG74,IH74,II74),IF(Entries!$K$20=3,MIN(IF74,IG74,IH74),IF(Entries!$K$20=2,MIN(IF74,IG74),IF(Entries!$K$20=1,0,0)))))","v":0},0,"",null,null,null,null,null,null,null,null,{"$f":"IF(Entries!$K$20=5,MIN(IQ74,IR74,IS74,IT74,IU74),IF(Entries!$K$20=4,MIN(IQ74,IR74,IS74,IT74),IF(Entries!$K$20=3,MIN(IQ74,IR74,IS74),IF(Entries!$K$20=2,MIN(IQ74,IR74),IF(Entries!$K$20=1,0,0)))))","v":0},0,""]
[null,null,null,null,null,null,null,null,null,0,0,"",null,null,null,null,null,null,null,null,null,0,0,"",null,null,null,null,null,null,null,null,null,0,0,"",null,null,null,null,null,null,null,null,null,0,0,"",null,null,null,null,null,null,null,null,null,0,0,"",null,null,null,null,null,null,null,null,null,0,0,"",null,null,null,null,null,null,null,null,null,0,0,"",null,null,null,null,null,null,null,null,null,0,0,"",null,null,null,null,null,null,null,null,null,0,0,"",null,null,null,null,null,null,null,null,null,0,0,"",null,null,null,null,null,null,null,null,null,0,0,"",null,null,null,null,null,null,null,null,null,0,0,"",null,null,null,null,null,null,null,null,null,0,0,"",null,null,null,null,null,null,null,null,null,0,0,"",null,null,null,null,null,null,null,null,null,0,0,"",null,null,null,null,null,null,null,null,null,0,0,"",null,null,null,null,null,null,null,null,null,0,0,"",null,null,null,null,null,null,null,null,{"$f":"IF(Entries!$K$20=5,MIN(GY75,GZ75,HA75,HB75,HC75),IF(Entries!$K$20=4,MIN(GY75,GZ75,HA75,HB75),IF(Entries!$K$20=3,MIN(GY75,GZ75,HA75),IF(Entries!$K$20=2,MIN(GY75,GZ75),IF(Entries!$K$20=1,0,0)))))","v":0},0,"",null,null,null,null,null,null,null,null,{"$f":"IF(Entries!$K$20=5,MIN(HJ75,HK75,HL75,HM75,HN75),IF(Entries!$K$20=4,MIN(HJ75,HK75,HL75,HM75),IF(Entries!$K$20=3,MIN(HJ75,HK75,HL75),IF(Entries!$K$20=2,MIN(HJ75,HK75),IF(Entries!$K$20=1,0,0)))))","v":0},0,"",null,null,null,null,null,null,null,null,{"$f":"IF(Entries!$K$20=5,MIN(HU75,HV75,HW75,HX75,HY75),IF(Entries!$K$20=4,MIN(HU75,HV75,HW75,HX75),IF(Entries!$K$20=3,MIN(HU75,HV75,HW75),IF(Entries!$K$20=2,MIN(HU75,HV75),IF(Entries!$K$20=1,0,0)))))","v":0},0,"",null,null,null,null,null,null,null,null,{"$f":"IF(Entries!$K$20=5,MIN(IF75,IG75,IH75,II75,IJ75),IF(Entries!$K$20=4,MIN(IF75,IG75,IH75,II75),IF(Entries!$K$20=3,MIN(IF75,IG75,IH75),IF(Entries!$K$20=2,MIN(IF75,IG75),IF(Entries!$K$20=1,0,0)))))","v":0},0,"",null,null,null,null,null,null,null,null,{"$f":"IF(Entries!$K$20=5,MIN(IQ75,IR75,IS75,IT75,IU75),IF(Entries!$K$20=4,MIN(IQ75,IR75,IS75,IT75),IF(Entries!$K$20=3,MIN(IQ75,IR75,IS75),IF(Entries!$K$20=2,MIN(IQ75,IR75),IF(Entries!$K$20=1,0,0)))))","v":0},0,""]
[null,null,null,null,null,null,null,null,null,0,0,"",null,null,null,null,null,null,null,null,null,0,0,"",null,null,null,null,null,null,null,null,null,0,0,"",null,null,null,null,null,null,null,null,null,0,0,"",null,null,null,null,null,null,null,null,null,0,0,"",null,null,null,null,null,null,null,null,null,0,0,"",null,null,null,null,null,null,null,null,null,0,0,"",null,null,null,null,null,null,null,null,null,0,0,"",null,null,null,null,null,null,null,null,null,0,0,"",null,null,null,null,null,null,null,null,null,0,0,"",null,null,null,null,null,null,null,null,null,0,0,"",null,null,null,null,null,null,null,null,null,0,0,"",null,null,null,null,null,null,null,null,null,0,0,"",null,null,null,null,null,null,null,null,null,0,0,"",null,null,null,null,null,null,null,null,null,0,0,"",null,null,null,null,null,null,null,null,null,0,0,"",null,null,null,null,null,null,null,null,null,0,0,"",null,null,null,null,null,null,null,null,{"$f":"IF(Entries!$K$20=5,MIN(GY76,GZ76,HA76,HB76,HC76),IF(Entries!$K$20=4,MIN(GY76,GZ76,HA76,HB76),IF(Entries!$K$20=3,MIN(GY76,GZ76,HA76),IF(Entries!$K$20=2,MIN(GY76,GZ76),IF(Entries!$K$20=1,0,0)))))","v":0},0,"",null,null,null,null,null,null,null,null,{"$f":"IF(Entries!$K$20=5,MIN(HJ76,HK76,HL76,HM76,HN76),IF(Entries!$K$20=4,MIN(HJ76,HK76,HL76,HM76),IF(Entries!$K$20=3,MIN(HJ76,HK76,HL76),IF(Entries!$K$20=2,MIN(HJ76,HK76),IF(Entries!$K$20=1,0,0)))))","v":0},0,"",null,null,null,null,null,null,null,null,{"$f":"IF(Entries!$K$20=5,MIN(HU76,HV76,HW76,HX76,HY76),IF(Entries!$K$20=4,MIN(HU76,HV76,HW76,HX76),IF(Entries!$K$20=3,MIN(HU76,HV76,HW76),IF(Entries!$K$20=2,MIN(HU76,HV76),IF(Entries!$K$20=1,0,0)))))","v":0},0,"",null,null,null,null,null,null,null,null,{"$f":"IF(Entries!$K$20=5,MIN(IF76,IG76,IH76,II76,IJ76),IF(Entries!$K$20=4,MIN(IF76,IG76,IH76,II76),IF(Entries!$K$20=3,MIN(IF76,IG76,IH76),IF(Entries!$K$20=2,MIN(IF76,IG76),IF(Entries!$K$20=1,0,0)))))","v":0},0,"",null,null,null,null,null,null,null,null,{"$f":"IF(Entries!$K$20=5,MIN(IQ76,IR76,IS76,IT76,IU76),IF(Entries!$K$20=4,MIN(IQ76,IR76,IS76,IT76),IF(Entries!$K$20=3,MIN(IQ76,IR76,IS76),IF(Entries!$K$20=2,MIN(IQ76,IR76),IF(Entries!$K$20=1,0,0)))))","v":0},0,""]
[null,null,null,null,null,null,null,null,null,0,0,"",null,null,null,null,null,null,null,null,null,0,0,"",null,null,null,null,null,null,null,null,null,0,0,"",null,null,null,null,null,null,null,null,null,0,0,"",null,null,null,null,null,null,null,null,null,0,0,"",null,null,null,null,null,null,null,null,null,0,0,"",null,null,null,null,null,null,null,null,null,0,0,"",null,null,null,null,null,null,null,null,null,0,0,"",null,null,null,null,null,null,null,null,null,0,0,"",null,null,null,null,null,null,null,null,null,0,0,"",null,null,null,null,null,null,null,null,null,0,0,"",null,null,null,null,null,null,null,null,null,0,0,"",null,null,null,null,null,null,null,null,null,0,0,"",null,null,null,null,null,null,null,null,null,0,0,"",null,null,null,null,null,null,null,null,null,0,0,"",null,null,null,null,null,null,null,null,null,0,0,"",null,null,null,null,null,null,null,null,null,0,0,"",null,null,null,null,null,null,null,null,{"$f":"IF(Entries!$K$20=5,MIN(GY77,GZ77,HA77,HB77,HC77),IF(Entries!$K$20=4,MIN(GY77,GZ77,HA77,HB77),IF(Entries!$K$20=3,MIN(GY77,GZ77,HA77),IF(Entries!$K$20=2,MIN(GY77,GZ77),IF(Entries!$K$20=1,0,0)))))","v":0},0,"",null,null,null,null,null,null,null,null,{"$f":"IF(Entries!$K$20=5,MIN(HJ77,HK77,HL77,HM77,HN77),IF(Entries!$K$20=4,MIN(HJ77,HK77,HL77,HM77),IF(Entries!$K$20=3,MIN(HJ77,HK77,HL77),IF(Entries!$K$20=2,MIN(HJ77,HK77),IF(Entries!$K$20=1,0,0)))))","v":0},0,"",null,null,null,null,null,null,null,null,{"$f":"IF(Entries!$K$20=5,MIN(HU77,HV77,HW77,HX77,HY77),IF(Entries!$K$20=4,MIN(HU77,HV77,HW77,HX77),IF(Entries!$K$20=3,MIN(HU77,HV77,HW77),IF(Entries!$K$20=2,MIN(HU77,HV77),IF(Entries!$K$20=1,0,0)))))","v":0},0,"",null,null,null,null,null,null,null,null,{"$f":"IF(Entries!$K$20=5,MIN(IF77,IG77,IH77,II77,IJ77),IF(Entries!$K$20=4,MIN(IF77,IG77,IH77,II77),IF(Entries!$K$20=3,MIN(IF77,IG77,IH77),IF(Entries!$K$20=2,MIN(IF77,IG77),IF(Entries!$K$20=1,0,0)))))","v":0},0,"",null,null,null,null,null,null,null,null,{"$f":"IF(Entries!$K$20=5,MIN(IQ77,IR77,IS77,IT77,IU77),IF(Entries!$K$20=4,MIN(IQ77,IR77,IS77,IT77),IF(Entries!$K$20=3,MIN(IQ77,IR77,IS77),IF(Entries!$K$20=2,MIN(IQ77,IR77),IF(Entries!$K$20=1,0,0)))))","v":0},0,""]
[null,null,null,null,null,null,null,null,null,0,0,"",null,null,null,null,null,null,null,null,null,0,0,"",null,null,null,null,null,null,null,null,null,0,0,"",null,null,null,null,null,null,null,null,null,0,0,"",null,null,null,null,null,null,null,null,null,0,0,"",null,null,null,null,null,null,null,null,null,0,0,"",null,null,null,null,null,null,null,null,null,0,0,"",null,null,null,null,null,null,null,null,null,0,0,"",null,null,null,null,null,null,null,null,null,0,0,"",null,null,null,null,null,null,null,null,null,0,0,"",null,null,null,null,null,null,null,null,null,0,0,"",null,null,null,null,null,null,null,null,null,0,0,"",null,null,null,null,null,null,null,null,null,0,0,"",null,null,null,null,null,null,null,null,null,0,0,"",null,null,null,null,null,null,null,null,null,0,0,"",null,null,null,null,null,null,null,null,null,0,0,"",null,null,null,null,null,null,null,null,null,0,0,"",null,null,null,null,null,null,null,null,{"$f":"IF(Entries!$K$20=5,MIN(GY78,GZ78,HA78,HB78,HC78),IF(Entries!$K$20=4,MIN(GY78,GZ78,HA78,HB78),IF(Entries!$K$20=3,MIN(GY78,GZ78,HA78),IF(Entries!$K$20=2,MIN(GY78,GZ78),IF(Entries!$K$20=1,0,0)))))","v":0},0,"",null,null,null,null,null,null,null,null,{"$f":"IF(Entries!$K$20=5,MIN(HJ78,HK78,HL78,HM78,HN78),IF(Entries!$K$20=4,MIN(HJ78,HK78,HL78,HM78),IF(Entries!$K$20=3,MIN(HJ78,HK78,HL78),IF(Entries!$K$20=2,MIN(HJ78,HK78),IF(Entries!$K$20=1,0,0)))))","v":0},0,"",null,null,null,null,null,null,null,null,{"$f":"IF(Entries!$K$20=5,MIN(HU78,HV78,HW78,HX78,HY78),IF(Entries!$K$20=4,MIN(HU78,HV78,HW78,HX78),IF(Entries!$K$20=3,MIN(HU78,HV78,HW78),IF(Entries!$K$20=2,MIN(HU78,HV78),IF(Entries!$K$20=1,0,0)))))","v":0},0,"",null,null,null,null,null,null,null,null,{"$f":"IF(Entries!$K$20=5,MIN(IF78,IG78,IH78,II78,IJ78),IF(Entries!$K$20=4,MIN(IF78,IG78,IH78,II78),IF(Entries!$K$20=3,MIN(IF78,IG78,IH78),IF(Entries!$K$20=2,MIN(IF78,IG78),IF(Entries!$K$20=1,0,0)))))","v":0},0,"",null,null,null,null,null,null,null,null,{"$f":"IF(Entries!$K$20=5,MIN(IQ78,IR78,IS78,IT78,IU78),IF(Entries!$K$20=4,MIN(IQ78,IR78,IS78,IT78),IF(Entries!$K$20=3,MIN(IQ78,IR78,IS78),IF(Entries!$K$20=2,MIN(IQ78,IR78),IF(Entries!$K$20=1,0,0)))))","v":0},0,""]
[null,null,null,null,null,null,null,null,null,0,0,"",null,null,null,null,null,null,null,null,null,0,0,"",null,null,null,null,null,null,null,null,null,0,0,"",null,null,null,null,null,null,null,null,null,0,0,"",null,null,null,null,null,null,null,null,null,0,0,"",null,null,null,null,null,null,null,null,null,0,0,"",null,null,null,null,null,null,null,null,null,0,0,"",null,null,null,null,null,null,null,null,null,0,0,"",null,null,null,null,null,null,null,null,null,0,0,"",null,null,null,null,null,null,null,null,null,0,0,"",null,null,null,null,null,null,null,null,null,0,0,"",null,null,null,null,null,null,null,null,null,0,0,"",null,null,null,null,null,null,null,null,null,0,0,"",null,null,null,null,null,null,null,null,null,0,0,"",null,null,null,null,null,null,null,null,null,0,0,"",null,null,null,null,null,null,null,null,null,0,0,"",null,null,null,null,null,null,null,null,null,0,0,"",null,null,null,null,null,null,null,null,{"$f":"IF(Entries!$K$20=5,MIN(GY79,GZ79,HA79,HB79,HC79),IF(Entries!$K$20=4,MIN(GY79,GZ79,HA79,HB79),IF(Entries!$K$20=3,MIN(GY79,GZ79,HA79),IF(Entries!$K$20=2,MIN(GY79,GZ79),IF(Entries!$K$20=1,0,0)))))","v":0},0,"",null,null,null,null,null,null,null,null,{"$f":"IF(Entries!$K$20=5,MIN(HJ79,HK79,HL79,HM79,HN79),IF(Entries!$K$20=4,MIN(HJ79,HK79,HL79,HM79),IF(Entries!$K$20=3,MIN(HJ79,HK79,HL79),IF(Entries!$K$20=2,MIN(HJ79,HK79),IF(Entries!$K$20=1,0,0)))))","v":0},0,"",null,null,null,null,null,null,null,null,{"$f":"IF(Entries!$K$20=5,MIN(HU79,HV79,HW79,HX79,HY79),IF(Entries!$K$20=4,MIN(HU79,HV79,HW79,HX79),IF(Entries!$K$20=3,MIN(HU79,HV79,HW79),IF(Entries!$K$20=2,MIN(HU79,HV79),IF(Entries!$K$20=1,0,0)))))","v":0},0,"",null,null,null,null,null,null,null,null,{"$f":"IF(Entries!$K$20=5,MIN(IF79,IG79,IH79,II79,IJ79),IF(Entries!$K$20=4,MIN(IF79,IG79,IH79,II79),IF(Entries!$K$20=3,MIN(IF79,IG79,IH79),IF(Entries!$K$20=2,MIN(IF79,IG79),IF(Entries!$K$20=1,0,0)))))","v":0},0,"",null,null,null,null,null,null,null,null,{"$f":"IF(Entries!$K$20=5,MIN(IQ79,IR79,IS79,IT79,IU79),IF(Entries!$K$20=4,MIN(IQ79,IR79,IS79,IT79),IF(Entries!$K$20=3,MIN(IQ79,IR79,IS79),IF(Entries!$K$20=2,MIN(IQ79,IR79),IF(Entries!$K$20=1,0,0)))))","v":0},0,""]
[null,null,null,null,null,null,null,null,null,0,0,"",null,null,null,null,null,null,null,null,null,0,0,"",null,null,null,null,null,null,null,null,null,0,0,"",null,null,null,null,null,null,null,null,null,0,0,"",null,null,null,null,null,null,null,null,null,0,0,"",null,null,null,null,null,null,null,null,null,0,0,"",null,null,null,null,null,null,null,null,null,0,0,"",null,null,null,null,null,null,null,null,null,0,0,"",null,null,null,null,null,null,null,null,null,0,0,"",null,null,null,null,null,null,null,null,null,0,0,"",null,null,null,null,null,null,null,null,null,0,0,"",null,null,null,null,null,null,null,null,null,0,0,"",null,null,null,null,null,null,null,null,null,0,0,"",null,null,null,null,null,null,null,null,null,0,0,"",null,null,null,null,null,null,null,null,null,0,0,"",null,null,null,null,null,null,null,null,null,0,0,"",null,null,null,null,null,null,null,null,null,0,0,"",null,null,null,null,null,null,null,null,{"$f":"IF(Entries!$K$20=5,MIN(GY80,GZ80,HA80,HB80,HC80),IF(Entries!$K$20=4,MIN(GY80,GZ80,HA80,HB80),IF(Entries!$K$20=3,MIN(GY80,GZ80,HA80),IF(Entries!$K$20=2,MIN(GY80,GZ80),IF(Entries!$K$20=1,0,0)))))","v":0},0,"",null,null,null,null,null,null,null,null,{"$f":"IF(Entries!$K$20=5,MIN(HJ80,HK80,HL80,HM80,HN80),IF(Entries!$K$20=4,MIN(HJ80,HK80,HL80,HM80),IF(Entries!$K$20=3,MIN(HJ80,HK80,HL80),IF(Entries!$K$20=2,MIN(HJ80,HK80),IF(Entries!$K$20=1,0,0)))))","v":0},0,"",null,null,null,null,null,null,null,null,{"$f":"IF(Entries!$K$20=5,MIN(HU80,HV80,HW80,HX80,HY80),IF(Entries!$K$20=4,MIN(HU80,HV80,HW80,HX80),IF(Entries!$K$20=3,MIN(HU80,HV80,HW80),IF(Entries!$K$20=2,MIN(HU80,HV80),IF(Entries!$K$20=1,0,0)))))","v":0},0,"",null,null,null,null,null,null,null,null,{"$f":"IF(Entries!$K$20=5,MIN(IF80,IG80,IH80,II80,IJ80),IF(Entries!$K$20=4,MIN(IF80,IG80,IH80,II80),IF(Entries!$K$20=3,MIN(IF80,IG80,IH80),IF(Entries!$K$20=2,MIN(IF80,IG80),IF(Entries!$K$20=1,0,0)))))","v":0},0,"",null,null,null,null,null,null,null,null,{"$f":"IF(Entries!$K$20=5,MIN(IQ80,IR80,IS80,IT80,IU80),IF(Entries!$K$20=4,MIN(IQ80,IR80,IS80,IT80),IF(Entries!$K$20=3,MIN(IQ80,IR80,IS80),IF(Entries!$K$20=2,MIN(IQ80,IR80),IF(Entries!$K$20=1,0,0)))))","v":0},0,""]
[null,null,null,null,null,null,null,null,null,0,0,"",null,null,null,null,null,null,null,null,null,0,0,"",null,null,null,null,null,null,null,null,null,0,0,"",null,null,null,null,null,null,null,null,null,0,0,"",null,null,null,null,null,null,null,null,null,0,0,"",null,null,null,null,null,null,null,null,null,0,0,"",null,null,null,null,null,null,null,null,null,0,0,"",null,null,null,null,null,null,null,null,null,0,0,"",null,null,null,null,null,null,null,null,null,0,0,"",null,null,null,null,null,null,null,null,null,0,0,"",null,null,null,null,null,null,null,null,null,0,0,"",null,null,null,null,null,null,null,null,null,0,0,"",null,null,null,null,null,null,null,null,null,0,0,"",null,null,null,null,null,null,null,null,null,0,0,"",null,null,null,null,null,null,null,null,null,0,0,"",null,null,null,null,null,null,null,null,null,0,0,"",null,null,null,null,null,null,null,null,null,0,0,"",null,null,null,null,null,null,null,null,{"$f":"IF(Entries!$K$20=5,MIN(GY81,GZ81,HA81,HB81,HC81),IF(Entries!$K$20=4,MIN(GY81,GZ81,HA81,HB81),IF(Entries!$K$20=3,MIN(GY81,GZ81,HA81),IF(Entries!$K$20=2,MIN(GY81,GZ81),IF(Entries!$K$20=1,0,0)))))","v":0},0,"",null,null,null,null,null,null,null,null,{"$f":"IF(Entries!$K$20=5,MIN(HJ81,HK81,HL81,HM81,HN81),IF(Entries!$K$20=4,MIN(HJ81,HK81,HL81,HM81),IF(Entries!$K$20=3,MIN(HJ81,HK81,HL81),IF(Entries!$K$20=2,MIN(HJ81,HK81),IF(Entries!$K$20=1,0,0)))))","v":0},0,"",null,null,null,null,null,null,null,null,{"$f":"IF(Entries!$K$20=5,MIN(HU81,HV81,HW81,HX81,HY81),IF(Entries!$K$20=4,MIN(HU81,HV81,HW81,HX81),IF(Entries!$K$20=3,MIN(HU81,HV81,HW81),IF(Entries!$K$20=2,MIN(HU81,HV81),IF(Entries!$K$20=1,0,0)))))","v":0},0,"",null,null,null,null,null,null,null,null,{"$f":"IF(Entries!$K$20=5,MIN(IF81,IG81,IH81,II81,IJ81),IF(Entries!$K$20=4,MIN(IF81,IG81,IH81,II81),IF(Entries!$K$20=3,MIN(IF81,IG81,IH81),IF(Entries!$K$20=2,MIN(IF81,IG81),IF(Entries!$K$20=1,0,0)))))","v":0},0,"",null,null,null,null,null,null,null,null,{"$f":"IF(Entries!$K$20=5,MIN(IQ81,IR81,IS81,IT81,IU81),IF(Entries!$K$20=4,MIN(IQ81,IR81,IS81,IT81),IF(Entries!$K$20=3,MIN(IQ81,IR81,IS81),IF(Entries!$K$20=2,MIN(IQ81,IR81),IF(Entries!$K$20=1,0,0)))))","v":0},0,""]
[null,null,null,null,null,null,null,null,null,0,0,"",null,null,null,null,null,null,null,null,null,0,0,"",null,null,null,null,null,null,null,null,null,0,0,"",null,null,null,null,null,null,null,null,null,0,0,"",null,null,null,null,null,null,null,null,null,0,0,"",null,null,null,null,null,null,null,null,null,0,0,"",null,null,null,null,null,null,null,null,null,0,0,"",null,null,null,null,null,null,null,null,null,0,0,"",null,null,null,null,null,null,null,null,null,0,0,"",null,null,null,null,null,null,null,null,null,0,0,"",null,null,null,null,null,null,null,null,null,0,0,"",null,null,null,null,null,null,null,null,null,0,0,"",null,null,null,null,null,null,null,null,null,0,0,"",null,null,null,null,null,null,null,null,null,{"$f":"MIN(FC82:FH82)","v":0},{"$f":"FI82-FJ82","v":0},"",null,null,null,null,null,null,null,null,null,0,0,"",null,null,null,null,null,null,null,null,null,0,0,"",null,null,null,null,null,null,null,null,null,0,0,"",null,null,null,null,null,null,null,null,{"$f":"IF(Entries!$K$20=5,MIN(GY82,GZ82,HA82,HB82,HC82),IF(Entries!$K$20=4,MIN(GY82,GZ82,HA82,HB82),IF(Entries!$K$20=3,MIN(GY82,GZ82,HA82),IF(Entries!$K$20=2,MIN(GY82,GZ82),IF(Entries!$K$20=1,0,0)))))","v":0},0,"",null,null,null,null,null,null,null,null,{"$f":"IF(Entries!$K$20=5,MIN(HJ82,HK82,HL82,HM82,HN82),IF(Entries!$K$20=4,MIN(HJ82,HK82,HL82,HM82),IF(Entries!$K$20=3,MIN(HJ82,HK82,HL82),IF(Entries!$K$20=2,MIN(HJ82,HK82),IF(Entries!$K$20=1,0,0)))))","v":0},0,"",null,null,null,null,null,null,null,null,{"$f":"IF(Entries!$K$20=5,MIN(HU82,HV82,HW82,HX82,HY82),IF(Entries!$K$20=4,MIN(HU82,HV82,HW82,HX82),IF(Entries!$K$20=3,MIN(HU82,HV82,HW82),IF(Entries!$K$20=2,MIN(HU82,HV82),IF(Entries!$K$20=1,0,0)))))","v":0},0,"",null,null,null,null,null,null,null,null,{"$f":"IF(Entries!$K$20=5,MIN(IF82,IG82,IH82,II82,IJ82),IF(Entries!$K$20=4,MIN(IF82,IG82,IH82,II82),IF(Entries!$K$20=3,MIN(IF82,IG82,IH82),IF(Entries!$K$20=2,MIN(IF82,IG82),IF(Entries!$K$20=1,0,0)))))","v":0},0,"",null,null,null,null,null,null,null,null,{"$f":"IF(Entries!$K$20=5,MIN(IQ82,IR82,IS82,IT82,IU82),IF(Entries!$K$20=4,MIN(IQ82,IR82,IS82,IT82),IF(Entries!$K$20=3,MIN(IQ82,IR82,IS82),IF(Entries!$K$20=2,MIN(IQ82,IR82),IF(Entries!$K$20=1,0,0)))))","v":0},0,""]
[]
[]
[null,null,null,{"$f":"LARGE(C93:C125,1)","v":557},null,null,null,null,null,null,null,null,null,null,null,{"$f":"LARGE(O93:O125,1)","v":564},null,null,null,null,null,null,null,null,null,null,null,{"$f":"LARGE(AA93:AA125,1)","v":0},null,null,null,null,null,null,null,null,null,null,null,{"$f":"LARGE(AM93:AM125,1)","v":0},null,null,null,null,null,null,null,null,null,null,null,{"$f":"LARGE(AY93:AY125,1)","v":515},null,null,null,null,null,null,null,null,null,null,null,{"$f":"LARGE(BK93:BK125,1)","v":528},null,null,null,null,null,null,null,null,null,null,null,{"$f":"LARGE(BW93:BW125,1)","v":0},null,null,null,null,null,null,null,null,null,null,null,{"$f":"LARGE(CI93:CI125,1)","v":362},null,null,null,null,null,null,null,null,null,null,null,{"$f":"LARGE(CU93:CU125,1)","v":506},null,null,null,null,null,null,null,null,null,null,null,{"$f":"LARGE(DG93:DG125,1)","v":555},null,null,null,null,null,null,null,null,null,null,null,{"$f":"LARGE(DS93:DS125,1)","v":566},null,null,null,null,null,null,null,null,null,null,null,{"$f":"LARGE(EE93:EE125,1)","v":0},null,null,null,null,null,null,null,null,null,null,null,{"$f":"LARGE(EQ93:EQ125,1)","v":534},null,null,null,null,null,null,null,null,null,null,null,{"$f":"LARGE(FC93:FC125,1)","v":0},null,null,null,null,null,null,null,null,null,null,null,{"$f":"LARGE(FO93:FO125,1)","v":0},null,null,null,null,null,null,null,null,null,null,null,{"$f":"LARGE(GA93:GA125,1)","v":0},null,null,null,null,null,null,null,null,null,null,null,{"$f":"LARGE(GM93:GM125,1)","v":0}]
[null,"College","DCU",{"$f":"LARGE(D93:D125,1)","v":550},null,null,null,null,null,null,null,null,null,"College","DIT",{"$f":"LARGE(P93:P125,1)","v":566},null,null,null,null,null,null,null,null,null,"College","DkIT",{"$f":"LARGE(AB93:AB125,1)","v":0},null,null,null,null,null,null,null,null,null,"College","BCFE",{"$f":"LARGE(AN93:AN125,1)","v":0},null,null,null,null,null,null,null,null,null,"College","GMIT",{"$f":"LARGE(AZ93:AZ125,1)","v":512},null,null,null,null,null,null,null,null,null,"College","GMITC",{"$f":"LARGE(BL93:BL125,1)","v":533},null,null,null,null,null,null,null,null,null,"College","IT Tallaght",{"$f":"LARGE(BX93:BX125,1)","v":0},null,null,null,null,null,null,null,null,null,"College","ITC",{"$f":"LARGE(CJ93:CJ125,1)","v":0},null,null,null,null,null,null,null,null,null,"College","NUIM",{"$f":"LARGE(CV93:CV125,1)","v":479},null,null,null,null,null,null,null,null,null,"College","CD",{"$f":"LARGE(DH93:DH125,1)","v":546},null,null,null,null,null,null,null,null,null,"College","NUIG",{"$f":"LARGE(DT93:DT125,1)","v":566},null,null,null,null,null,null,null,null,null,"College","RCSI",{"$f":"LARGE(EF93:EF125,1)","v":0},null,null,null,null,null,null,null,null,null,"College","UCC",{"$f":"LARGE(ER93:ER125,1)","v":550},null,null,null,null,null,null,null,null,null,"College","UCD",{"$f":"LARGE(FD93:FD125,1)","v":0},null,null,null,null,null,null,null,null,null,"College","UL",{"$f":"LARGE(FP93:FP125,1)","v":0},null,null,null,null,null,null,null,null,null,"College","UU",{"$f":"LARGE(GB93:GB125,1)","v":0},null,null,null,null,null,null,null,null,null,"College","QUB",{"$f":"LARGE(GN93:GN125,1)","v":0},null,null,null,null,null,null,null,null,null,"College","AAA",{"$f":"LARGE(GY93:GY125,1)","v":0},null,null,null,null,null,null,null,null,"College","BBB",{"$f":"LARGE(HJ93:HJ125,1)","v":0},null,null,null,null,null,null,null,null,"College","CCC",{"$f":"LARGE(HU93:HU125,1)","v":0},null,null,null,null,null,null,null,null,"College","DDD",{"$f":"LARGE(IF93:IF125,1)","v":0},null,null,null,null,null,null,null,null,"College","EEE",{"$f":"LARGE(IQ93:IQ125,1)","v":0}]
[null,"Gender","(Multiple Items)",{"$f":"LARGE(E93:E125,1)","v":572},{"$f":"C86","v":"DCU"},null,null,null,null,{"$f":"C88","v":"Compound"},null,null,null,"Gender","(Multiple Items)",{"$f":"LARGE(Q93:Q125,1)","v":570},{"$f":"O86","v":"DIT"},null,null,null,null,{"$f":"O88","v":"Compound"},null,null,null,"Gender","(Multiple Items)",{"$f":"LARGE(AC93:AC125,1)","v":0},{"$f":"AA86","v":"DkIT"},null,null,null,null,{"$f":"AA88","v":"Compound"},null,null,null,"Gender","(Multiple Items)",{"$f":"LARGE(AO93:AO125,1)","v":0},{"$f":"AM86","v":"BCFE"},null,null,null,null,{"$f":"AM88","v":"Compound"},null,null,null,"Gender","(Multiple Items)",{"$f":"LARGE(BA93:BA125,1)","v":527},{"$f":"AY86","v":"GMIT"},null,null,null,null,{"$f":"AY88","v":"Compound"},null,null,null,"Gender","(Multiple Items)",{"$f":"LARGE(BM93:BM125,1)","v":512},{"$f":"BK86","v":"GMITC"},null,null,null,null,{"$f":"BK88","v":"Compound"},null,null,null,"Gender","(Multiple Items)",{"$f":"LARGE(BY93:BY125,1)","v":0},{"$f":"BW86","v":"IT Tallaght"},null,null,null,null,{"$f":"BW88","v":"Compound"},null,null,null,"Gender","(Multiple Items)",{"$f":"LARGE(CK93:CK125,1)","v":0},{"$f":"CI86","v":"ITC"},null,null,null,null,{"$f":"CI88","v":"Compound"},null,null,null,"Gender","(Multiple Items)",{"$f":"LARGE(CW93:CW125,1)","v":510},{"$f":"CU86","v":"NUIM"},null,null,null,null,{"$f":"CU88","v":"Compound"},null,null,null,"Gender","(Multiple Items)",{"$f":"LARGE(DI93:DI125,1)","v":557},{"$f":"DG86","v":"CD"},null,null,null,null,{"$f":"DG88","v":"Compound"},null,null,null,"Gender","(Multiple Items)",{"$f":"LARGE(DU93:DU125,1)","v":576},{"$f":"DS86","v":"NUIG"},null,null,null,null,{"$f":"DS88","v":"Compound"},null,null,null,"Gender","(Multiple Items)",{"$f":"LARGE(EG93:EG125,1)","v":0},{"$f":"EE86","v":"RCSI"},null,null,null,null,{"$f":"EE88","v":"Compound"},null,null,null,"Gender","(Multiple Items)",{"$f":"LARGE(ES93:ES125,1)","v":553},{"$f":"EQ86","v":"UCC"},null,null,null,null,{"$f":"EQ88","v":"Compound"},null,null,null,"Gender","(Multiple Items)",{"$f":"LARGE(FE93:FE125,1)","v":0},{"$f":"FC86","v":"UCD"},null,null,null,null,{"$f":"FC88","v":"Compound"},null,null,null,"Gender","(Multiple Items)",{"$f":"LARGE(FQ93:FQ125,1)","v":0},{"$f":"FO86","v":"UL"},null,null,null,null,{"$f":"FO88","v":"Compound"},null,null,null,"Gender","(Multiple Items)",{"$f":"LARGE(GC93:GC125,1)","v":0},{"$f":"GA86","v":"UU"},null,null,null,null,{"$f":"GA88","v":"Compound"},null,null,null,"Gender","(Multiple Items)",{"$f":"LARGE(GO93:GO125,1)","v":0},{"$f":"GM86","v":"QUB"},null,null,null,null,{"$f":"GM88","v":"Compound"},null,null,null,"Gender","(Multiple Items)",{"$f":"LARGE(GZ93:GZ125,1)","v":0},{"$f":"GY86","v":"AAA"},null,null,null,{"$f":"GY88","v":"Compound"},null,null,null,"Gender","(Multiple Items)",{"$f":"LARGE(HK93:HK125,1)","v":0},{"$f":"HJ86","v":"BBB"},null,null,null,{"$f":"HJ88","v":"Compound"},null,null,null,"Gender","(Multiple Items)",{"$f":"LARGE(HV93:HV125,1)","v":0},{"$f":"HU86","v":"CCC"},null,null,null,{"$f":"HU88","v":"Compound"},null,null,null,"Gender","(Multiple Items)",{"$f":"LARGE(IG93:IG125,1)","v":0},{"$f":"IF86","v":"DDD"},null,null,null,{"$f":"IF88","v":"Compound"},null,null,null,"Gender","(Multiple Items)",{"$f":"LARGE(IR93:IR125,1)","v":0},{"$f":"IQ86","v":"EEE"},null,null,null,{"$f":"IQ88","v":"Compound"}]
[null,"Bow","Compound",{"$f":"LARGE(F93:F125,1)","v":557},null,null,null,null,null,null,null,null,null,"Bow","Compound",{"$f":"LARGE(R93:R125,1)","v":0},null,null,null,null,null,null,null,null,null,"Bow","Compound",{"$f":"LARGE(AD93:AD125,1)","v":0},null,null,null,null,null,null,null,null,null,"Bow","Compound",{"$f":"LARGE(AP93:AP125,1)","v":0},null,null,null,null,null,null,null,null,null,"Bow","Compound",{"$f":"LARGE(BB93:BB125,1)","v":0},null,null,null,null,null,null,null,null,null,"Bow","Compound",{"$f":"LARGE(BN93:BN125,1)","v":0},null,null,null,null,null,null,null,null,null,"Bow","Compound",{"$f":"LARGE(BZ93:BZ125,1)","v":0},null,null,null,null,null,null,null,null,null,"Bow","Compound",{"$f":"LARGE(CL93:CL125,1)","v":0},null,null,null,null,null,null,null,null,null,"Bow","Compound",{"$f":"LARGE(CX93:CX125,1)","v":495},null,null,null,null,null,null,null,null,null,"Bow","Compound",{"$f":"LARGE(DJ93:DJ125,1)","v":0},null,null,null,null,null,null,null,null,null,"Bow","Compound",{"$f":"LARGE(DV93:DV125,1)","v":567},null,null,null,null,null,null,null,null,null,"Bow","Compound",{"$f":"LARGE(EH93:EH125,1)","v":0},null,null,null,null,null,null,null,null,null,"Bow","Compound",{"$f":"LARGE(ET93:ET125,1)","v":0},null,null,null,null,null,null,null,null,null,"Bow","Compound",{"$f":"LARGE(FF93:FF125,1)","v":0},null,null,null,null,null,null,null,null,null,"Bow","Compound",{"$f":"LARGE(FR93:FR125,1)","v":0},null,null,null,null,null,null,null,null,null,"Bow","Compound",{"$f":"LARGE(GD93:GD125,1)","v":0},null,null,null,null,null,null,null,null,null,"Bow","Compound",{"$f":"LARGE(GP93:GP125,1)","v":0},null,null,null,null,null,null,null,null,null,"Bow","Compound",{"$f":"LARGE(HA93:HA125,1)","v":0},null,null,null,null,null,null,null,null,"Bow","Compound",{"$f":"LARGE(HL93:HL125,1)","v":0},null,null,null,null,null,null,null,null,"Bow","Compound",{"$f":"LARGE(HW93:HW125,1)","v":0},null,null,null,null,null,null,null,null,"Bow","Compound",{"$f":"LARGE(IH93:IH125,1)","v":0},null,null,null,null,null,null,null,null,"Bow","Compound",{"$f":"LARGE(IS93:IS125,1)","v":0}]
[null,"Level","(Multiple Items)",{"$f":"LARGE(G93:G125,1)","v":557},null,null,null,null,null,null,null,null,null,"Level","(Multiple Items)",{"$f":"LARGE(S93:S125,1)","v":514},null,null,null,null,null,null,null,null,null,"Level","(Multiple Items)",{"$f":"LARGE(AE93:AE125,1)","v":0},null,null,null,null,null,null,null,null,null,"Level","(Multiple Items)",{"$f":"LARGE(AQ93:AQ125,1)","v":0},null,null,null,null,null,null,null,null,null,"Level","(Multiple Items)",{"$f":"LARGE(BC93:BC125,1)","v":0},null,null,null,null,null,null,null,null,null,"Level","(Multiple Items)",{"$f":"LARGE(BO93:BO125,1)","v":0},null,null,null,null,null,null,null,null,null,"Level","(Multiple Items)",{"$f":"LARGE(CA93:CA125,1)","v":0},null,null,null,null,null,null,null,null,null,"Level","(Multiple Items)",{"$f":"LARGE(CM93:CM125,1)","v":0},null,null,null,null,null,null,null,null,null,"Level","(Multiple Items)",{"$f":"LARGE(CY93:CY125,1)","v":524},null,null,null,null,null,null,null,null,null,"Level","(Multiple Items)",{"$f":"LARGE(DK93:DK125,1)","v":0},null,null,null,null,null,null,null,null,null,"Level","(Multiple Items)",{"$f":"LARGE(DW93:DW125,1)","v":575},null,null,null,null,null,null,null,null,null,"Level","(Multiple Items)",{"$f":"LARGE(EI93:EI125,1)","v":0},null,null,null,null,null,null,null,null,null,"Level","(Multiple Items)",{"$f":"LARGE(EU93:EU125,1)","v":554},null,null,null,null,null,null,null,null,null,"Level","(Multiple Items)",{"$f":"LARGE(FG93:FG125,1)","v":0},null,null,null,null,null,null,null,null,null,"Level","(Multiple Items)",{"$f":"LARGE(FS93:FS125,1)","v":0},null,null,null,null,null,null,null,null,null,"Level","(Multiple Items)",{"$f":"LARGE(GE93:GE125,1)","v":0},null,null,null,null,null,null,null,null,null,"Level","(Multiple Items)",{"$f":"LARGE(GQ93:GQ125,1)","v":0},null,null,null,null,null,null,null,null,null,"Level","(Multiple Items)",{"$f":"LARGE(HB93:HB125,1)","v":0},null,null,null,null,null,null,null,null,"Level","(Multiple Items)",{"$f":"LARGE(HM93:HM125,1)","v":0},null,null,null,null,null,null,null,null,"Level","(Multiple Items)",{"$f":"LARGE(HX93:HX125,1)","v":0},null,null,null,null,null,null,null,null,"Level","(Multiple Items)",{"$f":"LARGE(II93:II125,1)","v":0},null,null,null,null,null,null,null,null,"Level","(Multiple Items)",{"$f":"LARGE(IT93:IT125,1)","v":0}]
[null,null,null,{"$f":"LARGE(H93:H115,1)","v":569},null,null,null,null,null,null,null,null,null,null,null,{"$f":"LARGE(T93:T115,1)","v":513},null,null,null,null,null,null,null,null,null,null,null,{"$f":"LARGE(AF93:AF115,1)","v":0},null,null,null,null,null,null,null,null,null,null,null,{"$f":"LARGE(AR93:AR115,1)","v":0},null,null,null,null,null,null,null,null,null,null,null,{"$f":"LARGE(BD93:BD115,1)","v":0},null,null,null,null,null,null,null,null,null,null,null,{"$f":"LARGE(BP93:BP115,1)","v":0},null,null,null,null,null,null,null,null,null,null,null,{"$f":"LARGE(CB93:CB115,1)","v":0},null,null,null,null,null,null,null,null,null,null,null,{"$f":"LARGE(CN93:CN115,1)","v":0},null,null,null,null,null,null,null,null,null,null,null,{"$f":"LARGE(CZ93:CZ115,1)","v":512},null,null,null,null,null,null,null,null,null,null,null,{"$f":"LARGE(DL93:DL115,1)","v":560},null,null,null,null,null,null,null,null,null,null,null,{"$f":"LARGE(DX93:DX115,1)","v":572},null,null,null,null,null,null,null,null,null,null,null,{"$f":"LARGE(EJ93:EJ115,1)","v":0},null,null,null,null,null,null,null,null,null,null,null,{"$f":"LARGE(EV93:EV115,1)","v":559},null,null,null,null,null,null,null,null,null,null,null,{"$f":"LARGE(FH93:FH115,1)","v":0},null,null,null,null,null,null,null,null,null,null,null,{"$f":"LARGE(FT93:FT115,1)","v":0},null,null,null,null,null,null,null,null,null,null,null,{"$f":"LARGE(GF93:GF115,1)","v":0},null,null,null,null,null,null,null,null,null,null,null,{"$f":"LARGE(GR93:GR115,1)","v":0},null,null,null,null,null,null,null,null,null,null,null,{"$f":"LARGE(HC93:HC125,1)","v":0},null,null,null,null,null,null,null,null,null,null,{"$f":"LARGE(HN93:HN125,1)","v":0},null,null,null,null,null,null,null,null,null,null,{"$f":"LARGE(HY93:HY125,1)","v":0},null,null,null,null,null,null,null,null,null,null,{"$f":"LARGE(IJ93:IJ125,1)","v":0},null,null,null,null,null,null,null,null,null,null,{"$f":"LARGE(IU93:IU125,1)","v":0}]
[null,"Sum of Points","Column Labels",null,null,null,null,null,null,null,"League Score","Rank",null,"Sum of Points","Column Labels",null,null,null,null,null,null,null,"League Score","Rank",null,"Sum of Points","Column Labels",null,null,null,null,null,null,null,"League Score","Rank",null,"Sum of Points","Column Labels",null,null,null,null,null,null,null,"League Score","Rank",null,"Sum of Points","Column Labels",null,null,null,null,null,null,null,"League Score","Rank",null,"Sum of Points","Column Labels",null,null,null,null,null,null,null,"League Score","Rank",null,"Sum of Points","Column Labels",null,null,null,null,null,null,null,"League Score","Rank",null,"Sum of Points","Column Labels",null,null,null,null,null,null,null,"League Score","Rank",null,"Sum of Points","Column Labels",null,null,null,null,null,null,null,"League Score","Rank",null,"Sum of Points","Column Labels",null,null,null,null,null,null,null,"League Score","Rank",null,"Sum of Points","Column Labels",null,null,null,null,null,null,null,"League Score","Rank",null,"Sum of Points","Column Labels",null,null,null,null,null,null,null,"League Score","Rank",null,"Sum of Points","Column Labels",null,null,null,null,null,null,null,"League Score","Rank",null,"Sum of Points","Column Labels",null,null,null,null,null,null,null,"League Score","Rank",null,"Sum of Points","Column Labels",null,null,null,null,null,null,null,"League Score","Rank",null,"Sum of Points","Column Labels",null,null,null,null,null,null,null,"League Score","Rank",null,"Sum of Points","Column Labels",null,null,null,null,null,null,null,"League Score","Rank",null,"Sum of Points","Column Labels",null,null,null,null,null,null,"League Score","Rank",null,"Sum of Points","Column Labels",null,null,null,null,null,null,"League Score","Rank",null,"Sum of Points","Column Labels",null,null,null,null,null,null,"League Score","Rank",null,"Sum of Points","Column Labels",null,null,null,null,null,null,"League Score","Rank",null,"Sum of Points","Column Labels",null,null,null,null,null,null,"League Score","Rank"]
[null,"Row Labels","DCU","UCD/ITC","DkIT","NUIM/GMIT","NUIG","UL","Grand Total","Lowest",null,null,null,"Row Labels","DCU","UCD/ITC","DkIT","NUIM/GMIT","NUIG","UL","Grand Total","Lowest",null,null,null,"Row Labels","DCU","UCD/ITC","DkIT","NUIM/GMIT","NUIG","UL","Grand Total","Lowest",null,null,null,"Row Labels","DCU","UCD/ITC","DkIT","NUIM/GMIT","NUIG","UL","Grand Total","Lowest",null,null,null,"Row Labels","DCU","UCD/ITC","DkIT","NUIM/GMIT","NUIG","UL","Grand Total","Lowest",null,null,null,"Row Labels","DCU","UCD/ITC","DkIT","NUIM/GMIT","NUIG","UL","Grand Total","Lowest",null,null,null,"Row Labels","DCU","UCD/ITC","DkIT","NUIM/GMIT","NUIG","UL","Grand Total","Lowest",null,null,null,"Row Labels","DCU","UCD/ITC","DkIT","NUIM/GMIT","NUIG","UL","Grand Total","Lowest",null,null,null,"Row Labels","DCU","UCD/ITC","DkIT","NUIM/GMIT","NUIG","UL","Grand Total","Lowest",null,null,null,"Row Labels","DCU","UCD/ITC","DkIT","NUIM/GMIT","NUIG","UL","Grand Total","Lowest",null,null,null,"Row Labels","DCU","UCD/ITC","DkIT","NUIM/GMIT","NUIG","UL","Grand Total","Lowest",null,null,null,"Row Labels","DCU","UCD/ITC","DkIT","NUIM/GMIT","NUIG","UL","Grand Total","Lowest",null,null,null,"Row Labels","DCU","UCD/ITC","DkIT","NUIM/GMIT","NUIG","UL","Grand Total","Lowest",null,null,null,"Row Labels","DCU","UCD/ITC","DkIT","NUIM/GMIT","NUIG","UL","Grand Total","Lowest",null,null,null,"Row Labels","DCU","UCD/ITC","DkIT","NUIM/GMIT","NUIG","UL","Grand Total","Lowest",null,null,null,"Row Labels","DCU","UCD/ITC","DkIT","NUIM/GMIT","NUIG","UL","Grand Total","Lowest",null,null,null,"Row Labels","DCU","UCD/ITC","DkIT","NUIM/GMIT","NUIG","UL","Grand Total","Lowest",null,null,null,"Row Labels","DCU","MU","ITC","UCD","IT Tallaght","Grand Total","Lowest",null,null,null,"Row Labels","DCU","MU","ITC","UCD","IT Tallaght","Grand Total","Lowest",null,null,null,"Row Labels","DCU","MU","ITC","UCD","IT Tallaght","Grand Total","Lowest",null,null,null,"Row Labels","DCU","MU","ITC","UCD","IT Tallaght","Grand Total","Lowest",null,null,null,"Row Labels","DCU","MU","ITC","UCD","IT Tallaght","Grand Total","Lowest"]
[null,"Mark Sharvin",557,550,572,557,557,569,3362,{"$f":"MIN(C93:H93)","v":550},{"$f":"I93-J93","v":2812},{"$f":"IF(K93>1,RANK(K93,K$93:K$102,0),\"\")","v":1},null,"Sean Scott",0,513,524,0,514,513,2064,{"$f":"MIN(O93:T93)","v":0},{"$f":"U93-V93","v":2064},{"$f":"IF(W93>1,RANK(W93,W$93:W$102,0),\"\")","v":1},null,null,0,0,0,0,0,0,null,{"$f":"MIN(AA93:AF93)","v":0},{"$f":"AG93-AH93","v":0},{"$f":"IF(AI93>1,RANK(AI93,AI$93:AI$102,0),\"\")","v":""},null,null,0,0,0,0,0,0,null,{"$f":"MIN(AM93:AR93)","v":0},{"$f":"AS93-AT93","v":0},{"$f":"IF(AU93>1,RANK(AU93,AU$93:AU$102,0),\"\")","v":""},null,"Marko Kovacevic",515,512,527,0,0,0,1554,{"$f":"MIN(AY93:BD93)","v":0},{"$f":"BE93-BF93","v":1554},{"$f":"IF(BG93>1,RANK(BG93,BG$93:BG$102,0),\"\")","v":1},null,"Adria Quinn",528,533,512,0,0,0,1573,{"$f":"MIN(BK93:BP93)","v":0},{"$f":"BQ93-BR93","v":1573},{"$f":"IF(BS93>1,RANK(BS93,BS$93:BS$102,0),\"\")","v":1},null,null,0,0,0,0,0,0,null,{"$f":"MIN(BW93:CB93)","v":0},{"$f":"CC93-CD93","v":0},{"$f":"IF(CE93>1,RANK(CE93,CE$93:CE$102,0),\"\")","v":""},null,"Lukas Korcak",362,0,0,0,0,0,362,{"$f":"MIN(CI93:CN93)","v":0},{"$f":"CO93-CP93","v":362},{"$f":"IF(CQ93>1,RANK(CQ93,CQ$93:CQ$102,0),\"\")","v":1},null,"Kerrie Leonard",506,479,510,495,524,512,3026,{"$f":"MIN(CU93:CZ93)","v":479},{"$f":"DA93-DB93","v":2547},{"$f":"IF(DC93>1,RANK(DC93,DC$93:DC$102,0),\"\")","v":1},null,"Glen Conway",555,546,557,0,0,560,2218,{"$f":"MIN(DG93:DL93)","v":0},{"$f":"DM93-DN93","v":2218},{"$f":"IF(DO93>1,RANK(DO93,DO$93:DO$102,0),\"\")","v":1},null,"Carl Byrne",566,566,576,567,575,572,3422,{"$f":"MIN(DS93:DX93)","v":566},{"$f":"DY93-DZ93","v":2856},{"$f":"IF(EA93>1,RANK(EA93,EA$93:EA$102,0),\"\")","v":1},null,null,0,0,0,0,0,0,null,{"$f":"MIN(EE93:EJ93)","v":0},{"$f":"EK93-EL93","v":0},{"$f":"IF(EM93>1,RANK(EM93,EM$93:EM$102,0),\"\")","v":""},null,"Andrew Egan",534,550,553,0,554,559,2750,{"$f":"MIN(EQ93:EV93)","v":0},{"$f":"EW93-EX93","v":2750},{"$f":"IF(EY93>1,RANK(EY93,EY$93:EY$102,0),\"\")","v":1},null,null,0,0,0,0,0,0,null,{"$f":"MIN(FC93:FH93)","v":0},{"$f":"FI93-FJ93","v":0},{"$f":"IF(FK93>1,RANK(FK93,FK$93:FK$102,0),\"\")","v":""},null,null,0,0,0,0,0,0,null,{"$f":"MIN(FO93:FT93)","v":0},{"$f":"FU93-FV93","v":0},{"$f":"IF(FW93>1,RANK(FW93,FW$93:FW$102,0),\"\")","v":""},null,null,0,0,0,0,0,0,null,{"$f":"MIN(GA93:GF93)","v":0},{"$f":"GG93-GH93","v":0},{"$f":"IF(GI93>1,RANK(GI93,GI$93:GI$102,0),\"\")","v":""},null,null,0,0,0,0,0,0,null,{"$f":"MIN(GM93:GR93)","v":0},{"$f":"GS93-GT93","v":0},{"$f":"IF(GU93>1,RANK(GU93,GU$93:GU$102,0),\"\")","v":""},null,null,0,0,0,0,0,null,{"$f":"IF(Entries!$K$20=5,MIN(GY93,GZ93,HA93,HB93,HC93),IF(Entries!$K$20=4,MIN(GY93,GZ93,HA93,HB93),IF(Entries!$K$20=3,MIN(GY93,GZ93,HA93),IF(Entries!$K$20=2,MIN(GY93,GZ93),IF(Entries!$K$20=1,0,0)))))","v":0},{"$f":"HD93-HE93","v":0},{"$f":"IF(HF93>1,RANK(HF93,HF$93:HF$102,0),\"\")","v":""},null,null,0,0,0,0,0,null,{"$f":"IF(Entries!$K$20=5,MIN(HJ93,HK93,HL93,HM93,HN93),IF(Entries!$K$20=4,MIN(HJ93,HK93,HL93,HM93),IF(Entries!$K$20=3,MIN(HJ93,HK93,HL93),IF(Entries!$K$20=2,MIN(HJ93,HK93),IF(Entries!$K$20=1,0,0)))))","v":0},{"$f":"HO93-HP93","v":0},{"$f":"IF(HQ93>1,RANK(HQ93,HQ$93:HQ$102,0),\"\")","v":""},null,null,0,0,0,0,0,null,{"$f":"IF(Entries!$K$20=5,MIN(HU93,HV93,HW93,HX93,HY93),IF(Entries!$K$20=4,MIN(HU93,HV93,HW93,HX93),IF(Entries!$K$20=3,MIN(HU93,HV93,HW93),IF(Entries!$K$20=2,MIN(HU93,HV93),IF(Entries!$K$20=1,0,0)))))","v":0},{"$f":"HZ93-IA93","v":0},{"$f":"IF(IB93>1,RANK(IB93,IB$93:IB$102,0),\"\")","v":""},null,null,0,0,0,0,0,null,{"$f":"IF(Entries!$K$20=5,MIN(IF93,IG93,IH93,II93,IJ93),IF(Entries!$K$20=4,MIN(IF93,IG93,IH93,II93),IF(Entries!$K$20=3,MIN(IF93,IG93,IH93),IF(Entries!$K$20=2,MIN(IF93,IG93),IF(Entries!$K$20=1,0,0)))))","v":0},{"$f":"IK93-IL93","v":0},{"$f":"IF(IM93>1,RANK(IM93,IM$93:IM$102,0),\"\")","v":""},null,null,0,0,0,0,0,null,{"$f":"IF(Entries!$K$20=5,MIN(IQ93,IR93,IS93,IT93,IU93),IF(Entries!$K$20=4,MIN(IQ93,IR93,IS93,IT93),IF(Entries!$K$20=3,MIN(IQ93,IR93,IS93),IF(Entries!$K$20=2,MIN(IQ93,IR93),IF(Entries!$K$20=1,0,0)))))","v":0},{"$f":"IV93-IW93","v":0},{"$f":"IF(IX93>1,RANK(IX93,IX$93:IX$102,0),\"\")","v":""}]
[null,"Cillian Byrne",524,538,0,542,544,0,2148,{"$f":"MIN(C94:H94)","v":0},{"$f":"I94-J94","v":2148},{"$f":"IF(K94>1,RANK(K94,K$93:K$102,0),\"\")","v":2},null,"John Smith",564,566,570,0,0,0,1700,{"$f":"MIN(O94:T94)","v":0},{"$f":"U94-V94","v":1700},{"$f":"IF(W94>1,RANK(W94,W$93:W$102,0),\"\")","v":2},null,null,0,0,0,0,0,0,null,{"$f":"MIN(AA94:AF94)","v":0},{"$f":"AG94-AH94","v":0},{"$f":"IF(AI94>1,RANK(AI94,AI$93:AI$102,0),\"\")","v":""},null,null,0,0,0,0,0,0,null,{"$f":"MIN(AM94:AR94)","v":0},{"$f":"AS94-AT94","v":0},{"$f":"IF(AU94>1,RANK(AU94,AU$93:AU$102,0),\"\")","v":""},null,null,0,0,0,0,0,0,null,{"$f":"MIN(AY94:BD94)","v":0},{"$f":"BE94-BF94","v":0},{"$f":"IF(BG94>1,RANK(BG94,BG$93:BG$102,0),\"\")","v":""},null,null,0,0,0,0,0,0,null,{"$f":"MIN(BK94:BP94)","v":0},{"$f":"BQ94-BR94","v":0},{"$f":"IF(BS94>1,RANK(BS94,BS$93:BS$102,0),\"\")","v":""},null,null,0,0,0,0,0,0,null,{"$f":"MIN(BW94:CB94)","v":0},{"$f":"CC94-CD94","v":0},{"$f":"IF(CE94>1,RANK(CE94,CE$93:CE$102,0),\"\")","v":""},null,null,0,0,0,0,0,0,null,{"$f":"MIN(CI94:CN94)","v":0},{"$f":"CO94-CP94","v":0},{"$f":"IF(CQ94>1,RANK(CQ94,CQ$93:CQ$102,0),\"\")","v":""},null,null,0,0,0,0,0,0,null,{"$f":"MIN(CU94:CZ94)","v":0},{"$f":"DA94-DB94","v":0},{"$f":"IF(DC94>1,RANK(DC94,DC$93:DC$102,0),\"\")","v":""},null,null,0,0,0,0,0,0,null,{"$f":"MIN(DG94:DL94)","v":0},{"$f":"DM94-DN94","v":0},{"$f":"IF(DO94>1,RANK(DO94,DO$93:DO$102,0),\"\")","v":""},null,"Christopher Ryan",513,539,547,525,350,544,3018,{"$f":"MIN(DS94:DX94)","v":350},{"$f":"DY94-DZ94","v":2668},{"$f":"IF(EA94>1,RANK(EA94,EA$93:EA$102,0),\"\")","v":2},null,null,0,0,0,0,0,0,null,{"$f":"MIN(EE94:EJ94)","v":0},{"$f":"EK94-EL94","v":0},{"$f":"IF(EM94>1,RANK(EM94,EM$93:EM$102,0),\"\")","v":""},null,"Katie Hamilton",0,0,0,0,491,0,491,{"$f":"MIN(EQ94:EV94)","v":0},{"$f":"EW94-EX94","v":491},{"$f":"IF(EY94>1,RANK(EY94,EY$93:EY$102,0),\"\")","v":2},null,null,0,0,0,0,0,0,null,{"$f":"MIN(FC94:FH94)","v":0},{"$f":"FI94-FJ94","v":0},{"$f":"IF(FK94>1,RANK(FK94,FK$93:FK$102,0),\"\")","v":""},null,null,0,0,0,0,0,0,null,{"$f":"MIN(FO94:FT94)","v":0},{"$f":"FU94-FV94","v":0},{"$f":"IF(FW94>1,RANK(FW94,FW$93:FW$102,0),\"\")","v":""},null,null,0,0,0,0,0,0,null,{"$f":"MIN(GA94:GF94)","v":0},{"$f":"GG94-GH94","v":0},{"$f":"IF(GI94>1,RANK(GI94,GI$93:GI$102,0),\"\")","v":""},null,null,0,0,0,0,0,0,null,{"$f":"MIN(GM94:GR94)","v":0},{"$f":"GS94-GT94","v":0},{"$f":"IF(GU94>1,RANK(GU94,GU$93:GU$102,0),\"\")","v":""},null,null,0,0,0,0,0,null,{"$f":"IF(Entries!$K$20=5,MIN(GY94,GZ94,HA94,HB94,HC94),IF(Entries!$K$20=4,MIN(GY94,GZ94,HA94,HB94),IF(Entries!$K$20=3,MIN(GY94,GZ94,HA94),IF(Entries!$K$20=2,MIN(GY94,GZ94),IF(Entries!$K$20=1,0,0)))))","v":0},0,{"$f":"IF(HF94>1,RANK(HF94,HF$93:HF$102,0),\"\")","v":""},null,null,0,0,0,0,0,null,{"$f":"IF(Entries!$K$20=5,MIN(HJ94,HK94,HL94,HM94,HN94),IF(Entries!$K$20=4,MIN(HJ94,HK94,HL94,HM94),IF(Entries!$K$20=3,MIN(HJ94,HK94,HL94),IF(Entries!$K$20=2,MIN(HJ94,HK94),IF(Entries!$K$20=1,0,0)))))","v":0},0,{"$f":"IF(HQ94>1,RANK(HQ94,HQ$93:HQ$102,0),\"\")","v":""},null,null,0,0,0,0,0,null,{"$f":"IF(Entries!$K$20=5,MIN(HU94,HV94,HW94,HX94,HY94),IF(Entries!$K$20=4,MIN(HU94,HV94,HW94,HX94),IF(Entries!$K$20=3,MIN(HU94,HV94,HW94),IF(Entries!$K$20=2,MIN(HU94,HV94),IF(Entries!$K$20=1,0,0)))))","v":0},0,{"$f":"IF(IB94>1,RANK(IB94,IB$93:IB$102,0),\"\")","v":""},null,null,0,0,0,0,0,null,{"$f":"IF(Entries!$K$20=5,MIN(IF94,IG94,IH94,II94,IJ94),IF(Entries!$K$20=4,MIN(IF94,IG94,IH94,II94),IF(Entries!$K$20=3,MIN(IF94,IG94,IH94),IF(Entries!$K$20=2,MIN(IF94,IG94),IF(Entries!$K$20=1,0,0)))))","v":0},0,{"$f":"IF(IM94>1,RANK(IM94,IM$93:IM$102,0),\"\")","v":""},null,null,0,0,0,0,0,null,{"$f":"IF(Entries!$K$20=5,MIN(IQ94,IR94,IS94,IT94,IU94),IF(Entries!$K$20=4,MIN(IQ94,IR94,IS94,IT94),IF(Entries!$K$20=3,MIN(IQ94,IR94,IS94),IF(Entries!$K$20=2,MIN(IQ94,IR94),IF(Entries!$K$20=1,0,0)))))","v":0},0,{"$f":"IF(IX94>1,RANK(IX94,IX$93:IX$102,0),\"\")","v":""}]
[null,"Stephanie Martin",511,517,0,516,0,522,2066,0,2066,3,null,null,0,0,0,0,0,0,null,0,0,"",null,null,0,0,0,0,0,0,null,0,0,"",null,null,0,0,0,0,0,0,null,0,0,"",null,null,0,0,0,0,0,0,null,0,0,"",null,null,0,0,0,0,0,0,null,0,0,"",null,null,0,0,0,0,0,0,null,0,0,"",null,null,0,0,0,0,0,0,null,0,0,"",null,null,0,0,0,0,0,0,null,0,0,"",null,null,0,0,0,0,0,0,null,0,0,"",null,"Callum Conroy",505,469,493,468,524,540,2999,468,2531,3,null,null,0,0,0,0,0,0,null,0,0,"",null,null,0,0,0,0,0,0,null,0,0,"",null,null,0,0,0,0,0,0,null,0,0,"",null,null,0,0,0,0,0,0,null,0,0,"",null,null,0,0,0,0,0,0,null,0,0,"",null,null,0,0,0,0,0,0,null,0,0,"",null,null,0,0,0,0,0,null,{"$f":"IF(Entries!$K$20=5,MIN(GY95,GZ95,HA95,HB95,HC95),IF(Entries!$K$20=4,MIN(GY95,GZ95,HA95,HB95),IF(Entries!$K$20=3,MIN(GY95,GZ95,HA95),IF(Entries!$K$20=2,MIN(GY95,GZ95),IF(Entries!$K$20=1,0,0)))))","v":0},0,"",null,null,0,0,0,0,0,null,{"$f":"IF(Entries!$K$20=5,MIN(HJ95,HK95,HL95,HM95,HN95),IF(Entries!$K$20=4,MIN(HJ95,HK95,HL95,HM95),IF(Entries!$K$20=3,MIN(HJ95,HK95,HL95),IF(Entries!$K$20=2,MIN(HJ95,HK95),IF(Entries!$K$20=1,0,0)))))","v":0},0,"",null,null,0,0,0,0,0,null,{"$f":"IF(Entries!$K$20=5,MIN(HU95,HV95,HW95,HX95,HY95),IF(Entries!$K$20=4,MIN(HU95,HV95,HW95,HX95),IF(Entries!$K$20=3,MIN(HU95,HV95,HW95),IF(Entries!$K$20=2,MIN(HU95,HV95),IF(Entries!$K$20=1,0,0)))))","v":0},0,"",null,null,0,0,0,0,0,null,{"$f":"IF(Entries!$K$20=5,MIN(IF95,IG95,IH95,II95,IJ95),IF(Entries!$K$20=4,MIN(IF95,IG95,IH95,II95),IF(Entries!$K$20=3,MIN(IF95,IG95,IH95),IF(Entries!$K$20=2,MIN(IF95,IG95),IF(Entries!$K$20=1,0,0)))))","v":0},0,"",null,null,0,0,0,0,0,null,{"$f":"IF(Entries!$K$20=5,MIN(IQ95,IR95,IS95,IT95,IU95),IF(Entries!$K$20=4,MIN(IQ95,IR95,IS95,IT95),IF(Entries!$K$20=3,MIN(IQ95,IR95,IS95),IF(Entries!$K$20=2,MIN(IQ95,IR95),IF(Entries!$K$20=1,0,0)))))","v":0},0,""]
[null,null,null,null,null,null,null,null,null,0,0,"",null,null,null,null,null,null,null,null,null,0,0,"",null,null,null,null,null,null,null,null,null,0,0,"",null,null,null,null,null,null,null,null,null,0,0,"",null,null,null,null,null,null,null,null,null,0,0,"",null,null,null,null,null,null,null,null,null,0,0,"",null,null,null,null,null,null,null,null,null,0,0,"",null,null,null,null,null,null,null,null,null,0,0,"",null,null,null,null,null,null,null,null,null,0,0,"",null,null,null,null,null,null,null,null,null,0,0,"",null,"Nicole Shellenbarger",0,0,0,477,414,463,1354,0,1354,4,null,null,null,null,null,null,null,null,null,0,0,"",null,null,null,null,null,null,null,null,null,0,0,"",null,null,null,null,null,null,null,null,null,0,0,"",null,null,null,null,null,null,null,null,null,0,0,"",null,null,null,null,null,null,null,null,null,0,0,"",null,null,null,null,null,null,null,null,null,0,0,"",null,null,null,null,null,null,null,null,{"$f":"IF(Entries!$K$20=5,MIN(GY96,GZ96,HA96,HB96,HC96),IF(Entries!$K$20=4,MIN(GY96,GZ96,HA96,HB96),IF(Entries!$K$20=3,MIN(GY96,GZ96,HA96),IF(Entries!$K$20=2,MIN(GY96,GZ96),IF(Entries!$K$20=1,0,0)))))","v":0},0,"",null,null,null,null,null,null,null,null,{"$f":"IF(Entries!$K$20=5,MIN(HJ96,HK96,HL96,HM96,HN96),IF(Entries!$K$20=4,MIN(HJ96,HK96,HL96,HM96),IF(Entries!$K$20=3,MIN(HJ96,HK96,HL96),IF(Entries!$K$20=2,MIN(HJ96,HK96),IF(Entries!$K$20=1,0,0)))))","v":0},0,"",null,null,null,null,null,null,null,null,{"$f":"IF(Entries!$K$20=5,MIN(HU96,HV96,HW96,HX96,HY96),IF(Entries!$K$20=4,MIN(HU96,HV96,HW96,HX96),IF(Entries!$K$20=3,MIN(HU96,HV96,HW96),IF(Entries!$K$20=2,MIN(HU96,HV96),IF(Entries!$K$20=1,0,0)))))","v":0},0,"",null,null,null,null,null,null,null,null,{"$f":"IF(Entries!$K$20=5,MIN(IF96,IG96,IH96,II96,IJ96),IF(Entries!$K$20=4,MIN(IF96,IG96,IH96,II96),IF(Entries!$K$20=3,MIN(IF96,IG96,IH96),IF(Entries!$K$20=2,MIN(IF96,IG96),IF(Entries!$K$20=1,0,0)))))","v":0},0,"",null,null,null,null,null,null,null,null,{"$f":"IF(Entries!$K$20=5,MIN(IQ96,IR96,IS96,IT96,IU96),IF(Entries!$K$20=4,MIN(IQ96,IR96,IS96,IT96),IF(Entries!$K$20=3,MIN(IQ96,IR96,IS96),IF(Entries!$K$20=2,MIN(IQ96,IR96),IF(Entries!$K$20=1,0,0)))))","v":0},0,""]
[null,null,null,null,null,null,null,null,null,0,0,"",null,null,null,null,null,null,null,null,null,0,0,"",null,null,null,null,null,null,null,null,null,0,0,"",null,null,null,null,null,null,null,null,null,0,0,"",null,null,null,null,null,null,null,null,null,0,0,"",null,null,null,null,null,null,null,null,null,0,0,"",null,null,null,null,null,null,null,null,null,0,0,"",null,null,null,null,null,null,null,null,null,0,0,"",null,null,null,null,null,null,null,null,null,0,0,"",null,null,null,null,null,null,null,null,null,0,0,"",null,"Will Hurley",0,498,0,0,0,0,498,0,498,5,null,null,null,null,null,null,null,null,null,0,0,"",null,null,null,null,null,null,null,null,null,0,0,"",null,null,null,null,null,null,null,null,null,0,0,"",null,null,null,null,null,null,null,null,null,0,0,"",null,null,null,null,null,null,null,null,null,0,0,"",null,null,null,null,null,null,null,null,null,0,0,"",null,null,null,null,null,null,null,null,{"$f":"IF(Entries!$K$20=5,MIN(GY97,GZ97,HA97,HB97,HC97),IF(Entries!$K$20=4,MIN(GY97,GZ97,HA97,HB97),IF(Entries!$K$20=3,MIN(GY97,GZ97,HA97),IF(Entries!$K$20=2,MIN(GY97,GZ97),IF(Entries!$K$20=1,0,0)))))","v":0},0,"",null,null,null,null,null,null,null,null,{"$f":"IF(Entries!$K$20=5,MIN(HJ97,HK97,HL97,HM97,HN97),IF(Entries!$K$20=4,MIN(HJ97,HK97,HL97,HM97),IF(Entries!$K$20=3,MIN(HJ97,HK97,HL97),IF(Entries!$K$20=2,MIN(HJ97,HK97),IF(Entries!$K$20=1,0,0)))))","v":0},0,"",null,null,null,null,null,null,null,null,{"$f":"IF(Entries!$K$20=5,MIN(HU97,HV97,HW97,HX97,HY97),IF(Entries!$K$20=4,MIN(HU97,HV97,HW97,HX97),IF(Entries!$K$20=3,MIN(HU97,HV97,HW97),IF(Entries!$K$20=2,MIN(HU97,HV97),IF(Entries!$K$20=1,0,0)))))","v":0},0,"",null,null,null,null,null,null,null,null,{"$f":"IF(Entries!$K$20=5,MIN(IF97,IG97,IH97,II97,IJ97),IF(Entries!$K$20=4,MIN(IF97,IG97,IH97,II97),IF(Entries!$K$20=3,MIN(IF97,IG97,IH97),IF(Entries!$K$20=2,MIN(IF97,IG97),IF(Entries!$K$20=1,0,0)))))","v":0},0,"",null,null,null,null,null,null,null,null,{"$f":"IF(Entries!$K$20=5,MIN(IQ97,IR97,IS97,IT97,IU97),IF(Entries!$K$20=4,MIN(IQ97,IR97,IS97,IT97),IF(Entries!$K$20=3,MIN(IQ97,IR97,IS97),IF(Entries!$K$20=2,MIN(IQ97,IR97),IF(Entries!$K$20=1,0,0)))))","v":0},0,""]
[null,null,null,null,null,null,null,null,null,0,0,"",null,null,null,null,null,null,null,null,null,0,0,"",null,null,null,null,null,null,null,null,null,0,0,"",null,null,null,null,null,null,null,null,null,0,0,"",null,null,null,null,null,null,null,null,null,0,0,"",null,null,null,null,null,null,null,null,null,0,0,"",null,null,null,null,null,null,null,null,null,0,0,"",null,null,null,null,null,null,null,null,null,0,0,"",null,null,null,null,null,null,null,null,null,0,0,"",null,null,null,null,null,null,null,null,null,0,0,"",null,null,null,null,null,null,null,null,null,0,0,"",null,null,null,null,null,null,null,null,null,0,0,"",null,null,null,null,null,null,null,null,null,0,0,"",null,null,null,null,null,null,null,null,null,0,0,"",null,null,null,null,null,null,null,null,null,0,0,"",null,null,null,null,null,null,null,null,null,0,0,"",null,null,null,null,null,null,null,null,null,0,0,"",null,null,null,null,null,null,null,null,{"$f":"IF(Entries!$K$20=5,MIN(GY98,GZ98,HA98,HB98,HC98),IF(Entries!$K$20=4,MIN(GY98,GZ98,HA98,HB98),IF(Entries!$K$20=3,MIN(GY98,GZ98,HA98),IF(Entries!$K$20=2,MIN(GY98,GZ98),IF(Entries!$K$20=1,0,0)))))","v":0},0,"",null,null,null,null,null,null,null,null,{"$f":"IF(Entries!$K$20=5,MIN(HJ98,HK98,HL98,HM98,HN98),IF(Entries!$K$20=4,MIN(HJ98,HK98,HL98,HM98),IF(Entries!$K$20=3,MIN(HJ98,HK98,HL98),IF(Entries!$K$20=2,MIN(HJ98,HK98),IF(Entries!$K$20=1,0,0)))))","v":0},0,"",null,null,null,null,null,null,null,null,{"$f":"IF(Entries!$K$20=5,MIN(HU98,HV98,HW98,HX98,HY98),IF(Entries!$K$20=4,MIN(HU98,HV98,HW98,HX98),IF(Entries!$K$20=3,MIN(HU98,HV98,HW98),IF(Entries!$K$20=2,MIN(HU98,HV98),IF(Entries!$K$20=1,0,0)))))","v":0},0,"",null,null,null,null,null,null,null,null,{"$f":"IF(Entries!$K$20=5,MIN(IF98,IG98,IH98,II98,IJ98),IF(Entries!$K$20=4,MIN(IF98,IG98,IH98,II98),IF(Entries!$K$20=3,MIN(IF98,IG98,IH98),IF(Entries!$K$20=2,MIN(IF98,IG98),IF(Entries!$K$20=1,0,0)))))","v":0},0,"",null,null,null,null,null,null,null,null,{"$f":"IF(Entries!$K$20=5,MIN(IQ98,IR98,IS98,IT98,IU98),IF(Entries!$K$20=4,MIN(IQ98,IR98,IS98,IT98),IF(Entries!$K$20=3,MIN(IQ98,IR98,IS98),IF(Entries!$K$20=2,MIN(IQ98,IR98),IF(Entries!$K$20=1,0,0)))))","v":0},0,""]
[null,null,null,null,null,null,null,null,null,0,0,"",null,null,null,null,null,null,null,null,null,0,0,"",null,null,null,null,null,null,null,null,null,0,0,"",null,null,null,null,null,null,null,null,null,0,0,"",null,null,null,null,null,null,null,null,null,0,0,"",null,null,null,null,null,null,null,null,null,0,0,"",null,null,null,null,null,null,null,null,null,0,0,"",null,null,null,null,null,null,null,null,null,0,0,"",null,null,null,null,null,null,null,null,null,0,0,"",null,null,null,null,null,null,null,null,null,0,0,"",null,null,null,null,null,null,null,null,null,0,0,"",null,null,null,null,null,null,null,null,null,0,0,"",null,null,null,null,null,null,null,null,null,0,0,"",null,null,null,null,null,null,null,null,null,0,0,"",null,null,null,null,null,null,null,null,null,0,0,"",null,null,null,null,null,null,null,null,null,0,0,"",null,null,null,null,null,null,null,null,null,0,0,"",null,null,null,null,null,null,null,null,{"$f":"IF(Entries!$K$20=5,MIN(GY99,GZ99,HA99,HB99,HC99),IF(Entries!$K$20=4,MIN(GY99,GZ99,HA99,HB99),IF(Entries!$K$20=3,MIN(GY99,GZ99,HA99),IF(Entries!$K$20=2,MIN(GY99,GZ99),IF(Entries!$K$20=1,0,0)))))","v":0},0,"",null,null,null,null,null,null,null,null,{"$f":"IF(Entries!$K$20=5,MIN(HJ99,HK99,HL99,HM99,HN99),IF(Entries!$K$20=4,MIN(HJ99,HK99,HL99,HM99),IF(Entries!$K$20=3,MIN(HJ99,HK99,HL99),IF(Entries!$K$20=2,MIN(HJ99,HK99),IF(Entries!$K$20=1,0,0)))))","v":0},0,"",null,null,null,null,null,null,null,null,{"$f":"IF(Entries!$K$20=5,MIN(HU99,HV99,HW99,HX99,HY99),IF(Entries!$K$20=4,MIN(HU99,HV99,HW99,HX99),IF(Entries!$K$20=3,MIN(HU99,HV99,HW99),IF(Entries!$K$20=2,MIN(HU99,HV99),IF(Entries!$K$20=1,0,0)))))","v":0},0,"",null,null,null,null,null,null,null,null,{"$f":"IF(Entries!$K$20=5,MIN(IF99,IG99,IH99,II99,IJ99),IF(Entries!$K$20=4,MIN(IF99,IG99,IH99,II99),IF(Entries!$K$20=3,MIN(IF99,IG99,IH99),IF(Entries!$K$20=2,MIN(IF99,IG99),IF(Entries!$K$20=1,0,0)))))","v":0},0,"",null,null,null,null,null,null,null,null,{"$f":"IF(Entries!$K$20=5,MIN(IQ99,IR99,IS99,IT99,IU99),IF(Entries!$K$20=4,MIN(IQ99,IR99,IS99,IT99),IF(Entries!$K$20=3,MIN(IQ99,IR99,IS99),IF(Entries!$K$20=2,MIN(IQ99,IR99),IF(Entries!$K$20=1,0,0)))))","v":0},0,""]
[null,null,null,null,null,null,null,null,null,0,0,"",null,null,null,null,null,null,null,null,null,0,0,"",null,null,null,null,null,null,null,null,null,0,0,"",null,null,null,null,null,null,null,null,null,0,0,"",null,null,null,null,null,null,null,null,null,0,0,"",null,null,null,null,null,null,null,null,null,0,0,"",null,null,null,null,null,null,null,null,null,0,0,"",null,null,null,null,null,null,null,null,null,0,0,"",null,null,null,null,null,null,null,null,null,0,0,"",null,null,null,null,null,null,null,null,null,0,0,"",null,null,null,null,null,null,null,null,null,0,0,"",null,null,null,null,null,null,null,null,null,0,0,"",null,null,null,null,null,null,null,null,null,0,0,"",null,null,null,null,null,null,null,null,null,0,0,"",null,null,null,null,null,null,null,null,null,0,0,"",null,null,null,null,null,null,null,null,null,0,0,"",null,null,null,null,null,null,null,null,null,0,0,"",null,null,null,null,null,null,null,null,{"$f":"IF(Entries!$K$20=5,MIN(GY100,GZ100,HA100,HB100,HC100),IF(Entries!$K$20=4,MIN(GY100,GZ100,HA100,HB100),IF(Entries!$K$20=3,MIN(GY100,GZ100,HA100),IF(Entries!$K$20=2,MIN(GY100,GZ100),IF(Entries!$K$20=1,0,0)))))","v":0},0,"",null,null,null,null,null,null,null,null,{"$f":"IF(Entries!$K$20=5,MIN(HJ100,HK100,HL100,HM100,HN100),IF(Entries!$K$20=4,MIN(HJ100,HK100,HL100,HM100),IF(Entries!$K$20=3,MIN(HJ100,HK100,HL100),IF(Entries!$K$20=2,MIN(HJ100,HK100),IF(Entries!$K$20=1,0,0)))))","v":0},0,"",null,null,null,null,null,null,null,null,{"$f":"IF(Entries!$K$20=5,MIN(HU100,HV100,HW100,HX100,HY100),IF(Entries!$K$20=4,MIN(HU100,HV100,HW100,HX100),IF(Entries!$K$20=3,MIN(HU100,HV100,HW100),IF(Entries!$K$20=2,MIN(HU100,HV100),IF(Entries!$K$20=1,0,0)))))","v":0},0,"",null,null,null,null,null,null,null,null,{"$f":"IF(Entries!$K$20=5,MIN(IF100,IG100,IH100,II100,IJ100),IF(Entries!$K$20=4,MIN(IF100,IG100,IH100,II100),IF(Entries!$K$20=3,MIN(IF100,IG100,IH100),IF(Entries!$K$20=2,MIN(IF100,IG100),IF(Entries!$K$20=1,0,0)))))","v":0},0,"",null,null,null,null,null,null,null,null,{"$f":"IF(Entries!$K$20=5,MIN(IQ100,IR100,IS100,IT100,IU100),IF(Entries!$K$20=4,MIN(IQ100,IR100,IS100,IT100),IF(Entries!$K$20=3,MIN(IQ100,IR100,IS100),IF(Entries!$K$20=2,MIN(IQ100,IR100),IF(Entries!$K$20=1,0,0)))))","v":0},0,""]
[null,null,null,null,null,null,null,null,null,0,0,"",null,null,null,null,null,null,null,null,null,0,0,"",null,null,null,null,null,null,null,null,null,0,0,"",null,null,null,null,null,null,null,null,null,0,0,"",null,null,null,null,null,null,null,null,null,0,0,"",null,null,null,null,null,null,null,null,null,0,0,"",null,null,null,null,null,null,null,null,null,0,0,"",null,null,null,null,null,null,null,null,null,0,0,"",null,null,null,null,null,null,null,null,null,0,0,"",null,null,null,null,null,null,null,null,null,0,0,"",null,null,null,null,null,null,null,null,null,0,0,"",null,null,null,null,null,null,null,null,null,0,0,"",null,null,null,null,null,null,null,null,null,0,0,"",null,null,null,null,null,null,null,null,null,0,0,"",null,null,null,null,null,null,null,null,null,0,0,"",null,null,null,null,null,null,null,null,null,0,0,"",null,null,null,null,null,null,null,null,null,0,0,"",null,null,null,null,null,null,null,null,{"$f":"IF(Entries!$K$20=5,MIN(GY101,GZ101,HA101,HB101,HC101),IF(Entries!$K$20=4,MIN(GY101,GZ101,HA101,HB101),IF(Entries!$K$20=3,MIN(GY101,GZ101,HA101),IF(Entries!$K$20=2,MIN(GY101,GZ101),IF(Entries!$K$20=1,0,0)))))","v":0},0,"",null,null,null,null,null,null,null,null,{"$f":"IF(Entries!$K$20=5,MIN(HJ101,HK101,HL101,HM101,HN101),IF(Entries!$K$20=4,MIN(HJ101,HK101,HL101,HM101),IF(Entries!$K$20=3,MIN(HJ101,HK101,HL101),IF(Entries!$K$20=2,MIN(HJ101,HK101),IF(Entries!$K$20=1,0,0)))))","v":0},0,"",null,null,null,null,null,null,null,null,{"$f":"IF(Entries!$K$20=5,MIN(HU101,HV101,HW101,HX101,HY101),IF(Entries!$K$20=4,MIN(HU101,HV101,HW101,HX101),IF(Entries!$K$20=3,MIN(HU101,HV101,HW101),IF(Entries!$K$20=2,MIN(HU101,HV101),IF(Entries!$K$20=1,0,0)))))","v":0},0,"",null,null,null,null,null,null,null,null,{"$f":"IF(Entries!$K$20=5,MIN(IF101,IG101,IH101,II101,IJ101),IF(Entries!$K$20=4,MIN(IF101,IG101,IH101,II101),IF(Entries!$K$20=3,MIN(IF101,IG101,IH101),IF(Entries!$K$20=2,MIN(IF101,IG101),IF(Entries!$K$20=1,0,0)))))","v":0},0,"",null,null,null,null,null,null,null,null,{"$f":"IF(Entries!$K$20=5,MIN(IQ101,IR101,IS101,IT101,IU101),IF(Entries!$K$20=4,MIN(IQ101,IR101,IS101,IT101),IF(Entries!$K$20=3,MIN(IQ101,IR101,IS101),IF(Entries!$K$20=2,MIN(IQ101,IR101),IF(Entries!$K$20=1,0,0)))))","v":0},0,""]
[null,null,null,null,null,null,null,null,null,0,0,"",null,null,null,null,null,null,null,null,null,0,0,"",null,null,null,null,null,null,null,null,null,0,0,"",null,null,null,null,null,null,null,null,null,0,0,"",null,null,null,null,null,null,null,null,null,0,0,"",null,null,null,null,null,null,null,null,null,0,0,"",null,null,null,null,null,null,null,null,null,0,0,"",null,null,null,null,null,null,null,null,null,0,0,"",null,null,null,null,null,null,null,null,null,0,0,"",null,null,null,null,null,null,null,null,null,0,0,"",null,null,null,null,null,null,null,null,null,0,0,"",null,null,null,null,null,null,null,null,null,0,0,"",null,null,null,null,null,null,null,null,null,0,0,"",null,null,null,null,null,null,null,null,null,0,0,"",null,null,null,null,null,null,null,null,null,0,0,"",null,null,null,null,null,null,null,null,null,0,0,"",null,null,null,null,null,null,null,null,null,0,0,"",null,null,null,null,null,null,null,null,{"$f":"IF(Entries!$K$20=5,MIN(GY102,GZ102,HA102,HB102,HC102),IF(Entries!$K$20=4,MIN(GY102,GZ102,HA102,HB102),IF(Entries!$K$20=3,MIN(GY102,GZ102,HA102),IF(Entries!$K$20=2,MIN(GY102,GZ102),IF(Entries!$K$20=1,0,0)))))","v":0},0,"",null,null,null,null,null,null,null,null,{"$f":"IF(Entries!$K$20=5,MIN(HJ102,HK102,HL102,HM102,HN102),IF(Entries!$K$20=4,MIN(HJ102,HK102,HL102,HM102),IF(Entries!$K$20=3,MIN(HJ102,HK102,HL102),IF(Entries!$K$20=2,MIN(HJ102,HK102),IF(Entries!$K$20=1,0,0)))))","v":0},0,"",null,null,null,null,null,null,null,null,{"$f":"IF(Entries!$K$20=5,MIN(HU102,HV102,HW102,HX102,HY102),IF(Entries!$K$20=4,MIN(HU102,HV102,HW102,HX102),IF(Entries!$K$20=3,MIN(HU102,HV102,HW102),IF(Entries!$K$20=2,MIN(HU102,HV102),IF(Entries!$K$20=1,0,0)))))","v":0},0,"",null,null,null,null,null,null,null,null,{"$f":"IF(Entries!$K$20=5,MIN(IF102,IG102,IH102,II102,IJ102),IF(Entries!$K$20=4,MIN(IF102,IG102,IH102,II102),IF(Entries!$K$20=3,MIN(IF102,IG102,IH102),IF(Entries!$K$20=2,MIN(IF102,IG102),IF(Entries!$K$20=1,0,0)))))","v":0},0,"",null,null,null,null,null,null,null,null,{"$f":"IF(Entries!$K$20=5,MIN(IQ102,IR102,IS102,IT102,IU102),IF(Entries!$K$20=4,MIN(IQ102,IR102,IS102,IT102),IF(Entries!$K$20=3,MIN(IQ102,IR102,IS102),IF(Entries!$K$20=2,MIN(IQ102,IR102),IF(Entries!$K$20=1,0,0)))))","v":0},0,""]
[]
[]
[]
[]
[]
[]
[]
[]
[]
[]
[]
[]
[]
[]
[]
[]
[]
[]
[]
[]
[]
[]
[]
[]
[]
[]
[]
[]
[]
[{"$f":"K9","v":2730},{"$f":"B9","v":"Adam McSweeney"},"DCU Recurve"]
[2588,{"$f":"B10","v":"Dave Boyle"}]
[2374,"Sarah Maloney"]
[2107,"Christina Somers"]
[2126,"Austin Tobin"]
[2081,"Philip Early"]
[1847,"Ciara O'Sullivan"]
[1515,"Paul Coleman"]
[1389,"Daniel Meyer"]
[1261,"Laura Ni Riada"]
[1186,"Marie Phelan"]
[965,"Gary Cooney"]
[819,"Laura Ford"]
[437,"Gary Kelly"]
[350,"Shu Chen"]
[275,"Hana Cúipéir"]
[0,0]
[0,0]
[0,0]
[0,0]
[0,0]
[]
[]
[]
[]
[{"$f":"W9","v":2492},{"$f":"N9","v":"James Byrne"},"DIT Recurve"]
[2626,"Ryan Byrne"]
[{"$f":"W11","v":2091},{"$f":"N11","v":"Jen Daly"}]
[2416,"Youcheng Pan"]
[2361,"Adam Garton"]
[1143,"Graham Buckley"]
[421,"Alan Boylan"]
[372,"Robin Collins"]
[365,"Artem Eremin"]
[287,"Elizabeth Clare Lao"]
[0,0]
[0,0]
[0,0]
[0,0]
[0,0]
[0,0]
[0,0]
[0,0]
[0,0]
[0,0]
[0,0]
[]
[]
[]
[]
[{"$f":"AI9","v":2645},{"$f":"Z9","v":"Brendan Forde"},"DkIT Recurve"]
[{"$f":"AI10","v":2219},{"$f":"Z10","v":"Kevin Kok Zhi Hao"}]
[1941,"Edwin Ma"]
[1970,"See Qui Ren"]
[1832,"Jessica Lee"]
[1811,"Keet Wai Hong"]
[1731,"Jocelyn Yee"]
[1687,"Victoria Tan"]
[1938,"Patrick Markey"]
[1729,"Yeo Eng Jet"]
[1612,"Colm McClelland"]
[1383,"Tony Liu"]
[603,"Rebecca Ward"]
[421,"Brona Howard"]
[0,0]
[0,0]
[0,0]
[0,0]
[0,0]
[0,0]
[0,0]
[]
[]
[]
[]
[{"$f":"AU9","v":2771},{"$f":"AL9","v":"Maeve Reidy"},"DUAC Recurve"]
[{"$f":"AU10","v":0},{"$f":"AL10","v":0}]
[0,0]
[0,0]
[0,0]
[0,0]
[0,0]
[0,0]
[0,0]
[0,0]
[0,0]
[0,0]
[0,0]
[0,0]
[0,0]
[0,0]
[0,0]
[0,0]
[0,0]
[0,0]
[0,0]
[]
[]
[]
[]
[{"$f":"BG9","v":1728},{"$f":"AX9","v":"Conor McCan"},"GMIT Recurve"]
[{"$f":"BG10","v":1573},{"$f":"AX10","v":"Brendan Browne"}]
[1487,"Shane McGloin"]
[1346,"Marko Kovacevic"]
[1281,"Lukasz wrobel"]
[886,"Aaron Downes"]
[732,"Luke Watson"]
[606,"Martin Stenson"]
[264,"Desmond Monaghan"]
[252,"Ciaran McElhinney"]
[0,0]
[0,0]
[0,0]
[0,0]
[0,0]
[0,0]
[0,0]
[0,0]
[0,0]
[0,0]
[0,0]
[]
[]
[]
[]
[{"$f":"BS9","v":2185},{"$f":"BJ9","v":"Sinead Naughton"},"GMITC Recurve"]
[{"$f":"BS10","v":337},{"$f":"BJ10","v":"Eamonn Dunleavy"}]
[0,0]
[0,0]
[0,0]
[0,0]
[0,0]
[0,0]
[0,0]
[0,0]
[0,0]
[0,0]
[0,0]
[0,0]
[0,0]
[0,0]
[0,0]
[0,0]
[0,0]
[0,0]
[0,0]
[]
[]
[]
[]
[{"$f":"CQ9","v":2423},{"$f":"CH9","v":"Ian Kenna"},"ITC Recurve"]
[{"$f":"CQ10","v":2410},{"$f":"CH10","v":"Adin Middleton"}]
[1353,"Leo Byrne"]
[877,"Ian Hand"]
[535,"Darren Daly"]
[0,0]
[0,0]
[0,0]
[0,0]
[0,0]
[0,0]
[0,0]
[0,0]
[0,0]
[0,0]
[0,0]
[0,0]
[0,0]
[0,0]
[0,0]
[0,0]
[]
[]
[]
[]
[{"$f":"CE9","v":2399},{"$f":"BV9","v":"Aldrin Campos"},"ITT Recurve"]
[{"$f":"CE10","v":2088},{"$f":"BV10","v":"Stephen Dillon"}]
[903,"Paul Ferguson"]
[533,"Rose Comendador"]
[497,"Gary Stuart"]
[170,"Eoghan Brophy"]
[53,"William Oliver"]
[0,0]
[0,0]
[0,0]
[0,0]
[0,0]
[0,0]
[0,0]
[0,0]
[0,0]
[0,0]
[0,0]
[0,0]
[0,0]
[0,0]
[]
[]
[]
[]
[{"$f":"DC9","v":2528},{"$f":"CT9","v":"Aida Alexandru"},"MU Recurve"]
[{"$f":"DC10","v":2462},{"$f":"CT10","v":"Diego Coyle Diez"}]
[2308,"Sinead O`Connell"]
[2188,"Jennifer Nally"]
[2373,"Pádraig Dunphy"]
[2158,"Mark Christiansen"]
[2066,"Ciarán Lowe"]
[1629,"Eoin Miller"]
[1543,"Ester Schwarz"]
[1481,"Max Klein"]
[1406,"John Power"]
[1166,"Mark Kearns"]
[714,"Brendan Burke"]
[445,"Pavle Barbaric"]
[331,"William Clifford"]
[187,"Rob Ó Gallachóir"]
[0,0]
[0,0]
[0,0]
[0,0]
[0,0]
[]
[]
[]
[]
[{"$f":"DO9","v":0},{"$f":"DF9","v":0},"NCAD Recurve"]
[{"$f":"DO10","v":0},{"$f":"DF10","v":0}]
[0,0]
[0,0]
[0,0]
[0,0]
[0,0]
[0,0]
[0,0]
[0,0]
[0,0]
[0,0]
[0,0]
[0,0]
[0,0]
[0,0]
[0,0]
[0,0]
[0,0]
[0,0]
[0,0]
[]
[]
[]
[]
[{"$f":"EA9","v":2831},{"$f":"DR9","v":"Darren Wallace"},"NUIG Recurve"]
[{"$f":"EA10","v":2204},{"$f":"DR10","v":"Patrick Molloy"}]
[2169,"Muhammad Asyraf Maarof"]
[1906,"Mark Walsh"]
[1531,"Fan Zingliang"]
[1500,"Eric Moore"]
[1459,"Thomas Kear"]
[1299,"Conor Lydon"]
[1213,"Aisling Brady"]
[1034,"Sarah Delaney"]
[1020,"Aisling Finn"]
[921,"Sam Schultz"]
[913,"Katrina Kelly"]
[849,"Bríd Galvin"]
[800,"Omar Mustafa"]
[780,"Kieran Cullinane"]
[740,"Richard Jeffery"]
[694,"David Burdon"]
[634,"Paul Connolly"]
[487,"Liu Min"]
[487,"Cara Brennan"]
[]
[]
[]
[]
[{"$f":"EM9","v":1055},{"$f":"ED9","v":"Tan Shu leed"},"RCSI Recurve"]
[{"$f":"EM10","v":1021},{"$f":"ED10","v":"Muhammad Hakim Mohd Nasir"}]
[904,"Muhammad Izrin Syukri Mohd Nasri"]
[569,"Zhi-Miin Ong"]
[439,"Farah Nadia Zikhtar"]
[407,"Tengku Nazim Tengku Yusof"]
[371,"Fahad Alabdullatif"]
[359,"Faiq Syukri"]
[259,"Shahrizan Majid Allapitchai"]
[232,"zahratulfatin "]
[230,"Shenelle Samodee"]
[173,"Tajul Syaqqil Tajor Amar"]
[149,"Rubasangkari Rajaderam"]
[96,"Yogeswran Muthukumaru"]
[94,"Auni Awang Dahan"]
[84,"Nurhidayah Miswan"]
[76,"Siti Nur Syazwana Mohammad Shafiee"]
[0,0]
[0,0]
[0,0]
[0,0]
[]
[]
[]
[]
[{"$f":"EY9","v":2423},{"$f":"EP9","v":"Simon Henleywillis"},"UCC Recurve"]
[{"$f":"EY10","v":2285},{"$f":"EP10","v":"Chris O'Leary"}]
[1541,"Linda Hearn"]
[969,"Sinead Walsh"]
[841,"Shane Lordan"]
[822,"Alysoun Killilea"]
[451,"Katie Hamilton"]
[448,"Graham Enright"]
[266,"Ian Mc Dermot"]
[241,"Nassira Musa"]
[166,"Marc Creehan"]
[0,0]
[0,0]
[0,0]
[0,0]
[0,0]
[0,0]
[0,0]
[0,0]
[0,0]
[0,0]
[]
[]
[]
[]
[{"$f":"FK9","v":2512},{"$f":"FB9","v":"Ines Rauch"},"UCD Recurve"]
[{"$f":"FK10","v":2390},{"$f":"FB10","v":"Ailish Dennehy"}]
[2414,"Stephen Masterson"]
[1637,"Peter Callanan"]
[1492,"Zul Farhan"]
[1439,"Eoin Hinkson"]
[1286,"Paul Beirne"]
[1279,"Tara Dunne"]
[1266,"Darren Ng"]
[1135,"Katy Doyle"]
[1066,"James Ryan"]
[1057,"Conor dePaor"]
[1046,"Kevin Roche"]
[984,"Ronan Walsh"]
[914,"Maria Jacob"]
[906,"Ashley Allen"]
[900,"Thomas D'Arcy"]
[723,"Susan Ryan"]
[484,"Eric Brown"]
[477,"Cian Aherne"]
[450,"Davy Shaw"]
[]
[]
[]
[]
[{"$f":"FW9","v":2595},{"$f":"FN9","v":"Sean Flavin"},"UL Recurve"]
[{"$f":"FW10","v":2603},{"$f":"FN10","v":"Sean Curtin"}]
[2576,"John Hally"]
[2379,"Thomas Brouder"]
[2155,"Frank Stafford"]
[2293,"Michael O Callaghan"]
[2035,"Karen Power"]
[1670,"sean Morrisey"]
[1511,"alannah redington"]
[1215,"Paul Murphy"]
[1022,"Conor Moran"]
[884,"geoffrey doorbosch"]
[462,"danny neill"]
[432,"sarah o sullivan"]
[257,"Maria Dunne"]
[0,0]
[0,0]
[0,0]
[0,0]
[0,0]
[0,0]
[]
[]
[]
[]
[{"$f":"GI9","v":2228},{"$f":"FZ9","v":"Peter Cummings"},"UU Recurve"]
[{"$f":"GI10","v":1924},{"$f":"FZ10","v":"Jordan McCord"}]
[703,"Martha Chege"]
[500,"Lewis Holmes"]
[0,0]
[0,0]
[0,0]
[0,0]
[0,0]
[0,0]
[0,0]
[0,0]
[0,0]
[0,0]
[0,0]
[0,0]
[0,0]
[0,0]
[0,0]
[0,0]
[0,0]
[]
[]
[]
[]
[{"$f":"GU9","v":925},{"$f":"GL9","v":"Laura Adams"},"WIT Recurve"]
[{"$f":"GU10","v":0},{"$f":"GL10","v":0}]
[0,0]
[0,0]
[0,0]
[0,0]
[0,0]
[0,0]
[0,0]
[0,0]
[0,0]
[0,0]
[0,0]
[0,0]
[0,0]
[0,0]
[0,0]
[0,0]
[0,0]
[0,0]
[0,0]
[]
[]
[]
[]
[]
[{"$f":"K50","v":1437},{"$f":"B50","v":"Jericho Siababa"},"DCU Barebow"]
[{"$f":"K51","v":508},{"$f":"B51","v":"Daeln Murphy"}]
[0,0]
[0,0]
[0,0]
[0,0]
[0,0]
[0,0]
[0,0]
[0,0]
[0,0]
[0,0]
[0,0]
[0,0]
[0,0]
[0,0]
[0,0]
[0,0]
[0,0]
[0,0]
[]
[]
[]
[]
[{"$f":"W50","v":0},{"$f":"N50","v":0},"DIT Barebow"]
[{"$f":"W51","v":0},{"$f":"N51","v":0}]
[0,0]
[0,0]
[0,0]
[0,0]
[0,0]
[0,0]
[0,0]
[0,0]
[0,0]
[0,0]
[0,0]
[0,0]
[0,0]
[0,0]
[0,0]
[0,0]
[0,0]
[0,0]
[0,0]
[]
[]
[]
[]
[{"$f":"AI50","v":0},{"$f":"Z50","v":0},"DkIT Barebow"]
[{"$f":"AI51","v":0},{"$f":"Z51","v":0}]
[0,0]
[0,0]
[0,0]
[0,0]
[0,0]
[0,0]
[0,0]
[0,0]
[0,0]
[0,0]
[0,0]
[0,0]
[0,0]
[0,0]
[0,0]
[0,0]
[0,0]
[0,0]
[0,0]
[]
[]
[]
[]
[{"$f":"AU50","v":0},{"$f":"AL50","v":0},"DUAC Barebow"]
[{"$f":"AU51","v":0},{"$f":"AL51","v":0}]
[0,0]
[0,0]
[0,0]
[0,0]
[0,0]
[0,0]
[0,0]
[0,0]
[0,0]
[0,0]
[0,0]
[0,0]
[0,0]
[0,0]
[0,0]
[0,0]
[0,0]
[0,0]
[0,0]
[]
[]
[]
[]
[{"$f":"BG50","v":1482},{"$f":"AX50","v":"Shane Hyland"},"GMIT Barebow"]
[{"$f":"BG51","v":1391},{"$f":"AX51","v":"Aoife Monaghan"}]
[698,"Jay Mc Carron"]
[653,"Caroline Greene"]
[0,0]
[0,0]
[0,0]
[0,0]
[0,0]
[0,0]
[0,0]
[0,0]
[0,0]
[0,0]
[0,0]
[0,0]
[0,0]
[0,0]
[0,0]
[0,0]
[0,0]
[]
[]
[]
[]
[{"$f":"BS50","v":1087},{"$f":"BJ50","v":"Darren Griffin"},"GMITC Barebow"]
[{"$f":"BS51","v":983},{"$f":"BJ51","v":"Paul Dixon"}]
[948,"Andrew Warrington"]
[878,"Carlton Bennett"]
[781,"Alan Gibbons"]
[684,"Jennifer Keegan"]
[671,"Tony Keane"]
[283,"Tara Kilcommons"]
[280,"Eamonn Dunleavy"]
[279,"Marco Tulios"]
[256,"Siobhan O'Connor"]
[232,"Simon Lavin"]
[147,"Keelan Bancroft "]
[136,"Derek Dooley"]
[123,"Craig Hill"]
[0,0]
[0,0]
[0,0]
[0,0]
[0,0]
[0,0]
[]
[]
[]
[]
[{"$f":"CQ50","v":1760},{"$f":"CH50","v":"David Price"},"ITC Barebow"]
[{"$f":"CQ51","v":996},{"$f":"CH51","v":"Katrina Prakhova"}]
[977,"Stephen Sheppard"]
[777,"Liam Maloney"]
[451,"Brian Breslin"]
[435,"Alan Sheppard"]
[0,0]
[0,0]
[0,0]
[0,0]
[0,0]
[0,0]
[0,0]
[0,0]
[0,0]
[0,0]
[0,0]
[0,0]
[0,0]
[0,0]
[0,0]
[]
[]
[]
[]
[{"$f":"CE50","v":331},{"$f":"BV50","v":"Gary Smith"},"ITT Barebow"]
[{"$f":"CE51","v":247},{"$f":"BV51","v":"Karina Wrzesinska"}]
[223,"Robert Dore"]
[0,0]
[0,0]
[0,0]
[0,0]
[0,0]
[0,0]
[0,0]
[0,0]
[0,0]
[0,0]
[0,0]
[0,0]
[0,0]
[0,0]
[0,0]
[0,0]
[0,0]
[0,0]
[]
[]
[]
[]
[{"$f":"DC50","v":1985},{"$f":"CT50","v":"Tami Baumann"},"MU Barebow"]
[{"$f":"DC51","v":676},{"$f":"CT51","v":"John O'Toole"}]
[608,"David Doyle"]
[558,"Kate Forte"]
[239,"Eammon McGrory"]
[0,0]
[0,0]
[0,0]
[0,0]
[0,0]
[0,0]
[0,0]
[0,0]
[0,0]
[0,0]
[0,0]
[0,0]
[0,0]
[0,0]
[0,0]
[0,0]
[]
[]
[]
[]
[{"$f":"DO50","v":0},{"$f":"DF50","v":0},"NCAD Barebow"]
[{"$f":"DO51","v":0},{"$f":"DF51","v":0}]
[0,0]
[0,0]
[0,0]
[0,0]
[0,0]
[0,0]
[0,0]
[0,0]
[0,0]
[0,0]
[0,0]
[0,0]
[0,0]
[0,0]
[0,0]
[0,0]
[0,0]
[0,0]
[0,0]
[]
[]
[]
[]
[{"$f":"EA50","v":1890},{"$f":"DR50","v":"Tom McGrath"},"NUIG Barebow"]
[{"$f":"EA51","v":1705},{"$f":"DR51","v":"Nada Khaled-Abdo"}]
[1288,"Sean Brogan"]
[1046,"Emily Flanagan"]
[792,"Dara MacEoin"]
[790,"Sam Schultz"]
[758,"Raizel Burstein-Frame"]
[725,"Derek Naughton"]
[306,"Wiebke Hasselmann"]
[270,"Omar Mustafa"]
[258,"Abigail Miller"]
[229,"Jonathan Cassidy"]
[105,"Cody Meadows"]
[0,0]
[0,0]
[0,0]
[0,0]
[0,0]
[0,0]
[0,0]
[0,0]
[]
[]
[]
[]
[{"$f":"EM50","v":547},{"$f":"ED50","v":"Aiman Rahim"},"RCSI Barebow"]
[{"$f":"EM51","v":282},{"$f":"ED51","v":"Nik Idlan Faiq"}]
[254,"Kevin May"]
[143,"Arief Naimun"]
[131,"Paul Fox"]
[0,0]
[0,0]
[0,0]
[0,0]
[0,0]
[0,0]
[0,0]
[0,0]
[0,0]
[0,0]
[0,0]
[0,0]
[0,0]
[0,0]
[0,0]
[0,0]
[]
[]
[]
[]
[{"$f":"EY50","v":666},{"$f":"EP50","v":"Marc Creehan"},"UCC Barebow"]
[{"$f":"EY51","v":0},{"$f":"EP51","v":0}]
[0,0]
[0,0]
[0,0]
[0,0]
[0,0]
[0,0]
[0,0]
[0,0]
[0,0]
[0,0]
[0,0]
[0,0]
[0,0]
[0,0]
[0,0]
[0,0]
[0,0]
[0,0]
[0,0]
[]
[]
[]
[]
[{"$f":"FK56","v":204},{"$f":"FB56","v":"Lukas Frese"},"UCD Barebow"]
[{"$f":"FK57","v":0},{"$f":"FB57","v":0}]
[{"$f":"FK58","v":0},{"$f":"FB58","v":0}]
[{"$f":"#REF!","v":{"$error":"#REF!"}},{"$f":"#REF!","v":{"$error":"#REF!"}}]
[{"$f":"#REF!","v":{"$error":"#REF!"}},{"$f":"#REF!","v":{"$error":"#REF!"}}]
[{"$f":"#REF!","v":{"$error":"#REF!"}},{"$f":"#REF!","v":{"$error":"#REF!"}}]
[{"$f":"#REF!","v":{"$error":"#REF!"}},{"$f":"#REF!","v":{"$error":"#REF!"}}]
[{"$f":"#REF!","v":{"$error":"#REF!"}},{"$f":"#REF!","v":{"$error":"#REF!"}}]
[{"$f":"#REF!","v":{"$error":"#REF!"}},{"$f":"#REF!","v":{"$error":"#REF!"}}]
[{"$f":"FK59","v":0},{"$f":"FB59","v":0}]
[0,0]
[0,0]
[0,0]
[0,0]
[0,0]
[0,0]
[0,0]
[0,0]
[0,0]
[0,0]
[0,0]
[]
[]
[]
[]
[{"$f":"FW50","v":2124},{"$f":"FN50","v":"Jeffery McMahon"},"UL Barebow"]
[{"$f":"FW51","v":278},{"$f":"FN51","v":"conor watkins"}]
[0,0]
[0,0]
[0,0]
[0,0]
[0,0]
[0,0]
[0,0]
[0,0]
[0,0]
[0,0]
[0,0]
[0,0]
[0,0]
[0,0]
[0,0]
[0,0]
[0,0]
[0,0]
[0,0]
[]
[]
[]
[]
[{"$f":"GI50","v":0},{"$f":"FZ50","v":0},"UU Barebow"]
[{"$f":"GI51","v":0},{"$f":"FZ51","v":0}]
[0,0]
[0,0]
[0,0]
[0,0]
[0,0]
[0,0]
[0,0]
[0,0]
[0,0]
[0,0]
[0,0]
[0,0]
[0,0]
[0,0]
[0,0]
[0,0]
[0,0]
[0,0]
[0,0]
[]
[]
[]
[]
[{"$f":"GU50","v":0},{"$f":"GL50","v":0},"WIT Barebow"]
[{"$f":"GU51","v":0},{"$f":"GL51","v":0}]
[0,0]
[0,0]
[0,0]
[0,0]
[0,0]
[0,0]
[0,0]
[0,0]
[0,0]
[0,0]
[0,0]
[0,0]
[0,0]
[0,0]
[0,0]
[0,0]
[0,0]
[0,0]
[0,0]
[]
[]
[]
[]
[{"$f":"K93","v":2812},{"$f":"B93","v":"Mark Sharvin"},"DCU Compound "]
[{"$f":"K94","v":2148},{"$f":"B94","v":"Cillian Byrne"}]
[2066,"Stephanie Martin"]
[0,0]
[0,0]
[]
[]
[]
[]
[]
[{"$f":"W93","v":2064},{"$f":"N93","v":"Sean Scott"},"DIT Compound "]
[{"$f":"W94","v":1700},{"$f":"N94","v":"John Smith"}]
[0,0]
[0,0]
[0,0]
[]
[]
[]
[]
[]
[{"$f":"AI93","v":0},{"$f":"Z93","v":0},"DkIT Compound "]
[{"$f":"AI94","v":0},{"$f":"Z94","v":0}]
[0,0]
[0,0]
[0,0]
[]
[]
[]
[]
[]
[{"$f":"AU93","v":0},{"$f":"AL93","v":0},"DUAC Compound "]
[{"$f":"AU94","v":0},{"$f":"AL94","v":0}]
[0,0]
[0,0]
[0,0]
[]
[]
[]
[]
[]
[{"$f":"BG93","v":1554},{"$f":"AX93","v":"Marko Kovacevic"},"GMIT Compound "]
[{"$f":"BG94","v":0},{"$f":"AX94","v":0}]
[0,0]
[0,0]
[0,0]
[]
[]
[]
[]
[]
[{"$f":"BS93","v":1573},{"$f":"BJ93","v":"Adria Quinn"},"GMITC Compound "]
[{"$f":"BS94","v":0},{"$f":"BJ94","v":0}]
[0,0]
[0,0]
[0,0]
[]
[]
[]
[]
[]
[{"$f":"CQ93","v":362},{"$f":"CH93","v":"Lukas Korcak"},"ITC Compound "]
[{"$f":"CQ94","v":0},{"$f":"CH94","v":0}]
[0,0]
[0,0]
[0,0]
[]
[]
[]
[]
[]
[{"$f":"CE93","v":0},{"$f":"BV93","v":0},"ITT Compound "]
[{"$f":"CE94","v":0},{"$f":"BV94","v":0}]
[0,0]
[0,0]
[0,0]
[]
[]
[]
[]
[]
[{"$f":"DC93","v":2547},{"$f":"CT93","v":"Kerrie Leonard"},"MU Compound "]
[{"$f":"DC94","v":0},{"$f":"CT94","v":0}]
[0,0]
[0,0]
[0,0]
[]
[]
[]
[]
[]
[{"$f":"DO93","v":2218},{"$f":"DF93","v":"Glen Conway"},"NCAD Compound "]
[{"$f":"DO94","v":0},{"$f":"DF94","v":0}]
[0,0]
[0,0]
[0,0]
[]
[]
[]
[]
[]
[{"$f":"EA93","v":2856},{"$f":"DR93","v":"Carl Byrne"},"NUIG Compound "]
[{"$f":"EA94","v":2668},{"$f":"DR94","v":"Christopher Ryan"}]
[2531,"Callum Conroy"]
[1354,"Nicole Shellenbarger"]
[498,"Will Hurley"]
[]
[]
[]
[]
[]
[{"$f":"EM93","v":0},{"$f":"ED93","v":0},"RCSI Compound "]
[{"$f":"EM94","v":0},{"$f":"ED94","v":0}]
[0,0]
[0,0]
[0,0]
[]
[]
[]
[]
[]
[{"$f":"EY93","v":2750},{"$f":"EP93","v":"Andrew Egan"},"UCC Compound "]
[{"$f":"EY94","v":491},{"$f":"EP94","v":"Katie Hamilton"}]
[0,0]
[0,0]
[0,0]
[]
[]
[]
[]
[]
[{"$f":"FK93","v":0},{"$f":"FB93","v":0},"UCD Compound "]
[{"$f":"FK94","v":0},{"$f":"FB94","v":0}]
[0,0]
[0,0]
[0,0]
[]
[]
[]
[]
[]
[{"$f":"FW93","v":0},{"$f":"FN93","v":0},"UL Compound "]
[{"$f":"FW94","v":0},{"$f":"FN94","v":0}]
[0,0]
[0,0]
[0,0]
[]
[]
[]
[]
[]
[{"$f":"GI93","v":0},{"$f":"FZ93","v":0},"UU Compound "]
[{"$f":"GI94","v":0},{"$f":"FZ94","v":0}]
[0,0]
[0,0]
[0,0]
[]
[]
[]
[]
[]
[{"$f":"GU93","v":0},{"$f":"GL93","v":0},"WIT Compound "]
[{"$f":"GU94","v":0},{"$f":"GL94","v":0}]
[0,0]
[0,0]
[{"$f":"GU97","v":0},{"$f":"GL97","v":0}]
[]
[]
[]
[]
[]
[{"$f":"HF9","v":0},{"$f":"GX9","v":0},"AAA Recurve"]
[{"$f":"HF10","v":0},{"$f":"GX10","v":0}]
[0,0]
[0,0]
[0,0]
[0,0]
[0,0]
[0,0]
[0,0]
[0,0]
[0,0]
[0,0]
[0,0]
[0,0]
[0,0]
[0,0]
[0,0]
[0,0]
[0,0]
[0,0]
[0,0]
[]
[]
[]
[]
[{"$f":"HQ9","v":0},{"$f":"HI9","v":0},"BBB Recurve"]
[{"$f":"HQ10","v":0},{"$f":"HI10","v":0}]
[0,0]
[0,0]
[0,0]
[0,0]
[0,0]
[0,0]
[0,0]
[0,0]
[0,0]
[0,0]
[0,0]
[0,0]
[0,0]
[0,0]
[0,0]
[0,0]
[0,0]
[0,0]
[0,0]
[]
[]
[]
[]
[{"$f":"IB9","v":0},{"$f":"HT9","v":0},"CCC Recurve"]
[{"$f":"IB10","v":0},{"$f":"HT10","v":0}]
[0,0]
[0,0]
[0,0]
[0,0]
[0,0]
[0,0]
[0,0]
[0,0]
[0,0]
[0,0]
[0,0]
[0,0]
[0,0]
[0,0]
[0,0]
[0,0]
[0,0]
[0,0]
[0,0]
[]
[]
[]
[]
[{"$f":"IM9","v":0},{"$f":"IE9","v":0},"DDD Recurve"]
[{"$f":"IM10","v":0},{"$f":"IE10","v":0}]
[0,0]
[0,0]
[0,0]
[0,0]
[0,0]
[0,0]
[0,0]
[0,0]
[0,0]
[0,0]
[0,0]
[0,0]
[0,0]
[0,0]
[0,0]
[0,0]
[0,0]
[0,0]
[0,0]
[]
[]
[]
[]
[{"$f":"IX9","v":0},{"$f":"IP9","v":0},"EEE Recurve"]
[{"$f":"IX10","v":0},{"$f":"IP10","v":0}]
[0,0]
[0,0]
[0,0]
[0,0]
[0,0]
[0,0]
[0,0]
[0,0]
[0,0]
[0,0]
[0,0]
[0,0]
[0,0]
[0,0]
[0,0]
[0,0]
[0,0]
[0,0]
[0,0]
[]
[]
[]
[]
[{"$f":"HF50","v":0},{"$f":"GX50","v":0},"AAA Barebow"]
[{"$f":"HF51","v":0},{"$f":"GX51","v":0}]
[0,0]
[0,0]
[0,0]
[0,0]
[0,0]
[0,0]
[0,0]
[0,0]
[0,0]
[0,0]
[0,0]
[0,0]
[0,0]
[0,0]
[0,0]
[0,0]
[0,0]
[0,0]
[0,0]
[]
[]
[]
[]
[{"$f":"HQ50","v":0},{"$f":"HI50","v":0},"BBB Barebow"]
[{"$f":"HQ51","v":0},{"$f":"HI51","v":0}]
[0,0]
[0,0]
[0,0]
[0,0]
[0,0]
[0,0]
[0,0]
[0,0]
[0,0]
[0,0]
[0,0]
[0,0]
[0,0]
[0,0]
[0,0]
[0,0]
[0,0]
[0,0]
[0,0]
[]
[]
[]
[]
[{"$f":"IB50","v":0},{"$f":"HT50","v":0},"CCC Barebow"]
[{"$f":"IB51","v":0},{"$f":"HT51","v":0}]
[0,0]
[0,0]
[0,0]
[0,0]
[0,0]
[0,0]
[0,0]
[0,0]
[0,0]
[0,0]
[0,0]
[0,0]
[0,0]
[0,0]
[0,0]
[0,0]
[0,0]
[0,0]
[0,0]
[]
[]
[]
[]
[{"$f":"IM50","v":0},{"$f":"IE50","v":0},"DDD Barebow"]
[{"$f":"IM51","v":0},{"$f":"IE51","v":0}]
[0,0]
[0,0]
[0,0]
[0,0]
[0,0]
[0,0]
[0,0]
[0,0]
[0,0]
[0,0]
[0,0]
[0,0]
[0,0]
[0,0]
[0,0]
[0,0]
[0,0]
[0,0]
[0,0]
[]
[]
[]
[]
[{"$f":"IX50","v":0},{"$f":"IP50","v":0},"EEE Barebow"]
[{"$f":"IX51","v":0},{"$f":"IP51","v":0}]
[0,0]
[0,0]
[0,0]
[0,0]
[0,0]
[0,0]
[0,0]
[0,0]
[0,0]
[0,0]
[0,0]
[0,0]
[0,0]
[0,0]
[0,0]
[0,0]
[0,0]
[0,0]
[0,0]
[]
[]
[]
[]
[{"$f":"HF93","v":0},{"$f":"GX93","v":0},"AAA Compound "]
[{"$f":"HF94","v":0},{"$f":"GX94","v":0}]
[0,0]
[0,0]
[0,0]
[]
[]
[]
[]
[]
[{"$f":"HQ93","v":0},{"$f":"HI93","v":0},"BBB Compound "]
[{"$f":"HQ94","v":0},{"$f":"HI94","v":0}]
[0,0]
[0,0]
[0,0]
[]
[]
[]
[]
[]
[{"$f":"IB93","v":0},{"$f":"HT93","v":0},"CCC Compound "]
[{"$f":"IB94","v":0},{"$f":"HT94","v":0}]
[0,0]
[0,0]
[0,0]
[]
[]
[]
[]
[]
[{"$f":"IM93","v":0},{"$f":"IE93","v":0},"DDD Compound "]
[{"$f":"IM94","v":0},{"$f":"IE94","v":0}]
[0,0]
[0,0]
[0,0]
[]
[]
[]
[]
[]
[{"$f":"IX93","v":0},{"$f":"IP93","v":0},"EEE Compound "]
[{"$f":"IX94","v":0},{"$f":"IP94","v":0}]
[0,0]
[0,0]
[0,0]

{"sheet":"Rec' List","index":15,"n_rows":23,"n_cols":41,"rows_kept":23,"cut":false,"hidden":false,"merged":[]}
["Recurve ",null,1,null,null,null,null,2,null,null,null,null,3,null,null,null,null,4,null,null,null,null,5,null,null,null,null,6,null,null,null,null,1,2,3,4,5,null,"total","lowest","league"]
[null,"DCU",{"$f":"IF($C$1>Entries!$K$20,\"TBC\",LARGE(Tables!$C$9:$C$41,1))","v":547},{"$f":"IF($C$1>Entries!$K$20,\"TBC\",LARGE(Tables!$C$9:$C$41,2))","v":516},{"$f":"IF($C$1>Entries!$K$20,\"TBC\",LARGE(Tables!$C$9:$C$41,3))","v":513},{"$f":"IF($C$1>Entries!$K$20,\"TBC\",LARGE(Tables!$C$9:$C$41,4))","v":477},{"$f":"IF($C$1>Entries!$K$20,\"TBC\",SUM(C2:F2))","v":2053},{"$f":"IF($H$1>Entries!$K$20,\"TBC\",LARGE(Tables!$D$9:$D$41,1))","v":547},{"$f":"IF($H$1>Entries!$K$20,\"TBC\",LARGE(Tables!$D$9:$D$41,2))","v":533},{"$f":"IF($H$1>Entries!$K$20,\"TBC\",LARGE(Tables!$D$9:$D$41,3))","v":449},{"$f":"IF($H$1>Entries!$K$20,\"TBC\",LARGE(Tables!$D$9:$D$41,4))","v":446},{"$f":"IF($H$1>Entries!$K$20,\"TBC\",SUM(H2:K2))","v":1975},{"$f":"IF($M$1>Entries!$K$20,\"TBC\",LARGE(Tables!$E$9:$E$41,1))","v":544},{"$f":"IF($M$1>Entries!$K$20,\"TBC\",LARGE(Tables!$E$9:$E$41,2))","v":524},{"$f":"IF($M$1>Entries!$K$20,\"TBC\",LARGE(Tables!$E$9:$E$41,3))","v":522},{"$f":"IF($M$1>Entries!$K$20,\"TBC\",LARGE(Tables!$E$9:$E$41,4))","v":517},{"$f":"IF($M$1>Entries!$K$20,\"TBC\",SUM(M2:P2))","v":2107},{"$f":"IF($R$1>Entries!$K$20,\"TBC\",LARGE(Tables!$F$9:$F$41,1))","v":543},{"$f":"IF($R$1>Entries!$K$20,\"TBC\",LARGE(Tables!$F$9:$F$41,2))","v":538},{"$f":"IF($R$1>Entries!$K$20,\"TBC\",LARGE(Tables!$F$9:$F$41,3))","v":527},{"$f":"IF($R$1>Entries!$K$20,\"TBC\",LARGE(Tables!$F$9:$F$41,4))","v":484},{"$f":"IF($R$1>Entries!$K$20,\"TBC\",SUM(R2:U2))","v":2092},{"$f":"IF($W$1>Entries!$K$20,\"TBC\",LARGE(Tables!$G$9:$G$41,1))","v":530},{"$f":"IF($W$1>Entries!$K$20,\"TBC\",LARGE(Tables!$G$9:$G$41,2))","v":521},{"$f":"IF($W$1>Entries!$K$20,\"TBC\",LARGE(Tables!$G$9:$G$41,3))","v":493},{"$f":"IF($W$1>Entries!$K$20,\"TBC\",LARGE(Tables!$G$9:$G$41,4))","v":441},{"$f":"IF($W$1>Entries!$K$20,\"TBC\",SUM(W2:Z2))","v":1985},{"$f":"IF($AB$1>Entries!$K$20,\"TBC\",LARGE(Tables!$H$9:$H$41,1))","v":554},{"$f":"IF($AB$1>Entries!$K$20,\"TBC\",LARGE(Tables!$H$9:$H$41,2))","v":538},{"$f":"IF($AB$1>Entries!$K$20,\"TBC\",LARGE(Tables!$H$9:$H$41,3))","v":480},{"$f":"IF($AB$1>Entries!$K$20,\"TBC\",LARGE(Tables!$H$9:$H$41,4))","v":480},{"$f":"IF($AB$1>Entries!$K$20,\"TBC\",SUM(AB2:AE2))","v":2052},{"$f":"G2","v":2053},{"$f":"L2","v":1975},{"$f":"Q2","v":2107},{"$f":"V2","v":2092},{"$f":"AA2","v":1985},{"$f":"AF2","v":2052},{"$f":"SUM(AG2:AL2)","v":12264},{"$f":"MIN(AG2:AL2)","v":1975},{"$f":"AM2","v":12264}]
[null,"UL",{"$f":"IF($C$1>Entries!$K$20,\"TBC\",LARGE(Tables!$FO$9:$FO$41,1))","v":541},{"$f":"IF($C$1>Entries!$K$20,\"TBC\",LARGE(Tables!$FO$9:$FO$41,2))","v":524},{"$f":"IF($C$1>Entries!$K$20,\"TBC\",LARGE(Tables!$FO$9:$FO$41,3))","v":512},{"$f":"IF($C$1>Entries!$K$20,\"TBC\",LARGE(Tables!$FO$9:$FO$41,4))","v":501},{"$f":"IF($C$1>Entries!$K$20,\"TBC\",SUM(C3:F3))","v":2078},{"$f":"IF($H$1>Entries!$K$20,\"TBC\",LARGE(Tables!$FP$9:$FP$41,1))","v":540},{"$f":"IF($H$1>Entries!$K$20,\"TBC\",LARGE(Tables!$FP$9:$FP$41,2))","v":517},{"$f":"IF($H$1>Entries!$K$20,\"TBC\",LARGE(Tables!$FP$9:$FP$41,3))","v":488},{"$f":"IF($H$1>Entries!$K$20,\"TBC\",LARGE(Tables!$FP$9:$FP$41,4))","v":453},{"$f":"IF($H$1>Entries!$K$20,\"TBC\",SUM(H3:K3))","v":1998},{"$f":"IF($M$1>Entries!$K$20,\"TBC\",LARGE(Tables!$FQ$9:$FQ$41,1))","v":541},{"$f":"IF($M$1>Entries!$K$20,\"TBC\",LARGE(Tables!$FQ$9:$FQ$41,2))","v":507},{"$f":"IF($M$1>Entries!$K$20,\"TBC\",LARGE(Tables!$FQ$9:$FQ$41,3))","v":505},{"$f":"IF($M$1>Entries!$K$20,\"TBC\",LARGE(Tables!$FQ$9:$FQ$41,4))","v":499},{"$f":"IF($M$1>Entries!$K$20,\"TBC\",SUM(M3:P3))","v":2052},{"$f":"IF($R$1>Entries!$K$20,\"TBC\",LARGE(Tables!$FR$9:$FR$41,1))","v":529},{"$f":"IF($R$1>Entries!$K$20,\"TBC\",LARGE(Tables!$FR$9:$FR$41,2))","v":522},{"$f":"IF($R$1>Entries!$K$20,\"TBC\",LARGE(Tables!$FR$9:$FR$41,3))","v":497},{"$f":"IF($R$1>Entries!$K$20,\"TBC\",LARGE(Tables!$FR$9:$FR$41,4))","v":480},{"$f":"IF($R$1>Entries!$K$20,\"TBC\",SUM(R3:U3))","v":2028},{"$f":"IF($W$1>Entries!$K$20,\"TBC\",LARGE(Tables!$FS$9:$FS$41,1))","v":527},{"$f":"IF($W$1>Entries!$K$20,\"TBC\",LARGE(Tables!$FS$9:$FS$41,2))","v":515},{"$f":"IF($W$1>Entries!$K$20,\"TBC\",LARGE(Tables!$FS$9:$FS$41,3))","v":492},{"$f":"IF($W$1>Entries!$K$20,\"TBC\",LARGE(Tables!$FS$9:$FS$41,4))","v":491},{"$f":"IF($W$1>Entries!$K$20,\"TBC\",SUM(W3:Z3))","v":2025},{"$f":"IF($AB$1>Entries!$K$20,\"TBC\",LARGE(Tables!$FT$9:$FT$41,1))","v":511},{"$f":"IF($AB$1>Entries!$K$20,\"TBC\",LARGE(Tables!$FT$9:$FT$41,2))","v":503},{"$f":"IF($AB$1>Entries!$K$20,\"TBC\",LARGE(Tables!$FT$9:$FT$41,3))","v":499},{"$f":"IF($AB$1>Entries!$K$20,\"TBC\",LARGE(Tables!$FT$9:$FT$41,4))","v":465},{"$f":"IF($AB$1>Entries!$K$20,\"TBC\",SUM(AB3:AE3))","v":1978},2078,1998,2052,2028,2025,1978,12159,1978,{"$f":"AM3","v":12159}]
[null,"NUIM",{"$f":"IF($C$1>Entries!$K$20,\"TBC\",LARGE(Tables!$CU$9:$CU$41,1))","v":523},{"$f":"IF($C$1>Entries!$K$20,\"TBC\",LARGE(Tables!$CU$9:$CU$41,2))","v":505},{"$f":"IF($C$1>Entries!$K$20,\"TBC\",LARGE(Tables!$CU$9:$CU$41,3))","v":505},{"$f":"IF($C$1>Entries!$K$20,\"TBC\",LARGE(Tables!$CU$9:$CU$41,4))","v":462},{"$f":"IF($C$1>Entries!$K$20,\"TBC\",SUM(C4:F4))","v":1995},{"$f":"IF($H$1>Entries!$K$20,\"TBC\",LARGE(Tables!$CV$9:$CV$41,1))","v":521},{"$f":"IF($H$1>Entries!$K$20,\"TBC\",LARGE(Tables!$CV$9:$CV$41,2))","v":519},{"$f":"IF($H$1>Entries!$K$20,\"TBC\",LARGE(Tables!$CV$9:$CV$41,3))","v":504},{"$f":"IF($H$1>Entries!$K$20,\"TBC\",LARGE(Tables!$CV$9:$CV$41,4))","v":477},{"$f":"IF($H$1>Entries!$K$20,\"TBC\",SUM(H4:K4))","v":2021},{"$f":"IF($M$1>Entries!$K$20,\"TBC\",LARGE(Tables!$CW$9:$CW$41,1))","v":525},{"$f":"IF($M$1>Entries!$K$20,\"TBC\",LARGE(Tables!$CW$9:$CW$41,2))","v":519},{"$f":"IF($M$1>Entries!$K$20,\"TBC\",LARGE(Tables!$CW$9:$CW$41,3))","v":496},{"$f":"IF($M$1>Entries!$K$20,\"TBC\",LARGE(Tables!$CW$9:$CW$41,4))","v":472},{"$f":"IF($M$1>Entries!$K$20,\"TBC\",SUM(M4:P4))","v":2012},{"$f":"IF($R$1>Entries!$K$20,\"TBC\",LARGE(Tables!$CX$9:$CX$41,1))","v":513},{"$f":"IF($R$1>Entries!$K$20,\"TBC\",LARGE(Tables!$CX$9:$CX$41,2))","v":499},{"$f":"IF($R$1>Entries!$K$20,\"TBC\",LARGE(Tables!$CX$9:$CX$41,3))","v":492},{"$f":"IF($R$1>Entries!$K$20,\"TBC\",LARGE(Tables!$CX$9:$CX$41,4))","v":445},{"$f":"IF($R$1>Entries!$K$20,\"TBC\",SUM(R4:U4))","v":1949},{"$f":"IF($W$1>Entries!$K$20,\"TBC\",LARGE(Tables!$CY$9:$CY$41,1))","v":488},{"$f":"IF($W$1>Entries!$K$20,\"TBC\",LARGE(Tables!$CY$9:$CY$41,2))","v":487},{"$f":"IF($W$1>Entries!$K$20,\"TBC\",LARGE(Tables!$CY$9:$CY$41,3))","v":485},{"$f":"IF($W$1>Entries!$K$20,\"TBC\",LARGE(Tables!$CY$9:$CY$41,4))","v":478},{"$f":"IF($W$1>Entries!$K$20,\"TBC\",SUM(W4:Z4))","v":1938},{"$f":"IF($AB$1>Entries!$K$20,\"TBC\",LARGE(Tables!$CZ$9:$CZ$41,1))","v":515},{"$f":"IF($AB$1>Entries!$K$20,\"TBC\",LARGE(Tables!$CZ$9:$CZ$41,2))","v":509},{"$f":"IF($AB$1>Entries!$K$20,\"TBC\",LARGE(Tables!$CZ$9:$CZ$41,3))","v":482},{"$f":"IF($AB$1>Entries!$K$20,\"TBC\",LARGE(Tables!$CZ$9:$CZ$41,4))","v":470},{"$f":"IF($AB$1>Entries!$K$20,\"TBC\",SUM(AB4:AE4))","v":1976},1995,2021,2012,1949,1938,1976,11891,1938,11891]
[null,"NUIG",{"$f":"IF($C$1>Entries!$K$20,\"TBC\",LARGE(Tables!$DS$9:$DS$41,1))","v":564},{"$f":"IF($C$1>Entries!$K$20,\"TBC\",LARGE(Tables!$DS$9:$DS$41,2))","v":486},{"$f":"IF($C$1>Entries!$K$20,\"TBC\",LARGE(Tables!$DS$9:$DS$41,3))","v":454},{"$f":"IF($C$1>Entries!$K$20,\"TBC\",LARGE(Tables!$DS$9:$DS$41,4))","v":414},{"$f":"IF($C$1>Entries!$K$20,\"TBC\",SUM(C5:F5))","v":1918},{"$f":"IF($H$1>Entries!$K$20,\"TBC\",LARGE(Tables!$DT$9:$DT$41,1))","v":560},{"$f":"IF($H$1>Entries!$K$20,\"TBC\",LARGE(Tables!$DT$9:$DT$41,2))","v":460},{"$f":"IF($H$1>Entries!$K$20,\"TBC\",LARGE(Tables!$DT$9:$DT$41,3))","v":459},{"$f":"IF($H$1>Entries!$K$20,\"TBC\",LARGE(Tables!$DT$9:$DT$41,4))","v":436},{"$f":"IF($H$1>Entries!$K$20,\"TBC\",SUM(H5:K5))","v":1915},{"$f":"IF($M$1>Entries!$K$20,\"TBC\",LARGE(Tables!$DU$9:$DU$41,1))","v":567},{"$f":"IF($M$1>Entries!$K$20,\"TBC\",LARGE(Tables!$DU$9:$DU$41,2))","v":519},{"$f":"IF($M$1>Entries!$K$20,\"TBC\",LARGE(Tables!$DU$9:$DU$41,3))","v":467},{"$f":"IF($M$1>Entries!$K$20,\"TBC\",LARGE(Tables!$DU$9:$DU$41,4))","v":449},{"$f":"IF($M$1>Entries!$K$20,\"TBC\",SUM(M5:P5))","v":2002},{"$f":"IF($R$1>Entries!$K$20,\"TBC\",LARGE(Tables!$DV$9:$DV$41,1))","v":560},{"$f":"IF($R$1>Entries!$K$20,\"TBC\",LARGE(Tables!$DV$9:$DV$41,2))","v":502},{"$f":"IF($R$1>Entries!$K$20,\"TBC\",LARGE(Tables!$DV$9:$DV$41,3))","v":443},{"$f":"IF($R$1>Entries!$K$20,\"TBC\",LARGE(Tables!$DV$9:$DV$41,4))","v":408},{"$f":"IF($R$1>Entries!$K$20,\"TBC\",SUM(R5:U5))","v":1913},{"$f":"IF($W$1>Entries!$K$20,\"TBC\",LARGE(Tables!$DW$9:$DW$41,1))","v":575},{"$f":"IF($W$1>Entries!$K$20,\"TBC\",LARGE(Tables!$DW$9:$DW$41,2))","v":507},{"$f":"IF($W$1>Entries!$K$20,\"TBC\",LARGE(Tables!$DW$9:$DW$41,3))","v":501},{"$f":"IF($W$1>Entries!$K$20,\"TBC\",LARGE(Tables!$DW$9:$DW$41,4))","v":456},{"$f":"IF($W$1>Entries!$K$20,\"TBC\",SUM(W5:Z5))","v":2039},{"$f":"IF($AB$1>Entries!$K$20,\"TBC\",LARGE(Tables!$DX$9:$DX$41,1))","v":565},{"$f":"IF($AB$1>Entries!$K$20,\"TBC\",LARGE(Tables!$DX$9:$DX$41,2))","v":522},{"$f":"IF($AB$1>Entries!$K$20,\"TBC\",LARGE(Tables!$DX$9:$DX$41,3))","v":455},{"$f":"IF($AB$1>Entries!$K$20,\"TBC\",LARGE(Tables!$DX$9:$DX$41,4))","v":427},{"$f":"IF($AB$1>Entries!$K$20,\"TBC\",SUM(AB5:AE5))","v":1969},1918,1915,2002,1913,2039,1969,11756,1913,11756]
[null,"UCD",{"$f":"IF($C$1>Entries!$K$20,\"TBC\",LARGE(Tables!$FC$9:$FC$44,1))","v":531},{"$f":"IF($C$1>Entries!$K$20,\"TBC\",LARGE(Tables!$FC$9:$FC$44,2))","v":474},{"$f":"IF($C$1>Entries!$K$20,\"TBC\",LARGE(Tables!$FC$9:$FC$44,3))","v":473},{"$f":"IF($C$1>Entries!$K$20,\"TBC\",LARGE(Tables!$FC$9:$FC$44,4))","v":466},{"$f":"IF($C$1>Entries!$K$20,\"TBC\",SUM(C6:F6))","v":1944},{"$f":"IF($H$1>Entries!$K$20,\"TBC\",LARGE(Tables!$FD$9:$FD$44,1))","v":535},{"$f":"IF($H$1>Entries!$K$20,\"TBC\",LARGE(Tables!$FD$9:$FD$44,2))","v":484},{"$f":"IF($H$1>Entries!$K$20,\"TBC\",LARGE(Tables!$FD$9:$FD$44,3))","v":462},{"$f":"IF($H$1>Entries!$K$20,\"TBC\",LARGE(Tables!$FD$9:$FD$44,4))","v":458},{"$f":"IF($H$1>Entries!$K$20,\"TBC\",SUM(H6:K6))","v":1939},{"$f":"IF($M$1>Entries!$K$20,\"TBC\",LARGE(Tables!$FE$9:$FE$44,1))","v":537},{"$f":"IF($M$1>Entries!$K$20,\"TBC\",LARGE(Tables!$FE$9:$FE$44,2))","v":486},{"$f":"IF($M$1>Entries!$K$20,\"TBC\",LARGE(Tables!$FE$9:$FE$44,3))","v":473},{"$f":"IF($M$1>Entries!$K$20,\"TBC\",LARGE(Tables!$FE$9:$FE$44,4))","v":457},{"$f":"IF($M$1>Entries!$K$20,\"TBC\",SUM(M6:P6))","v":1953},{"$f":"IF($R$1>Entries!$K$20,\"TBC\",LARGE(Tables!$FF$9:$FF$44,1))","v":502},{"$f":"IF($R$1>Entries!$K$20,\"TBC\",LARGE(Tables!$FF$9:$FF$44,2))","v":488},{"$f":"IF($R$1>Entries!$K$20,\"TBC\",LARGE(Tables!$FF$9:$FF$44,3))","v":457},{"$f":"IF($R$1>Entries!$K$20,\"TBC\",LARGE(Tables!$FF$9:$FF$44,4))","v":419},{"$f":"IF($R$1>Entries!$K$20,\"TBC\",SUM(R6:U6))","v":1866},{"$f":"IF($W$1>Entries!$K$20,\"TBC\",LARGE(Tables!$FG$9:$FG$44,1))","v":520},{"$f":"IF($W$1>Entries!$K$20,\"TBC\",LARGE(Tables!$FG$9:$FG$44,2))","v":498},{"$f":"IF($W$1>Entries!$K$20,\"TBC\",LARGE(Tables!$FG$9:$FG$44,3))","v":479},{"$f":"IF($W$1>Entries!$K$20,\"TBC\",LARGE(Tables!$FG$9:$FG$44,4))","v":461},{"$f":"IF($W$1>Entries!$K$20,\"TBC\",SUM(W6:Z6))","v":1958},{"$f":"IF($AB$1>Entries!$K$20,\"TBC\",LARGE(Tables!$FH$9:$FH$44,1))","v":526},{"$f":"IF($AB$1>Entries!$K$20,\"TBC\",LARGE(Tables!$FH$9:$FH$44,2))","v":526},{"$f":"IF($AB$1>Entries!$K$20,\"TBC\",LARGE(Tables!$FH$9:$FH$44,3))","v":502},{"$f":"IF($AB$1>Entries!$K$20,\"TBC\",LARGE(Tables!$FH$9:$FH$44,4))","v":494},{"$f":"IF($AB$1>Entries!$K$20,\"TBC\",SUM(AB6:AE6))","v":2048},1944,1939,1953,1866,1958,2048,11708,1866,11708]
[null,"DIT",{"$f":"IF($C$1>Entries!$K$20,\"TBC\",LARGE(Tables!$O$9:$O$41,1))","v":559},{"$f":"IF($C$1>Entries!$K$20,\"TBC\",LARGE(Tables!$O$9:$O$41,2))","v":499},{"$f":"IF($C$1>Entries!$K$20,\"TBC\",LARGE(Tables!$O$9:$O$41,3))","v":475},{"$f":"IF($C$1>Entries!$K$20,\"TBC\",LARGE(Tables!$O$9:$O$41,4))","v":421},{"$f":"IF($C$1>Entries!$K$20,\"TBC\",SUM(C7:F7))","v":1954},{"$f":"IF($H$1>Entries!$K$20,\"TBC\",LARGE(Tables!$P$9:$P$41,1))","v":486},{"$f":"IF($H$1>Entries!$K$20,\"TBC\",LARGE(Tables!$P$9:$P$41,2))","v":480},{"$f":"IF($H$1>Entries!$K$20,\"TBC\",LARGE(Tables!$P$9:$P$41,3))","v":476},{"$f":"IF($H$1>Entries!$K$20,\"TBC\",LARGE(Tables!$P$9:$P$41,4))","v":467},{"$f":"IF($H$1>Entries!$K$20,\"TBC\",SUM(H7:K7))","v":1909},{"$f":"IF($M$1>Entries!$K$20,\"TBC\",LARGE(Tables!$Q$9:$Q$41,1))","v":527},{"$f":"IF($M$1>Entries!$K$20,\"TBC\",LARGE(Tables!$Q$9:$Q$41,2))","v":494},{"$f":"IF($M$1>Entries!$K$20,\"TBC\",LARGE(Tables!$Q$9:$Q$41,3))","v":480},{"$f":"IF($M$1>Entries!$K$20,\"TBC\",LARGE(Tables!$Q$9:$Q$41,4))","v":437},{"$f":"IF($M$1>Entries!$K$20,\"TBC\",SUM(M7:P7))","v":1938},{"$f":"IF($R$1>Entries!$K$20,\"TBC\",LARGE(Tables!$R$9:$R$41,1))","v":530},{"$f":"IF($R$1>Entries!$K$20,\"TBC\",LARGE(Tables!$R$9:$R$41,2))","v":509},{"$f":"IF($R$1>Entries!$K$20,\"TBC\",LARGE(Tables!$R$9:$R$41,3))","v":488},{"$f":"IF($R$1>Entries!$K$20,\"TBC\",LARGE(Tables!$R$9:$R$41,4))","v":485},{"$f":"IF($R$1>Entries!$K$20,\"TBC\",SUM(R7:U7))","v":2012},{"$f":"IF($W$1>Entries!$K$20,\"TBC\",LARGE(Tables!$S$9:$S$41,1))","v":529},{"$f":"IF($W$1>Entries!$K$20,\"TBC\",LARGE(Tables!$S$9:$S$41,2))","v":508},{"$f":"IF($W$1>Entries!$K$20,\"TBC\",LARGE(Tables!$S$9:$S$41,3))","v":437},{"$f":"IF($W$1>Entries!$K$20,\"TBC\",LARGE(Tables!$S$9:$S$41,4))","v":398},{"$f":"IF($W$1>Entries!$K$20,\"TBC\",SUM(W7:Z7))","v":1872},{"$f":"IF($AB$1>Entries!$K$20,\"TBC\",LARGE(Tables!$T$9:$T$41,1))","v":530},{"$f":"IF($AB$1>Entries!$K$20,\"TBC\",LARGE(Tables!$T$9:$T$41,2))","v":503},{"$f":"IF($AB$1>Entries!$K$20,\"TBC\",LARGE(Tables!$T$9:$T$41,3))","v":499},{"$f":"IF($AB$1>Entries!$K$20,\"TBC\",LARGE(Tables!$T$9:$T$41,4))","v":478},{"$f":"IF($AB$1>Entries!$K$20,\"TBC\",SUM(AB7:AE7))","v":2010},1954,1909,1938,2012,1872,2010,11695,1872,11695]
[null,"DkIT",{"$f":"IF($C$1>Entries!$K$20,\"TBC\",LARGE(Tables!$AA$9:$AA$41,1))","v":503},{"$f":"IF($C$1>Entries!$K$20,\"TBC\",LARGE(Tables!$AA$9:$AA$41,2))","v":471},{"$f":"IF($C$1>Entries!$K$20,\"TBC\",LARGE(Tables!$AA$9:$AA$41,3))","v":466},{"$f":"IF($C$1>Entries!$K$20,\"TBC\",LARGE(Tables!$AA$9:$AA$41,4))","v":465},{"$f":"IF($C$1>Entries!$K$20,\"TBC\",SUM(C8:F8))","v":1905},{"$f":"IF($H$1>Entries!$K$20,\"TBC\",LARGE(Tables!$AB$9:$AB$41,1))","v":542},{"$f":"IF($H$1>Entries!$K$20,\"TBC\",LARGE(Tables!$AB$9:$AB$41,2))","v":464},{"$f":"IF($H$1>Entries!$K$20,\"TBC\",LARGE(Tables!$AB$9:$AB$41,3))","v":442},{"$f":"IF($H$1>Entries!$K$20,\"TBC\",LARGE(Tables!$AB$9:$AB$41,4))","v":427},{"$f":"IF($H$1>Entries!$K$20,\"TBC\",SUM(H8:K8))","v":1875},{"$f":"IF($M$1>Entries!$K$20,\"TBC\",LARGE(Tables!$AC$9:$AC$41,1))","v":496},{"$f":"IF($M$1>Entries!$K$20,\"TBC\",LARGE(Tables!$AC$9:$AC$41,2))","v":462},{"$f":"IF($M$1>Entries!$K$20,\"TBC\",LARGE(Tables!$AC$9:$AC$41,3))","v":443},{"$f":"IF($M$1>Entries!$K$20,\"TBC\",LARGE(Tables!$AC$9:$AC$41,4))","v":421},{"$f":"IF($M$1>Entries!$K$20,\"TBC\",SUM(M8:P8))","v":1822},{"$f":"IF($R$1>Entries!$K$20,\"TBC\",LARGE(Tables!$AD$9:$AD$41,1))","v":513},{"$f":"IF($R$1>Entries!$K$20,\"TBC\",LARGE(Tables!$AD$9:$AD$41,2))","v":413},{"$f":"IF($R$1>Entries!$K$20,\"TBC\",LARGE(Tables!$AD$9:$AD$41,3))","v":404},{"$f":"IF($R$1>Entries!$K$20,\"TBC\",LARGE(Tables!$AD$9:$AD$41,4))","v":362},{"$f":"IF($R$1>Entries!$K$20,\"TBC\",SUM(R8:U8))","v":1692},{"$f":"IF($W$1>Entries!$K$20,\"TBC\",LARGE(Tables!$AE$9:$AE$41,1))","v":556},{"$f":"IF($W$1>Entries!$K$20,\"TBC\",LARGE(Tables!$AE$9:$AE$41,2))","v":475},{"$f":"IF($W$1>Entries!$K$20,\"TBC\",LARGE(Tables!$AE$9:$AE$41,3))","v":446},{"$f":"IF($W$1>Entries!$K$20,\"TBC\",LARGE(Tables!$AE$9:$AE$41,4))","v":397},{"$f":"IF($W$1>Entries!$K$20,\"TBC\",SUM(W8:Z8))","v":1874},{"$f":"IF($AB$1>Entries!$K$20,\"TBC\",LARGE(Tables!$AF$9:$AF$41,1))","v":531},{"$f":"IF($AB$1>Entries!$K$20,\"TBC\",LARGE(Tables!$AF$9:$AF$41,2))","v":432},{"$f":"IF($AB$1>Entries!$K$20,\"TBC\",LARGE(Tables!$AF$9:$AF$41,3))","v":355},{"$f":"IF($AB$1>Entries!$K$20,\"TBC\",LARGE(Tables!$AF$9:$AF$41,4))","v":352},{"$f":"IF($AB$1>Entries!$K$20,\"TBC\",SUM(AB8:AE8))","v":1670},1905,1875,1822,1692,1874,1670,10838,1670,10838]
[null,"UCC",{"$f":"IF($C$1>Entries!$K$20,\"TBC\",LARGE(Tables!$EQ$9:$EQ$41,1))","v":495},{"$f":"IF($C$1>Entries!$K$20,\"TBC\",LARGE(Tables!$EQ$9:$EQ$41,2))","v":452},{"$f":"IF($C$1>Entries!$K$20,\"TBC\",LARGE(Tables!$EQ$9:$EQ$41,3))","v":451},{"$f":"IF($C$1>Entries!$K$20,\"TBC\",LARGE(Tables!$EQ$9:$EQ$41,4))","v":450},{"$f":"IF($C$1>Entries!$K$20,\"TBC\",SUM(C9:F9))","v":1848},{"$f":"IF($H$1>Entries!$K$20,\"TBC\",LARGE(Tables!$ER$9:$ER$41,1))","v":489},{"$f":"IF($H$1>Entries!$K$20,\"TBC\",LARGE(Tables!$ER$9:$ER$41,2))","v":458},{"$f":"IF($H$1>Entries!$K$20,\"TBC\",LARGE(Tables!$ER$9:$ER$41,3))","v":450},{"$f":"IF($H$1>Entries!$K$20,\"TBC\",LARGE(Tables!$ER$9:$ER$41,4))","v":312},{"$f":"IF($H$1>Entries!$K$20,\"TBC\",SUM(H9:K9))","v":1709},{"$f":"IF($M$1>Entries!$K$20,\"TBC\",LARGE(Tables!$ES$9:$ES$41,1))","v":486},{"$f":"IF($M$1>Entries!$K$20,\"TBC\",LARGE(Tables!$ES$9:$ES$41,2))","v":414},{"$f":"IF($M$1>Entries!$K$20,\"TBC\",LARGE(Tables!$ES$9:$ES$41,3))","v":374},{"$f":"IF($M$1>Entries!$K$20,\"TBC\",LARGE(Tables!$ES$9:$ES$41,4))","v":0},{"$f":"IF($M$1>Entries!$K$20,\"TBC\",SUM(M9:P9))","v":1274},{"$f":"IF($R$1>Entries!$K$20,\"TBC\",LARGE(Tables!$ET$9:$ET$41,1))","v":0},{"$f":"IF($R$1>Entries!$K$20,\"TBC\",LARGE(Tables!$ET$9:$ET$41,2))","v":0},{"$f":"IF($R$1>Entries!$K$20,\"TBC\",LARGE(Tables!$ET$9:$ET$41,3))","v":0},{"$f":"IF($R$1>Entries!$K$20,\"TBC\",LARGE(Tables!$ET$9:$ET$41,4))","v":0},{"$f":"IF($R$1>Entries!$K$20,\"TBC\",SUM(R9:U9))","v":0},{"$f":"IF($W$1>Entries!$K$20,\"TBC\",LARGE(Tables!$EU$9:$EU$41,1))","v":488},{"$f":"IF($W$1>Entries!$K$20,\"TBC\",LARGE(Tables!$EU$9:$EU$41,2))","v":479},{"$f":"IF($W$1>Entries!$K$20,\"TBC\",LARGE(Tables!$EU$9:$EU$41,3))","v":399},{"$f":"IF($W$1>Entries!$K$20,\"TBC\",LARGE(Tables!$EU$9:$EU$41,4))","v":252},{"$f":"IF($W$1>Entries!$K$20,\"TBC\",SUM(W9:Z9))","v":1618},{"$f":"IF($AB$1>Entries!$K$20,\"TBC\",LARGE(Tables!$EV$9:$EV$41,1))","v":490},{"$f":"IF($AB$1>Entries!$K$20,\"TBC\",LARGE(Tables!$EV$9:$EV$41,2))","v":465},{"$f":"IF($AB$1>Entries!$K$20,\"TBC\",LARGE(Tables!$EV$9:$EV$41,3))","v":405},{"$f":"IF($AB$1>Entries!$K$20,\"TBC\",LARGE(Tables!$EV$9:$EV$41,4))","v":314},{"$f":"IF($AB$1>Entries!$K$20,\"TBC\",SUM(AB9:AE9))","v":1674},1848,1709,1274,0,1618,1674,8123,0,8123]
[null,"GMIT",{"$f":"IF($C$1>Entries!$K$20,\"TBC\",LARGE(Tables!$AY$9:$AY$41,1))","v":346},{"$f":"IF($C$1>Entries!$K$20,\"TBC\",LARGE(Tables!$AY$9:$AY$41,2))","v":252},{"$f":"IF($C$1>Entries!$K$20,\"TBC\",LARGE(Tables!$AY$9:$AY$41,3))","v":252},{"$f":"IF($C$1>Entries!$K$20,\"TBC\",LARGE(Tables!$AY$9:$AY$41,4))","v":242},{"$f":"IF($C$1>Entries!$K$20,\"TBC\",SUM(C10:F10))","v":1092},{"$f":"IF($H$1>Entries!$K$20,\"TBC\",LARGE(Tables!$AZ$9:$AZ$41,1))","v":354},{"$f":"IF($H$1>Entries!$K$20,\"TBC\",LARGE(Tables!$AZ$9:$AZ$41,2))","v":88},{"$f":"IF($H$1>Entries!$K$20,\"TBC\",LARGE(Tables!$AZ$9:$AZ$41,3))","v":0},{"$f":"IF($H$1>Entries!$K$20,\"TBC\",LARGE(Tables!$AZ$9:$AZ$41,4))","v":0},{"$f":"IF($H$1>Entries!$K$20,\"TBC\",SUM(H10:K10))","v":442},{"$f":"IF($M$1>Entries!$K$20,\"TBC\",LARGE(Tables!$BA$9:$BA$41,1))","v":424},{"$f":"IF($M$1>Entries!$K$20,\"TBC\",LARGE(Tables!$BA$9:$BA$41,2))","v":400},{"$f":"IF($M$1>Entries!$K$20,\"TBC\",LARGE(Tables!$BA$9:$BA$41,3))","v":389},{"$f":"IF($M$1>Entries!$K$20,\"TBC\",LARGE(Tables!$BA$9:$BA$41,4))","v":325},{"$f":"IF($M$1>Entries!$K$20,\"TBC\",SUM(M10:P10))","v":1538},{"$f":"IF($R$1>Entries!$K$20,\"TBC\",LARGE(Tables!$BB$9:$BB$41,1))","v":437},{"$f":"IF($R$1>Entries!$K$20,\"TBC\",LARGE(Tables!$BB$9:$BB$41,2))","v":430},{"$f":"IF($R$1>Entries!$K$20,\"TBC\",LARGE(Tables!$BB$9:$BB$41,3))","v":380},{"$f":"IF($R$1>Entries!$K$20,\"TBC\",LARGE(Tables!$BB$9:$BB$41,4))","v":373},{"$f":"IF($R$1>Entries!$K$20,\"TBC\",SUM(R10:U10))","v":1620},{"$f":"IF($W$1>Entries!$K$20,\"TBC\",LARGE(Tables!$BC$9:$BC$41,1))","v":458},{"$f":"IF($W$1>Entries!$K$20,\"TBC\",LARGE(Tables!$BC$9:$BC$41,2))","v":444},{"$f":"IF($W$1>Entries!$K$20,\"TBC\",LARGE(Tables!$BC$9:$BC$41,3))","v":428},{"$f":"IF($W$1>Entries!$K$20,\"TBC\",LARGE(Tables!$BC$9:$BC$41,4))","v":422},{"$f":"IF($W$1>Entries!$K$20,\"TBC\",SUM(W10:Z10))","v":1752},{"$f":"IF($AB$1>Entries!$K$20,\"TBC\",LARGE(Tables!$BD$9:$BD$41,1))","v":472},{"$f":"IF($AB$1>Entries!$K$20,\"TBC\",LARGE(Tables!$BD$9:$BD$41,2))","v":444},{"$f":"IF($AB$1>Entries!$K$20,\"TBC\",LARGE(Tables!$BD$9:$BD$41,3))","v":371},{"$f":"IF($AB$1>Entries!$K$20,\"TBC\",LARGE(Tables!$BD$9:$BD$41,4))","v":361},{"$f":"IF($AB$1>Entries!$K$20,\"TBC\",SUM(AB10:AE10))","v":1648},1092,442,1538,1620,1752,1648,8092,442,8092]
[null,"ITC",{"$f":"IF($C$1>Entries!$K$20,\"TBC\",LARGE(Tables!$CI$9:$CI$41,1))","v":474},{"$f":"IF($C$1>Entries!$K$20,\"TBC\",LARGE(Tables!$CI$9:$CI$41,2))","v":429},{"$f":"IF($C$1>Entries!$K$20,\"TBC\",LARGE(Tables!$CI$9:$CI$41,3))","v":0},{"$f":"IF($C$1>Entries!$K$20,\"TBC\",LARGE(Tables!$CI$9:$CI$41,4))","v":0},{"$f":"IF($C$1>Entries!$K$20,\"TBC\",SUM(C11:F11))","v":903},{"$f":"IF($H$1>Entries!$K$20,\"TBC\",LARGE(Tables!$CJ$9:$CJ$41,1))","v":535},{"$f":"IF($H$1>Entries!$K$20,\"TBC\",LARGE(Tables!$CJ$9:$CJ$41,2))","v":448},{"$f":"IF($H$1>Entries!$K$20,\"TBC\",LARGE(Tables!$CJ$9:$CJ$41,3))","v":400},{"$f":"IF($H$1>Entries!$K$20,\"TBC\",LARGE(Tables!$CJ$9:$CJ$41,4))","v":393},{"$f":"IF($H$1>Entries!$K$20,\"TBC\",SUM(H11:K11))","v":1776},{"$f":"IF($M$1>Entries!$K$20,\"TBC\",LARGE(Tables!$CK$9:$CK$41,1))","v":484},{"$f":"IF($M$1>Entries!$K$20,\"TBC\",LARGE(Tables!$CK$9:$CK$41,2))","v":467},{"$f":"IF($M$1>Entries!$K$20,\"TBC\",LARGE(Tables!$CK$9:$CK$41,3))","v":429},{"$f":"IF($M$1>Entries!$K$20,\"TBC\",LARGE(Tables!$CK$9:$CK$41,4))","v":304},{"$f":"IF($M$1>Entries!$K$20,\"TBC\",SUM(M11:P11))","v":1684},{"$f":"IF($R$1>Entries!$K$20,\"TBC\",LARGE(Tables!$CL$9:$CL$41,1))","v":510},{"$f":"IF($R$1>Entries!$K$20,\"TBC\",LARGE(Tables!$CL$9:$CL$41,2))","v":496},{"$f":"IF($R$1>Entries!$K$20,\"TBC\",LARGE(Tables!$CL$9:$CL$41,3))","v":313},{"$f":"IF($R$1>Entries!$K$20,\"TBC\",LARGE(Tables!$CL$9:$CL$41,4))","v":0},{"$f":"IF($R$1>Entries!$K$20,\"TBC\",SUM(R11:U11))","v":1319},{"$f":"IF($W$1>Entries!$K$20,\"TBC\",LARGE(Tables!$CM$9:$CM$41,1))","v":489},{"$f":"IF($W$1>Entries!$K$20,\"TBC\",LARGE(Tables!$CM$9:$CM$41,2))","v":474},{"$f":"IF($W$1>Entries!$K$20,\"TBC\",LARGE(Tables!$CM$9:$CM$41,3))","v":337},{"$f":"IF($W$1>Entries!$K$20,\"TBC\",LARGE(Tables!$CM$9:$CM$41,4))","v":0},{"$f":"IF($W$1>Entries!$K$20,\"TBC\",SUM(W11:Z11))","v":1300},{"$f":"IF($AB$1>Entries!$K$20,\"TBC\",LARGE(Tables!$CN$9:$CN$41,1))","v":526},{"$f":"IF($AB$1>Entries!$K$20,\"TBC\",LARGE(Tables!$CN$9:$CN$41,2))","v":484},{"$f":"IF($AB$1>Entries!$K$20,\"TBC\",LARGE(Tables!$CN$9:$CN$41,3))","v":399},{"$f":"IF($AB$1>Entries!$K$20,\"TBC\",LARGE(Tables!$CN$9:$CN$41,4))","v":0},{"$f":"IF($AB$1>Entries!$K$20,\"TBC\",SUM(AB11:AE11))","v":1409},903,1776,1684,1319,1300,1409,8391,903,8391]
[null,"IT Tallaght",{"$f":"IF($C$1>Entries!$K$20,\"TBC\",LARGE(Tables!$BW$9:$BW$41,1))","v":497},{"$f":"IF($C$1>Entries!$K$20,\"TBC\",LARGE(Tables!$BW$9:$BW$41,2))","v":497},{"$f":"IF($C$1>Entries!$K$20,\"TBC\",LARGE(Tables!$BW$9:$BW$41,3))","v":392},{"$f":"IF($C$1>Entries!$K$20,\"TBC\",LARGE(Tables!$BW$9:$BW$41,4))","v":53},{"$f":"IF($C$1>Entries!$K$20,\"TBC\",SUM(C12:F12))","v":1439},{"$f":"IF($H$1>Entries!$K$20,\"TBC\",LARGE(Tables!$BX$9:$BX$41,1))","v":499},{"$f":"IF($H$1>Entries!$K$20,\"TBC\",LARGE(Tables!$BX$9:$BX$41,2))","v":0},{"$f":"IF($H$1>Entries!$K$20,\"TBC\",LARGE(Tables!$BX$9:$BX$41,3))","v":0},{"$f":"IF($H$1>Entries!$K$20,\"TBC\",LARGE(Tables!$BX$9:$BX$41,4))","v":0},{"$f":"IF($H$1>Entries!$K$20,\"TBC\",SUM(H12:K12))","v":499},{"$f":"IF($M$1>Entries!$K$20,\"TBC\",LARGE(Tables!$BY$9:$BY$41,1))","v":543},{"$f":"IF($M$1>Entries!$K$20,\"TBC\",LARGE(Tables!$BY$9:$BY$41,2))","v":477},{"$f":"IF($M$1>Entries!$K$20,\"TBC\",LARGE(Tables!$BY$9:$BY$41,3))","v":0},{"$f":"IF($M$1>Entries!$K$20,\"TBC\",LARGE(Tables!$BY$9:$BY$41,4))","v":0},{"$f":"IF($M$1>Entries!$K$20,\"TBC\",SUM(M12:P12))","v":1020},{"$f":"IF($R$1>Entries!$K$20,\"TBC\",LARGE(Tables!$BZ$9:$BZ$41,1))","v":523},{"$f":"IF($R$1>Entries!$K$20,\"TBC\",LARGE(Tables!$BZ$9:$BZ$41,2))","v":480},{"$f":"IF($R$1>Entries!$K$20,\"TBC\",LARGE(Tables!$BZ$9:$BZ$41,3))","v":478},{"$f":"IF($R$1>Entries!$K$20,\"TBC\",LARGE(Tables!$BZ$9:$BZ$41,4))","v":283},{"$f":"IF($R$1>Entries!$K$20,\"TBC\",SUM(R12:U12))","v":1764},{"$f":"IF($W$1>Entries!$K$20,\"TBC\",LARGE(Tables!$CA$9:$CA$41,1))","v":451},{"$f":"IF($W$1>Entries!$K$20,\"TBC\",LARGE(Tables!$CA$9:$CA$41,2))","v":0},{"$f":"IF($W$1>Entries!$K$20,\"TBC\",LARGE(Tables!$CA$9:$CA$41,3))","v":0},{"$f":"IF($W$1>Entries!$K$20,\"TBC\",LARGE(Tables!$CA$9:$CA$41,4))","v":0},{"$f":"IF($W$1>Entries!$K$20,\"TBC\",SUM(W12:Z12))","v":451},{"$f":"IF($AB$1>Entries!$K$20,\"TBC\",LARGE(Tables!$CB$9:$CB$41,1))","v":525},{"$f":"IF($AB$1>Entries!$K$20,\"TBC\",LARGE(Tables!$CB$9:$CB$41,2))","v":494},{"$f":"IF($AB$1>Entries!$K$20,\"TBC\",LARGE(Tables!$CB$9:$CB$41,3))","v":423},{"$f":"IF($AB$1>Entries!$K$20,\"TBC\",LARGE(Tables!$CB$9:$CB$41,4))","v":250},{"$f":"IF($AB$1>Entries!$K$20,\"TBC\",SUM(AB12:AE12))","v":1692},1439,499,1020,1764,451,1692,6865,451,6865]
[null,"RCSI",{"$f":"IF($C$1>Entries!$K$20,\"TBC\",LARGE(Tables!$EE$9:$EE$41,1))","v":259},{"$f":"IF($C$1>Entries!$K$20,\"TBC\",LARGE(Tables!$EE$9:$EE$41,2))","v":224},{"$f":"IF($C$1>Entries!$K$20,\"TBC\",LARGE(Tables!$EE$9:$EE$41,3))","v":187},{"$f":"IF($C$1>Entries!$K$20,\"TBC\",LARGE(Tables!$EE$9:$EE$41,4))","v":149},{"$f":"IF($C$1>Entries!$K$20,\"TBC\",SUM(C13:F13))","v":819},{"$f":"IF($H$1>Entries!$K$20,\"TBC\",LARGE(Tables!$EF$9:$EF$41,1))","v":282},{"$f":"IF($H$1>Entries!$K$20,\"TBC\",LARGE(Tables!$EF$9:$EF$41,2))","v":240},{"$f":"IF($H$1>Entries!$K$20,\"TBC\",LARGE(Tables!$EF$9:$EF$41,3))","v":239},{"$f":"IF($H$1>Entries!$K$20,\"TBC\",LARGE(Tables!$EF$9:$EF$41,4))","v":186},{"$f":"IF($H$1>Entries!$K$20,\"TBC\",SUM(H13:K13))","v":947},{"$f":"IF($M$1>Entries!$K$20,\"TBC\",LARGE(Tables!$EG$9:$EG$41,1))","v":0},{"$f":"IF($M$1>Entries!$K$20,\"TBC\",LARGE(Tables!$EG$9:$EG$41,2))","v":0},{"$f":"IF($M$1>Entries!$K$20,\"TBC\",LARGE(Tables!$EG$9:$EG$41,3))","v":0},{"$f":"IF($M$1>Entries!$K$20,\"TBC\",LARGE(Tables!$EG$9:$EG$41,4))","v":0},{"$f":"IF($M$1>Entries!$K$20,\"TBC\",SUM(M13:P13))","v":0},{"$f":"IF($R$1>Entries!$K$20,\"TBC\",LARGE(Tables!$EH$9:$EH$41,1))","v":444},{"$f":"IF($R$1>Entries!$K$20,\"TBC\",LARGE(Tables!$EH$9:$EH$41,2))","v":371},{"$f":"IF($R$1>Entries!$K$20,\"TBC\",LARGE(Tables!$EH$9:$EH$41,3))","v":318},{"$f":"IF($R$1>Entries!$K$20,\"TBC\",LARGE(Tables!$EH$9:$EH$41,4))","v":248},{"$f":"IF($R$1>Entries!$K$20,\"TBC\",SUM(R13:U13))","v":1381},{"$f":"IF($W$1>Entries!$K$20,\"TBC\",LARGE(Tables!$EI$9:$EI$41,1))","v":366},{"$f":"IF($W$1>Entries!$K$20,\"TBC\",LARGE(Tables!$EI$9:$EI$41,2))","v":359},{"$f":"IF($W$1>Entries!$K$20,\"TBC\",LARGE(Tables!$EI$9:$EI$41,3))","v":282},{"$f":"IF($W$1>Entries!$K$20,\"TBC\",LARGE(Tables!$EI$9:$EI$41,4))","v":251},{"$f":"IF($W$1>Entries!$K$20,\"TBC\",SUM(W13:Z13))","v":1258},{"$f":"IF($AB$1>Entries!$K$20,\"TBC\",LARGE(Tables!$EJ$9:$EJ$41,1))","v":407},{"$f":"IF($AB$1>Entries!$K$20,\"TBC\",LARGE(Tables!$EJ$9:$EJ$41,2))","v":382},{"$f":"IF($AB$1>Entries!$K$20,\"TBC\",LARGE(Tables!$EJ$9:$EJ$41,3))","v":232},{"$f":"IF($AB$1>Entries!$K$20,\"TBC\",LARGE(Tables!$EJ$9:$EJ$41,4))","v":114},{"$f":"IF($AB$1>Entries!$K$20,\"TBC\",SUM(AB13:AE13))","v":1135},819,947,0,1381,1258,1135,5540,0,5540]
[null,"UU",{"$f":"IF($C$1>Entries!$K$20,\"TBC\",LARGE(Tables!$GA$9:$GA$41,1))","v":564},{"$f":"IF($C$1>Entries!$K$20,\"TBC\",LARGE(Tables!$GA$9:$GA$41,2))","v":445},{"$f":"IF($C$1>Entries!$K$20,\"TBC\",LARGE(Tables!$GA$9:$GA$41,3))","v":0},{"$f":"IF($C$1>Entries!$K$20,\"TBC\",LARGE(Tables!$GA$9:$GA$41,4))","v":0},{"$f":"IF($C$1>Entries!$K$20,\"TBC\",SUM(C14:F14))","v":1009},{"$f":"IF($H$1>Entries!$K$20,\"TBC\",LARGE(Tables!$GB$9:$GB$41,1))","v":548},{"$f":"IF($H$1>Entries!$K$20,\"TBC\",LARGE(Tables!$GB$9:$GB$41,2))","v":500},{"$f":"IF($H$1>Entries!$K$20,\"TBC\",LARGE(Tables!$GB$9:$GB$41,3))","v":472},{"$f":"IF($H$1>Entries!$K$20,\"TBC\",LARGE(Tables!$GB$9:$GB$41,4))","v":322},{"$f":"IF($H$1>Entries!$K$20,\"TBC\",SUM(H14:K14))","v":1842},{"$f":"IF($M$1>Entries!$K$20,\"TBC\",LARGE(Tables!$GC$9:$GC$41,1))","v":559},{"$f":"IF($M$1>Entries!$K$20,\"TBC\",LARGE(Tables!$GC$9:$GC$41,2))","v":476},{"$f":"IF($M$1>Entries!$K$20,\"TBC\",LARGE(Tables!$GC$9:$GC$41,3))","v":0},{"$f":"IF($M$1>Entries!$K$20,\"TBC\",LARGE(Tables!$GC$9:$GC$41,4))","v":0},{"$f":"IF($M$1>Entries!$K$20,\"TBC\",SUM(M14:P14))","v":1035},{"$f":"IF($R$1>Entries!$K$20,\"TBC\",LARGE(Tables!$GD$9:$GD$41,1))","v":557},{"$f":"IF($R$1>Entries!$K$20,\"TBC\",LARGE(Tables!$GD$9:$GD$41,2))","v":531},{"$f":"IF($R$1>Entries!$K$20,\"TBC\",LARGE(Tables!$GD$9:$GD$41,3))","v":381},{"$f":"IF($R$1>Entries!$K$20,\"TBC\",LARGE(Tables!$GD$9:$GD$41,4))","v":0},{"$f":"IF($R$1>Entries!$K$20,\"TBC\",SUM(R14:U14))","v":1469},{"$f":"IF($W$1>Entries!$K$20,\"TBC\",LARGE(Tables!$GE$9:$GE$41,1))","v":0},{"$f":"IF($W$1>Entries!$K$20,\"TBC\",LARGE(Tables!$GE$9:$GE$41,2))","v":0},{"$f":"IF($W$1>Entries!$K$20,\"TBC\",LARGE(Tables!$GE$9:$GE$41,3))","v":0},{"$f":"IF($W$1>Entries!$K$20,\"TBC\",LARGE(Tables!$GE$9:$GE$41,4))","v":0},{"$f":"IF($W$1>Entries!$K$20,\"TBC\",SUM(W14:Z14))","v":0},{"$f":"IF($AB$1>Entries!$K$20,\"TBC\",LARGE(Tables!$GF$9:$GF$41,1))","v":0},{"$f":"IF($AB$1>Entries!$K$20,\"TBC\",LARGE(Tables!$GF$9:$GF$41,2))","v":0},{"$f":"IF($AB$1>Entries!$K$20,\"TBC\",LARGE(Tables!$GF$9:$GF$41,3))","v":0},{"$f":"IF($AB$1>Entries!$K$20,\"TBC\",LARGE(Tables!$GF$9:$GF$41,4))","v":0},{"$f":"IF($AB$1>Entries!$K$20,\"TBC\",SUM(AB14:AE14))","v":0},1009,1842,1035,1469,0,0,5355,0,5355]
[null,"BCFE",{"$f":"IF($C$1>Entries!$K$20,\"TBC\",LARGE(Tables!$AM$9:$AM$41,1))","v":552},{"$f":"IF($C$1>Entries!$K$20,\"TBC\",LARGE(Tables!$AM$9:$AM$41,2))","v":0},{"$f":"IF($C$1>Entries!$K$20,\"TBC\",LARGE(Tables!$AM$9:$AM$41,3))","v":0},{"$f":"IF($C$1>Entries!$K$20,\"TBC\",LARGE(Tables!$AM$9:$AM$41,4))","v":0},{"$f":"IF($C$1>Entries!$K$20,\"TBC\",SUM(C15:F15))","v":552},{"$f":"IF($H$1>Entries!$K$20,\"TBC\",LARGE(Tables!$AN$9:$AN$41,1))","v":546},{"$f":"IF($H$1>Entries!$K$20,\"TBC\",LARGE(Tables!$AN$9:$AN$41,2))","v":0},{"$f":"IF($H$1>Entries!$K$20,\"TBC\",LARGE(Tables!$AN$9:$AN$41,3))","v":0},{"$f":"IF($H$1>Entries!$K$20,\"TBC\",LARGE(Tables!$AN$9:$AN$41,4))","v":0},{"$f":"IF($H$1>Entries!$K$20,\"TBC\",SUM(H15:K15))","v":546},{"$f":"IF($M$1>Entries!$K$20,\"TBC\",LARGE(Tables!$AO$9:$AO$41,1))","v":562},{"$f":"IF($M$1>Entries!$K$20,\"TBC\",LARGE(Tables!$AO$9:$AO$41,2))","v":0},{"$f":"IF($M$1>Entries!$K$20,\"TBC\",LARGE(Tables!$AO$9:$AO$41,3))","v":0},{"$f":"IF($M$1>Entries!$K$20,\"TBC\",LARGE(Tables!$AO$9:$AO$41,4))","v":0},{"$f":"IF($M$1>Entries!$K$20,\"TBC\",SUM(M15:P15))","v":562},{"$f":"IF($R$1>Entries!$K$20,\"TBC\",LARGE(Tables!$AP$9:$AP$41,1))","v":550},{"$f":"IF($R$1>Entries!$K$20,\"TBC\",LARGE(Tables!$AP$9:$AP$41,2))","v":0},{"$f":"IF($R$1>Entries!$K$20,\"TBC\",LARGE(Tables!$AP$9:$AP$41,3))","v":0},{"$f":"IF($R$1>Entries!$K$20,\"TBC\",LARGE(Tables!$AP$9:$AP$41,4))","v":0},{"$f":"IF($R$1>Entries!$K$20,\"TBC\",SUM(R15:U15))","v":550},{"$f":"IF($W$1>Entries!$K$20,\"TBC\",LARGE(Tables!$AQ$9:$AQ$41,1))","v":559},{"$f":"IF($W$1>Entries!$K$20,\"TBC\",LARGE(Tables!$AQ$9:$AQ$41,2))","v":0},{"$f":"IF($W$1>Entries!$K$20,\"TBC\",LARGE(Tables!$AQ$9:$AQ$41,3))","v":0},{"$f":"IF($W$1>Entries!$K$20,\"TBC\",LARGE(Tables!$AQ$9:$AQ$41,4))","v":0},{"$f":"IF($W$1>Entries!$K$20,\"TBC\",SUM(W15:Z15))","v":559},{"$f":"IF($AB$1>Entries!$K$20,\"TBC\",LARGE(Tables!$AR$9:$AR$41,1))","v":548},{"$f":"IF($AB$1>Entries!$K$20,\"TBC\",LARGE(Tables!$AR$9:$AR$41,2))","v":0},{"$f":"IF($AB$1>Entries!$K$20,\"TBC\",LARGE(Tables!$AR$9:$AR$41,3))","v":0},{"$f":"IF($AB$1>Entries!$K$20,\"TBC\",LARGE(Tables!$AR$9:$AR$41,4))","v":0},{"$f":"IF($AB$1>Entries!$K$20,\"TBC\",SUM(AB15:AE15))","v":548},552,546,562,550,559,548,3317,546,3317]
[null,"GMITC",{"$f":"IF($C$1>Entries!$K$20,\"TBC\",LARGE(Tables!$BK$9:$BK$41,1))","v":366},{"$f":"IF($C$1>Entries!$K$20,\"TBC\",LARGE(Tables!$BK$9:$BK$41,2))","v":337},{"$f":"IF($C$1>Entries!$K$20,\"TBC\",LARGE(Tables!$BK$9:$BK$41,3))","v":0},{"$f":"IF($C$1>Entries!$K$20,\"TBC\",LARGE(Tables!$BK$9:$BK$41,4))","v":0},{"$f":"IF($C$1>Entries!$K$20,\"TBC\",SUM(C16:F16))","v":703},{"$f":"IF($H$1>Entries!$K$20,\"TBC\",LARGE(Tables!$BL$9:$BL$41,1))","v":452},{"$f":"IF($H$1>Entries!$K$20,\"TBC\",LARGE(Tables!$BL$9:$BL$41,2))","v":0},{"$f":"IF($H$1>Entries!$K$20,\"TBC\",LARGE(Tables!$BL$9:$BL$41,3))","v":0},{"$f":"IF($H$1>Entries!$K$20,\"TBC\",LARGE(Tables!$BL$9:$BL$41,4))","v":0},{"$f":"IF($H$1>Entries!$K$20,\"TBC\",SUM(H16:K16))","v":452},{"$f":"IF($M$1>Entries!$K$20,\"TBC\",LARGE(Tables!$BM$9:$BM$41,1))","v":413},{"$f":"IF($M$1>Entries!$K$20,\"TBC\",LARGE(Tables!$BM$9:$BM$41,2))","v":0},{"$f":"IF($M$1>Entries!$K$20,\"TBC\",LARGE(Tables!$BM$9:$BM$41,3))","v":0},{"$f":"IF($M$1>Entries!$K$20,\"TBC\",LARGE(Tables!$BM$9:$BM$41,4))","v":0},{"$f":"IF($M$1>Entries!$K$20,\"TBC\",SUM(M16:P16))","v":413},{"$f":"IF($R$1>Entries!$K$20,\"TBC\",LARGE(Tables!$BN$9:$BN$41,1))","v":423},{"$f":"IF($R$1>Entries!$K$20,\"TBC\",LARGE(Tables!$BN$9:$BN$41,2))","v":0},{"$f":"IF($R$1>Entries!$K$20,\"TBC\",LARGE(Tables!$BN$9:$BN$41,3))","v":0},{"$f":"IF($R$1>Entries!$K$20,\"TBC\",LARGE(Tables!$BN$9:$BN$41,4))","v":0},{"$f":"IF($R$1>Entries!$K$20,\"TBC\",SUM(R16:U16))","v":423},{"$f":"IF($W$1>Entries!$K$20,\"TBC\",LARGE(Tables!$BO$9:$BO$41,1))","v":445},{"$f":"IF($W$1>Entries!$K$20,\"TBC\",LARGE(Tables!$BO$9:$BO$41,2))","v":0},{"$f":"IF($W$1>Entries!$K$20,\"TBC\",LARGE(Tables!$BO$9:$BO$41,3))","v":0},{"$f":"IF($W$1>Entries!$K$20,\"TBC\",LARGE(Tables!$BO$9:$BO$41,4))","v":0},{"$f":"IF($W$1>Entries!$K$20,\"TBC\",SUM(W16:Z16))","v":445},{"$f":"IF($AB$1>Entries!$K$20,\"TBC\",LARGE(Tables!$BP$9:$BP$41,1))","v":452},{"$f":"IF($AB$1>Entries!$K$20,\"TBC\",LARGE(Tables!$BP$9:$BP$41,2))","v":0},{"$f":"IF($AB$1>Entries!$K$20,\"TBC\",LARGE(Tables!$BP$9:$BP$41,3))","v":0},{"$f":"IF($AB$1>Entries!$K$20,\"TBC\",LARGE(Tables!$BP$9:$BP$41,4))","v":0},{"$f":"IF($AB$1>Entries!$K$20,\"TBC\",SUM(AB16:AE16))","v":452},703,452,413,423,445,452,2888,413,2888]
[null,"QUB",{"$f":"IF($C$1>Entries!$K$20,\"TBC\",LARGE(Tables!$GM$9:$GM$41,1))","v":454},{"$f":"IF($C$1>Entries!$K$20,\"TBC\",LARGE(Tables!$GM$9:$GM$41,2))","v":0},{"$f":"IF($C$1>Entries!$K$20,\"TBC\",LARGE(Tables!$GM$9:$GM$41,3))","v":0},{"$f":"IF($C$1>Entries!$K$20,\"TBC\",LARGE(Tables!$GM$9:$GM$41,4))","v":0},{"$f":"IF($C$1>Entries!$K$20,\"TBC\",SUM(C17:F17))","v":454},{"$f":"IF($H$1>Entries!$K$20,\"TBC\",LARGE(Tables!$GN$9:$GN$41,1))","v":0},{"$f":"IF($H$1>Entries!$K$20,\"TBC\",LARGE(Tables!$GN$9:$GN$41,2))","v":0},{"$f":"IF($H$1>Entries!$K$20,\"TBC\",LARGE(Tables!$GN$9:$GN$41,3))","v":0},{"$f":"IF($H$1>Entries!$K$20,\"TBC\",LARGE(Tables!$GN$9:$GN$41,4))","v":0},{"$f":"IF($H$1>Entries!$K$20,\"TBC\",SUM(H17:K17))","v":0},{"$f":"IF($M$1>Entries!$K$20,\"TBC\",LARGE(Tables!$GO$9:$GO$41,1))","v":0},{"$f":"IF($M$1>Entries!$K$20,\"TBC\",LARGE(Tables!$GO$9:$GO$41,2))","v":0},{"$f":"IF($M$1>Entries!$K$20,\"TBC\",LARGE(Tables!$GO$9:$GO$41,3))","v":0},{"$f":"IF($M$1>Entries!$K$20,\"TBC\",LARGE(Tables!$GO$9:$GO$41,4))","v":0},{"$f":"IF($M$1>Entries!$K$20,\"TBC\",SUM(M17:P17))","v":0},{"$f":"IF($R$1>Entries!$K$20,\"TBC\",LARGE(Tables!$GP$9:$GP$41,1))","v":0},{"$f":"IF($R$1>Entries!$K$20,\"TBC\",LARGE(Tables!$GP$9:$GP$41,2))","v":0},{"$f":"IF($R$1>Entries!$K$20,\"TBC\",LARGE(Tables!$GP$9:$GP$41,3))","v":0},{"$f":"IF($R$1>Entries!$K$20,\"TBC\",LARGE(Tables!$GP$9:$GP$41,4))","v":0},{"$f":"IF($R$1>Entries!$K$20,\"TBC\",SUM(R17:U17))","v":0},{"$f":"IF($W$1>Entries!$K$20,\"TBC\",LARGE(Tables!$GQ$9:$GQ$41,1))","v":471},{"$f":"IF($W$1>Entries!$K$20,\"TBC\",LARGE(Tables!$GQ$9:$GQ$41,2))","v":0},{"$f":"IF($W$1>Entries!$K$20,\"TBC\",LARGE(Tables!$GQ$9:$GQ$41,3))","v":0},{"$f":"IF($W$1>Entries!$K$20,\"TBC\",LARGE(Tables!$GQ$9:$GQ$41,4))","v":0},{"$f":"IF($W$1>Entries!$K$20,\"TBC\",SUM(W17:Z17))","v":471},{"$f":"IF($AB$1>Entries!$K$20,\"TBC\",LARGE(Tables!$GR$9:$GR$41,1))","v":0},{"$f":"IF($AB$1>Entries!$K$20,\"TBC\",LARGE(Tables!$GR$9:$GR$41,2))","v":0},{"$f":"IF($AB$1>Entries!$K$20,\"TBC\",LARGE(Tables!$GR$9:$GR$41,3))","v":0},{"$f":"IF($AB$1>Entries!$K$20,\"TBC\",LARGE(Tables!$GR$9:$GR$41,4))","v":0},{"$f":"IF($AB$1>Entries!$K$20,\"TBC\",SUM(AB17:AE17))","v":0},454,0,0,0,471,0,925,0,925]
[null,"CD",{"$f":"IF($C$1>Entries!$K$20,\"TBC\",LARGE(Tables!$DG$9:$DG$41,1))","v":0},{"$f":"IF($C$1>Entries!$K$20,\"TBC\",LARGE(Tables!$DG$9:$DG$41,2))","v":0},{"$f":"IF($C$1>Entries!$K$20,\"TBC\",LARGE(Tables!$DG$9:$DG$41,3))","v":0},{"$f":"IF($C$1>Entries!$K$20,\"TBC\",LARGE(Tables!$DG$9:$DG$41,4))","v":0},{"$f":"IF($C$1>Entries!$K$20,\"TBC\",SUM(C18:F18))","v":0},{"$f":"IF($H$1>Entries!$K$20,\"TBC\",LARGE(Tables!$DH$9:$DH$41,1))","v":0},{"$f":"IF($H$1>Entries!$K$20,\"TBC\",LARGE(Tables!$DH$9:$DH$41,2))","v":0},{"$f":"IF($H$1>Entries!$K$20,\"TBC\",LARGE(Tables!$DH$9:$DH$41,3))","v":0},{"$f":"IF($H$1>Entries!$K$20,\"TBC\",LARGE(Tables!$DH$9:$DH$41,4))","v":0},{"$f":"IF($H$1>Entries!$K$20,\"TBC\",SUM(H18:K18))","v":0},{"$f":"IF($M$1>Entries!$K$20,\"TBC\",LARGE(Tables!$DI$9:$DI$41,1))","v":0},{"$f":"IF($M$1>Entries!$K$20,\"TBC\",LARGE(Tables!$DI$9:$DI$41,2))","v":0},{"$f":"IF($M$1>Entries!$K$20,\"TBC\",LARGE(Tables!$DI$9:$DI$41,3))","v":0},{"$f":"IF($M$1>Entries!$K$20,\"TBC\",LARGE(Tables!$DI$9:$DI$41,4))","v":0},{"$f":"IF($M$1>Entries!$K$20,\"TBC\",SUM(M18:P18))","v":0},{"$f":"IF($R$1>Entries!$K$20,\"TBC\",LARGE(Tables!$DJ$9:$DJ$41,1))","v":0},{"$f":"IF($R$1>Entries!$K$20,\"TBC\",LARGE(Tables!$DJ$9:$DJ$41,2))","v":0},{"$f":"IF($R$1>Entries!$K$20,\"TBC\",LARGE(Tables!$DJ$9:$DJ$41,3))","v":0},{"$f":"IF($R$1>Entries!$K$20,\"TBC\",LARGE(Tables!$DJ$9:$DJ$41,4))","v":0},{"$f":"IF($R$1>Entries!$K$20,\"TBC\",SUM(R18:U18))","v":0},{"$f":"IF($W$1>Entries!$K$20,\"TBC\",LARGE(Tables!$DK$9:$DK$41,1))","v":0},{"$f":"IF($W$1>Entries!$K$20,\"TBC\",LARGE(Tables!$DK$9:$DK$41,2))","v":0},{"$f":"IF($W$1>Entries!$K$20,\"TBC\",LARGE(Tables!$DK$9:$DK$41,3))","v":0},{"$f":"IF($W$1>Entries!$K$20,\"TBC\",LARGE(Tables!$DK$9:$DK$41,4))","v":0},{"$f":"IF($W$1>Entries!$K$20,\"TBC\",SUM(W18:Z18))","v":0},{"$f":"IF($AB$1>Entries!$K$20,\"TBC\",LARGE(Tables!$DL$9:$DL$41,1))","v":0},{"$f":"IF($AB$1>Entries!$K$20,\"TBC\",LARGE(Tables!$DL$9:$DL$41,2))","v":0},{"$f":"IF($AB$1>Entries!$K$20,\"TBC\",LARGE(Tables!$DL$9:$DL$41,3))","v":0},{"$f":"IF($AB$1>Entries!$K$20,\"TBC\",LARGE(Tables!$DL$9:$DL$41,4))","v":0},{"$f":"IF($AB$1>Entries!$K$20,\"TBC\",SUM(AB18:AE18))","v":0},0,0,0,0,0,0,0,0,{"$f":"AM18-AN18+(LARGE(AG18:AL18,1)/10000)+(LARGE(AG18:AL18,2)/100000000)","v":0}]
[null,"AAA",{"$f":"IF($C$1>Entries!$K$20,\"TBC\",LARGE(Tables!$GY$9:$GY$41,1))","v":0},{"$f":"IF($C$1>Entries!$K$20,\"TBC\",LARGE(Tables!$GY$9:$GY$41,2))","v":0},{"$f":"IF($C$1>Entries!$K$20,\"TBC\",LARGE(Tables!$GY$9:$GY$41,3))","v":0},{"$f":"IF($C$1>Entries!$K$20,\"TBC\",LARGE(Tables!$GY$9:$GY$41,4))","v":0},{"$f":"IF($C$1>Entries!$K$20,\"TBC\",SUM(C19:F19))","v":0},{"$f":"IF($H$1>Entries!$K$20,\"TBC\",LARGE(Tables!$GZ$9:$GZ$41,1))","v":0},{"$f":"IF($H$1>Entries!$K$20,\"TBC\",LARGE(Tables!$GZ$9:$GZ$41,2))","v":0},{"$f":"IF($H$1>Entries!$K$20,\"TBC\",LARGE(Tables!$GZ$9:$GZ$41,3))","v":0},{"$f":"IF($H$1>Entries!$K$20,\"TBC\",LARGE(Tables!$GZ$9:$GZ$41,4))","v":0},{"$f":"IF($H$1>Entries!$K$20,\"TBC\",SUM(H19:K19))","v":0},{"$f":"IF($M$1>Entries!$K$20,\"TBC\",LARGE(Tables!$HA$9:$HA$41,1))","v":0},{"$f":"IF($M$1>Entries!$K$20,\"TBC\",LARGE(Tables!$HA$9:$HA$41,2))","v":0},{"$f":"IF($M$1>Entries!$K$20,\"TBC\",LARGE(Tables!$HA$9:$HA$41,3))","v":0},{"$f":"IF($M$1>Entries!$K$20,\"TBC\",LARGE(Tables!$HA$9:$HA$41,4))","v":0},{"$f":"IF($M$1>Entries!$K$20,\"TBC\",SUM(M19:P19))","v":0},{"$f":"IF($R$1>Entries!$K$20,\"TBC\",LARGE(Tables!$HB$9:$HB$41,1))","v":0},{"$f":"IF($R$1>Entries!$K$20,\"TBC\",LARGE(Tables!$HB$9:$HB$41,2))","v":0},{"$f":"IF($R$1>Entries!$K$20,\"TBC\",LARGE(Tables!$HB$9:$HB$41,3))","v":0},{"$f":"IF($R$1>Entries!$K$20,\"TBC\",LARGE(Tables!$HB$9:$HB$41,4))","v":0},{"$f":"IF($R$1>Entries!$K$20,\"TBC\",SUM(R19:U19))","v":0},{"$f":"IF($W$1>Entries!$K$20,\"TBC\",LARGE(Tables!$HC$9:$HC$41,1))","v":0},{"$f":"IF($W$1>Entries!$K$20,\"TBC\",LARGE(Tables!$HC$9:$HC$41,2))","v":0},{"$f":"IF($W$1>Entries!$K$20,\"TBC\",LARGE(Tables!$HC$9:$HC$41,3))","v":0},{"$f":"IF($W$1>Entries!$K$20,\"TBC\",LARGE(Tables!$HC$9:$HC$41,4))","v":0},{"$f":"IF($W$1>Entries!$K$20,\"TBC\",SUM(W19:Z19))","v":0},{"$f":"IF($AB$1>Entries!$K$20,\"TBC\",LARGE(Tables!$HD$9:$HD$41,1))","v":{"$error":"#NUM!"}},{"$f":"IF($AB$1>Entries!$K$20,\"TBC\",LARGE(Tables!$HD$9:$HD$41,2))","v":{"$error":"#NUM!"}},{"$f":"IF($AB$1>Entries!$K$20,\"TBC\",LARGE(Tables!$HD$9:$HD$41,3))","v":{"$error":"#NUM!"}},{"$f":"IF($AB$1>Entries!$K$20,\"TBC\",LARGE(Tables!$HD$9:$HD$41,4))","v":{"$error":"#NUM!"}},{"$f":"IF($AB$1>Entries!$K$20,\"TBC\",SUM(AB19:AE19))","v":{"$error":"#NUM!"}},0,0,0,0,0,{"$error":"#NUM!"},{"$error":"#NUM!"},{"$error":"#NUM!"},-0.7]
[null,"BBB",{"$f":"IF($C$1>Entries!$K$20,\"TBC\",LARGE(Tables!$HJ$9:$HJ$41,1))","v":0},{"$f":"IF($C$1>Entries!$K$20,\"TBC\",LARGE(Tables!$HJ$9:$HJ$41,2))","v":0},{"$f":"IF($C$1>Entries!$K$20,\"TBC\",LARGE(Tables!$HJ$9:$HJ$41,3))","v":0},{"$f":"IF($C$1>Entries!$K$20,\"TBC\",LARGE(Tables!$HJ$9:$HJ$41,4))","v":0},{"$f":"IF($C$1>Entries!$K$20,\"TBC\",SUM(C20:F20))","v":0},{"$f":"IF($H$1>Entries!$K$20,\"TBC\",LARGE(Tables!$HK$9:$HK$41,1))","v":0},{"$f":"IF($H$1>Entries!$K$20,\"TBC\",LARGE(Tables!$HK$9:$HK$41,2))","v":0},{"$f":"IF($H$1>Entries!$K$20,\"TBC\",LARGE(Tables!$HK$9:$HK$41,3))","v":0},{"$f":"IF($H$1>Entries!$K$20,\"TBC\",LARGE(Tables!$HK$9:$HK$41,4))","v":0},{"$f":"IF($H$1>Entries!$K$20,\"TBC\",SUM(H20:K20))","v":0},{"$f":"IF($M$1>Entries!$K$20,\"TBC\",LARGE(Tables!$HL$9:$HL$41,1))","v":0},{"$f":"IF($M$1>Entries!$K$20,\"TBC\",LARGE(Tables!$HL$9:$HL$41,2))","v":0},{"$f":"IF($M$1>Entries!$K$20,\"TBC\",LARGE(Tables!$HL$9:$HL$41,3))","v":0},{"$f":"IF($M$1>Entries!$K$20,\"TBC\",LARGE(Tables!$HL$9:$HL$41,4))","v":0},{"$f":"IF($M$1>Entries!$K$20,\"TBC\",SUM(M20:P20))","v":0},{"$f":"IF($R$1>Entries!$K$20,\"TBC\",LARGE(Tables!$HM$9:$HM$41,1))","v":0},{"$f":"IF($R$1>Entries!$K$20,\"TBC\",LARGE(Tables!$HM$9:$HM$41,2))","v":0},{"$f":"IF($R$1>Entries!$K$20,\"TBC\",LARGE(Tables!$HM$9:$HM$41,3))","v":0},{"$f":"IF($R$1>Entries!$K$20,\"TBC\",LARGE(Tables!$HM$9:$HM$41,4))","v":0},{"$f":"IF($R$1>Entries!$K$20,\"TBC\",SUM(R20:U20))","v":0},{"$f":"IF($W$1>Entries!$K$20,\"TBC\",LARGE(Tables!$HN$9:$HN$41,1))","v":0},{"$f":"IF($W$1>Entries!$K$20,\"TBC\",LARGE(Tables!$HN$9:$HN$41,2))","v":0},{"$f":"IF($W$1>Entries!$K$20,\"TBC\",LARGE(Tables!$HN$9:$HN$41,3))","v":0},{"$f":"IF($W$1>Entries!$K$20,\"TBC\",LARGE(Tables!$HN$9:$HN$41,4))","v":0},{"$f":"IF($W$1>Entries!$K$20,\"TBC\",SUM(W20:Z20))","v":0},{"$f":"IF($AB$1>Entries!$K$20,\"TBC\",LARGE(Tables!$HO$9:$HO$41,1))","v":{"$error":"#NUM!"}},{"$f":"IF($AB$1>Entries!$K$20,\"TBC\",LARGE(Tables!$HO$9:$HO$41,2))","v":{"$error":"#NUM!"}},{"$f":"IF($AB$1>Entries!$K$20,\"TBC\",LARGE(Tables!$HO$9:$HO$41,3))","v":{"$error":"#NUM!"}},{"$f":"IF($AB$1>Entries!$K$20,\"TBC\",LARGE(Tables!$HO$9:$HO$41,4))","v":{"$error":"#NUM!"}},{"$f":"IF($AB$1>Entries!$K$20,\"TBC\",SUM(AB20:AE20))","v":{"$error":"#NUM!"}},0,0,0,0,0,{"$error":"#NUM!"},{"$error":"#NUM!"},{"$error":"#NUM!"},-0.7]
[null,"CCC",{"$f":"IF($C$1>Entries!$K$20,\"TBC\",LARGE(Tables!$HU$9:$HU$41,1))","v":0},{"$f":"IF($C$1>Entries!$K$20,\"TBC\",LARGE(Tables!$HU$9:$HU$41,2))","v":0},{"$f":"IF($C$1>Entries!$K$20,\"TBC\",LARGE(Tables!$HU$9:$HU$41,3))","v":0},{"$f":"IF($C$1>Entries!$K$20,\"TBC\",LARGE(Tables!$HU$9:$HU$41,4))","v":0},{"$f":"IF($C$1>Entries!$K$20,\"TBC\",SUM(C21:F21))","v":0},{"$f":"IF($H$1>Entries!$K$20,\"TBC\",LARGE(Tables!$HV$9:$HV$41,1))","v":0},{"$f":"IF($H$1>Entries!$K$20,\"TBC\",LARGE(Tables!$HV$9:$HV$41,2))","v":0},{"$f":"IF($H$1>Entries!$K$20,\"TBC\",LARGE(Tables!$HV$9:$HV$41,3))","v":0},{"$f":"IF($H$1>Entries!$K$20,\"TBC\",LARGE(Tables!$HV$9:$HV$41,4))","v":0},{"$f":"IF($H$1>Entries!$K$20,\"TBC\",SUM(H21:K21))","v":0},{"$f":"IF($M$1>Entries!$K$20,\"TBC\",LARGE(Tables!$HW$9:$HW$41,1))","v":0},{"$f":"IF($M$1>Entries!$K$20,\"TBC\",LARGE(Tables!$HW$9:$HW$41,2))","v":0},{"$f":"IF($M$1>Entries!$K$20,\"TBC\",LARGE(Tables!$HW$9:$HW$41,3))","v":0},{"$f":"IF($M$1>Entries!$K$20,\"TBC\",LARGE(Tables!$HW$9:$HW$41,4))","v":0},{"$f":"IF($M$1>Entries!$K$20,\"TBC\",SUM(M21:P21))","v":0},{"$f":"IF($R$1>Entries!$K$20,\"TBC\",LARGE(Tables!$HX$9:$HX$41,1))","v":0},{"$f":"IF($R$1>Entries!$K$20,\"TBC\",LARGE(Tables!$HX$9:$HX$41,2))","v":0},{"$f":"IF($R$1>Entries!$K$20,\"TBC\",LARGE(Tables!$HX$9:$HX$41,3))","v":0},{"$f":"IF($R$1>Entries!$K$20,\"TBC\",LARGE(Tables!$HX$9:$HX$41,4))","v":0},{"$f":"IF($R$1>Entries!$K$20,\"TBC\",SUM(R21:U21))","v":0},{"$f":"IF($W$1>Entries!$K$20,\"TBC\",LARGE(Tables!$HY$9:$HY$41,1))","v":0},{"$f":"IF($W$1>Entries!$K$20,\"TBC\",LARGE(Tables!$HY$9:$HY$41,2))","v":0},{"$f":"IF($W$1>Entries!$K$20,\"TBC\",LARGE(Tables!$HY$9:$HY$41,3))","v":0},{"$f":"IF($W$1>Entries!$K$20,\"TBC\",LARGE(Tables!$HY$9:$HY$41,4))","v":0},{"$f":"IF($W$1>Entries!$K$20,\"TBC\",SUM(W21:Z21))","v":0},{"$f":"IF($AB$1>Entries!$K$20,\"TBC\",LARGE(Tables!$HZ$9:$HZ$41,1))","v":{"$error":"#NUM!"}},{"$f":"IF($AB$1>Entries!$K$20,\"TBC\",LARGE(Tables!$HZ$9:$HZ$41,2))","v":{"$error":"#NUM!"}},{"$f":"IF($AB$1>Entries!$K$20,\"TBC\",LARGE(Tables!$HZ$9:$HZ$41,3))","v":{"$error":"#NUM!"}},{"$f":"IF($AB$1>Entries!$K$20,\"TBC\",LARGE(Tables!$HZ$9:$HZ$41,4))","v":{"$error":"#NUM!"}},{"$f":"IF($AB$1>Entries!$K$20,\"TBC\",SUM(AB21:AE21))","v":{"$error":"#NUM!"}},0,0,0,0,0,{"$error":"#NUM!"},{"$error":"#NUM!"},{"$error":"#NUM!"},-0.7]
[null,"DDD",{"$f":"IF($C$1>Entries!$K$20,\"TBC\",LARGE(Tables!$IF$9:$IF$41,1))","v":0},{"$f":"IF($C$1>Entries!$K$20,\"TBC\",LARGE(Tables!$IF$9:$IF$41,2))","v":0},{"$f":"IF($C$1>Entries!$K$20,\"TBC\",LARGE(Tables!$IF$9:$IF$41,3))","v":0},{"$f":"IF($C$1>Entries!$K$20,\"TBC\",LARGE(Tables!$IF$9:$IF$41,4))","v":0},{"$f":"IF($C$1>Entries!$K$20,\"TBC\",SUM(C22:F22))","v":0},{"$f":"IF($H$1>Entries!$K$20,\"TBC\",LARGE(Tables!$IG$9:$IG$41,1))","v":0},{"$f":"IF($H$1>Entries!$K$20,\"TBC\",LARGE(Tables!$IG$9:$IG$41,2))","v":0},{"$f":"IF($H$1>Entries!$K$20,\"TBC\",LARGE(Tables!$IG$9:$IG$41,3))","v":0},{"$f":"IF($H$1>Entries!$K$20,\"TBC\",LARGE(Tables!$IG$9:$IG$41,4))","v":0},{"$f":"IF($H$1>Entries!$K$20,\"TBC\",SUM(H22:K22))","v":0},{"$f":"IF($M$1>Entries!$K$20,\"TBC\",LARGE(Tables!$IH$9:$IH$41,1))","v":0},{"$f":"IF($M$1>Entries!$K$20,\"TBC\",LARGE(Tables!$IH$9:$IH$41,2))","v":0},{"$f":"IF($M$1>Entries!$K$20,\"TBC\",LARGE(Tables!$IH$9:$IH$41,3))","v":0},{"$f":"IF($M$1>Entries!$K$20,\"TBC\",LARGE(Tables!$IH$9:$IH$41,4))","v":0},{"$f":"IF($M$1>Entries!$K$20,\"TBC\",SUM(M22:P22))","v":0},{"$f":"IF($R$1>Entries!$K$20,\"TBC\",LARGE(Tables!$II$9:$II$41,1))","v":0},{"$f":"IF($R$1>Entries!$K$20,\"TBC\",LARGE(Tables!$II$9:$II$41,2))","v":0},{"$f":"IF($R$1>Entries!$K$20,\"TBC\",LARGE(Tables!$II$9:$II$41,3))","v":0},{"$f":"IF($R$1>Entries!$K$20,\"TBC\",LARGE(Tables!$II$9:$II$41,4))","v":0},{"$f":"IF($R$1>Entries!$K$20,\"TBC\",SUM(R22:U22))","v":0},{"$f":"IF($W$1>Entries!$K$20,\"TBC\",LARGE(Tables!$IJ$9:$IJ$41,1))","v":0},{"$f":"IF($W$1>Entries!$K$20,\"TBC\",LARGE(Tables!$IJ$9:$IJ$41,2))","v":0},{"$f":"IF($W$1>Entries!$K$20,\"TBC\",LARGE(Tables!$IJ$9:$IJ$41,3))","v":0},{"$f":"IF($W$1>Entries!$K$20,\"TBC\",LARGE(Tables!$IJ$9:$IJ$41,4))","v":0},{"$f":"IF($W$1>Entries!$K$20,\"TBC\",SUM(W22:Z22))","v":0},{"$f":"IF($AB$1>Entries!$K$20,\"TBC\",LARGE(Tables!$IK$9:$IK$41,1))","v":{"$error":"#NUM!"}},{"$f":"IF($AB$1>Entries!$K$20,\"TBC\",LARGE(Tables!$IK$9:$IK$41,2))","v":{"$error":"#NUM!"}},{"$f":"IF($AB$1>Entries!$K$20,\"TBC\",LARGE(Tables!$IK$9:$IK$41,3))","v":{"$error":"#NUM!"}},{"$f":"IF($AB$1>Entries!$K$20,\"TBC\",LARGE(Tables!$IK$9:$IK$41,4))","v":{"$error":"#NUM!"}},{"$f":"IF($AB$1>Entries!$K$20,\"TBC\",SUM(AB22:AE22))","v":{"$error":"#NUM!"}},0,0,0,0,0,{"$error":"#NUM!"},{"$error":"#NUM!"},{"$error":"#NUM!"},-0.7]
[null,"EEE",{"$f":"IF($C$1>Entries!$K$20,\"TBC\",LARGE(Tables!$IQ$9:$IQ$41,1))","v":0},{"$f":"IF($C$1>Entries!$K$20,\"TBC\",)","v":0},{"$f":"IF($C$1>Entries!$K$20,\"TBC\",LARGE(Tables!$IQ$9:$IQ$41,3))","v":0},{"$f":"IF($C$1>Entries!$K$20,\"TBC\",LARGE(Tables!$IQ$9:$IQ$41,4))","v":0},{"$f":"IF($C$1>Entries!$K$20,\"TBC\",SUM(C23:F23))","v":0},{"$f":"IF($H$1>Entries!$K$20,\"TBC\",LARGE(Tables!$IR$9:$IR$41,1))","v":0},{"$f":"IF($H$1>Entries!$K$20,\"TBC\",LARGE(Tables!$IR$9:$IR$41,2))","v":0},{"$f":"IF($H$1>Entries!$K$20,\"TBC\",LARGE(Tables!$IR$9:$IR$41,3))","v":0},{"$f":"IF($H$1>Entries!$K$20,\"TBC\",LARGE(Tables!$IR$9:$IR$41,4))","v":0},{"$f":"IF($H$1>Entries!$K$20,\"TBC\",SUM(H23:K23))","v":0},{"$f":"IF($M$1>Entries!$K$20,\"TBC\",LARGE(Tables!$IS$9:$IS$41,1))","v":0},{"$f":"IF($M$1>Entries!$K$20,\"TBC\",LARGE(Tables!$IS$9:$IS$41,2))","v":0},{"$f":"IF($M$1>Entries!$K$20,\"TBC\",LARGE(Tables!$IS$9:$IS$41,3))","v":0},{"$f":"IF($M$1>Entries!$K$20,\"TBC\",LARGE(Tables!$IS$9:$IS$41,4))","v":0},{"$f":"IF($M$1>Entries!$K$20,\"TBC\",SUM(M23:P23))","v":0},{"$f":"IF($R$1>Entries!$K$20,\"TBC\",LARGE(Tables!$IT$9:$IT$41,1))","v":0},{"$f":"IF($R$1>Entries!$K$20,\"TBC\",LARGE(Tables!$IT$9:$IT$41,2))","v":0},{"$f":"IF($R$1>Entries!$K$20,\"TBC\",LARGE(Tables!$IT$9:$IT$41,3))","v":0},{"$f":"IF($R$1>Entries!$K$20,\"TBC\",LARGE(Tables!$IT$9:$IT$41,4))","v":0},{"$f":"IF($R$1>Entries!$K$20,\"TBC\",SUM(R23:U23))","v":0},{"$f":"IF($W$1>Entries!$K$20,\"TBC\",LARGE(Tables!$IU$9:$IU$41,1))","v":0},{"$f":"IF($W$1>Entries!$K$20,\"TBC\",LARGE(Tables!$IU$9:$IU$41,2))","v":0},{"$f":"IF($W$1>Entries!$K$20,\"TBC\",LARGE(Tables!$IU$9:$IU$41,3))","v":0},{"$f":"IF($W$1>Entries!$K$20,\"TBC\",LARGE(Tables!$IU$9:$IU$41,4))","v":0},{"$f":"IF($W$1>Entries!$K$20,\"TBC\",SUM(W23:Z23))","v":0},{"$f":"IF($AB$1>Entries!$K$20,\"TBC\",LARGE(Tables!$IV$9:$IV$41,1))","v":{"$error":"#NUM!"}},{"$f":"IF($AB$1>Entries!$K$20,\"TBC\",LARGE(Tables!$IV$9:$IV$41,2))","v":{"$error":"#NUM!"}},{"$f":"IF($AB$1>Entries!$K$20,\"TBC\",LARGE(Tables!$IV$9:$IV$41,3))","v":{"$error":"#NUM!"}},{"$f":"IF($AB$1>Entries!$K$20,\"TBC\",LARGE(Tables!$IV$9:$IV$41,4))","v":{"$error":"#NUM!"}},{"$f":"IF($AB$1>Entries!$K$20,\"TBC\",SUM(AB23:AE23))","v":{"$error":"#NUM!"}},0,0,0,0,0,{"$error":"#NUM!"},{"$error":"#NUM!"},{"$error":"#NUM!"},-0.7]

{"sheet":"Bare' List","index":16,"n_rows":23,"n_cols":35,"rows_kept":23,"cut":false,"hidden":false,"merged":[]}
["Barebow",null,1,null,null,null,2,null,null,null,3,null,null,null,4,null,null,null,5,null,null,null,6,null,null,null,1,2,3,4,5,null,"total","Lowest","league"]
[null,"NUIG",{"$f":"IF($C$1>Entries!$K$20,\"TBC\",LARGE(Tables!$DS$50:$DS$82,1))","v":398},{"$f":"IF($C$1>Entries!$K$20,\"TBC\",LARGE(Tables!$DS$50:$DS$82,2))","v":306},{"$f":"IF($C$1>Entries!$K$20,\"TBC\",LARGE(Tables!$DS$50:$DS$82,3))","v":241},{"$f":"IF($C$1>Entries!$K$20,\"TBC\",SUM(C2:E2))","v":945},{"$f":"IF($G$1>Entries!$K$20,\"TBC\",LARGE(Tables!$DT$50:$DT$82,1))","v":357},{"$f":"IF($G$1>Entries!$K$20,\"TBC\",LARGE(Tables!$DT$50:$DT$82,2))","v":332},{"$f":"IF($G$1>Entries!$K$20,\"TBC\",LARGE(Tables!$DT$50:$DT$82,3))","v":317},{"$f":"IF($G$1>Entries!$K$20,\"TBC\",SUM(G2:I2))","v":1006},{"$f":"IF($K$1>Entries!$K$20,\"TBC\",LARGE(Tables!$DU$50:$DU$82,1))","v":411},{"$f":"IF($K$1>Entries!$K$20,\"TBC\",LARGE(Tables!$DU$50:$DU$82,2))","v":389},{"$f":"IF($K$1>Entries!$K$20,\"TBC\",LARGE(Tables!$DU$50:$DU$82,3))","v":356},{"$f":"IF($K$1>Entries!$K$20,\"TBC\",SUM(K2:M2))","v":1156},{"$f":"IF($O$1>Entries!$K$20,\"TBC\",LARGE(Tables!$DV$50:$DV$82,1))","v":357},{"$f":"IF($O$1>Entries!$K$20,\"TBC\",LARGE(Tables!$DV$50:$DV$82,2))","v":306},{"$f":"IF($O$1>Entries!$K$20,\"TBC\",LARGE(Tables!$DV$50:$DV$82,3))","v":306},{"$f":"IF($O$1>Entries!$K$20,\"TBC\",SUM(O2:Q2))","v":969},{"$f":"IF($S$1>Entries!$K$20,\"TBC\",LARGE(Tables!$DW$50:$DW$82,1))","v":434},{"$f":"IF($S$1>Entries!$K$20,\"TBC\",LARGE(Tables!$DW$50:$DW$82,2))","v":430},{"$f":"IF($S$1>Entries!$K$20,\"TBC\",LARGE(Tables!$DW$50:$DW$82,3))","v":389},{"$f":"IF($S$1>Entries!$K$20,\"TBC\",SUM(S2:U2))","v":1253},{"$f":"IF($W$1>Entries!$K$20,\"TBC\",LARGE(Tables!$DX$50:$DX$82,1))","v":346},{"$f":"IF($W$1>Entries!$K$20,\"TBC\",LARGE(Tables!$DX$50:$DX$82,2))","v":345},{"$f":"IF($W$1>Entries!$K$20,\"TBC\",LARGE(Tables!$DX$50:$DX$82,3))","v":336},{"$f":"IF($W$1>Entries!$K$20,\"TBC\",SUM(W2:Y2))","v":1027},{"$f":"F2","v":945},{"$f":"J2","v":1006},{"$f":"N2","v":1156},{"$f":"R2","v":969},{"$f":"V2","v":1253},{"$f":"Z2","v":1027},{"$f":"SUM(AA2:AF2)","v":6356},{"$f":"MIN(AA2:AF2)","v":945},{"$f":"AG2","v":6356}]
[null,"GMITC",{"$f":"IF($C$1>Entries!$K$20,\"TBC\",LARGE(Tables!$BK$50:$BK$82,1))","v":309},{"$f":"IF($C$1>Entries!$K$20,\"TBC\",LARGE(Tables!$BK$50:$BK$82,2))","v":0},{"$f":"IF($C$1>Entries!$K$20,\"TBC\",LARGE(Tables!$BK$50:$BK$82,3))","v":0},{"$f":"IF($C$1>Entries!$K$20,\"TBC\",SUM(C3:E3))","v":309},{"$f":"IF($G$1>Entries!$K$20,\"TBC\",LARGE(Tables!$BL$50:$BL$82,1))","v":281},{"$f":"IF($G$1>Entries!$K$20,\"TBC\",LARGE(Tables!$BL$50:$BL$82,2))","v":280},{"$f":"IF($G$1>Entries!$K$20,\"TBC\",LARGE(Tables!$BL$50:$BL$82,3))","v":0},{"$f":"IF($G$1>Entries!$K$20,\"TBC\",SUM(G3:I3))","v":561},{"$f":"IF($K$1>Entries!$K$20,\"TBC\",LARGE(Tables!$BM$50:$BM$82,1))","v":419},{"$f":"IF($K$1>Entries!$K$20,\"TBC\",LARGE(Tables!$BM$50:$BM$82,2))","v":414},{"$f":"IF($K$1>Entries!$K$20,\"TBC\",LARGE(Tables!$BM$50:$BM$82,3))","v":352},{"$f":"IF($K$1>Entries!$K$20,\"TBC\",SUM(K3:M3))","v":1185},{"$f":"IF($O$1>Entries!$K$20,\"TBC\",LARGE(Tables!$BN$50:$BN$82,1))","v":405},{"$f":"IF($O$1>Entries!$K$20,\"TBC\",LARGE(Tables!$BN$50:$BN$82,2))","v":312},{"$f":"IF($O$1>Entries!$K$20,\"TBC\",LARGE(Tables!$BN$50:$BN$82,3))","v":287},{"$f":"IF($O$1>Entries!$K$20,\"TBC\",SUM(O3:Q3))","v":1004},{"$f":"IF($S$1>Entries!$K$20,\"TBC\",LARGE(Tables!$BO$50:$BO$82,1))","v":359},{"$f":"IF($S$1>Entries!$K$20,\"TBC\",LARGE(Tables!$BO$50:$BO$82,2))","v":332},{"$f":"IF($S$1>Entries!$K$20,\"TBC\",LARGE(Tables!$BO$50:$BO$82,3))","v":283},{"$f":"IF($S$1>Entries!$K$20,\"TBC\",SUM(S3:U3))","v":974},{"$f":"IF($W$1>Entries!$K$20,\"TBC\",LARGE(Tables!$BP$50:$BP$82,1))","v":380},{"$f":"IF($W$1>Entries!$K$20,\"TBC\",LARGE(Tables!$BP$50:$BP$82,2))","v":367},{"$f":"IF($W$1>Entries!$K$20,\"TBC\",LARGE(Tables!$BP$50:$BP$82,3))","v":359},{"$f":"IF($W$1>Entries!$K$20,\"TBC\",SUM(W3:Y3))","v":1106},309,561,1185,1004,974,1106,5139,309,5139]
[null,"ITC",{"$f":"IF($C$1>Entries!$K$20,\"TBC\",LARGE(Tables!$CI$50:$CI$82,1))","v":335},{"$f":"IF($C$1>Entries!$K$20,\"TBC\",LARGE(Tables!$CI$50:$CI$82,2))","v":303},{"$f":"IF($C$1>Entries!$K$20,\"TBC\",LARGE(Tables!$CI$50:$CI$82,3))","v":224},{"$f":"IF($C$1>Entries!$K$20,\"TBC\",SUM(C4:E4))","v":862},{"$f":"IF($G$1>Entries!$K$20,\"TBC\",LARGE(Tables!$CJ$50:$CJ$82,1))","v":293},{"$f":"IF($G$1>Entries!$K$20,\"TBC\",LARGE(Tables!$CJ$50:$CJ$82,2))","v":259},{"$f":"IF($G$1>Entries!$K$20,\"TBC\",LARGE(Tables!$CJ$50:$CJ$82,3))","v":248},{"$f":"IF($G$1>Entries!$K$20,\"TBC\",SUM(G4:I4))","v":800},{"$f":"IF($K$1>Entries!$K$20,\"TBC\",LARGE(Tables!$CK$50:$CK$82,1))","v":415},{"$f":"IF($K$1>Entries!$K$20,\"TBC\",LARGE(Tables!$CK$50:$CK$82,2))","v":377},{"$f":"IF($K$1>Entries!$K$20,\"TBC\",LARGE(Tables!$CK$50:$CK$82,3))","v":368},{"$f":"IF($K$1>Entries!$K$20,\"TBC\",SUM(K4:M4))","v":1160},{"$f":"IF($O$1>Entries!$K$20,\"TBC\",LARGE(Tables!$CL$50:$CL$82,1))","v":381},{"$f":"IF($O$1>Entries!$K$20,\"TBC\",LARGE(Tables!$CL$50:$CL$82,2))","v":0},{"$f":"IF($O$1>Entries!$K$20,\"TBC\",LARGE(Tables!$CL$50:$CL$82,3))","v":0},{"$f":"IF($O$1>Entries!$K$20,\"TBC\",SUM(O4:Q4))","v":381},{"$f":"IF($S$1>Entries!$K$20,\"TBC\",LARGE(Tables!$CM$50:$CM$82,1))","v":400},{"$f":"IF($S$1>Entries!$K$20,\"TBC\",LARGE(Tables!$CM$50:$CM$82,2))","v":396},{"$f":"IF($S$1>Entries!$K$20,\"TBC\",LARGE(Tables!$CM$50:$CM$82,3))","v":0},{"$f":"IF($S$1>Entries!$K$20,\"TBC\",SUM(S4:U4))","v":796},{"$f":"IF($W$1>Entries!$K$20,\"TBC\",LARGE(Tables!$CN$50:$CN$82,1))","v":445},{"$f":"IF($W$1>Entries!$K$20,\"TBC\",LARGE(Tables!$CN$50:$CN$82,2))","v":0},{"$f":"IF($W$1>Entries!$K$20,\"TBC\",LARGE(Tables!$CN$50:$CN$82,3))","v":0},{"$f":"IF($W$1>Entries!$K$20,\"TBC\",SUM(W4:Y4))","v":445},862,800,1160,381,796,445,4444,381,4444]
[null,"GMIT",{"$f":"IF($C$1>Entries!$K$20,\"TBC\",LARGE(Tables!$AY$50:$AY$82,1))","v":370},{"$f":"IF($C$1>Entries!$K$20,\"TBC\",LARGE(Tables!$AY$50:$AY$82,2))","v":322},{"$f":"IF($C$1>Entries!$K$20,\"TBC\",LARGE(Tables!$AY$50:$AY$82,3))","v":153},{"$f":"IF($C$1>Entries!$K$20,\"TBC\",SUM(C5:E5))","v":845},{"$f":"IF($G$1>Entries!$K$20,\"TBC\",LARGE(Tables!$AZ$50:$AZ$82,1))","v":269},{"$f":"IF($G$1>Entries!$K$20,\"TBC\",LARGE(Tables!$AZ$50:$AZ$82,2))","v":231},{"$f":"IF($G$1>Entries!$K$20,\"TBC\",LARGE(Tables!$AZ$50:$AZ$82,3))","v":118},{"$f":"IF($G$1>Entries!$K$20,\"TBC\",SUM(G5:I5))","v":618},{"$f":"IF($K$1>Entries!$K$20,\"TBC\",LARGE(Tables!$BA$50:$BA$82,1))","v":378},{"$f":"IF($K$1>Entries!$K$20,\"TBC\",LARGE(Tables!$BA$50:$BA$82,2))","v":253},{"$f":"IF($K$1>Entries!$K$20,\"TBC\",LARGE(Tables!$BA$50:$BA$82,3))","v":0},{"$f":"IF($K$1>Entries!$K$20,\"TBC\",SUM(K5:M5))","v":631},{"$f":"IF($O$1>Entries!$K$20,\"TBC\",LARGE(Tables!$BB$50:$BB$82,1))","v":274},{"$f":"IF($O$1>Entries!$K$20,\"TBC\",LARGE(Tables!$BB$50:$BB$82,2))","v":255},{"$f":"IF($O$1>Entries!$K$20,\"TBC\",LARGE(Tables!$BB$50:$BB$82,3))","v":210},{"$f":"IF($O$1>Entries!$K$20,\"TBC\",SUM(O5:Q5))","v":739},{"$f":"IF($S$1>Entries!$K$20,\"TBC\",LARGE(Tables!$BC$50:$BC$82,1))","v":314},{"$f":"IF($S$1>Entries!$K$20,\"TBC\",LARGE(Tables!$BC$50:$BC$82,2))","v":265},{"$f":"IF($S$1>Entries!$K$20,\"TBC\",LARGE(Tables!$BC$50:$BC$82,3))","v":245},{"$f":"IF($S$1>Entries!$K$20,\"TBC\",SUM(S5:U5))","v":824},{"$f":"IF($W$1>Entries!$K$20,\"TBC\",LARGE(Tables!$BD$50:$BD$82,1))","v":319},{"$f":"IF($W$1>Entries!$K$20,\"TBC\",LARGE(Tables!$BD$50:$BD$82,2))","v":248},{"$f":"IF($W$1>Entries!$K$20,\"TBC\",LARGE(Tables!$BD$50:$BD$82,3))","v":0},{"$f":"IF($W$1>Entries!$K$20,\"TBC\",SUM(W5:Y5))","v":567},845,618,631,739,824,567,4224,567,4224]
[null,"NUIM",{"$f":"IF($C$1>Entries!$K$20,\"TBC\",LARGE(Tables!$CU$50:$CU$82,1))","v":361},{"$f":"IF($C$1>Entries!$K$20,\"TBC\",LARGE(Tables!$CU$50:$CU$82,2))","v":0},{"$f":"IF($C$1>Entries!$K$20,\"TBC\",LARGE(Tables!$CU$50:$CU$82,3))","v":0},{"$f":"IF($C$1>Entries!$K$20,\"TBC\",SUM(C6:E6))","v":361},{"$f":"IF($G$1>Entries!$K$20,\"TBC\",LARGE(Tables!$CV$50:$CV$82,1))","v":378},{"$f":"IF($G$1>Entries!$K$20,\"TBC\",LARGE(Tables!$CV$50:$CV$82,2))","v":239},{"$f":"IF($G$1>Entries!$K$20,\"TBC\",LARGE(Tables!$CV$50:$CV$82,3))","v":0},{"$f":"IF($G$1>Entries!$K$20,\"TBC\",SUM(G6:I6))","v":617},{"$f":"IF($K$1>Entries!$K$20,\"TBC\",LARGE(Tables!$CW$50:$CW$82,1))","v":0},{"$f":"IF($K$1>Entries!$K$20,\"TBC\",LARGE(Tables!$CW$50:$CW$82,2))","v":0},{"$f":"IF($K$1>Entries!$K$20,\"TBC\",LARGE(Tables!$CW$50:$CW$82,3))","v":0},{"$f":"IF($K$1>Entries!$K$20,\"TBC\",SUM(K6:M6))","v":0},{"$f":"IF($O$1>Entries!$K$20,\"TBC\",LARGE(Tables!$CX$50:$CX$82,1))","v":421},{"$f":"IF($O$1>Entries!$K$20,\"TBC\",LARGE(Tables!$CX$50:$CX$82,2))","v":332},{"$f":"IF($O$1>Entries!$K$20,\"TBC\",LARGE(Tables!$CX$50:$CX$82,3))","v":210},{"$f":"IF($O$1>Entries!$K$20,\"TBC\",SUM(O6:Q6))","v":963},{"$f":"IF($S$1>Entries!$K$20,\"TBC\",LARGE(Tables!$CY$50:$CY$82,1))","v":469},{"$f":"IF($S$1>Entries!$K$20,\"TBC\",LARGE(Tables!$CY$50:$CY$82,2))","v":331},{"$f":"IF($S$1>Entries!$K$20,\"TBC\",LARGE(Tables!$CY$50:$CY$82,3))","v":0},{"$f":"IF($S$1>Entries!$K$20,\"TBC\",SUM(S6:U6))","v":800},{"$f":"IF($W$1>Entries!$K$20,\"TBC\",LARGE(Tables!$CZ$50:$CZ$82,1))","v":356},{"$f":"IF($W$1>Entries!$K$20,\"TBC\",LARGE(Tables!$CZ$50:$CZ$82,2))","v":348},{"$f":"IF($W$1>Entries!$K$20,\"TBC\",LARGE(Tables!$CZ$50:$CZ$82,3))","v":344},{"$f":"IF($W$1>Entries!$K$20,\"TBC\",SUM(W6:Y6))","v":1048},361,617,0,963,800,1048,3789,0,3789]
[null,"UL",{"$f":"IF($C$1>Entries!$K$20,\"TBC\",LARGE(Tables!$FO$50:$FO$82,1))","v":409},{"$f":"IF($C$1>Entries!$K$20,\"TBC\",LARGE(Tables!$FO$50:$FO$82,2))","v":278},{"$f":"IF($C$1>Entries!$K$20,\"TBC\",LARGE(Tables!$FO$50:$FO$82,3))","v":0},{"$f":"IF($C$1>Entries!$K$20,\"TBC\",SUM(C7:E7))","v":687},{"$f":"IF($G$1>Entries!$K$20,\"TBC\",LARGE(Tables!$FP$50:$FP$82,1))","v":406},{"$f":"IF($G$1>Entries!$K$20,\"TBC\",LARGE(Tables!$FP$50:$FP$82,2))","v":0},{"$f":"IF($G$1>Entries!$K$20,\"TBC\",LARGE(Tables!$FP$50:$FP$82,3))","v":0},{"$f":"IF($G$1>Entries!$K$20,\"TBC\",SUM(G7:I7))","v":406},{"$f":"IF($K$1>Entries!$K$20,\"TBC\",LARGE(Tables!$FQ$50:$FQ$82,1))","v":432},{"$f":"IF($K$1>Entries!$K$20,\"TBC\",LARGE(Tables!$FQ$50:$FQ$82,2))","v":0},{"$f":"IF($K$1>Entries!$K$20,\"TBC\",LARGE(Tables!$FQ$50:$FQ$82,3))","v":0},{"$f":"IF($K$1>Entries!$K$20,\"TBC\",SUM(K7:M7))","v":432},{"$f":"IF($O$1>Entries!$K$20,\"TBC\",LARGE(Tables!$FR$50:$FR$82,1))","v":436},{"$f":"IF($O$1>Entries!$K$20,\"TBC\",LARGE(Tables!$FR$50:$FR$82,2))","v":0},{"$f":"IF($O$1>Entries!$K$20,\"TBC\",LARGE(Tables!$FR$50:$FR$82,3))","v":0},{"$f":"IF($O$1>Entries!$K$20,\"TBC\",SUM(O7:Q7))","v":436},{"$f":"IF($S$1>Entries!$K$20,\"TBC\",LARGE(Tables!$FS$50:$FS$82,1))","v":420},{"$f":"IF($S$1>Entries!$K$20,\"TBC\",LARGE(Tables!$FS$50:$FS$82,2))","v":0},{"$f":"IF($S$1>Entries!$K$20,\"TBC\",LARGE(Tables!$FS$50:$FS$82,3))","v":0},{"$f":"IF($S$1>Entries!$K$20,\"TBC\",SUM(S7:U7))","v":420},{"$f":"IF($W$1>Entries!$K$20,\"TBC\",LARGE(Tables!$FT$50:$FT$82,1))","v":427},{"$f":"IF($W$1>Entries!$K$20,\"TBC\",LARGE(Tables!$FT$50:$FT$82,2))","v":0},{"$f":"IF($W$1>Entries!$K$20,\"TBC\",LARGE(Tables!$FT$50:$FT$82,3))","v":0},{"$f":"IF($W$1>Entries!$K$20,\"TBC\",SUM(W7:Y7))","v":427},687,406,432,436,420,427,2808,406,2808]
[null,"DCU",{"$f":"IF($C$1>Entries!$K$20,\"TBC\",LARGE(Tables!$C$50:$C$82,1))","v":301},{"$f":"IF($C$1>Entries!$K$20,\"TBC\",LARGE(Tables!$C$50:$C$82,2))","v":216},{"$f":"IF($C$1>Entries!$K$20,\"TBC\",LARGE(Tables!$C$50:$C$82,3))","v":0},{"$f":"IF($C$1>Entries!$K$20,\"TBC\",SUM(C8:E8))","v":517},{"$f":"IF($G$1>Entries!$K$20,\"TBC\",LARGE(Tables!$D$50:$D$82,1))","v":381},{"$f":"IF($G$1>Entries!$K$20,\"TBC\",LARGE(Tables!$D$50:$D$82,2))","v":292},{"$f":"IF($G$1>Entries!$K$20,\"TBC\",LARGE(Tables!$D$50:$D$82,3))","v":0},{"$f":"IF($G$1>Entries!$K$20,\"TBC\",SUM(G8:I8))","v":673},{"$f":"IF($K$1>Entries!$K$20,\"TBC\",LARGE(Tables!$E$50:$E$82,1))","v":0},{"$f":"IF($K$1>Entries!$K$20,\"TBC\",LARGE(Tables!$E$50:$E$82,2))","v":0},{"$f":"IF($K$1>Entries!$K$20,\"TBC\",LARGE(Tables!$E$50:$E$82,3))","v":0},{"$f":"IF($K$1>Entries!$K$20,\"TBC\",SUM(K8:M8))","v":0},{"$f":"IF($O$1>Entries!$K$20,\"TBC\",LARGE(Tables!$F$50:$F$82,1))","v":325},{"$f":"IF($O$1>Entries!$K$20,\"TBC\",LARGE(Tables!$F$50:$F$82,2))","v":0},{"$f":"IF($O$1>Entries!$K$20,\"TBC\",LARGE(Tables!$F$50:$F$82,3))","v":0},{"$f":"IF($O$1>Entries!$K$20,\"TBC\",SUM(O8:Q8))","v":325},{"$f":"IF($S$1>Entries!$K$20,\"TBC\",LARGE(Tables!$G$50:$G$82,1))","v":0},{"$f":"IF($S$1>Entries!$K$20,\"TBC\",LARGE(Tables!$G$50:$G$82,2))","v":0},{"$f":"IF($S$1>Entries!$K$20,\"TBC\",LARGE(Tables!$G$50:$G$82,3))","v":0},{"$f":"IF($S$1>Entries!$K$20,\"TBC\",SUM(S8:U8))","v":0},{"$f":"IF($W$1>Entries!$K$20,\"TBC\",LARGE(Tables!$H$50:$H$82,1))","v":430},{"$f":"IF($W$1>Entries!$K$20,\"TBC\",LARGE(Tables!$H$50:$H$82,2))","v":0},{"$f":"IF($W$1>Entries!$K$20,\"TBC\",LARGE(Tables!$H$50:$H$82,3))","v":0},{"$f":"IF($W$1>Entries!$K$20,\"TBC\",SUM(W8:Y8))","v":430},517,673,0,325,0,430,1945,0,1945]
[null,"RCSI",{"$f":"IF($C$1>Entries!$K$20,\"TBC\",LARGE(Tables!$EE$50:$EE$82,1))","v":331},{"$f":"IF($C$1>Entries!$K$20,\"TBC\",LARGE(Tables!$EE$50:$EE$82,2))","v":254},{"$f":"IF($C$1>Entries!$K$20,\"TBC\",LARGE(Tables!$EE$50:$EE$82,3))","v":0},{"$f":"IF($C$1>Entries!$K$20,\"TBC\",SUM(C9:E9))","v":585},{"$f":"IF($G$1>Entries!$K$20,\"TBC\",LARGE(Tables!$EF$50:$EF$82,1))","v":174},{"$f":"IF($G$1>Entries!$K$20,\"TBC\",LARGE(Tables!$EF$50:$EF$82,2))","v":0},{"$f":"IF($G$1>Entries!$K$20,\"TBC\",LARGE(Tables!$EF$50:$EF$82,3))","v":0},{"$f":"IF($G$1>Entries!$K$20,\"TBC\",SUM(G9:I9))","v":174},{"$f":"IF($K$1>Entries!$K$20,\"TBC\",LARGE(Tables!$EG$50:$EG$82,1))","v":0},{"$f":"IF($K$1>Entries!$K$20,\"TBC\",LARGE(Tables!$EG$50:$EG$82,2))","v":0},{"$f":"IF($K$1>Entries!$K$20,\"TBC\",LARGE(Tables!$EG$50:$EG$82,3))","v":0},{"$f":"IF($K$1>Entries!$K$20,\"TBC\",SUM(K9:M9))","v":0},{"$f":"IF($O$1>Entries!$K$20,\"TBC\",LARGE(Tables!$EH$50:$EH$82,1))","v":143},{"$f":"IF($O$1>Entries!$K$20,\"TBC\",LARGE(Tables!$EH$50:$EH$82,2))","v":131},{"$f":"IF($O$1>Entries!$K$20,\"TBC\",LARGE(Tables!$EH$50:$EH$82,3))","v":0},{"$f":"IF($O$1>Entries!$K$20,\"TBC\",SUM(O9:Q9))","v":274},{"$f":"IF($S$1>Entries!$K$20,\"TBC\",LARGE(Tables!$EI$50:$EI$82,1))","v":0},{"$f":"IF($S$1>Entries!$K$20,\"TBC\",LARGE(Tables!$EI$50:$EI$82,2))","v":0},{"$f":"IF($S$1>Entries!$K$20,\"TBC\",LARGE(Tables!$EI$50:$EI$82,3))","v":0},{"$f":"IF($S$1>Entries!$K$20,\"TBC\",SUM(S9:U9))","v":0},{"$f":"IF($W$1>Entries!$K$20,\"TBC\",LARGE(Tables!$EJ$50:$EJ$82,1))","v":216},{"$f":"IF($W$1>Entries!$K$20,\"TBC\",LARGE(Tables!$EJ$50:$EJ$82,2))","v":108},{"$f":"IF($W$1>Entries!$K$20,\"TBC\",LARGE(Tables!$EJ$50:$EJ$82,3))","v":0},{"$f":"IF($W$1>Entries!$K$20,\"TBC\",SUM(W9:Y9))","v":324},585,174,0,274,0,324,1357,0,1357]
[null,"IT Tallaght",{"$f":"IF($C$1>Entries!$K$20,\"TBC\",LARGE(Tables!$BW$50:$BW$82,1))","v":0},{"$f":"IF($C$1>Entries!$K$20,\"TBC\",LARGE(Tables!$BW$50:$BW$82,2))","v":0},{"$f":"IF($C$1>Entries!$K$20,\"TBC\",LARGE(Tables!$BW$50:$BW$82,3))","v":0},{"$f":"IF($C$1>Entries!$K$20,\"TBC\",SUM(C10:E10))","v":0},{"$f":"IF($G$1>Entries!$K$20,\"TBC\",LARGE(Tables!$BX$50:$BX$82,1))","v":0},{"$f":"IF($G$1>Entries!$K$20,\"TBC\",LARGE(Tables!$BX$50:$BX$82,2))","v":0},{"$f":"IF($G$1>Entries!$K$20,\"TBC\",LARGE(Tables!$BX$50:$BX$82,3))","v":0},{"$f":"IF($G$1>Entries!$K$20,\"TBC\",SUM(G10:I10))","v":0},{"$f":"IF($K$1>Entries!$K$20,\"TBC\",LARGE(Tables!$BY$50:$BY$82,1))","v":0},{"$f":"IF($K$1>Entries!$K$20,\"TBC\",LARGE(Tables!$BY$50:$BY$82,2))","v":0},{"$f":"IF($K$1>Entries!$K$20,\"TBC\",LARGE(Tables!$BY$50:$BY$82,3))","v":0},{"$f":"IF($K$1>Entries!$K$20,\"TBC\",SUM(K10:M10))","v":0},{"$f":"IF($O$1>Entries!$K$20,\"TBC\",LARGE(Tables!$BZ$50:$BZ$82,1))","v":247},{"$f":"IF($O$1>Entries!$K$20,\"TBC\",LARGE(Tables!$BZ$50:$BZ$82,2))","v":223},{"$f":"IF($O$1>Entries!$K$20,\"TBC\",LARGE(Tables!$BZ$50:$BZ$82,3))","v":0},{"$f":"IF($O$1>Entries!$K$20,\"TBC\",SUM(O10:Q10))","v":470},{"$f":"IF($S$1>Entries!$K$20,\"TBC\",LARGE(Tables!$CA$50:$CA$82,1))","v":0},{"$f":"IF($S$1>Entries!$K$20,\"TBC\",LARGE(Tables!$CA$50:$CA$82,2))","v":0},{"$f":"IF($S$1>Entries!$K$20,\"TBC\",LARGE(Tables!$CA$50:$CA$82,3))","v":0},{"$f":"IF($S$1>Entries!$K$20,\"TBC\",SUM(S10:U10))","v":0},{"$f":"IF($W$1>Entries!$K$20,\"TBC\",LARGE(Tables!$CB$50:$CB$82,1))","v":331},{"$f":"IF($W$1>Entries!$K$20,\"TBC\",LARGE(Tables!$CB$50:$CB$82,2))","v":0},{"$f":"IF($W$1>Entries!$K$20,\"TBC\",LARGE(Tables!$CB$50:$CB$82,3))","v":0},{"$f":"IF($W$1>Entries!$K$20,\"TBC\",SUM(W10:Y10))","v":331},0,0,0,470,0,331,801,0,801]
[null,"UCC",{"$f":"IF($C$1>Entries!$K$20,\"TBC\",LARGE(Tables!$EQ$50:$EQ$82,1))","v":0},{"$f":"IF($C$1>Entries!$K$20,\"TBC\",LARGE(Tables!$EQ$50:$EQ$82,2))","v":0},{"$f":"IF($C$1>Entries!$K$20,\"TBC\",LARGE(Tables!$EQ$50:$EQ$82,3))","v":0},{"$f":"IF($C$1>Entries!$K$20,\"TBC\",SUM(C11:E11))","v":0},{"$f":"IF($G$1>Entries!$K$20,\"TBC\",LARGE(Tables!$ER$50:$ER$82,1))","v":0},{"$f":"IF($G$1>Entries!$K$20,\"TBC\",LARGE(Tables!$ER$50:$ER$82,2))","v":0},{"$f":"IF($G$1>Entries!$K$20,\"TBC\",LARGE(Tables!$ER$50:$ER$82,3))","v":0},{"$f":"IF($G$1>Entries!$K$20,\"TBC\",SUM(G11:I11))","v":0},{"$f":"IF($K$1>Entries!$K$20,\"TBC\",LARGE(Tables!$ES$50:$ES$82,1))","v":259},{"$f":"IF($K$1>Entries!$K$20,\"TBC\",LARGE(Tables!$ES$50:$ES$82,2))","v":0},{"$f":"IF($K$1>Entries!$K$20,\"TBC\",LARGE(Tables!$ES$50:$ES$82,3))","v":0},{"$f":"IF($K$1>Entries!$K$20,\"TBC\",SUM(K11:M11))","v":259},{"$f":"IF($O$1>Entries!$K$20,\"TBC\",LARGE(Tables!$ET$50:$ET$82,1))","v":0},{"$f":"IF($O$1>Entries!$K$20,\"TBC\",LARGE(Tables!$ET$50:$ET$82,2))","v":0},{"$f":"IF($O$1>Entries!$K$20,\"TBC\",LARGE(Tables!$ET$50:$ET$82,3))","v":0},{"$f":"IF($O$1>Entries!$K$20,\"TBC\",SUM(O11:Q11))","v":0},{"$f":"IF($S$1>Entries!$K$20,\"TBC\",LARGE(Tables!$EU$50:$EU$82,1))","v":161},{"$f":"IF($S$1>Entries!$K$20,\"TBC\",LARGE(Tables!$EU$50:$EU$82,2))","v":0},{"$f":"IF($S$1>Entries!$K$20,\"TBC\",LARGE(Tables!$EU$50:$EU$82,3))","v":0},{"$f":"IF($S$1>Entries!$K$20,\"TBC\",SUM(S11:U11))","v":161},{"$f":"IF($W$1>Entries!$K$20,\"TBC\",LARGE(Tables!$EV$50:$EV$82,1))","v":246},{"$f":"IF($W$1>Entries!$K$20,\"TBC\",LARGE(Tables!$EV$50:$EV$82,2))","v":0},{"$f":"IF($W$1>Entries!$K$20,\"TBC\",LARGE(Tables!$EV$50:$EV$82,3))","v":0},{"$f":"IF($W$1>Entries!$K$20,\"TBC\",SUM(W11:Y11))","v":246},0,0,259,0,161,246,666,0,666]
[null,"UCD",{"$f":"IF($C$1>Entries!$K$20,\"TBC\",LARGE(Tables!$FC$56:$FC$82,1))","v":0},{"$f":"IF($C$1>Entries!$K$20,\"TBC\",LARGE(Tables!$FC$56:$FC$82,2))","v":0},{"$f":"IF($C$1>Entries!$K$20,\"TBC\",LARGE(Tables!$FC$56:$FC$82,3))","v":0},{"$f":"IF($C$1>Entries!$K$20,\"TBC\",SUM(C12:E12))","v":0},{"$f":"IF($G$1>Entries!$K$20,\"TBC\",LARGE(Tables!$FD$56:$FD$82,1))","v":0},{"$f":"IF($G$1>Entries!$K$20,\"TBC\",LARGE(Tables!$FD$56:$FD$82,2))","v":0},{"$f":"IF($G$1>Entries!$K$20,\"TBC\",LARGE(Tables!$FD$56:$FD$82,3))","v":0},{"$f":"IF($G$1>Entries!$K$20,\"TBC\",SUM(G12:I12))","v":0},{"$f":"IF($K$1>Entries!$K$20,\"TBC\",LARGE(Tables!$FE$56:$FE$82,1))","v":0},{"$f":"IF($K$1>Entries!$K$20,\"TBC\",LARGE(Tables!$FE$56:$FE$82,2))","v":0},{"$f":"IF($K$1>Entries!$K$20,\"TBC\",LARGE(Tables!$FE$56:$FE$82,3))","v":0},{"$f":"IF($K$1>Entries!$K$20,\"TBC\",SUM(K12:M12))","v":0},{"$f":"IF($O$1>Entries!$K$20,\"TBC\",LARGE(Tables!$FF$56:$FF$82,1))","v":0},{"$f":"IF($O$1>Entries!$K$20,\"TBC\",LARGE(Tables!$FF$56:$FF$82,2))","v":0},{"$f":"IF($O$1>Entries!$K$20,\"TBC\",LARGE(Tables!$FF$56:$FF$82,3))","v":0},{"$f":"IF($O$1>Entries!$K$20,\"TBC\",SUM(O12:Q12))","v":0},{"$f":"IF($S$1>Entries!$K$20,\"TBC\",LARGE(Tables!$FG$56:$FG$82,1))","v":0},{"$f":"IF($S$1>Entries!$K$20,\"TBC\",LARGE(Tables!$FG$56:$FG$82,2))","v":0},{"$f":"IF($S$1>Entries!$K$20,\"TBC\",LARGE(Tables!$FG$56:$FG$82,3))","v":0},{"$f":"IF($S$1>Entries!$K$20,\"TBC\",SUM(S12:U12))","v":0},{"$f":"IF($W$1>Entries!$K$20,\"TBC\",LARGE(Tables!$FH$56:$FH$82,1))","v":204},{"$f":"IF($W$1>Entries!$K$20,\"TBC\",LARGE(Tables!$FH$56:$FH$82,2))","v":0},{"$f":"IF($W$1>Entries!$K$20,\"TBC\",LARGE(Tables!$FH$56:$FH$82,3))","v":0},{"$f":"IF($W$1>Entries!$K$20,\"TBC\",SUM(W12:Y12))","v":204},0,0,0,0,0,204,204,0,204]
[null,"BCFE",{"$f":"IF($C$1>Entries!$K$20,\"TBC\",LARGE(Tables!$AM$50:$AM$82,1))","v":0},{"$f":"IF($C$1>Entries!$K$20,\"TBC\",LARGE(Tables!$AM$50:$AM$82,2))","v":0},{"$f":"IF($C$1>Entries!$K$20,\"TBC\",LARGE(Tables!$AM$50:$AM$82,3))","v":0},{"$f":"IF($C$1>Entries!$K$20,\"TBC\",SUM(C13:E13))","v":0},{"$f":"IF($G$1>Entries!$K$20,\"TBC\",LARGE(Tables!$AN$50:$AN$82,1))","v":0},{"$f":"IF($G$1>Entries!$K$20,\"TBC\",LARGE(Tables!$AN$50:$AN$82,2))","v":0},{"$f":"IF($G$1>Entries!$K$20,\"TBC\",LARGE(Tables!$AN$50:$AN$82,3))","v":0},{"$f":"IF($G$1>Entries!$K$20,\"TBC\",SUM(G13:I13))","v":0},{"$f":"IF($K$1>Entries!$K$20,\"TBC\",LARGE(Tables!$AO$50:$AO$82,1))","v":0},{"$f":"IF($K$1>Entries!$K$20,\"TBC\",LARGE(Tables!$AO$50:$AO$82,2))","v":0},{"$f":"IF($K$1>Entries!$K$20,\"TBC\",LARGE(Tables!$AO$50:$AO$82,3))","v":0},{"$f":"IF($K$1>Entries!$K$20,\"TBC\",SUM(K13:M13))","v":0},{"$f":"IF($O$1>Entries!$K$20,\"TBC\",LARGE(Tables!$AP$50:$AP$82,1))","v":0},{"$f":"IF($O$1>Entries!$K$20,\"TBC\",LARGE(Tables!$AP$50:$AP$82,2))","v":0},{"$f":"IF($O$1>Entries!$K$20,\"TBC\",LARGE(Tables!$AP$50:$AP$82,3))","v":0},{"$f":"IF($O$1>Entries!$K$20,\"TBC\",SUM(O13:Q13))","v":0},{"$f":"IF($S$1>Entries!$K$20,\"TBC\",LARGE(Tables!$AQ$50:$AQ$82,1))","v":0},{"$f":"IF($S$1>Entries!$K$20,\"TBC\",LARGE(Tables!$AQ$50:$AQ$82,2))","v":0},{"$f":"IF($S$1>Entries!$K$20,\"TBC\",LARGE(Tables!$AQ$50:$AQ$82,3))","v":0},{"$f":"IF($S$1>Entries!$K$20,\"TBC\",SUM(S13:U13))","v":0},{"$f":"IF($W$1>Entries!$K$20,\"TBC\",LARGE(Tables!$AR$50:$AR$82,1))","v":0},{"$f":"IF($W$1>Entries!$K$20,\"TBC\",LARGE(Tables!$AR$50:$AR$82,2))","v":0},{"$f":"IF($W$1>Entries!$K$20,\"TBC\",LARGE(Tables!$AR$50:$AR$82,3))","v":0},{"$f":"IF($W$1>Entries!$K$20,\"TBC\",SUM(W13:Y13))","v":0},0,0,0,0,0,0,0,0,{"$f":"AG13-AH13+(LARGE(AA13:AF13,1)/10000)+(LARGE(AA13:AF13,2)/100000000)","v":0}]
[null,"CD",{"$f":"IF($C$1>Entries!$K$20,\"TBC\",LARGE(Tables!$DG$50:$DG$82,1))","v":0},{"$f":"IF($C$1>Entries!$K$20,\"TBC\",LARGE(Tables!$DG$50:$DG$82,2))","v":0},{"$f":"IF($C$1>Entries!$K$20,\"TBC\",LARGE(Tables!$DG$50:$DG$82,3))","v":0},{"$f":"IF($C$1>Entries!$K$20,\"TBC\",SUM(C14:E14))","v":0},{"$f":"IF($G$1>Entries!$K$20,\"TBC\",LARGE(Tables!$DH$50:$DH$82,1))","v":0},{"$f":"IF($G$1>Entries!$K$20,\"TBC\",LARGE(Tables!$DH$50:$DH$82,2))","v":0},{"$f":"IF($G$1>Entries!$K$20,\"TBC\",LARGE(Tables!$DH$50:$DH$82,3))","v":0},{"$f":"IF($G$1>Entries!$K$20,\"TBC\",SUM(G14:I14))","v":0},{"$f":"IF($K$1>Entries!$K$20,\"TBC\",LARGE(Tables!$DI$50:$DI$82,1))","v":0},{"$f":"IF($K$1>Entries!$K$20,\"TBC\",LARGE(Tables!$DI$50:$DI$82,2))","v":0},{"$f":"IF($K$1>Entries!$K$20,\"TBC\",LARGE(Tables!$DI$50:$DI$82,3))","v":0},{"$f":"IF($K$1>Entries!$K$20,\"TBC\",SUM(K14:M14))","v":0},{"$f":"IF($O$1>Entries!$K$20,\"TBC\",LARGE(Tables!$DJ$50:$DJ$82,1))","v":0},{"$f":"IF($O$1>Entries!$K$20,\"TBC\",LARGE(Tables!$DJ$50:$DJ$82,2))","v":0},{"$f":"IF($O$1>Entries!$K$20,\"TBC\",LARGE(Tables!$DJ$50:$DJ$82,3))","v":0},{"$f":"IF($O$1>Entries!$K$20,\"TBC\",SUM(O14:Q14))","v":0},{"$f":"IF($S$1>Entries!$K$20,\"TBC\",LARGE(Tables!$DK$50:$DK$82,1))","v":0},{"$f":"IF($S$1>Entries!$K$20,\"TBC\",LARGE(Tables!$DK$50:$DK$82,2))","v":0},{"$f":"IF($S$1>Entries!$K$20,\"TBC\",LARGE(Tables!$DK$50:$DK$82,3))","v":0},{"$f":"IF($S$1>Entries!$K$20,\"TBC\",SUM(S14:U14))","v":0},{"$f":"IF($W$1>Entries!$K$20,\"TBC\",LARGE(Tables!$DL$50:$DL$82,1))","v":0},{"$f":"IF($W$1>Entries!$K$20,\"TBC\",LARGE(Tables!$DL$50:$DL$82,2))","v":0},{"$f":"IF($W$1>Entries!$K$20,\"TBC\",LARGE(Tables!$DL$50:$DL$82,3))","v":0},{"$f":"IF($W$1>Entries!$K$20,\"TBC\",SUM(W14:Y14))","v":0},0,0,0,0,0,0,0,0,0]
[null,"UU",{"$f":"IF($C$1>Entries!$K$20,\"TBC\",LARGE(Tables!$GA$50:$GA$82,1))","v":0},{"$f":"IF($C$1>Entries!$K$20,\"TBC\",LARGE(Tables!$GA$50:$GA$82,2))","v":0},{"$f":"IF($C$1>Entries!$K$20,\"TBC\",LARGE(Tables!$GA$50:$GA$82,3))","v":0},{"$f":"IF($C$1>Entries!$K$20,\"TBC\",SUM(C15:E15))","v":0},{"$f":"IF($G$1>Entries!$K$20,\"TBC\",LARGE(Tables!$GB$50:$GB$82,1))","v":0},{"$f":"IF($G$1>Entries!$K$20,\"TBC\",LARGE(Tables!$GB$50:$GB$82,2))","v":0},{"$f":"IF($G$1>Entries!$K$20,\"TBC\",LARGE(Tables!$GB$50:$GB$82,3))","v":0},{"$f":"IF($G$1>Entries!$K$20,\"TBC\",SUM(G15:I15))","v":0},{"$f":"IF($K$1>Entries!$K$20,\"TBC\",LARGE(Tables!$GC$50:$GC$82,1))","v":0},{"$f":"IF($K$1>Entries!$K$20,\"TBC\",LARGE(Tables!$GC$50:$GC$82,2))","v":0},{"$f":"IF($K$1>Entries!$K$20,\"TBC\",LARGE(Tables!$GC$50:$GC$82,3))","v":0},{"$f":"IF($K$1>Entries!$K$20,\"TBC\",SUM(K15:M15))","v":0},{"$f":"IF($O$1>Entries!$K$20,\"TBC\",LARGE(Tables!$GD$50:$GD$82,1))","v":0},{"$f":"IF($O$1>Entries!$K$20,\"TBC\",LARGE(Tables!$GD$50:$GD$82,2))","v":0},{"$f":"IF($O$1>Entries!$K$20,\"TBC\",LARGE(Tables!$GD$50:$GD$82,3))","v":0},{"$f":"IF($O$1>Entries!$K$20,\"TBC\",SUM(O15:Q15))","v":0},{"$f":"IF($S$1>Entries!$K$20,\"TBC\",LARGE(Tables!$GE$50:$GE$82,1))","v":0},{"$f":"IF($S$1>Entries!$K$20,\"TBC\",LARGE(Tables!$GE$50:$GE$82,2))","v":0},{"$f":"IF($S$1>Entries!$K$20,\"TBC\",LARGE(Tables!$GE$50:$GE$82,3))","v":0},{"$f":"IF($S$1>Entries!$K$20,\"TBC\",SUM(S15:U15))","v":0},{"$f":"IF($W$1>Entries!$K$20,\"TBC\",LARGE(Tables!$GF$50:$GF$82,1))","v":0},{"$f":"IF($W$1>Entries!$K$20,\"TBC\",LARGE(Tables!$GF$50:$GF$82,2))","v":0},{"$f":"IF($W$1>Entries!$K$20,\"TBC\",LARGE(Tables!$GF$50:$GF$82,3))","v":0},{"$f":"IF($W$1>Entries!$K$20,\"TBC\",SUM(W15:Y15))","v":0},0,0,0,0,0,0,0,0,0]
[null,"QUB",{"$f":"IF($C$1>Entries!$K$20,\"TBC\",LARGE(Tables!$GM$50:$GM$82,1))","v":0},{"$f":"IF($C$1>Entries!$K$20,\"TBC\",LARGE(Tables!$GM$50:$GM$82,2))","v":0},{"$f":"IF($C$1>Entries!$K$20,\"TBC\",LARGE(Tables!$GM$50:$GM$82,3))","v":0},{"$f":"IF($C$1>Entries!$K$20,\"TBC\",SUM(C16:E16))","v":0},{"$f":"IF($G$1>Entries!$K$20,\"TBC\",LARGE(Tables!$GN$50:$GN$82,1))","v":0},{"$f":"IF($G$1>Entries!$K$20,\"TBC\",LARGE(Tables!$GN$50:$GN$82,2))","v":0},{"$f":"IF($G$1>Entries!$K$20,\"TBC\",LARGE(Tables!$GN$50:$GN$82,3))","v":0},{"$f":"IF($G$1>Entries!$K$20,\"TBC\",SUM(G16:I16))","v":0},{"$f":"IF($K$1>Entries!$K$20,\"TBC\",LARGE(Tables!$GO$50:$GO$82,1))","v":0},{"$f":"IF($K$1>Entries!$K$20,\"TBC\",LARGE(Tables!$GO$50:$GO$82,2))","v":0},{"$f":"IF($K$1>Entries!$K$20,\"TBC\",LARGE(Tables!$GO$50:$GO$82,3))","v":0},{"$f":"IF($K$1>Entries!$K$20,\"TBC\",SUM(K16:M16))","v":0},{"$f":"IF($O$1>Entries!$K$20,\"TBC\",LARGE(Tables!$GP$50:$GP$82,1))","v":0},{"$f":"IF($O$1>Entries!$K$20,\"TBC\",LARGE(Tables!$GP$50:$GP$82,2))","v":0},{"$f":"IF($O$1>Entries!$K$20,\"TBC\",LARGE(Tables!$GP$50:$GP$82,3))","v":0},{"$f":"IF($O$1>Entries!$K$20,\"TBC\",SUM(O16:Q16))","v":0},{"$f":"IF($S$1>Entries!$K$20,\"TBC\",LARGE(Tables!$GQ$50:$GQ$82,1))","v":0},{"$f":"IF($S$1>Entries!$K$20,\"TBC\",LARGE(Tables!$GQ$50:$GQ$82,2))","v":0},{"$f":"IF($S$1>Entries!$K$20,\"TBC\",LARGE(Tables!$GQ$50:$GQ$82,3))","v":0},{"$f":"IF($S$1>Entries!$K$20,\"TBC\",SUM(S16:U16))","v":0},{"$f":"IF($W$1>Entries!$K$20,\"TBC\",LARGE(Tables!$GR$50:$GR$82,1))","v":0},{"$f":"IF($W$1>Entries!$K$20,\"TBC\",LARGE(Tables!$GR$50:$GR$82,2))","v":0},{"$f":"IF($W$1>Entries!$K$20,\"TBC\",LARGE(Tables!$GR$50:$GR$82,3))","v":0},{"$f":"IF($W$1>Entries!$K$20,\"TBC\",SUM(W16:Y16))","v":0},0,0,0,0,0,0,0,0,0]
[null,"DIT",{"$f":"IF($C$1>Entries!$K$20,\"TBC\",LARGE(Tables!$O$50:$O$82,1))","v":0},{"$f":"IF($C$1>Entries!$K$20,\"TBC\",LARGE(Tables!$O$50:$O$82,2))","v":0},{"$f":"IF($C$1>Entries!$K$20,\"TBC\",LARGE(Tables!$O$50:$O$82,3))","v":0},{"$f":"IF($C$1>Entries!$K$20,\"TBC\",SUM(C17:E17))","v":0},{"$f":"IF($G$1>Entries!$K$20,\"TBC\",LARGE(Tables!$P$50:$P$82,1))","v":0},{"$f":"IF($G$1>Entries!$K$20,\"TBC\",LARGE(Tables!$P$50:$P$82,2))","v":0},{"$f":"IF($G$1>Entries!$K$20,\"TBC\",LARGE(Tables!$P$50:$P$82,3))","v":0},{"$f":"IF($G$1>Entries!$K$20,\"TBC\",SUM(G17:I17))","v":0},{"$f":"IF($K$1>Entries!$K$20,\"TBC\",LARGE(Tables!$Q$50:$Q$82,1))","v":0},{"$f":"IF($K$1>Entries!$K$20,\"TBC\",LARGE(Tables!$Q$50:$Q$82,2))","v":0},{"$f":"IF($K$1>Entries!$K$20,\"TBC\",LARGE(Tables!$Q$50:$Q$82,3))","v":0},{"$f":"IF($K$1>Entries!$K$20,\"TBC\",SUM(K17:M17))","v":0},{"$f":"IF($O$1>Entries!$K$20,\"TBC\",LARGE(Tables!$R$50:$R$82,1))","v":0},{"$f":"IF($O$1>Entries!$K$20,\"TBC\",LARGE(Tables!$R$50:$R$82,2))","v":0},{"$f":"IF($O$1>Entries!$K$20,\"TBC\",LARGE(Tables!$R$50:$R$82,3))","v":0},{"$f":"IF($O$1>Entries!$K$20,\"TBC\",SUM(O17:Q17))","v":0},{"$f":"IF($S$1>Entries!$K$20,\"TBC\",LARGE(Tables!$S$50:$S$82,1))","v":0},{"$f":"IF($S$1>Entries!$K$20,\"TBC\",LARGE(Tables!$S$50:$S$82,2))","v":0},{"$f":"IF($S$1>Entries!$K$20,\"TBC\",LARGE(Tables!$S$50:$S$82,3))","v":0},{"$f":"IF($S$1>Entries!$K$20,\"TBC\",SUM(S17:U17))","v":0},{"$f":"IF($W$1>Entries!$K$20,\"TBC\",LARGE(Tables!$W$50:$W$82,1))","v":0},{"$f":"IF($W$1>Entries!$K$20,\"TBC\",LARGE(Tables!$W$50:$W$82,2))","v":0},{"$f":"IF($W$1>Entries!$K$20,\"TBC\",LARGE(Tables!$W$50:$W$82,3))","v":0},{"$f":"IF($W$1>Entries!$K$20,\"TBC\",SUM(W17:Y17))","v":0},0,0,0,0,0,0,0,0,0]
[null,"DKIT",{"$f":"IF($C$1>Entries!$K$20,\"TBC\",LARGE(Tables!$AA$50:$AA$82,1))","v":0},{"$f":"IF($C$1>Entries!$K$20,\"TBC\",LARGE(Tables!$AA$50:$AA$82,2))","v":0},{"$f":"IF($C$1>Entries!$K$20,\"TBC\",LARGE(Tables!$AA$50:$AA$82,3))","v":0},{"$f":"IF($C$1>Entries!$K$20,\"TBC\",SUM(C18:E18))","v":0},{"$f":"IF($G$1>Entries!$K$20,\"TBC\",LARGE(Tables!$AB$50:$AB$82,1))","v":0},{"$f":"IF($G$1>Entries!$K$20,\"TBC\",LARGE(Tables!$AB$50:$AB$82,2))","v":0},{"$f":"IF($G$1>Entries!$K$20,\"TBC\",LARGE(Tables!$AB$50:$AB$82,3))","v":0},{"$f":"IF($G$1>Entries!$K$20,\"TBC\",SUM(G18:I18))","v":0},{"$f":"IF($K$1>Entries!$K$20,\"TBC\",LARGE(Tables!$AC$50:$AC$82,1))","v":0},{"$f":"IF($K$1>Entries!$K$20,\"TBC\",LARGE(Tables!$AC$50:$AC$82,2))","v":0},{"$f":"IF($K$1>Entries!$K$20,\"TBC\",LARGE(Tables!$AC$50:$AC$82,3))","v":0},{"$f":"IF($K$1>Entries!$K$20,\"TBC\",SUM(K18:M18))","v":0},{"$f":"IF($O$1>Entries!$K$20,\"TBC\",LARGE(Tables!$AD$50:$AD$82,1))","v":0},{"$f":"IF($O$1>Entries!$K$20,\"TBC\",LARGE(Tables!$AD$50:$AD$82,2))","v":0},{"$f":"IF($O$1>Entries!$K$20,\"TBC\",LARGE(Tables!$AD$50:$AD$82,3))","v":0},{"$f":"IF($O$1>Entries!$K$20,\"TBC\",SUM(O18:Q18))","v":0},{"$f":"IF($S$1>Entries!$K$20,\"TBC\",LARGE(Tables!$AE$50:$AE$82,1))","v":0},{"$f":"IF($S$1>Entries!$K$20,\"TBC\",LARGE(Tables!$AE$50:$AE$82,2))","v":0},{"$f":"IF($S$1>Entries!$K$20,\"TBC\",LARGE(Tables!$AE$50:$AE$82,3))","v":0},{"$f":"IF($S$1>Entries!$K$20,\"TBC\",SUM(S18:U18))","v":0},{"$f":"IF($W$1>Entries!$K$20,\"TBC\",LARGE(Tables!$AF$50:$AF$82,1))","v":0},{"$f":"IF($W$1>Entries!$K$20,\"TBC\",LARGE(Tables!$AF$50:$AF$82,2))","v":0},{"$f":"IF($W$1>Entries!$K$20,\"TBC\",LARGE(Tables!$AF$50:$AF$82,3))","v":0},{"$f":"IF($W$1>Entries!$K$20,\"TBC\",SUM(W18:Y18))","v":0},0,0,0,0,0,0,0,0,0]
[null,"AAA",{"$f":"IF($C$1>Entries!$K$20,\"TBC\",LARGE(Tables!$GY$50:$GY$82,1))","v":0},{"$f":"IF($C$1>Entries!$K$20,\"TBC\",LARGE(Tables!$GY$50:$GY$82,2))","v":0},{"$f":"IF($C$1>Entries!$K$20,\"TBC\",LARGE(Tables!$GY$50:$GY$82,3))","v":0},{"$f":"IF($C$1>Entries!$K$20,\"TBC\",SUM(C19:E19))","v":0},{"$f":"IF($G$1>Entries!$K$20,\"TBC\",LARGE(Tables!$GZ$50:$GZ$82,1))","v":0},{"$f":"IF($G$1>Entries!$K$20,\"TBC\",LARGE(Tables!$GZ$50:$GZ$82,2))","v":0},{"$f":"IF($G$1>Entries!$K$20,\"TBC\",LARGE(Tables!$GZ$50:$GZ$82,3))","v":0},{"$f":"IF($G$1>Entries!$K$20,\"TBC\",SUM(G19:I19))","v":0},{"$f":"IF($K$1>Entries!$K$20,\"TBC\",LARGE(Tables!$HA$50:$HA$82,1))","v":0},{"$f":"IF($K$1>Entries!$K$20,\"TBC\",LARGE(Tables!$HA$50:$HA$82,2))","v":0},{"$f":"IF($K$1>Entries!$K$20,\"TBC\",LARGE(Tables!$HA$50:$HA$82,3))","v":0},{"$f":"IF($K$1>Entries!$K$20,\"TBC\",SUM(K19:M19))","v":0},{"$f":"IF($O$1>Entries!$K$20,\"TBC\",LARGE(Tables!$HB$50:$HB$82,1))","v":0},{"$f":"IF($O$1>Entries!$K$20,\"TBC\",LARGE(Tables!$HB$50:$HB$82,2))","v":0},{"$f":"IF($O$1>Entries!$K$20,\"TBC\",LARGE(Tables!$HB$50:$HB$82,3))","v":0},{"$f":"IF($O$1>Entries!$K$20,\"TBC\",SUM(O19:Q19))","v":0},{"$f":"IF($S$1>Entries!$K$20,\"TBC\",LARGE(Tables!$HC$50:$HC$82,1))","v":0},{"$f":"IF($S$1>Entries!$K$20,\"TBC\",LARGE(Tables!$HC$50:$HC$82,2))","v":0},{"$f":"IF($S$1>Entries!$K$20,\"TBC\",LARGE(Tables!$HC$50:$HC$82,3))","v":0},{"$f":"IF($S$1>Entries!$K$20,\"TBC\",SUM(S19:U19))","v":0},{"$f":"IF($W$1>Entries!$K$20,\"TBC\",LARGE(Tables!$HD$50:$HD$82,1))","v":{"$error":"#NUM!"}},{"$f":"IF($W$1>Entries!$K$20,\"TBC\",LARGE(Tables!$HD$50:$HD$82,2))","v":{"$error":"#NUM!"}},{"$f":"IF($W$1>Entries!$K$20,\"TBC\",LARGE(Tables!$HD$50:$HD$82,3))","v":{"$error":"#NUM!"}},{"$f":"IF($W$1>Entries!$K$20,\"TBC\",SUM(W19:Y19))","v":{"$error":"#NUM!"}},0,0,0,0,0,{"$error":"#NUM!"},{"$error":"#NUM!"},{"$error":"#NUM!"},-0.7]
[null,"BBB",{"$f":"IF($C$1>Entries!$K$20,\"TBC\",LARGE(Tables!$HJ$50:$HJ$82,1))","v":0},{"$f":"IF($C$1>Entries!$K$20,\"TBC\",LARGE(Tables!$HJ$50:$HJ$82,2))","v":0},{"$f":"IF($C$1>Entries!$K$20,\"TBC\",LARGE(Tables!$HJ$50:$HJ$82,3))","v":0},{"$f":"IF($C$1>Entries!$K$20,\"TBC\",SUM(C20:E20))","v":0},{"$f":"IF($G$1>Entries!$K$20,\"TBC\",LARGE(Tables!$HK$50:$HK$82,1))","v":0},{"$f":"IF($G$1>Entries!$K$20,\"TBC\",LARGE(Tables!$HK$50:$HK$82,2))","v":0},{"$f":"IF($G$1>Entries!$K$20,\"TBC\",LARGE(Tables!$HK$50:$HK$82,3))","v":0},{"$f":"IF($G$1>Entries!$K$20,\"TBC\",SUM(G20:I20))","v":0},{"$f":"IF($K$1>Entries!$K$20,\"TBC\",LARGE(Tables!$HL$50:$HL$82,1))","v":0},{"$f":"IF($K$1>Entries!$K$20,\"TBC\",LARGE(Tables!$HL$50:$HL$82,2))","v":0},{"$f":"IF($K$1>Entries!$K$20,\"TBC\",LARGE(Tables!$HL$50:$HL$82,3))","v":0},{"$f":"IF($K$1>Entries!$K$20,\"TBC\",SUM(K20:M20))","v":0},{"$f":"IF($O$1>Entries!$K$20,\"TBC\",LARGE(Tables!$HM$50:$HM$82,1))","v":0},{"$f":"IF($O$1>Entries!$K$20,\"TBC\",LARGE(Tables!$HM$50:$HM$82,2))","v":0},{"$f":"IF($O$1>Entries!$K$20,\"TBC\",LARGE(Tables!$HM$50:$HM$82,3))","v":0},{"$f":"IF($O$1>Entries!$K$20,\"TBC\",SUM(O20:Q20))","v":0},{"$f":"IF($S$1>Entries!$K$20,\"TBC\",LARGE(Tables!$HN$50:$HN$82,1))","v":0},{"$f":"IF($S$1>Entries!$K$20,\"TBC\",LARGE(Tables!$HN$50:$HN$82,2))","v":0},{"$f":"IF($S$1>Entries!$K$20,\"TBC\",LARGE(Tables!$HN$50:$HN$82,3))","v":0},{"$f":"IF($S$1>Entries!$K$20,\"TBC\",SUM(S20:U20))","v":0},{"$f":"IF($W$1>Entries!$K$20,\"TBC\",LARGE(Tables!$HO$50:$HO$82,1))","v":{"$error":"#NUM!"}},{"$f":"IF($W$1>Entries!$K$20,\"TBC\",LARGE(Tables!$HO$50:$HO$82,2))","v":{"$error":"#NUM!"}},{"$f":"IF($W$1>Entries!$K$20,\"TBC\",LARGE(Tables!$HO$50:$HO$82,3))","v":{"$error":"#NUM!"}},{"$f":"IF($W$1>Entries!$K$20,\"TBC\",SUM(W20:Y20))","v":{"$error":"#NUM!"}},0,0,0,0,0,{"$error":"#NUM!"},{"$error":"#NUM!"},{"$error":"#NUM!"},-0.7]
[null,"CCC",{"$f":"IF($C$1>Entries!$K$20,\"TBC\",LARGE(Tables!$HU$50:$HU$82,1))","v":0},{"$f":"IF($C$1>Entries!$K$20,\"TBC\",LARGE(Tables!$HU$50:$HU$82,2))","v":0},{"$f":"IF($C$1>Entries!$K$20,\"TBC\",LARGE(Tables!$HU$50:$HU$82,3))","v":0},{"$f":"IF($C$1>Entries!$K$20,\"TBC\",SUM(C21:E21))","v":0},{"$f":"IF($G$1>Entries!$K$20,\"TBC\",LARGE(Tables!$HV$50:$HV$82,1))","v":0},{"$f":"IF($G$1>Entries!$K$20,\"TBC\",LARGE(Tables!$HV$50:$HV$82,2))","v":0},{"$f":"IF($G$1>Entries!$K$20,\"TBC\",LARGE(Tables!$HV$50:$HV$82,3))","v":0},{"$f":"IF($G$1>Entries!$K$20,\"TBC\",SUM(G21:I21))","v":0},{"$f":"IF($K$1>Entries!$K$20,\"TBC\",LARGE(Tables!$HW$50:$HW$82,1))","v":0},{"$f":"IF($K$1>Entries!$K$20,\"TBC\",LARGE(Tables!$HW$50:$HW$82,2))","v":0},{"$f":"IF($K$1>Entries!$K$20,\"TBC\",LARGE(Tables!$HW$50:$HW$82,3))","v":0},{"$f":"IF($K$1>Entries!$K$20,\"TBC\",SUM(K21:M21))","v":0},{"$f":"IF($O$1>Entries!$K$20,\"TBC\",LARGE(Tables!$HX$50:$HX$82,1))","v":0},{"$f":"IF($O$1>Entries!$K$20,\"TBC\",LARGE(Tables!$HX$50:$HX$82,2))","v":0},{"$f":"IF($O$1>Entries!$K$20,\"TBC\",LARGE(Tables!$HX$50:$HX$82,3))","v":0},{"$f":"IF($O$1>Entries!$K$20,\"TBC\",SUM(O21:Q21))","v":0},{"$f":"IF($S$1>Entries!$K$20,\"TBC\",LARGE(Tables!$HY$50:$HY$82,1))","v":0},{"$f":"IF($S$1>Entries!$K$20,\"TBC\",LARGE(Tables!$HY$50:$HY$82,2))","v":0},{"$f":"IF($S$1>Entries!$K$20,\"TBC\",LARGE(Tables!$HY$50:$HY$82,3))","v":0},{"$f":"IF($S$1>Entries!$K$20,\"TBC\",SUM(S21:U21))","v":0},{"$f":"IF($W$1>Entries!$K$20,\"TBC\",LARGE(Tables!$HZ$50:$HZ$82,1))","v":{"$error":"#NUM!"}},{"$f":"IF($W$1>Entries!$K$20,\"TBC\",LARGE(Tables!$HZ$50:$HZ$82,2))","v":{"$error":"#NUM!"}},{"$f":"IF($W$1>Entries!$K$20,\"TBC\",LARGE(Tables!$HZ$50:$HZ$82,3))","v":{"$error":"#NUM!"}},{"$f":"IF($W$1>Entries!$K$20,\"TBC\",SUM(W21:Y21))","v":{"$error":"#NUM!"}},0,0,0,0,0,{"$error":"#NUM!"},{"$error":"#NUM!"},{"$error":"#NUM!"},-0.7]
[null,"DDD",{"$f":"IF($C$1>Entries!$K$20,\"TBC\",LARGE(Tables!$IF$50:$IF$82,1))","v":0},{"$f":"IF($C$1>Entries!$K$20,\"TBC\",LARGE(Tables!$IF$50:$IF$82,2))","v":0},{"$f":"IF($C$1>Entries!$K$20,\"TBC\",LARGE(Tables!$IF$50:$IF$82,3))","v":0},{"$f":"IF($C$1>Entries!$K$20,\"TBC\",SUM(C22:E22))","v":0},{"$f":"IF($G$1>Entries!$K$20,\"TBC\",LARGE(Tables!$IG$50:$IG$82,1))","v":0},{"$f":"IF($G$1>Entries!$K$20,\"TBC\",LARGE(Tables!$IG$50:$IG$82,2))","v":0},{"$f":"IF($G$1>Entries!$K$20,\"TBC\",LARGE(Tables!$IG$50:$IG$82,3))","v":0},{"$f":"IF($G$1>Entries!$K$20,\"TBC\",SUM(G22:I22))","v":0},{"$f":"IF($K$1>Entries!$K$20,\"TBC\",LARGE(Tables!$IH$50:$IH$82,1))","v":0},{"$f":"IF($K$1>Entries!$K$20,\"TBC\",LARGE(Tables!$IH$50:$IH$82,2))","v":0},{"$f":"IF($K$1>Entries!$K$20,\"TBC\",LARGE(Tables!$IH$50:$IH$82,3))","v":0},{"$f":"IF($K$1>Entries!$K$20,\"TBC\",SUM(K22:M22))","v":0},{"$f":"IF($O$1>Entries!$K$20,\"TBC\",LARGE(Tables!$II$50:$II$82,1))","v":0},{"$f":"IF($O$1>Entries!$K$20,\"TBC\",LARGE(Tables!$II$50:$II$82,2))","v":0},{"$f":"IF($O$1>Entries!$K$20,\"TBC\",LARGE(Tables!$II$50:$II$82,3))","v":0},{"$f":"IF($O$1>Entries!$K$20,\"TBC\",SUM(O22:Q22))","v":0},{"$f":"IF($S$1>Entries!$K$20,\"TBC\",LARGE(Tables!$IJ$50:$IJ$82,1))","v":0},{"$f":"IF($S$1>Entries!$K$20,\"TBC\",LARGE(Tables!$IJ$50:$IJ$82,2))","v":0},{"$f":"IF($S$1>Entries!$K$20,\"TBC\",LARGE(Tables!$IJ$50:$IJ$82,3))","v":0},{"$f":"IF($S$1>Entries!$K$20,\"TBC\",SUM(S22:U22))","v":0},{"$f":"IF($W$1>Entries!$K$20,\"TBC\",LARGE(Tables!$IK$50:$IK$82,1))","v":{"$error":"#NUM!"}},{"$f":"IF($W$1>Entries!$K$20,\"TBC\",LARGE(Tables!$IK$50:$IK$82,2))","v":{"$error":"#NUM!"}},{"$f":"IF($W$1>Entries!$K$20,\"TBC\",LARGE(Tables!$IK$50:$IK$82,3))","v":{"$error":"#NUM!"}},{"$f":"IF($W$1>Entries!$K$20,\"TBC\",SUM(W22:Y22))","v":{"$error":"#NUM!"}},0,0,0,0,0,{"$error":"#NUM!"},{"$error":"#NUM!"},{"$error":"#NUM!"},-0.7]
[null,"EEE",{"$f":"IF($C$1>Entries!$K$20,\"TBC\",LARGE(Tables!$IQ$50:$IQ$82,1))","v":0},{"$f":"IF($C$1>Entries!$K$20,\"TBC\",LARGE(Tables!$IQ$50:$IQ$82,2))","v":0},{"$f":"IF($C$1>Entries!$K$20,\"TBC\",LARGE(Tables!$IQ$50:$IQ$82,3))","v":0},{"$f":"IF($C$1>Entries!$K$20,\"TBC\",SUM(C23:E23))","v":0},{"$f":"IF($G$1>Entries!$K$20,\"TBC\",LARGE(Tables!$IR$50:$IR$82,1))","v":0},{"$f":"IF($G$1>Entries!$K$20,\"TBC\",LARGE(Tables!$IR$50:$IR$82,2))","v":0},{"$f":"IF($G$1>Entries!$K$20,\"TBC\",LARGE(Tables!$IR$50:$IR$82,3))","v":0},{"$f":"IF($G$1>Entries!$K$20,\"TBC\",SUM(G23:I23))","v":0},{"$f":"IF($K$1>Entries!$K$20,\"TBC\",LARGE(Tables!$IS$50:$IS$82,1))","v":0},{"$f":"IF($K$1>Entries!$K$20,\"TBC\",LARGE(Tables!$IS$50:$IS$82,2))","v":0},{"$f":"IF($K$1>Entries!$K$20,\"TBC\",LARGE(Tables!$IS$50:$IS$82,3))","v":0},{"$f":"IF($K$1>Entries!$K$20,\"TBC\",SUM(K23:M23))","v":0},{"$f":"IF($O$1>Entries!$K$20,\"TBC\",LARGE(Tables!$IT$50:$IT$82,1))","v":0},{"$f":"IF($O$1>Entries!$K$20,\"TBC\",LARGE(Tables!$IT$50:$IT$82,2))","v":0},{"$f":"IF($O$1>Entries!$K$20,\"TBC\",LARGE(Tables!$IT$50:$IT$82,3))","v":0},{"$f":"IF($O$1>Entries!$K$20,\"TBC\",SUM(O23:Q23))","v":0},{"$f":"IF($S$1>Entries!$K$20,\"TBC\",LARGE(Tables!$IU$50:$IU$82,1))","v":0},{"$f":"IF($S$1>Entries!$K$20,\"TBC\",LARGE(Tables!$IU$50:$IU$82,2))","v":0},{"$f":"IF($S$1>Entries!$K$20,\"TBC\",LARGE(Tables!$IU$50:$IU$82,3))","v":0},{"$f":"IF($S$1>Entries!$K$20,\"TBC\",SUM(S23:U23))","v":0},{"$f":"IF($W$1>Entries!$K$20,\"TBC\",LARGE(Tables!$IV$50:$IV$82,1))","v":{"$error":"#NUM!"}},{"$f":"IF($W$1>Entries!$K$20,\"TBC\",LARGE(Tables!$IV$50:$IV$82,2))","v":{"$error":"#NUM!"}},{"$f":"IF($W$1>Entries!$K$20,\"TBC\",LARGE(Tables!$IV$50:$IV$82,3))","v":{"$error":"#NUM!"}},{"$f":"IF($W$1>Entries!$K$20,\"TBC\",SUM(W23:Y23))","v":{"$error":"#NUM!"}},0,0,0,0,0,{"$error":"#NUM!"},{"$error":"#NUM!"},{"$error":"#NUM!"},-0.7]

{"sheet":"Com' List","index":17,"n_rows":23,"n_cols":35,"rows_kept":23,"cut":false,"hidden":false,"merged":[]}
["Compound",null,1,null,null,null,2,null,null,null,3,null,null,null,4,null,null,null,5,null,null,null,6,null,null,null,1,2,3,4,5,null,"total","minimum","league"]
[null,"NUIG",{"$f":"IF($C$1>Entries!$K$20,\"TBC\",LARGE(Tables!$DS$93:$DS$125,1))","v":566},{"$f":"IF($C$1>Entries!$K$20,\"TBC\",LARGE(Tables!$DS$93:$DS$125,2))","v":513},{"$f":"IF($C$1>Entries!$K$20,\"TBC\",LARGE(Tables!$DS$93:$DS$125,3))","v":505},{"$f":"IF($C$1>Entries!$K$20,\"TBC\",SUM(C2:E2))","v":1584},{"$f":"IF($G$1>Entries!$K$20,\"TBC\",LARGE(Tables!$DT$93:$DT$125,1))","v":566},{"$f":"IF($G$1>Entries!$K$20,\"TBC\",LARGE(Tables!$DT$93:$DT$125,2))","v":539},{"$f":"IF($G$1>Entries!$K$20,\"TBC\",LARGE(Tables!$DT$93:$DT$125,3))","v":498},{"$f":"IF($G$1>Entries!$K$20,\"TBC\",SUM(G2:I2))","v":1603},{"$f":"IF($K$1>Entries!$K$20,\"TBC\",LARGE(Tables!$DU$93:$DU$125,1))","v":576},{"$f":"IF($K$1>Entries!$K$20,\"TBC\",LARGE(Tables!$DU$93:$DU$125,2))","v":547},{"$f":"IF($K$1>Entries!$K$20,\"TBC\",LARGE(Tables!$DU$93:$DU$125,3))","v":493},{"$f":"IF($K$1>Entries!$K$20,\"TBC\",SUM(K2:M2))","v":1616},{"$f":"IF($O$1>Entries!$K$20,\"TBC\",LARGE(Tables!$DV$93:$DV$125,1))","v":567},{"$f":"IF($O$1>Entries!$K$20,\"TBC\",LARGE(Tables!$DV$93:$DV$125,2))","v":525},{"$f":"IF($O$1>Entries!$K$20,\"TBC\",LARGE(Tables!$DV$93:$DV$125,3))","v":477},{"$f":"IF($O$1>Entries!$K$20,\"TBC\",SUM(O2:Q2))","v":1569},{"$f":"IF($S$1>Entries!$K$20,\"TBC\",LARGE(Tables!$DW$93:$DW$125,1))","v":575},{"$f":"IF($S$1>Entries!$K$20,\"TBC\",LARGE(Tables!$DW$93:$DW$125,2))","v":524},{"$f":"IF($S$1>Entries!$K$20,\"TBC\",LARGE(Tables!$DW$93:$DW$125,3))","v":414},{"$f":"IF($S$1>Entries!$K$20,\"TBC\",SUM(S2:U2))","v":1513},{"$f":"IF($W$1>Entries!$K$20,\"TBC\",LARGE(Tables!$DX$93:$DX$125,1))","v":572},{"$f":"IF($W$1>Entries!$K$20,\"TBC\",LARGE(Tables!$DX$93:$DX$125,2))","v":544},{"$f":"IF($W$1>Entries!$K$20,\"TBC\",LARGE(Tables!$DX$93:$DX$125,3))","v":540},{"$f":"IF($W$1>Entries!$K$20,\"TBC\",SUM(W2:Y2))","v":1656},{"$f":"F2","v":1584},{"$f":"J2","v":1603},{"$f":"N2","v":1616},{"$f":"R2","v":1569},{"$f":"V2","v":1513},{"$f":"Z2","v":1656},{"$f":"SUM(AA2:AF2)","v":9541},{"$f":"MIN(AA2:AF2)","v":1513},{"$f":"AG2","v":9541}]
[null,"DCU",{"$f":"IF($C$1>Entries!$K$20,\"TBC\",LARGE(Tables!$C$93:$C$125,1))","v":557},{"$f":"IF($C$1>Entries!$K$20,\"TBC\",LARGE(Tables!$C$93:$C$125,2))","v":524},{"$f":"IF($C$1>Entries!$K$20,\"TBC\",LARGE(Tables!$C$93:$C$125,3))","v":511},{"$f":"IF($C$1>Entries!$K$20,\"TBC\",SUM(C3:E3))","v":1592},{"$f":"IF($G$1>Entries!$K$20,\"TBC\",LARGE(Tables!$D$93:$D$125,1))","v":550},{"$f":"IF($G$1>Entries!$K$20,\"TBC\",LARGE(Tables!$D$93:$D$125,2))","v":538},{"$f":"IF($G$1>Entries!$K$20,\"TBC\",LARGE(Tables!$D$93:$D$125,3))","v":517},{"$f":"IF($G$1>Entries!$K$20,\"TBC\",SUM(G3:I3))","v":1605},{"$f":"IF($K$1>Entries!$K$20,\"TBC\",LARGE(Tables!$E$93:$E$125,1))","v":572},{"$f":"IF($K$1>Entries!$K$20,\"TBC\",LARGE(Tables!$E$93:$E$125,2))","v":0},{"$f":"IF($K$1>Entries!$K$20,\"TBC\",LARGE(Tables!$E$93:$E$125,3))","v":0},{"$f":"IF($K$1>Entries!$K$20,\"TBC\",SUM(K3:M3))","v":572},{"$f":"IF($O$1>Entries!$K$20,\"TBC\",LARGE(Tables!$F$93:$F$125,1))","v":557},{"$f":"IF($O$1>Entries!$K$20,\"TBC\",LARGE(Tables!$F$93:$F$125,2))","v":542},{"$f":"IF($O$1>Entries!$K$20,\"TBC\",LARGE(Tables!$F$93:$F$125,3))","v":516},{"$f":"IF($O$1>Entries!$K$20,\"TBC\",SUM(O3:Q3))","v":1615},{"$f":"IF($S$1>Entries!$K$20,\"TBC\",LARGE(Tables!$G$93:$G$125,1))","v":557},{"$f":"IF($S$1>Entries!$K$20,\"TBC\",LARGE(Tables!$G$93:$G$125,2))","v":544},{"$f":"IF($S$1>Entries!$K$20,\"TBC\",LARGE(Tables!$G$93:$G$125,3))","v":0},{"$f":"IF($S$1>Entries!$K$20,\"TBC\",SUM(S3:U3))","v":1101},{"$f":"IF($W$1>Entries!$K$20,\"TBC\",LARGE(Tables!$H$93:$H$125,1))","v":569},{"$f":"IF($W$1>Entries!$K$20,\"TBC\",LARGE(Tables!$H$93:$H$125,2))","v":522},{"$f":"IF($W$1>Entries!$K$20,\"TBC\",LARGE(Tables!$H$93:$H$125,3))","v":0},{"$f":"IF($W$1>Entries!$K$20,\"TBC\",SUM(W3:Y3))","v":1091},1592,1605,572,1615,1101,1091,7576,572,7576]
[null,"DIT",{"$f":"IF($C$1>Entries!$K$20,\"TBC\",LARGE(Tables!$O$93:$O$125,1))","v":564},{"$f":"IF($C$1>Entries!$K$20,\"TBC\",LARGE(Tables!$O$93:$O$125,2))","v":0},{"$f":"IF($C$1>Entries!$K$20,\"TBC\",LARGE(Tables!$O$93:$O$125,3))","v":0},{"$f":"IF($C$1>Entries!$K$20,\"TBC\",SUM(C4:E4))","v":564},{"$f":"IF($G$1>Entries!$K$20,\"TBC\",LARGE(Tables!$P$93:$P$125,1))","v":566},{"$f":"IF($G$1>Entries!$K$20,\"TBC\",LARGE(Tables!$P$93:$P$125,2))","v":513},{"$f":"IF($G$1>Entries!$K$20,\"TBC\",LARGE(Tables!$P$93:$P$125,3))","v":0},{"$f":"IF($G$1>Entries!$K$20,\"TBC\",SUM(G4:I4))","v":1079},{"$f":"IF($K$1>Entries!$K$20,\"TBC\",LARGE(Tables!$Q$93:$Q$125,1))","v":570},{"$f":"IF($K$1>Entries!$K$20,\"TBC\",LARGE(Tables!$Q$93:$Q$125,2))","v":524},{"$f":"IF($K$1>Entries!$K$20,\"TBC\",LARGE(Tables!$Q$93:$Q$125,3))","v":0},{"$f":"IF($K$1>Entries!$K$20,\"TBC\",SUM(K4:M4))","v":1094},{"$f":"IF($O$1>Entries!$K$20,\"TBC\",LARGE(Tables!$R$93:$R$125,1))","v":0},{"$f":"IF($O$1>Entries!$K$20,\"TBC\",LARGE(Tables!$R$93:$R$125,2))","v":0},{"$f":"IF($O$1>Entries!$K$20,\"TBC\",LARGE(Tables!$R$93:$R$125,3))","v":0},{"$f":"IF($O$1>Entries!$K$20,\"TBC\",SUM(O4:Q4))","v":0},{"$f":"IF($S$1>Entries!$K$20,\"TBC\",LARGE(Tables!$S$93:$S$125,1))","v":514},{"$f":"IF($S$1>Entries!$K$20,\"TBC\",LARGE(Tables!$S$93:$S$125,2))","v":0},{"$f":"IF($S$1>Entries!$K$20,\"TBC\",LARGE(Tables!$S$93:$S$125,3))","v":0},{"$f":"IF($S$1>Entries!$K$20,\"TBC\",SUM(S4:U4))","v":514},{"$f":"IF($W$1>Entries!$K$20,\"TBC\",LARGE(Tables!$T$93:$T$125,1))","v":513},{"$f":"IF($W$1>Entries!$K$20,\"TBC\",LARGE(Tables!$T$93:$T$125,2))","v":0},{"$f":"IF($W$1>Entries!$K$20,\"TBC\",LARGE(Tables!$T$93:$T$125,3))","v":0},{"$f":"IF($W$1>Entries!$K$20,\"TBC\",SUM(W4:Y4))","v":513},564,1079,1094,0,514,513,3764,0,3764]
[null,"UCC",{"$f":"IF($C$1>Entries!$K$20,\"TBC\",LARGE(Tables!$EQ$93:$EQ$125,1))","v":534},{"$f":"IF($C$1>Entries!$K$20,\"TBC\",LARGE(Tables!$EQ$93:$EQ$125,2))","v":0},{"$f":"IF($C$1>Entries!$K$20,\"TBC\",LARGE(Tables!$EQ$93:$EQ$125,3))","v":0},{"$f":"IF($C$1>Entries!$K$20,\"TBC\",SUM(C5:E5))","v":534},{"$f":"IF($G$1>Entries!$K$20,\"TBC\",LARGE(Tables!$ER$93:$ER$125,1))","v":550},{"$f":"IF($G$1>Entries!$K$20,\"TBC\",LARGE(Tables!$ER$93:$ER$125,2))","v":0},{"$f":"IF($G$1>Entries!$K$20,\"TBC\",LARGE(Tables!$ER$93:$ER$125,3))","v":0},{"$f":"IF($G$1>Entries!$K$20,\"TBC\",SUM(G5:I5))","v":550},{"$f":"IF($K$1>Entries!$K$20,\"TBC\",LARGE(Tables!$ES$93:$ES$125,1))","v":553},{"$f":"IF($K$1>Entries!$K$20,\"TBC\",LARGE(Tables!$ES$93:$ES$125,2))","v":0},{"$f":"IF($K$1>Entries!$K$20,\"TBC\",LARGE(Tables!$ES$93:$ES$125,3))","v":0},{"$f":"IF($K$1>Entries!$K$20,\"TBC\",SUM(K5:M5))","v":553},{"$f":"IF($O$1>Entries!$K$20,\"TBC\",LARGE(Tables!$ET$93:$ET$125,1))","v":0},{"$f":"IF($O$1>Entries!$K$20,\"TBC\",LARGE(Tables!$ET$93:$ET$125,2))","v":0},{"$f":"IF($O$1>Entries!$K$20,\"TBC\",LARGE(Tables!$ET$93:$ET$125,3))","v":0},{"$f":"IF($O$1>Entries!$K$20,\"TBC\",SUM(O5:Q5))","v":0},{"$f":"IF($S$1>Entries!$K$20,\"TBC\",LARGE(Tables!$EU$93:$EU$125,1))","v":554},{"$f":"IF($S$1>Entries!$K$20,\"TBC\",LARGE(Tables!$EU$93:$EU$125,2))","v":491},{"$f":"IF($S$1>Entries!$K$20,\"TBC\",LARGE(Tables!$EU$93:$EU$125,3))","v":0},{"$f":"IF($S$1>Entries!$K$20,\"TBC\",SUM(S5:U5))","v":1045},{"$f":"IF($W$1>Entries!$K$20,\"TBC\",LARGE(Tables!$EV$93:$EV$125,1))","v":559},{"$f":"IF($W$1>Entries!$K$20,\"TBC\",LARGE(Tables!$EV$93:$EV$125,2))","v":0},{"$f":"IF($W$1>Entries!$K$20,\"TBC\",LARGE(Tables!$EV$93:$EV$125,3))","v":0},{"$f":"IF($W$1>Entries!$K$20,\"TBC\",SUM(W5:Y5))","v":559},534,550,553,0,1045,559,3241,0,3241]
[null,"NUIM",{"$f":"IF($C$1>Entries!$K$20,\"TBC\",LARGE(Tables!$CU$93:$CU$125,1))","v":506},{"$f":"IF($C$1>Entries!$K$20,\"TBC\",LARGE(Tables!$CU$93:$CU$125,2))","v":0},{"$f":"IF($C$1>Entries!$K$20,\"TBC\",LARGE(Tables!$CU$93:$CU$125,3))","v":0},{"$f":"IF($C$1>Entries!$K$20,\"TBC\",SUM(C6:E6))","v":506},{"$f":"IF($G$1>Entries!$K$20,\"TBC\",LARGE(Tables!$CV$93:$CV$125,1))","v":479},{"$f":"IF($G$1>Entries!$K$20,\"TBC\",LARGE(Tables!$CV$93:$CV$125,2))","v":0},{"$f":"IF($G$1>Entries!$K$20,\"TBC\",LARGE(Tables!$CV$93:$CV$125,3))","v":0},{"$f":"IF($G$1>Entries!$K$20,\"TBC\",SUM(G6:I6))","v":479},{"$f":"IF($K$1>Entries!$K$20,\"TBC\",LARGE(Tables!$CW$93:$CW$125,1))","v":510},{"$f":"IF($K$1>Entries!$K$20,\"TBC\",LARGE(Tables!$CW$93:$CW$125,2))","v":0},{"$f":"IF($K$1>Entries!$K$20,\"TBC\",LARGE(Tables!$CW$93:$CW$125,3))","v":0},{"$f":"IF($K$1>Entries!$K$20,\"TBC\",SUM(K6:M6))","v":510},{"$f":"IF($O$1>Entries!$K$20,\"TBC\",LARGE(Tables!$CX$93:$CX$125,1))","v":495},{"$f":"IF($O$1>Entries!$K$20,\"TBC\",LARGE(Tables!$CX$93:$CX$125,2))","v":0},{"$f":"IF($O$1>Entries!$K$20,\"TBC\",LARGE(Tables!$CX$93:$CX$125,3))","v":0},{"$f":"IF($O$1>Entries!$K$20,\"TBC\",SUM(O6:Q6))","v":495},{"$f":"IF($S$1>Entries!$K$20,\"TBC\",LARGE(Tables!$CY$93:$CY$125,1))","v":524},{"$f":"IF($S$1>Entries!$K$20,\"TBC\",LARGE(Tables!$CY$93:$CY$125,2))","v":0},{"$f":"IF($S$1>Entries!$K$20,\"TBC\",LARGE(Tables!$CY$93:$CY$125,3))","v":0},{"$f":"IF($S$1>Entries!$K$20,\"TBC\",SUM(S6:U6))","v":524},{"$f":"IF($W$1>Entries!$K$20,\"TBC\",LARGE(Tables!$CZ$93:$CZ$125,1))","v":512},{"$f":"IF($W$1>Entries!$K$20,\"TBC\",LARGE(Tables!$CZ$93:$CZ$125,2))","v":0},{"$f":"IF($W$1>Entries!$K$20,\"TBC\",LARGE(Tables!$CZ$93:$CZ$125,3))","v":0},{"$f":"IF($W$1>Entries!$K$20,\"TBC\",SUM(W6:Y6))","v":512},506,479,510,495,524,512,3026,479,3026]
[null,"CD",{"$f":"IF($C$1>Entries!$K$20,\"TBC\",LARGE(Tables!$DG$93:$DG$125,1))","v":555},{"$f":"IF($C$1>Entries!$K$20,\"TBC\",LARGE(Tables!$DG$93:$DG$125,2))","v":0},{"$f":"IF($C$1>Entries!$K$20,\"TBC\",LARGE(Tables!$DG$93:$DG$125,3))","v":0},{"$f":"IF($C$1>Entries!$K$20,\"TBC\",SUM(C7:E7))","v":555},{"$f":"IF($G$1>Entries!$K$20,\"TBC\",LARGE(Tables!$DH$93:$DH$125,1))","v":546},{"$f":"IF($G$1>Entries!$K$20,\"TBC\",LARGE(Tables!$DH$93:$DH$125,2))","v":0},{"$f":"IF($G$1>Entries!$K$20,\"TBC\",LARGE(Tables!$DH$93:$DH$125,3))","v":0},{"$f":"IF($G$1>Entries!$K$20,\"TBC\",SUM(G7:I7))","v":546},{"$f":"IF($K$1>Entries!$K$20,\"TBC\",LARGE(Tables!$DI$93:$DI$125,1))","v":557},{"$f":"IF($K$1>Entries!$K$20,\"TBC\",LARGE(Tables!$DI$93:$DI$125,2))","v":0},{"$f":"IF($K$1>Entries!$K$20,\"TBC\",LARGE(Tables!$DI$93:$DI$125,3))","v":0},{"$f":"IF($K$1>Entries!$K$20,\"TBC\",SUM(K7:M7))","v":557},{"$f":"IF($O$1>Entries!$K$20,\"TBC\",LARGE(Tables!$DJ$93:$DJ$125,1))","v":0},{"$f":"IF($O$1>Entries!$K$20,\"TBC\",LARGE(Tables!$DJ$93:$DJ$125,2))","v":0},{"$f":"IF($O$1>Entries!$K$20,\"TBC\",LARGE(Tables!$DJ$93:$DJ$125,3))","v":0},{"$f":"IF($O$1>Entries!$K$20,\"TBC\",SUM(O7:Q7))","v":0},{"$f":"IF($S$1>Entries!$K$20,\"TBC\",LARGE(Tables!$DK$93:$DK$125,1))","v":0},{"$f":"IF($S$1>Entries!$K$20,\"TBC\",LARGE(Tables!$DK$93:$DK$125,2))","v":0},{"$f":"IF($S$1>Entries!$K$20,\"TBC\",LARGE(Tables!$DK$93:$DK$125,3))","v":0},{"$f":"IF($S$1>Entries!$K$20,\"TBC\",SUM(S7:U7))","v":0},{"$f":"IF($W$1>Entries!$K$20,\"TBC\",LARGE(Tables!$DL$93:$DL$125,1))","v":560},{"$f":"IF($W$1>Entries!$K$20,\"TBC\",LARGE(Tables!$DL$93:$DL$125,2))","v":0},{"$f":"IF($W$1>Entries!$K$20,\"TBC\",LARGE(Tables!$DL$93:$DL$125,3))","v":0},{"$f":"IF($W$1>Entries!$K$20,\"TBC\",SUM(W7:Y7))","v":560},555,546,557,0,0,560,2218,0,2218]
[null,"GMITC",{"$f":"IF($C$1>Entries!$K$20,\"TBC\",LARGE(Tables!$BK$93:$BK$125,1))","v":528},{"$f":"IF($C$1>Entries!$K$20,\"TBC\",LARGE(Tables!$BK$93:$BK$125,2))","v":0},{"$f":"IF($C$1>Entries!$K$20,\"TBC\",LARGE(Tables!$BK$93:$BK$125,3))","v":0},{"$f":"IF($C$1>Entries!$K$20,\"TBC\",SUM(C8:E8))","v":528},{"$f":"IF($G$1>Entries!$K$20,\"TBC\",LARGE(Tables!$BL$93:$BL$125,1))","v":533},{"$f":"IF($G$1>Entries!$K$20,\"TBC\",LARGE(Tables!$BL$93:$BL$125,2))","v":0},{"$f":"IF($G$1>Entries!$K$20,\"TBC\",LARGE(Tables!$BL$93:$BL$125,3))","v":0},{"$f":"IF($G$1>Entries!$K$20,\"TBC\",SUM(G8:I8))","v":533},{"$f":"IF($K$1>Entries!$K$20,\"TBC\",LARGE(Tables!$BM$93:$BM$125,1))","v":512},{"$f":"IF($K$1>Entries!$K$20,\"TBC\",LARGE(Tables!$BM$93:$BM$125,2))","v":0},{"$f":"IF($K$1>Entries!$K$20,\"TBC\",LARGE(Tables!$BM$93:$BM$125,3))","v":0},{"$f":"IF($K$1>Entries!$K$20,\"TBC\",SUM(K8:M8))","v":512},{"$f":"IF($O$1>Entries!$K$20,\"TBC\",LARGE(Tables!$BN$93:$BN$125,1))","v":0},{"$f":"IF($O$1>Entries!$K$20,\"TBC\",LARGE(Tables!$BN$93:$BN$125,2))","v":0},{"$f":"IF($O$1>Entries!$K$20,\"TBC\",LARGE(Tables!$BN$93:$BN$125,3))","v":0},{"$f":"IF($O$1>Entries!$K$20,\"TBC\",SUM(O8:Q8))","v":0},{"$f":"IF($S$1>Entries!$K$20,\"TBC\",LARGE(Tables!$BO$93:$BO$125,1))","v":0},{"$f":"IF($S$1>Entries!$K$20,\"TBC\",LARGE(Tables!$BO$93:$BO$125,2))","v":0},{"$f":"IF($S$1>Entries!$K$20,\"TBC\",LARGE(Tables!$BO$93:$BO$125,3))","v":0},{"$f":"IF($S$1>Entries!$K$20,\"TBC\",SUM(S8:U8))","v":0},{"$f":"IF($W$1>Entries!$K$20,\"TBC\",LARGE(Tables!$BP$93:$BP$125,1))","v":0},{"$f":"IF($W$1>Entries!$K$20,\"TBC\",LARGE(Tables!$BP$93:$BP$125,2))","v":0},{"$f":"IF($W$1>Entries!$K$20,\"TBC\",LARGE(Tables!$BP$93:$BP$125,3))","v":0},{"$f":"IF($W$1>Entries!$K$20,\"TBC\",SUM(W8:Y8))","v":0},528,533,512,0,0,0,1573,0,1573]
[null,"GMIT",{"$f":"IF($C$1>Entries!$K$20,\"TBC\",LARGE(Tables!$AY$93:$AY$125,1))","v":515},{"$f":"IF($C$1>Entries!$K$20,\"TBC\",LARGE(Tables!$AY$93:$AY$125,2))","v":0},{"$f":"IF($C$1>Entries!$K$20,\"TBC\",LARGE(Tables!$AY$93:$AY$125,3))","v":0},{"$f":"IF($C$1>Entries!$K$20,\"TBC\",SUM(C9:E9))","v":515},{"$f":"IF($G$1>Entries!$K$20,\"TBC\",LARGE(Tables!$AZ$93:$AZ$125,1))","v":512},{"$f":"IF($G$1>Entries!$K$20,\"TBC\",LARGE(Tables!$AZ$93:$AZ$125,2))","v":0},{"$f":"IF($G$1>Entries!$K$20,\"TBC\",LARGE(Tables!$AZ$93:$AZ$125,3))","v":0},{"$f":"IF($G$1>Entries!$K$20,\"TBC\",SUM(G9:I9))","v":512},{"$f":"IF($K$1>Entries!$K$20,\"TBC\",LARGE(Tables!$BA$93:$BA$125,1))","v":527},{"$f":"IF($K$1>Entries!$K$20,\"TBC\",LARGE(Tables!$BA$93:$BA$125,2))","v":0},{"$f":"IF($K$1>Entries!$K$20,\"TBC\",LARGE(Tables!$BA$93:$BA$125,3))","v":0},{"$f":"IF($K$1>Entries!$K$20,\"TBC\",SUM(K9:M9))","v":527},{"$f":"IF($O$1>Entries!$K$20,\"TBC\",LARGE(Tables!$BB$93:$BB$125,1))","v":0},{"$f":"IF($O$1>Entries!$K$20,\"TBC\",LARGE(Tables!$BB$93:$BB$125,2))","v":0},{"$f":"IF($O$1>Entries!$K$20,\"TBC\",LARGE(Tables!$BB$93:$BB$125,3))","v":0},{"$f":"IF($O$1>Entries!$K$20,\"TBC\",SUM(O9:Q9))","v":0},{"$f":"IF($S$1>Entries!$K$20,\"TBC\",LARGE(Tables!$BC$93:$BC$125,1))","v":0},{"$f":"IF($S$1>Entries!$K$20,\"TBC\",LARGE(Tables!$BC$93:$BC$125,2))","v":0},{"$f":"IF($S$1>Entries!$K$20,\"TBC\",LARGE(Tables!$BC$93:$BC$125,3))","v":0},{"$f":"IF($S$1>Entries!$K$20,\"TBC\",SUM(S9:U9))","v":0},{"$f":"IF($W$1>Entries!$K$20,\"TBC\",LARGE(Tables!$BD$93:$BD$125,1))","v":0},{"$f":"IF($W$1>Entries!$K$20,\"TBC\",LARGE(Tables!$BD$93:$BD$125,2))","v":0},{"$f":"IF($W$1>Entries!$K$20,\"TBC\",LARGE(Tables!$BD$93:$BD$125,3))","v":0},{"$f":"IF($W$1>Entries!$K$20,\"TBC\",SUM(W9:Y9))","v":0},515,512,527,0,0,0,1554,0,1554]
[null,"ITC",{"$f":"IF($C$1>Entries!$K$20,\"TBC\",LARGE(Tables!$CI$93:$CI$125,1))","v":362},{"$f":"IF($C$1>Entries!$K$20,\"TBC\",LARGE(Tables!$CI$93:$CI$125,2))","v":0},{"$f":"IF($C$1>Entries!$K$20,\"TBC\",LARGE(Tables!$CI$93:$CI$125,3))","v":0},{"$f":"IF($C$1>Entries!$K$20,\"TBC\",SUM(C10:E10))","v":362},{"$f":"IF($G$1>Entries!$K$20,\"TBC\",LARGE(Tables!$CJ$93:$CJ$125,1))","v":0},{"$f":"IF($G$1>Entries!$K$20,\"TBC\",LARGE(Tables!$CJ$93:$CJ$125,2))","v":0},{"$f":"IF($G$1>Entries!$K$20,\"TBC\",LARGE(Tables!$CJ$93:$CJ$125,3))","v":0},{"$f":"IF($G$1>Entries!$K$20,\"TBC\",SUM(G10:I10))","v":0},{"$f":"IF($K$1>Entries!$K$20,\"TBC\",LARGE(Tables!$CK$93:$CK$125,1))","v":0},{"$f":"IF($K$1>Entries!$K$20,\"TBC\",LARGE(Tables!$CK$93:$CK$125,2))","v":0},{"$f":"IF($K$1>Entries!$K$20,\"TBC\",LARGE(Tables!$CK$93:$CK$125,3))","v":0},{"$f":"IF($K$1>Entries!$K$20,\"TBC\",SUM(K10:M10))","v":0},{"$f":"IF($O$1>Entries!$K$20,\"TBC\",LARGE(Tables!$CL$93:$CL$125,1))","v":0},{"$f":"IF($O$1>Entries!$K$20,\"TBC\",LARGE(Tables!$CL$93:$CL$125,2))","v":0},{"$f":"IF($O$1>Entries!$K$20,\"TBC\",LARGE(Tables!$CL$93:$CL$125,3))","v":0},{"$f":"IF($O$1>Entries!$K$20,\"TBC\",SUM(O10:Q10))","v":0},{"$f":"IF($S$1>Entries!$K$20,\"TBC\",LARGE(Tables!$CM$93:$CM$125,1))","v":0},{"$f":"IF($S$1>Entries!$K$20,\"TBC\",LARGE(Tables!$CM$93:$CM$125,2))","v":0},{"$f":"IF($S$1>Entries!$K$20,\"TBC\",LARGE(Tables!$CM$93:$CM$125,3))","v":0},{"$f":"IF($S$1>Entries!$K$20,\"TBC\",SUM(S10:U10))","v":0},{"$f":"IF($W$1>Entries!$K$20,\"TBC\",LARGE(Tables!CN$93:CN$125,1))","v":0},{"$f":"IF($W$1>Entries!$K$20,\"TBC\",LARGE(Tables!CN$93:CN$125,2))","v":0},{"$f":"IF($W$1>Entries!$K$20,\"TBC\",LARGE(Tables!CN$93:CN$125,3))","v":0},{"$f":"IF($W$1>Entries!$K$20,\"TBC\",SUM(W10:Y10))","v":0},362,0,0,0,0,0,362,0,362]
[null,"UU",{"$f":"IF($C$1>Entries!$K$20,\"TBC\",LARGE(Tables!$GA$93:$GA$125,1))","v":0},{"$f":"IF($C$1>Entries!$K$20,\"TBC\",LARGE(Tables!$GA$93:$GA$125,2))","v":0},{"$f":"IF($C$1>Entries!$K$20,\"TBC\",LARGE(Tables!$GA$93:$GA$125,3))","v":0},{"$f":"IF($C$1>Entries!$K$20,\"TBC\",SUM(C11:E11))","v":0},{"$f":"IF($G$1>Entries!$K$20,\"TBC\",LARGE(Tables!$GB$93:$GB$125,1))","v":0},{"$f":"IF($G$1>Entries!$K$20,\"TBC\",LARGE(Tables!$GB$93:$GB$125,2))","v":0},{"$f":"IF($G$1>Entries!$K$20,\"TBC\",LARGE(Tables!$GB$93:$GB$125,3))","v":0},{"$f":"IF($G$1>Entries!$K$20,\"TBC\",SUM(G11:I11))","v":0},{"$f":"IF($K$1>Entries!$K$20,\"TBC\",LARGE(Tables!$GC$93:$GC$125,1))","v":0},{"$f":"IF($K$1>Entries!$K$20,\"TBC\",LARGE(Tables!$GC$93:$GC$125,2))","v":0},{"$f":"IF($K$1>Entries!$K$20,\"TBC\",LARGE(Tables!$GC$93:$GC$125,3))","v":0},{"$f":"IF($K$1>Entries!$K$20,\"TBC\",SUM(K11:M11))","v":0},{"$f":"IF($O$1>Entries!$K$20,\"TBC\",LARGE(Tables!$GD$93:$GD$125,1))","v":0},{"$f":"IF($O$1>Entries!$K$20,\"TBC\",LARGE(Tables!$GD$93:$GD$125,2))","v":0},{"$f":"IF($O$1>Entries!$K$20,\"TBC\",LARGE(Tables!$GD$93:$GD$125,3))","v":0},{"$f":"IF($O$1>Entries!$K$20,\"TBC\",SUM(O11:Q11))","v":0},{"$f":"IF($S$1>Entries!$K$20,\"TBC\",LARGE(Tables!$GE$93:$GE$125,1))","v":0},{"$f":"IF($S$1>Entries!$K$20,\"TBC\",LARGE(Tables!$GE$93:$GE$125,2))","v":0},{"$f":"IF($S$1>Entries!$K$20,\"TBC\",LARGE(Tables!$GE$93:$GE$125,3))","v":0},{"$f":"IF($S$1>Entries!$K$20,\"TBC\",SUM(S11:U11))","v":0},{"$f":"IF($W$1>Entries!$K$20,\"TBC\",LARGE(Tables!$GF$93:$GF$125,1))","v":0},{"$f":"IF($W$1>Entries!$K$20,\"TBC\",LARGE(Tables!$GF$93:$GF$125,2))","v":0},{"$f":"IF($W$1>Entries!$K$20,\"TBC\",LARGE(Tables!$GF$93:$GF$125,3))","v":0},{"$f":"IF($W$1>Entries!$K$20,\"TBC\",SUM(W11:Y11))","v":0},0,0,0,0,0,0,0,0,{"$f":"AG11-AH11+(LARGE(AA11:AF11,1)/10000)+(LARGE(AA11:AF11,2)/100000000)","v":0}]
[null,"IT Tallaght",{"$f":"IF($C$1>Entries!$K$20,\"TBC\",LARGE(Tables!$BW$93:$BW$125,1))","v":0},{"$f":"IF($C$1>Entries!$K$20,\"TBC\",LARGE(Tables!$BW$93:$BW$125,2))","v":0},{"$f":"IF($C$1>Entries!$K$20,\"TBC\",LARGE(Tables!$BW$93:$BW$125,3))","v":0},{"$f":"IF($C$1>Entries!$K$20,\"TBC\",SUM(C12:E12))","v":0},{"$f":"IF($G$1>Entries!$K$20,\"TBC\",LARGE(Tables!$BX$93:$BX$125,1))","v":0},{"$f":"IF($G$1>Entries!$K$20,\"TBC\",LARGE(Tables!$BX$93:$BX$125,2))","v":0},{"$f":"IF($G$1>Entries!$K$20,\"TBC\",LARGE(Tables!$BX$93:$BX$125,3))","v":0},{"$f":"IF($G$1>Entries!$K$20,\"TBC\",SUM(G12:I12))","v":0},{"$f":"IF($K$1>Entries!$K$20,\"TBC\",LARGE(Tables!$BY$93:$BY$125,1))","v":0},{"$f":"IF($K$1>Entries!$K$20,\"TBC\",LARGE(Tables!$BY$93:$BY$125,2))","v":0},{"$f":"IF($K$1>Entries!$K$20,\"TBC\",LARGE(Tables!$BY$93:$BY$125,3))","v":0},{"$f":"IF($K$1>Entries!$K$20,\"TBC\",SUM(K12:M12))","v":0},{"$f":"IF($O$1>Entries!$K$20,\"TBC\",LARGE(Tables!$BZ$93:$BZ$125,1))","v":0},{"$f":"IF($O$1>Entries!$K$20,\"TBC\",LARGE(Tables!$BZ$93:$BZ$125,2))","v":0},{"$f":"IF($O$1>Entries!$K$20,\"TBC\",LARGE(Tables!$BZ$93:$BZ$125,3))","v":0},{"$f":"IF($O$1>Entries!$K$20,\"TBC\",SUM(O12:Q12))","v":0},{"$f":"IF($S$1>Entries!$K$20,\"TBC\",LARGE(Tables!$CA$93:$CA$125,1))","v":0},{"$f":"IF($S$1>Entries!$K$20,\"TBC\",LARGE(Tables!$CA$93:$CA$125,2))","v":0},{"$f":"IF($S$1>Entries!$K$20,\"TBC\",LARGE(Tables!$CA$93:$CA$125,3))","v":0},{"$f":"IF($S$1>Entries!$K$20,\"TBC\",SUM(S12:U12))","v":0},{"$f":"IF($W$1>Entries!$K$20,\"TBC\",LARGE(Tables!$CB$93:$CB$125,1))","v":0},{"$f":"IF($W$1>Entries!$K$20,\"TBC\",LARGE(Tables!$CB$93:$CB$125,2))","v":0},{"$f":"IF($W$1>Entries!$K$20,\"TBC\",LARGE(Tables!$CB$93:$CB$125,3))","v":0},{"$f":"IF($W$1>Entries!$K$20,\"TBC\",SUM(W12:Y12))","v":0},0,0,0,0,0,0,0,0,0]
[null,"BCFE",{"$f":"IF($C$1>Entries!$K$20,\"TBC\",LARGE(Tables!$AM$93:$AM$125,1))","v":0},{"$f":"IF($C$1>Entries!$K$20,\"TBC\",LARGE(Tables!$AM$93:$AM$125,2))","v":0},{"$f":"IF($C$1>Entries!$K$20,\"TBC\",LARGE(Tables!$AM$93:$AM$125,3))","v":0},{"$f":"IF($C$1>Entries!$K$20,\"TBC\",SUM(C13:E13))","v":0},{"$f":"IF($G$1>Entries!$K$20,\"TBC\",LARGE(Tables!$AN$93:$AN$125,1))","v":0},{"$f":"IF($G$1>Entries!$K$20,\"TBC\",LARGE(Tables!$AN$93:$AN$125,2))","v":0},{"$f":"IF($G$1>Entries!$K$20,\"TBC\",LARGE(Tables!$AN$93:$AN$125,3))","v":0},{"$f":"IF($G$1>Entries!$K$20,\"TBC\",SUM(G13:I13))","v":0},{"$f":"IF($K$1>Entries!$K$20,\"TBC\",LARGE(Tables!$AO$93:$AO$125,1))","v":0},{"$f":"IF($K$1>Entries!$K$20,\"TBC\",LARGE(Tables!$AO$93:$AO$125,2))","v":0},{"$f":"IF($K$1>Entries!$K$20,\"TBC\",LARGE(Tables!$AO$93:$AO$125,3))","v":0},{"$f":"IF($K$1>Entries!$K$20,\"TBC\",SUM(K13:M13))","v":0},{"$f":"IF($O$1>Entries!$K$20,\"TBC\",LARGE(Tables!$AP$93:$AP$125,1))","v":0},{"$f":"IF($O$1>Entries!$K$20,\"TBC\",LARGE(Tables!$AP$93:$AP$125,2))","v":0},{"$f":"IF($O$1>Entries!$K$20,\"TBC\",LARGE(Tables!$AP$93:$AP$125,3))","v":0},{"$f":"IF($O$1>Entries!$K$20,\"TBC\",SUM(O13:Q13))","v":0},{"$f":"IF($S$1>Entries!$K$20,\"TBC\",LARGE(Tables!$AQ$93:$AQ$125,1))","v":0},{"$f":"IF($S$1>Entries!$K$20,\"TBC\",LARGE(Tables!$AQ$93:$AQ$125,2))","v":0},{"$f":"IF($S$1>Entries!$K$20,\"TBC\",LARGE(Tables!$AQ$93:$AQ$125,3))","v":0},{"$f":"IF($S$1>Entries!$K$20,\"TBC\",SUM(S13:U13))","v":0},{"$f":"IF($W$1>Entries!$K$20,\"TBC\",LARGE(Tables!$AR$93:$AR$125,1))","v":0},{"$f":"IF($W$1>Entries!$K$20,\"TBC\",LARGE(Tables!$AR$93:$AR$125,2))","v":0},{"$f":"IF($W$1>Entries!$K$20,\"TBC\",LARGE(Tables!$AR$93:$AR$125,3))","v":0},{"$f":"IF($W$1>Entries!$K$20,\"TBC\",SUM(W13:Y13))","v":0},0,0,0,0,0,0,0,0,0]
[null,"UCD",{"$f":"IF($C$1>Entries!$K$20,\"TBC\",LARGE(Tables!$FC$93:$FC$125,1))","v":0},{"$f":"IF($C$1>Entries!$K$20,\"TBC\",LARGE(Tables!$FC$93:$FC$125,2))","v":0},{"$f":"IF($C$1>Entries!$K$20,\"TBC\",LARGE(Tables!$FC$93:$FC$125,3))","v":0},{"$f":"IF($C$1>Entries!$K$20,\"TBC\",SUM(C14:E14))","v":0},{"$f":"IF($G$1>Entries!$K$20,\"TBC\",LARGE(Tables!$FD$93:$FD$125,1))","v":0},{"$f":"IF($G$1>Entries!$K$20,\"TBC\",LARGE(Tables!$FD$93:$FD$125,2))","v":0},{"$f":"IF($G$1>Entries!$K$20,\"TBC\",LARGE(Tables!$FD$93:$FD$125,3))","v":0},{"$f":"IF($G$1>Entries!$K$20,\"TBC\",SUM(G14:I14))","v":0},{"$f":"IF($K$1>Entries!$K$20,\"TBC\",LARGE(Tables!$FE$93:$FE$125,1))","v":0},{"$f":"IF($K$1>Entries!$K$20,\"TBC\",LARGE(Tables!$FE$93:$FE$125,2))","v":0},{"$f":"IF($K$1>Entries!$K$20,\"TBC\",LARGE(Tables!$FE$93:$FE$125,3))","v":0},{"$f":"IF($K$1>Entries!$K$20,\"TBC\",SUM(K14:M14))","v":0},{"$f":"IF($O$1>Entries!$K$20,\"TBC\",LARGE(Tables!$FF$93:$FF$125,1))","v":0},{"$f":"IF($O$1>Entries!$K$20,\"TBC\",LARGE(Tables!$FF$93:$FF$125,2))","v":0},{"$f":"IF($O$1>Entries!$K$20,\"TBC\",LARGE(Tables!$FF$93:$FF$125,3))","v":0},{"$f":"IF($O$1>Entries!$K$20,\"TBC\",SUM(O14:Q14))","v":0},{"$f":"IF($S$1>Entries!$K$20,\"TBC\",LARGE(Tables!$FG$93:$FG$125,1))","v":0},{"$f":"IF($S$1>Entries!$K$20,\"TBC\",LARGE(Tables!$FG$93:$FG$125,2))","v":0},{"$f":"IF($S$1>Entries!$K$20,\"TBC\",LARGE(Tables!$FG$93:$FG$125,3))","v":0},{"$f":"IF($S$1>Entries!$K$20,\"TBC\",SUM(S14:U14))","v":0},{"$f":"IF($W$1>Entries!$K$20,\"TBC\",LARGE(Tables!$FH$93:$FH$125,1))","v":0},{"$f":"IF($W$1>Entries!$K$20,\"TBC\",LARGE(Tables!$FH$93:$FH$125,2))","v":0},{"$f":"IF($W$1>Entries!$K$20,\"TBC\",LARGE(Tables!$FH$93:$FH$125,3))","v":0},{"$f":"IF($W$1>Entries!$K$20,\"TBC\",SUM(W14:Y14))","v":0},0,0,0,0,0,0,0,0,0]
[null,"DKIT",{"$f":"IF($C$1>Entries!$K$20,\"TBC\",LARGE(Tables!$AA$93:$AA$125,1))","v":0},{"$f":"IF($C$1>Entries!$K$20,\"TBC\",LARGE(Tables!$AA$93:$AA$125,2))","v":0},{"$f":"IF($C$1>Entries!$K$20,\"TBC\",LARGE(Tables!$AA$93:$AA$125,3))","v":0},{"$f":"IF($C$1>Entries!$K$20,\"TBC\",SUM(C15:E15))","v":0},{"$f":"IF($G$1>Entries!$K$20,\"TBC\",LARGE(Tables!$AB$93:$AB$125,1))","v":0},{"$f":"IF($G$1>Entries!$K$20,\"TBC\",LARGE(Tables!$AB$93:$AB$125,2))","v":0},{"$f":"IF($G$1>Entries!$K$20,\"TBC\",LARGE(Tables!$AB$93:$AB$125,3))","v":0},{"$f":"IF($G$1>Entries!$K$20,\"TBC\",SUM(G15:I15))","v":0},{"$f":"IF($K$1>Entries!$K$20,\"TBC\",LARGE(Tables!$AC$93:$AC$125,1))","v":0},{"$f":"IF($K$1>Entries!$K$20,\"TBC\",LARGE(Tables!$AC$93:$AC$125,2))","v":0},{"$f":"IF($K$1>Entries!$K$20,\"TBC\",LARGE(Tables!$AC$93:$AC$125,3))","v":0},{"$f":"IF($K$1>Entries!$K$20,\"TBC\",SUM(K15:M15))","v":0},{"$f":"IF($O$1>Entries!$K$20,\"TBC\",LARGE(Tables!$AD$93:$AD$125,1))","v":0},{"$f":"IF($O$1>Entries!$K$20,\"TBC\",LARGE(Tables!$AD$93:$AD$125,2))","v":0},{"$f":"IF($O$1>Entries!$K$20,\"TBC\",LARGE(Tables!$AD$93:$AD$125,3))","v":0},{"$f":"IF($O$1>Entries!$K$20,\"TBC\",SUM(O15:Q15))","v":0},{"$f":"IF($S$1>Entries!$K$20,\"TBC\",LARGE(Tables!$AE$93:$AE$125,1))","v":0},{"$f":"IF($S$1>Entries!$K$20,\"TBC\",LARGE(Tables!$AE$93:$AE$125,2))","v":0},{"$f":"IF($S$1>Entries!$K$20,\"TBC\",LARGE(Tables!$AE$93:$AE$125,3))","v":0},{"$f":"IF($S$1>Entries!$K$20,\"TBC\",SUM(S15:U15))","v":0},{"$f":"IF($W$1>Entries!$K$20,\"TBC\",LARGE(Tables!$AF$93:$AF$125,1))","v":0},{"$f":"IF($W$1>Entries!$K$20,\"TBC\",LARGE(Tables!$AF$93:$AF$125,2))","v":0},{"$f":"IF($W$1>Entries!$K$20,\"TBC\",LARGE(Tables!$AF$93:$AF$125,3))","v":0},{"$f":"IF($W$1>Entries!$K$20,\"TBC\",SUM(W15:Y15))","v":0},0,0,0,0,0,0,0,0,0]
[null,"RCSI",{"$f":"IF($C$1>Entries!$K$20,\"TBC\",LARGE(Tables!$EE$93:$EE$125,1))","v":0},{"$f":"IF($C$1>Entries!$K$20,\"TBC\",LARGE(Tables!$EE$93:$EE$125,2))","v":0},{"$f":"IF($C$1>Entries!$K$20,\"TBC\",LARGE(Tables!$EE$93:$EE$125,3))","v":0},{"$f":"IF($C$1>Entries!$K$20,\"TBC\",SUM(C16:E16))","v":0},{"$f":"IF($G$1>Entries!$K$20,\"TBC\",LARGE(Tables!$EF$93:$EF$125,1))","v":0},{"$f":"IF($G$1>Entries!$K$20,\"TBC\",LARGE(Tables!$EF$93:$EF$125,2))","v":0},{"$f":"IF($G$1>Entries!$K$20,\"TBC\",LARGE(Tables!$EF$93:$EF$125,3))","v":0},{"$f":"IF($G$1>Entries!$K$20,\"TBC\",SUM(G16:I16))","v":0},{"$f":"IF($K$1>Entries!$K$20,\"TBC\",LARGE(Tables!$EG$93:$EG$125,1))","v":0},{"$f":"IF($K$1>Entries!$K$20,\"TBC\",LARGE(Tables!$EG$93:$EG$125,2))","v":0},{"$f":"IF($K$1>Entries!$K$20,\"TBC\",LARGE(Tables!$EG$93:$EG$125,3))","v":0},{"$f":"IF($K$1>Entries!$K$20,\"TBC\",SUM(K16:M16))","v":0},{"$f":"IF($O$1>Entries!$K$20,\"TBC\",LARGE(Tables!$EH$93:$EH$125,1))","v":0},{"$f":"IF($O$1>Entries!$K$20,\"TBC\",LARGE(Tables!$EH$93:$EH$125,2))","v":0},{"$f":"IF($O$1>Entries!$K$20,\"TBC\",LARGE(Tables!$EH$93:$EH$125,3))","v":0},{"$f":"IF($O$1>Entries!$K$20,\"TBC\",SUM(O16:Q16))","v":0},{"$f":"IF($S$1>Entries!$K$20,\"TBC\",LARGE(Tables!$EI$93:$EI$125,1))","v":0},{"$f":"IF($S$1>Entries!$K$20,\"TBC\",LARGE(Tables!$EI$93:$EI$125,2))","v":0},{"$f":"IF($S$1>Entries!$K$20,\"TBC\",LARGE(Tables!$EI$93:$EI$125,3))","v":0},{"$f":"IF($S$1>Entries!$K$20,\"TBC\",SUM(S16:U16))","v":0},{"$f":"IF($W$1>Entries!$K$20,\"TBC\",LARGE(Tables!$EJ$93:$EJ$125,1))","v":0},{"$f":"IF($W$1>Entries!$K$20,\"TBC\",LARGE(Tables!$EJ$93:$EJ$125,2))","v":0},{"$f":"IF($W$1>Entries!$K$20,\"TBC\",LARGE(Tables!$EJ$93:$EJ$125,3))","v":0},{"$f":"IF($W$1>Entries!$K$20,\"TBC\",SUM(W16:Y16))","v":0},0,0,0,0,0,0,0,0,0]
[null,"UL",{"$f":"IF($C$1>Entries!$K$20,\"TBC\",LARGE(Tables!$FO$93:$FO$125,1))","v":0},{"$f":"IF($C$1>Entries!$K$20,\"TBC\",LARGE(Tables!$FO$93:$FO$125,2))","v":0},{"$f":"IF($C$1>Entries!$K$20,\"TBC\",LARGE(Tables!$FO$93:$FO$125,3))","v":0},{"$f":"IF($C$1>Entries!$K$20,\"TBC\",SUM(C17:E17))","v":0},{"$f":"IF($G$1>Entries!$K$20,\"TBC\",LARGE(Tables!$FP$93:$FP$125,1))","v":0},{"$f":"IF($G$1>Entries!$K$20,\"TBC\",LARGE(Tables!$FP$93:$FP$125,2))","v":0},{"$f":"IF($G$1>Entries!$K$20,\"TBC\",LARGE(Tables!$FP$93:$FP$125,3))","v":0},{"$f":"IF($G$1>Entries!$K$20,\"TBC\",SUM(G17:I17))","v":0},{"$f":"IF($K$1>Entries!$K$20,\"TBC\",LARGE(Tables!$FQ$93:$FQ$125,1))","v":0},{"$f":"IF($K$1>Entries!$K$20,\"TBC\",LARGE(Tables!$FQ$93:$FQ$125,2))","v":0},{"$f":"IF($K$1>Entries!$K$20,\"TBC\",LARGE(Tables!$FQ$93:$FQ$125,3))","v":0},{"$f":"IF($K$1>Entries!$K$20,\"TBC\",SUM(K17:M17))","v":0},{"$f":"IF($O$1>Entries!$K$20,\"TBC\",LARGE(Tables!$FR$93:$FR$125,1))","v":0},{"$f":"IF($O$1>Entries!$K$20,\"TBC\",LARGE(Tables!$FR$93:$FR$125,2))","v":0},{"$f":"IF($O$1>Entries!$K$20,\"TBC\",LARGE(Tables!$FR$93:$FR$125,3))","v":0},{"$f":"IF($O$1>Entries!$K$20,\"TBC\",SUM(O17:Q17))","v":0},{"$f":"IF($S$1>Entries!$K$20,\"TBC\",LARGE(Tables!$FS$93:$FS$125,1))","v":0},{"$f":"IF($S$1>Entries!$K$20,\"TBC\",LARGE(Tables!$FS$93:$FS$125,2))","v":0},{"$f":"IF($S$1>Entries!$K$20,\"TBC\",LARGE(Tables!$FS$93:$FS$125,3))","v":0},{"$f":"IF($S$1>Entries!$K$20,\"TBC\",SUM(S17:U17))","v":0},{"$f":"IF($W$1>Entries!$K$20,\"TBC\",LARGE(Tables!$FT$93:$FT$125,1))","v":0},{"$f":"IF($W$1>Entries!$K$20,\"TBC\",LARGE(Tables!$FT$93:$FT$125,2))","v":0},{"$f":"IF($W$1>Entries!$K$20,\"TBC\",LARGE(Tables!$FT$93:$FT$125,3))","v":0},{"$f":"IF($W$1>Entries!$K$20,\"TBC\",SUM(W17:Y17))","v":0},0,0,0,0,0,0,0,0,0]
[null,"QUB",{"$f":"IF($C$1>Entries!$K$20,\"TBC\",LARGE(Tables!$GM$93:$GM$125,1))","v":0},{"$f":"IF($C$1>Entries!$K$20,\"TBC\",LARGE(Tables!$GM$93:$GM$125,2))","v":0},{"$f":"IF($C$1>Entries!$K$20,\"TBC\",LARGE(Tables!$GM$93:$GM$125,3))","v":0},{"$f":"IF($C$1>Entries!$K$20,\"TBC\",SUM(C18:E18))","v":0},{"$f":"IF($G$1>Entries!$K$20,\"TBC\",LARGE(Tables!$GN$93:$GN$125,1))","v":0},{"$f":"IF($G$1>Entries!$K$20,\"TBC\",LARGE(Tables!$GN$93:$GN$125,2))","v":0},{"$f":"IF($G$1>Entries!$K$20,\"TBC\",LARGE(Tables!$GN$93:$GN$125,3))","v":0},{"$f":"IF($G$1>Entries!$K$20,\"TBC\",SUM(G18:I18))","v":0},{"$f":"IF($K$1>Entries!$K$20,\"TBC\",LARGE(Tables!$GO$93:$GO$125,1))","v":0},{"$f":"IF($K$1>Entries!$K$20,\"TBC\",LARGE(Tables!$GO$93:$GO$125,2))","v":0},{"$f":"IF($K$1>Entries!$K$20,\"TBC\",LARGE(Tables!$GO$93:$GO$125,3))","v":0},{"$f":"IF($K$1>Entries!$K$20,\"TBC\",SUM(K18:M18))","v":0},{"$f":"IF($O$1>Entries!$K$20,\"TBC\",LARGE(Tables!$GP$93:$GP$125,1))","v":0},{"$f":"IF($O$1>Entries!$K$20,\"TBC\",LARGE(Tables!$GP$93:$GP$125,2))","v":0},{"$f":"IF($O$1>Entries!$K$20,\"TBC\",LARGE(Tables!$GP$93:$GP$125,3))","v":0},{"$f":"IF($O$1>Entries!$K$20,\"TBC\",SUM(O18:Q18))","v":0},{"$f":"IF($S$1>Entries!$K$20,\"TBC\",LARGE(Tables!$GQ$93:$GQ$125,1))","v":0},{"$f":"IF($S$1>Entries!$K$20,\"TBC\",LARGE(Tables!$GQ$93:$GQ$125,2))","v":0},{"$f":"IF($S$1>Entries!$K$20,\"TBC\",LARGE(Tables!$GQ$93:$GQ$125,3))","v":0},{"$f":"IF($S$1>Entries!$K$20,\"TBC\",SUM(S18:U18))","v":0},{"$f":"IF($W$1>Entries!$K$20,\"TBC\",LARGE(Tables!$GR$93:$GR$125,1))","v":0},{"$f":"IF($W$1>Entries!$K$20,\"TBC\",LARGE(Tables!$GR$93:$GR$125,2))","v":0},{"$f":"IF($W$1>Entries!$K$20,\"TBC\",LARGE(Tables!$GR$93:$GR$125,3))","v":0},{"$f":"IF($W$1>Entries!$K$20,\"TBC\",SUM(W18:Y18))","v":0},0,0,0,0,0,0,0,0,0]
[null,"AAA",{"$f":"IF($C$1>Entries!$K$20,\"TBC\",LARGE(Tables!$GY$93:$GY$125,1))","v":0},{"$f":"IF($C$1>Entries!$K$20,\"TBC\",LARGE(Tables!$GY$93:$GY$125,2))","v":0},{"$f":"IF($C$1>Entries!$K$20,\"TBC\",LARGE(Tables!$GY$93:$GY$125,3))","v":0},{"$f":"IF($C$1>Entries!$K$20,\"TBC\",SUM(C19:E19))","v":0},{"$f":"IF($G$1>Entries!$K$20,\"TBC\",LARGE(Tables!$GZ$93:$GZ$125,1))","v":0},{"$f":"IF($G$1>Entries!$K$20,\"TBC\",LARGE(Tables!$GZ$93:$GZ$125,2))","v":0},{"$f":"IF($G$1>Entries!$K$20,\"TBC\",LARGE(Tables!$GZ$93:$GZ$125,3))","v":0},{"$f":"IF($G$1>Entries!$K$20,\"TBC\",SUM(G19:I19))","v":0},{"$f":"IF($K$1>Entries!$K$20,\"TBC\",LARGE(Tables!$HA$93:$HA$125,1))","v":0},{"$f":"IF($K$1>Entries!$K$20,\"TBC\",LARGE(Tables!$HA$93:$HA$125,2))","v":0},{"$f":"IF($K$1>Entries!$K$20,\"TBC\",LARGE(Tables!$HA$93:$HA$125,3))","v":0},{"$f":"IF($K$1>Entries!$K$20,\"TBC\",SUM(K19:M19))","v":0},{"$f":"IF($O$1>Entries!$K$20,\"TBC\",LARGE(Tables!$HB$93:$HB$125,1))","v":0},{"$f":"IF($O$1>Entries!$K$20,\"TBC\",LARGE(Tables!$HB$93:$HB$125,2))","v":0},{"$f":"IF($O$1>Entries!$K$20,\"TBC\",LARGE(Tables!$HB$93:$HB$125,3))","v":0},{"$f":"IF($O$1>Entries!$K$20,\"TBC\",SUM(O19:Q19))","v":0},{"$f":"IF($S$1>Entries!$K$20,\"TBC\",LARGE(Tables!$HC$93:$HC$125,1))","v":0},{"$f":"IF($S$1>Entries!$K$20,\"TBC\",LARGE(Tables!$HC$93:$HC$125,2))","v":0},{"$f":"IF($S$1>Entries!$K$20,\"TBC\",LARGE(Tables!$HC$93:$HC$125,3))","v":0},{"$f":"IF($S$1>Entries!$K$20,\"TBC\",SUM(S19:U19))","v":0},{"$f":"IF($W$1>Entries!$K$20,\"TBC\",LARGE(Tables!$HD$93:$HD$125,1))","v":{"$error":"#NUM!"}},{"$f":"IF($W$1>Entries!$K$20,\"TBC\",LARGE(Tables!$HD$93:$HD$125,2))","v":{"$error":"#NUM!"}},{"$f":"IF($W$1>Entries!$K$20,\"TBC\",LARGE(Tables!$HD$93:$HD$125,3))","v":{"$error":"#NUM!"}},{"$f":"IF($W$1>Entries!$K$20,\"TBC\",SUM(W19:Y19))","v":{"$error":"#NUM!"}},0,0,0,0,0,{"$error":"#NUM!"},{"$error":"#NUM!"},{"$error":"#NUM!"},-0.7]
[null,"BBB",{"$f":"IF($C$1>Entries!$K$20,\"TBC\",LARGE(Tables!$HJ$93:$HJ$125,1))","v":0},{"$f":"IF($C$1>Entries!$K$20,\"TBC\",LARGE(Tables!$HJ$93:$HJ$125,2))","v":0},{"$f":"IF($C$1>Entries!$K$20,\"TBC\",LARGE(Tables!$HJ$93:$HJ$125,3))","v":0},{"$f":"IF($C$1>Entries!$K$20,\"TBC\",SUM(C20:E20))","v":0},{"$f":"IF($G$1>Entries!$K$20,\"TBC\",LARGE(Tables!$HK$93:$HK$125,1))","v":0},{"$f":"IF($G$1>Entries!$K$20,\"TBC\",LARGE(Tables!$HK$93:$HK$125,2))","v":0},{"$f":"IF($G$1>Entries!$K$20,\"TBC\",LARGE(Tables!$HK$93:$HK$125,3))","v":0},{"$f":"IF($G$1>Entries!$K$20,\"TBC\",SUM(G20:I20))","v":0},{"$f":"IF($K$1>Entries!$K$20,\"TBC\",LARGE(Tables!$HL$93:$HL$125,1))","v":0},{"$f":"IF($K$1>Entries!$K$20,\"TBC\",LARGE(Tables!$HL$93:$HL$125,2))","v":0},{"$f":"IF($K$1>Entries!$K$20,\"TBC\",LARGE(Tables!$HL$93:$HL$125,3))","v":0},{"$f":"IF($K$1>Entries!$K$20,\"TBC\",SUM(K20:M20))","v":0},{"$f":"IF($O$1>Entries!$K$20,\"TBC\",LARGE(Tables!$HM$93:$HM$125,1))","v":0},{"$f":"IF($O$1>Entries!$K$20,\"TBC\",LARGE(Tables!$HM$93:$HM$125,2))","v":0},{"$f":"IF($O$1>Entries!$K$20,\"TBC\",LARGE(Tables!$HM$93:$HM$125,3))","v":0},{"$f":"IF($O$1>Entries!$K$20,\"TBC\",SUM(O20:Q20))","v":0},{"$f":"IF($S$1>Entries!$K$20,\"TBC\",LARGE(Tables!$HN$93:$HN$125,1))","v":0},{"$f":"IF($S$1>Entries!$K$20,\"TBC\",LARGE(Tables!$HN$93:$HN$125,2))","v":0},{"$f":"IF($S$1>Entries!$K$20,\"TBC\",LARGE(Tables!$HN$93:$HN$125,3))","v":0},{"$f":"IF($S$1>Entries!$K$20,\"TBC\",SUM(S20:U20))","v":0},{"$f":"IF($W$1>Entries!$K$20,\"TBC\",LARGE(Tables!$HO$93:$HO$125,1))","v":{"$error":"#NUM!"}},{"$f":"IF($W$1>Entries!$K$20,\"TBC\",LARGE(Tables!$HO$93:$HO$125,2))","v":{"$error":"#NUM!"}},{"$f":"IF($W$1>Entries!$K$20,\"TBC\",LARGE(Tables!$HO$93:$HO$125,3))","v":{"$error":"#NUM!"}},{"$f":"IF($W$1>Entries!$K$20,\"TBC\",SUM(W20:Y20))","v":{"$error":"#NUM!"}},0,0,0,0,0,{"$error":"#NUM!"},{"$error":"#NUM!"},{"$error":"#NUM!"},-0.7]
[null,"CCC",{"$f":"IF($C$1>Entries!$K$20,\"TBC\",LARGE(Tables!$HU$93:$HU$125,1))","v":0},{"$f":"IF($C$1>Entries!$K$20,\"TBC\",LARGE(Tables!$HU$93:$HU$125,2))","v":0},{"$f":"IF($C$1>Entries!$K$20,\"TBC\",LARGE(Tables!$HU$93:$HU$125,3))","v":0},{"$f":"IF($C$1>Entries!$K$20,\"TBC\",SUM(C21:E21))","v":0},{"$f":"IF($G$1>Entries!$K$20,\"TBC\",LARGE(Tables!$HV$93:$HV$125,1))","v":0},{"$f":"IF($G$1>Entries!$K$20,\"TBC\",LARGE(Tables!$HV$93:$HV$125,2))","v":0},{"$f":"IF($G$1>Entries!$K$20,\"TBC\",LARGE(Tables!$HV$93:$HV$125,3))","v":0},{"$f":"IF($G$1>Entries!$K$20,\"TBC\",SUM(G21:I21))","v":0},{"$f":"IF($K$1>Entries!$K$20,\"TBC\",LARGE(Tables!$HW$93:$HW$125,1))","v":0},{"$f":"IF($K$1>Entries!$K$20,\"TBC\",LARGE(Tables!$HW$93:$HW$125,2))","v":0},{"$f":"IF($K$1>Entries!$K$20,\"TBC\",LARGE(Tables!$HW$93:$HW$125,3))","v":0},{"$f":"IF($K$1>Entries!$K$20,\"TBC\",SUM(K21:M21))","v":0},{"$f":"IF($O$1>Entries!$K$20,\"TBC\",LARGE(Tables!$HX$93:$HX$125,1))","v":0},{"$f":"IF($O$1>Entries!$K$20,\"TBC\",LARGE(Tables!$HX$93:$HX$125,2))","v":0},{"$f":"IF($O$1>Entries!$K$20,\"TBC\",LARGE(Tables!$HX$93:$HX$125,3))","v":0},{"$f":"IF($O$1>Entries!$K$20,\"TBC\",SUM(O21:Q21))","v":0},{"$f":"IF($S$1>Entries!$K$20,\"TBC\",LARGE(Tables!$HY$93:$HY$125,1))","v":0},{"$f":"IF($S$1>Entries!$K$20,\"TBC\",LARGE(Tables!$HY$93:$HY$125,2))","v":0},{"$f":"IF($S$1>Entries!$K$20,\"TBC\",LARGE(Tables!$HY$93:$HY$125,3))","v":0},{"$f":"IF($S$1>Entries!$K$20,\"TBC\",SUM(S21:U21))","v":0},{"$f":"IF($W$1>Entries!$K$20,\"TBC\",LARGE(Tables!$HZ$93:$HZ$125,1))","v":{"$error":"#NUM!"}},{"$f":"IF($W$1>Entries!$K$20,\"TBC\",LARGE(Tables!$HZ$93:$HZ$125,2))","v":{"$error":"#NUM!"}},{"$f":"IF($W$1>Entries!$K$20,\"TBC\",LARGE(Tables!$HZ$93:$HZ$125,3))","v":{"$error":"#NUM!"}},{"$f":"IF($W$1>Entries!$K$20,\"TBC\",SUM(W21:Y21))","v":{"$error":"#NUM!"}},0,0,0,0,0,{"$error":"#NUM!"},{"$error":"#NUM!"},{"$error":"#NUM!"},-0.7]
[null,"DDD",{"$f":"IF($C$1>Entries!$K$20,\"TBC\",LARGE(Tables!$IF$93:$IF$125,1))","v":0},{"$f":"IF($C$1>Entries!$K$20,\"TBC\",LARGE(Tables!$IF$93:$IF$125,2))","v":0},{"$f":"IF($C$1>Entries!$K$20,\"TBC\",LARGE(Tables!$IF$93:$IF$125,3))","v":0},{"$f":"IF($C$1>Entries!$K$20,\"TBC\",SUM(C22:E22))","v":0},{"$f":"IF($G$1>Entries!$K$20,\"TBC\",LARGE(Tables!$IG$93:$IG$125,1))","v":0},{"$f":"IF($G$1>Entries!$K$20,\"TBC\",LARGE(Tables!$IG$93:$IG$125,2))","v":0},{"$f":"IF($G$1>Entries!$K$20,\"TBC\",LARGE(Tables!$IG$93:$IG$125,3))","v":0},{"$f":"IF($G$1>Entries!$K$20,\"TBC\",SUM(G22:I22))","v":0},{"$f":"IF($K$1>Entries!$K$20,\"TBC\",LARGE(Tables!$IH$93:$IH$125,1))","v":0},{"$f":"IF($K$1>Entries!$K$20,\"TBC\",LARGE(Tables!$IH$93:$IH$125,2))","v":0},{"$f":"IF($K$1>Entries!$K$20,\"TBC\",LARGE(Tables!$IH$93:$IH$125,3))","v":0},{"$f":"IF($K$1>Entries!$K$20,\"TBC\",SUM(K22:M22))","v":0},{"$f":"IF($O$1>Entries!$K$20,\"TBC\",LARGE(Tables!$II$93:$II$125,1))","v":0},{"$f":"IF($O$1>Entries!$K$20,\"TBC\",LARGE(Tables!$II$93:$II$125,2))","v":0},{"$f":"IF($O$1>Entries!$K$20,\"TBC\",LARGE(Tables!$II$93:$II$125,3))","v":0},{"$f":"IF($O$1>Entries!$K$20,\"TBC\",SUM(O22:Q22))","v":0},{"$f":"IF($S$1>Entries!$K$20,\"TBC\",LARGE(Tables!$IJ$93:$IJ$125,1))","v":0},{"$f":"IF($S$1>Entries!$K$20,\"TBC\",LARGE(Tables!$IJ$93:$IJ$125,2))","v":0},{"$f":"IF($S$1>Entries!$K$20,\"TBC\",LARGE(Tables!$IJ$93:$IJ$125,3))","v":0},{"$f":"IF($S$1>Entries!$K$20,\"TBC\",SUM(S22:U22))","v":0},{"$f":"IF($W$1>Entries!$K$20,\"TBC\",LARGE(Tables!$IK$93:$IK$125,1))","v":{"$error":"#NUM!"}},{"$f":"IF($W$1>Entries!$K$20,\"TBC\",LARGE(Tables!$IK$93:$IK$125,2))","v":{"$error":"#NUM!"}},{"$f":"IF($W$1>Entries!$K$20,\"TBC\",LARGE(Tables!$IK$93:$IK$125,3))","v":{"$error":"#NUM!"}},{"$f":"IF($W$1>Entries!$K$20,\"TBC\",SUM(W22:Y22))","v":{"$error":"#NUM!"}},0,0,0,0,0,{"$error":"#NUM!"},{"$error":"#NUM!"},{"$error":"#NUM!"},-0.7]
[null,"EEE",{"$f":"IF($C$1>Entries!$K$20,\"TBC\",LARGE(Tables!$IQ$93:$IQ$125,1))","v":0},{"$f":"IF($C$1>Entries!$K$20,\"TBC\",LARGE(Tables!$IQ$93:$IQ$125,2))","v":0},{"$f":"IF($C$1>Entries!$K$20,\"TBC\",LARGE(Tables!$IQ$93:$IQ$125,3))","v":0},{"$f":"IF($C$1>Entries!$K$20,\"TBC\",SUM(C23:E23))","v":0},{"$f":"IF($G$1>Entries!$K$20,\"TBC\",LARGE(Tables!$IR$93:$IR$125,1))","v":0},{"$f":"IF($G$1>Entries!$K$20,\"TBC\",LARGE(Tables!$IR$93:$IR$125,2))","v":0},{"$f":"IF($G$1>Entries!$K$20,\"TBC\",LARGE(Tables!$IR$93:$IR$125,3))","v":0},{"$f":"IF($G$1>Entries!$K$20,\"TBC\",SUM(G23:I23))","v":0},{"$f":"IF($K$1>Entries!$K$20,\"TBC\",LARGE(Tables!$IS$93:$IS$125,1))","v":0},{"$f":"IF($K$1>Entries!$K$20,\"TBC\",LARGE(Tables!$IS$93:$IS$125,2))","v":0},{"$f":"IF($K$1>Entries!$K$20,\"TBC\",LARGE(Tables!$IS$93:$IS$125,3))","v":0},{"$f":"IF($K$1>Entries!$K$20,\"TBC\",SUM(K23:M23))","v":0},{"$f":"IF($O$1>Entries!$K$20,\"TBC\",LARGE(Tables!$IT$93:$IT$125,1))","v":0},{"$f":"IF($O$1>Entries!$K$20,\"TBC\",LARGE(Tables!$IT$93:$IT$125,2))","v":0},{"$f":"IF($O$1>Entries!$K$20,\"TBC\",LARGE(Tables!$IT$93:$IT$125,3))","v":0},{"$f":"IF($O$1>Entries!$K$20,\"TBC\",SUM(O23:Q23))","v":0},{"$f":"IF($S$1>Entries!$K$20,\"TBC\",LARGE(Tables!$IU$93:$IU$125,1))","v":0},{"$f":"IF($S$1>Entries!$K$20,\"TBC\",LARGE(Tables!$IU$93:$IU$125,2))","v":0},{"$f":"IF($S$1>Entries!$K$20,\"TBC\",LARGE(Tables!$IU$93:$IU$125,3))","v":0},{"$f":"IF($S$1>Entries!$K$20,\"TBC\",SUM(S23:U23))","v":0},{"$f":"IF($W$1>Entries!$K$20,\"TBC\",LARGE(Tables!$IV$93:$IV$125,1))","v":{"$error":"#NUM!"}},{"$f":"IF($W$1>Entries!$K$20,\"TBC\",LARGE(Tables!$IV$93:$IV$125,2))","v":{"$error":"#NUM!"}},{"$f":"IF($W$1>Entries!$K$20,\"TBC\",LARGE(Tables!$IV$93:$IV$125,3))","v":{"$error":"#NUM!"}},{"$f":"IF($W$1>Entries!$K$20,\"TBC\",SUM(W23:Y23))","v":{"$error":"#NUM!"}},0,0,0,0,0,{"$error":"#NUM!"},{"$error":"#NUM!"},{"$error":"#NUM!"},-0.7]

{"sheet":"Mixed List","index":18,"n_rows":23,"n_cols":29,"rows_kept":23,"cut":false,"hidden":false,"merged":[]}
["Mixed",null,1,null,null,2,null,null,3,null,null,4,null,null,5,null,null,6,null,null,1,2,3,4,5,6,"total","minimum","League"]
[null,"NUIG",{"$f":"IF($C$1>Entries!$K$20,\"TBC\",Tables!$DT$1)","v":564},{"$f":"IF($C$1>Entries!$K$20,\"TBC\",Tables!$DT$42)","v":398},{"$f":"IF($C$1>Entries!$K$20,\"TBC\",Tables!$DT$85)","v":566},{"$f":"IF($F$1>Entries!$K$20,\"TBC\",Tables!$DT$2)","v":560},{"$f":"IF($F$1>Entries!$K$20,\"TBC\",Tables!$DT$43)","v":357},{"$f":"IF($F$1>Entries!$K$20,\"TBC\",Tables!$DT$86)","v":566},{"$f":"IF($I$1>Entries!$K$20,\"TBC\",Tables!$DT$3)","v":567},{"$f":"IF($I$1>Entries!$K$20,\"TBC\",Tables!$DT$44)","v":411},{"$f":"IF($I$1>Entries!$K$20,\"TBC\",Tables!$DT$87)","v":576},{"$f":"IF($L$1>Entries!$K$20,\"TBC\",Tables!$DT$4)","v":560},{"$f":"IF($L$1>Entries!$K$20,\"TBC\",Tables!$DT$45)","v":357},{"$f":"IF($L$1>Entries!$K$20,\"TBC\",Tables!$DT$88)","v":567},{"$f":"IF($O$1>Entries!$K$20,\"TBC\",Tables!$DT$5)","v":575},{"$f":"IF($O$1>Entries!$K$20,\"TBC\",Tables!$DT$46)","v":434},{"$f":"IF($O$1>Entries!$K$20,\"TBC\",Tables!$DT$89)","v":575},{"$f":"IF($R$1>Entries!$K$20,\"TBC\",Tables!$DT$6)","v":565},{"$f":"IF($R$1>Entries!$K$20,\"TBC\",Tables!$DT$47)","v":346},{"$f":"IF($R$1>Entries!$K$20,\"TBC\",Tables!$DT$90)","v":572},{"$f":"IF(C2=\"TBC\",\"TBC\",SUM(C2:E2))","v":1528},{"$f":"IF(F2=\"TBC\",\"TBC\",SUM(F2:H2))","v":1483},{"$f":"IF(I2=\"TBC\",\"TBC\",SUM(I2:K2))","v":1554},{"$f":"IF(L2=\"TBC\",\"TBC\",SUM(L2:N2))","v":1484},{"$f":"IF(O2=\"TBC\",\"TBC\",SUM(O2:Q2))","v":1584},{"$f":"IF(P2=\"TBC\",\"TBC\",SUM(R2:T2))","v":1483},{"$f":"SUM(U2:Z2)","v":9116},{"$f":"MIN(U2:Z2)","v":1483},{"$f":"AA2","v":9116}]
[null,"NUIM",{"$f":"IF($C$1>Entries!$K$20,\"TBC\",Tables!$CV$1)","v":523},{"$f":"IF($C$1>Entries!$K$20,\"TBC\",Tables!$CV$42)","v":361},{"$f":"IF($C$1>Entries!$K$20,\"TBC\",Tables!$CV$85)","v":506},{"$f":"IF($F$1>Entries!$K$20,\"TBC\",Tables!$CV$2)","v":521},{"$f":"IF($F$1>Entries!$K$20,\"TBC\",Tables!$CV$43)","v":378},{"$f":"IF($F$1>Entries!$K$20,\"TBC\",Tables!$CV$86)","v":479},{"$f":"IF($I$1>Entries!$K$20,\"TBC\",Tables!$CV$3)","v":525},{"$f":"IF($I$1>Entries!$K$20,\"TBC\",Tables!$CV$44)","v":0},{"$f":"IF($I$1>Entries!$K$20,\"TBC\",Tables!$CV$87)","v":510},{"$f":"IF($L$1>Entries!$K$20,\"TBC\",Tables!$CV$4)","v":513},{"$f":"IF($L$1>Entries!$K$20,\"TBC\",Tables!$CV$45)","v":421},{"$f":"IF($L$1>Entries!$K$20,\"TBC\",Tables!$CV$88)","v":495},{"$f":"IF($O$1>Entries!$K$20,\"TBC\",Tables!$CV$5)","v":488},{"$f":"IF($O$1>Entries!$K$20,\"TBC\",Tables!$CV$46)","v":469},{"$f":"IF($O$1>Entries!$K$20,\"TBC\",Tables!$CV$89)","v":524},{"$f":"IF($R$1>Entries!$K$20,\"TBC\",Tables!$CV$6)","v":515},{"$f":"IF($R$1>Entries!$K$20,\"TBC\",Tables!$CV$47)","v":356},{"$f":"IF($R$1>Entries!$K$20,\"TBC\",Tables!$CV$90)","v":512},1390,1378,1035,1429,1481,1383,8096,1035,8096]
[null,"DCU",{"$f":"IF($C$1>Entries!$K$20,\"TBC\",Tables!$D$1)","v":547},{"$f":"IF($C$1>Entries!$K$20,\"TBC\",Tables!$D$42)","v":301},{"$f":"IF($C$1>Entries!$K$20,\"TBC\",Tables!$D$85)","v":557},{"$f":"IF($F$1>Entries!$K$20,\"TBC\",Tables!$D$2)","v":547},{"$f":"IF($F$1>Entries!$K$20,\"TBC\",Tables!$D$43)","v":381},{"$f":"IF($F$1>Entries!$K$20,\"TBC\",Tables!$D$86)","v":550},{"$f":"IF($I$1>Entries!$K$20,\"TBC\",Tables!$D$3)","v":544},{"$f":"IF($I$1>Entries!$K$20,\"TBC\",Tables!$D$44)","v":0},{"$f":"IF($I$1>Entries!$K$20,\"TBC\",Tables!$D$87)","v":572},{"$f":"IF($L$1>Entries!$K$20,\"TBC\",Tables!$D$4)","v":543},{"$f":"IF($L$1>Entries!$K$20,\"TBC\",Tables!$D$45)","v":325},{"$f":"IF($L$1>Entries!$K$20,\"TBC\",Tables!$D$88)","v":557},{"$f":"IF($O$1>Entries!$K$20,\"TBC\",Tables!$D$5)","v":530},{"$f":"IF($O$1>Entries!$K$20,\"TBC\",Tables!$D$46)","v":0},{"$f":"IF($O$1>Entries!$K$20,\"TBC\",Tables!$D$89)","v":557},{"$f":"IF($R$1>Entries!$K$20,\"TBC\",Tables!$D$6)","v":554},{"$f":"IF($R$1>Entries!$K$20,\"TBC\",Tables!$D$47)","v":430},{"$f":"IF($R$1>Entries!$K$20,\"TBC\",Tables!$D$90)","v":569},1405,1478,1116,1425,1087,1553,8064,1087,8064]
[null,"GMITC",{"$f":"IF($C$1>Entries!$K$20,\"TBC\",Tables!$BL$1)","v":366},{"$f":"IF($C$1>Entries!$K$20,\"TBC\",Tables!$BL$42)","v":309},{"$f":"IF($C$1>Entries!$K$20,\"TBC\",Tables!$BL$85)","v":528},{"$f":"IF($F$1>Entries!$K$20,\"TBC\",Tables!$BL$2)","v":452},{"$f":"IF($F$1>Entries!$K$20,\"TBC\",Tables!$BL$43)","v":281},{"$f":"IF($F$1>Entries!$K$20,\"TBC\",Tables!$BL$86)","v":533},{"$f":"IF($I$1>Entries!$K$20,\"TBC\",Tables!$BL$3)","v":413},{"$f":"IF($I$1>Entries!$K$20,\"TBC\",Tables!$BL$44)","v":419},{"$f":"IF($I$1>Entries!$K$20,\"TBC\",Tables!$BL$87)","v":512},{"$f":"IF($L$1>Entries!$K$20,\"TBC\",Tables!$BL$4)","v":423},{"$f":"IF($L$1>Entries!$K$20,\"TBC\",Tables!$BL$45)","v":405},{"$f":"IF($L$1>Entries!$K$20,\"TBC\",Tables!$BL$88)","v":0},{"$f":"IF($O$1>Entries!$K$20,\"TBC\",Tables!$BL$5)","v":445},{"$f":"IF($O$1>Entries!$K$20,\"TBC\",Tables!$BL$46)","v":359},{"$f":"IF($O$1>Entries!$K$20,\"TBC\",Tables!$BL$89)","v":0},{"$f":"IF($R$1>Entries!$K$20,\"TBC\",Tables!$BL$6)","v":452},{"$f":"IF($R$1>Entries!$K$20,\"TBC\",Tables!$BL$47)","v":380},{"$f":"IF($R$1>Entries!$K$20,\"TBC\",Tables!$BL$90)","v":0},1203,1266,1344,828,804,832,6277,804,6277]
[null,"GMIT",{"$f":"IF($C$1>Entries!$K$20,\"TBC\",Tables!$AZ$1)","v":346},{"$f":"IF($C$1>Entries!$K$20,\"TBC\",Tables!$AZ$42)","v":370},{"$f":"IF($C$1>Entries!$K$20,\"TBC\",Tables!$AZ$85)","v":515},{"$f":"IF($F$1>Entries!$K$20,\"TBC\",Tables!$AZ$2)","v":354},{"$f":"IF($F$1>Entries!$K$20,\"TBC\",Tables!$AZ$43)","v":269},{"$f":"IF($F$1>Entries!$K$20,\"TBC\",Tables!$AZ$86)","v":512},{"$f":"IF($I$1>Entries!$K$20,\"TBC\",Tables!$AZ$3)","v":424},{"$f":"IF($I$1>Entries!$K$20,\"TBC\",Tables!$AZ$44)","v":378},{"$f":"IF($I$1>Entries!$K$20,\"TBC\",Tables!$AZ$87)","v":527},{"$f":"IF($L$1>Entries!$K$20,\"TBC\",Tables!$AZ$4)","v":437},{"$f":"IF($L$1>Entries!$K$20,\"TBC\",Tables!$AZ$45)","v":274},{"$f":"IF($L$1>Entries!$K$20,\"TBC\",Tables!$AZ$88)","v":0},{"$f":"IF($O$1>Entries!$K$20,\"TBC\",Tables!$AZ$5)","v":458},{"$f":"IF($O$1>Entries!$K$20,\"TBC\",Tables!$AZ$46)","v":314},{"$f":"IF($O$1>Entries!$K$20,\"TBC\",Tables!$AZ$89)","v":0},{"$f":"IF($R$1>Entries!$K$20,\"TBC\",Tables!$AZ$6)","v":472},{"$f":"IF($R$1>Entries!$K$20,\"TBC\",Tables!$AZ$47)","v":319},{"$f":"IF($R$1>Entries!$K$20,\"TBC\",Tables!$AZ$90)","v":0},1231,1135,1329,711,772,791,5969,711,5969]
[null,"DIT",{"$f":"IF($C$1>Entries!$K$20,\"TBC\",Tables!$P$1)","v":559},{"$f":"IF($C$1>Entries!$K$20,\"TBC\",Tables!$P$42)","v":0},{"$f":"IF($C$1>Entries!$K$20,\"TBC\",Tables!$P$85)","v":564},{"$f":"IF($F$1>Entries!$K$20,\"TBC\",Tables!$P$2)","v":486},{"$f":"IF($F$1>Entries!$K$20,\"TBC\",Tables!$P$43)","v":0},{"$f":"IF($F$1>Entries!$K$20,\"TBC\",Tables!$P$86)","v":566},{"$f":"IF($I$1>Entries!$K$20,\"TBC\",Tables!$P$3)","v":527},{"$f":"IF($I$1>Entries!$K$20,\"TBC\",Tables!$P$44)","v":0},{"$f":"IF($I$1>Entries!$K$20,\"TBC\",Tables!$P$87)","v":570},{"$f":"IF($L$1>Entries!$K$20,\"TBC\",Tables!$P$4)","v":530},{"$f":"IF($L$1>Entries!$K$20,\"TBC\",Tables!$P$45)","v":0},{"$f":"IF($L$1>Entries!$K$20,\"TBC\",Tables!$P$88)","v":0},{"$f":"IF($O$1>Entries!$K$20,\"TBC\",Tables!$P$5)","v":529},{"$f":"IF($O$1>Entries!$K$20,\"TBC\",Tables!$P$46)","v":0},{"$f":"IF($O$1>Entries!$K$20,\"TBC\",Tables!$P$89)","v":514},{"$f":"IF($R$1>Entries!$K$20,\"TBC\",Tables!$P$6)","v":530},{"$f":"IF($R$1>Entries!$K$20,\"TBC\",Tables!$P$47)","v":0},{"$f":"IF($R$1>Entries!$K$20,\"TBC\",Tables!$P$90)","v":513},1123,1052,1097,530,1043,1043,5888,530,5888]
[null,"UCC",{"$f":"IF($C$1>Entries!$K$20,\"TBC\",Tables!$ER$1)","v":495},{"$f":"IF($C$1>Entries!$K$20,\"TBC\",Tables!$ER$42)","v":0},{"$f":"IF($C$1>Entries!$K$20,\"TBC\",Tables!$ER$85)","v":534},{"$f":"IF($F$1>Entries!$K$20,\"TBC\",Tables!$ER$2)","v":489},{"$f":"IF($F$1>Entries!$K$20,\"TBC\",Tables!$ER$43)","v":0},{"$f":"IF($F$1>Entries!$K$20,\"TBC\",Tables!$ER$86)","v":550},{"$f":"IF($I$1>Entries!$K$20,\"TBC\",Tables!$ER$3)","v":486},{"$f":"IF($I$1>Entries!$K$20,\"TBC\",Tables!$ER$44)","v":259},{"$f":"IF($I$1>Entries!$K$20,\"TBC\",Tables!$ER$87)","v":553},{"$f":"IF($L$1>Entries!$K$20,\"TBC\",Tables!$ER$4)","v":0},{"$f":"IF($L$1>Entries!$K$20,\"TBC\",Tables!$ER$45)","v":0},{"$f":"IF($L$1>Entries!$K$20,\"TBC\",Tables!$ER$88)","v":0},{"$f":"IF($O$1>Entries!$K$20,\"TBC\",Tables!$ER$5)","v":488},{"$f":"IF($O$1>Entries!$K$20,\"TBC\",Tables!$ER$46)","v":161},{"$f":"IF($O$1>Entries!$K$20,\"TBC\",Tables!$ER$89)","v":554},{"$f":"IF($R$1>Entries!$K$20,\"TBC\",Tables!$ER$6)","v":490},{"$f":"IF($R$1>Entries!$K$20,\"TBC\",Tables!$ER$47)","v":246},{"$f":"IF($R$1>Entries!$K$20,\"TBC\",Tables!$ER$90)","v":559},1029,1039,1298,0,1203,1295,5864,0,5864]
[null,"UL",{"$f":"IF($C$1>Entries!$K$20,\"TBC\",Tables!$FP$1)","v":541},{"$f":"IF($C$1>Entries!$K$20,\"TBC\",Tables!$FP$42)","v":409},{"$f":"IF($C$1>Entries!$K$20,\"TBC\",Tables!$FP$85)","v":0},{"$f":"IF($F$1>Entries!$K$20,\"TBC\",Tables!$FP$2)","v":540},{"$f":"IF($F$1>Entries!$K$20,\"TBC\",Tables!$FP$43)","v":406},{"$f":"IF($F$1>Entries!$K$20,\"TBC\",Tables!$FP$86)","v":0},{"$f":"IF($I$1>Entries!$K$20,\"TBC\",Tables!$FP$3)","v":541},{"$f":"IF($I$1>Entries!$K$20,\"TBC\",Tables!$FP$44)","v":432},{"$f":"IF($I$1>Entries!$K$20,\"TBC\",Tables!$FP$87)","v":0},{"$f":"IF($L$1>Entries!$K$20,\"TBC\",Tables!$FP$4)","v":529},{"$f":"IF($L$1>Entries!$K$20,\"TBC\",Tables!$FP$45)","v":436},{"$f":"IF($L$1>Entries!$K$20,\"TBC\",Tables!$FP$88)","v":0},{"$f":"IF($O$1>Entries!$K$20,\"TBC\",Tables!$FP$5)","v":527},{"$f":"IF($O$1>Entries!$K$20,\"TBC\",Tables!$FP$46)","v":420},{"$f":"IF($O$1>Entries!$K$20,\"TBC\",Tables!$FP$89)","v":0},{"$f":"IF($R$1>Entries!$K$20,\"TBC\",Tables!$FP$6)","v":511},{"$f":"IF($R$1>Entries!$K$20,\"TBC\",Tables!$FP$47)","v":427},{"$f":"IF($R$1>Entries!$K$20,\"TBC\",Tables!$FP$90)","v":0},950,946,973,965,947,938,5719,938,5719]
[null,"ITC",{"$f":"IF($C$1>Entries!$K$20,\"TBC\",Tables!$CJ$1)","v":474},{"$f":"IF($C$1>Entries!$K$20,\"TBC\",Tables!$CJ$42)","v":335},{"$f":"IF($C$1>Entries!$K$20,\"TBC\",Tables!$CJ$85)","v":362},{"$f":"IF($F$1>Entries!$K$20,\"TBC\",Tables!$CJ$2)","v":535},{"$f":"IF($F$1>Entries!$K$20,\"TBC\",Tables!$CJ$43)","v":293},{"$f":"IF($F$1>Entries!$K$20,\"TBC\",Tables!$CJ$86)","v":0},{"$f":"IF($I$1>Entries!$K$20,\"TBC\",Tables!$CJ$3)","v":484},{"$f":"IF($I$1>Entries!$K$20,\"TBC\",Tables!$CJ$44)","v":415},{"$f":"IF($I$1>Entries!$K$20,\"TBC\",Tables!$CJ$87)","v":0},{"$f":"IF($L$1>Entries!$K$20,\"TBC\",Tables!$CJ$4)","v":510},{"$f":"IF($L$1>Entries!$K$20,\"TBC\",Tables!$CJ$45)","v":381},{"$f":"IF($L$1>Entries!$K$20,\"TBC\",Tables!$CJ$88)","v":0},{"$f":"IF($O$1>Entries!$K$20,\"TBC\",Tables!$CJ$5)","v":489},{"$f":"IF($O$1>Entries!$K$20,\"TBC\",Tables!$CJ$46)","v":400},{"$f":"IF($O$1>Entries!$K$20,\"TBC\",Tables!$CJ$89)","v":0},{"$f":"IF($R$1>Entries!$K$20,\"TBC\",Tables!$CJ$6)","v":526},{"$f":"IF($R$1>Entries!$K$20,\"TBC\",Tables!$CJ$47)","v":445},{"$f":"IF($R$1>Entries!$K$20,\"TBC\",Tables!$CJ$90)","v":0},1171,828,899,891,889,971,5649,828,5649]
[null,"IT Tallaght",{"$f":"IF($C$1>Entries!$K$20,\"TBC\",Tables!$BX$1)","v":497},{"$f":"IF($C$1>Entries!$K$20,\"TBC\",Tables!$BX$42)","v":0},{"$f":"IF($C$1>Entries!$K$20,\"TBC\",Tables!$BX$85)","v":0},{"$f":"IF($F$1>Entries!$K$20,\"TBC\",Tables!$BX$2)","v":499},{"$f":"IF($F$1>Entries!$K$20,\"TBC\",Tables!$BX$43)","v":0},{"$f":"IF($F$1>Entries!$K$20,\"TBC\",Tables!$BX$86)","v":0},{"$f":"IF($I$1>Entries!$K$20,\"TBC\",Tables!$BX$3)","v":543},{"$f":"IF($I$1>Entries!$K$20,\"TBC\",Tables!$BX$44)","v":0},{"$f":"IF($I$1>Entries!$K$20,\"TBC\",Tables!$BX$87)","v":0},{"$f":"IF($L$1>Entries!$K$20,\"TBC\",Tables!$BX$4)","v":523},{"$f":"IF($L$1>Entries!$K$20,\"TBC\",Tables!$BX$45)","v":247},{"$f":"IF($L$1>Entries!$K$20,\"TBC\",Tables!$BX$88)","v":0},{"$f":"IF($O$1>Entries!$K$20,\"TBC\",Tables!$BX$5)","v":451},{"$f":"IF($O$1>Entries!$K$20,\"TBC\",Tables!$BX$46)","v":0},{"$f":"IF($O$1>Entries!$K$20,\"TBC\",Tables!$BX$89)","v":0},{"$f":"IF($R$1>Entries!$K$20,\"TBC\",Tables!$BX$6)","v":525},{"$f":"IF($R$1>Entries!$K$20,\"TBC\",Tables!$BX$47)","v":331},{"$f":"IF($R$1>Entries!$K$20,\"TBC\",Tables!$BX$90)","v":0},497,499,543,770,451,856,3616,451,3616]
[null,"UCD",{"$f":"IF($C$1>Entries!$K$20,\"TBC\",Tables!$FD$1)","v":531},{"$f":"IF($C$1>Entries!$K$20,\"TBC\",Tables!$FD$49)","v":0},{"$f":"IF($C$1>Entries!$K$20,\"TBC\",Tables!$FD$85)","v":0},{"$f":"IF($F$1>Entries!$K$20,\"TBC\",Tables!$FD$2)","v":535},{"$f":"IF($F$1>Entries!$K$20,\"TBC\",Tables!$FD$50)","v":0},{"$f":"IF($F$1>Entries!$K$20,\"TBC\",Tables!$FD$86)","v":0},{"$f":"IF($I$1>Entries!$K$20,\"TBC\",Tables!$FD$3)","v":537},{"$f":"IF($I$1>Entries!$K$20,\"TBC\",Tables!$FD$51)","v":0},{"$f":"IF($I$1>Entries!$K$20,\"TBC\",Tables!$FD$87)","v":0},{"$f":"IF($L$1>Entries!$K$20,\"TBC\",Tables!$FD$4)","v":502},{"$f":"IF($L$1>Entries!$K$20,\"TBC\",Tables!$FD$52)","v":0},{"$f":"IF($L$1>Entries!$K$20,\"TBC\",Tables!$FD$88)","v":0},{"$f":"IF($O$1>Entries!$K$20,\"TBC\",Tables!$FD$5)","v":520},{"$f":"IF($O$1>Entries!$K$20,\"TBC\",Tables!$FD$53)","v":204},{"$f":"IF($O$1>Entries!$K$20,\"TBC\",Tables!$FD$89)","v":0},{"$f":"IF($R$1>Entries!$K$20,\"TBC\",Tables!$FD$6)","v":526},{"$f":"IF($R$1>Entries!$K$20,\"TBC\",Tables!$FD$54)","v":0},{"$f":"IF($R$1>Entries!$K$20,\"TBC\",Tables!$FD$90)","v":0},531,535,537,502,724,526,3355,502,3355]
[null,"BCFE",{"$f":"IF($C$1>Entries!$K$20,\"TBC\",Tables!$AN$1)","v":552},{"$f":"IF($C$1>Entries!$K$20,\"TBC\",Tables!$AN$42)","v":0},{"$f":"IF($C$1>Entries!$K$20,\"TBC\",Tables!$AN$85)","v":0},{"$f":"IF($F$1>Entries!$K$20,\"TBC\",Tables!$AN$2)","v":546},{"$f":"IF($F$1>Entries!$K$20,\"TBC\",Tables!$AN$43)","v":0},{"$f":"IF($F$1>Entries!$K$20,\"TBC\",Tables!$AN$86)","v":0},{"$f":"IF($I$1>Entries!$K$20,\"TBC\",Tables!$AN$3)","v":562},{"$f":"IF($I$1>Entries!$K$20,\"TBC\",Tables!$AN$44)","v":0},{"$f":"IF($I$1>Entries!$K$20,\"TBC\",Tables!$AN$87)","v":0},{"$f":"IF($L$1>Entries!$K$20,\"TBC\",Tables!$AN$4)","v":550},{"$f":"IF($L$1>Entries!$K$20,\"TBC\",Tables!$AN$45)","v":0},{"$f":"IF($L$1>Entries!$K$20,\"TBC\",Tables!$AN$88)","v":0},{"$f":"IF($O$1>Entries!$K$20,\"TBC\",Tables!$AN$5)","v":559},{"$f":"IF($O$1>Entries!$K$20,\"TBC\",Tables!$AN$46)","v":0},{"$f":"IF($O$1>Entries!$K$20,\"TBC\",Tables!$AN$89)","v":0},{"$f":"IF($R$1>Entries!$K$20,\"TBC\",Tables!$AN$6)","v":548},{"$f":"IF($R$1>Entries!$K$20,\"TBC\",Tables!$AN$47)","v":0},{"$f":"IF($R$1>Entries!$K$20,\"TBC\",Tables!$AN$90)","v":0},552,546,562,550,559,548,3317,546,3317]
[null,"DKIT",{"$f":"IF($C$1>Entries!$K$20,\"TBC\",Tables!$AB$1)","v":503},{"$f":"IF($C$1>Entries!$K$20,\"TBC\",Tables!$AB$42)","v":0},{"$f":"IF($C$1>Entries!$K$20,\"TBC\",Tables!$AB$85)","v":0},{"$f":"IF($F$1>Entries!$K$20,\"TBC\",Tables!$AB$2)","v":542},{"$f":"IF($F$1>Entries!$K$20,\"TBC\",Tables!$AB$43)","v":0},{"$f":"IF($F$1>Entries!$K$20,\"TBC\",Tables!$AB$86)","v":0},{"$f":"IF($I$1>Entries!$K$20,\"TBC\",Tables!$AB$3)","v":496},{"$f":"IF($I$1>Entries!$K$20,\"TBC\",Tables!$AB$44)","v":0},{"$f":"IF($I$1>Entries!$K$20,\"TBC\",Tables!$AB$87)","v":0},{"$f":"IF($L$1>Entries!$K$20,\"TBC\",Tables!$AB$4)","v":513},{"$f":"IF($L$1>Entries!$K$20,\"TBC\",Tables!$AB$45)","v":0},{"$f":"IF($L$1>Entries!$K$20,\"TBC\",Tables!$AB$88)","v":0},{"$f":"IF($O$1>Entries!$K$20,\"TBC\",Tables!$AB$5)","v":556},{"$f":"IF($O$1>Entries!$K$20,\"TBC\",Tables!$AB$46)","v":0},{"$f":"IF($O$1>Entries!$K$20,\"TBC\",Tables!$AB$89)","v":0},{"$f":"IF($R$1>Entries!$K$20,\"TBC\",Tables!$AB$6)","v":531},{"$f":"IF($R$1>Entries!$K$20,\"TBC\",Tables!$AB$47)","v":0},{"$f":"IF($R$1>Entries!$K$20,\"TBC\",Tables!$AB$90)","v":0},503,542,496,513,556,531,3141,496,3141]
[null,"RCSI",{"$f":"IF($C$1>Entries!$K$20,\"TBC\",Tables!$EF$1)","v":259},{"$f":"IF($C$1>Entries!$K$20,\"TBC\",Tables!$EF$42)","v":331},{"$f":"IF($C$1>Entries!$K$20,\"TBC\",Tables!$EF$85)","v":0},{"$f":"IF($F$1>Entries!$K$20,\"TBC\",Tables!$EF$2)","v":282},{"$f":"IF($F$1>Entries!$K$20,\"TBC\",Tables!$EF$43)","v":174},{"$f":"IF($F$1>Entries!$K$20,\"TBC\",Tables!$EF$86)","v":0},{"$f":"IF($I$1>Entries!$K$20,\"TBC\",Tables!$EF$3)","v":0},{"$f":"IF($I$1>Entries!$K$20,\"TBC\",Tables!$EF$44)","v":0},{"$f":"IF($I$1>Entries!$K$20,\"TBC\",Tables!$EF$87)","v":0},{"$f":"IF($L$1>Entries!$K$20,\"TBC\",Tables!$EF$4)","v":444},{"$f":"IF($L$1>Entries!$K$20,\"TBC\",Tables!$EF$45)","v":143},{"$f":"IF($L$1>Entries!$K$20,\"TBC\",Tables!$EF$88)","v":0},{"$f":"IF($O$1>Entries!$K$20,\"TBC\",Tables!$EF$5)","v":366},{"$f":"IF($O$1>Entries!$K$20,\"TBC\",Tables!$EF$46)","v":0},{"$f":"IF($O$1>Entries!$K$20,\"TBC\",Tables!$EF$89)","v":0},{"$f":"IF($R$1>Entries!$K$20,\"TBC\",Tables!$EF$6)","v":407},{"$f":"IF($R$1>Entries!$K$20,\"TBC\",Tables!$EF$47)","v":216},{"$f":"IF($R$1>Entries!$K$20,\"TBC\",Tables!$EF$90)","v":0},590,456,0,587,366,623,2622,0,2622]
[null,"UU",{"$f":"IF($C$1>Entries!$K$20,\"TBC\",Tables!$GB$1)","v":564},{"$f":"IF($C$1>Entries!$K$20,\"TBC\",Tables!$GB$42)","v":0},{"$f":"IF($C$1>Entries!$K$20,\"TBC\",Tables!$GB$85)","v":0},{"$f":"IF($F$1>Entries!$K$20,\"TBC\",Tables!$GB$2)","v":548},{"$f":"IF($F$1>Entries!$K$20,\"TBC\",Tables!$GB$43)","v":0},{"$f":"IF($F$1>Entries!$K$20,\"TBC\",Tables!$GB$86)","v":0},{"$f":"IF($I$1>Entries!$K$20,\"TBC\",Tables!$GB$3)","v":559},{"$f":"IF($I$1>Entries!$K$20,\"TBC\",Tables!$GB$44)","v":0},{"$f":"IF($I$1>Entries!$K$20,\"TBC\",Tables!$GB$87)","v":0},{"$f":"IF($L$1>Entries!$K$20,\"TBC\",Tables!$GB$4)","v":557},{"$f":"IF($L$1>Entries!$K$20,\"TBC\",Tables!$GB$45)","v":0},{"$f":"IF($L$1>Entries!$K$20,\"TBC\",Tables!$GB$88)","v":0},{"$f":"IF($O$1>Entries!$K$20,\"TBC\",Tables!$GB$5)","v":0},{"$f":"IF($O$1>Entries!$K$20,\"TBC\",Tables!$GB$46)","v":0},{"$f":"IF($O$1>Entries!$K$20,\"TBC\",Tables!$GB$89)","v":0},{"$f":"IF($R$1>Entries!$K$20,\"TBC\",Tables!$GB$6)","v":0},{"$f":"IF($R$1>Entries!$K$20,\"TBC\",Tables!$GB$47)","v":0},{"$f":"IF($R$1>Entries!$K$20,\"TBC\",Tables!$GB$90)","v":0},564,548,559,557,0,0,2228,0,2228]
[null,"CD",{"$f":"IF($C$1>Entries!$K$20,\"TBC\",Tables!$DH$1)","v":0},{"$f":"IF($C$1>Entries!$K$20,\"TBC\",Tables!$DH$42)","v":0},{"$f":"IF($C$1>Entries!$K$20,\"TBC\",Tables!$DH$85)","v":555},{"$f":"IF($F$1>Entries!$K$20,\"TBC\",Tables!$DH$2)","v":0},{"$f":"IF($F$1>Entries!$K$20,\"TBC\",Tables!$DH$43)","v":0},{"$f":"IF($F$1>Entries!$K$20,\"TBC\",Tables!$DH$86)","v":546},{"$f":"IF($I$1>Entries!$K$20,\"TBC\",Tables!$DH$3)","v":0},{"$f":"IF($I$1>Entries!$K$20,\"TBC\",Tables!$DH$44)","v":0},{"$f":"IF($I$1>Entries!$K$20,\"TBC\",Tables!$DH$87)","v":557},{"$f":"IF($L$1>Entries!$K$20,\"TBC\",Tables!$DH$4)","v":0},{"$f":"IF($L$1>Entries!$K$20,\"TBC\",Tables!$DH$45)","v":0},{"$f":"IF($L$1>Entries!$K$20,\"TBC\",Tables!$DH$88)","v":0},{"$f":"IF($O$1>Entries!$K$20,\"TBC\",Tables!$DH$5)","v":0},{"$f":"IF($O$1>Entries!$K$20,\"TBC\",Tables!$DH$46)","v":0},{"$f":"IF($O$1>Entries!$K$20,\"TBC\",Tables!$DH$89)","v":0},{"$f":"IF($R$1>Entries!$K$20,\"TBC\",Tables!$DH$6)","v":0},{"$f":"IF($R$1>Entries!$K$20,\"TBC\",Tables!$DH$47)","v":0},{"$f":"IF($R$1>Entries!$K$20,\"TBC\",Tables!$DH$90)","v":560},555,546,557,0,0,560,2218,0,2218]
[null,"QUB",{"$f":"IF($C$1>Entries!$K$20,\"TBC\",Tables!$GN$1)","v":454},{"$f":"IF($C$1>Entries!$K$20,\"TBC\",Tables!$GN$42)","v":0},{"$f":"IF($C$1>Entries!$K$20,\"TBC\",Tables!$GN$85)","v":0},{"$f":"IF($F$1>Entries!$K$20,\"TBC\",Tables!$GN$2)","v":0},{"$f":"IF($F$1>Entries!$K$20,\"TBC\",Tables!$GN$43)","v":0},{"$f":"IF($F$1>Entries!$K$20,\"TBC\",Tables!$GN$86)","v":0},{"$f":"IF($I$1>Entries!$K$20,\"TBC\",Tables!$GN$3)","v":0},{"$f":"IF($I$1>Entries!$K$20,\"TBC\",Tables!$GN$44)","v":0},{"$f":"IF($I$1>Entries!$K$20,\"TBC\",Tables!$GN$87)","v":0},{"$f":"IF($L$1>Entries!$K$20,\"TBC\",Tables!$GN$4)","v":0},{"$f":"IF($L$1>Entries!$K$20,\"TBC\",Tables!$GN$45)","v":0},{"$f":"IF($L$1>Entries!$K$20,\"TBC\",Tables!$GN$88)","v":0},{"$f":"IF($O$1>Entries!$K$20,\"TBC\",Tables!$GN$5)","v":471},{"$f":"IF($O$1>Entries!$K$20,\"TBC\",Tables!$GN$46)","v":0},{"$f":"IF($O$1>Entries!$K$20,\"TBC\",Tables!$GN$89)","v":0},{"$f":"IF($R$1>Entries!$K$20,\"TBC\",Tables!$GN$6)","v":0},{"$f":"IF($R$1>Entries!$K$20,\"TBC\",Tables!$GN$47)","v":0},{"$f":"IF($R$1>Entries!$K$20,\"TBC\",Tables!$GN$90)","v":0},454,0,0,0,471,0,925,0,925]
[null,"AAA",{"$f":"IF($C$1>Entries!$K$20,\"TBC\",Tables!$GZ$2)","v":0},{"$f":"IF($C$1>Entries!$K$20,\"TBC\",Tables!$GZ$43)","v":0},{"$f":"IF($C$1>Entries!$K$20,\"TBC\",Tables!$GZ$86)","v":0},{"$f":"IF($F$1>Entries!$K$20,\"TBC\",Tables!$GZ$3)","v":0},{"$f":"IF($F$1>Entries!$K$20,\"TBC\",Tables!$GZ$44)","v":0},{"$f":"IF($F$1>Entries!$K$20,\"TBC\",Tables!$GZ$87)","v":0},{"$f":"IF($I$1>Entries!$K$20,\"TBC\",Tables!$GZ$4)","v":0},{"$f":"IF($I$1>Entries!$K$20,\"TBC\",Tables!$GZ$45)","v":0},{"$f":"IF($I$1>Entries!$K$20,\"TBC\",Tables!$GZ$88)","v":0},{"$f":"IF($L$1>Entries!$K$20,\"TBC\",Tables!$GZ$5)","v":0},{"$f":"IF($L$1>Entries!$K$20,\"TBC\",Tables!$GZ$46)","v":0},{"$f":"IF($L$1>Entries!$K$20,\"TBC\",Tables!$GZ$89)","v":0},{"$f":"IF($O$1>Entries!$K$20,\"TBC\",Tables!$GZ$6)","v":0},{"$f":"IF($O$1>Entries!$K$20,\"TBC\",Tables!$GZ$47)","v":0},{"$f":"IF($O$1>Entries!$K$20,\"TBC\",Tables!$GZ$90)","v":0},{"$f":"IF($R$1>Entries!$K$20,\"TBC\",Tables!$GZ$7)","v":0},{"$f":"IF($R$1>Entries!$K$20,\"TBC\",Tables!$GZ$48)","v":0},{"$f":"IF($R$1>Entries!$K$20,\"TBC\",Tables!$GZ$91)","v":0},0,0,0,0,0,0,0,0,-0.7]
[null,"BBB",{"$f":"IF($C$1>Entries!$K$20,\"TBC\",Tables!$HK$2)","v":0},{"$f":"IF($C$1>Entries!$K$20,\"TBC\",Tables!$HK$43)","v":0},{"$f":"IF($C$1>Entries!$K$20,\"TBC\",Tables!$HK$86)","v":0},{"$f":"IF($F$1>Entries!$K$20,\"TBC\",Tables!$HK$3)","v":0},{"$f":"IF($F$1>Entries!$K$20,\"TBC\",Tables!$HK$44)","v":0},{"$f":"IF($F$1>Entries!$K$20,\"TBC\",Tables!$HK$87)","v":0},{"$f":"IF($I$1>Entries!$K$20,\"TBC\",Tables!$HK$4)","v":0},{"$f":"IF($I$1>Entries!$K$20,\"TBC\",Tables!$HK$45)","v":0},{"$f":"IF($I$1>Entries!$K$20,\"TBC\",Tables!$HK$88)","v":0},{"$f":"IF($L$1>Entries!$K$20,\"TBC\",Tables!$HK$5)","v":0},{"$f":"IF($L$1>Entries!$K$20,\"TBC\",Tables!$HK$46)","v":0},{"$f":"IF($L$1>Entries!$K$20,\"TBC\",Tables!$HK$89)","v":0},{"$f":"IF($O$1>Entries!$K$20,\"TBC\",Tables!$HK$6)","v":0},{"$f":"IF($O$1>Entries!$K$20,\"TBC\",Tables!$HK$47)","v":0},{"$f":"IF($O$1>Entries!$K$20,\"TBC\",Tables!$HK$90)","v":0},{"$f":"IF($R$1>Entries!$K$20,\"TBC\",Tables!$HK$7)","v":0},{"$f":"IF($R$1>Entries!$K$20,\"TBC\",Tables!$HK$48)","v":0},{"$f":"IF($R$1>Entries!$K$20,\"TBC\",Tables!$HK$91)","v":0},0,0,0,0,0,0,0,0,-0.7]
[null,"CCC",{"$f":"IF($C$1>Entries!$K$20,\"TBC\",Tables!$HV$2)","v":0},{"$f":"IF($C$1>Entries!$K$20,\"TBC\",Tables!$HV$43)","v":0},{"$f":"IF($C$1>Entries!$K$20,\"TBC\",Tables!$HV$86)","v":0},{"$f":"IF($F$1>Entries!$K$20,\"TBC\",Tables!$HV$3)","v":0},{"$f":"IF($F$1>Entries!$K$20,\"TBC\",Tables!$HV$44)","v":0},{"$f":"IF($F$1>Entries!$K$20,\"TBC\",Tables!$HV$87)","v":0},{"$f":"IF($I$1>Entries!$K$20,\"TBC\",Tables!$HV$4)","v":0},{"$f":"IF($I$1>Entries!$K$20,\"TBC\",Tables!$HV$45)","v":0},{"$f":"IF($I$1>Entries!$K$20,\"TBC\",Tables!$HV$88)","v":0},{"$f":"IF($L$1>Entries!$K$20,\"TBC\",Tables!$HV$5)","v":0},{"$f":"IF($L$1>Entries!$K$20,\"TBC\",Tables!$HV$46)","v":0},{"$f":"IF($L$1>Entries!$K$20,\"TBC\",Tables!$HV$89)","v":0},{"$f":"IF($O$1>Entries!$K$20,\"TBC\",Tables!$HV$6)","v":0},{"$f":"IF($O$1>Entries!$K$20,\"TBC\",Tables!$HV$47)","v":0},{"$f":"IF($O$1>Entries!$K$20,\"TBC\",Tables!$HV$90)","v":0},{"$f":"IF($R$1>Entries!$K$20,\"TBC\",Tables!$HV$7)","v":0},{"$f":"IF($R$1>Entries!$K$20,\"TBC\",Tables!$HV$48)","v":0},{"$f":"IF($R$1>Entries!$K$20,\"TBC\",Tables!$HV$91)","v":0},0,0,0,0,0,0,0,0,-0.7]
[null,"DDD",{"$f":"IF($C$1>Entries!$K$20,\"TBC\",Tables!$IG$2)","v":0},{"$f":"IF($C$1>Entries!$K$20,\"TBC\",Tables!$IG$43)","v":0},{"$f":"IF($C$1>Entries!$K$20,\"TBC\",Tables!$IG$86)","v":0},{"$f":"IF($F$1>Entries!$K$20,\"TBC\",Tables!$IG$3)","v":0},{"$f":"IF($F$1>Entries!$K$20,\"TBC\",Tables!$IG$44)","v":0},{"$f":"IF($F$1>Entries!$K$20,\"TBC\",Tables!$IG$87)","v":0},{"$f":"IF($I$1>Entries!$K$20,\"TBC\",Tables!$IG$4)","v":0},{"$f":"IF($I$1>Entries!$K$20,\"TBC\",Tables!$IG$45)","v":0},{"$f":"IF($I$1>Entries!$K$20,\"TBC\",Tables!$IG$88)","v":0},{"$f":"IF($L$1>Entries!$K$20,\"TBC\",Tables!$IG$5)","v":0},{"$f":"IF($L$1>Entries!$K$20,\"TBC\",Tables!$IG$46)","v":0},{"$f":"IF($L$1>Entries!$K$20,\"TBC\",Tables!$IG$89)","v":0},{"$f":"IF($O$1>Entries!$K$20,\"TBC\",Tables!$IG$6)","v":0},{"$f":"IF($O$1>Entries!$K$20,\"TBC\",Tables!$IG$47)","v":0},{"$f":"IF($O$1>Entries!$K$20,\"TBC\",Tables!$IG$90)","v":0},{"$f":"IF($R$1>Entries!$K$20,\"TBC\",Tables!$IG$7)","v":0},{"$f":"IF($R$1>Entries!$K$20,\"TBC\",Tables!$IG$48)","v":0},{"$f":"IF($R$1>Entries!$K$20,\"TBC\",Tables!$IG$91)","v":0},0,0,0,0,0,0,0,0,-0.7]
[null,"EEE",{"$f":"IF($C$1>Entries!$K$20,\"TBC\",Tables!$IR$2)","v":0},{"$f":"IF($C$1>Entries!$K$20,\"TBC\",Tables!$IR$43)","v":0},{"$f":"IF($C$1>Entries!$K$20,\"TBC\",Tables!$IR$86)","v":0},{"$f":"IF($F$1>Entries!$K$20,\"TBC\",Tables!$IR$3)","v":0},{"$f":"IF($F$1>Entries!$K$20,\"TBC\",Tables!$IR$44)","v":0},{"$f":"IF($F$1>Entries!$K$20,\"TBC\",Tables!$IR$87)","v":0},{"$f":"IF($I$1>Entries!$K$20,\"TBC\",Tables!$IR$4)","v":0},{"$f":"IF($I$1>Entries!$K$20,\"TBC\",Tables!$IR$45)","v":0},{"$f":"IF($I$1>Entries!$K$20,\"TBC\",Tables!$IR$88)","v":0},{"$f":"IF($L$1>Entries!$K$20,\"TBC\",Tables!$IR$5)","v":0},{"$f":"IF($L$1>Entries!$K$20,\"TBC\",Tables!$IR$46)","v":0},{"$f":"IF($L$1>Entries!$K$20,\"TBC\",Tables!$IR$89)","v":0},{"$f":"IF($O$1>Entries!$K$20,\"TBC\",Tables!$IR$6)","v":0},{"$f":"IF($O$1>Entries!$K$20,\"TBC\",Tables!$IR$47)","v":0},{"$f":"IF($O$1>Entries!$K$20,\"TBC\",Tables!$IR$90)","v":0},{"$f":"IF($R$1>Entries!$K$20,\"TBC\",Tables!$IR$7)","v":0},{"$f":"IF($R$1>Entries!$K$20,\"TBC\",Tables!$IR$48)","v":0},{"$f":"IF($R$1>Entries!$K$20,\"TBC\",Tables!$IR$91)","v":0},0,0,0,0,0,0,0,0,-0.7]

{"sheet":"Rec' Team","index":19,"n_rows":51,"n_cols":53,"rows_kept":51,"cut":false,"hidden":false,"merged":[[27,29,27,32],[25,29,25,32],[23,29,23,32],[43,29,43,32],[41,29,41,32],[39,29,39,32],[37,29,37,32],[35,29,35,32],[49,29,49,32],[47,29,47,32],[45,29,45,32],[1,4,4,32],[5,4,5,32],[7,29,7,32],[9,29,9,32],[13,29,13,32],[11,29,11,32],[21,29,21,32],[19,29,19,32],[17,29,17,32],[15,29,15,32],[0,0,0,37],[5,34,5,36],[5,1,5,2],[1,3,49,3],[1,33,49,33],[50,1,50,36],[1,37,50,37],[1,0,50,0],[48,1,49,1],[48,2,49,2],[48,34,49,34],[48,35,49,35],[48,36,49,36],[49,4,49,7],[49,9,49,12],[49,14,49,17],[49,19,49,22],[49,24,49,27],[46,1,47,1],[46,2,47,2],[46,34,47,34],[46,35,47,35],[46,36,47,36],[47,4,47,7],[47,9,47,12],[47,14,47,17],[47,19,47,22],[47,24,47,27],[44,1,45,1],[44,2,45,2],[44,34,45,34],[44,35,45,35],[44,36,45,36],[45,4,45,7],[45,9,45,12],[45,14,45,17],[45,19,45,22],[45,24,45,27],[42,1,43,1],[42,2,43,2],[42,34,43,34],[42,35,43,35],[42,36,43,36],[43,4,43,7],[43,9,43,12],[43,14,43,17],[43,19,43,22],[43,24,43,27],[40,1,41,1],[40,2,41,2],[40,34,41,34],[40,35,41,35],[40,36,41,36],[41,4,41,7],[41,9,41,12],[41,14,41,17],[41,19,41,22],[41,24,41,27],[14,36,15,36],[15,4,15,7],[15,9,15,12],[6,2,7,2],[8,2,9,2],[10,2,11,2],[12,2,13,2],[14,2,15,2],[6,1,7,1],[8,1,9,1],[10,1,11,1],[12,1,13,1],[14,1,15,1],[7,4,7,7],[7,9,7,12],[6,36,7,36],[8,34,9,34],[8,35,9,35],[8,36,9,36],[9,4,9,7],[1,1,4,2],[38,36,39,36],[39,4,39,7],[39,9,39,12],[39,14,39,17],[39,19,39,22],[39,24,39,27],[1,34,4,34],[1,35,4,35],[1,36,4,36],[10,36,11,36],[11,4,11,7],[11,9,11,12],[11,14,11,17],[11,19,11,22],[11,24,11,27],[12,36,13,36],[13,4,13,7],[13,9,13,12],[13,24,13,27],[14,34,15,34],[14,35,15,35],[34,36,35,36],[26,35,27,35],[36,1,37,1],[38,1,39,1],[26,1,27,1],[28,1,29,1],[30,1,31,1],[10,34,11,34],[10,35,11,35],[38,34,39,34],[38,35,39,35],[32,1,33,1],[34,1,35,1],[16,1,17,1],[18,1,19,1],[20,1,21,1],[22,1,23,1],[24,1,25,1],[34,34,35,34],[34,35,35,35],[35,4,35,7],[35,9,35,12],[35,14,35,17],[35,19,35,22],[35,24,35,27],[26,34,27,34],[26,36,27,36],[27,4,27,7],[27,9,27,12],[27,14,27,17],[27,19,27,22],[27,24,27,27],[36,34,37,34],[36,35,37,35],[36,36,37,36],[37,4,37,7],[37,9,37,12],[37,14,37,17],[37,19,37,22],[37,24,37,27],[30,34,31,34],[30,35,31,35],[30,36,31,36],[31,4,31,7],[31,9,31,12],[31,14,31,17],[31,19,31,22],[31,24,31,27],[32,34,33,34],[32,35,33,35],[32,36,33,36],[33,4,33,7],[33,9,33,12],[33,14,33,17],[33,19,33,22],[33,24,33,27],[28,34,29,34],[28,35,29,35],[28,36,29,36],[29,4,29,7],[29,9,29,12],[29,14,29,17],[29,19,29,22],[29,24,29,27],[33,29,33,32],[31,29,31,32],[29,29,29,32],[22,34,23,34],[22,35,23,35],[22,36,23,36],[23,4,23,7],[23,9,23,12],[23,14,23,17],[23,19,23,22],[23,24,23,27],[24,34,25,34],[24,35,25,35],[24,36,25,36],[25,4,25,7],[25,9,25,12],[25,14,25,17],[25,19,25,22],[25,24,25,27],[20,34,21,34],[20,35,21,35],[20,36,21,36],[21,4,21,7],[21,9,21,12],[21,14,21,17],[21,19,21,22],[21,24,21,27],[16,34,17,34],[16,35,17,35],[16,36,17,36],[17,4,17,7],[17,9,17,12],[17,14,17,17],[17,19,17,22],[17,24,17,27],[18,34,19,34],[18,35,19,35],[18,36,19,36],[19,4,19,7],[19,9,19,12],[19,14,19,17],[19,19,19,22],[19,24,19,27],[16,2,17,2],[9,14,9,17],[9,19,9,22],[9,24,9,27],[7,14,7,17],[7,19,7,22],[7,24,7,27],[6,34,7,34],[6,35,7,35],[15,14,15,17],[15,19,15,22],[15,24,15,27],[12,34,13,34],[12,35,13,35],[13,14,13,17],[13,19,13,22],[9,9,9,12],[36,2,37,2],[38,2,39,2],[18,2,19,2],[20,2,21,2],[22,2,23,2],[24,2,25,2],[26,2,27,2],[28,2,29,2],[30,2,31,2],[32,2,33,2],[34,2,35,2]]}
[{"$f":"$C$7","v":"DCU"}]
["DCU","Recurve Team",null,{"$f":"$C$7","v":"DCU"},null,null,null,null,null,null,null,null,null,null,null,null,null,null,null,null,null,null,null,null,null,null,null,null,null,null,null,null,null,"DCU","Total","Lowest","League","DCU",{"$f":"AM7","v":"Adam McSweeney"}]
[]
[]
[]
[null,"DCU",null,null,"DCU",null,null,null,null,null,null,null,null,null,null,null,null,null,null,null,null,null,null,null,null,null,null,null,null,null,null,null,null,null,{"$f":"$C$7","v":"DCU"}]
[null,1,{"$f":"'Rec'' List'!$B$2","v":"DCU"},null,{"$f":"'Rec'' List'!$C$2","v":547},{"$f":"'Rec'' List'!$D$2","v":516},{"$f":"'Rec'' List'!$E$2","v":513},{"$f":"'Rec'' List'!$F$2","v":477},null,{"$f":"'Rec'' List'!$H$2","v":547},{"$f":"'Rec'' List'!$I$2","v":533},{"$f":"'Rec'' List'!$J$2","v":449},{"$f":"'Rec'' List'!$K$2","v":446},null,{"$f":"'Rec'' List'!$M$2","v":544},{"$f":"'Rec'' List'!$N$2","v":524},{"$f":"'Rec'' List'!$O$2","v":522},{"$f":"'Rec'' List'!$P$2","v":517},null,{"$f":"'Rec'' List'!$R$2","v":543},{"$f":"'Rec'' List'!$S$2","v":538},{"$f":"'Rec'' List'!$T$2","v":527},{"$f":"'Rec'' List'!$U$2","v":484},null,{"$f":"'Rec'' List'!$W$2","v":530},{"$f":"'Rec'' List'!$X$2","v":521},{"$f":"'Rec'' List'!$Y$2","v":493},{"$f":"'Rec'' List'!$Z$2","v":441},null,{"$f":"'Rec'' List'!$AB$2","v":554},{"$f":"'Rec'' List'!$AC$2","v":538},{"$f":"'Rec'' List'!$AD$2","v":480},{"$f":"'Rec'' List'!$AE$2","v":480},null,{"$f":"'Rec'' List'!$AM$2","v":12264},{"$f":"'Rec'' List'!$AN$2","v":1975},{"$f":"'Rec'' List'!$AM$2","v":12264},null,{"$f":"VLOOKUP($C7,$AQ$7:$AR$23,2,0)","v":"Adam McSweeney"},null,null,null,"DCU",{"$f":"Tables!B9","v":"Adam McSweeney"}]
[null,null,null,null,{"$f":"'Rec'' List'!$G$2","v":2053},null,null,null,null,{"$f":"'Rec'' List'!$L$2","v":1975},null,null,null,null,{"$f":"'Rec'' List'!$Q$2","v":2107},null,null,null,null,{"$f":"'Rec'' List'!$V$2","v":2092},null,null,null,null,{"$f":"'Rec'' List'!$AA$2","v":1985},null,null,null,null,{"$f":"'Rec'' List'!$AF$2","v":2052},null,null,null,null,null,null,null,null,{"$f":"AM7","v":"Adam McSweeney"},null,null,null,"DIT",{"$f":"Tables!N9","v":"James Byrne"}]
[null,2,{"$f":"'Rec'' List'!$B$3","v":"UL"},null,{"$f":"'Rec'' List'!$C$3","v":541},{"$f":"'Rec'' List'!$D$3","v":524},{"$f":"'Rec'' List'!$E$3","v":512},{"$f":"'Rec'' List'!$F$3","v":501},null,{"$f":"'Rec'' List'!$H$3","v":540},{"$f":"'Rec'' List'!$I$3","v":517},{"$f":"'Rec'' List'!$J$3","v":488},{"$f":"'Rec'' List'!$K$3","v":453},null,{"$f":"'Rec'' List'!$M$3","v":541},{"$f":"'Rec'' List'!$N$3","v":507},{"$f":"'Rec'' List'!$O$3","v":505},{"$f":"'Rec'' List'!$P$3","v":499},null,{"$f":"'Rec'' List'!$R$3","v":529},{"$f":"'Rec'' List'!$S$3","v":522},{"$f":"'Rec'' List'!$T$3","v":497},{"$f":"'Rec'' List'!$U$3","v":480},null,{"$f":"'Rec'' List'!$W$3","v":527},{"$f":"'Rec'' List'!$X$3","v":515},{"$f":"'Rec'' List'!$Y$3","v":492},{"$f":"'Rec'' List'!$Z$3","v":491},null,{"$f":"'Rec'' List'!$AB$3","v":511},{"$f":"'Rec'' List'!$AC$3","v":503},{"$f":"'Rec'' List'!$AD$3","v":499},{"$f":"'Rec'' List'!$AE$3","v":465},null,{"$f":"'Rec'' List'!$AM$3","v":12159},{"$f":"'Rec'' List'!$AN$3","v":1978},{"$f":"'Rec'' List'!$AM$3","v":12159},null,{"$f":"VLOOKUP($C9,$AQ$7:$AR$23,2,0)","v":"Sean Flavin"},null,null,null,"DkIT",{"$f":"Tables!Z9","v":"Brendan Forde"}]
[null,null,null,null,{"$f":"'Rec'' List'!$G$3","v":2078},null,null,null,null,{"$f":"'Rec'' List'!$L$3","v":1998},null,null,null,null,{"$f":"'Rec'' List'!$Q$3","v":2052},null,null,null,null,{"$f":"'Rec'' List'!$V$3","v":2028},null,null,null,null,{"$f":"'Rec'' List'!$AA$3","v":2025},null,null,null,null,{"$f":"'Rec'' List'!$AF$3","v":1978},null,null,null,null,null,null,null,null,{"$f":"AM9","v":"Sean Flavin"},null,null,null,"DUAC",{"$f":"Tables!AL9","v":"Maeve Reidy"}]
[null,3,{"$f":"'Rec'' List'!$B$4","v":"NUIM"},null,{"$f":"'Rec'' List'!$C$4","v":523},{"$f":"'Rec'' List'!$D$4","v":505},{"$f":"'Rec'' List'!$E$4","v":505},{"$f":"'Rec'' List'!$F$4","v":462},null,{"$f":"'Rec'' List'!$H$4","v":521},{"$f":"'Rec'' List'!$I$4","v":519},{"$f":"'Rec'' List'!$J$4","v":504},{"$f":"'Rec'' List'!$K$4","v":477},null,{"$f":"'Rec'' List'!$M$4","v":525},{"$f":"'Rec'' List'!$N$4","v":519},{"$f":"'Rec'' List'!$O$4","v":496},{"$f":"'Rec'' List'!$P$4","v":472},null,{"$f":"'Rec'' List'!$R$4","v":513},{"$f":"'Rec'' List'!$S$4","v":499},{"$f":"'Rec'' List'!$T$4","v":492},{"$f":"'Rec'' List'!$U$4","v":445},null,{"$f":"'Rec'' List'!$W$4","v":488},{"$f":"'Rec'' List'!$X$4","v":487},{"$f":"'Rec'' List'!$Y$4","v":485},{"$f":"'Rec'' List'!$Z$4","v":478},null,{"$f":"'Rec'' List'!$AB$4","v":515},{"$f":"'Rec'' List'!$AC$4","v":509},{"$f":"'Rec'' List'!$AD$4","v":482},{"$f":"'Rec'' List'!$AE$4","v":470},null,{"$f":"'Rec'' List'!$AM$4","v":11891},{"$f":"'Rec'' List'!$AN$4","v":1938},{"$f":"'Rec'' List'!$AM$4","v":11891},null,{"$error":"#N/A"},null,null,null,"GMIT",{"$f":"Tables!AX9","v":"Conor McCan"}]
[null,null,null,null,{"$f":"'Rec'' List'!$G$4","v":1995},null,null,null,null,{"$f":"'Rec'' List'!$L$4","v":2021},null,null,null,null,{"$f":"'Rec'' List'!$Q$4","v":2012},null,null,null,null,{"$f":"'Rec'' List'!$V$4","v":1949},null,null,null,null,{"$f":"'Rec'' List'!$AA$4","v":1938},null,null,null,null,{"$f":"'Rec'' List'!$AF$4","v":1976},null,null,null,null,null,null,null,null,{"$f":"AM11","v":{"$error":"#N/A"}},null,null,null,"GMITC",{"$f":"Tables!BJ9","v":"Sinead Naughton"},null,null,null,null,null,null,null,"ROW 7-8 CONDITIONAL FORMATTING FORMULA","$B$7:$C$7,$E$7:$AB$8,$AD$7:$AF$7"]
[null,4,{"$f":"'Rec'' List'!$B$5","v":"NUIG"},null,{"$f":"'Rec'' List'!$C$5","v":564},{"$f":"'Rec'' List'!$D$5","v":486},{"$f":"'Rec'' List'!$E$5","v":454},{"$f":"'Rec'' List'!$F$5","v":414},null,{"$f":"'Rec'' List'!$H$5","v":560},{"$f":"'Rec'' List'!$I$5","v":460},{"$f":"'Rec'' List'!$J$5","v":459},{"$f":"'Rec'' List'!$K$5","v":436},null,{"$f":"'Rec'' List'!$M$5","v":567},{"$f":"'Rec'' List'!$N$5","v":519},{"$f":"'Rec'' List'!$O$5","v":467},{"$f":"'Rec'' List'!$P$5","v":449},null,{"$f":"'Rec'' List'!$R$5","v":560},{"$f":"'Rec'' List'!$S$5","v":502},{"$f":"'Rec'' List'!$T$5","v":443},{"$f":"'Rec'' List'!$U$5","v":408},null,{"$f":"'Rec'' List'!$W$5","v":575},{"$f":"'Rec'' List'!$X$5","v":507},{"$f":"'Rec'' List'!$Y$5","v":501},{"$f":"'Rec'' List'!$Z$5","v":456},null,{"$f":"'Rec'' List'!$AB$5","v":565},{"$f":"'Rec'' List'!$AC$5","v":522},{"$f":"'Rec'' List'!$AD$5","v":455},{"$f":"'Rec'' List'!$AE$5","v":427},null,{"$f":"'Rec'' List'!$AM$5","v":11756},{"$f":"'Rec'' List'!$AN$5","v":1913},{"$f":"'Rec'' List'!$AM$5","v":11756},null,"Darren Wallace",null,null,null,"ITC",{"$f":"Tables!CH9","v":"Ian Kenna"},null,null,null,null,null,null,null,"ROW 9-50 CONDITIONAL FORMATTING FORMULA","$B$7:$C$50,$E$9:$AB$50,$AD$7:$AF$50"]
[null,null,null,null,{"$f":"'Rec'' List'!$G$5","v":1918},null,null,null,null,{"$f":"'Rec'' List'!$L$5","v":1915},null,null,null,null,{"$f":"'Rec'' List'!$Q$5","v":2002},null,null,null,null,{"$f":"'Rec'' List'!$V$5","v":1913},null,null,null,null,{"$f":"'Rec'' List'!$AA$5","v":2039},null,null,null,null,{"$f":"'Rec'' List'!$AF$5","v":1969},null,null,null,null,null,null,null,null,{"$f":"AM13","v":"Darren Wallace"},null,null,null,"IT Tallaght",{"$f":"Tables!BV9","v":"Aldrin Campos"}]
[null,5,{"$f":"'Rec'' List'!$B$6","v":"UCD"},null,{"$f":"'Rec'' List'!$C$6","v":531},{"$f":"'Rec'' List'!$D$6","v":474},{"$f":"'Rec'' List'!$E$6","v":473},{"$f":"'Rec'' List'!$F$6","v":466},null,{"$f":"'Rec'' List'!$H$6","v":535},{"$f":"'Rec'' List'!$I$6","v":484},{"$f":"'Rec'' List'!$J$6","v":462},{"$f":"'Rec'' List'!$K$6","v":458},null,{"$f":"'Rec'' List'!$M$6","v":537},{"$f":"'Rec'' List'!$N$6","v":486},{"$f":"'Rec'' List'!$O$6","v":473},{"$f":"'Rec'' List'!$P$6","v":457},null,{"$f":"'Rec'' List'!$R$6","v":502},{"$f":"'Rec'' List'!$S$6","v":488},{"$f":"'Rec'' List'!$T$6","v":457},{"$f":"'Rec'' List'!$U$6","v":419},null,{"$f":"'Rec'' List'!$W$6","v":520},{"$f":"'Rec'' List'!$X$6","v":498},{"$f":"'Rec'' List'!$Y$6","v":479},{"$f":"'Rec'' List'!$Z$6","v":461},null,{"$f":"'Rec'' List'!$AB$6","v":526},{"$f":"'Rec'' List'!$AC$6","v":526},{"$f":"'Rec'' List'!$AD$6","v":502},{"$f":"'Rec'' List'!$AE$6","v":494},null,{"$f":"'Rec'' List'!$AM$6","v":11708},{"$f":"'Rec'' List'!$AN$6","v":1866},{"$f":"'Rec'' List'!$AM$6","v":11708},null,"Ines Rauch",null,null,null,"MU",{"$f":"Tables!CT9","v":"Aida Alexandru"}]
[null,null,null,null,{"$f":"'Rec'' List'!$G$6","v":1944},null,null,null,null,{"$f":"'Rec'' List'!$L$6","v":1939},null,null,null,null,{"$f":"'Rec'' List'!$Q$6","v":1953},null,null,null,null,{"$f":"'Rec'' List'!$V$6","v":1866},null,null,null,null,{"$f":"'Rec'' List'!$AA$6","v":1958},null,null,null,null,{"$f":"'Rec'' List'!$AF$6","v":2048},null,null,null,null,null,null,null,null,{"$f":"AM15","v":"Ines Rauch"},null,null,null,"NCAD",{"$f":"Tables!DF9","v":0}]
[null,6,{"$f":"'Rec'' List'!$B$7","v":"DIT"},null,{"$f":"'Rec'' List'!$C$7","v":559},{"$f":"'Rec'' List'!$D$7","v":499},{"$f":"'Rec'' List'!$E$7","v":475},{"$f":"'Rec'' List'!$F$7","v":421},null,{"$f":"'Rec'' List'!$H$7","v":486},{"$f":"'Rec'' List'!$I$7","v":480},{"$f":"'Rec'' List'!$J$7","v":476},{"$f":"'Rec'' List'!$K$7","v":467},null,{"$f":"'Rec'' List'!$M$7","v":527},{"$f":"'Rec'' List'!$N$7","v":494},{"$f":"'Rec'' List'!$O$7","v":480},{"$f":"'Rec'' List'!$P$7","v":437},null,{"$f":"'Rec'' List'!$R$7","v":530},{"$f":"'Rec'' List'!$S$7","v":509},{"$f":"'Rec'' List'!$T$7","v":488},{"$f":"'Rec'' List'!$U$7","v":485},null,{"$f":"'Rec'' List'!$W$7","v":529},{"$f":"'Rec'' List'!$X$7","v":508},{"$f":"'Rec'' List'!$Y$7","v":437},{"$f":"'Rec'' List'!$Z$7","v":398},null,{"$f":"'Rec'' List'!$AB$7","v":530},{"$f":"'Rec'' List'!$AC$7","v":503},{"$f":"'Rec'' List'!$AD$7","v":499},{"$f":"'Rec'' List'!$AE$7","v":478},null,{"$f":"'Rec'' List'!$AM$7","v":11695},{"$f":"'Rec'' List'!$AN$7","v":1872},{"$f":"'Rec'' List'!$AM$7","v":11695},null,"James Byrne",null,null,null,"NUIG",{"$f":"Tables!DR9","v":"Darren Wallace"}]
[null,null,null,null,{"$f":"'Rec'' List'!$G$7","v":1954},null,null,null,null,{"$f":"'Rec'' List'!$L$7","v":1909},null,null,null,null,{"$f":"'Rec'' List'!$Q$7","v":1938},null,null,null,null,{"$f":"'Rec'' List'!$V$7","v":2012},null,null,null,null,{"$f":"'Rec'' List'!$AA$7","v":1872},null,null,null,null,{"$f":"'Rec'' List'!$AF$7","v":2010},null,null,null,null,null,null,null,null,{"$f":"AM17","v":"James Byrne"},null,null,null,"RCSI",{"$f":"Tables!ED9","v":"Tan Shu leed"}]
[null,7,{"$f":"'Rec'' List'!$B$8","v":"DkIT"},null,{"$f":"'Rec'' List'!$C$8","v":503},{"$f":"'Rec'' List'!$D$8","v":471},{"$f":"'Rec'' List'!$E$8","v":466},{"$f":"'Rec'' List'!$F$8","v":465},null,{"$f":"'Rec'' List'!$H$8","v":542},{"$f":"'Rec'' List'!$I$8","v":464},{"$f":"'Rec'' List'!$J$8","v":442},{"$f":"'Rec'' List'!$K$8","v":427},null,{"$f":"'Rec'' List'!$M$8","v":496},{"$f":"'Rec'' List'!$N$8","v":462},{"$f":"'Rec'' List'!$O$8","v":443},{"$f":"'Rec'' List'!$P$8","v":421},null,{"$f":"'Rec'' List'!$R$8","v":513},{"$f":"'Rec'' List'!$S$8","v":413},{"$f":"'Rec'' List'!$T$8","v":404},{"$f":"'Rec'' List'!$U$8","v":362},null,{"$f":"'Rec'' List'!$W$8","v":556},{"$f":"'Rec'' List'!$X$8","v":475},{"$f":"'Rec'' List'!$Y$8","v":446},{"$f":"'Rec'' List'!$Z$8","v":397},null,{"$f":"'Rec'' List'!$AB$8","v":531},{"$f":"'Rec'' List'!$AC$8","v":432},{"$f":"'Rec'' List'!$AD$8","v":355},{"$f":"'Rec'' List'!$AE$8","v":352},null,{"$f":"'Rec'' List'!$AM$8","v":10838},{"$f":"'Rec'' List'!$AN$8","v":1670},{"$f":"'Rec'' List'!$AM$8","v":10838},null,"Brendan Forde",null,null,null,"UCC",{"$f":"Tables!EP9","v":"Simon Henleywillis"}]
[null,null,null,null,{"$f":"'Rec'' List'!$G$8","v":1905},null,null,null,null,{"$f":"'Rec'' List'!$L$8","v":1875},null,null,null,null,{"$f":"'Rec'' List'!$Q$8","v":1822},null,null,null,null,{"$f":"'Rec'' List'!$V$8","v":1692},null,null,null,null,{"$f":"'Rec'' List'!$AA$8","v":1874},null,null,null,null,{"$f":"'Rec'' List'!$AF$8","v":1670},null,null,null,null,null,null,null,null,{"$f":"AM19","v":"Brendan Forde"},null,null,null,"UCD",{"$f":"Tables!FB9","v":"Ines Rauch"}]
[null,8,{"$f":"'Rec'' List'!$B$9","v":"UCC"},null,{"$f":"'Rec'' List'!$C$9","v":495},{"$f":"'Rec'' List'!$D$9","v":452},{"$f":"'Rec'' List'!$E$9","v":451},{"$f":"'Rec'' List'!$F$9","v":450},null,{"$f":"'Rec'' List'!$H$9","v":489},{"$f":"'Rec'' List'!$I$9","v":458},{"$f":"'Rec'' List'!$J$9","v":450},{"$f":"'Rec'' List'!$K$9","v":312},null,{"$f":"'Rec'' List'!$M$9","v":486},{"$f":"'Rec'' List'!$N$9","v":414},{"$f":"'Rec'' List'!$O$9","v":374},{"$f":"'Rec'' List'!$P$9","v":0},null,{"$f":"'Rec'' List'!$R$9","v":0},{"$f":"'Rec'' List'!$S$9","v":0},{"$f":"'Rec'' List'!$T$9","v":0},{"$f":"'Rec'' List'!$U$9","v":0},null,{"$f":"'Rec'' List'!$W$9","v":488},{"$f":"'Rec'' List'!$X$9","v":479},{"$f":"'Rec'' List'!$Y$9","v":399},{"$f":"'Rec'' List'!$Z$9","v":252},null,{"$f":"'Rec'' List'!$AB$9","v":490},{"$f":"'Rec'' List'!$AC$9","v":465},{"$f":"'Rec'' List'!$AD$9","v":405},{"$f":"'Rec'' List'!$AE$9","v":314},null,{"$f":"'Rec'' List'!$AM$9","v":8123},{"$f":"'Rec'' List'!$AN$9","v":0},{"$f":"'Rec'' List'!$AM$9","v":8123},null,"Simon Henleywillis",null,null,null,"UL",{"$f":"Tables!FN9","v":"Sean Flavin"}]
[null,null,null,null,{"$f":"'Rec'' List'!$G$9","v":1848},null,null,null,null,{"$f":"'Rec'' List'!$L$9","v":1709},null,null,null,null,{"$f":"'Rec'' List'!$Q$9","v":1274},null,null,null,null,{"$f":"'Rec'' List'!$V$9","v":0},null,null,null,null,{"$f":"'Rec'' List'!$AA$9","v":1618},null,null,null,null,{"$f":"'Rec'' List'!$AF$9","v":1674},null,null,null,null,null,null,null,null,{"$f":"AM21","v":"Simon Henleywillis"},null,null,null,"UU",{"$f":"Tables!FZ9","v":"Peter Cummings"}]
[null,9,{"$f":"'Rec'' List'!$B$10","v":"GMIT"},null,{"$f":"'Rec'' List'!$C$10","v":346},{"$f":"'Rec'' List'!$D$10","v":252},{"$f":"'Rec'' List'!$E$10","v":252},{"$f":"'Rec'' List'!$F$10","v":242},null,{"$f":"'Rec'' List'!$H$10","v":354},{"$f":"'Rec'' List'!$I$10","v":88},{"$f":"'Rec'' List'!$J$10","v":0},{"$f":"'Rec'' List'!$K$10","v":0},null,{"$f":"'Rec'' List'!$M$10","v":424},{"$f":"'Rec'' List'!$N$10","v":400},{"$f":"'Rec'' List'!$O$10","v":389},{"$f":"'Rec'' List'!$P$10","v":325},null,{"$f":"'Rec'' List'!$R$10","v":437},{"$f":"'Rec'' List'!$S$10","v":430},{"$f":"'Rec'' List'!$T$10","v":380},{"$f":"'Rec'' List'!$U$10","v":373},null,{"$f":"'Rec'' List'!$W$10","v":458},{"$f":"'Rec'' List'!$X$10","v":444},{"$f":"'Rec'' List'!$Y$10","v":428},{"$f":"'Rec'' List'!$Z$10","v":422},null,{"$f":"'Rec'' List'!$AB$10","v":472},{"$f":"'Rec'' List'!$AC$10","v":444},{"$f":"'Rec'' List'!$AD$10","v":371},{"$f":"'Rec'' List'!$AE$10","v":361},null,{"$f":"'Rec'' List'!$AM$10","v":8092},{"$f":"'Rec'' List'!$AN$10","v":442},{"$f":"'Rec'' List'!$AM$10","v":8092},null,"Conor McCan",null,null,null,"WIT",{"$f":"Tables!GL9","v":"Laura Adams"}]
[null,null,null,null,{"$f":"'Rec'' List'!$G$10","v":1092},null,null,null,null,{"$f":"'Rec'' List'!$L$10","v":442},null,null,null,null,{"$f":"'Rec'' List'!$Q$10","v":1538},null,null,null,null,{"$f":"'Rec'' List'!$V$10","v":1620},null,null,null,null,{"$f":"'Rec'' List'!$AA$10","v":1752},null,null,null,null,{"$f":"'Rec'' List'!$AF$10","v":1648},null,null,null,null,null,null,null,null,{"$f":"AM23","v":"Conor McCan"},null,null,null,"AAA",{"$f":"Tables!GX9","v":0}]
[null,10,{"$f":"'Rec'' List'!$B$11","v":"ITC"},null,{"$f":"'Rec'' List'!$C$11","v":474},{"$f":"'Rec'' List'!$D$11","v":429},{"$f":"'Rec'' List'!$E$11","v":0},{"$f":"'Rec'' List'!$F$11","v":0},null,{"$f":"'Rec'' List'!$H$11","v":535},{"$f":"'Rec'' List'!$I$11","v":448},{"$f":"'Rec'' List'!$J$11","v":400},{"$f":"'Rec'' List'!$K$11","v":393},null,{"$f":"'Rec'' List'!$M$11","v":484},{"$f":"'Rec'' List'!$N$11","v":467},{"$f":"'Rec'' List'!$O$11","v":429},{"$f":"'Rec'' List'!$P$11","v":304},null,{"$f":"'Rec'' List'!$R$11","v":510},{"$f":"'Rec'' List'!$S$11","v":496},{"$f":"'Rec'' List'!$T$11","v":313},{"$f":"'Rec'' List'!$U$11","v":0},null,{"$f":"'Rec'' List'!$W$11","v":489},{"$f":"'Rec'' List'!$X$11","v":474},{"$f":"'Rec'' List'!$Y$11","v":337},{"$f":"'Rec'' List'!$Z$11","v":0},null,{"$f":"'Rec'' List'!$AB$11","v":526},{"$f":"'Rec'' List'!$AC$11","v":484},{"$f":"'Rec'' List'!$AD$11","v":399},{"$f":"'Rec'' List'!$AE$11","v":0},null,{"$f":"'Rec'' List'!$AM$11","v":8391},{"$f":"'Rec'' List'!$AN$11","v":903},{"$f":"'Rec'' List'!$AM$11","v":8391},null,"Ian Kenna",null,null,null,"BBB",{"$f":"Tables!HI9","v":0}]
[null,null,null,null,{"$f":"'Rec'' List'!$G$11","v":903},null,null,null,null,{"$f":"'Rec'' List'!$L$11","v":1776},null,null,null,null,{"$f":"'Rec'' List'!$Q$11","v":1684},null,null,null,null,{"$f":"'Rec'' List'!$V$11","v":1319},null,null,null,null,{"$f":"'Rec'' List'!$AA$11","v":1300},null,null,null,null,{"$f":"'Rec'' List'!$AF$11","v":1409},null,null,null,null,null,null,null,null,{"$f":"AM25","v":"Ian Kenna"},null,null,null,"CCC",{"$f":"Tables!HT9","v":0}]
[null,11,{"$f":"'Rec'' List'!$B$12","v":"IT Tallaght"},null,{"$f":"'Rec'' List'!$C$12","v":497},{"$f":"'Rec'' List'!$D$12","v":497},{"$f":"'Rec'' List'!$E$12","v":392},{"$f":"'Rec'' List'!$F$12","v":53},null,{"$f":"'Rec'' List'!$H$12","v":499},{"$f":"'Rec'' List'!$I$12","v":0},{"$f":"'Rec'' List'!$J$12","v":0},{"$f":"'Rec'' List'!$K$12","v":0},null,{"$f":"'Rec'' List'!$M$12","v":543},{"$f":"'Rec'' List'!$N$12","v":477},{"$f":"'Rec'' List'!$O$12","v":0},{"$f":"'Rec'' List'!$P$12","v":0},null,{"$f":"'Rec'' List'!$R$12","v":523},{"$f":"'Rec'' List'!$S$12","v":480},{"$f":"'Rec'' List'!$T$12","v":478},{"$f":"'Rec'' List'!$U$12","v":283},null,{"$f":"'Rec'' List'!$W$12","v":451},{"$f":"'Rec'' List'!$X$12","v":0},{"$f":"'Rec'' List'!$Y$12","v":0},{"$f":"'Rec'' List'!$Z$12","v":0},null,{"$f":"'Rec'' List'!$AB$12","v":525},{"$f":"'Rec'' List'!$AC$12","v":494},{"$f":"'Rec'' List'!$AD$12","v":423},{"$f":"'Rec'' List'!$AE$12","v":250},null,{"$f":"'Rec'' List'!$AM$12","v":6865},{"$f":"'Rec'' List'!$AN$12","v":451},{"$f":"'Rec'' List'!$AM$12","v":6865},null,"Aldrin Campos",null,null,null,"DDD",{"$f":"Tables!IE9","v":0}]
[null,null,null,null,{"$f":"'Rec'' List'!$G$12","v":1439},null,null,null,null,{"$f":"'Rec'' List'!$L$12","v":499},null,null,null,null,{"$f":"'Rec'' List'!$Q$12","v":1020},null,null,null,null,{"$f":"'Rec'' List'!$V$12","v":1764},null,null,null,null,{"$f":"'Rec'' List'!$AA$12","v":451},null,null,null,null,{"$f":"'Rec'' List'!$AF$12","v":1692},null,null,null,null,null,null,null,null,{"$f":"AM27","v":"Aldrin Campos"},null,null,null,"EEE",{"$f":"Tables!IP9","v":0}]
[null,12,{"$f":"'Rec'' List'!$B$13","v":"RCSI"},null,{"$f":"'Rec'' List'!$C$13","v":259},{"$f":"'Rec'' List'!$D$13","v":224},{"$f":"'Rec'' List'!$E$13","v":187},{"$f":"'Rec'' List'!$F$13","v":149},null,{"$f":"'Rec'' List'!$H$13","v":282},{"$f":"'Rec'' List'!$I$13","v":240},{"$f":"'Rec'' List'!$J$13","v":239},{"$f":"'Rec'' List'!$K$13","v":186},null,{"$f":"'Rec'' List'!$M$13","v":0},{"$f":"'Rec'' List'!$N$13","v":0},{"$f":"'Rec'' List'!$O$13","v":0},{"$f":"'Rec'' List'!$P$13","v":0},null,{"$f":"'Rec'' List'!$R$13","v":444},{"$f":"'Rec'' List'!$S$13","v":371},{"$f":"'Rec'' List'!$T$13","v":318},{"$f":"'Rec'' List'!$U$13","v":248},null,{"$f":"'Rec'' List'!$W$13","v":366},{"$f":"'Rec'' List'!$X$13","v":359},{"$f":"'Rec'' List'!$Y$13","v":282},{"$f":"'Rec'' List'!$Z$13","v":251},null,{"$f":"'Rec'' List'!$AB$13","v":407},{"$f":"'Rec'' List'!$AC$13","v":382},{"$f":"'Rec'' List'!$AD$13","v":232},{"$f":"'Rec'' List'!$AE$13","v":114},null,{"$f":"'Rec'' List'!$AM$13","v":5540},{"$f":"'Rec'' List'!$AN$13","v":0},{"$f":"'Rec'' List'!$AM$13","v":5540},null,"Tan Shu leed"]
[null,null,null,null,{"$f":"'Rec'' List'!$G$13","v":819},null,null,null,null,{"$f":"'Rec'' List'!$L$13","v":947},null,null,null,null,{"$f":"'Rec'' List'!$Q$13","v":0},null,null,null,null,{"$f":"'Rec'' List'!$V$13","v":1381},null,null,null,null,{"$f":"'Rec'' List'!$AA$13","v":1258},null,null,null,null,{"$f":"'Rec'' List'!$AF$13","v":1135},null,null,null,null,null,null,null,null,{"$f":"AM29","v":"Tan Shu leed"}]
[null,13,{"$f":"'Rec'' List'!$B$14","v":"UU"},null,{"$f":"'Rec'' List'!$C$14","v":564},{"$f":"'Rec'' List'!$D$14","v":445},{"$f":"'Rec'' List'!$E$14","v":0},{"$f":"'Rec'' List'!$F$14","v":0},null,{"$f":"'Rec'' List'!$H$14","v":548},{"$f":"'Rec'' List'!$I$14","v":500},{"$f":"'Rec'' List'!$J$14","v":472},{"$f":"'Rec'' List'!$K$14","v":322},null,{"$f":"'Rec'' List'!$M$14","v":559},{"$f":"'Rec'' List'!$N$14","v":476},{"$f":"'Rec'' List'!$O$14","v":0},{"$f":"'Rec'' List'!$P$14","v":0},null,{"$f":"'Rec'' List'!$R$14","v":557},{"$f":"'Rec'' List'!$S$14","v":531},{"$f":"'Rec'' List'!$T$14","v":381},{"$f":"'Rec'' List'!$U$14","v":0},null,{"$f":"'Rec'' List'!$W$14","v":0},{"$f":"'Rec'' List'!$X$14","v":0},{"$f":"'Rec'' List'!$Y$14","v":0},{"$f":"'Rec'' List'!$Z$14","v":0},null,{"$f":"'Rec'' List'!$AB$14","v":0},{"$f":"'Rec'' List'!$AC$14","v":0},{"$f":"'Rec'' List'!$AD$14","v":0},{"$f":"'Rec'' List'!$AE$14","v":0},null,{"$f":"'Rec'' List'!$AM$14","v":5355},{"$f":"'Rec'' List'!$AN$14","v":0},{"$f":"'Rec'' List'!$AM$14","v":5355},null,"Peter Cummings"]
[null,null,null,null,{"$f":"'Rec'' List'!$G$14","v":1009},null,null,null,null,{"$f":"'Rec'' List'!$L$14","v":1842},null,null,null,null,{"$f":"'Rec'' List'!$Q$14","v":1035},null,null,null,null,{"$f":"'Rec'' List'!$V$14","v":1469},null,null,null,null,{"$f":"'Rec'' List'!$AA$14","v":0},null,null,null,null,{"$f":"'Rec'' List'!$AF$14","v":0},null,null,null,null,null,null,null,null,{"$f":"AM31","v":"Peter Cummings"}]
[null,14,{"$f":"'Rec'' List'!$B$15","v":"BCFE"},null,{"$f":"'Rec'' List'!$C$15","v":552},{"$f":"'Rec'' List'!$D$15","v":0},{"$f":"'Rec'' List'!$E$15","v":0},{"$f":"'Rec'' List'!$F$15","v":0},null,{"$f":"'Rec'' List'!$H$15","v":546},{"$f":"'Rec'' List'!$I$15","v":0},{"$f":"'Rec'' List'!$J$15","v":0},{"$f":"'Rec'' List'!$K$15","v":0},null,{"$f":"'Rec'' List'!$M$15","v":562},{"$f":"'Rec'' List'!$N$15","v":0},{"$f":"'Rec'' List'!$O$15","v":0},{"$f":"'Rec'' List'!$P$15","v":0},null,{"$f":"'Rec'' List'!$R$15","v":550},{"$f":"'Rec'' List'!$S$15","v":0},{"$f":"'Rec'' List'!$T$15","v":0},{"$f":"'Rec'' List'!$U$15","v":0},null,{"$f":"'Rec'' List'!$W$15","v":559},{"$f":"'Rec'' List'!$X$15","v":0},{"$f":"'Rec'' List'!$Y$15","v":0},{"$f":"'Rec'' List'!$Z$15","v":0},null,{"$f":"'Rec'' List'!$AB$15","v":548},{"$f":"'Rec'' List'!$AC$15","v":0},{"$f":"'Rec'' List'!$AD$15","v":0},{"$f":"'Rec'' List'!$AE$15","v":0},null,{"$f":"'Rec'' List'!$AM$15","v":3317},{"$f":"'Rec'' List'!$AN$15","v":546},{"$f":"'Rec'' List'!$AM$15","v":3317},null,{"$error":"#N/A"}]
[null,null,null,null,{"$f":"'Rec'' List'!$G$15","v":552},null,null,null,null,{"$f":"'Rec'' List'!$L$15","v":546},null,null,null,null,{"$f":"'Rec'' List'!$Q$15","v":562},null,null,null,null,{"$f":"'Rec'' List'!$V$15","v":550},null,null,null,null,{"$f":"'Rec'' List'!$AA$15","v":559},null,null,null,null,{"$f":"'Rec'' List'!$AF$15","v":548},null,null,null,null,null,null,null,null,{"$f":"AM33","v":{"$error":"#N/A"}}]
[null,15,{"$f":"'Rec'' List'!$B$16","v":"GMITC"},null,{"$f":"'Rec'' List'!$C$16","v":366},{"$f":"'Rec'' List'!$D$16","v":337},{"$f":"'Rec'' List'!$E$16","v":0},{"$f":"'Rec'' List'!$F$16","v":0},null,{"$f":"'Rec'' List'!$H$16","v":452},{"$f":"'Rec'' List'!$I$16","v":0},{"$f":"'Rec'' List'!$J$16","v":0},{"$f":"'Rec'' List'!$K$16","v":0},null,{"$f":"'Rec'' List'!$M$16","v":413},{"$f":"'Rec'' List'!$N$16","v":0},{"$f":"'Rec'' List'!$O$16","v":0},{"$f":"'Rec'' List'!$P$16","v":0},null,{"$f":"'Rec'' List'!$R$16","v":423},{"$f":"'Rec'' List'!$S$16","v":0},{"$f":"'Rec'' List'!$T$16","v":0},{"$f":"'Rec'' List'!$U$16","v":0},null,{"$f":"'Rec'' List'!$W$16","v":445},{"$f":"'Rec'' List'!$X$16","v":0},{"$f":"'Rec'' List'!$Y$16","v":0},{"$f":"'Rec'' List'!$Z$16","v":0},null,{"$f":"'Rec'' List'!$AB$16","v":452},{"$f":"'Rec'' List'!$AC$16","v":0},{"$f":"'Rec'' List'!$AD$16","v":0},{"$f":"'Rec'' List'!$AE$16","v":0},null,{"$f":"'Rec'' List'!$AM$16","v":2888},{"$f":"'Rec'' List'!$AN$16","v":413},{"$f":"'Rec'' List'!$AM$16","v":2888},null,"Sinead Naughton"]
[null,null,null,null,{"$f":"'Rec'' List'!$G$16","v":703},null,null,null,null,{"$f":"'Rec'' List'!$L$16","v":452},null,null,null,null,{"$f":"'Rec'' List'!$Q$16","v":413},null,null,null,null,{"$f":"'Rec'' List'!$V$16","v":423},null,null,null,null,{"$f":"'Rec'' List'!$AA$16","v":445},null,null,null,null,{"$f":"'Rec'' List'!$AF$16","v":452},null,null,null,null,null,null,null,null,{"$f":"AM35","v":"Sinead Naughton"}]
[null,16,{"$f":"'Rec'' List'!$B$17","v":"QUB"},null,{"$f":"'Rec'' List'!$C$17","v":454},{"$f":"'Rec'' List'!$D$17","v":0},{"$f":"'Rec'' List'!$E$17","v":0},{"$f":"'Rec'' List'!$F$17","v":0},null,{"$f":"'Rec'' List'!$H$17","v":0},{"$f":"'Rec'' List'!$I$17","v":0},{"$f":"'Rec'' List'!$J$17","v":0},{"$f":"'Rec'' List'!$K$17","v":0},null,{"$f":"'Rec'' List'!$M$17","v":0},{"$f":"'Rec'' List'!$N$17","v":0},{"$f":"'Rec'' List'!$O$17","v":0},{"$f":"'Rec'' List'!$P$17","v":0},null,{"$f":"'Rec'' List'!$R$17","v":0},{"$f":"'Rec'' List'!$S$17","v":0},{"$f":"'Rec'' List'!$T$17","v":0},{"$f":"'Rec'' List'!$U$17","v":0},null,{"$f":"'Rec'' List'!$W$17","v":471},{"$f":"'Rec'' List'!$X$17","v":0},{"$f":"'Rec'' List'!$Y$17","v":0},{"$f":"'Rec'' List'!$Z$17","v":0},null,{"$f":"'Rec'' List'!$AB$17","v":0},{"$f":"'Rec'' List'!$AC$17","v":0},{"$f":"'Rec'' List'!$AD$17","v":0},{"$f":"'Rec'' List'!$AE$17","v":0},null,{"$f":"'Rec'' List'!$AM$17","v":925},{"$f":"'Rec'' List'!$AN$17","v":0},{"$f":"'Rec'' List'!$AM$17","v":925},null,{"$error":"#N/A"}]
[null,null,null,null,{"$f":"'Rec'' List'!$G$17","v":454},null,null,null,null,{"$f":"'Rec'' List'!$L$17","v":0},null,null,null,null,{"$f":"'Rec'' List'!$Q$17","v":0},null,null,null,null,{"$f":"'Rec'' List'!$V$17","v":0},null,null,null,null,{"$f":"'Rec'' List'!$AA$17","v":471},null,null,null,null,{"$f":"'Rec'' List'!$AF$17","v":0},null,null,null,null,null,null,null,null,{"$f":"AM37","v":{"$error":"#N/A"}}]
[null,17,{"$f":"'Rec'' List'!$B$18","v":"CD"},null,{"$f":"'Rec'' List'!$C$18","v":0},{"$f":"'Rec'' List'!$D$18","v":0},{"$f":"'Rec'' List'!$E$18","v":0},{"$f":"'Rec'' List'!$F$18","v":0},null,{"$f":"'Rec'' List'!$H$18","v":0},{"$f":"'Rec'' List'!$I$18","v":0},{"$f":"'Rec'' List'!$J$18","v":0},{"$f":"'Rec'' List'!$K$18","v":0},null,{"$f":"'Rec'' List'!$M$18","v":0},{"$f":"'Rec'' List'!$N$18","v":0},{"$f":"'Rec'' List'!$O$18","v":0},{"$f":"'Rec'' List'!$P$18","v":0},null,{"$f":"'Rec'' List'!$R$18","v":0},{"$f":"'Rec'' List'!$S$18","v":0},{"$f":"'Rec'' List'!$T$18","v":0},{"$f":"'Rec'' List'!$U$18","v":0},null,{"$f":"'Rec'' List'!$W$18","v":0},{"$f":"'Rec'' List'!$X$18","v":0},{"$f":"'Rec'' List'!$Y$18","v":0},{"$f":"'Rec'' List'!$Z$18","v":0},null,{"$f":"'Rec'' List'!$AB$18","v":0},{"$f":"'Rec'' List'!$AC$18","v":0},{"$f":"'Rec'' List'!$AD$18","v":0},{"$f":"'Rec'' List'!$AE$18","v":0},null,{"$f":"'Rec'' List'!$AM$18","v":0},{"$f":"'Rec'' List'!$AN$18","v":0},{"$f":"'Rec'' List'!$AM$18","v":0},null,{"$error":"#N/A"}]
[null,null,null,null,{"$f":"'Rec'' List'!$G$18","v":0},null,null,null,null,{"$f":"'Rec'' List'!$L$18","v":0},null,null,null,null,{"$f":"'Rec'' List'!$Q$18","v":0},null,null,null,null,{"$f":"'Rec'' List'!$V$18","v":0},null,null,null,null,{"$f":"'Rec'' List'!$AA$18","v":0},null,null,null,null,{"$f":"'Rec'' List'!$AF$18","v":0},null,null,null,null,null,null,null,null,{"$f":"AM39","v":{"$error":"#N/A"}}]
[null,18,{"$f":"'Rec'' List'!$B$19","v":"AAA"},null,{"$f":"'Rec'' List'!$C$19","v":0},{"$f":"'Rec'' List'!$D$19","v":0},{"$f":"'Rec'' List'!$E$19","v":0},{"$f":"'Rec'' List'!$F$19","v":0},null,{"$f":"'Rec'' List'!$H$19","v":0},{"$f":"'Rec'' List'!$I$19","v":0},{"$f":"'Rec'' List'!$J$19","v":0},{"$f":"'Rec'' List'!$K$19","v":0},null,{"$f":"'Rec'' List'!$M$19","v":0},{"$f":"'Rec'' List'!$N$19","v":0},{"$f":"'Rec'' List'!$O$19","v":0},{"$f":"'Rec'' List'!$P$19","v":0},null,{"$f":"'Rec'' List'!$R$19","v":0},{"$f":"'Rec'' List'!$S$19","v":0},{"$f":"'Rec'' List'!$T$19","v":0},{"$f":"'Rec'' List'!$U$19","v":0},null,{"$f":"'Rec'' List'!$W$19","v":0},{"$f":"'Rec'' List'!$X$19","v":0},{"$f":"'Rec'' List'!$Y$19","v":0},{"$f":"'Rec'' List'!$Z$19","v":0},null,{"$f":"'Rec'' List'!$AB$19","v":{"$error":"#NUM!"}},{"$f":"'Rec'' List'!$AC$19","v":{"$error":"#NUM!"}},{"$f":"'Rec'' List'!$AD$19","v":{"$error":"#NUM!"}},{"$f":"'Rec'' List'!$AE$19","v":{"$error":"#NUM!"}},null,{"$f":"'Rec'' List'!$AM$19","v":{"$error":"#NUM!"}},{"$f":"'Rec'' List'!$AN$19","v":{"$error":"#NUM!"}},{"$f":"'Rec'' List'!$AO$19","v":-0.7},null,{"$error":"#N/A"}]
[null,null,null,null,{"$f":"'Rec'' List'!$G$19","v":0},null,null,null,null,{"$f":"'Rec'' List'!$L$19","v":0},null,null,null,null,{"$f":"'Rec'' List'!$Q$19","v":0},null,null,null,null,{"$f":"'Rec'' List'!$V$19","v":0},null,null,null,null,{"$f":"'Rec'' List'!$AA$19","v":0},null,null,null,null,{"$f":"'Rec'' List'!$AF$19","v":{"$error":"#NUM!"}},null,null,null,null,null,null,null,null,{"$f":"AM41","v":{"$error":"#N/A"}}]
[null,19,{"$f":"'Rec'' List'!$B$20","v":"BBB"},null,{"$f":"'Rec'' List'!$C$20","v":0},{"$f":"'Rec'' List'!$D$20","v":0},{"$f":"'Rec'' List'!$E$20","v":0},{"$f":"'Rec'' List'!$F$20","v":0},null,{"$f":"'Rec'' List'!$H$20","v":0},{"$f":"'Rec'' List'!$I$20","v":0},{"$f":"'Rec'' List'!$J$20","v":0},{"$f":"'Rec'' List'!$K$20","v":0},null,{"$f":"'Rec'' List'!$M$20","v":0},{"$f":"'Rec'' List'!$N$20","v":0},{"$f":"'Rec'' List'!$O$20","v":0},{"$f":"'Rec'' List'!$P$20","v":0},null,{"$f":"'Rec'' List'!$R$20","v":0},{"$f":"'Rec'' List'!$S$20","v":0},{"$f":"'Rec'' List'!$T$20","v":0},{"$f":"'Rec'' List'!$U$20","v":0},null,{"$f":"'Rec'' List'!$W$20","v":0},{"$f":"'Rec'' List'!$X$20","v":0},{"$f":"'Rec'' List'!$Y$20","v":0},{"$f":"'Rec'' List'!$Z$20","v":0},null,{"$f":"'Rec'' List'!$AB$20","v":{"$error":"#NUM!"}},{"$f":"'Rec'' List'!$AC$20","v":{"$error":"#NUM!"}},{"$f":"'Rec'' List'!$AD$20","v":{"$error":"#NUM!"}},{"$f":"'Rec'' List'!$AE$20","v":{"$error":"#NUM!"}},null,{"$f":"'Rec'' List'!$AM$20","v":{"$error":"#NUM!"}},{"$f":"'Rec'' List'!$AN$20","v":{"$error":"#NUM!"}},{"$f":"'Rec'' List'!$AO$20","v":-0.7},null,{"$error":"#N/A"}]
[null,null,null,null,{"$f":"'Rec'' List'!$G$20","v":0},null,null,null,null,{"$f":"'Rec'' List'!$L$20","v":0},null,null,null,null,{"$f":"'Rec'' List'!$Q$20","v":0},null,null,null,null,{"$f":"'Rec'' List'!$V$20","v":0},null,null,null,null,{"$f":"'Rec'' List'!$AA$20","v":0},null,null,null,null,{"$f":"'Rec'' List'!$AF$20","v":{"$error":"#NUM!"}},null,null,null,null,null,null,null,null,{"$f":"AM43","v":{"$error":"#N/A"}}]
[null,20,{"$f":"'Rec'' List'!$B$21","v":"CCC"},null,{"$f":"'Rec'' List'!$C$21","v":0},{"$f":"'Rec'' List'!$D$21","v":0},{"$f":"'Rec'' List'!$E$21","v":0},{"$f":"'Rec'' List'!$F$21","v":0},null,{"$f":"'Rec'' List'!$H$21","v":0},{"$f":"'Rec'' List'!$I$21","v":0},{"$f":"'Rec'' List'!$J$21","v":0},{"$f":"'Rec'' List'!$K$21","v":0},null,{"$f":"'Rec'' List'!$M$21","v":0},{"$f":"'Rec'' List'!$N$21","v":0},{"$f":"'Rec'' List'!$O$21","v":0},{"$f":"'Rec'' List'!$P$21","v":0},null,{"$f":"'Rec'' List'!$R$21","v":0},{"$f":"'Rec'' List'!$S$21","v":0},{"$f":"'Rec'' List'!$T$21","v":0},{"$f":"'Rec'' List'!$U$21","v":0},null,{"$f":"'Rec'' List'!$W$21","v":0},{"$f":"'Rec'' List'!$X$21","v":0},{"$f":"'Rec'' List'!$Y$21","v":0},{"$f":"'Rec'' List'!$Z$21","v":0},null,{"$f":"'Rec'' List'!$AB$21","v":{"$error":"#NUM!"}},{"$f":"'Rec'' List'!$AC$21","v":{"$error":"#NUM!"}},{"$f":"'Rec'' List'!$AD$21","v":{"$error":"#NUM!"}},{"$f":"'Rec'' List'!$AE$21","v":{"$error":"#NUM!"}},null,{"$f":"'Rec'' List'!$AM$21","v":{"$error":"#NUM!"}},{"$f":"'Rec'' List'!$AN$21","v":{"$error":"#NUM!"}},{"$f":"'Rec'' List'!$AO$21","v":-0.7},null,{"$error":"#N/A"}]
[null,null,null,null,{"$f":"'Rec'' List'!$G$21","v":0},null,null,null,null,{"$f":"'Rec'' List'!$L$21","v":0},null,null,null,null,{"$f":"'Rec'' List'!$Q$21","v":0},null,null,null,null,{"$f":"'Rec'' List'!$V$21","v":0},null,null,null,null,{"$f":"'Rec'' List'!$AA$21","v":0},null,null,null,null,{"$f":"'Rec'' List'!$AF$21","v":{"$error":"#NUM!"}},null,null,null,null,null,null,null,null,{"$f":"AM45","v":{"$error":"#N/A"}}]
[null,21,{"$f":"'Rec'' List'!$B$22","v":"DDD"},null,{"$f":"'Rec'' List'!$C$22","v":0},{"$f":"'Rec'' List'!$D$22","v":0},{"$f":"'Rec'' List'!$E$22","v":0},{"$f":"'Rec'' List'!$F$22","v":0},null,{"$f":"'Rec'' List'!$H$22","v":0},{"$f":"'Rec'' List'!$I$22","v":0},{"$f":"'Rec'' List'!$J$22","v":0},{"$f":"'Rec'' List'!$K$22","v":0},null,{"$f":"'Rec'' List'!$M$22","v":0},{"$f":"'Rec'' List'!$N$22","v":0},{"$f":"'Rec'' List'!$O$22","v":0},{"$f":"'Rec'' List'!$P$22","v":0},null,{"$f":"'Rec'' List'!$R$22","v":0},{"$f":"'Rec'' List'!$S$22","v":0},{"$f":"'Rec'' List'!$T$22","v":0},{"$f":"'Rec'' List'!$U$22","v":0},null,{"$f":"'Rec'' List'!$W$22","v":0},{"$f":"'Rec'' List'!$X$22","v":0},{"$f":"'Rec'' List'!$Y$22","v":0},{"$f":"'Rec'' List'!$Z$22","v":0},null,{"$f":"'Rec'' List'!$AB$22","v":{"$error":"#NUM!"}},{"$f":"'Rec'' List'!$AC$22","v":{"$error":"#NUM!"}},{"$f":"'Rec'' List'!$AD$22","v":{"$error":"#NUM!"}},{"$f":"'Rec'' List'!$AE$22","v":{"$error":"#NUM!"}},null,{"$f":"'Rec'' List'!$AM$22","v":{"$error":"#NUM!"}},{"$f":"'Rec'' List'!$AN$22","v":{"$error":"#NUM!"}},{"$f":"'Rec'' List'!$AO$22","v":-0.7},null,{"$error":"#N/A"}]
[null,null,null,null,{"$f":"'Rec'' List'!$G$22","v":0},null,null,null,null,{"$f":"'Rec'' List'!$L$22","v":0},null,null,null,null,{"$f":"'Rec'' List'!$Q$22","v":0},null,null,null,null,{"$f":"'Rec'' List'!$V$22","v":0},null,null,null,null,{"$f":"'Rec'' List'!$AA$22","v":0},null,null,null,null,{"$f":"'Rec'' List'!$AF$22","v":{"$error":"#NUM!"}},null,null,null,null,null,null,null,null,{"$f":"AM47","v":{"$error":"#N/A"}}]
[null,22,{"$f":"'Rec'' List'!$B$23","v":"EEE"},null,{"$f":"'Rec'' List'!$C$23","v":0},{"$f":"'Rec'' List'!$D$23","v":0},{"$f":"'Rec'' List'!$E$23","v":0},{"$f":"'Rec'' List'!$F$23","v":0},null,{"$f":"'Rec'' List'!$H$23","v":0},{"$f":"'Rec'' List'!$I$23","v":0},{"$f":"'Rec'' List'!$J$23","v":0},{"$f":"'Rec'' List'!$K$23","v":0},null,{"$f":"'Rec'' List'!$M$23","v":0},{"$f":"'Rec'' List'!$N$23","v":0},{"$f":"'Rec'' List'!$O$23","v":0},{"$f":"'Rec'' List'!$P$23","v":0},null,{"$f":"'Rec'' List'!$R$23","v":0},{"$f":"'Rec'' List'!$S$23","v":0},{"$f":"'Rec'' List'!$T$23","v":0},{"$f":"'Rec'' List'!$U$23","v":0},null,{"$f":"'Rec'' List'!$W$23","v":0},{"$f":"'Rec'' List'!$X$23","v":0},{"$f":"'Rec'' List'!$Y$23","v":0},{"$f":"'Rec'' List'!$Z$23","v":0},null,{"$f":"'Rec'' List'!$AB$23","v":{"$error":"#NUM!"}},{"$f":"'Rec'' List'!$AC$23","v":{"$error":"#NUM!"}},{"$f":"'Rec'' List'!$AD$23","v":{"$error":"#NUM!"}},{"$f":"'Rec'' List'!$AE$23","v":{"$error":"#NUM!"}},null,{"$f":"'Rec'' List'!$AM$23","v":{"$error":"#NUM!"}},{"$f":"'Rec'' List'!$AN$23","v":{"$error":"#NUM!"}},{"$f":"'Rec'' List'!$AO$23","v":-0.7},null,{"$error":"#N/A"}]
[null,null,null,null,{"$f":"'Rec'' List'!$G$23","v":0},null,null,null,null,{"$f":"'Rec'' List'!$L$23","v":0},null,null,null,null,{"$f":"'Rec'' List'!$Q$23","v":0},null,null,null,null,{"$f":"'Rec'' List'!$V$23","v":0},null,null,null,null,{"$f":"'Rec'' List'!$AA$23","v":0},null,null,null,null,{"$f":"'Rec'' List'!$AF$23","v":{"$error":"#NUM!"}},null,null,null,null,null,null,null,null,{"$f":"AM49","v":{"$error":"#N/A"}}]
[null,{"$f":"$C$7","v":"DCU"}]

{"sheet":"Bare' Team","index":20,"n_rows":51,"n_cols":50,"rows_kept":51,"cut":false,"hidden":false,"merged":[[49,24,49,26],[1,31,49,31],[50,0,50,31],[1,0,49,0],[0,0,0,31],[48,1,49,1],[48,2,49,2],[48,28,49,28],[48,29,49,29],[48,30,49,30],[49,4,49,6],[49,8,49,10],[49,12,49,14],[49,16,49,18],[49,20,49,22],[1,3,49,3],[1,27,49,27],[46,1,47,1],[46,2,47,2],[46,28,47,28],[46,29,47,29],[46,30,47,30],[47,4,47,6],[47,8,47,10],[47,12,47,14],[47,16,47,18],[47,20,47,22],[44,1,45,1],[44,2,45,2],[44,28,45,28],[44,29,45,29],[44,30,45,30],[45,4,45,6],[45,8,45,10],[45,12,45,14],[45,16,45,18],[45,20,45,22],[45,24,45,26],[47,24,47,26],[42,1,43,1],[42,2,43,2],[42,28,43,28],[42,29,43,29],[42,30,43,30],[43,4,43,6],[43,8,43,10],[43,12,43,14],[43,16,43,18],[43,20,43,22],[43,24,43,26],[40,1,41,1],[40,2,41,2],[40,28,41,28],[40,29,41,29],[40,30,41,30],[41,4,41,6],[41,8,41,10],[41,12,41,14],[41,16,41,18],[41,20,41,22],[41,24,41,26],[6,1,7,1],[6,2,7,2],[7,4,7,6],[7,8,7,10],[7,12,7,14],[1,1,3,2],[1,28,4,28],[1,29,4,29],[6,29,7,29],[5,28,5,30],[5,1,5,2],[1,30,4,30],[4,1,4,2],[5,4,5,26],[1,4,4,26],[7,24,7,26],[11,12,11,14],[8,1,9,1],[8,2,9,2],[8,28,9,28],[8,29,9,29],[9,4,9,6],[9,8,9,10],[9,12,9,14],[9,16,9,18],[9,20,9,22],[10,28,11,28],[10,29,11,29],[9,24,9,26],[11,24,11,26],[10,30,11,30],[11,16,11,18],[11,20,11,22],[7,16,7,18],[7,20,7,22],[6,28,7,28],[14,1,15,1],[14,2,15,2],[15,4,15,6],[15,8,15,10],[15,12,15,14],[12,1,13,1],[12,2,13,2],[12,28,13,28],[12,29,13,29],[13,4,13,6],[13,8,13,10],[13,12,13,14],[6,30,7,30],[8,30,9,30],[10,1,11,1],[10,2,11,2],[11,4,11,6],[11,8,11,10],[18,1,19,1],[18,2,19,2],[19,4,19,6],[19,8,19,10],[19,12,19,14],[16,1,17,1],[16,2,17,2],[16,28,17,28],[16,29,17,29],[17,4,17,6],[17,8,17,10],[17,12,17,14],[17,24,17,26],[19,24,19,26],[22,1,23,1],[22,2,23,2],[23,4,23,6],[23,8,23,10],[23,12,23,14],[20,1,21,1],[20,2,21,2],[20,28,21,28],[20,29,21,29],[21,4,21,6],[21,8,21,10],[21,12,21,14],[21,16,21,18],[21,20,21,22],[22,28,23,28],[22,29,23,29],[21,24,21,26],[23,24,23,26],[26,1,27,1],[26,2,27,2],[27,4,27,6],[27,8,27,10],[27,12,27,14],[24,1,25,1],[24,2,25,2],[24,28,25,28],[24,29,25,29],[25,4,25,6],[25,8,25,10],[25,12,25,14],[25,24,25,26],[27,24,27,26],[30,1,31,1],[30,2,31,2],[31,4,31,6],[31,8,31,10],[31,12,31,14],[28,1,29,1],[28,2,29,2],[28,28,29,28],[28,29,29,29],[29,4,29,6],[29,8,29,10],[29,12,29,14],[29,16,29,18],[29,20,29,22],[30,28,31,28],[30,29,31,29],[29,24,29,26],[31,24,31,26],[34,1,35,1],[34,2,35,2],[35,4,35,6],[35,8,35,10],[35,12,35,14],[32,1,33,1],[32,2,33,2],[32,28,33,28],[32,29,33,29],[33,4,33,6],[33,8,33,10],[33,12,33,14],[33,24,33,26],[35,24,35,26],[38,1,39,1],[38,2,39,2],[39,4,39,6],[39,8,39,10],[39,12,39,14],[36,1,37,1],[36,2,37,2],[36,28,37,28],[36,29,37,29],[37,4,37,6],[37,8,37,10],[37,12,37,14],[37,16,37,18],[37,20,37,22],[38,28,39,28],[38,29,39,29],[37,24,37,26],[39,24,39,26],[22,30,23,30],[23,16,23,18],[23,20,23,22],[13,16,13,18],[13,20,13,22],[18,28,19,28],[18,29,19,29],[18,30,19,30],[19,16,19,18],[19,20,19,22],[17,16,17,18],[17,20,17,22],[14,28,15,28],[14,29,15,29],[14,30,15,30],[15,16,15,18],[15,20,15,22],[20,30,21,30],[16,30,17,30],[12,30,13,30],[13,24,13,26],[15,24,15,26],[30,30,31,30],[31,16,31,18],[31,20,31,22],[25,16,25,18],[25,20,25,22],[26,28,27,28],[26,29,27,29],[26,30,27,30],[27,16,27,18],[27,20,27,22],[28,30,29,30],[24,30,25,30],[38,30,39,30],[39,16,39,18],[39,20,39,22],[33,16,33,18],[33,20,33,22],[34,28,35,28],[34,29,35,29],[34,30,35,30],[35,16,35,18],[35,20,35,22],[36,30,37,30],[32,30,33,30]]}
[{"$f":"$C$7","v":"NUIG"}]
[{"$f":"$C$7","v":"NUIG"},"Barebow Team",null,{"$f":"$C$7","v":"NUIG"},null,null,null,null,null,null,null,null,null,null,null,null,null,null,null,null,null,null,null,null,null,null,null,{"$f":"$C$7","v":"NUIG"},"Total","Lowest","League",{"$f":"$C$7","v":"NUIG"},null,null,null,null,null,{"$f":"AL7","v":"Tom McGrath"}]
[]
[]
[]
[null,{"$f":"$C$7","v":"NUIG"},null,null,"NUIG",null,null,null,null,null,null,null,null,null,null,null,null,null,null,null,null,null,null,null,null,null,null,null,{"$f":"$C$7","v":"NUIG"}]
[null,1,{"$f":"'Bare'' List'!$B$2","v":"NUIG"},null,{"$f":"'Bare'' List'!$C$2","v":398},{"$f":"'Bare'' List'!$D$2","v":306},{"$f":"'Bare'' List'!$E$2","v":241},null,{"$f":"'Bare'' List'!$G$2","v":357},{"$f":"'Bare'' List'!$H$2","v":332},{"$f":"'Bare'' List'!$I$2","v":317},null,{"$f":"'Bare'' List'!$K$2","v":411},{"$f":"'Bare'' List'!$L$2","v":389},{"$f":"'Bare'' List'!$M$2","v":356},null,{"$f":"'Bare'' List'!$O$2","v":357},{"$f":"'Bare'' List'!$P$2","v":306},{"$f":"'Bare'' List'!$Q$2","v":306},null,{"$f":"'Bare'' List'!$S$2","v":434},{"$f":"'Bare'' List'!$T$2","v":430},{"$f":"'Bare'' List'!$U$2","v":389},null,{"$f":"'Bare'' List'!$W$2","v":346},{"$f":"'Bare'' List'!$X$2","v":345},{"$f":"'Bare'' List'!$Y$2","v":336},null,{"$f":"'Bare'' List'!$AG$2","v":6356},{"$f":"'Bare'' List'!$AH$2","v":945},{"$f":"'Bare'' List'!$AG$2","v":6356},null,null,null,null,null,null,{"$f":"VLOOKUP($C7,$AP$7:$AQ$24,2,0)","v":"Tom McGrath"},null,null,null,"DCU",{"$f":"Tables!B50","v":"Jericho Siababa"}]
[null,null,null,null,{"$f":"'Bare'' List'!$F$2","v":945},null,null,null,{"$f":"'Bare'' List'!$J$2","v":1006},null,null,null,{"$f":"'Bare'' List'!$N$2","v":1156},null,null,null,{"$f":"'Bare'' List'!$R$2","v":969},null,null,null,{"$f":"'Bare'' List'!$V$2","v":1253},null,null,null,{"$f":"'Bare'' List'!$Z$2","v":1027},null,null,null,null,null,null,null,null,null,null,null,null,{"$f":"AL7","v":"Tom McGrath"},null,null,null,"DIT",{"$f":"Tables!N50","v":0}]
[null,2,{"$f":"'Bare'' List'!$B$3","v":"GMITC"},null,{"$f":"'Bare'' List'!$C$3","v":309},{"$f":"'Bare'' List'!$D$3","v":0},{"$f":"'Bare'' List'!$E$3","v":0},null,{"$f":"'Bare'' List'!$G$3","v":281},{"$f":"'Bare'' List'!$H$3","v":280},{"$f":"'Bare'' List'!$I$3","v":0},null,{"$f":"'Bare'' List'!$K$3","v":419},{"$f":"'Bare'' List'!$L$3","v":414},{"$f":"'Bare'' List'!$M$3","v":352},null,{"$f":"'Bare'' List'!$O$3","v":405},{"$f":"'Bare'' List'!$P$3","v":312},{"$f":"'Bare'' List'!$Q$3","v":287},null,{"$f":"'Bare'' List'!$S$3","v":359},{"$f":"'Bare'' List'!$T$3","v":332},{"$f":"'Bare'' List'!$U$3","v":283},null,{"$f":"'Bare'' List'!$W$3","v":380},{"$f":"'Bare'' List'!$X$3","v":367},{"$f":"'Bare'' List'!$Y$3","v":359},null,{"$f":"'Bare'' List'!$AG$3","v":5139},{"$f":"'Bare'' List'!$AH$3","v":309},{"$f":"'Bare'' List'!$AG$3","v":5139},null,null,null,null,null,null,{"$f":"VLOOKUP($C9,$AP$8:$AQ$24,2,0)","v":"Darren Griffin"},null,null,null,"DkIT",{"$f":"Tables!Z50","v":0},null,null,null,null,null,"ROW 7-8 CONDITIONAL FORMATTING FORMULA","$B$7:$C$7,$E$7:$W$8,$Y$7:$AA$7"]
[null,null,null,null,{"$f":"'Bare'' List'!$F$3","v":309},null,null,null,{"$f":"'Bare'' List'!$J$3","v":561},null,null,null,{"$f":"'Bare'' List'!$N$3","v":1185},null,null,null,{"$f":"'Bare'' List'!$R$3","v":1004},null,null,null,{"$f":"'Bare'' List'!$V$3","v":974},null,null,null,{"$f":"'Bare'' List'!$Z$3","v":1106},null,null,null,null,null,null,null,null,null,null,null,null,{"$f":"AL9","v":"Darren Griffin"},null,null,null,"DUAC",{"$f":"Tables!AL50","v":0},null,null,null,null,null,"ROW 9-50 CONDITIONAL FORMATTING FORMULA","$B$7:$C$50,$E$9:$W$50,$Y$7:$AA$50"]
[null,3,{"$f":"'Bare'' List'!$B$4","v":"ITC"},null,{"$f":"'Bare'' List'!$C$4","v":335},{"$f":"'Bare'' List'!$D$4","v":303},{"$f":"'Bare'' List'!$E$4","v":224},null,{"$f":"'Bare'' List'!$G$4","v":293},{"$f":"'Bare'' List'!$H$4","v":259},{"$f":"'Bare'' List'!$I$4","v":248},null,{"$f":"'Bare'' List'!$K$4","v":415},{"$f":"'Bare'' List'!$L$4","v":377},{"$f":"'Bare'' List'!$M$4","v":368},null,{"$f":"'Bare'' List'!$O$4","v":381},{"$f":"'Bare'' List'!$P$4","v":0},{"$f":"'Bare'' List'!$Q$4","v":0},null,{"$f":"'Bare'' List'!$S$4","v":400},{"$f":"'Bare'' List'!$T$4","v":396},{"$f":"'Bare'' List'!$U$4","v":0},null,{"$f":"'Bare'' List'!$W$4","v":445},{"$f":"'Bare'' List'!$X$4","v":0},{"$f":"'Bare'' List'!$Y$4","v":0},null,{"$f":"'Bare'' List'!$AG$4","v":4444},{"$f":"'Bare'' List'!$AH$4","v":381},{"$f":"'Bare'' List'!$AG$4","v":4444},null,null,null,null,null,null,{"$f":"VLOOKUP($C11,$AP$8:$AQ$24,2,0)","v":"David Price"},null,null,null,"GMIT",{"$f":"Tables!AX50","v":"Shane Hyland"}]
[null,null,null,null,{"$f":"'Bare'' List'!$F$4","v":862},null,null,null,{"$f":"'Bare'' List'!$J$4","v":800},null,null,null,{"$f":"'Bare'' List'!$N$4","v":1160},null,null,null,{"$f":"'Bare'' List'!$R$4","v":381},null,null,null,{"$f":"'Bare'' List'!$V$4","v":796},null,null,null,{"$f":"'Bare'' List'!$Z$4","v":445},null,null,null,null,null,null,null,null,null,null,null,null,{"$f":"AL11","v":"David Price"},null,null,null,"GMITC",{"$f":"Tables!BJ50","v":"Darren Griffin"}]
[null,4,{"$f":"'Bare'' List'!$B$5","v":"GMIT"},null,{"$f":"'Bare'' List'!$C$5","v":370},{"$f":"'Bare'' List'!$D$5","v":322},{"$f":"'Bare'' List'!$E$5","v":153},null,{"$f":"'Bare'' List'!$G$5","v":269},{"$f":"'Bare'' List'!$H$5","v":231},{"$f":"'Bare'' List'!$I$5","v":118},null,{"$f":"'Bare'' List'!$K$5","v":378},{"$f":"'Bare'' List'!$L$5","v":253},{"$f":"'Bare'' List'!$M$5","v":0},null,{"$f":"'Bare'' List'!$O$5","v":274},{"$f":"'Bare'' List'!$P$5","v":255},{"$f":"'Bare'' List'!$Q$5","v":210},null,{"$f":"'Bare'' List'!$S$5","v":314},{"$f":"'Bare'' List'!$T$5","v":265},{"$f":"'Bare'' List'!$U$5","v":245},null,{"$f":"'Bare'' List'!$W$5","v":319},{"$f":"'Bare'' List'!$X$5","v":248},{"$f":"'Bare'' List'!$Y$5","v":0},null,{"$f":"'Bare'' List'!$AG$5","v":4224},{"$f":"'Bare'' List'!$AH$5","v":567},{"$f":"'Bare'' List'!$AG$5","v":4224},null,null,null,null,null,null,{"$f":"VLOOKUP($C13,$AP$8:$AQ$24,2,0)","v":"Shane Hyland"},null,null,null,"ITC",{"$f":"Tables!CH50","v":"David Price"}]
[null,null,null,null,{"$f":"'Bare'' List'!$F$5","v":845},null,null,null,{"$f":"'Bare'' List'!$J$5","v":618},null,null,null,{"$f":"'Bare'' List'!$N$5","v":631},null,null,null,{"$f":"'Bare'' List'!$R$5","v":739},null,null,null,{"$f":"'Bare'' List'!$V$5","v":824},null,null,null,{"$f":"'Bare'' List'!$Z$5","v":567},null,null,null,null,null,null,null,null,null,null,null,null,{"$f":"AL13","v":"Shane Hyland"},null,null,null,"IT Tallaght",{"$f":"Tables!BV50","v":"Gary Smith"}]
[null,5,{"$f":"'Bare'' List'!$B$6","v":"NUIM"},null,{"$f":"'Bare'' List'!$C$6","v":361},{"$f":"'Bare'' List'!$D$6","v":0},{"$f":"'Bare'' List'!$E$6","v":0},null,{"$f":"'Bare'' List'!$G$6","v":378},{"$f":"'Bare'' List'!$H$6","v":239},{"$f":"'Bare'' List'!$I$6","v":0},null,{"$f":"'Bare'' List'!$K$6","v":0},{"$f":"'Bare'' List'!$L$6","v":0},{"$f":"'Bare'' List'!$M$6","v":0},null,{"$f":"'Bare'' List'!$O$6","v":421},{"$f":"'Bare'' List'!$P$6","v":332},{"$f":"'Bare'' List'!$Q$6","v":210},null,{"$f":"'Bare'' List'!$S$6","v":469},{"$f":"'Bare'' List'!$T$6","v":331},{"$f":"'Bare'' List'!$U$6","v":0},null,{"$f":"'Bare'' List'!$W$6","v":356},{"$f":"'Bare'' List'!$X$6","v":348},{"$f":"'Bare'' List'!$Y$6","v":344},null,{"$f":"'Bare'' List'!$AG$6","v":3789},{"$f":"'Bare'' List'!$AH$6","v":0},{"$f":"'Bare'' List'!$AG$6","v":3789},null,null,null,null,null,null,{"$f":"VLOOKUP($C15,$AP$8:$AQ$24,2,0)","v":{"$error":"#N/A"}},null,null,null,"MU",{"$f":"Tables!CT50","v":"Tami Baumann"}]
[null,null,null,null,{"$f":"'Bare'' List'!$F$6","v":361},null,null,null,{"$f":"'Bare'' List'!$J$6","v":617},null,null,null,{"$f":"'Bare'' List'!$N$6","v":0},null,null,null,{"$f":"'Bare'' List'!$R$6","v":963},null,null,null,{"$f":"'Bare'' List'!$V$6","v":800},null,null,null,{"$f":"'Bare'' List'!$Z$6","v":1048},null,null,null,null,null,null,null,null,null,null,null,null,{"$f":"AL15","v":{"$error":"#N/A"}},null,null,null,"NCAD",{"$f":"Tables!DF50","v":0}]
[null,6,{"$f":"'Bare'' List'!$B$7","v":"UL"},null,{"$f":"'Bare'' List'!$C$7","v":409},{"$f":"'Bare'' List'!$D$7","v":278},{"$f":"'Bare'' List'!$E$7","v":0},null,{"$f":"'Bare'' List'!$G$7","v":406},{"$f":"'Bare'' List'!$H$7","v":0},{"$f":"'Bare'' List'!$I$7","v":0},null,{"$f":"'Bare'' List'!$K$7","v":432},{"$f":"'Bare'' List'!$L$7","v":0},{"$f":"'Bare'' List'!$M$7","v":0},null,{"$f":"'Bare'' List'!$O$7","v":436},{"$f":"'Bare'' List'!$P$7","v":0},{"$f":"'Bare'' List'!$Q$7","v":0},null,{"$f":"'Bare'' List'!$S$7","v":420},{"$f":"'Bare'' List'!$T$7","v":0},{"$f":"'Bare'' List'!$U$7","v":0},null,{"$f":"'Bare'' List'!$W$7","v":427},{"$f":"'Bare'' List'!$X$7","v":0},{"$f":"'Bare'' List'!$Y$7","v":0},null,{"$f":"'Bare'' List'!$AG$7","v":2808},{"$f":"'Bare'' List'!$AH$7","v":406},{"$f":"'Bare'' List'!$AG$7","v":2808},null,null,null,null,null,null,{"$f":"VLOOKUP($C17,$AP$8:$AQ$24,2,0)","v":"Jeffery McMahon"},null,null,null,"NUIG",{"$f":"Tables!DR50","v":"Tom McGrath"}]
[null,null,null,null,{"$f":"'Bare'' List'!$F$7","v":687},null,null,null,{"$f":"'Bare'' List'!$J$7","v":406},null,null,null,{"$f":"'Bare'' List'!$N$7","v":432},null,null,null,{"$f":"'Bare'' List'!$R$7","v":436},null,null,null,{"$f":"'Bare'' List'!$V$7","v":420},null,null,null,{"$f":"'Bare'' List'!$Z$7","v":427},null,null,null,null,null,null,null,null,null,null,null,null,{"$f":"AL17","v":"Jeffery McMahon"},null,null,null,"RCSI",{"$f":"Tables!ED50","v":"Aiman Rahim"}]
[null,7,{"$f":"'Bare'' List'!$B$8","v":"DCU"},null,{"$f":"'Bare'' List'!$C$8","v":301},{"$f":"'Bare'' List'!$D$8","v":216},{"$f":"'Bare'' List'!$E$8","v":0},null,{"$f":"'Bare'' List'!$G$8","v":381},{"$f":"'Bare'' List'!$H$8","v":292},{"$f":"'Bare'' List'!$I$8","v":0},null,{"$f":"'Bare'' List'!$K$8","v":0},{"$f":"'Bare'' List'!$L$8","v":0},{"$f":"'Bare'' List'!$M$8","v":0},null,{"$f":"'Bare'' List'!$O$8","v":325},{"$f":"'Bare'' List'!$P$8","v":0},{"$f":"'Bare'' List'!$Q$8","v":0},null,{"$f":"'Bare'' List'!$S$8","v":0},{"$f":"'Bare'' List'!$T$8","v":0},{"$f":"'Bare'' List'!$U$8","v":0},null,{"$f":"'Bare'' List'!$W$8","v":430},{"$f":"'Bare'' List'!$X$8","v":0},{"$f":"'Bare'' List'!$Y$8","v":0},null,{"$f":"'Bare'' List'!$AG$8","v":1945},{"$f":"'Bare'' List'!$AH$8","v":0},{"$f":"'Bare'' List'!$AG$8","v":1945},null,null,null,null,null,null,{"$f":"VLOOKUP($C19,$AP$8:$AQ$24,2,0)","v":{"$error":"#N/A"}},null,null,null,"UCC",{"$f":"Tables!EP50","v":"Marc Creehan"}]
[null,null,null,null,{"$f":"'Bare'' List'!$F$8","v":517},null,null,null,{"$f":"'Bare'' List'!$J$8","v":673},null,null,null,{"$f":"'Bare'' List'!$N$8","v":0},null,null,null,{"$f":"'Bare'' List'!$R$8","v":325},null,null,null,{"$f":"'Bare'' List'!$V$8","v":0},null,null,null,{"$f":"'Bare'' List'!$Z$8","v":430},null,null,null,null,null,null,null,null,null,null,null,null,{"$f":"AL19","v":{"$error":"#N/A"}},null,null,null,"UCD",{"$f":"Tables!FB56","v":"Lukas Frese"}]
[null,8,{"$f":"'Bare'' List'!$B$9","v":"RCSI"},null,{"$f":"'Bare'' List'!$C$9","v":331},{"$f":"'Bare'' List'!$D$9","v":254},{"$f":"'Bare'' List'!$E$9","v":0},null,{"$f":"'Bare'' List'!$G$9","v":174},{"$f":"'Bare'' List'!$H$9","v":0},{"$f":"'Bare'' List'!$I$9","v":0},null,{"$f":"'Bare'' List'!$K$9","v":0},{"$f":"'Bare'' List'!$L$9","v":0},{"$f":"'Bare'' List'!$M$9","v":0},null,{"$f":"'Bare'' List'!$O$9","v":143},{"$f":"'Bare'' List'!$P$9","v":131},{"$f":"'Bare'' List'!$Q$9","v":0},null,{"$f":"'Bare'' List'!$S$9","v":0},{"$f":"'Bare'' List'!$T$9","v":0},{"$f":"'Bare'' List'!$U$9","v":0},null,{"$f":"'Bare'' List'!$W$9","v":216},{"$f":"'Bare'' List'!$X$9","v":108},{"$f":"'Bare'' List'!$Y$9","v":0},null,{"$f":"'Bare'' List'!$AG$9","v":1357},{"$f":"'Bare'' List'!$AH$9","v":0},{"$f":"'Bare'' List'!$AG$9","v":1357},null,null,null,null,null,null,{"$f":"VLOOKUP($C21,$AP$8:$AQ$24,2,0)","v":"Aiman Rahim"},null,null,null,"UL",{"$f":"Tables!FN50","v":"Jeffery McMahon"}]
[null,null,null,null,{"$f":"'Bare'' List'!$F$9","v":585},null,null,null,{"$f":"'Bare'' List'!$J$9","v":174},null,null,null,{"$f":"'Bare'' List'!$N$9","v":0},null,null,null,{"$f":"'Bare'' List'!$R$9","v":274},null,null,null,{"$f":"'Bare'' List'!$V$9","v":0},null,null,null,{"$f":"'Bare'' List'!$Z$9","v":324},null,null,null,null,null,null,null,null,null,null,null,null,{"$f":"AL21","v":"Aiman Rahim"},null,null,null,"UU",{"$f":"Tables!FZ50","v":0}]
[null,9,{"$f":"'Bare'' List'!$B$10","v":"IT Tallaght"},null,{"$f":"'Bare'' List'!$C$10","v":0},{"$f":"'Bare'' List'!$D$10","v":0},{"$f":"'Bare'' List'!$E$10","v":0},null,{"$f":"'Bare'' List'!$G$10","v":0},{"$f":"'Bare'' List'!$H$10","v":0},{"$f":"'Bare'' List'!$I$10","v":0},null,{"$f":"'Bare'' List'!$K$10","v":0},{"$f":"'Bare'' List'!$L$10","v":0},{"$f":"'Bare'' List'!$M$10","v":0},null,{"$f":"'Bare'' List'!$O$10","v":247},{"$f":"'Bare'' List'!$P$10","v":223},{"$f":"'Bare'' List'!$Q$10","v":0},null,{"$f":"'Bare'' List'!$S$10","v":0},{"$f":"'Bare'' List'!$T$10","v":0},{"$f":"'Bare'' List'!$U$10","v":0},null,{"$f":"'Bare'' List'!$W$10","v":331},{"$f":"'Bare'' List'!$X$10","v":0},{"$f":"'Bare'' List'!$Y$10","v":0},null,{"$f":"'Bare'' List'!$AG$10","v":801},{"$f":"'Bare'' List'!$AH$10","v":0},{"$f":"'Bare'' List'!$AG$10","v":801},null,null,null,null,null,null,{"$f":"VLOOKUP($C23,$AP$8:$AQ$24,2,0)","v":"Gary Smith"},null,null,null,"WIT",{"$f":"Tables!GL50","v":0}]
[null,null,null,null,{"$f":"'Bare'' List'!$F$10","v":0},null,null,null,{"$f":"'Bare'' List'!$J$10","v":0},null,null,null,{"$f":"'Bare'' List'!$N$10","v":0},null,null,null,{"$f":"'Bare'' List'!$R$10","v":470},null,null,null,{"$f":"'Bare'' List'!$V$10","v":0},null,null,null,{"$f":"'Bare'' List'!$Z$10","v":331},null,null,null,null,null,null,null,null,null,null,null,null,{"$f":"AL23","v":"Gary Smith"},null,null,null,"AAA",{"$f":"Tables!GX50","v":0}]
[null,10,{"$f":"'Bare'' List'!$B$11","v":"UCC"},null,{"$f":"'Bare'' List'!$C$11","v":0},{"$f":"'Bare'' List'!$D$11","v":0},{"$f":"'Bare'' List'!$E$11","v":0},null,{"$f":"'Bare'' List'!$G$11","v":0},{"$f":"'Bare'' List'!$H$11","v":0},{"$f":"'Bare'' List'!$I$11","v":0},null,{"$f":"'Bare'' List'!$K$11","v":259},{"$f":"'Bare'' List'!$L$11","v":0},{"$f":"'Bare'' List'!$M$11","v":0},null,{"$f":"'Bare'' List'!$O$11","v":0},{"$f":"'Bare'' List'!$P$11","v":0},{"$f":"'Bare'' List'!$Q$11","v":0},null,{"$f":"'Bare'' List'!$S$11","v":161},{"$f":"'Bare'' List'!$T$11","v":0},{"$f":"'Bare'' List'!$U$11","v":0},null,{"$f":"'Bare'' List'!$W$11","v":246},{"$f":"'Bare'' List'!$X$11","v":0},{"$f":"'Bare'' List'!$Y$11","v":0},null,{"$f":"'Bare'' List'!$AG$11","v":666},{"$f":"'Bare'' List'!$AH$11","v":0},{"$f":"'Bare'' List'!$AG$11","v":666},null,null,null,null,null,null,{"$f":"VLOOKUP($C25,$AP$8:$AQ$24,2,0)","v":"Marc Creehan"},null,null,null,"BBB",{"$f":"Tables!HI50","v":0}]
[null,null,null,null,{"$f":"'Bare'' List'!$F$11","v":0},null,null,null,{"$f":"'Bare'' List'!$J$11","v":0},null,null,null,{"$f":"'Bare'' List'!$N$11","v":259},null,null,null,{"$f":"'Bare'' List'!$R$11","v":0},null,null,null,{"$f":"'Bare'' List'!$V$11","v":161},null,null,null,{"$f":"'Bare'' List'!$Z$11","v":246},null,null,null,null,null,null,null,null,null,null,null,null,{"$f":"AL25","v":"Marc Creehan"},null,null,null,"CCC",{"$f":"Tables!HT50","v":0}]
[null,11,{"$f":"'Bare'' List'!$B$12","v":"UCD"},null,{"$f":"'Bare'' List'!$C$12","v":0},{"$f":"'Bare'' List'!$D$12","v":0},{"$f":"'Bare'' List'!$E$12","v":0},null,{"$f":"'Bare'' List'!$G$12","v":0},{"$f":"'Bare'' List'!$H$12","v":0},{"$f":"'Bare'' List'!$I$12","v":0},null,{"$f":"'Bare'' List'!$K$12","v":0},{"$f":"'Bare'' List'!$L$12","v":0},{"$f":"'Bare'' List'!$M$12","v":0},null,{"$f":"'Bare'' List'!$O$12","v":0},{"$f":"'Bare'' List'!$P$12","v":0},{"$f":"'Bare'' List'!$Q$12","v":0},null,{"$f":"'Bare'' List'!$S$12","v":0},{"$f":"'Bare'' List'!$T$12","v":0},{"$f":"'Bare'' List'!$U$12","v":0},null,{"$f":"'Bare'' List'!$W$12","v":204},{"$f":"'Bare'' List'!$X$12","v":0},{"$f":"'Bare'' List'!$Y$12","v":0},null,{"$f":"'Bare'' List'!$AG$12","v":204},{"$f":"'Bare'' List'!$AH$12","v":0},{"$f":"'Bare'' List'!$AG$12","v":204},null,null,null,null,null,null,{"$f":"VLOOKUP($C27,$AP$8:$AQ$24,2,0)","v":"Lukas Frese"},null,null,null,"DDD",{"$f":"Tables!IE50","v":0}]
[null,null,null,null,{"$f":"'Bare'' List'!$F$12","v":0},null,null,null,{"$f":"'Bare'' List'!$J$12","v":0},null,null,null,{"$f":"'Bare'' List'!$N$12","v":0},null,null,null,{"$f":"'Bare'' List'!$R$12","v":0},null,null,null,{"$f":"'Bare'' List'!$V$12","v":0},null,null,null,{"$f":"'Bare'' List'!$Z$12","v":204},null,null,null,null,null,null,null,null,null,null,null,null,{"$f":"AL27","v":"Lukas Frese"},null,null,null,"EEE",{"$f":"Tables!IP50","v":0}]
[null,12,{"$f":"'Bare'' List'!$B$13","v":"BCFE"},null,{"$f":"'Bare'' List'!$C$13","v":0},{"$f":"'Bare'' List'!$D$13","v":0},{"$f":"'Bare'' List'!$E$13","v":0},null,{"$f":"'Bare'' List'!$G$13","v":0},{"$f":"'Bare'' List'!$H$13","v":0},{"$f":"'Bare'' List'!$I$13","v":0},null,{"$f":"'Bare'' List'!$K$13","v":0},{"$f":"'Bare'' List'!$L$13","v":0},{"$f":"'Bare'' List'!$M$13","v":0},null,{"$f":"'Bare'' List'!$O$13","v":0},{"$f":"'Bare'' List'!$P$13","v":0},{"$f":"'Bare'' List'!$Q$13","v":0},null,{"$f":"'Bare'' List'!$S$13","v":0},{"$f":"'Bare'' List'!$T$13","v":0},{"$f":"'Bare'' List'!$U$13","v":0},null,{"$f":"'Bare'' List'!$W$13","v":0},{"$f":"'Bare'' List'!$X$13","v":0},{"$f":"'Bare'' List'!$Y$13","v":0},null,{"$f":"'Bare'' List'!$AG$13","v":0},{"$f":"'Bare'' List'!$AH$13","v":0},{"$f":"'Bare'' List'!$AG$13","v":0},null,null,null,null,null,null,{"$f":"VLOOKUP($C29,$AP$8:$AQ$24,2,0)","v":{"$error":"#N/A"}}]
[null,null,null,null,{"$f":"'Bare'' List'!$F$13","v":0},null,null,null,{"$f":"'Bare'' List'!$J$13","v":0},null,null,null,{"$f":"'Bare'' List'!$N$13","v":0},null,null,null,{"$f":"'Bare'' List'!$R$13","v":0},null,null,null,{"$f":"'Bare'' List'!$V$13","v":0},null,null,null,{"$f":"'Bare'' List'!$Z$13","v":0},null,null,null,null,null,null,null,null,null,null,null,null,{"$f":"AL29","v":{"$error":"#N/A"}}]
[null,13,{"$f":"'Bare'' List'!$B$14","v":"CD"},null,{"$f":"'Bare'' List'!$C$14","v":0},{"$f":"'Bare'' List'!$D$14","v":0},{"$f":"'Bare'' List'!$E$14","v":0},null,{"$f":"'Bare'' List'!$G$14","v":0},{"$f":"'Bare'' List'!$H$14","v":0},{"$f":"'Bare'' List'!$I$14","v":0},null,{"$f":"'Bare'' List'!$K$14","v":0},{"$f":"'Bare'' List'!$L$14","v":0},{"$f":"'Bare'' List'!$M$14","v":0},null,{"$f":"'Bare'' List'!$O$14","v":0},{"$f":"'Bare'' List'!$P$14","v":0},{"$f":"'Bare'' List'!$Q$14","v":0},null,{"$f":"'Bare'' List'!$S$14","v":0},{"$f":"'Bare'' List'!$T$14","v":0},{"$f":"'Bare'' List'!$U$14","v":0},null,{"$f":"'Bare'' List'!$W$14","v":0},{"$f":"'Bare'' List'!$X$14","v":0},{"$f":"'Bare'' List'!$Y$14","v":0},null,{"$f":"'Bare'' List'!$AG$14","v":0},{"$f":"'Bare'' List'!$AH$14","v":0},{"$f":"'Bare'' List'!$AG$14","v":0},null,null,null,null,null,null,{"$f":"VLOOKUP($C31,$AP$8:$AQ$24,2,0)","v":{"$error":"#N/A"}}]
[null,null,null,null,{"$f":"'Bare'' List'!$F$14","v":0},null,null,null,{"$f":"'Bare'' List'!$J$14","v":0},null,null,null,{"$f":"'Bare'' List'!$N$14","v":0},null,null,null,{"$f":"'Bare'' List'!$R$14","v":0},null,null,null,{"$f":"'Bare'' List'!$V$14","v":0},null,null,null,{"$f":"'Bare'' List'!$Z$14","v":0},null,null,null,null,null,null,null,null,null,null,null,null,{"$f":"AL31","v":{"$error":"#N/A"}}]
[null,14,{"$f":"'Bare'' List'!$B$15","v":"UU"},null,{"$f":"'Bare'' List'!$C$15","v":0},{"$f":"'Bare'' List'!$D$15","v":0},{"$f":"'Bare'' List'!$E$15","v":0},null,{"$f":"'Bare'' List'!$G$15","v":0},{"$f":"'Bare'' List'!$H$15","v":0},{"$f":"'Bare'' List'!$I$15","v":0},null,{"$f":"'Bare'' List'!$K$15","v":0},{"$f":"'Bare'' List'!$L$15","v":0},{"$f":"'Bare'' List'!$M$15","v":0},null,{"$f":"'Bare'' List'!$O$15","v":0},{"$f":"'Bare'' List'!$P$15","v":0},{"$f":"'Bare'' List'!$Q$15","v":0},null,{"$f":"'Bare'' List'!$S$15","v":0},{"$f":"'Bare'' List'!$T$15","v":0},{"$f":"'Bare'' List'!$U$15","v":0},null,{"$f":"'Bare'' List'!$W$15","v":0},{"$f":"'Bare'' List'!$X$15","v":0},{"$f":"'Bare'' List'!$Y$15","v":0},null,{"$f":"'Bare'' List'!$AG$15","v":0},{"$f":"'Bare'' List'!$AH$15","v":0},{"$f":"'Bare'' List'!$AG$15","v":0},null,null,null,null,null,null,{"$f":"VLOOKUP($C33,$AP$8:$AQ$24,2,0)","v":0}]
[null,null,null,null,{"$f":"'Bare'' List'!$F$15","v":0},null,null,null,{"$f":"'Bare'' List'!$J$15","v":0},null,null,null,{"$f":"'Bare'' List'!$N$15","v":0},null,null,null,{"$f":"'Bare'' List'!$R$15","v":0},null,null,null,{"$f":"'Bare'' List'!$V$15","v":0},null,null,null,{"$f":"'Bare'' List'!$Z$15","v":0},null,null,null,null,null,null,null,null,null,null,null,null,{"$f":"AL33","v":0}]
[null,15,{"$f":"'Bare'' List'!$B$16","v":"QUB"},null,{"$f":"'Bare'' List'!$C$16","v":0},{"$f":"'Bare'' List'!$D$16","v":0},{"$f":"'Bare'' List'!$E$16","v":0},null,{"$f":"'Bare'' List'!$G$16","v":0},{"$f":"'Bare'' List'!$H$16","v":0},{"$f":"'Bare'' List'!$I$16","v":0},null,{"$f":"'Bare'' List'!$K$16","v":0},{"$f":"'Bare'' List'!$L$16","v":0},{"$f":"'Bare'' List'!$M$16","v":0},null,{"$f":"'Bare'' List'!$O$16","v":0},{"$f":"'Bare'' List'!$P$16","v":0},{"$f":"'Bare'' List'!$Q$16","v":0},null,{"$f":"'Bare'' List'!$S$16","v":0},{"$f":"'Bare'' List'!$T$16","v":0},{"$f":"'Bare'' List'!$U$16","v":0},null,{"$f":"'Bare'' List'!$W$16","v":0},{"$f":"'Bare'' List'!$X$16","v":0},{"$f":"'Bare'' List'!$Y$16","v":0},null,{"$f":"'Bare'' List'!$AG$16","v":0},{"$f":"'Bare'' List'!$AH$16","v":0},{"$f":"'Bare'' List'!$AG$16","v":0},null,null,null,null,null,null,{"$f":"VLOOKUP($C35,$AP$8:$AQ$24,2,0)","v":{"$error":"#N/A"}}]
[null,null,null,null,{"$f":"'Bare'' List'!$F$16","v":0},null,null,null,{"$f":"'Bare'' List'!$J$16","v":0},null,null,null,{"$f":"'Bare'' List'!$N$16","v":0},null,null,null,{"$f":"'Bare'' List'!$R$16","v":0},null,null,null,{"$f":"'Bare'' List'!$V$16","v":0},null,null,null,{"$f":"'Bare'' List'!$Z$16","v":0},null,null,null,null,null,null,null,null,null,null,null,null,{"$f":"AL35","v":{"$error":"#N/A"}}]
[null,16,{"$f":"'Bare'' List'!$B$17","v":"DIT"},null,{"$f":"'Bare'' List'!$C$17","v":0},{"$f":"'Bare'' List'!$D$17","v":0},{"$f":"'Bare'' List'!$E$17","v":0},null,{"$f":"'Bare'' List'!$G$17","v":0},{"$f":"'Bare'' List'!$H$17","v":0},{"$f":"'Bare'' List'!$I$17","v":0},null,{"$f":"'Bare'' List'!$K$17","v":0},{"$f":"'Bare'' List'!$L$17","v":0},{"$f":"'Bare'' List'!$M$17","v":0},null,{"$f":"'Bare'' List'!$O$17","v":0},{"$f":"'Bare'' List'!$P$17","v":0},{"$f":"'Bare'' List'!$Q$17","v":0},null,{"$f":"'Bare'' List'!$S$17","v":0},{"$f":"'Bare'' List'!$T$17","v":0},{"$f":"'Bare'' List'!$U$17","v":0},null,{"$f":"'Bare'' List'!$W$17","v":0},{"$f":"'Bare'' List'!$X$17","v":0},{"$f":"'Bare'' List'!$Y$17","v":0},null,{"$f":"'Bare'' List'!$AG$17","v":0},{"$f":"'Bare'' List'!$AH$17","v":0},{"$f":"'Bare'' List'!$AG$17","v":0},null,null,null,null,null,null,{"$f":"VLOOKUP($C37,$AP$8:$AQ$24,2,0)","v":0}]
[null,null,null,null,{"$f":"'Bare'' List'!$F$17","v":0},null,null,null,{"$f":"'Bare'' List'!$J$17","v":0},null,null,null,{"$f":"'Bare'' List'!$N$17","v":0},null,null,null,{"$f":"'Bare'' List'!$R$17","v":0},null,null,null,{"$f":"'Bare'' List'!$V$17","v":0},null,null,null,{"$f":"'Bare'' List'!$Z$17","v":0},null,null,null,null,null,null,null,null,null,null,null,null,{"$f":"AL37","v":0}]
[null,17,{"$f":"'Bare'' List'!$B$18","v":"DKIT"},null,{"$f":"'Bare'' List'!$C$18","v":0},{"$f":"'Bare'' List'!$D$18","v":0},{"$f":"'Bare'' List'!$E$18","v":0},null,{"$f":"'Bare'' List'!$G$18","v":0},{"$f":"'Bare'' List'!$H$18","v":0},{"$f":"'Bare'' List'!$I$18","v":0},null,{"$f":"'Bare'' List'!$K$18","v":0},{"$f":"'Bare'' List'!$L$18","v":0},{"$f":"'Bare'' List'!$M$18","v":0},null,{"$f":"'Bare'' List'!$O$18","v":0},{"$f":"'Bare'' List'!$P$18","v":0},{"$f":"'Bare'' List'!$Q$18","v":0},null,{"$f":"'Bare'' List'!$S$18","v":0},{"$f":"'Bare'' List'!$T$18","v":0},{"$f":"'Bare'' List'!$U$18","v":0},null,{"$f":"'Bare'' List'!$W$18","v":0},{"$f":"'Bare'' List'!$X$18","v":0},{"$f":"'Bare'' List'!$Y$18","v":0},null,{"$f":"'Bare'' List'!$AG$18","v":0},{"$f":"'Bare'' List'!$AH$18","v":0},{"$f":"'Bare'' List'!$AG$18","v":0},null,null,null,null,null,null,{"$f":"VLOOKUP($C39,$AP$8:$AQ$24,2,0)","v":0}]
[null,null,null,null,{"$f":"'Bare'' List'!$F$18","v":0},null,null,null,{"$f":"'Bare'' List'!$J$18","v":0},null,null,null,{"$f":"'Bare'' List'!$N$18","v":0},null,null,null,{"$f":"'Bare'' List'!$R$18","v":0},null,null,null,{"$f":"'Bare'' List'!$V$18","v":0},null,null,null,{"$f":"'Bare'' List'!$Z$18","v":0},null,null,null,null,null,null,null,null,null,null,null,null,{"$f":"AL39","v":0}]
[null,18,{"$f":"'Bare'' List'!$B$19","v":"AAA"},null,{"$f":"'Bare'' List'!$C$19","v":0},{"$f":"'Bare'' List'!$D$19","v":0},{"$f":"'Bare'' List'!$E$19","v":0},null,{"$f":"'Bare'' List'!$G$19","v":0},{"$f":"'Bare'' List'!$H$19","v":0},{"$f":"'Bare'' List'!$I$19","v":0},null,{"$f":"'Bare'' List'!$K$19","v":0},{"$f":"'Bare'' List'!$L$19","v":0},{"$f":"'Bare'' List'!$M$19","v":0},null,{"$f":"'Bare'' List'!$O$19","v":0},{"$f":"'Bare'' List'!$P$19","v":0},{"$f":"'Bare'' List'!$Q$19","v":0},null,{"$f":"'Bare'' List'!$S$19","v":0},{"$f":"'Bare'' List'!$T$19","v":0},{"$f":"'Bare'' List'!$U$19","v":0},null,{"$f":"'Bare'' List'!$W$19","v":{"$error":"#NUM!"}},{"$f":"'Bare'' List'!$X$19","v":{"$error":"#NUM!"}},{"$f":"'Bare'' List'!$Y$19","v":{"$error":"#NUM!"}},null,{"$f":"'Bare'' List'!$AG$19","v":{"$error":"#NUM!"}},{"$f":"'Bare'' List'!$AH$19","v":{"$error":"#NUM!"}},{"$f":"'Bare'' List'!$AI$19","v":-0.7},null,null,null,null,null,null,{"$f":"VLOOKUP($C41,$AP$8:$AQ$24,2,0)","v":0}]
[null,null,null,null,{"$f":"'Bare'' List'!$F$19","v":0},null,null,null,{"$f":"'Bare'' List'!$J$19","v":0},null,null,null,{"$f":"'Bare'' List'!$N$19","v":0},null,null,null,{"$f":"'Bare'' List'!$R$19","v":0},null,null,null,{"$f":"'Bare'' List'!$V$19","v":0},null,null,null,{"$f":"'Bare'' List'!$Z$19","v":{"$error":"#NUM!"}},null,null,null,null,null,null,null,null,null,null,null,null,{"$f":"AL41","v":0}]
[null,19,{"$f":"'Bare'' List'!$B$20","v":"BBB"},null,{"$f":"'Bare'' List'!$C$20","v":0},{"$f":"'Bare'' List'!$D$20","v":0},{"$f":"'Bare'' List'!$E$20","v":0},null,{"$f":"'Bare'' List'!$G$20","v":0},{"$f":"'Bare'' List'!$H$20","v":0},{"$f":"'Bare'' List'!$I$20","v":0},null,{"$f":"'Bare'' List'!$K$20","v":0},{"$f":"'Bare'' List'!$L$20","v":0},{"$f":"'Bare'' List'!$M$20","v":0},null,{"$f":"'Bare'' List'!$O$20","v":0},{"$f":"'Bare'' List'!$P$20","v":0},{"$f":"'Bare'' List'!$Q$20","v":0},null,{"$f":"'Bare'' List'!$S$20","v":0},{"$f":"'Bare'' List'!$T$20","v":0},{"$f":"'Bare'' List'!$U$20","v":0},null,{"$f":"'Bare'' List'!$W$20","v":{"$error":"#NUM!"}},{"$f":"'Bare'' List'!$X$20","v":{"$error":"#NUM!"}},{"$f":"'Bare'' List'!$Y$20","v":{"$error":"#NUM!"}},null,{"$f":"'Bare'' List'!$AG$20","v":{"$error":"#NUM!"}},{"$f":"'Bare'' List'!$AH$20","v":{"$error":"#NUM!"}},{"$f":"'Bare'' List'!$AI$20","v":-0.7},null,null,null,null,null,null,{"$f":"VLOOKUP($C43,$AP$8:$AQ$24,2,0)","v":{"$error":"#N/A"}}]
[null,null,null,null,{"$f":"'Bare'' List'!$F$20","v":0},null,null,null,{"$f":"'Bare'' List'!$J$20","v":0},null,null,null,{"$f":"'Bare'' List'!$N$20","v":0},null,null,null,{"$f":"'Bare'' List'!$R$20","v":0},null,null,null,{"$f":"'Bare'' List'!$V$20","v":0},null,null,null,{"$f":"'Bare'' List'!$Z$20","v":{"$error":"#NUM!"}},null,null,null,null,null,null,null,null,null,null,null,null,{"$f":"AL43","v":{"$error":"#N/A"}}]
[null,20,{"$f":"'Bare'' List'!$B$21","v":"CCC"},null,{"$f":"'Bare'' List'!$C$21","v":0},{"$f":"'Bare'' List'!$D$21","v":0},{"$f":"'Bare'' List'!$E$21","v":0},null,{"$f":"'Bare'' List'!$G$21","v":0},{"$f":"'Bare'' List'!$H$21","v":0},{"$f":"'Bare'' List'!$I$21","v":0},null,{"$f":"'Bare'' List'!$K$21","v":0},{"$f":"'Bare'' List'!$L$21","v":0},{"$f":"'Bare'' List'!$M$21","v":0},null,{"$f":"'Bare'' List'!$O$21","v":0},{"$f":"'Bare'' List'!$P$21","v":0},{"$f":"'Bare'' List'!$Q$21","v":0},null,{"$f":"'Bare'' List'!$S$21","v":0},{"$f":"'Bare'' List'!$T$21","v":0},{"$f":"'Bare'' List'!$U$21","v":0},null,{"$f":"'Bare'' List'!$W$21","v":{"$error":"#NUM!"}},{"$f":"'Bare'' List'!$X$21","v":{"$error":"#NUM!"}},{"$f":"'Bare'' List'!$Y$21","v":{"$error":"#NUM!"}},null,{"$f":"'Bare'' List'!$AG$21","v":{"$error":"#NUM!"}},{"$f":"'Bare'' List'!$AH$21","v":{"$error":"#NUM!"}},{"$f":"'Bare'' List'!$AI$21","v":-0.7},null,null,null,null,null,null,{"$f":"VLOOKUP($C45,$AP$8:$AQ$24,2,0)","v":{"$error":"#N/A"}}]
[null,null,null,null,{"$f":"'Bare'' List'!$F$21","v":0},null,null,null,{"$f":"'Bare'' List'!$J$21","v":0},null,null,null,{"$f":"'Bare'' List'!$N$21","v":0},null,null,null,{"$f":"'Bare'' List'!$R$21","v":0},null,null,null,{"$f":"'Bare'' List'!$V$21","v":0},null,null,null,{"$f":"'Bare'' List'!$Z$21","v":{"$error":"#NUM!"}},null,null,null,null,null,null,null,null,null,null,null,null,{"$f":"AL45","v":{"$error":"#N/A"}}]
[null,21,{"$f":"'Bare'' List'!$B$22","v":"DDD"},null,{"$f":"'Bare'' List'!$C$22","v":0},{"$f":"'Bare'' List'!$D$22","v":0},{"$f":"'Bare'' List'!$E$22","v":0},null,{"$f":"'Bare'' List'!$G$22","v":0},{"$f":"'Bare'' List'!$H$22","v":0},{"$f":"'Bare'' List'!$I$22","v":0},null,{"$f":"'Bare'' List'!$K$22","v":0},{"$f":"'Bare'' List'!$L$22","v":0},{"$f":"'Bare'' List'!$M$22","v":0},null,{"$f":"'Bare'' List'!$O$22","v":0},{"$f":"'Bare'' List'!$P$22","v":0},{"$f":"'Bare'' List'!$Q$22","v":0},null,{"$f":"'Bare'' List'!$S$22","v":0},{"$f":"'Bare'' List'!$T$22","v":0},{"$f":"'Bare'' List'!$U$22","v":0},null,{"$f":"'Bare'' List'!$W$22","v":{"$error":"#NUM!"}},{"$f":"'Bare'' List'!$X$22","v":{"$error":"#NUM!"}},{"$f":"'Bare'' List'!$Y$22","v":{"$error":"#NUM!"}},null,{"$f":"'Bare'' List'!$AG$22","v":{"$error":"#NUM!"}},{"$f":"'Bare'' List'!$AH$22","v":{"$error":"#NUM!"}},{"$f":"'Bare'' List'!$AI$22","v":-0.7},null,null,null,null,null,null,{"$f":"VLOOKUP($C47,$AP$8:$AQ$24,2,0)","v":{"$error":"#N/A"}}]
[null,null,null,null,{"$f":"'Bare'' List'!$F$22","v":0},null,null,null,{"$f":"'Bare'' List'!$J$22","v":0},null,null,null,{"$f":"'Bare'' List'!$N$22","v":0},null,null,null,{"$f":"'Bare'' List'!$R$22","v":0},null,null,null,{"$f":"'Bare'' List'!$V$22","v":0},null,null,null,{"$f":"'Bare'' List'!$Z$22","v":{"$error":"#NUM!"}},null,null,null,null,null,null,null,null,null,null,null,null,{"$f":"AL47","v":{"$error":"#N/A"}}]
[null,22,{"$f":"'Bare'' List'!$B$23","v":"EEE"},null,{"$f":"'Bare'' List'!$C$23","v":0},{"$f":"'Bare'' List'!$D$23","v":0},{"$f":"'Bare'' List'!$E$23","v":0},null,{"$f":"'Bare'' List'!$G$23","v":0},{"$f":"'Bare'' List'!$H$23","v":0},{"$f":"'Bare'' List'!$I$23","v":0},null,{"$f":"'Bare'' List'!$K$23","v":0},{"$f":"'Bare'' List'!$L$23","v":0},{"$f":"'Bare'' List'!$M$23","v":0},null,{"$f":"'Bare'' List'!$O$23","v":0},{"$f":"'Bare'' List'!$P$23","v":0},{"$f":"'Bare'' List'!$Q$23","v":0},null,{"$f":"'Bare'' List'!$S$23","v":0},{"$f":"'Bare'' List'!$T$23","v":0},{"$f":"'Bare'' List'!$U$23","v":0},null,{"$f":"'Bare'' List'!$W$23","v":{"$error":"#NUM!"}},{"$f":"'Bare'' List'!$X$23","v":{"$error":"#NUM!"}},{"$f":"'Bare'' List'!$Y$23","v":{"$error":"#NUM!"}},null,{"$f":"'Bare'' List'!$AG$23","v":{"$error":"#NUM!"}},{"$f":"'Bare'' List'!$AH$23","v":{"$error":"#NUM!"}},{"$f":"'Bare'' List'!$AI$23","v":-0.7},null,null,null,null,null,null,{"$f":"VLOOKUP($C49,$AP$8:$AQ$24,2,0)","v":{"$error":"#N/A"}}]
[null,null,null,null,{"$f":"'Bare'' List'!$F$23","v":0},null,null,null,{"$f":"'Bare'' List'!$J$23","v":0},null,null,null,{"$f":"'Bare'' List'!$N$23","v":0},null,null,null,{"$f":"'Bare'' List'!$R$23","v":0},null,null,null,{"$f":"'Bare'' List'!$V$23","v":0},null,null,null,{"$f":"'Bare'' List'!$Z$23","v":{"$error":"#NUM!"}},null,null,null,null,null,null,null,null,null,null,null,null,{"$f":"AL49","v":{"$error":"#N/A"}}]
[{"$f":"$C$7","v":"NUIG"}]

{"sheet":"Com' Team","index":21,"n_rows":51,"n_cols":43,"rows_kept":51,"cut":false,"hidden":false,"merged":[[49,24,49,26],[1,31,50,31],[50,1,50,30],[1,0,50,0],[0,0,0,31],[48,1,49,1],[48,2,49,2],[48,28,49,28],[48,29,49,29],[48,30,49,30],[49,4,49,6],[49,8,49,10],[49,12,49,14],[49,16,49,18],[49,20,49,22],[1,3,49,3],[1,27,49,27],[46,1,47,1],[46,2,47,2],[46,28,47,28],[46,29,47,29],[46,30,47,30],[47,4,47,6],[47,8,47,10],[47,12,47,14],[47,16,47,18],[47,20,47,22],[44,1,45,1],[44,2,45,2],[44,28,45,28],[44,29,45,29],[44,30,45,30],[45,4,45,6],[45,8,45,10],[45,12,45,14],[45,16,45,18],[45,20,45,22],[45,24,45,26],[47,24,47,26],[42,1,43,1],[42,2,43,2],[42,28,43,28],[42,29,43,29],[42,30,43,30],[43,4,43,6],[43,8,43,10],[43,12,43,14],[43,16,43,18],[43,20,43,22],[43,24,43,26],[40,1,41,1],[40,2,41,2],[40,28,41,28],[40,29,41,29],[40,30,41,30],[41,4,41,6],[41,8,41,10],[41,12,41,14],[41,16,41,18],[41,20,41,22],[41,24,41,26],[4,1,4,2],[6,1,7,1],[6,2,7,2],[1,1,3,2],[6,28,7,28],[6,29,7,29],[6,30,7,30],[7,4,7,6],[7,8,7,10],[7,12,7,14],[7,16,7,18],[7,20,7,22],[1,28,4,28],[1,29,4,29],[1,30,4,30],[5,28,5,30],[5,1,5,2],[1,4,4,26],[5,4,5,26],[7,24,7,26],[10,1,11,1],[10,2,11,2],[11,4,11,6],[11,8,11,10],[11,12,11,14],[8,1,9,1],[8,2,9,2],[8,28,9,28],[8,29,9,29],[9,4,9,6],[9,8,9,10],[9,12,9,14],[9,24,9,26],[11,24,11,26],[14,1,15,1],[14,2,15,2],[15,4,15,6],[15,8,15,10],[15,12,15,14],[12,1,13,1],[12,2,13,2],[12,28,13,28],[12,29,13,29],[13,4,13,6],[13,8,13,10],[13,12,13,14],[13,16,13,18],[13,20,13,22],[14,28,15,28],[14,29,15,29],[13,24,13,26],[15,24,15,26],[18,1,19,1],[18,2,19,2],[19,4,19,6],[19,8,19,10],[19,12,19,14],[16,1,17,1],[16,2,17,2],[16,28,17,28],[16,29,17,29],[17,4,17,6],[17,8,17,10],[17,12,17,14],[17,24,17,26],[19,24,19,26],[22,1,23,1],[22,2,23,2],[23,4,23,6],[23,8,23,10],[23,12,23,14],[20,1,21,1],[20,2,21,2],[20,28,21,28],[20,29,21,29],[21,4,21,6],[21,8,21,10],[21,12,21,14],[21,16,21,18],[21,20,21,22],[22,28,23,28],[22,29,23,29],[21,24,21,26],[23,24,23,26],[26,1,27,1],[26,2,27,2],[27,4,27,6],[27,8,27,10],[27,12,27,14],[24,1,25,1],[24,2,25,2],[24,28,25,28],[24,29,25,29],[25,4,25,6],[25,8,25,10],[25,12,25,14],[25,24,25,26],[27,24,27,26],[30,1,31,1],[30,2,31,2],[31,4,31,6],[31,8,31,10],[31,12,31,14],[28,1,29,1],[28,2,29,2],[28,28,29,28],[28,29,29,29],[29,4,29,6],[29,8,29,10],[29,12,29,14],[29,16,29,18],[29,20,29,22],[30,28,31,28],[30,29,31,29],[29,24,29,26],[31,24,31,26],[34,1,35,1],[34,2,35,2],[35,4,35,6],[35,8,35,10],[35,12,35,14],[32,1,33,1],[32,2,33,2],[32,28,33,28],[32,29,33,29],[33,4,33,6],[33,8,33,10],[33,12,33,14],[33,24,33,26],[35,24,35,26],[38,1,39,1],[38,2,39,2],[39,4,39,6],[39,8,39,10],[39,12,39,14],[36,1,37,1],[36,2,37,2],[36,28,37,28],[36,29,37,29],[37,4,37,6],[37,8,37,10],[37,12,37,14],[37,16,37,18],[37,20,37,22],[38,28,39,28],[38,29,39,29],[37,24,37,26],[39,24,39,26],[14,30,15,30],[15,16,15,18],[15,20,15,22],[9,16,9,18],[9,20,9,22],[10,28,11,28],[10,29,11,29],[10,30,11,30],[11,16,11,18],[11,20,11,22],[12,30,13,30],[8,30,9,30],[22,30,23,30],[23,16,23,18],[23,20,23,22],[17,16,17,18],[17,20,17,22],[18,28,19,28],[18,29,19,29],[18,30,19,30],[19,16,19,18],[19,20,19,22],[20,30,21,30],[16,30,17,30],[30,30,31,30],[31,16,31,18],[31,20,31,22],[25,16,25,18],[25,20,25,22],[26,28,27,28],[26,29,27,29],[26,30,27,30],[27,16,27,18],[27,20,27,22],[28,30,29,30],[24,30,25,30],[38,30,39,30],[39,16,39,18],[39,20,39,22],[33,16,33,18],[33,20,33,22],[34,28,35,28],[34,29,35,29],[34,30,35,30],[35,16,35,18],[35,20,35,22],[36,30,37,30],[32,30,33,30]]}
[{"$f":"$C$7","v":"NUIG"}]
[{"$f":"$C$7","v":"NUIG"},"Compound Team",null,{"$f":"$C$7","v":"NUIG"},null,null,null,null,null,null,null,null,null,null,null,null,null,null,null,null,null,null,null,null,null,null,null,"NUIG","Total","Lowest","League","NUIG",null,null,null,null,null,{"$f":"AL7","v":"Carl Byrne"}]
[]
[]
[]
[null,"NUIG",null,null,"NUIG",null,null,null,null,null,null,null,null,null,null,null,null,null,null,null,null,null,null,null,null,null,null,null,{"$f":"$C$7","v":"NUIG"}]
[null,1,{"$f":"'Com'' List'!$B$2","v":"NUIG"},null,{"$f":"'Com'' List'!$C$2","v":566},{"$f":"'Com'' List'!$D$2","v":513},{"$f":"'Com'' List'!$E$2","v":505},null,{"$f":"'Com'' List'!$G$2","v":566},{"$f":"'Com'' List'!$H$2","v":539},{"$f":"'Com'' List'!$I$2","v":498},null,{"$f":"'Com'' List'!$K$2","v":576},{"$f":"'Com'' List'!$L$2","v":547},{"$f":"'Com'' List'!$M$2","v":493},null,{"$f":"'Com'' List'!$O$2","v":567},{"$f":"'Com'' List'!$P$2","v":525},{"$f":"'Com'' List'!$Q$2","v":477},null,{"$f":"'Com'' List'!$S$2","v":575},{"$f":"'Com'' List'!$T$2","v":524},{"$f":"'Com'' List'!$U$2","v":414},null,{"$f":"'Com'' List'!$W$2","v":572},{"$f":"'Com'' List'!$X$2","v":544},{"$f":"'Com'' List'!$Y$2","v":540},null,{"$f":"'Com'' List'!$AG$2","v":9541},{"$f":"'Com'' List'!$AH$2","v":1513},{"$f":"'Com'' List'!$AG$2","v":9541},null,null,null,null,null,null,{"$f":"VLOOKUP($C7,$AP$7:$AQ$24,2,0)","v":"Carl Byrne"},null,null,null,"DCU",{"$f":"Tables!B93","v":"Mark Sharvin"}]
[null,null,null,null,{"$f":"'Com'' List'!$F$2","v":1584},null,null,null,{"$f":"'Com'' List'!$J$2","v":1603},null,null,null,{"$f":"'Com'' List'!$N$2","v":1616},null,null,null,{"$f":"'Com'' List'!$R$2","v":1569},null,null,null,{"$f":"'Com'' List'!$V$2","v":1513},null,null,null,{"$f":"'Com'' List'!$Z$2","v":1656},null,null,null,null,null,null,null,null,null,null,null,null,{"$f":"AL7","v":"Carl Byrne"},null,null,null,"DIT",{"$f":"Tables!N93","v":"Sean Scott"}]
[null,2,{"$f":"'Com'' List'!$B$3","v":"DCU"},null,{"$f":"'Com'' List'!$C$3","v":557},{"$f":"'Com'' List'!$D$3","v":524},{"$f":"'Com'' List'!$E$3","v":511},null,{"$f":"'Com'' List'!$G$3","v":550},{"$f":"'Com'' List'!$H$3","v":538},{"$f":"'Com'' List'!$I$3","v":517},null,{"$f":"'Com'' List'!$K$3","v":572},{"$f":"'Com'' List'!$L$3","v":0},{"$f":"'Com'' List'!$M$3","v":0},null,{"$f":"'Com'' List'!$O$3","v":557},{"$f":"'Com'' List'!$P$3","v":542},{"$f":"'Com'' List'!$Q$3","v":516},null,{"$f":"'Com'' List'!$S$3","v":557},{"$f":"'Com'' List'!$T$3","v":544},{"$f":"'Com'' List'!$U$3","v":0},null,{"$f":"'Com'' List'!$W$3","v":569},{"$f":"'Com'' List'!$X$3","v":522},{"$f":"'Com'' List'!$Y$3","v":0},null,{"$f":"'Com'' List'!$AG$3","v":7576},{"$f":"'Com'' List'!$AH$3","v":572},{"$f":"'Com'' List'!$AG$3","v":7576},null,null,null,null,null,null,{"$f":"VLOOKUP($C9,$AP$8:$AQ$24,2,0)","v":{"$error":"#N/A"}},null,null,null,"DkIT",{"$f":"Tables!Z93","v":0}]
[null,null,null,null,{"$f":"'Com'' List'!$F$3","v":1592},null,null,null,{"$f":"'Com'' List'!$J$3","v":1605},null,null,null,{"$f":"'Com'' List'!$N$3","v":572},null,null,null,{"$f":"'Com'' List'!$R$3","v":1615},null,null,null,{"$f":"'Com'' List'!$V$3","v":1101},null,null,null,{"$f":"'Com'' List'!$Z$3","v":1091},null,null,null,null,null,null,null,null,null,null,null,null,{"$f":"AL9","v":{"$error":"#N/A"}},null,null,null,"DUAC",{"$f":"Tables!AL93","v":0}]
[null,3,{"$f":"'Com'' List'!$B$4","v":"DIT"},null,{"$f":"'Com'' List'!$C$4","v":564},{"$f":"'Com'' List'!$D$4","v":0},{"$f":"'Com'' List'!$E$4","v":0},null,{"$f":"'Com'' List'!$G$4","v":566},{"$f":"'Com'' List'!$H$4","v":513},{"$f":"'Com'' List'!$I$4","v":0},null,{"$f":"'Com'' List'!$K$4","v":570},{"$f":"'Com'' List'!$L$4","v":524},{"$f":"'Com'' List'!$M$4","v":0},null,{"$f":"'Com'' List'!$O$4","v":0},{"$f":"'Com'' List'!$P$4","v":0},{"$f":"'Com'' List'!$Q$4","v":0},null,{"$f":"'Com'' List'!$S$4","v":514},{"$f":"'Com'' List'!$T$4","v":0},{"$f":"'Com'' List'!$U$4","v":0},null,{"$f":"'Com'' List'!$W$4","v":513},{"$f":"'Com'' List'!$X$4","v":0},{"$f":"'Com'' List'!$Y$4","v":0},null,{"$f":"'Com'' List'!$AG$4","v":3764},{"$f":"'Com'' List'!$AH$4","v":0},{"$f":"'Com'' List'!$AG$4","v":3764},null,null,null,null,null,null,{"$f":"VLOOKUP($C11,$AP$8:$AQ$24,2,0)","v":"Sean Scott"},null,null,null,"GMIT",{"$f":"Tables!AX93","v":"Marko Kovacevic"}]
[null,null,null,null,{"$f":"'Com'' List'!$F$4","v":564},null,null,null,{"$f":"'Com'' List'!$J$4","v":1079},null,null,null,{"$f":"'Com'' List'!$N$4","v":1094},null,null,null,{"$f":"'Com'' List'!$R$4","v":0},null,null,null,{"$f":"'Com'' List'!$V$4","v":514},null,null,null,{"$f":"'Com'' List'!$Z$4","v":513},null,null,null,null,null,null,null,null,null,null,null,null,{"$f":"AL11","v":"Sean Scott"},null,null,null,"GMITC",{"$f":"Tables!BJ93","v":"Adria Quinn"}]
[null,4,{"$f":"'Com'' List'!$B$5","v":"UCC"},null,{"$f":"'Com'' List'!$C$5","v":534},{"$f":"'Com'' List'!$D$5","v":0},{"$f":"'Com'' List'!$E$5","v":0},null,{"$f":"'Com'' List'!$G$5","v":550},{"$f":"'Com'' List'!$H$5","v":0},{"$f":"'Com'' List'!$I$5","v":0},null,{"$f":"'Com'' List'!$K$5","v":553},{"$f":"'Com'' List'!$L$5","v":0},{"$f":"'Com'' List'!$M$5","v":0},null,{"$f":"'Com'' List'!$O$5","v":0},{"$f":"'Com'' List'!$P$5","v":0},{"$f":"'Com'' List'!$Q$5","v":0},null,{"$f":"'Com'' List'!$S$5","v":554},{"$f":"'Com'' List'!$T$5","v":491},{"$f":"'Com'' List'!$U$5","v":0},null,{"$f":"'Com'' List'!$W$5","v":559},{"$f":"'Com'' List'!$X$5","v":0},{"$f":"'Com'' List'!$Y$5","v":0},null,{"$f":"'Com'' List'!$AG$5","v":3241},{"$f":"'Com'' List'!$AH$5","v":0},{"$f":"'Com'' List'!$AG$5","v":3241},null,null,null,null,null,null,{"$f":"VLOOKUP($C13,$AP$8:$AQ$24,2,0)","v":"Andrew Egan"},null,null,null,"ITC",{"$f":"Tables!CH93","v":"Lukas Korcak"}]
[null,null,null,null,{"$f":"'Com'' List'!$F$5","v":534},null,null,null,{"$f":"'Com'' List'!$J$5","v":550},null,null,null,{"$f":"'Com'' List'!$N$5","v":553},null,null,null,{"$f":"'Com'' List'!$R$5","v":0},null,null,null,{"$f":"'Com'' List'!$V$5","v":1045},null,null,null,{"$f":"'Com'' List'!$Z$5","v":559},null,null,null,null,null,null,null,null,null,null,null,null,{"$f":"AL13","v":"Andrew Egan"},null,null,null,"IT Tallaght",{"$f":"Tables!BV93","v":0}]
[null,5,{"$f":"'Com'' List'!$B$6","v":"NUIM"},null,{"$f":"'Com'' List'!$C$6","v":506},{"$f":"'Com'' List'!$D$6","v":0},{"$f":"'Com'' List'!$E$6","v":0},null,{"$f":"'Com'' List'!$G$6","v":479},{"$f":"'Com'' List'!$H$6","v":0},{"$f":"'Com'' List'!$I$6","v":0},null,{"$f":"'Com'' List'!$K$6","v":510},{"$f":"'Com'' List'!$L$6","v":0},{"$f":"'Com'' List'!$M$6","v":0},null,{"$f":"'Com'' List'!$O$6","v":495},{"$f":"'Com'' List'!$P$6","v":0},{"$f":"'Com'' List'!$Q$6","v":0},null,{"$f":"'Com'' List'!$S$6","v":524},{"$f":"'Com'' List'!$T$6","v":0},{"$f":"'Com'' List'!$U$6","v":0},null,{"$f":"'Com'' List'!$W$6","v":512},{"$f":"'Com'' List'!$X$6","v":0},{"$f":"'Com'' List'!$Y$6","v":0},null,{"$f":"'Com'' List'!$AG$6","v":3026},{"$f":"'Com'' List'!$AH$6","v":479},{"$f":"'Com'' List'!$AG$6","v":3026},null,null,null,null,null,null,{"$f":"VLOOKUP($C15,$AP$8:$AQ$24,2,0)","v":{"$error":"#N/A"}},null,null,null,"MU",{"$f":"Tables!CT93","v":"Kerrie Leonard"}]
[null,null,null,null,{"$f":"'Com'' List'!$F$6","v":506},null,null,null,{"$f":"'Com'' List'!$J$6","v":479},null,null,null,{"$f":"'Com'' List'!$N$6","v":510},null,null,null,{"$f":"'Com'' List'!$R$6","v":495},null,null,null,{"$f":"'Com'' List'!$V$6","v":524},null,null,null,{"$f":"'Com'' List'!$Z$6","v":512},null,null,null,null,null,null,null,null,null,null,null,null,{"$f":"AL15","v":{"$error":"#N/A"}},null,null,null,"NCAD",{"$f":"Tables!DF93","v":"Glen Conway"}]
[null,6,{"$f":"'Com'' List'!$B$7","v":"CD"},null,{"$f":"'Com'' List'!$C$7","v":555},{"$f":"'Com'' List'!$D$7","v":0},{"$f":"'Com'' List'!$E$7","v":0},null,{"$f":"'Com'' List'!$G$7","v":546},{"$f":"'Com'' List'!$H$7","v":0},{"$f":"'Com'' List'!$I$7","v":0},null,{"$f":"'Com'' List'!$K$7","v":557},{"$f":"'Com'' List'!$L$7","v":0},{"$f":"'Com'' List'!$M$7","v":0},null,{"$f":"'Com'' List'!$O$7","v":0},{"$f":"'Com'' List'!$P$7","v":0},{"$f":"'Com'' List'!$Q$7","v":0},null,{"$f":"'Com'' List'!$S$7","v":0},{"$f":"'Com'' List'!$T$7","v":0},{"$f":"'Com'' List'!$U$7","v":0},null,{"$f":"'Com'' List'!$W$7","v":560},{"$f":"'Com'' List'!$X$7","v":0},{"$f":"'Com'' List'!$Y$7","v":0},null,{"$f":"'Com'' List'!$AG$7","v":2218},{"$f":"'Com'' List'!$AH$7","v":0},{"$f":"'Com'' List'!$AG$7","v":2218},null,null,null,null,null,null,{"$f":"VLOOKUP($C17,$AP$8:$AQ$24,2,0)","v":{"$error":"#N/A"}},null,null,null,"NUIG",{"$f":"Tables!DR93","v":"Carl Byrne"}]
[null,null,null,null,{"$f":"'Com'' List'!$F$7","v":555},null,null,null,{"$f":"'Com'' List'!$J$7","v":546},null,null,null,{"$f":"'Com'' List'!$N$7","v":557},null,null,null,{"$f":"'Com'' List'!$R$7","v":0},null,null,null,{"$f":"'Com'' List'!$V$7","v":0},null,null,null,{"$f":"'Com'' List'!$Z$7","v":560},null,null,null,null,null,null,null,null,null,null,null,null,{"$f":"AL17","v":{"$error":"#N/A"}},null,null,null,"RCSI",{"$f":"Tables!ED93","v":0}]
[null,7,{"$f":"'Com'' List'!$B$8","v":"GMITC"},null,{"$f":"'Com'' List'!$C$8","v":528},{"$f":"'Com'' List'!$D$8","v":0},{"$f":"'Com'' List'!$E$8","v":0},null,{"$f":"'Com'' List'!$G$8","v":533},{"$f":"'Com'' List'!$H$8","v":0},{"$f":"'Com'' List'!$I$8","v":0},null,{"$f":"'Com'' List'!$K$8","v":512},{"$f":"'Com'' List'!$L$8","v":0},{"$f":"'Com'' List'!$M$8","v":0},null,{"$f":"'Com'' List'!$O$8","v":0},{"$f":"'Com'' List'!$P$8","v":0},{"$f":"'Com'' List'!$Q$8","v":0},null,{"$f":"'Com'' List'!$S$8","v":0},{"$f":"'Com'' List'!$T$8","v":0},{"$f":"'Com'' List'!$U$8","v":0},null,{"$f":"'Com'' List'!$W$8","v":0},{"$f":"'Com'' List'!$X$8","v":0},{"$f":"'Com'' List'!$Y$8","v":0},null,{"$f":"'Com'' List'!$AG$8","v":1573},{"$f":"'Com'' List'!$AH$8","v":0},{"$f":"'Com'' List'!$AG$8","v":1573},null,null,null,null,null,null,{"$f":"VLOOKUP($C19,$AP$8:$AQ$24,2,0)","v":"Adria Quinn"},null,null,null,"UCC",{"$f":"Tables!EP93","v":"Andrew Egan"}]
[null,null,null,null,{"$f":"'Com'' List'!$F$8","v":528},null,null,null,{"$f":"'Com'' List'!$J$8","v":533},null,null,null,{"$f":"'Com'' List'!$N$8","v":512},null,null,null,{"$f":"'Com'' List'!$R$8","v":0},null,null,null,{"$f":"'Com'' List'!$V$8","v":0},null,null,null,{"$f":"'Com'' List'!$Z$8","v":0},null,null,null,null,null,null,null,null,null,null,null,null,{"$f":"AL19","v":"Adria Quinn"},null,null,null,"UCD",{"$f":"Tables!FB93","v":0}]
[null,8,{"$f":"'Com'' List'!$B$9","v":"GMIT"},null,{"$f":"'Com'' List'!$C$9","v":515},{"$f":"'Com'' List'!$D$9","v":0},{"$f":"'Com'' List'!$E$9","v":0},null,{"$f":"'Com'' List'!$G$9","v":512},{"$f":"'Com'' List'!$H$9","v":0},{"$f":"'Com'' List'!$I$9","v":0},null,{"$f":"'Com'' List'!$K$9","v":527},{"$f":"'Com'' List'!$L$9","v":0},{"$f":"'Com'' List'!$M$9","v":0},null,{"$f":"'Com'' List'!$O$9","v":0},{"$f":"'Com'' List'!$P$9","v":0},{"$f":"'Com'' List'!$Q$9","v":0},null,{"$f":"'Com'' List'!$S$9","v":0},{"$f":"'Com'' List'!$T$9","v":0},{"$f":"'Com'' List'!$U$9","v":0},null,{"$f":"'Com'' List'!$W$9","v":0},{"$f":"'Com'' List'!$X$9","v":0},{"$f":"'Com'' List'!$Y$9","v":0},null,{"$f":"'Com'' List'!$AG$9","v":1554},{"$f":"'Com'' List'!$AH$9","v":0},{"$f":"'Com'' List'!$AG$9","v":1554},null,null,null,null,null,null,{"$f":"VLOOKUP($C21,$AP$8:$AQ$24,2,0)","v":"Marko Kovacevic"},null,null,null,"UL",{"$f":"Tables!FN93","v":0}]
[null,null,null,null,{"$f":"'Com'' List'!$F$9","v":515},null,null,null,{"$f":"'Com'' List'!$J$9","v":512},null,null,null,{"$f":"'Com'' List'!$N$9","v":527},null,null,null,{"$f":"'Com'' List'!$R$9","v":0},null,null,null,{"$f":"'Com'' List'!$V$9","v":0},null,null,null,{"$f":"'Com'' List'!$Z$9","v":0},null,null,null,null,null,null,null,null,null,null,null,null,{"$f":"AL21","v":"Marko Kovacevic"},null,null,null,"UU",{"$f":"Tables!FZ93","v":0}]
[null,9,{"$f":"'Com'' List'!$B$10","v":"ITC"},null,{"$f":"'Com'' List'!$C$10","v":362},{"$f":"'Com'' List'!$D$10","v":0},{"$f":"'Com'' List'!$E$10","v":0},null,{"$f":"'Com'' List'!$G$10","v":0},{"$f":"'Com'' List'!$H$10","v":0},{"$f":"'Com'' List'!$I$10","v":0},null,{"$f":"'Com'' List'!$K$10","v":0},{"$f":"'Com'' List'!$L$10","v":0},{"$f":"'Com'' List'!$M$10","v":0},null,{"$f":"'Com'' List'!$O$10","v":0},{"$f":"'Com'' List'!$P$10","v":0},{"$f":"'Com'' List'!$Q$10","v":0},null,{"$f":"'Com'' List'!$S$10","v":0},{"$f":"'Com'' List'!$T$10","v":0},{"$f":"'Com'' List'!$U$10","v":0},null,{"$f":"'Com'' List'!$W$10","v":0},{"$f":"'Com'' List'!$X$10","v":0},{"$f":"'Com'' List'!$Y$10","v":0},null,{"$f":"'Com'' List'!$AG$10","v":362},{"$f":"'Com'' List'!$AH$10","v":0},{"$f":"'Com'' List'!$AG$10","v":362},null,null,null,null,null,null,{"$f":"VLOOKUP($C23,$AP$8:$AQ$24,2,0)","v":"Lukas Korcak"},null,null,null,"WIT",{"$f":"Tables!GL93","v":0}]
[null,null,null,null,{"$f":"'Com'' List'!$F$10","v":362},null,null,null,{"$f":"'Com'' List'!$J$10","v":0},null,null,null,{"$f":"'Com'' List'!$N$10","v":0},null,null,null,{"$f":"'Com'' List'!$R$10","v":0},null,null,null,{"$f":"'Com'' List'!$V$10","v":0},null,null,null,{"$f":"'Com'' List'!$Z$10","v":0},null,null,null,null,null,null,null,null,null,null,null,null,{"$f":"AL23","v":"Lukas Korcak"},null,null,null,"AAA",{"$f":"Tables!GX93","v":0}]
[null,10,{"$f":"'Com'' List'!$B$11","v":"UU"},null,{"$f":"'Com'' List'!$C$11","v":0},{"$f":"'Com'' List'!$D$11","v":0},{"$f":"'Com'' List'!$E$11","v":0},null,{"$f":"'Com'' List'!$G$11","v":0},{"$f":"'Com'' List'!$H$11","v":0},{"$f":"'Com'' List'!$I$11","v":0},null,{"$f":"'Com'' List'!$K$11","v":0},{"$f":"'Com'' List'!$L$11","v":0},{"$f":"'Com'' List'!$M$11","v":0},null,{"$f":"'Com'' List'!$O$11","v":0},{"$f":"'Com'' List'!$P$11","v":0},{"$f":"'Com'' List'!$Q$11","v":0},null,{"$f":"'Com'' List'!$S$11","v":0},{"$f":"'Com'' List'!$T$11","v":0},{"$f":"'Com'' List'!$U$11","v":0},null,{"$f":"'Com'' List'!$W$11","v":0},{"$f":"'Com'' List'!$X$11","v":0},{"$f":"'Com'' List'!$Y$11","v":0},null,{"$f":"'Com'' List'!$AG$11","v":0},{"$f":"'Com'' List'!$AH$11","v":0},{"$f":"'Com'' List'!$AG$11","v":0},null,null,null,null,null,null,{"$f":"VLOOKUP($C25,$AP$8:$AQ$24,2,0)","v":0},null,null,null,"BBB",{"$f":"Tables!HI93","v":0}]
[null,null,null,null,{"$f":"'Com'' List'!$F$11","v":0},null,null,null,{"$f":"'Com'' List'!$J$11","v":0},null,null,null,{"$f":"'Com'' List'!$N$11","v":0},null,null,null,{"$f":"'Com'' List'!$R$11","v":0},null,null,null,{"$f":"'Com'' List'!$V$11","v":0},null,null,null,{"$f":"'Com'' List'!$Z$11","v":0},null,null,null,null,null,null,null,null,null,null,null,null,{"$f":"AL25","v":0},null,null,null,"CCC",{"$f":"Tables!HT93","v":0}]
[null,11,{"$f":"'Com'' List'!$B$12","v":"IT Tallaght"},null,{"$f":"'Com'' List'!$C$12","v":0},{"$f":"'Com'' List'!$D$12","v":0},{"$f":"'Com'' List'!$E$12","v":0},null,{"$f":"'Com'' List'!$G$12","v":0},{"$f":"'Com'' List'!$H$12","v":0},{"$f":"'Com'' List'!$I$12","v":0},null,{"$f":"'Com'' List'!$K$12","v":0},{"$f":"'Com'' List'!$L$12","v":0},{"$f":"'Com'' List'!$M$12","v":0},null,{"$f":"'Com'' List'!$O$12","v":0},{"$f":"'Com'' List'!$P$12","v":0},{"$f":"'Com'' List'!$Q$12","v":0},null,{"$f":"'Com'' List'!$S$12","v":0},{"$f":"'Com'' List'!$T$12","v":0},{"$f":"'Com'' List'!$U$12","v":0},null,{"$f":"'Com'' List'!$W$12","v":0},{"$f":"'Com'' List'!$X$12","v":0},{"$f":"'Com'' List'!$Y$12","v":0},null,{"$f":"'Com'' List'!$AG$12","v":0},{"$f":"'Com'' List'!$AH$12","v":0},{"$f":"'Com'' List'!$AG$12","v":0},null,null,null,null,null,null,{"$f":"VLOOKUP($C27,$AP$8:$AQ$24,2,0)","v":0},null,null,null,"DDD",{"$f":"Tables!IE93","v":0}]
[null,null,null,null,{"$f":"'Com'' List'!$F$12","v":0},null,null,null,{"$f":"'Com'' List'!$J$12","v":0},null,null,null,{"$f":"'Com'' List'!$N$12","v":0},null,null,null,{"$f":"'Com'' List'!$R$12","v":0},null,null,null,{"$f":"'Com'' List'!$V$12","v":0},null,null,null,{"$f":"'Com'' List'!$Z$12","v":0},null,null,null,null,null,null,null,null,null,null,null,null,{"$f":"AL27","v":0},null,null,null,"EEE",{"$f":"Tables!IP93","v":0}]
[null,12,{"$f":"'Com'' List'!$B$13","v":"BCFE"},null,{"$f":"'Com'' List'!$C$13","v":0},{"$f":"'Com'' List'!$D$13","v":0},{"$f":"'Com'' List'!$E$13","v":0},null,{"$f":"'Com'' List'!$G$13","v":0},{"$f":"'Com'' List'!$H$13","v":0},{"$f":"'Com'' List'!$I$13","v":0},null,{"$f":"'Com'' List'!$K$13","v":0},{"$f":"'Com'' List'!$L$13","v":0},{"$f":"'Com'' List'!$M$13","v":0},null,{"$f":"'Com'' List'!$O$13","v":0},{"$f":"'Com'' List'!$P$13","v":0},{"$f":"'Com'' List'!$Q$13","v":0},null,{"$f":"'Com'' List'!$S$13","v":0},{"$f":"'Com'' List'!$T$13","v":0},{"$f":"'Com'' List'!$U$13","v":0},null,{"$f":"'Com'' List'!$W$13","v":0},{"$f":"'Com'' List'!$X$13","v":0},{"$f":"'Com'' List'!$Y$13","v":0},null,{"$f":"'Com'' List'!$AG$13","v":0},{"$f":"'Com'' List'!$AH$13","v":0},{"$f":"'Com'' List'!$AG$13","v":0},null,null,null,null,null,null,{"$f":"VLOOKUP($C29,$AP$8:$AQ$24,2,0)","v":{"$error":"#N/A"}}]
[null,null,null,null,{"$f":"'Com'' List'!$F$13","v":0},null,null,null,{"$f":"'Com'' List'!$J$13","v":0},null,null,null,{"$f":"'Com'' List'!$N$13","v":0},null,null,null,{"$f":"'Com'' List'!$R$13","v":0},null,null,null,{"$f":"'Com'' List'!$V$13","v":0},null,null,null,{"$f":"'Com'' List'!$Z$13","v":0},null,null,null,null,null,null,null,null,null,null,null,null,{"$f":"AL29","v":{"$error":"#N/A"}}]
[null,13,{"$f":"'Com'' List'!$B$14","v":"UCD"},null,{"$f":"'Com'' List'!$C$14","v":0},{"$f":"'Com'' List'!$D$14","v":0},{"$f":"'Com'' List'!$E$14","v":0},null,{"$f":"'Com'' List'!$G$14","v":0},{"$f":"'Com'' List'!$H$14","v":0},{"$f":"'Com'' List'!$I$14","v":0},null,{"$f":"'Com'' List'!$K$14","v":0},{"$f":"'Com'' List'!$L$14","v":0},{"$f":"'Com'' List'!$M$14","v":0},null,{"$f":"'Com'' List'!$O$14","v":0},{"$f":"'Com'' List'!$P$14","v":0},{"$f":"'Com'' List'!$Q$14","v":0},null,{"$f":"'Com'' List'!$S$14","v":0},{"$f":"'Com'' List'!$T$14","v":0},{"$f":"'Com'' List'!$U$14","v":0},null,{"$f":"'Com'' List'!$W$14","v":0},{"$f":"'Com'' List'!$X$14","v":0},{"$f":"'Com'' List'!$Y$14","v":0},null,{"$f":"'Com'' List'!$AG$14","v":0},{"$f":"'Com'' List'!$AH$14","v":0},{"$f":"'Com'' List'!$AG$14","v":0},null,null,null,null,null,null,{"$f":"VLOOKUP($C31,$AP$8:$AQ$24,2,0)","v":0}]
[null,null,null,null,{"$f":"'Com'' List'!$F$14","v":0},null,null,null,{"$f":"'Com'' List'!$J$14","v":0},null,null,null,{"$f":"'Com'' List'!$N$14","v":0},null,null,null,{"$f":"'Com'' List'!$R$14","v":0},null,null,null,{"$f":"'Com'' List'!$V$14","v":0},null,null,null,{"$f":"'Com'' List'!$Z$14","v":0},null,null,null,null,null,null,null,null,null,null,null,null,{"$f":"AL31","v":0}]
[null,14,{"$f":"'Com'' List'!$B$15","v":"DKIT"},null,{"$f":"'Com'' List'!$C$15","v":0},{"$f":"'Com'' List'!$D$15","v":0},{"$f":"'Com'' List'!$E$15","v":0},null,{"$f":"'Com'' List'!$G$15","v":0},{"$f":"'Com'' List'!$H$15","v":0},{"$f":"'Com'' List'!$I$15","v":0},null,{"$f":"'Com'' List'!$K$15","v":0},{"$f":"'Com'' List'!$L$15","v":0},{"$f":"'Com'' List'!$M$15","v":0},null,{"$f":"'Com'' List'!$O$15","v":0},{"$f":"'Com'' List'!$P$15","v":0},{"$f":"'Com'' List'!$Q$15","v":0},null,{"$f":"'Com'' List'!$S$15","v":0},{"$f":"'Com'' List'!$T$15","v":0},{"$f":"'Com'' List'!$U$15","v":0},null,{"$f":"'Com'' List'!$W$15","v":0},{"$f":"'Com'' List'!$X$15","v":0},{"$f":"'Com'' List'!$Y$15","v":0},null,{"$f":"'Com'' List'!$AG$15","v":0},{"$f":"'Com'' List'!$AH$15","v":0},{"$f":"'Com'' List'!$AG$15","v":0},null,null,null,null,null,null,{"$f":"VLOOKUP($C33,$AP$8:$AQ$24,2,0)","v":0}]
[null,null,null,null,{"$f":"'Com'' List'!$F$15","v":0},null,null,null,{"$f":"'Com'' List'!$J$15","v":0},null,null,null,{"$f":"'Com'' List'!$N$15","v":0},null,null,null,{"$f":"'Com'' List'!$R$15","v":0},null,null,null,{"$f":"'Com'' List'!$V$15","v":0},null,null,null,{"$f":"'Com'' List'!$Z$15","v":0},null,null,null,null,null,null,null,null,null,null,null,null,{"$f":"AL33","v":0}]
[null,15,{"$f":"'Com'' List'!$B$16","v":"RCSI"},null,{"$f":"'Com'' List'!$C$16","v":0},{"$f":"'Com'' List'!$D$16","v":0},{"$f":"'Com'' List'!$E$16","v":0},null,{"$f":"'Com'' List'!$G$16","v":0},{"$f":"'Com'' List'!$H$16","v":0},{"$f":"'Com'' List'!$I$16","v":0},null,{"$f":"'Com'' List'!$K$16","v":0},{"$f":"'Com'' List'!$L$16","v":0},{"$f":"'Com'' List'!$M$16","v":0},null,{"$f":"'Com'' List'!$O$16","v":0},{"$f":"'Com'' List'!$P$16","v":0},{"$f":"'Com'' List'!$Q$16","v":0},null,{"$f":"'Com'' List'!$S$16","v":0},{"$f":"'Com'' List'!$T$16","v":0},{"$f":"'Com'' List'!$U$16","v":0},null,{"$f":"'Com'' List'!$W$16","v":0},{"$f":"'Com'' List'!$X$16","v":0},{"$f":"'Com'' List'!$Y$16","v":0},null,{"$f":"'Com'' List'!$AG$16","v":0},{"$f":"'Com'' List'!$AH$16","v":0},{"$f":"'Com'' List'!$AG$16","v":0},null,null,null,null,null,null,{"$f":"VLOOKUP($C35,$AP$8:$AQ$24,2,0)","v":0}]
[null,null,null,null,{"$f":"'Com'' List'!$F$16","v":0},null,null,null,{"$f":"'Com'' List'!$J$16","v":0},null,null,null,{"$f":"'Com'' List'!$N$16","v":0},null,null,null,{"$f":"'Com'' List'!$R$16","v":0},null,null,null,{"$f":"'Com'' List'!$V$16","v":0},null,null,null,{"$f":"'Com'' List'!$Z$16","v":0},null,null,null,null,null,null,null,null,null,null,null,null,{"$f":"AL35","v":0}]
[null,16,{"$f":"'Com'' List'!$B$17","v":"UL"},null,{"$f":"'Com'' List'!$C$17","v":0},{"$f":"'Com'' List'!$D$17","v":0},{"$f":"'Com'' List'!$E$17","v":0},null,{"$f":"'Com'' List'!$G$17","v":0},{"$f":"'Com'' List'!$H$17","v":0},{"$f":"'Com'' List'!$I$17","v":0},null,{"$f":"'Com'' List'!$K$17","v":0},{"$f":"'Com'' List'!$L$17","v":0},{"$f":"'Com'' List'!$M$17","v":0},null,{"$f":"'Com'' List'!$O$17","v":0},{"$f":"'Com'' List'!$P$17","v":0},{"$f":"'Com'' List'!$Q$17","v":0},null,{"$f":"'Com'' List'!$S$17","v":0},{"$f":"'Com'' List'!$T$17","v":0},{"$f":"'Com'' List'!$U$17","v":0},null,{"$f":"'Com'' List'!$W$17","v":0},{"$f":"'Com'' List'!$X$17","v":0},{"$f":"'Com'' List'!$Y$17","v":0},null,{"$f":"'Com'' List'!$AG$17","v":0},{"$f":"'Com'' List'!$AH$17","v":0},{"$f":"'Com'' List'!$AG$17","v":0},null,null,null,null,null,null,{"$f":"VLOOKUP($C37,$AP$8:$AQ$24,2,0)","v":0}]
[null,null,null,null,{"$f":"'Com'' List'!$F$17","v":0},null,null,null,{"$f":"'Com'' List'!$J$17","v":0},null,null,null,{"$f":"'Com'' List'!$N$17","v":0},null,null,null,{"$f":"'Com'' List'!$R$17","v":0},null,null,null,{"$f":"'Com'' List'!$V$17","v":0},null,null,null,{"$f":"'Com'' List'!$Z$17","v":0},null,null,null,null,null,null,null,null,null,null,null,null,{"$f":"AL37","v":0}]
[null,17,{"$f":"'Com'' List'!$B$18","v":"QUB"},null,{"$f":"'Com'' List'!$C$18","v":0},{"$f":"'Com'' List'!$D$18","v":0},{"$f":"'Com'' List'!$E$18","v":0},null,{"$f":"'Com'' List'!$G$18","v":0},{"$f":"'Com'' List'!$H$18","v":0},{"$f":"'Com'' List'!$I$18","v":0},null,{"$f":"'Com'' List'!$K$18","v":0},{"$f":"'Com'' List'!$L$18","v":0},{"$f":"'Com'' List'!$M$18","v":0},null,{"$f":"'Com'' List'!$O$18","v":0},{"$f":"'Com'' List'!$P$18","v":0},{"$f":"'Com'' List'!$Q$18","v":0},null,{"$f":"'Com'' List'!$S$18","v":0},{"$f":"'Com'' List'!$T$18","v":0},{"$f":"'Com'' List'!$U$18","v":0},null,{"$f":"'Com'' List'!$W$18","v":0},{"$f":"'Com'' List'!$X$18","v":0},{"$f":"'Com'' List'!$Y$18","v":0},null,{"$f":"'Com'' List'!$AG$18","v":0},{"$f":"'Com'' List'!$AH$18","v":0},{"$f":"'Com'' List'!$AG$18","v":0},null,null,null,null,null,null,{"$f":"VLOOKUP($C39,$AP$8:$AQ$24,2,0)","v":{"$error":"#N/A"}}]
[null,null,null,null,{"$f":"'Com'' List'!$F$18","v":0},null,null,null,{"$f":"'Com'' List'!$J$18","v":0},null,null,null,{"$f":"'Com'' List'!$N$18","v":0},null,null,null,{"$f":"'Com'' List'!$R$18","v":0},null,null,null,{"$f":"'Com'' List'!$V$18","v":0},null,null,null,{"$f":"'Com'' List'!$Z$18","v":0},null,null,null,null,null,null,null,null,null,null,null,null,{"$f":"AL39","v":{"$error":"#N/A"}}]
[null,18,{"$f":"'Com'' List'!$B$19","v":"AAA"},null,{"$f":"'Com'' List'!$C$19","v":0},{"$f":"'Com'' List'!$D$19","v":0},{"$f":"'Com'' List'!$E$19","v":0},null,{"$f":"'Com'' List'!$G$19","v":0},{"$f":"'Com'' List'!$H$19","v":0},{"$f":"'Com'' List'!$I$19","v":0},null,{"$f":"'Com'' List'!$K$19","v":0},{"$f":"'Com'' List'!$L$19","v":0},{"$f":"'Com'' List'!$M$19","v":0},null,{"$f":"'Com'' List'!$O$19","v":0},{"$f":"'Com'' List'!$P$19","v":0},{"$f":"'Com'' List'!$Q$19","v":0},null,{"$f":"'Com'' List'!$S$19","v":0},{"$f":"'Com'' List'!$T$19","v":0},{"$f":"'Com'' List'!$U$19","v":0},null,{"$f":"'Com'' List'!$W$19","v":{"$error":"#NUM!"}},{"$f":"'Com'' List'!$X$19","v":{"$error":"#NUM!"}},{"$f":"'Com'' List'!$Y$19","v":{"$error":"#NUM!"}},null,{"$f":"'Com'' List'!$AG$19","v":{"$error":"#NUM!"}},{"$f":"'Com'' List'!$AH$19","v":{"$error":"#NUM!"}},{"$f":"'Com'' List'!$AI$19","v":-0.7},null,null,null,null,null,null,{"$f":"VLOOKUP($C41,$AP$8:$AQ$24,2,0)","v":0}]
[null,null,null,null,{"$f":"'Com'' List'!$F$19","v":0},null,null,null,{"$f":"'Com'' List'!$J$19","v":0},null,null,null,{"$f":"'Com'' List'!$N$19","v":0},null,null,null,{"$f":"'Com'' List'!$R$19","v":0},null,null,null,{"$f":"'Com'' List'!$V$19","v":0},null,null,null,{"$f":"'Com'' List'!$Z$19","v":{"$error":"#NUM!"}},null,null,null,null,null,null,null,null,null,null,null,null,{"$f":"AL41","v":0}]
[null,19,{"$f":"'Com'' List'!$B$20","v":"BBB"},null,{"$f":"'Com'' List'!$C$20","v":0},{"$f":"'Com'' List'!$D$20","v":0},{"$f":"'Com'' List'!$E$20","v":0},null,{"$f":"'Com'' List'!$G$20","v":0},{"$f":"'Com'' List'!$H$20","v":0},{"$f":"'Com'' List'!$I$20","v":0},null,{"$f":"'Com'' List'!$K$20","v":0},{"$f":"'Com'' List'!$L$20","v":0},{"$f":"'Com'' List'!$M$20","v":0},null,{"$f":"'Com'' List'!$O$20","v":0},{"$f":"'Com'' List'!$P$20","v":0},{"$f":"'Com'' List'!$Q$20","v":0},null,{"$f":"'Com'' List'!$S$20","v":0},{"$f":"'Com'' List'!$T$20","v":0},{"$f":"'Com'' List'!$U$20","v":0},null,{"$f":"'Com'' List'!$W$20","v":{"$error":"#NUM!"}},{"$f":"'Com'' List'!$X$20","v":{"$error":"#NUM!"}},{"$f":"'Com'' List'!$Y$20","v":{"$error":"#NUM!"}},null,{"$f":"'Com'' List'!$AG$20","v":{"$error":"#NUM!"}},{"$f":"'Com'' List'!$AH$20","v":{"$error":"#NUM!"}},{"$f":"'Com'' List'!$AI$20","v":-0.7},null,null,null,null,null,null,{"$f":"VLOOKUP($C43,$AP$8:$AQ$24,2,0)","v":{"$error":"#N/A"}}]
[null,null,null,null,{"$f":"'Com'' List'!$F$20","v":0},null,null,null,{"$f":"'Com'' List'!$J$20","v":0},null,null,null,{"$f":"'Com'' List'!$N$20","v":0},null,null,null,{"$f":"'Com'' List'!$R$20","v":0},null,null,null,{"$f":"'Com'' List'!$V$20","v":0},null,null,null,{"$f":"'Com'' List'!$Z$20","v":{"$error":"#NUM!"}},null,null,null,null,null,null,null,null,null,null,null,null,{"$f":"AL43","v":{"$error":"#N/A"}}]
[null,20,{"$f":"'Com'' List'!$B$21","v":"CCC"},null,{"$f":"'Com'' List'!$C$21","v":0},{"$f":"'Com'' List'!$D$21","v":0},{"$f":"'Com'' List'!$E$21","v":0},null,{"$f":"'Com'' List'!$G$21","v":0},{"$f":"'Com'' List'!$H$21","v":0},{"$f":"'Com'' List'!$I$21","v":0},null,{"$f":"'Com'' List'!$K$21","v":0},{"$f":"'Com'' List'!$L$21","v":0},{"$f":"'Com'' List'!$M$21","v":0},null,{"$f":"'Com'' List'!$O$21","v":0},{"$f":"'Com'' List'!$P$21","v":0},{"$f":"'Com'' List'!$Q$21","v":0},null,{"$f":"'Com'' List'!$S$21","v":0},{"$f":"'Com'' List'!$T$21","v":0},{"$f":"'Com'' List'!$U$21","v":0},null,{"$f":"'Com'' List'!$W$21","v":{"$error":"#NUM!"}},{"$f":"'Com'' List'!$X$21","v":{"$error":"#NUM!"}},{"$f":"'Com'' List'!$Y$21","v":{"$error":"#NUM!"}},null,{"$f":"'Com'' List'!$AG$21","v":{"$error":"#NUM!"}},{"$f":"'Com'' List'!$AH$21","v":{"$error":"#NUM!"}},{"$f":"'Com'' List'!$AI$21","v":-0.7},null,null,null,null,null,null,{"$f":"VLOOKUP($C45,$AP$8:$AQ$24,2,0)","v":{"$error":"#N/A"}}]
[null,null,null,null,{"$f":"'Com'' List'!$F$21","v":0},null,null,null,{"$f":"'Com'' List'!$J$21","v":0},null,null,null,{"$f":"'Com'' List'!$N$21","v":0},null,null,null,{"$f":"'Com'' List'!$R$21","v":0},null,null,null,{"$f":"'Com'' List'!$V$21","v":0},null,null,null,{"$f":"'Com'' List'!$Z$21","v":{"$error":"#NUM!"}},null,null,null,null,null,null,null,null,null,null,null,null,{"$f":"AL45","v":{"$error":"#N/A"}}]
[null,21,{"$f":"'Com'' List'!$B$22","v":"DDD"},null,{"$f":"'Com'' List'!$C$22","v":0},{"$f":"'Com'' List'!$D$22","v":0},{"$f":"'Com'' List'!$E$22","v":0},null,{"$f":"'Com'' List'!$G$22","v":0},{"$f":"'Com'' List'!$H$22","v":0},{"$f":"'Com'' List'!$I$22","v":0},null,{"$f":"'Com'' List'!$K$22","v":0},{"$f":"'Com'' List'!$L$22","v":0},{"$f":"'Com'' List'!$M$22","v":0},null,{"$f":"'Com'' List'!$O$22","v":0},{"$f":"'Com'' List'!$P$22","v":0},{"$f":"'Com'' List'!$Q$22","v":0},null,{"$f":"'Com'' List'!$S$22","v":0},{"$f":"'Com'' List'!$T$22","v":0},{"$f":"'Com'' List'!$U$22","v":0},null,{"$f":"'Com'' List'!$W$22","v":{"$error":"#NUM!"}},{"$f":"'Com'' List'!$X$22","v":{"$error":"#NUM!"}},{"$f":"'Com'' List'!$Y$22","v":{"$error":"#NUM!"}},null,{"$f":"'Com'' List'!$AG$22","v":{"$error":"#NUM!"}},{"$f":"'Com'' List'!$AH$22","v":{"$error":"#NUM!"}},{"$f":"'Com'' List'!$AI$22","v":-0.7},null,null,null,null,null,null,{"$f":"VLOOKUP($C47,$AP$8:$AQ$24,2,0)","v":{"$error":"#N/A"}}]
[null,null,null,null,{"$f":"'Com'' List'!$F$22","v":0},null,null,null,{"$f":"'Com'' List'!$J$22","v":0},null,null,null,{"$f":"'Com'' List'!$N$22","v":0},null,null,null,{"$f":"'Com'' List'!$R$22","v":0},null,null,null,{"$f":"'Com'' List'!$V$22","v":0},null,null,null,{"$f":"'Com'' List'!$Z$22","v":{"$error":"#NUM!"}},null,null,null,null,null,null,null,null,null,null,null,null,{"$f":"AL47","v":{"$error":"#N/A"}}]
[null,22,{"$f":"'Com'' List'!$B$23","v":"EEE"},null,{"$f":"'Com'' List'!$C$23","v":0},{"$f":"'Com'' List'!$D$23","v":0},{"$f":"'Com'' List'!$E$23","v":0},null,{"$f":"'Com'' List'!$G$23","v":0},{"$f":"'Com'' List'!$H$23","v":0},{"$f":"'Com'' List'!$I$23","v":0},null,{"$f":"'Com'' List'!$K$23","v":0},{"$f":"'Com'' List'!$L$23","v":0},{"$f":"'Com'' List'!$M$23","v":0},null,{"$f":"'Com'' List'!$O$23","v":0},{"$f":"'Com'' List'!$P$23","v":0},{"$f":"'Com'' List'!$Q$23","v":0},null,{"$f":"'Com'' List'!$S$23","v":0},{"$f":"'Com'' List'!$T$23","v":0},{"$f":"'Com'' List'!$U$23","v":0},null,{"$f":"'Com'' List'!$W$23","v":{"$error":"#NUM!"}},{"$f":"'Com'' List'!$X$23","v":{"$error":"#NUM!"}},{"$f":"'Com'' List'!$Y$23","v":{"$error":"#NUM!"}},null,{"$f":"'Com'' List'!$AG$23","v":{"$error":"#NUM!"}},{"$f":"'Com'' List'!$AH$23","v":{"$error":"#NUM!"}},{"$f":"'Com'' List'!$AI$23","v":-0.7},null,null,null,null,null,null,{"$f":"VLOOKUP($C49,$AP$8:$AQ$24,2,0)","v":{"$error":"#N/A"}}]
[null,null,null,null,{"$f":"'Com'' List'!$F$23","v":0},null,null,null,{"$f":"'Com'' List'!$J$23","v":0},null,null,null,{"$f":"'Com'' List'!$N$23","v":0},null,null,null,{"$f":"'Com'' List'!$R$23","v":0},null,null,null,{"$f":"'Com'' List'!$V$23","v":0},null,null,null,{"$f":"'Com'' List'!$Z$23","v":{"$error":"#NUM!"}},null,null,null,null,null,null,null,null,null,null,null,null,{"$f":"AL49","v":{"$error":"#N/A"}}]
[null,{"$f":"$C$7","v":"NUIG"}]

{"sheet":"Mixed Team","index":22,"n_rows":51,"n_cols":43,"rows_kept":51,"cut":false,"hidden":false,"merged":[[1,4,4,26],[5,4,5,26],[7,24,7,26],[9,24,9,26],[11,24,11,26],[13,24,13,26],[15,24,15,26],[17,24,17,26],[19,24,19,26],[7,4,7,6],[7,8,7,10],[19,12,19,14],[1,31,49,31],[50,0,50,31],[1,0,49,0],[0,0,0,31],[1,28,4,28],[1,29,4,29],[1,30,4,30],[6,1,7,1],[6,2,7,2],[10,1,11,1],[10,2,11,2],[11,4,11,6],[11,8,11,10],[11,12,11,14],[8,1,9,1],[8,2,9,2],[8,28,9,28],[8,29,9,29],[9,4,9,6],[9,8,9,10],[9,12,9,14],[6,28,7,28],[6,29,7,29],[6,30,7,30],[1,1,3,2],[4,1,4,2],[5,28,5,30],[5,1,5,2],[1,3,49,3],[1,27,49,27],[14,1,15,1],[14,2,15,2],[15,4,15,6],[15,8,15,10],[15,12,15,14],[12,1,13,1],[12,2,13,2],[12,28,13,28],[12,29,13,29],[13,4,13,6],[13,8,13,10],[13,12,13,14],[14,28,15,28],[14,29,15,29],[18,1,19,1],[18,2,19,2],[19,4,19,6],[19,8,19,10],[16,1,17,1],[16,2,17,2],[16,28,17,28],[16,29,17,29],[17,4,17,6],[17,8,17,10],[17,12,17,14],[25,4,25,6],[25,8,25,10],[25,12,25,14],[22,1,23,1],[22,2,23,2],[23,4,23,6],[23,8,23,10],[23,12,23,14],[20,1,21,1],[20,2,21,2],[21,4,21,6],[21,8,21,10],[21,12,21,14],[38,1,39,1],[38,2,39,2],[39,4,39,6],[39,8,39,10],[39,12,39,14],[36,1,37,1],[36,2,37,2],[13,16,13,18],[13,20,13,22],[21,16,21,18],[21,20,21,22],[29,16,29,18],[29,20,29,22],[35,8,35,10],[35,12,35,14],[32,1,33,1],[32,2,33,2],[33,4,33,6],[33,8,33,10],[33,12,33,14],[30,1,31,1],[30,2,31,2],[31,4,31,6],[31,8,31,10],[37,4,37,6],[37,8,37,10],[37,12,37,14],[34,1,35,1],[34,2,35,2],[35,4,35,6],[37,16,37,18],[37,20,37,22],[7,12,7,14],[7,16,7,18],[7,20,7,22],[31,12,31,14],[28,1,29,1],[28,2,29,2],[29,4,29,6],[29,8,29,10],[29,12,29,14],[26,1,27,1],[26,2,27,2],[27,4,27,6],[27,8,27,10],[27,12,27,14],[24,1,25,1],[24,2,25,2],[14,30,15,30],[15,16,15,18],[15,20,15,22],[9,16,9,18],[9,20,9,22],[10,28,11,28],[10,29,11,29],[10,30,11,30],[11,16,11,18],[11,20,11,22],[12,30,13,30],[8,30,9,30],[22,30,23,30],[23,16,23,18],[23,20,23,22],[17,16,17,18],[17,20,17,22],[18,28,19,28],[18,29,19,29],[18,30,19,30],[19,16,19,18],[19,20,19,22],[20,30,21,30],[16,30,17,30],[20,28,21,28],[20,29,21,29],[22,28,23,28],[22,29,23,29],[21,24,21,26],[23,24,23,26],[30,30,31,30],[31,16,31,18],[31,20,31,22],[25,16,25,18],[25,20,25,22],[26,28,27,28],[26,29,27,29],[26,30,27,30],[27,16,27,18],[27,20,27,22],[28,30,29,30],[24,30,25,30],[28,28,29,28],[28,29,29,29],[30,28,31,28],[30,29,31,29],[24,28,25,28],[24,29,25,29],[25,24,25,26],[27,24,27,26],[29,24,29,26],[31,24,31,26],[38,28,39,28],[38,29,39,29],[38,30,39,30],[39,16,39,18],[39,20,39,22],[33,16,33,18],[33,20,33,22],[34,28,35,28],[34,29,35,29],[34,30,35,30],[35,16,35,18],[35,20,35,22],[36,28,37,28],[36,29,37,29],[36,30,37,30],[32,28,33,28],[32,29,33,29],[32,30,33,30],[33,24,33,26],[35,24,35,26],[37,24,37,26],[39,24,39,26],[40,1,41,1],[40,2,41,2],[40,28,41,28],[40,29,41,29],[40,30,41,30],[41,4,41,6],[41,8,41,10],[41,12,41,14],[41,16,41,18],[41,20,41,22],[41,24,41,26],[44,29,45,29],[44,30,45,30],[45,4,45,6],[45,8,45,10],[45,12,45,14],[45,16,45,18],[45,20,45,22],[42,1,43,1],[42,2,43,2],[42,28,43,28],[42,29,43,29],[42,30,43,30],[43,4,43,6],[43,8,43,10],[43,12,43,14],[43,16,43,18],[43,20,43,22],[44,1,45,1],[44,2,45,2],[44,28,45,28],[43,24,43,26],[45,24,45,26],[48,1,49,1],[48,2,49,2],[48,28,49,28],[48,29,49,29],[48,30,49,30],[49,4,49,6],[49,8,49,10],[49,12,49,14],[49,16,49,18],[49,20,49,22],[49,24,49,26],[46,1,47,1],[46,2,47,2],[46,28,47,28],[46,29,47,29],[46,30,47,30],[47,4,47,6],[47,8,47,10],[47,12,47,14],[47,16,47,18],[47,20,47,22],[47,24,47,26]]}
[{"$f":"$C$7","v":"NUIG"}]
["NUIG","Mixed Team",null,{"$f":"$C$7","v":"NUIG"},null,null,null,null,null,null,null,null,null,null,null,null,null,null,null,null,null,null,null,null,null,null,null,"NUIG","Total","Lowest","League","NUIG",null,null,null,null,null,{"$f":"AL7","v":"Darren Wallace"}]
[]
[]
[]
[null,"NUIG",null,null,"NUIG",null,null,null,null,null,null,null,null,null,null,null,null,null,null,null,null,null,null,null,null,null,null,null,{"$f":"$C$7","v":"NUIG"}]
[null,1,{"$f":"'Mixed List'!B2","v":"NUIG"},null,{"$f":"'Mixed List'!$C$2","v":564},{"$f":"'Mixed List'!$D$2","v":398},{"$f":"'Mixed List'!$E$2","v":566},null,{"$f":"'Mixed List'!$F$2","v":560},{"$f":"'Mixed List'!$G$2","v":357},{"$f":"'Mixed List'!$H$2","v":566},null,{"$f":"'Mixed List'!$I$2","v":567},{"$f":"'Mixed List'!$J$2","v":411},{"$f":"'Mixed List'!$K$2","v":576},null,{"$f":"'Mixed List'!$L$2","v":560},{"$f":"'Mixed List'!$M$2","v":357},{"$f":"'Mixed List'!$N$2","v":567},null,{"$f":"'Mixed List'!$O$2","v":575},{"$f":"'Mixed List'!$P$2","v":434},{"$f":"'Mixed List'!$Q$2","v":575},null,{"$f":"'Mixed List'!$R$2","v":565},{"$f":"'Mixed List'!$S$2","v":346},{"$f":"'Mixed List'!$T$2","v":572},null,{"$f":"'Mixed List'!$AA$2","v":9116},{"$f":"'Mixed List'!$AB$2","v":1483},{"$f":"'Mixed List'!$AA$2","v":9116},null,null,null,null,null,null,{"$f":"VLOOKUP($C7,$AP$7:$AQ$24,2,0)","v":"Darren Wallace"},null,null,null,"DCU",{"$f":"Tables!B9","v":"Adam McSweeney"}]
[null,null,null,null,{"$f":"'Mixed List'!$U$2","v":1528},null,null,null,{"$f":"'Mixed List'!$V$2","v":1483},null,null,null,{"$f":"'Mixed List'!$W$2","v":1554},null,null,null,{"$f":"'Mixed List'!$X$2","v":1484},null,null,null,{"$f":"'Mixed List'!$Y$2","v":1584},null,null,null,{"$f":"'Mixed List'!$Z$2","v":1483},null,null,null,null,null,null,null,null,null,null,null,null,{"$f":"AL7","v":"Darren Wallace"},null,null,null,"DIT",{"$f":"Tables!N9","v":"James Byrne"}]
[null,2,{"$f":"'Mixed List'!B3","v":"NUIM"},null,{"$f":"'Mixed List'!$C$2","v":564},{"$f":"'Mixed List'!$D$3","v":361},{"$f":"'Mixed List'!$E$3","v":506},null,{"$f":"'Mixed List'!$F$3","v":521},{"$f":"'Mixed List'!$G$3","v":378},{"$f":"'Mixed List'!$H$3","v":479},null,{"$f":"'Mixed List'!$I$3","v":525},{"$f":"'Mixed List'!$J$3","v":0},{"$f":"'Mixed List'!$K$3","v":510},null,{"$f":"'Mixed List'!$L$3","v":513},{"$f":"'Mixed List'!$M$3","v":421},{"$f":"'Mixed List'!$N$3","v":495},null,{"$f":"'Mixed List'!$O$3","v":488},{"$f":"'Mixed List'!$P$3","v":469},{"$f":"'Mixed List'!$Q$3","v":524},null,{"$f":"'Mixed List'!$R$3","v":515},{"$f":"'Mixed List'!$S$3","v":356},{"$f":"'Mixed List'!$T$3","v":512},null,{"$f":"'Mixed List'!$AA$3","v":8096},{"$f":"'Mixed List'!$AB$3","v":1035},{"$f":"'Mixed List'!$AA$3","v":8096},null,null,null,null,null,null,{"$f":"VLOOKUP($C9,$AP$8:$AQ$24,2,0)","v":{"$error":"#N/A"}},null,null,null,"DkIT",{"$f":"Tables!Z9","v":"Brendan Forde"}]
[null,null,null,null,{"$f":"'Mixed List'!$U$3","v":1390},null,null,null,{"$f":"'Mixed List'!$V$3","v":1378},null,null,null,{"$f":"'Mixed List'!$W$3","v":1035},null,null,null,{"$f":"'Mixed List'!$X$3","v":1429},null,null,null,{"$f":"'Mixed List'!$Y$3","v":1481},null,null,null,{"$f":"'Mixed List'!$Z$3","v":1383},null,null,null,null,null,null,null,null,null,null,null,null,{"$f":"AL9","v":{"$error":"#N/A"}},null,null,null,"DUAC",{"$f":"Tables!AL9","v":"Maeve Reidy"}]
[null,3,{"$f":"'Mixed List'!B4","v":"DCU"},null,{"$f":"'Mixed List'!$C$4","v":547},{"$f":"'Mixed List'!$D$4","v":301},{"$f":"'Mixed List'!$E$4","v":557},null,{"$f":"'Mixed List'!$F$4","v":547},{"$f":"'Mixed List'!$G$4","v":381},{"$f":"'Mixed List'!$H$4","v":550},null,{"$f":"'Mixed List'!$I$4","v":544},{"$f":"'Mixed List'!$J$4","v":0},{"$f":"'Mixed List'!$K$4","v":572},null,{"$f":"'Mixed List'!$L$4","v":543},{"$f":"'Mixed List'!$M$4","v":325},{"$f":"'Mixed List'!$N$4","v":557},null,{"$f":"'Mixed List'!$O$4","v":530},{"$f":"'Mixed List'!$P$4","v":0},{"$f":"'Mixed List'!$Q$4","v":557},null,{"$f":"'Mixed List'!$R$4","v":554},{"$f":"'Mixed List'!$S$4","v":430},{"$f":"'Mixed List'!$T$4","v":569},null,{"$f":"'Mixed List'!$AA$4","v":8064},{"$f":"'Mixed List'!$AB$4","v":1087},{"$f":"'Mixed List'!$AA$4","v":8064},null,null,null,null,null,null,{"$f":"VLOOKUP($C11,$AP$8:$AQ$24,2,0)","v":{"$error":"#N/A"}},null,null,null,"GMIT",{"$f":"Tables!AX9","v":"Conor McCan"}]
[null,null,null,null,{"$f":"'Mixed List'!$U$4","v":1405},null,null,null,{"$f":"'Mixed List'!$V$4","v":1478},null,null,null,{"$f":"'Mixed List'!$W$4","v":1116},null,null,null,{"$f":"'Mixed List'!$X$4","v":1425},null,null,null,{"$f":"'Mixed List'!$Y$4","v":1087},null,null,null,{"$f":"'Mixed List'!$Z$4","v":1553},null,null,null,null,null,null,null,null,null,null,null,null,{"$f":"AL11","v":{"$error":"#N/A"}},null,null,null,"GMITC",{"$f":"Tables!BJ9","v":"Sinead Naughton"}]
[null,4,{"$f":"'Mixed List'!B5","v":"GMITC"},null,{"$f":"'Mixed List'!$C$5","v":366},{"$f":"'Mixed List'!$D$5","v":309},{"$f":"'Mixed List'!$E$5","v":528},null,{"$f":"'Mixed List'!$F$5","v":452},{"$f":"'Mixed List'!$G$5","v":281},{"$f":"'Mixed List'!$H$5","v":533},null,{"$f":"'Mixed List'!$I$5","v":413},{"$f":"'Mixed List'!$J$5","v":419},{"$f":"'Mixed List'!$K$5","v":512},null,{"$f":"'Mixed List'!$L$5","v":423},{"$f":"'Mixed List'!$M$5","v":405},{"$f":"'Mixed List'!$N$5","v":0},null,{"$f":"'Mixed List'!$O$5","v":445},{"$f":"'Mixed List'!$P$5","v":359},{"$f":"'Mixed List'!$Q$5","v":0},null,{"$f":"'Mixed List'!$R$5","v":452},{"$f":"'Mixed List'!$S$5","v":380},{"$f":"'Mixed List'!$T$5","v":0},null,{"$f":"'Mixed List'!$AA$5","v":6277},{"$f":"'Mixed List'!$AB$5","v":804},{"$f":"'Mixed List'!$AA$5","v":6277},null,null,null,null,null,null,{"$f":"VLOOKUP($C13,$AP$8:$AQ$24,2,0)","v":"Sinead Naughton"},null,null,null,"ITC",{"$f":"Tables!CH9","v":"Ian Kenna"}]
[null,null,null,null,{"$f":"'Mixed List'!$U$5","v":1203},null,null,null,{"$f":"'Mixed List'!$V$5","v":1266},null,null,null,{"$f":"'Mixed List'!$W$5","v":1344},null,null,null,{"$f":"'Mixed List'!$X$5","v":828},null,null,null,{"$f":"'Mixed List'!$Y$5","v":804},null,null,null,{"$f":"'Mixed List'!$Z$5","v":832},null,null,null,null,null,null,null,null,null,null,null,null,{"$f":"AL13","v":"Sinead Naughton"},null,null,null,"IT Tallaght",{"$f":"Tables!BV9","v":"Aldrin Campos"}]
[null,5,{"$f":"'Mixed List'!B6","v":"GMIT"},null,{"$f":"'Mixed List'!$C$6","v":346},{"$f":"'Mixed List'!$D$6","v":370},{"$f":"'Mixed List'!$E$6","v":515},null,{"$f":"'Mixed List'!$F$6","v":354},{"$f":"'Mixed List'!$G$6","v":269},{"$f":"'Mixed List'!$H$6","v":512},null,{"$f":"'Mixed List'!$I$6","v":424},{"$f":"'Mixed List'!$J$6","v":378},{"$f":"'Mixed List'!$K$6","v":527},null,{"$f":"'Mixed List'!$L$6","v":437},{"$f":"'Mixed List'!$M$6","v":274},{"$f":"'Mixed List'!$N$6","v":0},null,{"$f":"'Mixed List'!$O$6","v":458},{"$f":"'Mixed List'!$P$6","v":314},{"$f":"'Mixed List'!$Q$6","v":0},null,{"$f":"'Mixed List'!$R$6","v":472},{"$f":"'Mixed List'!$S$6","v":319},{"$f":"'Mixed List'!$T$6","v":0},null,{"$f":"'Mixed List'!$AA$6","v":5969},{"$f":"'Mixed List'!$AB$6","v":711},{"$f":"'Mixed List'!$AA$6","v":5969},null,null,null,null,null,null,{"$f":"VLOOKUP($C15,$AP$8:$AQ$24,2,0)","v":"Conor McCan"},null,null,null,"MU",{"$f":"Tables!CT9","v":"Aida Alexandru"}]
[null,null,null,null,{"$f":"'Mixed List'!$U$6","v":1231},null,null,null,{"$f":"'Mixed List'!$V$6","v":1135},null,null,null,{"$f":"'Mixed List'!$W$6","v":1329},null,null,null,{"$f":"'Mixed List'!$X$6","v":711},null,null,null,{"$f":"'Mixed List'!$Y$6","v":772},null,null,null,{"$f":"'Mixed List'!$Z$6","v":791},null,null,null,null,null,null,null,null,null,null,null,null,{"$f":"AL15","v":"Conor McCan"},null,null,null,"NCAD",{"$f":"Tables!DF9","v":0}]
[null,6,{"$f":"'Mixed List'!B7","v":"DIT"},null,{"$f":"'Mixed List'!$C$7","v":559},{"$f":"'Mixed List'!$D$7","v":0},{"$f":"'Mixed List'!$E$7","v":564},null,{"$f":"'Mixed List'!$F$7","v":486},{"$f":"'Mixed List'!$G$7","v":0},{"$f":"'Mixed List'!$H$7","v":566},null,{"$f":"'Mixed List'!$I$7","v":527},{"$f":"'Mixed List'!$J$7","v":0},{"$f":"'Mixed List'!$K$7","v":570},null,{"$f":"'Mixed List'!$L$7","v":530},{"$f":"'Mixed List'!$M$7","v":0},{"$f":"'Mixed List'!$N$7","v":0},null,{"$f":"'Mixed List'!$O$7","v":529},{"$f":"'Mixed List'!$P$7","v":0},{"$f":"'Mixed List'!$Q$7","v":514},null,{"$f":"'Mixed List'!$R$7","v":530},{"$f":"'Mixed List'!$S$7","v":0},{"$f":"'Mixed List'!$T$7","v":513},null,{"$f":"'Mixed List'!$AA$7","v":5888},{"$f":"'Mixed List'!$AB$7","v":530},{"$f":"'Mixed List'!$AA$7","v":5888},null,null,null,null,null,null,{"$f":"VLOOKUP($C17,$AP$8:$AQ$24,2,0)","v":"James Byrne"},null,null,null,"NUIG",{"$f":"Tables!DR9","v":"Darren Wallace"}]
[null,null,null,null,{"$f":"'Mixed List'!$U$7","v":1123},null,null,null,{"$f":"'Mixed List'!$V$7","v":1052},null,null,null,{"$f":"'Mixed List'!$W$7","v":1097},null,null,null,{"$f":"'Mixed List'!$X$7","v":530},null,null,null,{"$f":"'Mixed List'!$Y$7","v":1043},null,null,null,{"$f":"'Mixed List'!$Z$7","v":1043},null,null,null,null,null,null,null,null,null,null,null,null,{"$f":"AL17","v":"James Byrne"},null,null,null,"RCSI",{"$f":"Tables!ED9","v":"Tan Shu leed"}]
[null,7,{"$f":"'Mixed List'!B8","v":"UCC"},null,{"$f":"'Mixed List'!$C$8","v":495},{"$f":"'Mixed List'!$D$8","v":0},{"$f":"'Mixed List'!$E$8","v":534},null,{"$f":"'Mixed List'!$F$8","v":489},{"$f":"'Mixed List'!$G$8","v":0},{"$f":"'Mixed List'!$H$8","v":550},null,{"$f":"'Mixed List'!$I$8","v":486},{"$f":"'Mixed List'!$J$8","v":259},{"$f":"'Mixed List'!$K$8","v":553},null,{"$f":"'Mixed List'!$L$8","v":0},{"$f":"'Mixed List'!$M$8","v":0},{"$f":"'Mixed List'!$N$8","v":0},null,{"$f":"'Mixed List'!$O$8","v":488},{"$f":"'Mixed List'!$P$8","v":161},{"$f":"'Mixed List'!$Q$8","v":554},null,{"$f":"'Mixed List'!$R$8","v":490},{"$f":"'Mixed List'!$S$8","v":246},{"$f":"'Mixed List'!$T$8","v":559},null,{"$f":"'Mixed List'!$AA$8","v":5864},{"$f":"'Mixed List'!$AB$8","v":0},{"$f":"'Mixed List'!$AA$8","v":5864},null,null,null,null,null,null,{"$f":"VLOOKUP($C19,$AP$8:$AQ$24,2,0)","v":"Simon Henleywillis"},null,null,null,"UCC",{"$f":"Tables!EP9","v":"Simon Henleywillis"}]
[null,null,null,null,{"$f":"'Mixed List'!$U$8","v":1029},null,null,null,{"$f":"'Mixed List'!$V$8","v":1039},null,null,null,{"$f":"'Mixed List'!$W$8","v":1298},null,null,null,{"$f":"'Mixed List'!$X$8","v":0},null,null,null,{"$f":"'Mixed List'!$Y$8","v":1203},null,null,null,{"$f":"'Mixed List'!$Z$8","v":1295},null,null,null,null,null,null,null,null,null,null,null,null,{"$f":"AL19","v":"Simon Henleywillis"},null,null,null,"UCD",{"$f":"Tables!FB9","v":"Ines Rauch"}]
[null,8,{"$f":"'Mixed List'!B9","v":"UL"},null,{"$f":"'Mixed List'!$C$9","v":541},{"$f":"'Mixed List'!$D$9","v":409},{"$f":"'Mixed List'!$E$9","v":0},null,{"$f":"'Mixed List'!$F$9","v":540},{"$f":"'Mixed List'!$G$9","v":406},{"$f":"'Mixed List'!$H$9","v":0},null,{"$f":"'Mixed List'!$I$9","v":541},{"$f":"'Mixed List'!$J$9","v":432},{"$f":"'Mixed List'!$K$9","v":0},null,{"$f":"'Mixed List'!$L$9","v":529},{"$f":"'Mixed List'!$M$9","v":436},{"$f":"'Mixed List'!$N$9","v":0},null,{"$f":"'Mixed List'!$O$9","v":527},{"$f":"'Mixed List'!$P$9","v":420},{"$f":"'Mixed List'!$Q$9","v":0},null,{"$f":"'Mixed List'!$R$9","v":511},{"$f":"'Mixed List'!$S$9","v":427},{"$f":"'Mixed List'!$T$9","v":0},null,{"$f":"'Mixed List'!$AA$9","v":5719},{"$f":"'Mixed List'!$AB$9","v":938},{"$f":"'Mixed List'!$AA$9","v":5719},null,null,null,null,null,null,{"$f":"VLOOKUP($C21,$AP$8:$AQ$24,2,0)","v":"Sean Flavin"},null,null,null,"UL",{"$f":"Tables!FN9","v":"Sean Flavin"}]
[null,null,null,null,{"$f":"'Mixed List'!$U$9","v":950},null,null,null,{"$f":"'Mixed List'!$V$9","v":946},null,null,null,{"$f":"'Mixed List'!$W$9","v":973},null,null,null,{"$f":"'Mixed List'!$X$9","v":965},null,null,null,{"$f":"'Mixed List'!$Y$9","v":947},null,null,null,{"$f":"'Mixed List'!$Z$9","v":938},null,null,null,null,null,null,null,null,null,null,null,null,{"$f":"AL21","v":"Sean Flavin"},null,null,null,"UU",{"$f":"Tables!FZ9","v":"Peter Cummings"}]
[null,9,{"$f":"'Mixed List'!B10","v":"ITC"},null,{"$f":"'Mixed List'!$C$10","v":474},{"$f":"'Mixed List'!$D$10","v":335},{"$f":"'Mixed List'!$E$10","v":362},null,{"$f":"'Mixed List'!$F$10","v":535},{"$f":"'Mixed List'!$G$10","v":293},{"$f":"'Mixed List'!$H$10","v":0},null,{"$f":"'Mixed List'!$I$10","v":484},{"$f":"'Mixed List'!$J$10","v":415},{"$f":"'Mixed List'!$K$10","v":0},null,{"$f":"'Mixed List'!$L$10","v":510},{"$f":"'Mixed List'!$M$10","v":381},{"$f":"'Mixed List'!$N$10","v":0},null,{"$f":"'Mixed List'!$O$10","v":489},{"$f":"'Mixed List'!$P$10","v":400},{"$f":"'Mixed List'!$Q$10","v":0},null,{"$f":"'Mixed List'!$R$10","v":526},{"$f":"'Mixed List'!$S$10","v":445},{"$f":"'Mixed List'!$T$10","v":0},null,{"$f":"'Mixed List'!$AA$10","v":5649},{"$f":"'Mixed List'!$AB$10","v":828},{"$f":"'Mixed List'!$AA$10","v":5649},null,null,null,null,null,null,{"$f":"VLOOKUP($C23,$AP$8:$AQ$24,2,0)","v":"Ian Kenna"},null,null,null,"WIT",{"$f":"Tables!GL9","v":"Laura Adams"}]
[null,null,null,null,{"$f":"'Mixed List'!$U$10","v":1171},null,null,null,{"$f":"'Mixed List'!$V$10","v":828},null,null,null,{"$f":"'Mixed List'!$W$10","v":899},null,null,null,{"$f":"'Mixed List'!$X$10","v":891},null,null,null,{"$f":"'Mixed List'!$Y$10","v":889},null,null,null,{"$f":"'Mixed List'!$Z$10","v":971},null,null,null,null,null,null,null,null,null,null,null,null,{"$f":"AL23","v":"Ian Kenna"},null,null,null,"AAA",{"$f":"Tables!GX9","v":0}]
[null,10,{"$f":"'Mixed List'!B11","v":"IT Tallaght"},null,{"$f":"'Mixed List'!$C$11","v":497},{"$f":"'Mixed List'!$D$11","v":0},{"$f":"'Mixed List'!$E$11","v":0},null,{"$f":"'Mixed List'!$F$11","v":499},{"$f":"'Mixed List'!$G$11","v":0},{"$f":"'Mixed List'!$H$11","v":0},null,{"$f":"'Mixed List'!$I$11","v":543},{"$f":"'Mixed List'!$J$11","v":0},{"$f":"'Mixed List'!$K$11","v":0},null,{"$f":"'Mixed List'!$L$11","v":523},{"$f":"'Mixed List'!$M$11","v":247},{"$f":"'Mixed List'!$N$11","v":0},null,{"$f":"'Mixed List'!$O$11","v":451},{"$f":"'Mixed List'!$P$11","v":0},{"$f":"'Mixed List'!$Q$11","v":0},null,{"$f":"'Mixed List'!$R$11","v":525},{"$f":"'Mixed List'!$S$11","v":331},{"$f":"'Mixed List'!$T$11","v":0},null,{"$f":"'Mixed List'!$AA$11","v":3616},{"$f":"'Mixed List'!$AB$11","v":451},{"$f":"'Mixed List'!$AA$11","v":3616},null,null,null,null,null,null,{"$f":"VLOOKUP($C25,$AP$8:$AQ$24,2,0)","v":"Aldrin Campos"},null,null,null,"BBB",{"$f":"Tables!HI9","v":0}]
[null,null,null,null,{"$f":"'Mixed List'!$U$11","v":497},null,null,null,{"$f":"'Mixed List'!$V$11","v":499},null,null,null,{"$f":"'Mixed List'!$W$11","v":543},null,null,null,{"$f":"'Mixed List'!$X$11","v":770},null,null,null,{"$f":"'Mixed List'!$Y$11","v":451},null,null,null,{"$f":"'Mixed List'!$Z$11","v":856},null,null,null,null,null,null,null,null,null,null,null,null,{"$f":"AL25","v":"Aldrin Campos"},null,null,null,"CCC",{"$f":"Tables!HT9","v":0}]
[null,11,{"$f":"'Mixed List'!B12","v":"UCD"},null,{"$f":"'Mixed List'!$C$12","v":531},{"$f":"'Mixed List'!$D$12","v":0},{"$f":"'Mixed List'!$E$12","v":0},null,{"$f":"'Mixed List'!$F$12","v":535},{"$f":"'Mixed List'!$G$12","v":0},{"$f":"'Mixed List'!$H$12","v":0},null,{"$f":"'Mixed List'!$I$12","v":537},{"$f":"'Mixed List'!$J$12","v":0},{"$f":"'Mixed List'!$K$12","v":0},null,{"$f":"'Mixed List'!$L$12","v":502},{"$f":"'Mixed List'!$M$12","v":0},{"$f":"'Mixed List'!$N$12","v":0},null,{"$f":"'Mixed List'!$O$12","v":520},{"$f":"'Mixed List'!$P$12","v":204},{"$f":"'Mixed List'!$Q$12","v":0},null,{"$f":"'Mixed List'!$R$12","v":526},{"$f":"'Mixed List'!$S$12","v":0},{"$f":"'Mixed List'!$T$12","v":0},null,{"$f":"'Mixed List'!$AA$12","v":3355},{"$f":"'Mixed List'!$AB$12","v":502},{"$f":"'Mixed List'!$AA$12","v":3355},null,null,null,null,null,null,{"$f":"VLOOKUP($C27,$AP$8:$AQ$24,2,0)","v":"Ines Rauch"},null,null,null,"DDD",{"$f":"Tables!IE9","v":0}]
[null,null,null,null,{"$f":"'Mixed List'!$U$12","v":531},null,null,null,{"$f":"'Mixed List'!$V$12","v":535},null,null,null,{"$f":"'Mixed List'!$W$12","v":537},null,null,null,{"$f":"'Mixed List'!$X$12","v":502},null,null,null,{"$f":"'Mixed List'!$Y$12","v":724},null,null,null,{"$f":"'Mixed List'!$Z$12","v":526},null,null,null,null,null,null,null,null,null,null,null,null,{"$f":"AL27","v":"Ines Rauch"},null,null,null,"EEE",{"$f":"Tables!IP9","v":0}]
[null,12,{"$f":"'Mixed List'!B13","v":"BCFE"},null,{"$f":"'Mixed List'!$C$13","v":552},{"$f":"'Mixed List'!$D$13","v":0},{"$f":"'Mixed List'!$E$13","v":0},null,{"$f":"'Mixed List'!$F$13","v":546},{"$f":"'Mixed List'!$G$13","v":0},{"$f":"'Mixed List'!$H$13","v":0},null,{"$f":"'Mixed List'!$I$13","v":562},{"$f":"'Mixed List'!$J$13","v":0},{"$f":"'Mixed List'!$K$13","v":0},null,{"$f":"'Mixed List'!$L$13","v":550},{"$f":"'Mixed List'!$M$13","v":0},{"$f":"'Mixed List'!$N$13","v":0},null,{"$f":"'Mixed List'!$O$13","v":559},{"$f":"'Mixed List'!$P$13","v":0},{"$f":"'Mixed List'!$Q$13","v":0},null,{"$f":"'Mixed List'!$R$13","v":548},{"$f":"'Mixed List'!$S$13","v":0},{"$f":"'Mixed List'!$T$13","v":0},null,{"$f":"'Mixed List'!$AA$13","v":3317},{"$f":"'Mixed List'!$AB$13","v":546},{"$f":"'Mixed List'!$AA$13","v":3317},null,null,null,null,null,null,{"$f":"VLOOKUP($C29,$AP$8:$AQ$24,2,0)","v":{"$error":"#N/A"}}]
[null,null,null,null,{"$f":"'Mixed List'!$U$13","v":552},null,null,null,{"$f":"'Mixed List'!$V$13","v":546},null,null,null,{"$f":"'Mixed List'!$W$13","v":562},null,null,null,{"$f":"'Mixed List'!$X$13","v":550},null,null,null,{"$f":"'Mixed List'!$Y$13","v":559},null,null,null,{"$f":"'Mixed List'!$Z$13","v":548},null,null,null,null,null,null,null,null,null,null,null,null,{"$f":"AL29","v":{"$error":"#N/A"}}]
[null,13,{"$f":"'Mixed List'!B14","v":"DKIT"},null,{"$f":"'Mixed List'!$C$14","v":503},{"$f":"'Mixed List'!$D$14","v":0},{"$f":"'Mixed List'!$E$14","v":0},null,{"$f":"'Mixed List'!$F$14","v":542},{"$f":"'Mixed List'!$G$14","v":0},{"$f":"'Mixed List'!$H$14","v":0},null,{"$f":"'Mixed List'!$I$14","v":496},{"$f":"'Mixed List'!$J$14","v":0},{"$f":"'Mixed List'!$K$14","v":0},null,{"$f":"'Mixed List'!$L$14","v":513},{"$f":"'Mixed List'!$M$14","v":0},{"$f":"'Mixed List'!$N$14","v":0},null,{"$f":"'Mixed List'!$O$14","v":556},{"$f":"'Mixed List'!$P$14","v":0},{"$f":"'Mixed List'!$Q$14","v":0},null,{"$f":"'Mixed List'!$R$14","v":531},{"$f":"'Mixed List'!$S$14","v":0},{"$f":"'Mixed List'!$T$14","v":0},null,{"$f":"'Mixed List'!$AA$14","v":3141},{"$f":"'Mixed List'!$AB$14","v":496},{"$f":"'Mixed List'!$AA$14","v":3141},null,null,null,null,null,null,{"$f":"VLOOKUP($C31,$AP$8:$AQ$24,2,0)","v":"Brendan Forde"}]
[null,null,null,null,{"$f":"'Mixed List'!$U$14","v":503},null,null,null,{"$f":"'Mixed List'!$V$14","v":542},null,null,null,{"$f":"'Mixed List'!$W$14","v":496},null,null,null,{"$f":"'Mixed List'!$X$14","v":513},null,null,null,{"$f":"'Mixed List'!$Y$14","v":556},null,null,null,{"$f":"'Mixed List'!$Z$14","v":531},null,null,null,null,null,null,null,null,null,null,null,null,{"$f":"AL31","v":"Brendan Forde"}]
[null,14,{"$f":"'Mixed List'!B15","v":"RCSI"},null,{"$f":"'Mixed List'!$C$15","v":259},{"$f":"'Mixed List'!$D$15","v":331},{"$f":"'Mixed List'!$E$15","v":0},null,{"$f":"'Mixed List'!$F$15","v":282},{"$f":"'Mixed List'!$G$15","v":174},{"$f":"'Mixed List'!$H$15","v":0},null,{"$f":"'Mixed List'!$I$15","v":0},{"$f":"'Mixed List'!$J$15","v":0},{"$f":"'Mixed List'!$K$15","v":0},null,{"$f":"'Mixed List'!$L$15","v":444},{"$f":"'Mixed List'!$M$15","v":143},{"$f":"'Mixed List'!$N$15","v":0},null,{"$f":"'Mixed List'!$O$15","v":366},{"$f":"'Mixed List'!$P$15","v":0},{"$f":"'Mixed List'!$Q$15","v":0},null,{"$f":"'Mixed List'!$R$15","v":407},{"$f":"'Mixed List'!$S$15","v":216},{"$f":"'Mixed List'!$T$15","v":0},null,{"$f":"'Mixed List'!$AA$15","v":2622},{"$f":"'Mixed List'!$AB$15","v":0},{"$f":"'Mixed List'!$AA$15","v":2622},null,null,null,null,null,null,{"$f":"VLOOKUP($C33,$AP$8:$AQ$24,2,0)","v":"Tan Shu leed"}]
[null,null,null,null,{"$f":"'Mixed List'!$U$15","v":590},null,null,null,{"$f":"'Mixed List'!$V$15","v":456},null,null,null,{"$f":"'Mixed List'!$W$15","v":0},null,null,null,{"$f":"'Mixed List'!$X$15","v":587},null,null,null,{"$f":"'Mixed List'!$Y$15","v":366},null,null,null,{"$f":"'Mixed List'!$Z$15","v":623},null,null,null,null,null,null,null,null,null,null,null,null,{"$f":"AL33","v":"Tan Shu leed"}]
[null,15,{"$f":"'Mixed List'!B16","v":"UU"},null,{"$f":"'Mixed List'!$C$16","v":564},{"$f":"'Mixed List'!$D$16","v":0},{"$f":"'Mixed List'!$E$16","v":0},null,{"$f":"'Mixed List'!$F$16","v":548},{"$f":"'Mixed List'!$G$16","v":0},{"$f":"'Mixed List'!$H$16","v":0},null,{"$f":"'Mixed List'!$I$16","v":559},{"$f":"'Mixed List'!$J$16","v":0},{"$f":"'Mixed List'!$K$16","v":0},null,{"$f":"'Mixed List'!$L$16","v":557},{"$f":"'Mixed List'!$M$16","v":0},{"$f":"'Mixed List'!$N$16","v":0},null,{"$f":"'Mixed List'!$O$16","v":0},{"$f":"'Mixed List'!$P$16","v":0},{"$f":"'Mixed List'!$Q$16","v":0},null,{"$f":"'Mixed List'!$R$16","v":0},{"$f":"'Mixed List'!$S$16","v":0},{"$f":"'Mixed List'!$T$16","v":0},null,{"$f":"'Mixed List'!$AA$16","v":2228},{"$f":"'Mixed List'!$AB$16","v":0},{"$f":"'Mixed List'!$AA$16","v":2228},null,null,null,null,null,null,{"$f":"VLOOKUP($C35,$AP$8:$AQ$24,2,0)","v":"Peter Cummings"}]
[null,null,null,null,{"$f":"'Mixed List'!$U$16","v":564},null,null,null,{"$f":"'Mixed List'!$V$16","v":548},null,null,null,{"$f":"'Mixed List'!$W$16","v":559},null,null,null,{"$f":"'Mixed List'!$X$16","v":557},null,null,null,{"$f":"'Mixed List'!$Y$16","v":0},null,null,null,{"$f":"'Mixed List'!$Z$16","v":0},null,null,null,null,null,null,null,null,null,null,null,null,{"$f":"AL35","v":"Peter Cummings"}]
[null,16,{"$f":"'Mixed List'!B17","v":"CD"},null,{"$f":"'Mixed List'!$C$17","v":0},{"$f":"'Mixed List'!$D$17","v":0},{"$f":"'Mixed List'!$E$17","v":555},null,{"$f":"'Mixed List'!$F$17","v":0},{"$f":"'Mixed List'!$G$17","v":0},{"$f":"'Mixed List'!$H$17","v":546},null,{"$f":"'Mixed List'!$I$17","v":0},{"$f":"'Mixed List'!$J$17","v":0},{"$f":"'Mixed List'!$K$17","v":557},null,{"$f":"'Mixed List'!$L$17","v":0},{"$f":"'Mixed List'!$M$17","v":0},{"$f":"'Mixed List'!$N$17","v":0},null,{"$f":"'Mixed List'!$O$17","v":0},{"$f":"'Mixed List'!$P$17","v":0},{"$f":"'Mixed List'!$Q$17","v":0},null,{"$f":"'Mixed List'!$R$17","v":0},{"$f":"'Mixed List'!$S$17","v":0},{"$f":"'Mixed List'!$T$17","v":560},null,{"$f":"'Mixed List'!$AA$17","v":2218},{"$f":"'Mixed List'!$AB$17","v":0},{"$f":"'Mixed List'!$AA$17","v":2218},null,null,null,null,null,null,{"$f":"VLOOKUP($C37,$AP$8:$AQ$24,2,0)","v":{"$error":"#N/A"}}]
[null,null,null,null,{"$f":"'Mixed List'!$U$17","v":555},null,null,null,{"$f":"'Mixed List'!$V$17","v":546},null,null,null,{"$f":"'Mixed List'!$W$17","v":557},null,null,null,{"$f":"'Mixed List'!$X$17","v":0},null,null,null,{"$f":"'Mixed List'!$Y$17","v":0},null,null,null,{"$f":"'Mixed List'!$Z$17","v":560},null,null,null,null,null,null,null,null,null,null,null,null,{"$f":"AL37","v":{"$error":"#N/A"}}]
[null,17,{"$f":"'Mixed List'!B18","v":"QUB"},null,{"$f":"'Mixed List'!$C$18","v":454},{"$f":"'Mixed List'!$D$18","v":0},{"$f":"'Mixed List'!$E$18","v":0},null,{"$f":"'Mixed List'!$F$18","v":0},{"$f":"'Mixed List'!$G$18","v":0},{"$f":"'Mixed List'!$H$18","v":0},null,{"$f":"'Mixed List'!$I$18","v":0},{"$f":"'Mixed List'!$J$18","v":0},{"$f":"'Mixed List'!$K$18","v":0},null,{"$f":"'Mixed List'!$L$18","v":0},{"$f":"'Mixed List'!$M$18","v":0},{"$f":"'Mixed List'!$N$18","v":0},null,{"$f":"'Mixed List'!$O$18","v":471},{"$f":"'Mixed List'!$P$18","v":0},{"$f":"'Mixed List'!$Q$18","v":0},null,{"$f":"'Mixed List'!$R$18","v":0},{"$f":"'Mixed List'!$S$18","v":0},{"$f":"'Mixed List'!$T$18","v":0},null,{"$f":"'Mixed List'!$AA$18","v":925},{"$f":"'Mixed List'!$AB$18","v":0},{"$f":"'Mixed List'!$AA$18","v":925},null,null,null,null,null,null,{"$f":"VLOOKUP($C39,$AP$8:$AQ$24,2,0)","v":{"$error":"#N/A"}}]
[null,null,null,null,{"$f":"'Mixed List'!$U$18","v":454},null,null,null,{"$f":"'Mixed List'!$V$18","v":0},null,null,null,{"$f":"'Mixed List'!$W$18","v":0},null,null,null,{"$f":"'Mixed List'!$X$18","v":0},null,null,null,{"$f":"'Mixed List'!$Y$18","v":471},null,null,null,{"$f":"'Mixed List'!$Z$18","v":0},null,null,null,null,null,null,null,null,null,null,null,null,{"$f":"AL39","v":{"$error":"#N/A"}}]
[null,18,{"$f":"'Mixed List'!B19","v":"AAA"},null,{"$f":"'Mixed List'!$C$19","v":0},{"$f":"'Mixed List'!$D$19","v":0},{"$f":"'Mixed List'!$E$19","v":0},null,{"$f":"'Mixed List'!$F$19","v":0},{"$f":"'Mixed List'!$G$19","v":0},{"$f":"'Mixed List'!$H$19","v":0},null,{"$f":"'Mixed List'!$I$19","v":0},{"$f":"'Mixed List'!$J$19","v":0},{"$f":"'Mixed List'!$K$19","v":0},null,{"$f":"'Mixed List'!$L$19","v":0},{"$f":"'Mixed List'!$M$19","v":0},{"$f":"'Mixed List'!$N$19","v":0},null,{"$f":"'Mixed List'!$O$19","v":0},{"$f":"'Mixed List'!$P$19","v":0},{"$f":"'Mixed List'!$Q$19","v":0},null,{"$f":"'Mixed List'!$R$19","v":0},{"$f":"'Mixed List'!$S$19","v":0},{"$f":"'Mixed List'!$T$19","v":0},null,{"$f":"'Mixed List'!$AA$19","v":0},{"$f":"'Mixed List'!$AB$19","v":0},{"$f":"'Mixed List'!$AC$19","v":-0.7},null,null,null,null,null,null,{"$f":"VLOOKUP($C41,$AP$8:$AQ$24,2,0)","v":0}]
[null,null,null,null,{"$f":"'Mixed List'!$U$19","v":0},null,null,null,{"$f":"'Mixed List'!$V$19","v":0},null,null,null,{"$f":"'Mixed List'!$W$19","v":0},null,null,null,{"$f":"'Mixed List'!$X$19","v":0},null,null,null,{"$f":"'Mixed List'!$Y$19","v":0},null,null,null,{"$f":"'Mixed List'!$Z$19","v":0},null,null,null,null,null,null,null,null,null,null,null,null,{"$f":"AL41","v":0}]
[null,19,{"$f":"'Mixed List'!B20","v":"BBB"},null,{"$f":"'Mixed List'!$C$20","v":0},{"$f":"'Mixed List'!$D$20","v":0},{"$f":"'Mixed List'!$E$20","v":0},null,{"$f":"'Mixed List'!$F$20","v":0},{"$f":"'Mixed List'!$G$20","v":0},{"$f":"'Mixed List'!$H$20","v":0},null,{"$f":"'Mixed List'!$I$20","v":0},{"$f":"'Mixed List'!$J$20","v":0},{"$f":"'Mixed List'!$K$20","v":0},null,{"$f":"'Mixed List'!$L$20","v":0},{"$f":"'Mixed List'!$M$20","v":0},{"$f":"'Mixed List'!$N$20","v":0},null,{"$f":"'Mixed List'!$O$20","v":0},{"$f":"'Mixed List'!$P$20","v":0},{"$f":"'Mixed List'!$Q$20","v":0},null,{"$f":"'Mixed List'!$R$20","v":0},{"$f":"'Mixed List'!$S$20","v":0},{"$f":"'Mixed List'!$T$20","v":0},null,{"$f":"'Mixed List'!$AA$20","v":0},{"$f":"'Mixed List'!$AB$20","v":0},{"$f":"'Mixed List'!$AC$20","v":-0.7},null,null,null,null,null,null,{"$f":"VLOOKUP($C43,$AP$8:$AQ$24,2,0)","v":{"$error":"#N/A"}}]
[null,null,null,null,{"$f":"'Mixed List'!$U$20","v":0},null,null,null,{"$f":"'Mixed List'!$V$20","v":0},null,null,null,{"$f":"'Mixed List'!$W$20","v":0},null,null,null,{"$f":"'Mixed List'!$X$20","v":0},null,null,null,{"$f":"'Mixed List'!$Y$20","v":0},null,null,null,{"$f":"'Mixed List'!$Z$20","v":0},null,null,null,null,null,null,null,null,null,null,null,null,{"$f":"AL43","v":{"$error":"#N/A"}}]
[null,20,{"$f":"'Mixed List'!B21","v":"CCC"},null,{"$f":"'Mixed List'!$C$21","v":0},{"$f":"'Mixed List'!$D$21","v":0},{"$f":"'Mixed List'!$E$21","v":0},null,{"$f":"'Mixed List'!$F$21","v":0},{"$f":"'Mixed List'!$G$21","v":0},{"$f":"'Mixed List'!$H$21","v":0},null,{"$f":"'Mixed List'!$I$21","v":0},{"$f":"'Mixed List'!$J$21","v":0},{"$f":"'Mixed List'!$K$21","v":0},null,{"$f":"'Mixed List'!$L$21","v":0},{"$f":"'Mixed List'!$M$21","v":0},{"$f":"'Mixed List'!$N$21","v":0},null,{"$f":"'Mixed List'!$O$21","v":0},{"$f":"'Mixed List'!$P$21","v":0},{"$f":"'Mixed List'!$Q$21","v":0},null,{"$f":"'Mixed List'!$R$21","v":0},{"$f":"'Mixed List'!$S$21","v":0},{"$f":"'Mixed List'!$T$21","v":0},null,{"$f":"'Mixed List'!$AA$21","v":0},{"$f":"'Mixed List'!$AB$21","v":0},{"$f":"'Mixed List'!$AC$21","v":-0.7},null,null,null,null,null,null,{"$f":"VLOOKUP($C45,$AP$8:$AQ$24,2,0)","v":{"$error":"#N/A"}}]
[null,null,null,null,{"$f":"'Mixed List'!$U$21","v":0},null,null,null,{"$f":"'Mixed List'!$V$21","v":0},null,null,null,{"$f":"'Mixed List'!$W$21","v":0},null,null,null,{"$f":"'Mixed List'!$X$21","v":0},null,null,null,{"$f":"'Mixed List'!$Y$21","v":0},null,null,null,{"$f":"'Mixed List'!$Z$21","v":0},null,null,null,null,null,null,null,null,null,null,null,null,{"$f":"AL45","v":{"$error":"#N/A"}}]
[null,21,{"$f":"'Mixed List'!B22","v":"DDD"},null,{"$f":"'Mixed List'!$C$22","v":0},{"$f":"'Mixed List'!$D$22","v":0},{"$f":"'Mixed List'!$E$22","v":0},null,{"$f":"'Mixed List'!$F$22","v":0},{"$f":"'Mixed List'!$G$22","v":0},{"$f":"'Mixed List'!$H$22","v":0},null,{"$f":"'Mixed List'!$I$22","v":0},{"$f":"'Mixed List'!$J$22","v":0},{"$f":"'Mixed List'!$K$22","v":0},null,{"$f":"'Mixed List'!$L$22","v":0},{"$f":"'Mixed List'!$M$22","v":0},{"$f":"'Mixed List'!$N$22","v":0},null,{"$f":"'Mixed List'!$O$22","v":0},{"$f":"'Mixed List'!$P$22","v":0},{"$f":"'Mixed List'!$Q$22","v":0},null,{"$f":"'Mixed List'!$R$22","v":0},{"$f":"'Mixed List'!$S$22","v":0},{"$f":"'Mixed List'!$T$22","v":0},null,{"$f":"'Mixed List'!$AA$22","v":0},{"$f":"'Mixed List'!$AB$22","v":0},{"$f":"'Mixed List'!$AC$22","v":-0.7},null,null,null,null,null,null,{"$f":"VLOOKUP($C47,$AP$8:$AQ$24,2,0)","v":{"$error":"#N/A"}}]
[null,null,null,null,{"$f":"'Mixed List'!$U$22","v":0},null,null,null,{"$f":"'Mixed List'!$V$22","v":0},null,null,null,{"$f":"'Mixed List'!$W$22","v":0},null,null,null,{"$f":"'Mixed List'!$X$22","v":0},null,null,null,{"$f":"'Mixed List'!$Y$22","v":0},null,null,null,{"$f":"'Mixed List'!$Z$22","v":0},null,null,null,null,null,null,null,null,null,null,null,null,{"$f":"AL47","v":{"$error":"#N/A"}}]
[null,22,{"$f":"'Mixed List'!B23","v":"EEE"},null,{"$f":"'Mixed List'!$C$23","v":0},{"$f":"'Mixed List'!$D$23","v":0},{"$f":"'Mixed List'!$E$23","v":0},null,{"$f":"'Mixed List'!$F$23","v":0},{"$f":"'Mixed List'!$G$23","v":0},{"$f":"'Mixed List'!$H$23","v":0},null,{"$f":"'Mixed List'!$I$23","v":0},{"$f":"'Mixed List'!$J$23","v":0},{"$f":"'Mixed List'!$K$23","v":0},null,{"$f":"'Mixed List'!$L$23","v":0},{"$f":"'Mixed List'!$M$23","v":0},{"$f":"'Mixed List'!$N$23","v":0},null,{"$f":"'Mixed List'!$O$23","v":0},{"$f":"'Mixed List'!$P$23","v":0},{"$f":"'Mixed List'!$Q$23","v":0},null,{"$f":"'Mixed List'!$R$23","v":0},{"$f":"'Mixed List'!$S$23","v":0},{"$f":"'Mixed List'!$T$23","v":0},null,{"$f":"'Mixed List'!$AA$23","v":0},{"$f":"'Mixed List'!$AB$23","v":0},{"$f":"'Mixed List'!$AC$23","v":-0.7},null,null,null,null,null,null,{"$f":"VLOOKUP($C49,$AP$8:$AQ$24,2,0)","v":{"$error":"#N/A"}}]
[null,null,null,null,{"$f":"'Mixed List'!$U$23","v":0},null,null,null,{"$f":"'Mixed List'!$V$23","v":0},null,null,null,{"$f":"'Mixed List'!$W$23","v":0},null,null,null,{"$f":"'Mixed List'!$X$23","v":0},null,null,null,{"$f":"'Mixed List'!$Y$23","v":0},null,null,null,{"$f":"'Mixed List'!$Z$23","v":0},null,null,null,null,null,null,null,null,null,null,null,null,{"$f":"AL49","v":{"$error":"#N/A"}}]
[{"$f":"$C$7","v":"NUIG"}]

{"sheet":"Printable","index":23,"n_rows":0,"n_cols":0,"rows_kept":0,"cut":false,"hidden":false,"merged":[]}

{"sheet":"Target List","index":24,"n_rows":810,"n_cols":15,"rows_kept":810,"cut":false,"hidden":false,"merged":[]}
[]
["Early Group",null,null,null,null,null,null,null,null,"Late Group"]
[]
[]
["Name","College","Gender","Bow","Level","Face","Points",null,null,"Name","College","Gender","Bow","Level","Face"]
["Aaron Downes","GMIT","M","Recurve","Intermediate","(blank)",245,null,null,"Aaron Downes","GMIT","M","Recurve","Intermediate","(blank)"]
[null,null,null,null,null,null,156,null,null,"Abigail Miller","NUIG","F","Barebow","Beginner","(blank)"]
[null,null,null,null,null,null,88,null,null,"Adam Garton","DIT","M","Recurve","Advanced","(blank)"]
[null,null,null,null,null,null,242,null,null,"Adam McSweeney","DCU","M","Recurve","Advanced","(blank)"]
[null,null,null,null,null,null,72,null,null,"Adin Middleton","ITC","M","Recurve","Intermediate","(blank)"]
[null,null,null,null,null,null,155,null,null,"Adria Quinn","GMITC","F","Compound","Advanced","(blank)"]
["Abigail Miller","NUIG","F","Barebow","Beginner","(blank)",258,null,null,"Aida Alexandru","NUIM","F","Recurve","Advanced","(blank)"]
["Adam Garton","DIT","M","Recurve","Advanced","(blank)",478,null,null,"Ailish Dennehy","UCD","F","Recurve","Intermediate","(blank)"]
[null,null,null,null,null,null,485,null,null,"Aiman Rahim","RCSI","M","Barebow","Beginner","(blank)"]
[null,null,null,null,null,null,486,null,null,"Aisling Brady","NUIG","F","Recurve","Beginner","(blank)"]
[null,null,null,null,null,null,475,null,null,"Aisling Finn","NUIG","F","Recurve","Advanced","(blank)"]
[null,null,null,null,null,null,437,null,null,"Alan Boylan","DIT","M","Recurve","Beginner","(blank)"]
["Adam McSweeney","DCU","M","Recurve","Advanced","(blank)",544,null,null,"Alan Gibbons","GMITC","M","Barebow","Beginner","(blank)"]
[null,null,null,null,null,null,554,null,null,"Alan Sheppard","ITC","M","Barebow","Beginner","(blank)"]
[null,null,null,null,null,null,538,null,null,"alannah redington","UL","F","Recurve","Beginner","(blank)"]
[null,null,null,null,null,null,547,null,null,"Aldrin Campos","IT Tallaght","M","Recurve","Advanced","(blank)"]
[null,null,null,null,null,null,530,null,null,"Alysoun Killilea","UCC","F","Recurve","Intermediate","(blank)"]
["Adin Middleton","ITC","M","Recurve","Intermediate","(blank)",467,null,null,"Andrew Egan","UCC","M","Compound","Advanced","(blank)"]
[null,null,null,null,null,null,474,null,null,"Andrew Warrington","GMITC","M","Barebow","Beginner","(blank)"]
[null,null,null,null,null,null,496,null,null,"Aoife Monaghan","GMIT","F","Barebow","Beginner","(blank)"]
[null,null,null,null,null,null,400,null,null,"Arief Naimun","RCSI","M","Barebow","Beginner","(blank)"]
[null,null,null,null,null,null,484,null,null,"Artem Eremin","DIT","M","Recurve","Beginner","(blank)"]
[null,null,null,null,null,null,489,null,null,"Ashley Allen","UCD","F","Recurve","Intermediate","(blank)"]
["Adria Quinn","GMITC","F","Compound","Advanced","(blank)",512,null,null,"Auni Awang Dahan","RCSI","F","Recurve","Beginner","(blank)"]
[null,null,null,null,null,null,528,null,null,"Austin Tobin","DCU","M","Recurve","Advanced","(blank)"]
[null,null,null,null,null,null,533,null,null,"Brendan Browne","GMIT","M","Recurve","Intermediate","(blank)"]
["Aida Alexandru","NUIM","F","Recurve","Advanced","(blank)",505,null,null,"Brendan Burke","NUIM","M","Recurve","Beginner","(blank)"]
[null,null,null,null,null,null,485,null,null,"Brendan Forde","DkIT","M","Recurve","Advanced","(blank)"]
[null,null,null,null,null,null,448,null,null,"Brian Breslin","ITC","M","Barebow","Beginner","(blank)"]
[null,null,null,null,null,null,521,null,null,"Bríd Galvin","NUIG","F","Recurve","Advanced","(blank)"]
[null,null,null,null,null,null,525,null,null,"Brona Howard","DkIT","F","Recurve","Beginner","(blank)"]
[null,null,null,null,null,null,492,null,null,"Callum Conroy","NUIG","M","Compound","Advanced","(blank)"]
["Ailish Dennehy","UCD","F","Recurve","Intermediate","(blank)",429,null,null,"Cara Brennan","NUIG","F","Recurve","Beginner","(blank)"]
[null,null,null,null,null,null,457,null,null,"Carl Byrne","NUIG","M","Compound","Advanced","(blank)"]
[null,null,null,null,null,null,474,null,null,"Carlton Bennett","GMITC","M","Barebow","Beginner","(blank)"]
[null,null,null,null,null,null,479,null,null,"Caroline Greene","GMIT","F","Barebow","Beginner","(blank)"]
[null,null,null,null,null,null,494,null,null,"Cathal Mc Guire","UCD","M","Recurve","Beginner","(blank)"]
[null,null,null,null,null,null,486,null,null,"Chris O'Leary","UCC","M","Recurve","Intermediate","(blank)"]
["Aiman Rahim","RCSI","M","Barebow","Beginner","(blank)",216,null,null,"Christina Somers","DCU","F","Recurve","Beginner","(blank)"]
[null,null,null,null,null,null,331,null,null,"Christopher Ryan","NUIG","M","Compound","Advanced","(blank)"]
["Aisling Brady","NUIG","F","Recurve","Beginner","(blank)",271,null,null,"Cian Aherne","UCD","M","Recurve","Beginner","(blank)"]
[null,null,null,null,null,null,402,null,null,"Ciara O'Sullivan","DCU","F","Recurve","Beginner","(blank)"]
[null,null,null,null,null,null,260,null,null,"Ciarán Lowe","NUIM","M","Recurve","Advanced","(blank)"]
[null,null,null,null,null,null,280,null,null,"Ciaran McElhinney","GMIT","M","Recurve","Beginner","(blank)"]
["Aisling Finn","NUIG","F","Recurve","Advanced","(blank)",501,null,null,"Cillian Byrne","DCU","M","Compound","Advanced","(blank)"]
[null,null,null,null,null,null,519,null,null,"Cody Meadows","NUIG","M","Barebow","Beginner","(blank)"]
["Alan Boylan","DIT","M","Recurve","Beginner","(blank)",421,null,null,"Colm McClelland","DkIT","M","Recurve","Beginner","(blank)"]
["Alan Gibbons","GMITC","M","Barebow","Beginner","(blank)",367,null,null,"Conor dePaor","UCD","M","Recurve","Beginner","(blank)"]
[null,null,null,null,null,null,414,null,null,"Conor Lydon","NUIG","M","Recurve","Intermediate","(blank)"]
["Alan Sheppard","ITC","M","Barebow","Beginner","(blank)",187,null,null,"Conor McCan","GMIT","M","Recurve","Intermediate","(blank)"]
[null,null,null,null,null,null,248,null,null,"Conor Moran","UL","M","Recurve","Beginner","(blank)"]
["alannah redington","UL","F","Recurve","Beginner","(blank)",325,null,null,"conor watkins","UL","M","Barebow","Beginner","(blank)"]
[null,null,null,null,null,null,381,null,null,"Craig Hill","GMITC","M","Barebow","Beginner","(blank)"]
[null,null,null,null,null,null,356,null,null,"Daeln Murphy","DCU","M","Barebow","Beginner","(blank)"]
[null,null,null,null,null,null,449,null,null,"Daniel Meyer","DCU","M","Recurve","Advanced","(blank)"]
["Aldrin Campos","IT Tallaght","M","Recurve","Advanced","(blank)",392,null,null,"Daniel Olajide","NUIG","M","Recurve","Beginner","(blank)"]
[null,null,null,null,null,null,478,null,null,"Daniel Sinnott","UCD","M","Recurve","Beginner","(blank)"]
[null,null,null,null,null,null,477,null,null,"danny neill","UL","M","Recurve","Beginner","(blank)"]
[null,null,null,null,null,null,451,null,null,"Dara MacEoin","NUIG","M","Barebow","Advanced","(blank)"]
[null,null,null,null,null,null,494,null,null,"Dara Oliver","NUIG","M","Recurve","Intermediate","(blank)"]
[null,null,null,null,null,null,499,null,null,"Darren Daly","ITC","M","Recurve","Advanced","(blank)"]
["Alysoun Killilea","UCC","F","Recurve","Intermediate","(blank)",423,null,null,"Darren Griffin","GMITC","M","Barebow","Beginner","(blank)"]
[null,null,null,null,null,null,399,null,null,"Darren Ng","UCD","M","Recurve","Beginner","(blank)"]
["Andrew Egan","UCC","M","Compound","Advanced","(blank)",534,null,null,"Darren Wallace","NUIG","M","Recurve","Advanced","(blank)"]
[null,null,null,null,null,null,550,null,null,"Dave Boyle","DCU","M","Recurve","Advanced","(blank)"]
[null,null,null,null,null,null,554,null,null,"David Burdon","NUIG","M","Recurve","Intermediate","(blank)"]
[null,null,null,null,null,null,553,null,null,"David Doyle","NUIM","M","Barebow","Beginner","(blank)"]
[null,null,null,null,null,null,559,null,null,"David Price","ITC","M","Barebow","Beginner","(blank)"]
["Andrew Warrington","GMITC","M","Barebow","Beginner","(blank)",380,null,null,"Davy Shaw","UCD","M","Recurve","Beginner","(blank)"]
[null,null,null,null,null,null,281,null,null,"Dennis Reynor","UCD","M","Recurve","Beginner","(blank)"]
[null,null,null,null,null,null,287,null,null,"Derek Dooley","GMITC","M","Barebow","Beginner","(blank)"]
["Aoife Monaghan","GMIT","F","Barebow","Beginner","(blank)",253,null,null,"Derek Naughton","NUIG","M","Barebow","Beginner","(blank)"]
[null,null,null,null,null,null,274,null,null,"Desmond Monaghan","GMIT","M","Recurve","Intermediate","(blank)"]
[null,null,null,null,null,null,319,null,null,"Diego Coyle Diez","NUIM","M","Recurve","Advanced","(blank)"]
[null,null,null,null,null,null,314,null,null,"Eammon McGrory","NUIM","M","Barebow","Beginner","(blank)"]
[null,null,null,null,null,null,231,null,null,"Eamonn Dunleavy","GMITC","M","Barebow","Beginner","(blank)"]
["Arief Naimun","RCSI","M","Barebow","Beginner","(blank)",143,null,null,null,null,null,"Recurve","Beginner","(blank)"]
["Artem Eremin","DIT","M","Recurve","Beginner","(blank)",365,null,null,"Edwin Ma","DkIT","M","Recurve","Beginner","(blank)"]
["Ashley Allen","UCD","F","Recurve","Intermediate","(blank)",394,null,null,"Eilis Ni Shuilleabhain","UCD","F","Recurve","Beginner","(blank)"]
[null,null,null,null,null,null,407,null,null,"Elizabeth Clare Lao","DIT","F","Recurve","Beginner","(blank)"]
[null,null,null,null,null,null,105,null,null,"Emily Flanagan","NUIG","F","Barebow","Advanced","(blank)"]
["Auni Awang Dahan","RCSI","F","Recurve","Beginner","(blank)",94,null,null,"Eoghan Brophy","IT Tallaght","M","Recurve","Beginner","(blank)"]
["Austin Tobin","DCU","M","Recurve","Advanced","(blank)",524,null,null,"Eoin Codd","UCD","M","Recurve","Beginner","(blank)"]
[null,null,null,null,null,null,543,null,null,"Eoin Hinkson","UCD","M","Recurve","Beginner","(blank)"]
[null,null,null,null,null,null,538,null,null,"Eoin Miller","NUIM","M","Recurve","Intermediate","(blank)"]
[null,null,null,null,null,null,521,null,null,"Eric Brown","UCD","M","Recurve","Beginner","(blank)"]
["Brendan Browne","GMIT","M","Recurve","Intermediate","(blank)",371,null,null,"Eric Moore","NUIG","M","Recurve","Beginner","(blank)"]
[null,null,null,null,null,null,422,null,null,"Ester Schwarz","NUIM","F","Recurve","Beginner","(blank)"]
[null,null,null,null,null,null,400,null,null,"Fahad Alabdullatif","RCSI","M","Recurve","Beginner","(blank)"]
[null,null,null,null,null,null,380,null,null,"Faiq Syukri","RCSI","M","Recurve","Beginner","(blank)"]
["Brendan Burke","NUIM","M","Recurve","Beginner","(blank)",370,null,null,"Fan Zingliang","NUIG","M","Recurve","Advanced","(blank)"]
[null,null,null,null,null,null,344,null,null,"Farah Nadia Zikhtar","RCSI","F","Recurve","Beginner","(blank)"]
["Brendan Forde","DkIT","M","Recurve","Advanced","(blank)",496,null,null,"Frank Stafford","UL","M","Recurve","Beginner","(blank)"]
[null,null,null,null,null,null,531,null,null,"Gary Cooney","DCU","M","Recurve","Beginner","(blank)"]
[null,null,null,null,null,null,556,null,null,"Gary Kelly","DCU","M","Recurve","Advanced","(blank)"]
[null,null,null,null,null,null,542,null,null,"Gary Smith","IT Tallaght","M","Barebow","Beginner","(blank)"]
[null,null,null,null,null,null,503,null,null,"Gary Stuart","IT Tallaght","M","Recurve","Advanced","(blank)"]
[null,null,null,null,null,null,513,null,null,"geoffrey doorbosch","UL","M","Recurve","Beginner","(blank)"]
["Brian Breslin","ITC","M","Barebow","Beginner","(blank)",224,null,null,"Glen Conway","CD","M","Compound","Advanced","(blank)"]
[null,null,null,null,null,null,227,null,null,"Graham Buckley","DIT","M","Recurve","Beginner","(blank)"]
["Bríd Galvin","NUIG","F","Recurve","Advanced","(blank)",389,null,null,"Graham Enright","UCC","M","Recurve","Intermediate","(blank)"]
[null,null,null,null,null,null,460,null,null,"Hana Cúipéir","DCU","F","Recurve","Beginner","(blank)"]
["Brona Howard","DkIT","F","Recurve","Beginner","(blank)",421,null,null,"Ian Hand","ITC","M","Recurve","Intermediate","(blank)"]
["Callum Conroy","NUIG","M","Compound","Advanced","(blank)",468,null,null,"Ian Kenna","ITC","M","Recurve","Advanced","(blank)"]
[null,null,null,null,null,null,469,null,null,"Ian Mc Dermot","UCC","M","Recurve","Beginner","(blank)"]
[null,null,null,null,null,null,493,null,null,"Ines Rauch","UCD","F","Recurve","Advanced","(blank)"]
[null,null,null,null,null,null,505,null,null,"James Byrne","DIT","M","Recurve","Advanced","(blank)"]
[null,null,null,null,null,null,524,null,null,"James Greer","UCD","M","Recurve","Beginner","(blank)"]
[null,null,null,null,null,null,540,null,null,"James Ryan","UCD","M","Recurve","Advanced","(blank)"]
["Cara Brennan","NUIG","F","Recurve","Beginner","(blank)",263,null,null,"Jay Mc Carron","GMIT","M","Barebow","Beginner","(blank)"]
[null,null,null,null,null,null,224,null,null,"Jeffery McMahon","UL","M","Barebow","Advanced","(blank)"]
["Carl Byrne","NUIG","M","Compound","Advanced","(blank)",567,null,null,"Jen Daly","DIT","F","Recurve","Beginner","(blank)"]
[null,null,null,null,null,null,566,null,null,"Jennifer Keegan","GMITC","F","Barebow","Beginner","(blank)"]
[null,null,null,null,null,null,576,null,null,"Jennifer Nally","NUIM","F","Recurve","Intermediate","(blank)"]
[null,null,null,null,null,null,575,null,null,"Jericho Siababa","DCU","M","Barebow","Beginner","(blank)"]
[null,null,null,null,null,null,572,null,null,"Jessica Lee","DkIT","F","Recurve","Beginner","(blank)"]
["Carlton Bennett","GMITC","M","Barebow","Beginner","(blank)",269,null,null,"Jocelyn Yee","DkIT","F","Recurve","Beginner","(blank)"]
[null,null,null,null,null,null,283,null,null,"John Hally","UL","M","Recurve","Advanced","(blank)"]
[null,null,null,null,null,null,326,null,null,"John O'Toole","NUIM","M","Barebow","Beginner","(blank)"]
["Caroline Greene","GMIT","F","Barebow","Beginner","(blank)",153,null,null,"John Power","NUIM","M","Recurve","Beginner","(blank)"]
[null,null,null,null,null,null,255,null,null,"John Smith","DIT","M","Compound","Advanced","(blank)"]
[null,null,null,null,null,null,245,null,null,"Jonathan Cassidy","NUIG","M","Barebow","Beginner","(blank)"]
["Cathal Mc Guire","UCD","M","Recurve","Beginner","(blank)",272,null,null,null,null,null,"Recurve","Beginner","(blank)"]
["Chris O'Leary","UCC","M","Recurve","Intermediate","(blank)",414,null,null,"Jordan McCord","UU","M","Recurve","Advanced","(blank)"]
[null,null,null,null,null,null,450,null,null,"Karen Power","UL","F","Recurve","Beginner","(blank)"]
[null,null,null,null,null,null,452,null,null,"Karina Wrzesinska","IT Tallaght","F","Barebow","Beginner","(blank)"]
[null,null,null,null,null,null,479,null,null,"Kate Forte","NUIM","F","Barebow","Beginner","(blank)"]
[null,null,null,null,null,null,490,null,null,"Katie Hamilton","UCC","F","Compound","Advanced","(blank)"]
["Christina Somers","DCU","F","Recurve","Beginner","(blank)",377,null,null,null,null,null,"Recurve","Advanced","(blank)"]
[null,null,null,null,null,null,397,null,null,"Katrina Kelly","NUIG","F","Recurve","Beginner","(blank)"]
[null,null,null,null,null,null,446,null,null,"Katrina Prakhova","ITC","F","Barebow","Beginner","(blank)"]
[null,null,null,null,null,null,366,null,null,"Katy Doyle","UCD","F","Recurve","Beginner","(blank)"]
[null,null,null,null,null,null,431,null,null,"Keelan Bancroft ","GMITC","M","Barebow","Beginner","(blank)"]
[null,null,null,null,null,null,456,null,null,"Keet Wai Hong","DkIT","M","Recurve","Beginner","(blank)"]
["Christopher Ryan","NUIG","M","Compound","Advanced","(blank)",544,null,null,"Kerrie Leonard","NUIM","F","Compound","Advanced","(blank)"]
[null,null,null,null,null,null,350,null,null,"Kevin Kok Zhi Hao","DkIT","M","Recurve","Beginner","(blank)"]
[null,null,null,null,null,null,547,null,null,"Kevin Lynch","UCD","M","Recurve","Beginner","(blank)"]
[null,null,null,null,null,null,525,null,null,"Kevin May","RCSI","M","Barebow","Advanced","(blank)"]
[null,null,null,null,null,null,513,null,null,"Kevin Roche","UCD","M","Recurve","Advanced","(blank)"]
[null,null,null,null,null,null,539,null,null,"Kieran Cullinane","NUIG","M","Recurve","Intermediate","(blank)"]
["Cian Aherne","UCD","M","Recurve","Beginner","(blank)",244,null,null,"Laura Adams","QUB","F","Recurve","Advanced","(blank)"]
[null,null,null,null,null,null,233,null,null,"Laura Ford","DCU","F","Recurve","Intermediate","(blank)"]
["Ciara O'Sullivan","DCU","F","Recurve","Beginner","(blank)",363,null,null,"Laura Ni Riada","DCU","F","Recurve","Beginner","(blank)"]
[null,null,null,null,null,null,380,null,null,"Leo Byrne","ITC","M","Recurve","Beginner","(blank)"]
[null,null,null,null,null,null,284,null,null,"Lewis Holmes","UU","M","Recurve","Intermediate","(blank)"]
[null,null,null,null,null,null,410,null,null,"Liam Maloney","ITC","M","Barebow","Beginner","(blank)"]
["Ciarán Lowe","NUIM","M","Recurve","Advanced","(blank)",519,null,null,"Linda Hearn","UCC","F","Recurve","Beginner","(blank)"]
[null,null,null,null,null,null,513,null,null,"Liu Min","NUIG","F","Recurve","Beginner","(blank)"]
[null,null,null,null,null,null,515,null,null,"Lorenzo","UCD","M","Recurve","Beginner","(blank)"]
["Ciaran McElhinney","GMIT","M","Recurve","Beginner","(blank)",252,null,null,"Lukas Frese","UCD","M","Barebow","Beginner","(blank)"]
["Cillian Byrne","DCU","M","Compound","Advanced","(blank)",524,null,null,"Lukas Korcak","ITC","M","Compound","Advanced","(blank)"]
[null,null,null,null,null,null,544,null,null,"Lukasz wrobel","GMIT","M","Recurve","Beginner","(blank)"]
[null,null,null,null,null,null,542,null,null,"Luke Watson","GMIT","M","Recurve","Intermediate","(blank)"]
[null,null,null,null,null,null,538,null,null,"Maeve Reidy","BCFE","F","Recurve","Advanced","(blank)"]
["Cody Meadows","NUIG","M","Barebow","Beginner","(blank)",105,null,null,"Marc Creehan","UCC","M","Barebow","Beginner","(blank)"]
["Colm McClelland","DkIT","M","Recurve","Beginner","(blank)",253,null,null,null,null,null,"Recurve","Beginner","(blank)"]
[null,null,null,null,null,null,279,null,null,"Marco Tulios","GMITC","M","Barebow","Beginner","(blank)"]
[null,null,null,null,null,null,342,null,null,"Maria Dunne","UL","F","Recurve","Beginner","(blank)"]
[null,null,null,null,null,null,336,null,null,"Maria Jacob","UCD","F","Recurve","Beginner","(blank)"]
[null,null,null,null,null,null,244,null,null,"Marie Phelan","DCU","F","Recurve","Intermediate","(blank)"]
[null,null,null,null,null,null,402,null,null,"Mark Christiansen","NUIM","M","Recurve","Intermediate","(blank)"]
["Conor dePaor","UCD","M","Recurve","Beginner","(blank)",276,null,null,"Mark Kearns","NUIM","M","Recurve","Beginner","(blank)"]
[null,null,null,null,null,null,415,null,null,"Mark McGrane","UCD","M","Recurve","Beginner","(blank)"]
[null,null,null,null,null,null,366,null,null,"Mark Sharvin","DCU","M","Compound","Advanced","(blank)"]
["Conor Lydon","NUIG","M","Recurve","Intermediate","(blank)",319,null,null,"Mark Walsh","NUIG","M","Recurve","Beginner","(blank)"]
[null,null,null,null,null,null,360,null,null,"Marko Kovacevic","GMIT","M","Compound","Advanced","(blank)"]
[null,null,null,null,null,null,375,null,null,null,null,null,"Recurve","Advanced","(blank)"]
[null,null,null,null,null,null,245,null,null,"Martha Chege","UU","F","Recurve","Beginner","(blank)"]
["Conor McCan","GMIT","M","Recurve","Intermediate","(blank)",389,null,null,"Martin Stenson","GMIT","M","Recurve","Intermediate","(blank)"]
[null,null,null,null,null,null,444,null,null,"Max Klein","NUIM","M","Recurve","Beginner","(blank)"]
[null,null,null,null,null,null,458,null,null,"Michael O Callaghan","UL","M","Recurve","Advanced","(blank)"]
[null,null,null,null,null,null,437,null,null,"Muhammad Asyraf Maarof","NUIG","M","Recurve","Intermediate","(blank)"]
["Conor Moran","UL","M","Recurve","Beginner","(blank)",391,null,null,"Muhammad Hakim Mohd Nasir","RCSI","M","Recurve","Beginner","(blank)"]
[null,null,null,null,null,null,230,null,null,"Muhammad Izrin Syukri Mohd Nasri","RCSI","M","Recurve","Beginner","(blank)"]
[null,null,null,null,null,null,401,null,null,"Nada Khaled-Abdo","NUIG","F","Barebow","Advanced","(blank)"]
["conor watkins","UL","M","Barebow","Beginner","(blank)",278,null,null,"Nassira Musa","UCC","F","Recurve","Beginner","(blank)"]
["Craig Hill","GMITC","M","Barebow","Beginner","(blank)",123,null,null,"Nicole Shellenbarger","NUIG","F","Compound","Advanced","(blank)"]
["Daeln Murphy","DCU","M","Barebow","Beginner","(blank)",216,null,null,"Nik Idlan Faiq","RCSI","M","Barebow","Beginner","(blank)"]
[null,null,null,null,null,null,292,null,null,"Nurhidayah Miswan","RCSI","F","Recurve","Beginner","(blank)"]
["Daniel Meyer","DCU","M","Recurve","Advanced","(blank)",441,null,null,"Omar Mustafa","NUIG","M","Barebow","Beginner","(blank)"]
[null,null,null,null,null,null,468,null,null,null,null,null,"Recurve","Beginner","(blank)"]
[null,null,null,null,null,null,480,null,null,"Pádraig Dunphy","NUIM","M","Recurve","Advanced","(blank)"]
["Daniel Olajide","NUIG","M","Recurve","Beginner","(blank)",280,null,null,"Patrick Markey","DkIT","M","Recurve","Intermediate","(blank)"]
["Daniel Sinnott","UCD","M","Recurve","Beginner","(blank)",383,null,null,"Patrick Molloy","NUIG","M","Recurve","Advanced","(blank)"]
["danny neill","UL","M","Recurve","Beginner","(blank)",462,null,null,"Paul Beirne","UCD","M","Recurve","Intermediate","(blank)"]
["Dara MacEoin","NUIG","M","Barebow","Advanced","(blank)",267,null,null,"Paul Coleman","DCU","M","Recurve","Beginner","(blank)"]
[null,null,null,null,null,null,284,null,null,"Paul Connolly","NUIG","M","Recurve","Beginner","(blank)"]
[null,null,null,null,null,null,241,null,null,"Paul Dixon","GMITC","M","Barebow","Beginner","(blank)"]
["Dara Oliver","NUIG","M","Recurve","Intermediate","(blank)",323,null,null,"Paul Ferguson","IT Tallaght","M","Recurve","Beginner","(blank)"]
["Darren Daly","ITC","M","Recurve","Advanced","(blank)",535,null,null,"Paul Fox","RCSI","M","Barebow","Beginner","(blank)"]
["Darren Griffin","GMITC","M","Barebow","Beginner","(blank)",309,null,null,"Paul Murphy","UL","M","Recurve","Beginner","(blank)"]
[null,null,null,null,null,null,359,null,null,"Pavle Barbaric","NUIM","M","Recurve","Beginner","(blank)"]
[null,null,null,null,null,null,419,null,null,"Peter Callanan","UCD","M","Recurve","Intermediate","(blank)"]
["Darren Ng","UCD","M","Recurve","Beginner","(blank)",391,null,null,"Peter Cummings","UU","M","Recurve","Advanced","(blank)"]
[null,null,null,null,null,null,418,null,null,"Philip Early","DCU","M","Recurve","Intermediate","(blank)"]
[null,null,null,null,null,null,457,null,null,"Raizel Burstein-Frame","NUIG","F","Barebow","Beginner","(blank)"]
["Darren Wallace","NUIG","M","Recurve","Advanced","(blank)",560,null,null,"Rebecca Ward","DkIT","F","Recurve","Beginner","(blank)"]
[null,null,null,null,null,null,565,null,null,"Rebecca Watkin","UCD","F","Recurve","Beginner","(blank)"]
[null,null,null,null,null,null,564,null,null,"Richard Jeffery","NUIG","M","Recurve","Beginner","(blank)"]
[null,null,null,null,null,null,567,null,null,"Rob Ó Gallachóir","NUIM","M","Recurve","Intermediate","(blank)"]
[null,null,null,null,null,null,575,null,null,"Robert Dore","IT Tallaght","M","Barebow","Beginner","(blank)"]
["Dave Boyle","DCU","M","Recurve","Advanced","(blank)",480,null,null,"Robin Collins","DIT","M","Recurve","Beginner","(blank)"]
[null,null,null,null,null,null,493,null,null,"Ronan Walsh","UCD","M","Recurve","Beginner","(blank)"]
[null,null,null,null,null,null,522,null,null,"Rose Comendador","IT Tallaght","F","Recurve","Beginner","(blank)"]
[null,null,null,null,null,null,527,null,null,"Ruaidhri","UCD","M","Recurve","Beginner","(blank)"]
[null,null,null,null,null,null,533,null,null,"Rubasangkari Rajaderam","RCSI","F","Recurve","Beginner","(blank)"]
[null,null,null,null,null,null,513,null,null,"Ryan Byrne","DIT","M","Recurve","Advanced","(blank)"]
["David Burdon","NUIG","M","Recurve","Intermediate","(blank)",325,null,null,"Sam Schultz","NUIG","M","Barebow","Beginner","(blank)"]
[null,null,null,null,null,null,369,null,null,null,null,null,"Recurve","Beginner","(blank)"]
["David Doyle","NUIM","M","Barebow","Beginner","(blank)",331,null,null,"Sarah Delaney","NUIG","F","Recurve","Beginner","(blank)"]
[null,null,null,null,null,null,277,null,null,"Sarah Maloney","DCU","F","Recurve","Advanced","(blank)"]
["David Price","ITC","M","Barebow","Beginner","(blank)",145,null,null,"sarah o sullivan","UL","F","Recurve","Intermediate","(blank)"]
[null,null,null,null,null,null,220,null,null,"Sean Brogan","NUIG","M","Barebow","Beginner","(blank)"]
[null,null,null,null,null,null,318,null,null,"Sean Curtin","UL","M","Recurve","Advanced","(blank)"]
[null,null,null,null,null,null,396,null,null,"Sean Flavin","UL","M","Recurve","Advanced","(blank)"]
[null,null,null,null,null,null,381,null,null,"sean Morrisey","UL","M","Recurve","Beginner","(blank)"]
[null,null,null,null,null,null,445,null,null,"Sean Scott","DIT","M","Compound","Advanced","(blank)"]
["Davy Shaw","UCD","M","Recurve","Beginner","(blank)",187,null,null,"See Qui Ren","DkIT","M","Recurve","Beginner","(blank)"]
[null,null,null,null,null,null,263,null,null,"Shahrizan Majid Allapitchai","RCSI","F","Recurve","Beginner","(blank)"]
["Dennis Reynor","UCD","M","Recurve","Beginner","(blank)",302,null,null,"Shane Hyland","GMIT","M","Barebow","Beginner","(blank)"]
["Derek Dooley","GMITC","M","Barebow","Beginner","(blank)",136,null,null,"Shane Lordan","UCC","M","Recurve","Intermediate","(blank)"]
["Derek Naughton","NUIG","M","Barebow","Beginner","(blank)",389,null,null,"Shane McGloin","GMIT","M","Recurve","Beginner","(blank)"]
[null,null,null,null,null,null,336,null,null,"Shauna O Brien","UCD","F","Recurve","Beginner","(blank)"]
["Desmond Monaghan","GMIT","M","Recurve","Intermediate","(blank)",12,null,null,"Shenelle Samodee","RCSI","F","Recurve","Beginner","(blank)"]
[null,null,null,null,null,null,252,null,null,"Shu Chen","DCU","M","Recurve","Intermediate","(blank)"]
["Diego Coyle Diez","NUIM","M","Recurve","Advanced","(blank)",470,null,null,"Simon Henleywillis","UCC","M","Recurve","Intermediate","(blank)"]
[null,null,null,null,null,null,487,null,null,"Simon Lavin","GMITC","M","Barebow","Beginner","(blank)"]
[null,null,null,null,null,null,496,null,null,"Sinead Naughton","GMITC","F","Recurve","Intermediate","(blank)"]
[null,null,null,null,null,null,505,null,null,"Sinead O`Connell","NUIM","F","Recurve","Intermediate","(blank)"]
[null,null,null,null,null,null,445,null,null,"Sinead Walsh","UCC","F","Recurve","Intermediate","(blank)"]
[null,null,null,null,null,null,504,null,null,"Siobhan O'Connor","GMITC","F","Barebow","Beginner","(blank)"]
["Eammon McGrory","NUIM","M","Barebow","Beginner","(blank)",239,null,null,"Siti Nur Syazwana Mohammad Shafiee","RCSI","F","Recurve","Beginner","(blank)"]
["Eamonn Dunleavy","GMITC","M","Recurve","Beginner","(blank)",337,null,null,"Stephanie Martin","DCU","F","Compound","Advanced","(blank)"]
[null,null,null,"Barebow","Beginner","(blank)",280,null,null,"Stephen Dillon","IT Tallaght","M","Recurve","Advanced","(blank)"]
["Edwin Ma","DkIT","M","Recurve","Beginner","(blank)",334,null,null,"Stephen Masterson","UCD","M","Recurve","Advanced","(blank)"]
[null,null,null,null,null,null,394,null,null,"Stephen Sheppard","ITC","M","Barebow","Beginner","(blank)"]
[null,null,null,null,null,null,464,null,null,"Susan Ryan","UCD","F","Recurve","Intermediate","(blank)"]
[null,null,null,null,null,null,399,null,null,"Syahira Najua Zulkefly","UCD","M","Recurve","Beginner","(blank)"]
[null,null,null,null,null,null,350,null,null,"Tajul Syaqqil Tajor Amar","RCSI","M","Recurve","Beginner","(blank)"]
[null,null,null,null,null,null,323,null,null,"Tami Baumann","NUIM","F","Barebow","Beginner","(blank)"]
["Eilis Ni Shuilleabhain","UCD","F","Recurve","Beginner","(blank)",339,null,null,"Tan Shu leed","RCSI","M","Recurve","Beginner","(blank)"]
["Elizabeth Clare Lao","DIT","F","Recurve","Beginner","(blank)",287,null,null,"Tara Dunne","UCD","F","Recurve","Beginner","(blank)"]
["Emily Flanagan","NUIG","F","Barebow","Advanced","(blank)",309,null,null,"Tara Kilcommons","GMITC","F","Barebow","Beginner","(blank)"]
[null,null,null,null,null,null,380,null,null,"Tengku Nazim Tengku Yusof","RCSI","M","Recurve","Beginner","(blank)"]
[null,null,null,null,null,null,357,null,null,"Thomas Brouder","UL","M","Recurve","Intermediate","(blank)"]
["Eoghan Brophy","IT Tallaght","M","Recurve","Beginner","(blank)",170,null,null,"Thomas Carr","NUIG","M","Recurve","Beginner","(blank)"]
["Eoin Codd","UCD","M","Recurve","Beginner","(blank)",304,null,null,"Thomas D'Arcy","UCD","M","Recurve","Intermediate","(blank)"]
["Eoin Hinkson","UCD","M","Recurve","Beginner","(blank)",400,null,null,"Thomas Kear","NUIG","M","Recurve","Beginner","(blank)"]
[null,null,null,null,null,null,270,null,null,"Tom McGrath","NUIG","M","Barebow","Advanced","(blank)"]
[null,null,null,null,null,null,456,null,null,"Tony Keane","GMITC","M","Barebow","Beginner","(blank)"]
[null,null,null,null,null,null,313,null,null,"Tony Liu","DkIT","M","Recurve","Intermediate","(blank)"]
["Eoin Miller","NUIM","M","Recurve","Intermediate","(blank)",386,null,null,"Tudor Varga","UCD","M","Recurve","Beginner","(blank)"]
[null,null,null,null,null,null,392,null,null,"Victoria Tan","DkIT","F","Recurve","Beginner","(blank)"]
[null,null,null,null,null,null,414,null,null,"Wiebke Hasselmann","NUIG","F","Barebow","Beginner","(blank)"]
[null,null,null,null,null,null,437,null,null,"Will Hurley","NUIG","M","Compound","Advanced","(blank)"]
["Eric Brown","UCD","M","Recurve","Beginner","(blank)",484,null,null,"William Clifford","NUIM","M","Recurve","Intermediate","(blank)"]
["Eric Moore","NUIG","M","Recurve","Beginner","(blank)",387,null,null,"William Oliver","IT Tallaght","M","Recurve","Beginner","(blank)"]
[null,null,null,null,null,null,343,null,null,"Yeo Eng Jet","DkIT","M","Recurve","Beginner","(blank)"]
[null,null,null,null,null,null,455,null,null,"Yogeswran Muthukumaru","RCSI","M","Recurve","Beginner","(blank)"]
[null,null,null,null,null,null,315,null,null,"Youcheng Pan","DIT","M","Recurve","Advanced","(blank)"]
["Ester Schwarz","NUIM","F","Recurve","Beginner","(blank)",375,null,null,"zahratulfatin ","RCSI","F","Recurve","Beginner","(blank)"]
[null,null,null,null,null,null,393,null,null,"Zain Bari","UCD","M","Recurve","Beginner","(blank)"]
[null,null,null,null,null,null,416,null,null,"Zhi-Miin Ong","RCSI","F","Recurve","Beginner","(blank)"]
[null,null,null,null,null,null,359,null,null,"Zul Farhan","UCD","M","Recurve","Beginner","(blank)"]
["Fahad Alabdullatif","RCSI","M","Recurve","Beginner","(blank)",371,null,null,"(blank)","UCD","(blank)","(blank)","(blank)","(blank)"]
["Faiq Syukri","RCSI","M","Recurve","Beginner","(blank)",359,null,null,null,"GMITC","(blank)","(blank)","(blank)","(blank)"]
["Fan Zingliang","NUIG","M","Recurve","Advanced","(blank)",507,null,null,null,"GMIT","(blank)","(blank)","(blank)","(blank)"]
[null,null,null,null,null,null,522,null,null,null,"RCSI","(blank)","(blank)","(blank)","(blank)"]
[null,null,null,null,null,null,502,null,null,null,"UCC","(blank)","(blank)","(blank)","(blank)"]
["Farah Nadia Zikhtar","RCSI","F","Recurve","Beginner","(blank)",187,null,null,null,"(blank)","M","Compound","Guest","40cm"]
[null,null,null,null,null,null,186,null,null,null,null,"F","Barebow","Intermediate","60cm"]
[null,null,null,null,null,null,66,null,null,null,null,"(blank)","Recurve","Advanced","3 spot"]
["Frank Stafford","UL","M","Recurve","Beginner","(blank)",387,null,null,null,null,null,"(blank)","Beginner","(blank)"]
[null,null,null,null,null,null,427,null,null,null,null,null,null,"(blank)","(blank)"]
[null,null,null,null,null,null,441,null,null,null,"UL","(blank)","(blank)","(blank)","(blank)"]
[null,null,null,null,null,null,501,null,null,null,"DkIT","(blank)","(blank)","(blank)","(blank)"]
[null,null,null,null,null,null,399,null,null,null,"DCU","(blank)","(blank)","(blank)","(blank)"]
[null,null,null,null,null,null,376,null,null,null,"NUIG","(blank)","(blank)","(blank)","(blank)"]
["Gary Cooney","DCU","M","Recurve","Beginner","(blank)",516,null,null,null,"DIT","(blank)","(blank)","(blank)","(blank)"]
[null,null,null,null,null,null,449,null,null,null,"ITC","(blank)","(blank)","(blank)","(blank)"]
["Gary Kelly","DCU","M","Recurve","Advanced","(blank)",437,null,null,null,"UU","(blank)","(blank)","(blank)","(blank)"]
["Gary Smith","IT Tallaght","M","Barebow","Beginner","(blank)",331,null,null,null,"IT Tallaght","(blank)","(blank)","(blank)","(blank)"]
["Gary Stuart","IT Tallaght","M","Recurve","Advanced","(blank)",497,null,null,null,"BBB","(blank)","(blank)","(blank)","(blank)"]
["geoffrey doorbosch","UL","M","Recurve","Beginner","(blank)",438,null,null,null,"CCC","(blank)","(blank)","(blank)","(blank)"]
[null,null,null,null,null,null,446,null,null,null,"DDD","(blank)","(blank)","(blank)","(blank)"]
["Glen Conway","CD","M","Compound","Advanced","(blank)",555,null,null,null,"EEE","(blank)","(blank)","(blank)","(blank)"]
[null,null,null,null,null,null,560,null,null,null,"AAA","(blank)","(blank)","(blank)","(blank)"]
[null,null,null,null,null,null,557,null,null,null,"NUIM","(blank)","(blank)","(blank)","(blank)"]
[null,null,null,null,null,null,546,null,null,null,"CD","(blank)","(blank)","(blank)","(blank)"]
["Graham Buckley","DIT","M","Recurve","Beginner","(blank)",366,null,null,null,"QUB","(blank)","(blank)","(blank)","(blank)"]
[null,null,null,null,null,null,340,null,null,null,"BCFE","(blank)","(blank)","(blank)","(blank)"]
[null,null,null,null,null,null,437]
["Graham Enright","UCC","M","Recurve","Intermediate","(blank)",448]
["Hana Cúipéir","DCU","F","Recurve","Beginner","(blank)",275]
["Ian Hand","ITC","M","Recurve","Intermediate","(blank)",429]
[null,null,null,null,null,null,448]
["Ian Kenna","ITC","M","Recurve","Advanced","(blank)",393]
[null,null,null,null,null,null,429]
[null,null,null,null,null,null,474]
[null,null,null,null,null,null,510]
[null,null,null,null,null,null,484]
[null,null,null,null,null,null,526]
["Ian Mc Dermot","UCC","M","Recurve","Beginner","(blank)",266]
["Ines Rauch","UCD","F","Recurve","Advanced","(blank)",458]
[null,null,null,null,null,null,473]
[null,null,null,null,null,null,537]
[null,null,null,null,null,null,502]
[null,null,null,null,null,null,498]
["James Byrne","DIT","M","Recurve","Advanced","(blank)",488]
[null,null,null,null,null,null,508]
[null,null,null,null,null,null,503]
[null,null,null,null,null,null,494]
[null,null,null,null,null,null,476]
[null,null,null,null,null,null,499]
["James Greer","UCD","M","Recurve","Beginner","(blank)",429]
["James Ryan","UCD","M","Recurve","Advanced","(blank)",531]
[null,null,null,null,null,null,535]
["Jay Mc Carron","GMIT","M","Barebow","Beginner","(blank)",370]
[null,null,null,null,null,null,118]
[null,null,null,null,null,null,210]
["Jeffery McMahon","UL","M","Barebow","Advanced","(blank)",409]
[null,null,null,null,null,null,427]
[null,null,null,null,null,null,436]
[null,null,null,null,null,null,420]
[null,null,null,null,null,null,406]
[null,null,null,null,null,null,432]
["Jen Daly","DIT","F","Recurve","Beginner","(blank)",355]
[null,null,null,null,null,null,373]
[null,null,null,null,null,null,389]
[null,null,null,null,null,null,398]
[null,null,null,null,null,null,464]
[null,null,null,null,null,null,467]
["Jennifer Keegan","GMITC","F","Barebow","Beginner","(blank)",352]
[null,null,null,null,null,null,332]
["Jennifer Nally","NUIM","F","Recurve","Intermediate","(blank)",413]
[null,null,null,null,null,null,478]
[null,null,null,null,null,null,349]
[null,null,null,null,null,null,419]
[null,null,null,null,null,null,459]
["Jericho Siababa","DCU","M","Barebow","Beginner","(blank)",301]
[null,null,null,null,null,null,325]
[null,null,null,null,null,null,430]
[null,null,null,null,null,null,381]
["Jessica Lee","DkIT","F","Recurve","Beginner","(blank)",347]
[null,null,null,null,null,null,351]
[null,null,null,null,null,null,404]
[null,null,null,null,null,null,388]
[null,null,null,null,null,null,342]
[null,null,null,null,null,null,337]
["Jocelyn Yee","DkIT","F","Recurve","Beginner","(blank)",247]
[null,null,null,null,null,null,279]
[null,null,null,null,null,null,443]
[null,null,null,null,null,null,352]
[null,null,null,null,null,null,337]
[null,null,null,null,null,null,320]
["John Hally","UL","M","Recurve","Advanced","(blank)",488]
[null,null,null,null,null,null,511]
[null,null,null,null,null,null,512]
[null,null,null,null,null,null,541]
[null,null,null,null,null,null,497]
[null,null,null,null,null,null,515]
["John O'Toole","NUIM","M","Barebow","Beginner","(blank)",344]
[null,null,null,null,null,null,332]
["John Power","NUIM","M","Recurve","Beginner","(blank)",464]
[null,null,null,null,null,null,419]
[null,null,null,null,null,null,523]
["John Smith","DIT","M","Compound","Advanced","(blank)",564]
[null,null,null,null,null,null,566]
[null,null,null,null,null,null,570]
["Jonathan Cassidy","NUIG","M","Recurve","Beginner","(blank)",122]
[null,null,null,"Barebow","Beginner","(blank)",229]
["Jordan McCord","UU","M","Recurve","Advanced","(blank)",472]
[null,null,null,null,null,null,531]
[null,null,null,null,null,null,445]
[null,null,null,null,null,null,476]
["Karen Power","UL","F","Recurve","Beginner","(blank)",364]
[null,null,null,null,null,null,394]
[null,null,null,null,null,null,433]
[null,null,null,null,null,null,487]
[null,null,null,null,null,null,357]
["Karina Wrzesinska","IT Tallaght","F","Barebow","Beginner","(blank)",247]
["Kate Forte","NUIM","F","Barebow","Beginner","(blank)",348]
[null,null,null,null,null,null,210]
["Katie Hamilton","UCC","F","Compound","Advanced","(blank)",491]
[null,null,null,"Recurve","Advanced","(blank)",451]
["Katrina Kelly","NUIG","F","Recurve","Beginner","(blank)",146]
[null,null,null,null,null,null,363]
[null,null,null,null,null,null,404]
["Katrina Prakhova","ITC","F","Barebow","Beginner","(blank)",293]
[null,null,null,null,null,null,368]
[null,null,null,null,null,null,335]
["Katy Doyle","UCD","F","Recurve","Beginner","(blank)",203]
[null,null,null,null,null,null,341]
[null,null,null,null,null,null,278]
[null,null,null,null,null,null,313]
["Keelan Bancroft ","GMITC","M","Barebow","Beginner","(blank)",147]
["Keet Wai Hong","DkIT","M","Recurve","Beginner","(blank)",355]
[null,null,null,null,null,null,358]
[null,null,null,null,null,null,357]
[null,null,null,null,null,null,339]
[null,null,null,null,null,null,402]
[null,null,null,null,null,null,287]
["Kerrie Leonard","NUIM","F","Compound","Advanced","(blank)",479]
[null,null,null,null,null,null,506]
[null,null,null,null,null,null,510]
[null,null,null,null,null,null,512]
[null,null,null,null,null,null,524]
[null,null,null,null,null,null,495]
["Kevin Kok Zhi Hao","DkIT","M","Recurve","Beginner","(blank)",413]
[null,null,null,null,null,null,427]
[null,null,null,null,null,null,446]
[null,null,null,null,null,null,452]
[null,null,null,null,null,null,462]
[null,null,null,null,null,null,432]
["Kevin Lynch","UCD","M","Recurve","Beginner","(blank)",31]
["Kevin May","RCSI","M","Barebow","Advanced","(blank)",254]
["Kevin Roche","UCD","M","Recurve","Advanced","(blank)",526]
[null,null,null,null,null,null,520]
["Kieran Cullinane","NUIG","M","Recurve","Intermediate","(blank)",397]
[null,null,null,null,null,null,383]
["Laura Adams","QUB","F","Recurve","Advanced","(blank)",471]
[null,null,null,null,null,null,454]
["Laura Ford","DCU","F","Recurve","Intermediate","(blank)",403]
[null,null,null,null,null,null,416]
["Laura Ni Riada","DCU","F","Recurve","Beginner","(blank)",415]
[null,null,null,null,null,null,369]
[null,null,null,null,null,null,477]
["Leo Byrne","ITC","M","Recurve","Beginner","(blank)",399]
[null,null,null,null,null,null,337]
[null,null,null,null,null,null,304]
[null,null,null,null,null,null,313]
["Lewis Holmes","UU","M","Recurve","Intermediate","(blank)",500]
["Liam Maloney","ITC","M","Barebow","Beginner","(blank)",377]
[null,null,null,null,null,null,400]
["Linda Hearn","UCC","F","Recurve","Beginner","(blank)",312]
[null,null,null,null,null,null,374]
[null,null,null,null,null,null,405]
[null,null,null,null,null,null,450]
["Liu Min","NUIG","F","Recurve","Beginner","(blank)",249]
[null,null,null,null,null,null,238]
["Lorenzo","UCD","M","Recurve","Beginner","(blank)",104]
["Lukas Frese","UCD","M","Barebow","Beginner","(blank)",204]
["Lukas Korcak","ITC","M","Compound","Advanced","(blank)",362]
["Lukasz wrobel","GMIT","M","Recurve","Beginner","(blank)",346]
[null,null,null,null,null,null,424]
[null,null,null,null,null,null,225]
[null,null,null,null,null,null,286]
["Luke Watson","GMIT","M","Recurve","Intermediate","(blank)",354]
[null,null,null,null,null,null,378]
["Maeve Reidy","BCFE","F","Recurve","Advanced","(blank)",550]
[null,null,null,null,null,null,552]
[null,null,null,null,null,null,562]
[null,null,null,null,null,null,548]
[null,null,null,null,null,null,559]
[null,null,null,null,null,null,546]
["Marc Creehan","UCC","M","Recurve","Beginner","(blank)",166]
[null,null,null,"Barebow","Beginner","(blank)",161]
[null,null,null,null,null,null,259]
[null,null,null,null,null,null,246]
["Marco Tulios","GMITC","M","Barebow","Beginner","(blank)",279]
["Maria Dunne","UL","F","Recurve","Beginner","(blank)",257]
["Maria Jacob","UCD","F","Recurve","Beginner","(blank)",274]
[null,null,null,null,null,null,230]
[null,null,null,null,null,null,410]
["Marie Phelan","DCU","F","Recurve","Intermediate","(blank)",393]
[null,null,null,null,null,null,385]
[null,null,null,null,null,null,408]
["Mark Christiansen","NUIM","M","Recurve","Intermediate","(blank)",422]
[null,null,null,null,null,null,430]
[null,null,null,null,null,null,440]
[null,null,null,null,null,null,458]
[null,null,null,null,null,null,408]
["Mark Kearns","NUIM","M","Recurve","Beginner","(blank)",363]
[null,null,null,null,null,null,386]
[null,null,null,null,null,null,417]
["Mark McGrane","UCD","M","Recurve","Beginner","(blank)",185]
[null,null,null,null,null,null,204]
["Mark Sharvin","DCU","M","Compound","Advanced","(blank)",550]
[null,null,null,null,null,null,572]
[null,null,null,null,null,null,557]
[null,null,null,null,null,null,569]
["Mark Walsh","NUIG","M","Recurve","Beginner","(blank)",354]
[null,null,null,null,null,null,355]
[null,null,null,null,null,null,394]
[null,null,null,null,null,null,449]
["Marko Kovacevic","GMIT","M","Compound","Advanced","(blank)",512]
[null,null,null,null,null,null,527]
[null,null,null,null,null,null,515]
[null,null,null,"Recurve","Advanced","(blank)",430]
[null,null,null,null,null,null,444]
[null,null,null,null,null,null,472]
["Martha Chege","UU","F","Recurve","Beginner","(blank)",381]
[null,null,null,null,null,null,322]
["Martin Stenson","GMIT","M","Recurve","Intermediate","(blank)",168]
[null,null,null,null,null,null,223]
[null,null,null,null,null,null,215]
["Max Klein","NUIM","M","Recurve","Beginner","(blank)",363]
[null,null,null,null,null,null,462]
[null,null,null,null,null,null,384]
[null,null,null,null,null,null,272]
["Michael O Callaghan","UL","M","Recurve","Advanced","(blank)",448]
[null,null,null,null,null,null,439]
[null,null,null,null,null,null,449]
[null,null,null,null,null,null,492]
[null,null,null,null,null,null,465]
["Muhammad Asyraf Maarof","NUIG","M","Recurve","Intermediate","(blank)",404]
[null,null,null,null,null,null,424]
[null,null,null,null,null,null,443]
[null,null,null,null,null,null,467]
[null,null,null,null,null,null,425]
[null,null,null,null,null,null,410]
["Muhammad Hakim Mohd Nasir","RCSI","M","Recurve","Beginner","(blank)",444]
[null,null,null,null,null,null,239]
[null,null,null,null,null,null,224]
[null,null,null,null,null,null,114]
["Muhammad Izrin Syukri Mohd Nasri","RCSI","M","Recurve","Beginner","(blank)",282]
[null,null,null,null,null,null,382]
[null,null,null,null,null,null,240]
["Nada Khaled-Abdo","NUIG","F","Barebow","Advanced","(blank)",346]
[null,null,null,null,null,null,364]
[null,null,null,null,null,null,357]
[null,null,null,null,null,null,332]
[null,null,null,null,null,null,306]
["Nassira Musa","UCC","F","Recurve","Beginner","(blank)",241]
["Nicole Shellenbarger","NUIG","F","Compound","Advanced","(blank)",414]
[null,null,null,null,null,null,477]
[null,null,null,null,null,null,463]
["Nik Idlan Faiq","RCSI","M","Barebow","Beginner","(blank)",108]
[null,null,null,null,null,null,174]
["Nurhidayah Miswan","RCSI","F","Recurve","Beginner","(blank)",84]
["Omar Mustafa","NUIG","M","Recurve","Beginner","(blank)",386]
[null,null,null,null,null,null,414]
[null,null,null,"Barebow","Beginner","(blank)",270]
["Pádraig Dunphy","NUIM","M","Recurve","Advanced","(blank)",488]
[null,null,null,null,null,null,509]
[null,null,null,null,null,null,476]
[null,null,null,null,null,null,499]
[null,null,null,null,null,null,401]
["Patrick Markey","DkIT","M","Recurve","Intermediate","(blank)",374]
[null,null,null,null,null,null,394]
[null,null,null,null,null,null,397]
[null,null,null,null,null,null,424]
[null,null,null,null,null,null,349]
["Patrick Molloy","NUIG","M","Recurve","Advanced","(blank)",386]
[null,null,null,null,null,null,427]
[null,null,null,null,null,null,408]
[null,null,null,null,null,null,456]
[null,null,null,null,null,null,459]
[null,null,null,null,null,null,454]
["Paul Beirne","UCD","M","Recurve","Intermediate","(blank)",421]
[null,null,null,null,null,null,446]
[null,null,null,null,null,null,419]
["Paul Coleman","DCU","M","Recurve","Beginner","(blank)",375]
[null,null,null,null,null,null,372]
[null,null,null,null,null,null,314]
[null,null,null,null,null,null,454]
["Paul Connolly","NUIG","M","Recurve","Beginner","(blank)",375]
[null,null,null,null,null,null,259]
["Paul Dixon","GMITC","M","Barebow","Beginner","(blank)",274]
[null,null,null,null,null,null,405]
[null,null,null,null,null,null,304]
["Paul Ferguson","IT Tallaght","M","Recurve","Beginner","(blank)",423]
[null,null,null,null,null,null,480]
["Paul Fox","RCSI","M","Barebow","Beginner","(blank)",131]
["Paul Murphy","UL","M","Recurve","Beginner","(blank)",424]
[null,null,null,null,null,null,470]
[null,null,null,null,null,null,321]
["Pavle Barbaric","NUIM","M","Recurve","Beginner","(blank)",445]
["Peter Callanan","UCD","M","Recurve","Intermediate","(blank)",303]
[null,null,null,null,null,null,205]
[null,null,null,null,null,null,350]
[null,null,null,null,null,null,451]
[null,null,null,null,null,null,328]
["Peter Cummings","UU","M","Recurve","Advanced","(blank)",548]
[null,null,null,null,null,null,564]
[null,null,null,null,null,null,559]
[null,null,null,null,null,null,557]
["Philip Early","DCU","M","Recurve","Intermediate","(blank)",442]
[null,null,null,null,null,null,444]
[null,null,null,null,null,null,381]
[null,null,null,null,null,null,408]
[null,null,null,null,null,null,406]
["Raizel Burstein-Frame","NUIG","F","Barebow","Beginner","(blank)",187]
[null,null,null,null,null,null,254]
[null,null,null,null,null,null,317]
["Rebecca Ward","DkIT","F","Recurve","Beginner","(blank)",331]
[null,null,null,null,null,null,272]
["Rebecca Watkin","UCD","F","Recurve","Beginner","(blank)",179]
["Richard Jeffery","NUIG","M","Recurve","Beginner","(blank)",436]
[null,null,null,null,null,null,304]
["Rob Ó Gallachóir","NUIM","M","Recurve","Intermediate","(blank)",187]
["Robert Dore","IT Tallaght","M","Barebow","Beginner","(blank)",223]
["Robin Collins","DIT","M","Recurve","Beginner","(blank)",372]
["Ronan Walsh","UCD","M","Recurve","Beginner","(blank)",247]
[null,null,null,null,null,null,268]
[null,null,null,null,null,null,469]
["Rose Comendador","IT Tallaght","F","Recurve","Beginner","(blank)",283]
[null,null,null,null,null,null,250]
["Ruaidhri","UCD","M","Recurve","Beginner","(blank)",360]
["Rubasangkari Rajaderam","RCSI","F","Recurve","Beginner","(blank)",149]
["Ryan Byrne","DIT","M","Recurve","Advanced","(blank)",480]
[null,null,null,null,null,null,527]
[null,null,null,null,null,null,530]
[null,null,null,null,null,null,559]
["Sam Schultz","NUIG","M","Recurve","Beginner","(blank)",435]
[null,null,null,null,null,null,486]
[null,null,null,"Barebow","Beginner","(blank)",434]
[null,null,null,null,null,null,356]
["Sarah Delaney","NUIG","F","Recurve","Beginner","(blank)",361]
[null,null,null,null,null,null,421]
[null,null,null,null,null,null,252]
["Sarah Maloney","DCU","F","Recurve","Advanced","(blank)",434]
[null,null,null,null,null,null,474]
[null,null,null,null,null,null,431]
[null,null,null,null,null,null,484]
[null,null,null,null,null,null,465]
[null,null,null,null,null,null,517]
["sarah o sullivan","UL","F","Recurve","Intermediate","(blank)",432]
["Sean Brogan","NUIG","M","Barebow","Beginner","(blank)",276]
[null,null,null,null,null,null,389]
[null,null,null,null,null,null,306]
[null,null,null,null,null,null,317]
["Sean Curtin","UL","M","Recurve","Advanced","(blank)",529]
[null,null,null,null,null,null,541]
[null,null,null,null,null,null,540]
[null,null,null,null,null,null,494]
[null,null,null,null,null,null,499]
[null,null,null,null,null,null,491]
["Sean Flavin","UL","M","Recurve","Advanced","(blank)",505]
[null,null,null,null,null,null,522]
[null,null,null,null,null,null,524]
[null,null,null,null,null,null,503]
[null,null,null,null,null,null,527]
[null,null,null,null,null,null,517]
["sean Morrisey","UL","M","Recurve","Beginner","(blank)",374]
[null,null,null,null,null,null,391]
[null,null,null,null,null,null,398]
[null,null,null,null,null,null,507]
["Sean Scott","DIT","M","Compound","Advanced","(blank)",524]
[null,null,null,null,null,null,514]
[null,null,null,null,null,null,513]
["See Qui Ren","DkIT","M","Recurve","Beginner","(blank)",301]
[null,null,null,null,null,null,414]
[null,null,null,null,null,null,422]
[null,null,null,null,null,null,471]
[null,null,null,null,null,null,362]
[null,null,null,null,null,null,292]
["Shahrizan Majid Allapitchai","RCSI","F","Recurve","Beginner","(blank)",259]
["Shane Hyland","GMIT","M","Barebow","Beginner","(blank)",248]
[null,null,null,null,null,null,265]
[null,null,null,null,null,null,269]
[null,null,null,null,null,null,378]
[null,null,null,null,null,null,322]
[null,null,null,null,null,null,179]
["Shane Lordan","UCC","M","Recurve","Intermediate","(blank)",458]
[null,null,null,null,null,null,383]
["Shane McGloin","GMIT","M","Recurve","Beginner","(blank)",325]
[null,null,null,null,null,null,361]
[null,null,null,null,null,null,373]
[null,null,null,null,null,null,428]
["Shauna O Brien","UCD","F","Recurve","Beginner","(blank)",249]
["Shenelle Samodee","RCSI","F","Recurve","Beginner","(blank)",230]
["Shu Chen","DCU","M","Recurve","Intermediate","(blank)",350]
["Simon Henleywillis","UCC","M","Recurve","Intermediate","(blank)",488]
[null,null,null,null,null,null,495]
[null,null,null,null,null,null,486]
[null,null,null,null,null,null,489]
[null,null,null,null,null,null,465]
["Simon Lavin","GMITC","M","Barebow","Beginner","(blank)",232]
["Sinead Naughton","GMITC","F","Recurve","Intermediate","(blank)",413]
[null,null,null,null,null,null,423]
[null,null,null,null,null,null,452]
[null,null,null,null,null,null,366]
[null,null,null,null,null,null,445]
["Sinead O`Connell","NUIM","F","Recurve","Intermediate","(blank)",428]
[null,null,null,null,null,null,433]
[null,null,null,null,null,null,444]
[null,null,null,null,null,null,472]
[null,null,null,null,null,null,477]
[null,null,null,null,null,null,482]
["Sinead Walsh","UCC","F","Recurve","Intermediate","(blank)",403]
[null,null,null,null,null,null,314]
[null,null,null,null,null,null,252]
["Siobhan O'Connor","GMITC","F","Barebow","Beginner","(blank)",256]
["Siti Nur Syazwana Mohammad Shafiee","RCSI","F","Recurve","Beginner","(blank)",76]
["Stephanie Martin","DCU","F","Compound","Advanced","(blank)",511]
[null,null,null,null,null,null,516]
[null,null,null,null,null,null,522]
[null,null,null,null,null,null,517]
["Stephen Dillon","IT Tallaght","M","Recurve","Advanced","(blank)",543]
[null,null,null,null,null,null,497]
[null,null,null,null,null,null,523]
[null,null,null,null,null,null,525]
["Stephen Masterson","UCD","M","Recurve","Advanced","(blank)",75]
[null,null,null,null,null,null,466]
[null,null,null,null,null,null,488]
[null,null,null,null,null,null,473]
[null,null,null,null,null,null,526]
[null,null,null,null,null,null,461]
["Stephen Sheppard","ITC","M","Barebow","Beginner","(blank)",415]
[null,null,null,null,null,null,303]
[null,null,null,null,null,null,259]
["Susan Ryan","UCD","F","Recurve","Intermediate","(blank)",333]
[null,null,null,null,null,null,390]
["Syahira Najua Zulkefly","UCD","M","Recurve","Beginner","(blank)",221]
["Tajul Syaqqil Tajor Amar","RCSI","M","Recurve","Beginner","(blank)",173]
["Tami Baumann","NUIM","F","Barebow","Beginner","(blank)",361]
[null,null,null,null,null,null,421]
[null,null,null,null,null,null,469]
[null,null,null,null,null,null,378]
[null,null,null,null,null,null,356]
["Tan Shu leed","RCSI","M","Recurve","Beginner","(blank)",282]
[null,null,null,null,null,null,407]
[null,null,null,null,null,null,366]
["Tara Dunne","UCD","F","Recurve","Beginner","(blank)",184]
[null,null,null,null,null,null,280]
[null,null,null,null,null,null,287]
[null,null,null,null,null,null,272]
[null,null,null,null,null,null,256]
["Tara Kilcommons","GMITC","F","Barebow","Beginner","(blank)",283]
["Tengku Nazim Tengku Yusof","RCSI","M","Recurve","Beginner","(blank)",159]
[null,null,null,null,null,null,248]
["Thomas Brouder","UL","M","Recurve","Intermediate","(blank)",452]
[null,null,null,null,null,null,462]
[null,null,null,null,null,null,480]
[null,null,null,null,null,null,485]
[null,null,null,null,null,null,453]
[null,null,null,null,null,null,499]
["Thomas Carr","NUIG","M","Recurve","Beginner","(blank)",318]
["Thomas D'Arcy","UCD","M","Recurve","Intermediate","(blank)",438]
[null,null,null,null,null,null,462]
["Thomas Kear","NUIG","M","Recurve","Beginner","(blank)",279]
[null,null,null,null,null,null,365]
[null,null,null,null,null,null,337]
[null,null,null,null,null,null,180]
[null,null,null,null,null,null,298]
["Tom McGrath","NUIG","M","Barebow","Advanced","(blank)",345]
[null,null,null,null,null,null,398]
[null,null,null,null,null,null,411]
[null,null,null,null,null,null,430]
[null,null,null,null,null,null,304]
[null,null,null,null,null,null,306]
["Tony Keane","GMITC","M","Barebow","Beginner","(blank)",312]
[null,null,null,null,null,null,359]
["Tony Liu","DkIT","M","Recurve","Intermediate","(blank)",442]
[null,null,null,null,null,null,466]
[null,null,null,null,null,null,475]
["Tudor Varga","UCD","M","Recurve","Beginner","(blank)",300]
["Victoria Tan","DkIT","F","Recurve","Beginner","(blank)",352]
[null,null,null,null,null,null,291]
[null,null,null,null,null,null,330]
[null,null,null,null,null,null,267]
[null,null,null,null,null,null,401]
[null,null,null,null,null,null,313]
["Wiebke Hasselmann","NUIG","F","Barebow","Beginner","(blank)",306]
["Will Hurley","NUIG","M","Compound","Advanced","(blank)",498]
["William Clifford","NUIM","M","Recurve","Intermediate","(blank)",331]
["William Oliver","IT Tallaght","M","Recurve","Beginner","(blank)",53]
["Yeo Eng Jet","DkIT","M","Recurve","Beginner","(blank)",228]
[null,null,null,null,null,null,350]
[null,null,null,null,null,null,344]
[null,null,null,null,null,null,342]
[null,null,null,null,null,null,200]
[null,null,null,null,null,null,465]
["Yogeswran Muthukumaru","RCSI","M","Recurve","Beginner","(blank)",96]
["Youcheng Pan","DIT","M","Recurve","Advanced","(blank)",480]
[null,null,null,null,null,null,509]
[null,null,null,null,null,null,529]
[null,null,null,null,null,null,399]
[null,null,null,null,null,null,499]
["zahratulfatin ","RCSI","F","Recurve","Beginner","(blank)",232]
["Zain Bari","UCD","M","Recurve","Beginner","(blank)",123]
["Zhi-Miin Ong","RCSI","F","Recurve","Beginner","(blank)",251]
[null,null,null,null,null,null,318]
["Zul Farhan","UCD","M","Recurve","Beginner","(blank)",312]
[null,null,null,null,null,null,355]
[null,null,null,null,null,null,399]
[null,null,null,null,null,null,426]
["(blank)","AAA","(blank)","(blank)","(blank)","(blank)","(blank)"]
[null,"BBB","(blank)","(blank)","(blank)","(blank)","(blank)"]
[null,"BCFE","(blank)","(blank)","(blank)","(blank)","(blank)"]
[null,"CCC","(blank)","(blank)","(blank)","(blank)","(blank)"]
[null,"CD","(blank)","(blank)","(blank)","(blank)","(blank)"]
[null,"DCU","(blank)","(blank)","(blank)","(blank)","(blank)"]
[null,"DDD","(blank)","(blank)","(blank)","(blank)","(blank)"]
[null,"DIT","(blank)","(blank)","(blank)","(blank)","(blank)"]
[null,"DkIT","(blank)","(blank)","(blank)","(blank)","(blank)"]
[null,"EEE","(blank)","(blank)","(blank)","(blank)","(blank)"]
[null,"GMIT","(blank)","(blank)","(blank)","(blank)","(blank)"]
[null,"GMITC","(blank)","(blank)","(blank)","(blank)","(blank)"]
[null,"IT Tallaght","(blank)","(blank)","(blank)","(blank)","(blank)"]
[null,"ITC","(blank)","(blank)","(blank)","(blank)","(blank)"]
[null,"NUIG","(blank)","(blank)","(blank)","(blank)","(blank)"]
[null,"NUIM","(blank)","(blank)","(blank)","(blank)","(blank)"]
[null,"QUB","(blank)","(blank)","(blank)","(blank)","(blank)"]
[null,"RCSI","(blank)","(blank)","(blank)","(blank)","(blank)"]
[null,"UCC","(blank)","(blank)","(blank)","(blank)","(blank)"]
[null,"UCD","(blank)","(blank)","(blank)","(blank)","(blank)"]
[null,"UL","(blank)","(blank)","(blank)","(blank)","(blank)"]
[null,"UU","(blank)","(blank)","(blank)","(blank)","(blank)"]
[null,"(blank)","M","Compound","Guest","40cm","(blank)"]
[null,null,"F","Barebow","Intermediate","60cm","(blank)"]
[null,null,"(blank)","Recurve","Advanced","3 spot","(blank)"]
[null,null,null,"(blank)","Beginner","(blank)","(blank)"]
[null,null,null,null,"(blank)","(blank)","(blank)"]

{"sheet":"Setup","index":25,"n_rows":22,"n_cols":5,"rows_kept":22,"cut":false,"hidden":true,"merged":[[1,0,1,5],[0,0,0,5]]}
[]
["Options for entries - Don't change anything unless you know what you're doing"]
[]
["College","Gender","Bow","Level","Face"]
["DCU","F","Barebow","Beginner","60cm"]
["DIT","M","Recurve","Intermediate","40cm"]
["DKIT",null,"Compound","Advanced","3-Spot"]
["DUAC",null,null,"Guest"]
["GMIT"]
["GMITC"]
["Guest"]
["ITC"]
["ITTallaght"]
["MU"]
["NCAD"]
["NUIG"]
["RCSI"]
["UCC"]
["UCD"]
["UL"]
["UU"]
["WIT"]